Workbook

Sheet 1er Octobre
A7: Date de réception | B7: 43739 | C7: 43745 | D7: 43746 | E7: 43746 | F7: 43748 | G7: 43748 | H7: 43748 | I7: 43753 | J7: 43754 | K7: 43753 | L7: 43753 | M7: 43753 | N7: 43756 | O7: 43755 | P7: 43759 | Q7: 43756 | R7: 43756 | S7: 43759 | T7: 43759 | U7: 43761 | V7: 43762 | W7: 43762 | X7: 43762 | Y7: 43756 | Z7: 43763 | AA7: 43763 | AB7: 43762 | AC7: 43763 | AD7: 43773 | AE7: 43773 | AF7: 43773 | AG7: 43780 | AH7: 43780 | AI7: 43780 | AJ7: 43780 | AK7: 43780 | AL7: 43780 | AM7: 43781 | AN7: 43783 | AO7: 43783 | AP7: 43783 | AQ7: 43790 | AR7: 43791 | AS7: 43790 | AT7: 43796 | AV7: 43802 | AW7: 43804 | AX7: 43805 | AY7: 43777 | AZ7: 43808 | BA7: 43808 | BB7: 43811 | BC7: 43811 | BD7: 43812 | BE7: 43812 | BF7: 43817 | BG7: 43816 | BH7: 43810 | BI7: 43847 | BJ7: 43843 | BK7: 43846 | BL7: 43853 | BM7: 43853 | BN7: 43858 | BO7: 43901 | BP7: 43858 | BQ7: 43858 | BR7: 43853 | BS7: 43859 | BT7: 43859 | BU7: 43859 | BV7: 43859 | BW7: 43861 | BX7: 43861 | BY7: 43866 | BZ7: 43866 | CA7: 43867 | CB7: 43867 | CC7: 43867 | CD7: 43993 | CE7: 43874 | CF7: 43875 | CG7: 43878 | CH7: 43878 | CI7: 43878 | CJ7: 43879 | CK7: 43882 | CL7: 43881 | CM7: 43882 | CN7: 43882 | CO7: 43885 | CP7: 43865 | CQ7: 43886 | CR7: 43886 | CS7: 43887 | CT7: 43887 | CU7: 43888 | CV7: 43892 | CW7: 43892 | CX7: 43893 | CY7: 43893 | CZ7: 43893 | DA7: 43895 | DB7: 43895 | DC7: 43895 | DD7: 43896 | DE7: 43896 | DF7: 43899 | DG7: 43900 | DH7: 43901 | DI7: 43901 | DJ7: 43902
A8: Date de saisie | B8: 43742 | C8: 43745 | D8: 43747 | E8: 43746 | F8: 43748 | G8: 43748 | H8: 43748 | I8: 43755 | J8: 43755 | K8: 43761 | L8: 43761 | M8: 43761 | N8: 43763 | O8: 43763 | P8: 43763 | Q8: 43766 | R8: 43766 | S8: 43766 | T8: 43766 | U8: 43762 | V8: 43766 | W8: 43766 | X8: 43767 | Y8: 43767 | Z8: 43767 | AA8: 43767 | AB8: 43769 | AC8: 43769 | AD8: 43773 | AE8: 43773 | AF8: 43774 | AG8: 43780 | AH8: 43780 | AI8: 43780 | AJ8: 43780 | AK8: 43780 | AL8: 43780 | AM8: 43781 | AN8: 43783 | AO8: 43784 | AP8: 43784 | AQ8: 43795 | AR8: 43796 | AS8: 43796 | AT8: 43796 | AV8: 43802 | AW8: 43805 | AX8: 43805 | AY8: 43808 | AZ8: 43809 | BA8: 43809 | BB8: 43811 | BC8: 43811 | BD8: 43815 | BE8: 43816 | BF8: 43818 | BG8: 43818 | BH8: 43818 | BJ8: 43850 | BK8: 43852 | BL8: 2020-0123 | BM8: 43853 | BN8: 43858 | BO8: 43901 | BP8: 43858 | BQ8: 43858 | BR8: 43861 | BS8: 43861 | BT8: 43861 | BU8: 43861 | BV8: 43861 | BW8: 43864 | BX8: 43865 | BY8: 43867 | BZ8: 43867 | CA8: 43868 | CB8: 43868 | CC8: 43868 | CD8: 43993 | CE8: 43879 | CF8: 43879 | CG8: 43879 | CH8: 43879 | CI8: 43879 | CJ8: 43880 | CK8: 43882 | CL8: 43882 | CM8: 43882 | CN8: 43882 | CO8: 43885 | CP8: 43865 | CQ8: 43886 | CR8: 43886 | CS8: 43888 | CT8: 43888 | CU8: 43889 | CV8: 43892 | CW8: 43892 | CX8: 43895 | CY8: 43895 | CZ8: 43895 | DA8: 43896 | DB8: 43896 | DC8: 43896 | DD8: 43896 | DE8: 43896 | DF8: 43899 | DG8: 43900 | DH8: 43901 | DI8: 43901 | DJ8: 43902
A9: Date d'envoi d'AR | B9: 43742 | C9: 43746 | D9: 43747 | E9: 43747 | F9: 43748 | G9: 43748 | H9: 43748 | I9: 43755 | J9: 43755 | K9: 43761 | L9: 43761 | M9: 43761 | N9: 43763 | O9: 43763 | P9: 43763 | Q9: 43766 | R9: 43766 | S9: 43766 | T9: 43766 | U9: 43762 | V9: 43766 | W9: 43766 | X9: 43767 | Y9: 43767 | Z9: 43767 | AA9: 43767 | AC9: 43769 | AD9: 43773 | AE9: 43774 | AF9: 43774 | AG9: 43781 | AH9: 43781 | AI9: 43781 | AJ9: 43781 | AK9: 43781 | AL9: 43781 | AM9: 43782 | AN9: 43783 | AO9: 43784 | AP9: 43784 | AQ9: 43795 | AR9: 43796 | AS9: 43797 | AT9: 43797 | AV9: 43803 | AW9: 43805 | AX9: 43805 | AY9: 43808 | AZ9: 43809 | BA9: 43809 | BB9: 43811 | BC9: 43811 | BD9: 43815 | BE9: 43816 | BF9: 43818 | BG9: 43818 | BH9: 43818 | BJ9: 43850 | BK9: 43852 | BL9: 43858 | BM9: 43858 | BN9: 43859 | BO9: 43901 | BP9: 43860 | BQ9: 43860 | BR9: 43861 | BS9: 43861 | BT9: 43861 | BU9: 43861 | BV9: 43861 | BW9: 43864 | BX9: 43896 | BY9: 43865 | BZ9: 43867 | CA9: 43868 | CB9: 43868 | CC9: 43868 | CD9: 43993 | CE9: 43879 | CF9: 43879 | CG9: 43879 | CH9: 43879 | CI9: 43879 | CJ9: 43880 | CK9: 43882 | CL9: 43882 | CM9: 43882 | CN9: 43885 | CO9: 43885 | CP9: 43871 | CQ9: 43886 | CR9: 43887 | CS9: 43888 | CT9: 43888 | CU9: 43889 | CV9: 43892 | CW9: 43892 | CX9: 43895 | CY9: 43895 | CZ9: 37320 | DA9: 43896 | DB9: 43896 | DC9: 43896 | DD9: 43896 | DE9: 43896 | DF9: 43899 | DG9: 43900 | DH9: 43901 | DI9: 43901 | DJ9: 43902
A10: Date d'avis de documents manquants (courrier, courriel ou appel) | E10: 43747 | J10: 43755 | K10: 43761 | T10: 43766 | BH10: 43861
A11: Temps chez le demandeur | B11: =NETWORKDAYS.INTL(B10,B12) -> 0 | C11: =NETWORKDAYS.INTL(C10,C12) -> 0 | D11: =NETWORKDAYS.INTL(D10,D12) -> 0 | E11: =NETWORKDAYS.INTL(E10,E12) -> 8 | F11: =NETWORKDAYS.INTL(F10,F12) -> 0 | G11: =NETWORKDAYS.INTL(G10,G12) -> 0 | H11: =NETWORKDAYS.INTL(H10,H12) -> 0 | I11: =NETWORKDAYS.INTL(I10,I12) -> 0 | ... AA11: =NETWORKDAYS.INTL(AA10,AA12) -> 0 | AC11: =NETWORKDAYS.INTL(AC10,AC12) -> 0 | AD11: =NETWORKDAYS.INTL(AD10,AD12) -> 0 | AE11: =NETWORKDAYS.INTL(AE10,AE12) -> 0 | AF11: =NETWORKDAYS.INTL(AF10,AF12) -> 0 | AG11: =NETWORKDAYS.INTL(AG10,AG12) -> 0 | AH11: =NETWORKDAYS.INTL(AH10,AH12) -> 0 | AI11: =NETWORKDAYS.INTL(AI10,AI12) -> 0 | AJ11: =NETWORKDAYS.INTL(AJ10,AJ12) -> 0 | ... AS11: =NETWORKDAYS.INTL(AS10,AS12) -> 0 | AV11: =NETWORKDAYS.INTL(AV10,AV12) -> 0 | AW11: =NETWORKDAYS.INTL(AW10,AW12) -> 0 | AX11: =NETWORKDAYS.INTL(AX10,AX12) -> 0 | AY11: =NETWORKDAYS.INTL(AY10,AY12) -> 0 | AZ11: =NETWORKDAYS.INTL(AZ10,AZ12) -> 0 | BA11: =NETWORKDAYS.INTL(BA10,BA12) -> 0 | BB11: =NETWORKDAYS.INTL(BB10,BB12) -> 0 | BC11: =NETWORKDAYS.INTL(BC10,BC12) -> 0 | ... BH11: =NETWORKDAYS.INTL(BH10,BH12) -> -31330 | BK11: =NETWORKDAYS.INTL(BK10,BK12) -> 0 | BL11: =NETWORKDAYS.INTL(BL10,BL12) -> 0 | BM11: =NETWORKDAYS.INTL(BM10,BM12) -> 0 | BR11: =NETWORKDAYS.INTL(BR10,BR12) -> 0 | BS11: =NETWORKDAYS.INTL(BS10,BS12) -> 0 | BT11: =NETWORKDAYS.INTL(BT10,BT12) -> 0 | BU11: =NETWORKDAYS.INTL(BU10,BU12) -> 0 | BV11: =NETWORKDAYS.INTL(BV10,BV12) -> 0 | BY11: =NETWORKDAYS.INTL(BY10,BY12) -> 0 | BZ11: =NETWORKDAYS.INTL(BZ10,BZ12) -> 0 | CA11: =NETWORKDAYS.INTL(CA10,CA12) -> 0 | CB11: =NETWORKDAYS.INTL(CB10,CB12) -> 0 | CC11: =NETWORKDAYS.INTL(CC10,CC12) -> 0 | CD11: =NETWORKDAYS.INTL(CD10,CD12) -> 0 | CE11: =NETWORKDAYS.INTL(CE10,CE12) -> 0 | CF11: =NETWORKDAYS.INTL(CF10,CF12) -> 0 | ... CO11: =NETWORKDAYS.INTL(CO10,CO12) -> 0 | CQ11: =NETWORKDAYS.INTL(CQ10,CQ12) -> 0 | CR11: =NETWORKDAYS.INTL(CR10,CR12) -> 0 | CS11: =NETWORKDAYS.INTL(CS10,CS12) -> 0 | CT11: =NETWORKDAYS.INTL(CT10,CT12) -> 0 | CU11: =NETWORKDAYS.INTL(CU10,CU12) -> 0 | CV11: =NETWORKDAYS.INTL(CV10,CV12) -> 0 | CW11: =NETWORKDAYS.INTL(CW10,CW12) -> 0 | CX11: =NETWORKDAYS.INTL(CX10,CX12) -> 0 | ... CZ11: =NETWORKDAYS.INTL(CZ10,CZ12) -> 0 | DB11: =NETWORKDAYS.INTL(DB10,DB12) -> 0 | DC11: =NETWORKDAYS.INTL(DC10,DC12) -> 0 | DD11: =NETWORKDAYS.INTL(DD10,DD12) -> 0 | DE11: =NETWORKDAYS.INTL(DE10,DE12) -> 0 | DF11: =NETWORKDAYS.INTL(DF10,DF12) -> 0 | DG11: =NETWORKDAYS.INTL(DG10,DG12) -> 0 | DH11: =NETWORKDAYS.INTL(DH10,DH12) -> 0 | DI11: =NETWORKDAYS.INTL(DI10,DI12) -> 0 | ... MG11: =NETWORKDAYS.INTL(MG10,MG12) -> 0
A12: Date de réception des documents manquants | E12: 43756 | J12: 43773 | K12: 43761 | T12: 43766
A13: Date d'obtention du dossier
A14: Date de transmissio | B14: N/A | C14: N/A | D14: N/A | G14: N/A | K14: 43762 | L14: 43762 | M14: 43762 | Y14: 43766 | AK14: 43780 | BB14: 43811 | BC14: 43811
A15: Date de transmission au chargé de projet | B15: 43784 | C15: 43745 | D15: 43749 | G15: 43749 | I15: 43770 | K15: 43770 | L15: 43770 | BI15: 43847 | BJ15: 43850 | BK15: 43852 | BL15: 43858 | BM15: 43858 | BN15: 43859 | BO15: 43901 | BP15: 43860 | BQ15: 43860 | BR15: 43861 | BS15: 43861 | BT15: 43861 | BU15: 43861 | BV15: 43861 | BW15: 43864 | BX15: 43896 | BY15: 43865 | BZ15: 43867 | CA15: 43868 | CB15: 43868 | CC15: 43868 | CD15: 43872 | CE15: 43880 | CF15: 43880 | CG15: 43880 | CH15: 43880 | CI15: 43880 | CJ15: 43880 | CK15: 43882 | CL15: 43882 | CM15: 43882 | CN15: 43885 | CO15: 43885 | CP15: 43871 | CQ15: 43887 | CR15: 43887 | CS15: 43888 | CT15: 43888 | CU15: 43889 | CV15: 43892 | CW15: 43892 | CX15: 43895 | CY15: 43895 | CZ15: 43895 | DA15: 43896 | DB15: 43896 | DC15: 43896 | DD15: 43896 | DE15: 43896 | DF15: 43899 | DG15: 43902 | DH15: 43902 | DI15: 43902 | DJ15: 43902
A16: Date d'ouverture du dossier (début analyse) | B16: 43784 | C16: 43749 | E16: 43790 | F16: 43787 | K16: 43787 | M16: 43787 | N16: 43790 | O16: 43787 | P16: 43791 | R16: 43787 | T16: 43791 | U16: 43784 | V16: 43794 | W16: 43784 | X16: 43794 | AA16: 43794 | AB16: 43794 | AC16: 43798 | AD16: 43801 | AE16: 43781 | AF16: 43801 | AG16: 43805 | AH16: 43805 | AI16: 43805 | AL16: 43805 | AM16: 43809 | AO16: 43787 | AQ16: 43810 | AR16: 43796 | AS16: 43819 | AW16: 43826 | AX16: 43858 | BA16: 43854 | BB16: 43812 | BC16: 43857 | BE16: 43868 | BF16: 43818 | BG16: 43861 | BK16: 43868 | BL16: 43874 | BM16: 43874 | BN16: 43878 | BP16: 43878 | BQ16: 43879 | BS16: 43894 | BT16: 43889 | BU16: 43889 | BV16: 43889 | BZ16: 43882
A17: Date d'envoi d'information(s) manquantes | E17: 43790 | K17: 43788 | M17: 43804 | N17: 43790 | T17: 43791 | U17: 43798 | V17: 43795 | W17: 43784 | X17: 43794 | AD17: 43801 | AE17: 43782 | AF17: 43801 | AG17: 43805 | AH17: 43805 | AI17: 44174 | AL17: 43805 | AM17: 43810 | AO17: 43787 | AR17: 43796 | AW17: 43839 | AX17: 43859 | BC17: 43857 | BE17: 43868 | BF17: 43818 | BG17: 43861 | BM17: 43878 | BN17: 43878 | BQ17: 43879 | BS17: 43894 | BT17: 43889 | BU17: 43889 | BZ17: 43882
A18: Temps chez le demandeur | B18: =NETWORKDAYS.INTL(B17,B19) -> 0 | C18: =NETWORKDAYS.INTL(C17,C19) -> 0 | D18: =NETWORKDAYS.INTL(D17,D19) -> 0 | E18: =NETWORKDAYS.INTL(E17,E19) -> 1 | F18: =NETWORKDAYS.INTL(F17,F19) -> 0 | G18: =NETWORKDAYS.INTL(G17,G19) -> 0 | H18: =NETWORKDAYS.INTL(H17,H19) -> 0 | I18: =NETWORKDAYS.INTL(I17,I19) -> 0 | ... S18: =NETWORKDAYS.INTL(S17,S19) -> 0 | T18: 0 | U18: =NETWORKDAYS.INTL(U17,U19) -> 27 | V18: =NETWORKDAYS.INTL(V17,V19) -> 9 | W18: =NETWORKDAYS.INTL(W17,W19) -> 7 | X18: =NETWORKDAYS.INTL(X17,X19) -> 2 | Y18: =NETWORKDAYS.INTL(Y17,Y19) -> 0 | Z18: =NETWORKDAYS.INTL(Z17,Z19) -> 0 | AA18: =NETWORKDAYS.INTL(AA17,AA19) -> 0 | AC18: =NETWORKDAYS.INTL(AC17,AC19) -> 0 | AD18: =NETWORKDAYS.INTL(AD17,AD19) -> 33 | AE18: =NETWORKDAYS.INTL(AE17,AE19) -> 1 | AF18: =NETWORKDAYS.INTL(AF17,AF19) -> -31286 | AG18: =NETWORKDAYS.INTL(AG17,AG19) -> 52 | AH18: =NETWORKDAYS.INTL(AH17,AH19) -> 1 | AI18: =NETWORKDAYS.INTL(AI17,AI19) -> -197 | AJ18: =NETWORKDAYS.INTL(AJ17,AJ19) -> 0 | ... AS18: =NETWORKDAYS.INTL(AS17,AS19) -> 0 | AV18: =NETWORKDAYS.INTL(AV17,AV19) -> 0 | AW18: =NETWORKDAYS.INTL(AW17,AW19) -> 1 | AX18: =NETWORKDAYS.INTL(AX17,AX19) -> -31328 | AY18: =NETWORKDAYS.INTL(AY17,AY19) -> 0 | AZ18: =NETWORKDAYS.INTL(AZ17,AZ19) -> 0 | BA18: =NETWORKDAYS.INTL(BA17,BA19) -> 0 | BB18: =NETWORKDAYS.INTL(BB17,BB19) -> 0 | BC18: =NETWORKDAYS.INTL(BC17,BC19) -> 2 | ... BH18: =NETWORKDAYS.INTL(BH17,BH19) -> 0 | BK18: =NETWORKDAYS.INTL(BK17,BK19) -> 0 | BL18: =NETWORKDAYS.INTL(BL17,BL19) -> 0 | BM18: =NETWORKDAYS.INTL(BM17,BM19) -> -31341 | BR18: =NETWORKDAYS.INTL(BR17,BR19) -> 0 | BS18: =NETWORKDAYS.INTL(BS17,BS19) -> -31353 | BT18: =NETWORKDAYS.INTL(BT17,BT19) -> 1 | BU18: =NETWORKDAYS.INTL(BU17,BU19) -> -31350 | BV18: =NETWORKDAYS.INTL(BV17,BV19) -> 0 | BY18: =NETWORKDAYS.INTL(BY17,BY19) -> 0 | BZ18: =NETWORKDAYS.INTL(BZ17,BZ19) -> 7 | CA18: =NETWORKDAYS.INTL(CA17,CA19) -> 0 | CB18: =NETWORKDAYS.INTL(CB17,CB19) -> 0 | CC18: =NETWORKDAYS.INTL(CC17,CC19) -> 0 | CD18: =NETWORKDAYS.INTL(CD17,CD19) -> 0 | CE18: =NETWORKDAYS.INTL(CE17,CE19) -> 0 | CF18: =NETWORKDAYS.INTL(CF17,CF19) -> 0 | ... CO18: =NETWORKDAYS.INTL(CO17,CO19) -> 0 | CQ18: =NETWORKDAYS.INTL(CQ17,CQ19) -> 0 | CR18: =NETWORKDAYS.INTL(CR17,CR19) -> 0 | CS18: =NETWORKDAYS.INTL(CS17,CS19) -> 0 | CT18: =NETWORKDAYS.INTL(CT17,CT19) -> 0 | CU18: =NETWORKDAYS.INTL(CU17,CU19) -> 0 | CV18: =NETWORKDAYS.INTL(CV17,CV19) -> 0 | CW18: =NETWORKDAYS.INTL(CW17,CW19) -> 0 | CX18: =NETWORKDAYS.INTL(CX17,CX19) -> 0 | ... CZ18: =NETWORKDAYS.INTL(CZ17,CZ19) -> 0 | DB18: =NETWORKDAYS.INTL(DB17,DB19) -> 0 | DC18: =NETWORKDAYS.INTL(DC17,DC19) -> 0 | DD18: =NETWORKDAYS.INTL(DD17,DD19) -> 0 | DE18: =NETWORKDAYS.INTL(DE17,DE19) -> 0 | DF18: =NETWORKDAYS.INTL(DF17,DF19) -> 0 | DG18: =NETWORKDAYS.INTL(DG17,DG19) -> 0 | DH18: =NETWORKDAYS.INTL(DH17,DH19) -> 0 | DI18: =NETWORKDAYS.INTL(DI17,DI19) -> 0 | ... MG18: =NETWORKDAYS.INTL(MG17,MG19) -> 0
A19: Date de réception d'information(s) manquantes | E19: 43790 | K19: 43790 | M19: 43804 | N19: 43791 | U19: 43836 | V19: 43805 | W19: 43794 | X19: 43795 | AD19: 43845 | AE19: 43782 | AG19: 43878 | AH19: 43805 | AI19: 43900 | AL19: 43817 | AM19: 43811 | AO19: 43787 | AR19: 43797 | AW19: 43839 | BC19: 43858 | BE19: 43870 | BF19: 43818 | BG19: 43873 | BT19: 43889 | BZ19: 43892
A20: Date d'envoi de commentaires préliminaires
A21: Temps chez le demandeur | B21: =NETWORKDAYS.INTL(B20,B22) -> 0 | C21: =NETWORKDAYS.INTL(C20,C22) -> 0 | D21: =NETWORKDAYS.INTL(D20,D22) -> 0 | F21: =NETWORKDAYS.INTL(F20,F22) -> 0 | G21: =NETWORKDAYS.INTL(G20,G22) -> 0 | H21: =NETWORKDAYS.INTL(H20,H22) -> 0 | I21: =NETWORKDAYS.INTL(I20,I22) -> 0 | J21: =NETWORKDAYS.INTL(J20,J22) -> 0 | K21: =NETWORKDAYS.INTL(K20,K22) -> 0 | L21: =NETWORKDAYS.INTL(L20,L22) -> 0 | M21: =NETWORKDAYS.INTL(M20,M22) -> 0 | ... AA21: =NETWORKDAYS.INTL(AA20,AA22) -> 0 | AC21: =NETWORKDAYS.INTL(AC20,AC22) -> 0 | AD21: =NETWORKDAYS.INTL(AD20,AD22) -> 0 | AE21: =NETWORKDAYS.INTL(AE20,AE22) -> 0 | AF21: =NETWORKDAYS.INTL(AF20,AF22) -> 0 | AG21: =NETWORKDAYS.INTL(AG20,AG22) -> 0 | AH21: =NETWORKDAYS.INTL(AH20,AH22) -> 0 | AI21: =NETWORKDAYS.INTL(AI20,AI22) -> 0 | AJ21: =NETWORKDAYS.INTL(AJ20,AJ22) -> 0 | ... AS21: =NETWORKDAYS.INTL(AS20,AS22) -> 0 | AV21: =NETWORKDAYS.INTL(AV20,AV22) -> 0 | AW21: =NETWORKDAYS.INTL(AW20,AW22) -> 0 | AX21: =NETWORKDAYS.INTL(AX20,AX22) -> 0 | AY21: =NETWORKDAYS.INTL(AY20,AY22) -> 0 | AZ21: =NETWORKDAYS.INTL(AZ20,AZ22) -> 0 | BA21: =NETWORKDAYS.INTL(BA20,BA22) -> 0 | BB21: =NETWORKDAYS.INTL(BB20,BB22) -> 0 | BC21: =NETWORKDAYS.INTL(BC20,BC22) -> 0 | ... BH21: =NETWORKDAYS.INTL(BH20,BH22) -> 0 | BK21: =NETWORKDAYS.INTL(BK20,BK22) -> 0 | BL21: =NETWORKDAYS.INTL(BL20,BL22) -> 0 | BM21: =NETWORKDAYS.INTL(BM20,BM22) -> 0 | BR21: =NETWORKDAYS.INTL(BR20,BR22) -> 0 | BS21: =NETWORKDAYS.INTL(BS20,BS22) -> 0 | BT21: =NETWORKDAYS.INTL(BT20,BT22) -> 0 | BU21: =NETWORKDAYS.INTL(BU20,BU22) -> 0 | BV21: =NETWORKDAYS.INTL(BV20,BV22) -> 0 | BY21: =NETWORKDAYS.INTL(BY20,BY22) -> 0 | BZ21: =NETWORKDAYS.INTL(BZ20,BZ22) -> 0 | CA21: =NETWORKDAYS.INTL(CA20,CA22) -> 0 | CB21: =NETWORKDAYS.INTL(CB20,CB22) -> 0 | CC21: =NETWORKDAYS.INTL(CC20,CC22) -> 0 | CD21: =NETWORKDAYS.INTL(CD20,CD22) -> 0 | CE21: =NETWORKDAYS.INTL(CE20,CE22) -> 0 | CF21: =NETWORKDAYS.INTL(CF20,CF22) -> 0 | ... CO21: =NETWORKDAYS.INTL(CO20,CO22) -> 0 | CQ21: =NETWORKDAYS.INTL(CQ20,CQ22) -> 0 | CR21: =NETWORKDAYS.INTL(CR20,CR22) -> 0 | CS21: =NETWORKDAYS.INTL(CS20,CS22) -> 0 | CT21: =NETWORKDAYS.INTL(CT20,CT22) -> 0 | CU21: =NETWORKDAYS.INTL(CU20,CU22) -> 0 | CV21: =NETWORKDAYS.INTL(CV20,CV22) -> 0 | CW21: =NETWORKDAYS.INTL(CW20,CW22) -> 0 | CX21: =NETWORKDAYS.INTL(CX20,CX22) -> 0 | ... CZ21: =NETWORKDAYS.INTL(CZ20,CZ22) -> 0 | DB21: =NETWORKDAYS.INTL(DB20,DB22) -> 0 | DC21: =NETWORKDAYS.INTL(DC20,DC22) -> 0 | DD21: =NETWORKDAYS.INTL(DD20,DD22) -> 0 | DE21: =NETWORKDAYS.INTL(DE20,DE22) -> 0 | DF21: =NETWORKDAYS.INTL(DF20,DF22) -> 0 | DG21: =NETWORKDAYS.INTL(DG20,DG22) -> 0 | DH21: =NETWORKDAYS.INTL(DH20,DH22) -> 0 | DI21: =NETWORKDAYS.INTL(DI20,DI22) -> 0 | ... MG21: =NETWORKDAYS.INTL(MG20,MG22) -> 0
A22: Date de réponse aux commentaires préliminaires
A23: Date d'envoi d'avis d'intention d'imposer des conditions | U23: 43859 | V23: 43859 | AB23: 43843
A24: Temps chez le demandeur | B24: =NETWORKDAYS.INTL(B23,B25) -> 0 | C24: =NETWORKDAYS.INTL(C23,C25) -> 0 | D24: =NETWORKDAYS.INTL(D23,D25) -> 0 | F24: =NETWORKDAYS.INTL(F23,F25) -> 0 | G24: =NETWORKDAYS.INTL(G23,G25) -> 0 | H24: =NETWORKDAYS.INTL(H23,H25) -> 0 | I24: =NETWORKDAYS.INTL(I23,I25) -> 0 | J24: =NETWORKDAYS.INTL(J23,J25) -> 0 | K24: =NETWORKDAYS.INTL(K23,K25) -> 0 | L24: =NETWORKDAYS.INTL(L23,L25) -> 0 | M24: =NETWORKDAYS.INTL(M23,M25) -> 0 | ... T24: =NETWORKDAYS.INTL(T23,T25) -> 0 | V24: =NETWORKDAYS.INTL(V23,V25) -> 13 | W24: =NETWORKDAYS.INTL(W23,W25) -> 0 | X24: =NETWORKDAYS.INTL(X23,X25) -> 0 | Y24: =NETWORKDAYS.INTL(Y23,Y25) -> 0 | Z24: =NETWORKDAYS.INTL(Z23,Z25) -> 0 | AA24: =NETWORKDAYS.INTL(AA23,AA25) -> 0 | AC24: =NETWORKDAYS.INTL(AC23,AC25) -> 0 | AD24: =NETWORKDAYS.INTL(AD23,AD25) -> 0 | AE24: =NETWORKDAYS.INTL(AE23,AE25) -> 0 | AF24: =NETWORKDAYS.INTL(AF23,AF25) -> 0 | AG24: =NETWORKDAYS.INTL(AG23,AG25) -> 0 | AH24: =NETWORKDAYS.INTL(AH23,AH25) -> 0 | AI24: =NETWORKDAYS.INTL(AI23,AI25) -> 0 | AJ24: =NETWORKDAYS.INTL(AJ23,AJ25) -> 0 | ... AS24: =NETWORKDAYS.INTL(AS23,AS25) -> 0 | AV24: =NETWORKDAYS.INTL(AV23,AV25) -> 0 | AW24: =NETWORKDAYS.INTL(AW23,AW25) -> 0 | AX24: =NETWORKDAYS.INTL(AX23,AX25) -> 0 | AY24: =NETWORKDAYS.INTL(AY23,AY25) -> 0 | AZ24: =NETWORKDAYS.INTL(AZ23,AZ25) -> 0 | BA24: =NETWORKDAYS.INTL(BA23,BA25) -> 0 | BB24: =NETWORKDAYS.INTL(BB23,BB25) -> 0 | BC24: =NETWORKDAYS.INTL(BC23,BC25) -> 0 | ... BH24: =NETWORKDAYS.INTL(BH23,BH25) -> 0 | BK24: =NETWORKDAYS.INTL(BK23,BK25) -> 0 | BL24: =NETWORKDAYS.INTL(BL23,BL25) -> 0 | BM24: =NETWORKDAYS.INTL(BM23,BM25) -> 0 | BR24: =NETWORKDAYS.INTL(BR23,BR25) -> 0 | BS24: =NETWORKDAYS.INTL(BS23,BS25) -> 0 | BT24: =NETWORKDAYS.INTL(BT23,BT25) -> 0 | BU24: =NETWORKDAYS.INTL(BU23,BU25) -> 0 | BV24: =NETWORKDAYS.INTL(BV23,BV25) -> 0 | BY24: =NETWORKDAYS.INTL(BY23,BY25) -> 0 | BZ24: =NETWORKDAYS.INTL(BZ23,BZ25) -> 0 | CA24: =NETWORKDAYS.INTL(CA23,CA25) -> 0 | CB24: =NETWORKDAYS.INTL(CB23,CB25) -> 0 | CC24: =NETWORKDAYS.INTL(CC23,CC25) -> 0 | CD24: =NETWORKDAYS.INTL(CD23,CD25) -> 0 | CE24: =NETWORKDAYS.INTL(CE23,CE25) -> 0 | CF24: =NETWORKDAYS.INTL(CF23,CF25) -> 0 | ... CO24: =NETWORKDAYS.INTL(CO23,CO25) -> 0 | CQ24: =NETWORKDAYS.INTL(CQ23,CQ25) -> 0 | CR24: =NETWORKDAYS.INTL(CR23,CR25) -> 0 | CS24: =NETWORKDAYS.INTL(CS23,CS25) -> 0 | CT24: =NETWORKDAYS.INTL(CT23,CT25) -> 0 | CU24: =NETWORKDAYS.INTL(CU23,CU25) -> 0 | CV24: =NETWORKDAYS.INTL(CV23,CV25) -> 0 | CW24: =NETWORKDAYS.INTL(CW23,CW25) -> 0 | CX24: =NETWORKDAYS.INTL(CX23,CX25) -> 0 | ... CZ24: =NETWORKDAYS.INTL(CZ23,CZ25) -> 0 | DB24: =NETWORKDAYS.INTL(DB23,DB25) -> 0 | DC24: =NETWORKDAYS.INTL(DC23,DC25) -> 0 | DD24: =NETWORKDAYS.INTL(DD23,DD25) -> 0 | DE24: =NETWORKDAYS.INTL(DE23,DE25) -> 0 | DF24: =NETWORKDAYS.INTL(DF23,DF25) -> 0 | DG24: =NETWORKDAYS.INTL(DG23,DG25) -> 0 | DH24: =NETWORKDAYS.INTL(DH23,DH25) -> 0 | DI24: =NETWORKDAYS.INTL(DI23,DI25) -> 0 | ... MG24: =NETWORKDAYS.INTL(MG23,MG25) -> 0
A25: Date de réponse d'avis d'intention d'imposer des conditions | V25: 43876
A26: Date d'envoi
A27: Réception
A28: Envoi d'avis d'intention de refus
A29: Temps chez le demandeur | B29: =NETWORKDAYS.INTL(B28,B30) -> 0 | C29: =NETWORKDAYS.INTL(C28,C30) -> 0 | D29: =NETWORKDAYS.INTL(D28,D30) -> 0 | F29: =NETWORKDAYS.INTL(F28,F30) -> 0 | G29: =NETWORKDAYS.INTL(G28,G30) -> 0 | H29: =NETWORKDAYS.INTL(H28,H30) -> 0 | I29: =NETWORKDAYS.INTL(I28,I30) -> 0 | J29: =NETWORKDAYS.INTL(J28,J30) -> 0 | K29: =NETWORKDAYS.INTL(K28,K30) -> 0 | L29: =NETWORKDAYS.INTL(L28,L30) -> 0 | M29: =NETWORKDAYS.INTL(M28,M30) -> 0 | ... AA29: =NETWORKDAYS.INTL(AA28,AA30) -> 0 | AC29: =NETWORKDAYS.INTL(AC28,AC30) -> 0 | AD29: =NETWORKDAYS.INTL(AD28,AD30) -> 0 | AE29: =NETWORKDAYS.INTL(AE28,AE30) -> 0 | AF29: =NETWORKDAYS.INTL(AF28,AF30) -> 0 | AG29: =NETWORKDAYS.INTL(AG28,AG30) -> 0 | AH29: =NETWORKDAYS.INTL(AH28,AH30) -> 0 | AI29: =NETWORKDAYS.INTL(AI28,AI30) -> 0 | AJ29: =NETWORKDAYS.INTL(AJ28,AJ30) -> 0 | ... AS29: =NETWORKDAYS.INTL(AS28,AS30) -> 0 | AV29: =NETWORKDAYS.INTL(AV28,AV30) -> 0 | AW29: =NETWORKDAYS.INTL(AW28,AW30) -> 0 | AX29: =NETWORKDAYS.INTL(AX28,AX30) -> 0 | AY29: =NETWORKDAYS.INTL(AY28,AY30) -> 0 | AZ29: =NETWORKDAYS.INTL(AZ28,AZ30) -> 0 | BA29: =NETWORKDAYS.INTL(BA28,BA30) -> 0 | BB29: =NETWORKDAYS.INTL(BB28,BB30) -> 0 | BC29: =NETWORKDAYS.INTL(BC28,BC30) -> 0 | ... BH29: =NETWORKDAYS.INTL(BH28,BH30) -> 0 | BK29: =NETWORKDAYS.INTL(BK28,BK30) -> 0 | BL29: =NETWORKDAYS.INTL(BL28,BL30) -> 0 | BM29: =NETWORKDAYS.INTL(BM28,BM30) -> 0 | BR29: =NETWORKDAYS.INTL(BR28,BR30) -> 0 | BS29: =NETWORKDAYS.INTL(BS28,BS30) -> 0 | BT29: =NETWORKDAYS.INTL(BT28,BT30) -> 0 | BU29: =NETWORKDAYS.INTL(BU28,BU30) -> 0 | BV29: =NETWORKDAYS.INTL(BV28,BV30) -> 0 | BY29: =NETWORKDAYS.INTL(BY28,BY30) -> 0 | BZ29: =NETWORKDAYS.INTL(BZ28,BZ30) -> 0 | CA29: =NETWORKDAYS.INTL(CA28,CA30) -> 0 | CB29: =NETWORKDAYS.INTL(CB28,CB30) -> 0 | CC29: =NETWORKDAYS.INTL(CC28,CC30) -> 0 | CD29: =NETWORKDAYS.INTL(CD28,CD30) -> 0 | CE29: =NETWORKDAYS.INTL(CE28,CE30) -> 0 | CF29: =NETWORKDAYS.INTL(CF28,CF30) -> 0 | ... CO29: =NETWORKDAYS.INTL(CO28,CO30) -> 0 | CQ29: =NETWORKDAYS.INTL(CQ28,CQ30) -> 0 | CR29: =NETWORKDAYS.INTL(CR28,CR30) -> 0 | CS29: =NETWORKDAYS.INTL(CS28,CS30) -> 0 | CT29: =NETWORKDAYS.INTL(CT28,CT30) -> 0 | CU29: =NETWORKDAYS.INTL(CU28,CU30) -> 0 | CV29: =NETWORKDAYS.INTL(CV28,CV30) -> 0 | CW29: =NETWORKDAYS.INTL(CW28,CW30) -> 0 | CX29: =NETWORKDAYS.INTL(CX28,CX30) -> 0 | ... CZ29: =NETWORKDAYS.INTL(CZ28,CZ30) -> 0 | DB29: =NETWORKDAYS.INTL(DB28,DB30) -> 0 | DC29: =NETWORKDAYS.INTL(DC28,DC30) -> 0 | DD29: =NETWORKDAYS.INTL(DD28,DD30) -> 0 | DE29: =NETWORKDAYS.INTL(DE28,DE30) -> 0 | DF29: =NETWORKDAYS.INTL(DF28,DF30) -> 0 | DG29: =NETWORKDAYS.INTL(DG28,DG30) -> 0 | DH29: =NETWORKDAYS.INTL(DH28,DH30) -> 0 | DI29: =NETWORKDAYS.INTL(DI28,DI30) -> 0 | ... MG29: =NETWORKDAYS.INTL(MG28,MG30) -> 0
A30: Réponse à l'intention de refus
A31: Mise en page + révision linguistique | B31: 43791 | D31: 43791 | E31: 43816 | G31: 43791 | K31: 43791 | M31: 43804 | O31: 43843 | P31: 43803 | Q31: 43843 | R31: 43803 | S31: 43866 | T31: 43803 | U31: 43853 | V31: 43857 | W31: 43808 | AA31: 43803 | AB31: 43853 | AC31: 43893 | AE31: 43791 | AH31: 43808 | AJ31: 43805 | AL31: 43861 | AM31: 43843 | AN31: 43811 | AO31: 43789 | AQ31: 43843 | AR31: 43804 | AS31: 43846 | AV31: 43852 | AW31: 43866 | AZ31: 43843 | BC31: 43879 | BF31: 43843 | BI31: 43861 | BO31: 43902 | BP31: 43902 | BW31: 43900
A32: En signature chez | B32: 43791 | D32: 43791 | E32: 43816 | G32: 43791 | K32: 43791 | M32: 43804 | O32: 43843 | P32: 43803 | Q32: 43843 | R32: 43803 | S32: 43866 | T32: 43803 | U32: 43853 | V32: 43857 | W32: 43808 | AA32: 43803 | AB32: 43853 | AC32: 43893 | AE32: 43791 | AH32: 43808 | AJ32: 43805 | AL32: 43861 | AM32: 43843 | AN32: 43811 | AO32: 43789 | AQ32: 43843 | AR32: 43804 | AS32: 43846 | AV32: 43852 | AW32: 43866 | AZ32: 43843 | BC32: 43879 | BF32: 43843 | BI32: 43861 | BJ32: 43879 | BO32: 43902 | BP32: 43902 | BV32: 43893
A33: Date de signature | B33: 43796 | C33: 43755 | D33: 43796 | E33: 43819 | F33: 43808 | G33: 43796 | I33: 43808 | K33: 43796 | L33: 43808 | M33: 43805 | O33: 43847 | P33: 43805 | Q33: 43847 | R33: 43805 | S33: 43868 | T33: 43805 | U33: 43865 | AA33: 43805 | AB33: 43854 | AC33: 43900 | AE33: 43796 | AJ33: 43805 | AK33: 43797 | AN33: 43847 | AO33: 43796 | AQ33: 43847 | AR33: 43805 | AT33: 43853 | AU33: 43900 | AV33: 43857 | AW33: 43868 | AZ33: 43854 | BC33: 43881 | BF33: 43847 | BH33: 43893 | BV33: 43900 | BX33: 43893 | CB33: 43893
A34: Retour signature de chez | B34: 43796 | C34: 43756 | D34: 43796 | E34: 43819 | F34: 43808 | G34: 43796 | I34: 43808 | K34: 43796 | L34: 43808 | M34: 43808 | O34: 43850 | P34: 43808 | Q34: 43850 | R34: 43808 | S34: 43868 | T34: 43808 | U34: 43865 | AA34: 43808 | AB34: 43854 | AC34: 43901 | AE34: 43796 | AJ34: 43808 | AK34: 43797 | AN34: 43850 | AO34: 43796 | AQ34: 43850 | AR34: 43808 | AT34: 43854 | AU34: 43900 | AV34: 43859 | AW34: 43868 | AZ34: 43854 | BC34: 43882 | BF34: 43850 | BH34: 43893 | BK34: 43875 | BV34: 43900 | BX34: 43893 | CB34: 43894
A35: Envoi courriel du refus/autorisation | B35: 43796 | C35: 43755 | D35: 43796 | E35: 43837 | F35: 43809 | G35: 43796 | I35: 43809 | K35: 43796 | L35: 43809 | M35: 43808 | O35: 43850 | P35: 43808 | Q35: 43850 | R35: 43808 | S35: 43871 | T35: 43808 | U35: 43865 | Y35: 43768 | Z35: 43803 | AA35: 43808 | AC35: 43901 | AE35: 43796 | AJ35: 43808 | AK35: 43798 | AM35: 43859 | AN35: 43850 | AO35: 43796 | AQ35: 43850 | AR35: 43808 | AU35: 43900 | AV35: 43859 | AW35: 43871 | AZ35: 43857 | BC35: 43885 | BF35: 43850 | BK35: 43879 | BV35: 43900 | BX35: 43894
A36: Envoi postal du refus/autorisation | B36: 43796 | C36: 43755 | D36: 43796 | E36: 43837 | F36: 43809 | G36: 43796 | I36: 43809 | K36: 43796 | L36: 43809 | M36: 43808 | O36: 43850 | P36: 43808 | Q36: 43850 | R36: 43808 | S36: 43871 | T36: 43808 | U36: 43865 | Y36: 43768 | Z36: 43803 | AA36: 43808 | AB36: 43857 | AC36: 43901 | AE36: 43796 | AJ36: 43808 | AK36: 43798 | AN36: 43850 | AO36: 43796 | AQ36: 43850 | AR36: 43808 | AU36: 43900 | AV36: 43859 | AW36: 43871 | AZ36: 43857 | BC36: 43885 | BF36: 43850 | BH36: 43893 | BK36: 43879 | BV36: 43900 | BX36: 43894 | CB36: 43894
A37: Fermeture du dossier | B37: 43796 | C37: 43756 | D37: 43796 | E37: 43837 | F37: 43809 | G37: 43796 | I37: 43809 | K37: 43796 | L37: 43809 | M37: 43808 | O37: 43850 | P37: 43808 | Q37: 43850 | R37: 43808 | S37: 43871 | T37: 43808 | U37: 43865 | Y37: 43768 | Z37: 43803 | AA37: 43808 | AB37: 43857 | AC37: 43901 | AE37: 43796 | AJ37: 43808 | AK37: 43798 | AN37: 43850 | AO37: 43796 | AQ37: 43850 | AR37: 43808 | AT37: 43854 | AU37: 43900 | AV37: 43859 | AW37: 43871 | AZ37: 43857 | BC37: 43885 | BF37: 43850 | BK37: 43879 | BV37: 43900 | BX37: 43894 | CB37: 43894
A38: Temps de traitement moyen | B38: =B40-B39 -> 42 | C38: =C40-C39 -> 10 | D38: =D40-D39 -> 37 | E38: =E40-E39 -> 57 | F38: =F40-F39 -> 44 | G38: =G40-G39 -> 35 | H38: =H40-H39 -> -31249 | I38: =I40-I39 -> 41 | ... AA38: =AA40-AA39 -> 32 | AC38: =AC40-AC39 -> 99 | AD38: =AD40-AD39 -> -31299 | AE38: =AE40-AE39 -> 17 | AF38: =AF40-AF39 -> 20 | AG38: =AG40-AG39 -> -31323 | AH38: =AH40-AH39 -> -31272 | AI38: =AI40-AI39 -> -31074 | AJ38: =AJ40-AJ39 -> 21 | ... AS38: =AS40-AS39 -> -31279 | AV38: =AV40-AV39 -> 42 | AW38: =AW40-AW39 -> 47 | AX38: =AX40-AX39 -> 38 | AY38: =AY40-AY39 -> -31270 | AZ38: =AZ40-AZ39 -> 36 | BA38: =BA40-BA39 -> -31291 | BB38: =BB40-BB39 -> -31294 | BC38: =BC40-BC39 -> 51 | ... BH38: =BH40-BH39 -> 37 | BK38: =BK40-BK39 -> 24 | BL38: =BL40-BL39 -> -31324 | BM38: =BM40-BM39 -> 17 | BR38: =BR40-BR39 -> -31324 | BS38: =BS40-BS39 -> 25 | BT38: =BT40-BT39 -> -31329 | BU38: =BU40-BU39 -> 22 | BV38: =BV40-BV39 -> 30 | BY38: =BY40-BY39 -> -31333 | BZ38: =BZ40-BZ39 -> -31340 | CA38: =CA40-CA39 -> -31334 | CB38: =CB40-CB39 -> 20 | CC38: =CC40-CC39 -> -31334 | CD38: =CD40-CD39 -> -31424 | CE38: =CE40-CE39 -> -31339 | CF38: =CF40-CF39 -> -31340 | ... CO38: =CO40-CO39 -> -31346 | CQ38: =CQ40-CQ39 -> -31347 | CR38: =CR40-CR39 -> -31347 | CS38: =CS40-CS39 -> -31348 | CT38: =CT40-CT39 -> -31348 | CU38: =CU40-CU39 -> -31349 | CV38: =CV40-CV39 -> -31351 | CW38: =CW40-CW39 -> -31351 | CX38: =CX40-CX39 -> -31352 | ... CZ38: =CZ40-CZ39 -> -31352 | DB38: =DB40-DB39 -> -31354 | DC38: =DC40-DC39 -> -31354 | DD38: =DD40-DD39 -> -31355 | DE38: =DE40-DE39 -> -31355 | DF38: =DF40-DF39 -> -31356 | DG38: =DG40-DG39 -> -31357 | DH38: =DH40-DH39 -> -31358 | DI38: =DI40-DI39 -> -31358 | ... MG38: =MG40-MG39 -> 0
A39: Temps de traitement moyen chez le demandeur | B39: =B11+B18+B21+B24+B29 -> 0 | C39: =C11+C18+C21+C24+C29 -> 0 | D39: =D11+D18+D21+D24+D29 -> 0 | E39: =E11+E18+E21+E24+E29 -> 9 | F39: =F11+F18+F21+F24+F29 -> 0 | G39: =G11+G18+G21+G24+G29 -> 0 | H39: =H11+H18+H21+H24+H29 -> 0 | I39: =I11+I18+I21+I24+I29 -> 0 | ... AA39: =AA11+AA18+AA21+AA24+AA29 -> 0 | AC39: =AC11+AC18+AC21+AC24+AC29 -> 0 | AD39: =AD11+AD18+AD21+AD24+AD29 -> 33 | AE39: =AE11+AE18+AE21+AE24+AE29 -> 1 | AF39: =AF11+AF18+AF21+AF24+AF29 -> -31286 | AG39: =AG11+AG18+AG21+AG24+AG29 -> 52 | AH39: =AH11+AH18+AH21+AH24+AH29 -> 1 | AI39: =AI11+AI18+AI21+AI24+AI29 -> -197 | AJ39: =AJ11+AJ18+AJ21+AJ24+AJ29 -> 0 | ... AS39: =AS11+AS18+AS21+AS24+AS29 -> 0 | AV39: =AV11+AV18+AV21+AV24+AV29 -> 0 | AW39: =AW11+AW18+AW21+AW24+AW29 -> 1 | AX39: =AX11+AX18+AX21+AX24+AX29 -> -31328 | AY39: =AY11+AY18+AY21+AY24+AY29 -> 0 | AZ39: =AZ11+AZ18+AZ21+AZ24+AZ29 -> 0 | BA39: =BA11+BA18+BA21+BA24+BA29 -> 0 | BB39: =BB11+BB18+BB21+BB24+BB29 -> 0 | BC39: =BC11+BC18+BC21+BC24+BC29 -> 2 | ... BH39: =BH11+BH18+BH21+BH24+BH29 -> -31330 | BK39: =BK11+BK18+BK21+BK24+BK29 -> 0 | BL39: =BL11+BL18+BL21+BL24+BL29 -> 0 | BM39: =BM11+BM18+BM21+BM24+BM29 -> -31341 | BR39: =BR11+BR18+BR21+BR24+BR29 -> 0 | BS39: =BS11+BS18+BS21+BS24+BS29 -> -31353 | BT39: =BT11+BT18+BT21+BT24+BT29 -> 1 | BU39: =BU11+BU18+BU21+BU24+BU29 -> -31350 | BV39: =BV11+BV18+BV21+BV24+BV29 -> 0 | BY39: =BY11+BY18+BY21+BY24+BY29 -> 0 | BZ39: =BZ11+BZ18+BZ21+BZ24+BZ29 -> 7 | CA39: =CA11+CA18+CA21+CA24+CA29 -> 0 | CB39: =CB11+CB18+CB21+CB24+CB29 -> 0 | CC39: =CC11+CC18+CC21+CC24+CC29 -> 0 | CD39: =CD11+CD18+CD21+CD24+CD29 -> 0 | CE39: =CE11+CE18+CE21+CE24+CE29 -> 0 | CF39: =CF11+CF18+CF21+CF24+CF29 -> 0 | ... CO39: =CO11+CO18+CO21+CO24+CO29 -> 0 | CQ39: =CQ11+CQ18+CQ21+CQ24+CQ29 -> 0 | CR39: =CR11+CR18+CR21+CR24+CR29 -> 0 | CS39: =CS11+CS18+CS21+CS24+CS29 -> 0 | CT39: =CT11+CT18+CT21+CT24+CT29 -> 0 | CU39: =CU11+CU18+CU21+CU24+CU29 -> 0 | CV39: =CV11+CV18+CV21+CV24+CV29 -> 0 | CW39: =CW11+CW18+CW21+CW24+CW29 -> 0 | CX39: =CX11+CX18+CX21+CX24+CX29 -> 0 | ... CZ39: =CZ11+CZ18+CZ21+CZ24+CZ29 -> 0 | DB39: =DB11+DB18+DB21+DB24+DB29 -> 0 | DC39: =DC11+DC18+DC21+DC24+DC29 -> 0 | DD39: =DD11+DD18+DD21+DD24+DD29 -> 0 | DE39: =DE11+DE18+DE21+DE24+DE29 -> 0 | DF39: =DF11+DF18+DF21+DF24+DF29 -> 0 | DG39: =DG11+DG18+DG21+DG24+DG29 -> 0 | DH39: =DH11+DH18+DH21+DH24+DH29 -> 0 | DI39: =DI11+DI18+DI21+DI24+DI29 -> 0 | ... MG39: =MG11+MG18+MG21+MG24+MG29 -> 0
A40: Temps moyen de traitement d'une demande (entre la réception et la fermeture de la demande) | B40: =NETWORKDAYS.INTL(B7,B37) -> 42 | C40: =NETWORKDAYS.INTL(C7,C37) -> 10 | D40: =NETWORKDAYS.INTL(D7,D37) -> 37 | E40: =NETWORKDAYS.INTL(E7,E37) -> 66 | F40: =NETWORKDAYS.INTL(F7,F37) -> 44 | G40: =NETWORKDAYS.INTL(G7,G37) -> 35 | H40: =NETWORKDAYS.INTL(H7,H37) -> -31249 | I40: =NETWORKDAYS.INTL(I7,I37) -> 41 | ... AA40: =NETWORKDAYS.INTL(AA7,AA37) -> 32 | AC40: =NETWORKDAYS.INTL(AC7,AC37) -> 99 | AD40: =NETWORKDAYS.INTL(AD7,AD37) -> -31266 | AE40: =NETWORKDAYS.INTL(AE7,AE37) -> 18 | AF40: =NETWORKDAYS.INTL(AF7,AF37) -> -31266 | AG40: =NETWORKDAYS.INTL(AG7,AG37) -> -31271 | AH40: =NETWORKDAYS.INTL(AH7,AH37) -> -31271 | AI40: =NETWORKDAYS.INTL(AI7,AI37) -> -31271 | AJ40: =NETWORKDAYS.INTL(AJ7,AJ37) -> 21 | ... AS40: =NETWORKDAYS.INTL(AS7,AS37) -> -31279 | AV40: =NETWORKDAYS.INTL(AV7,AV37) -> 42 | AW40: =NETWORKDAYS.INTL(AW7,AW37) -> 48 | AX40: =NETWORKDAYS.INTL(AX7,AX37) -> -31290 | AY40: =NETWORKDAYS.INTL(AY7,AY37) -> -31270 | AZ40: =NETWORKDAYS.INTL(AZ7,AZ37) -> 36 | BA40: =NETWORKDAYS.INTL(BA7,BA37) -> -31291 | BB40: =NETWORKDAYS.INTL(BB7,BB37) -> -31294 | BC40: =NETWORKDAYS.INTL(BC7,BC37) -> 53 | ... BH40: =NETWORKDAYS.INTL(BH7,BH37) -> -31293 | BK40: =NETWORKDAYS.INTL(BK7,BK37) -> 24 | BL40: =NETWORKDAYS.INTL(BL7,BL37) -> -31324 | BM40: =NETWORKDAYS.INTL(BM7,BM37) -> -31324 | BR40: =NETWORKDAYS.INTL(BR7,BR37) -> -31324 | BS40: =NETWORKDAYS.INTL(BS7,BS37) -> -31328 | BT40: =NETWORKDAYS.INTL(BT7,BT37) -> -31328 | BU40: =NETWORKDAYS.INTL(BU7,BU37) -> -31328 | BV40: =NETWORKDAYS.INTL(BV7,BV37) -> 30 | BY40: =NETWORKDAYS.INTL(BY7,BY37) -> -31333 | BZ40: =NETWORKDAYS.INTL(BZ7,BZ37) -> -31333 | CA40: =NETWORKDAYS.INTL(CA7,CA37) -> -31334 | CB40: =NETWORKDAYS.INTL(CB7,CB37) -> 20 | CC40: =NETWORKDAYS.INTL(CC7,CC37) -> -31334 | CD40: =NETWORKDAYS.INTL(CD7,CD37) -> -31424 | CE40: =NETWORKDAYS.INTL(CE7,CE37) -> -31339 | CF40: =NETWORKDAYS.INTL(CF7,CF37) -> -31340 | ... CO40: =NETWORKDAYS.INTL(CO7,CO37) -> -31346 | CQ40: =NETWORKDAYS.INTL(CQ7,CQ37) -> -31347 | CR40: =NETWORKDAYS.INTL(CR7,CR37) -> -31347 | CS40: =NETWORKDAYS.INTL(CS7,CS37) -> -31348 | CT40: =NETWORKDAYS.INTL(CT7,CT37) -> -31348 | CU40: =NETWORKDAYS.INTL(CU7,CU37) -> -31349 | CV40: =NETWORKDAYS.INTL(CV7,CV37) -> -31351 | CW40: =NETWORKDAYS.INTL(CW7,CW37) -> -31351 | CX40: =NETWORKDAYS.INTL(CX7,CX37) -> -31352 | ... CZ40: =NETWORKDAYS.INTL(CZ7,CZ37) -> -31352 | DB40: =NETWORKDAYS.INTL(DB7,DB37) -> -31354 | DC40: =NETWORKDAYS.INTL(DC7,DC37) -> -31354 | DD40: =NETWORKDAYS.INTL(DD7,DD37) -> -31355 | DE40: =NETWORKDAYS.INTL(DE7,DE37) -> -31355 | DF40: =NETWORKDAYS.INTL(DF7,DF37) -> -31356 | DG40: =NETWORKDAYS.INTL(DG7,DG37) -> -31357 | DH40: =NETWORKDAYS.INTL(DH7,DH37) -> -31358 | DI40: =NETWORKDAYS.INTL(DI7,DI37) -> -31358 | ... MG40: =NETWORKDAYS.INTL(MG7,MG37) -> 0
B41: 42 | C41: 10 | D41: 37 | AK41: Installations septiques | AO41: URGENT | AR41: En priorité | BB41: URGENT !
B46: Octobre | C46: Novembre | D46: Décembre | E46: Janvier | F46: Février
A47: Temps moyen | B47: =AVERAGE(C38,Y38) -> 9.5 | C47: =AVERAGE(B38,D38,G38,K38,AE38,AK38,AO38) -> 26.142857 | D47: =AVERAGE(F38,I38,L38,M38,P38,R38,T38,Z38,AA38,AJ38,AR38) -> 33.181818
A48: Chez demandeur | B48: =AVERAGE(C39,Y39) -> 0 | C48: =AVERAGE(B39,D39,G39,K39,AE39,AK39,AO39) -> 0.85714286 | D48: =AVERAGE(F39,I39,L39,M39,P39,R39,T39,Z39,AA39,AJ39,AR39) -> 0.36363636
A49: Temps de traitement demande | B49: =AVERAGE(C40,Y40) -> 9.5 | C49: =AVERAGE(B40,D40,G40,K40,AE40,AK40,AO40) -> 27 | D49: =AVERAGE(F40,I40,L40,M40,P40,R40,T40,Z40,AA40,AJ40,AR40) -> 33.545455

Sheet Statistiques
B1: 43739 | C1: 43770 | D1: 43800 | E1: 43831 | F1: 43862 | G1: Total
A2: Mois | B2: 10 | C2: 11 | D2: 12 | E2: 1 | F2: 2
A3: Nombres de demandes d'autorisation reçues | B3: =SUMPRODUCT((MONTH('1er Octobre'!$B$7:$CU$7)=B2)*('1er Octobre'!$B$7:$CU$7>0)) -> 28 | C3: =SUMPRODUCT((MONTH('1er Octobre'!$B$7:$CU$7)=C2)*('1er Octobre'!$B$7:$CU$7>0)) -> 18 | D3: =SUMPRODUCT((MONTH('1er Octobre'!$B$7:$CU$7)=D2)*('1er Octobre'!$B$7:$CU$7>0)) -> 12 | E3: =SUMPRODUCT((MONTH('1er Octobre'!$B$7:$CU$7)=E2)*('1er Octobre'!$B$7:$CU$7>0)) -> 15 | F3: =SUMPRODUCT((MONTH('1er Octobre'!$B$7:$CU$7)=F2)*('1er Octobre'!$B$7:$CU$7>0)) -> 22
A4: Nombres de demandes en traitements
A5: Nombres de demandes autorisées/terminées | B5: =SUMPRODUCT((MONTH('1er Octobre'!$B$37:$CU$37)=B2)*('1er Octobre'!$B$37:$CU$37>0)) -> 2 | C5: =SUMPRODUCT((MONTH('1er Octobre'!$B$37:$CU$37)=C2)*('1er Octobre'!$B$37:$CU$37>0)) -> 7 | D5: =SUMPRODUCT((MONTH('1er Octobre'!$B$37:$CU$37)=D2)*('1er Octobre'!$B$37:$CU$37>0)) -> 11 | E5: =SUMPRODUCT((MONTH('1er Octobre'!$B$37:$CU$37)=E2)*('1er Octobre'!$B$37:$CU$37>0)) -> 10 | F5: =SUMPRODUCT((MONTH('1er Octobre'!$B$37:$CU$37)=F2)*('1er Octobre'!$B$37:$CU$37>0)) -> 5
A6: Demandes | B6: =SUMPRODUCT((MONTH('1er Octobre'!$B$26:$CU$26)=B2)*('1er Octobre'!$B$26:$CU$26>0)) -> 0 | C6: =SUMPRODUCT((MONTH('1er Octobre'!$B$26:$CU$26)=C2)*('1er Octobre'!$B$26:$CU$26>0)) -> 0 | D6: =SUMPRODUCT((MONTH('1er Octobre'!$B$26:$CU$26)=D2)*('1er Octobre'!$B$26:$CU$26>0)) -> 0 | E6: =SUMPRODUCT((MONTH('1er Octobre'!$B$26:$CU$26)=E2)*('1er Octobre'!$B$26:$CU$26>0)) -> 0 | F6: =SUMPRODUCT((MONTH('1er Octobre'!$B$26:$CU$26)=F2)*('1er Octobre'!$B$26:$CU$26>0)) -> 0
A7: Temps de traitement moyen
A8: Temps de traitement moyen chez le demandeur
A9: Temps moyen de traitement d'une demande (entre la réception et la fermeture de la demande) | B9: =AVERAGEIFS('1er Octobre'!B40:D40,B37:D37,">=2019-10-01",'1er Octobre'!B37:D37,"<=2019-10-30") -> #DIV/0!
I12: < | J12: >
A15: Date professionnelle | B15: 43750 | C15: 43751 | D15: 43752 | E15: 43753 | F15: 43815 | G15: 43755 | H15: 43756 | I15: 43757 | J15: 43758
A17: Date fermeture | B17: 43812 | C17: 43813 | D17: 43814
A21: Date | B21: 43751 | C21: 43752 | D21: 43781 | E21: 43478
A22: Temps moyen | B22: 32 | C22: 52 | D22: 4 | E22: 60
A25: Formule | B25: =AVERAGEIFS(B22:F22,B21:F21,">=2019-10-01",B21:F21,"<=2019-10-30") -> 42 | D25: =AVERAGE(B22,C22) -> 42

Sheet Feuil1
