Workbook

Sheet Barretage_arret
B2: 2020
B3: 43832 | D3: 43833 | F3: 43836 | H3: 43837 | J3: 43838 | L3: 43839 | N3: 43840 | P3: 43843 | R3: 43844 | T3: 43845 | V3: 43846 | X3: 43847 | Z3: 43850 | AB3: 43851 | AD3: 43852 | AF3: 43853 | AH3: 43854 | AJ3: 43857 | AL3: 43858
A4: Causes | B4: matin | C4: Aprem | D4: M | E4: AP | F4: M | G4: AP | H4: M | I4: AP | J4: M | K4: AP | L4: M | M4: AP | N4: M | O4: AP | P4: M | Q4: AP | R4: M | S4: AP | T4: M | U4: AP | V4: M | W4: AP | X4: M | Y4: AP | Z4: M | AA4: AP | AB4: M | AC4: AP | AD4: M | AE4: AP | AF4: M | AG4: AP | AH4: M | AI4: AP | AJ4: M | AK4: AP | AL4: M | AM4: AP
B5: =SUM(B6:B9) -> 5 | C5: =SUM(C6:C9) -> 4 | D5: =SUM(D6:D9) -> 7 | E5: =SUM(E6:E9) -> 7 | F5: =SUM(F6:F9) -> 5 | G5: =SUM(G6:G9) -> 17 | H5: =SUM(H6:H9) -> 7 | I5: =SUM(I6:I9) -> 6 | ... AM5: =SUM(AM6:AM9) -> 8
A6: absence de contrôle | B6: 3 | C6: 1 | E6: 1 | M6: 3 | P6: 7 | R6: 1 | T6: 5 | X6: 3 | AE6: 3 | AG6: 2 | AI6: 2 | AL6: 1
A7: bourage | B7: 1 | C7: 2 | F7: 1 | H7: 4 | J7: 1 | K7: 2 | L7: 2 | M7: 3 | N7: 1 | P7: 3 | Q7: 3 | R7: 2 | S7: 2 | T7: 3 | V7: 1 | W7: 2 | X7: 1 | Y7: 2 | Z7: 4 | AD7: 10 | AE7: 3 | AF7: 2 | AG7: 5 | AH7: 3 | AI7: 3 | AJ7: 2 | AK7: 3 | AL7: 2 | AM7: 4
A8: manque matière | B8: 1 | D8: 6 | E8: 2 | F8: 4 | G8: 16 | H8: 1 | I8: 5 | K8: 8 | L8: 1 | M8: 10 | N8: 1 | O8: 4 | P8: 12 | R8: 3 | T8: 4 | V8: 4 | W8: 1 | X8: 2 | Y8: 1 | Z8: 4 | AD8: 1 | AE8: 6 | AG8: 5 | AH8: 2 | AI8: 2 | AJ8: 4 | AK8: 1 | AL8: 3
A9: arrêt sans défaut | C9: 1 | D9: 1 | E9: 4 | G9: 1 | H9: 2 | I9: 1 | J9: 8 | K9: 3 | L9: 7 | M9: 16 | N9: 1 | O9: 1 | P9: 2 | Q9: 1 | R9: 2 | S9: 1 | U9: 1 | V9: 3 | W9: 2 | Y9: 8 | Z9: 5 | AB9: 8 | AD9: 7 | AE9: 7 | AF9: 2 | AG9: 4 | AH9: 13 | AI9: 3 | AJ9: 10 | AL9: 5 | AM9: 4

Sheet Feuil2
D7: DATE | E7: absence de contrôle | F7: bourage | G7: manque matière | H7: arrêt sans défaut
D8: 43832 | E8: =SUM(Barretage_arret!B6:C6) -> 4 | F8: =SUM(Barretage_arret!B7:C7) -> 3 | G8: =SUM(Barretage_arret!B8:C8) -> 1 | H8: =SUM(Barretage_arret!B9:C9) -> 1
D9: 43833 | E9: =SUM(Barretage_arret!D6:E6) -> 1 | F9: =SUM(Barretage_arret!D7:E7) -> 0 | G9: =SUM(Barretage_arret!D8:E8) -> 8 | H9: =SUM(Barretage_arret!D9:E9) -> 5 | J9: sur chaque date, je fais la somme des arrêts qu'il y a eu sur les deux équipes (matin et aprem)
D10: 43836 | E10: =SUM(Barretage_arret!F6:G6) -> 0 | F10: =SUM(Barretage_arret!F7:G7) -> 1 | G10: =SUM(Barretage_arret!F8:G8) -> 20 | H10: =SUM(Barretage_arret!F9:G9) -> 1
D11: 43837 | E11: =SUM(Barretage_arret!H6:I6) -> 0 | F11: =SUM(Barretage_arret!H7:I7) -> 4 | G11: =SUM(Barretage_arret!H8:I8) -> 6 | H11: =SUM(Barretage_arret!H9:I9) -> 3
D12: 43838
D13: 43839
D14: 43840
D15: 43843
D16: 43844
D17: 43845
D18: 43846
D19: 43853
D20: 43854
D21: 43857
D22: 43858
