Workbook

Sheet Données
C3: Temps base | D3: Temps travaillé (pause, lunch, meeting soustrait) | E3: % Clérical accordé | F3: Équivalent en Temps clérical | G3: Temps en appel
B4: Lundi | C4: 0.33333333 | D4: 0.27083333 | E4: 0.18 | F4: =D4*E4 -> 0.04875 | G4: =D4-F4 -> 0.22208333
B5: Mardi | C5: 0.33333333 | D5: 0.27083333 | E5: 0.18 | F5: =D5*E5 -> 0.04875 | G5: =D5-F5 -> 0.22208333
B6: Mercredi | C6: 0.33333333 | D6: 0.27083333 | E6: 0.18 | F6: =D6*E6 -> 0.04875 | G6: =D6-F6 -> 0.22208333
B7: Jeudi | C7: 0.33333333 | D7: 0.27083333 | E7: 0.18 | F7: =D7*E7 -> 0.04875 | G7: =D7-F7 -> 0.22208333
B8: Vendredi | C8: 0.33333333 | D8: 0.27083333 | E8: 0.18 | F8: =D8*E8 -> 0.04875 | G8: =D8-F8 -> 0.22208333
B10: Lundi - Mercredi - Vendredi | D10: Meeting 15 min | F10: Pauses | G10: AM 15min - Lunch 1h - PM15min
B11: Mardi - Jeudi | D11: Meeting 10min | F11: Pauses | G11: 15min - 1h - 15min

Sheet Clients complets
A1: ActivitÃ©s de ventes
A3: Activités vente planifiées, avec ou sans commande
A4: Les motifs de "sans commande" ont été définis
C6: Nombres d'activitÃ©s | D6: Nombres d'activitÃ©s | E6: Nombres d'activitÃ©s
A7: ModifiÃ© par | B7: Statut utilisateur | C7: FermÃ© (sans commande) | D7: FermÃ© (avec commande) | E7: RÃ©sultat global
F8: =C8/E8 -> #DIV/0!
F9: =C9/E9 -> #DIV/0!
F10: =C10/E10 -> #DIV/0!
F11: =C11/E11 -> #DIV/0!
F12: =C12/E12 -> #DIV/0!
F13: =C13/E13 -> #DIV/0!
F14: =C14/E14 -> #DIV/0!
F15: =C15/E15 -> #DIV/0!
F16: =C16/E16 -> #DIV/0!
F17: =C17/E17 -> #DIV/0!
F18: =C18/E18 -> #DIV/0!
F19: =C19/E19 -> #DIV/0!
... F50: =C50/E50 -> #DIV/0!

Sheet PST

Sheet Tableau Corpo
A1: Rapport Journalier - Rapport Calabrio - Analyse de la gestion du temps
A4: ='Micheline Julien'!A5 -> Date :
A5: Heure fin meeting
A9: Nom de l’agent | B9: Heures travaillées | C9: ID | D9: Heure 1er appel | E9: Heure fin du dernier appel | F9: Nombre d'appels | G9: TTA | H9: Temps entre appels | I9: Temps clerical accorde | J9: Temps pris en trop | K9: Temps en appel | L9: Pourcentage de temps en appel | M9: Clients complets | N9: Statut | O9: Note
A10: Carole Proulx | B10: 0.33333333 | C10: cxproulx | D10: ='Carole Proulx'!B6 -> 0.33561343 | E10: ='Carole Proulx'!B8 -> 0 | F10: ='Carole Proulx'!G122 -> 0 | G10: ='Carole Proulx'!B7 -> #DIV/0! | H10: ='Carole Proulx'!K122 -> -0.39583333 | I10: 0.048611111 | J10: =H10-I10 -> -0.44444444 | K10: =B10-J10-I10 -> 0.72916667 | L10: =K10/B10 -> 2.1875 | M10: =VLOOKUP(C10,'Clients complets'!A:F,6,0) -> #N/A | N10: P
A11: Andrée-Ann Sirard | B11: 0.33333333 | D11: ='Andrée-Ann Sirard'!B6 -> 0 | E11: ='Andrée-Ann Sirard'!G8 -> 0 | F11: ='Andrée-Ann Sirard'!G8 -> 0 | G11: ='Andrée-Ann Sirard'!B7 -> #DIV/0! | H11: ='Andrée-Ann Sirard'!K122 -> -0.39583333 | I11: 0.048611111 | J11: =H11-I11 -> -0.44444444 | K11: =B11-J11-I11 -> 0.72916667 | L11: =K11/B11 -> 2.1875 | M11: =VLOOKUP(C11,'Clients complets'!A:F,6,0) -> #N/A | N11: P
A12: Manon Loiseau | B12: 0.33333333 | C12: mxloisea | D12: ='Manon Loiseau'!B6 -> 0.34630787 | E12: ='Manon Loiseau'!B8 -> 0 | F12: ='Manon Loiseau'!G122 -> 0 | G12: ='Manon Loiseau'!B7 -> #DIV/0! | H12: ='Manon Loiseau'!K122 -> -0.39583333 | I12: 0.048611111 | J12: =H12-I12 -> -0.44444444 | K12: =B12-J12-I12 -> 0.72916667 | L12: =K12/B12 -> 2.1875 | M12: =VLOOKUP(C12,'Clients complets'!A:F,6,0) -> #N/A | N12: P
A13: Martine Hétu | B13: 0.33333333 | C13: mxhetu | D13: ='Martine Hétu'!B6 -> 0.34233796 | E13: ='Martine Hétu'!B8 -> 0 | F13: ='Martine Hétu'!G122 -> 0 | G13: ='Martine Hétu'!B7 -> #DIV/0! | H13: ='Martine Hétu'!K122 -> -0.39583333 | I13: 0.048611111 | J13: =H13-I13 -> -0.44444444 | K13: =B13-J13-I13 -> 0.72916667 | L13: =K13/B13 -> 2.1875 | M13: =VLOOKUP(C13,'Clients complets'!A:F,6,0) -> #N/A | N13: P
A14: Mathieu Monette | B14: 0.33333333 | C14: mxmonett | D14: ='Mathieu Monette'!B6 -> 0.33556713 | E14: ='Mathieu Monette'!B8 -> 0 | F14: ='Mathieu Monette'!G122 -> 0 | G14: ='Mathieu Monette'!B7 -> #DIV/0! | H14: ='Mathieu Monette'!K122 -> -0.39583333 | I14: 0.048611111 | J14: =H14-I14 -> -0.44444444 | K14: =B14-J14-I14 -> 0.72916667 | L14: =K14/B14 -> 2.1875 | M14: =VLOOKUP(C14,'Clients complets'!A:F,6,0) -> #N/A | N14: P
A15: Philippe Cote | B15: 0.33333333 | C15: pxcata | D15: ='Philippe Cote'!B6 -> 0.33829861 | E15: ='Philippe Cote'!B8 -> 0 | F15: ='Philippe Cote'!G122 -> 0 | G15: ='Philippe Cote'!B7 -> #DIV/0! | H15: ='Philippe Cote'!K122 -> -0.39583333 | I15: 0.048611111 | J15: =H15-I15 -> -0.44444444 | K15: =B15-J15-I15 -> 0.72916667 | L15: =K15/B15 -> 2.1875 | M15: =VLOOKUP(C15,'Clients complets'!A:F,6,0) -> #N/A | N15: P
A16: David Kansy | B16: 0.33333333 | C16: dxkensy | D16: ='David Kansy'!B6 -> 0.34527778 | E16: ='David Kansy'!B8 -> 0 | F16: ='David Kansy'!G122 -> 0 | G16: ='David Kansy'!B7 -> #DIV/0! | H16: ='David Kansy'!K122 -> -0.39583333 | I16: 0.048611111 | J16: =H16-I16 -> -0.44444444 | K16: =B16-J16-I16 -> 0.72916667 | L16: =K16/B16 -> 2.1875 | M16: =VLOOKUP(C16,'Clients complets'!A:F,6,0) -> #N/A | N16: P
A17: Francine Houle | B17: 0.33333333 | C17: fxhoule | D17: ='Francine Houle'!B6 -> 0.33530093 | E17: ='Francine Houle'!B8 -> 0 | F17: ='Francine Houle'!G122 -> 0 | G17: ='Francine Houle'!B7 -> #DIV/0! | H17: ='Francine Houle'!K122 -> -0.39583333 | I17: 0.048611111 | J17: =H17-I17 -> -0.44444444 | K17: =B17-J17-I17 -> 0.72916667 | L17: =K17/B17 -> 2.1875 | M17: =VLOOKUP(C17,'Clients complets'!A:F,6,0) -> #N/A | N17: P
A18: Francis Gosselin | B18: 0.33333333 | C18: fxgossel | D18: ='Francis Gosselin'!B6 -> 0.33792824 | E18: ='Francis Gosselin'!B8 -> 0 | F18: ='Francis Gosselin'!G122 -> 0 | G18: ='Francis Gosselin'!B7 -> #DIV/0! | H18: ='Francis Gosselin'!K122 -> -0.39583333 | I18: 0.048611111 | J18: =H18-I18 -> -0.44444444 | K18: =B18-J18-I18 -> 0.72916667 | L18: =K18/B18 -> 2.1875 | M18: =VLOOKUP(C18,'Clients complets'!A:F,6,0) -> #N/A | N18: P
A19: Pompiliu Alexandru Popescu | B19: 0.33333333 | C19: PXPOPESC1 | D19: ='Pompiliu Alexandru Pompescu'!B6 -> 0.34184028 | E19: ='Pompiliu Alexandru Pompescu'!B8 -> 0 | F19: ='Pompiliu Alexandru Pompescu'!G122 -> 0 | G19: ='Pompiliu Alexandru Pompescu'!B7 -> #DIV/0! | H19: ='Pompiliu Alexandru Pompescu'!K122 -> -0.39583333 | I19: 0.048611111 | J19: =H19-I19 -> -0.44444444 | K19: =B19-J19-I19 -> 0.72916667 | L19: =K19/B19 -> 2.1875 | M19: =VLOOKUP(C19,'Clients complets'!A:F,6,0) -> #N/A | N19: P
A20: Sophie Melancon | B20: 0.33333333 | C20: sxmelanc | D20: ='Sophie Melancon'!B6 -> 0.3434375 | E20: ='Sophie Melancon'!B8 -> 0 | F20: ='Sophie Melancon'!G122 -> 0 | G20: ='Sophie Melancon'!B7 -> #DIV/0! | H20: ='Sophie Melancon'!K122 -> -0.39583333 | I20: 0.048611111 | J20: =H20-I20 -> -0.44444444 | K20: =B20-J20-I20 -> 0.72916667 | L20: =K20/B20 -> 2.1875 | M20: =VLOOKUP(C20,'Clients complets'!A:F,6,0) -> #N/A | N20: P
A21: Johann Alexis Marin-McCarthy | B21: 0.33333333 | I21: 0.048611111 | M21: =VLOOKUP(C21,'Clients complets'!A:F,6,0) -> #N/A | N21: P
A22: Sylvia St-Pierre | B22: 0.33333333 | C22: SXSTPIER | D22: ='Sylvia St Pierre'!B6 -> 0.33748843 | E22: ='Sylvia St Pierre'!B8 -> 0 | F22: ='Sylvia St Pierre'!G122 -> 0 | G22: ='Sylvia St Pierre'!B7 -> #DIV/0! | H22: ='Sylvia St Pierre'!K122 -> -0.39583333 | I22: 0.048611111 | J22: =H22-I22 -> -0.44444444 | K22: =B22-J22-I22 -> 0.72916667 | L22: =K22/B22 -> 2.1875 | M22: =VLOOKUP(C22,'Clients complets'!A:F,6,0) -> #N/A | N22: P
A23: Sylvia Xu | B23: 0.33333333 | C23: SXXU01 | D23: ='Sylvia Xu'!B6 -> 0.33795139 | E23: ='Sylvia Xu'!B8 -> 0 | F23: ='Sylvia Xu'!G122 -> 0 | G23: ='Sylvia Xu'!B7 -> #DIV/0! | H23: ='Sylvia Xu'!K122 -> -0.39583333 | I23: 0.048611111 | J23: =H23-I23 -> -0.44444444 | K23: =B23-J23-I23 -> 0.72916667 | L23: =K23/B23 -> 2.1875 | M23: =VLOOKUP(C23,'Clients complets'!A:F,6,0) -> #N/A | N23: P
A24: Alexandre Gaudreault | B24: 0.33333333 | C24: axgaudr2 | D24: ='Alexandre Gaudreault'!B6 -> 0.34111111 | E24: ='Alexandre Gaudreault'!G8 -> 0 | F24: ='Alexandre Gaudreault'!G122 -> 0 | G24: ='Alexandre Gaudreault'!B7 -> #DIV/0! | H24: ='Alexandre Gaudreault'!K122 -> -0.39583333 | I24: 0.048611111 | J24: =H24-I24 -> -0.44444444 | K24: =B24-J24-I24 -> 0.72916667 | L24: =K23/B23 -> 2.1875 | M24: =VLOOKUP(C24,'Clients complets'!A:F,6,0) -> #N/A | N24: T
A25: Anthony Roobby | B25: 0.33333333 | C25: rxanthon1 | D25: ='Anthony Roobby'!B6 -> 0.34375 | E25: ='Anthony Roobby'!B8 -> 0 | F25: ='Anthony Roobby'!G122 -> 0 | G25: ='Anthony Roobby'!B7 -> #DIV/0! | H25: ='Anthony Roobby'!K122 -> -0.39583333 | I25: 0.048611111 | J25: =H25-I25 -> -0.44444444 | K25: =B25-J25-I25 -> 0.72916667 | L25: =K25/B25 -> 2.1875 | M25: =VLOOKUP(C25,'Clients complets'!A:F,6,0) -> #N/A | N25: T
A26: Micheline Julien | B26: 0.33333333 | D26: ='Micheline Julien'!B6 -> 0 | E26: ='Micheline Julien'!G8 -> 0 | F26: ='Micheline Julien'!G8 -> 0 | G26: ='Micheline Julien'!B7 -> #DIV/0! | H26: ='Micheline Julien'!K122 -> -0.39583333 | I26: 0.048611111 | J26: =H26-I26 -> -0.44444444 | K26: =B26-J26-I26 -> 0.72916667 | L26: =K26/B26 -> 2.1875 | M26: =VLOOKUP(C26,'Clients complets'!A:F,6,0) -> #N/A | N26: P
A27: Bruno Rabasquinho | B27: 0.33333333 | C27: bxrabasq | D27: ='Bruno Rabasquinho'!B6 -> 0.34511574 | E27: ='Bruno Rabasquinho'!G8 -> 0 | F27: ='Bruno Rabasquinho'!G8 -> 0 | G27: ='Bruno Rabasquinho'!B7 -> #DIV/0! | H27: ='Bruno Rabasquinho'!K122 -> -0.39583333 | I27: 0.048611111 | J27: =H27-I27 -> -0.44444444 | K27: =B27-J27-I27 -> 0.72916667 | L27: =K27/B27 -> 2.1875 | M27: =VLOOKUP(C27,'Clients complets'!A:F,6,0) -> #N/A | N27: T
A28: Patrick Pion | B28: 0.33333333 | D28: ='Patrick Pion'!B6 -> 0 | E28: ='Patrick Pion'!G8 -> 0 | F28: ='Patrick Pion'!G8 -> 0 | G28: ='Patrick Pion'!B7 -> #DIV/0! | H28: ='Patrick Pion'!K122 -> -0.39583333 | I28: 0.048611111 | J28: =H28-I28 -> -0.44444444 | K28: =B28-J28-I28 -> 0.72916667 | L28: =K28/B28 -> 2.1875 | M28: =VLOOKUP(C28,'Clients complets'!A:F,6,0) -> #N/A | N28: T
A29: Christopher Dagher | B29: 0.33333333 | C29: CXDAGHER | D29: ='Christopher Dagher'!B6 -> 0.34082176 | E29: ='Christopher Dagher'!B8 -> 0 | F29: ='Christopher Dagher'!G122 -> 0 | G29: ='Christopher Dagher'!B7 -> #DIV/0! | H29: ='Christopher Dagher'!K170 -> -0.39583333 | I29: 0.048611111 | J29: =H29-I29 -> -0.44444444 | K29: =B29-J29-I29 -> 0.72916667 | L29: =K29/B29 -> 2.1875 | M29: =VLOOKUP(C29,'Clients complets'!A:F,6,0) -> #N/A | N29: T
A30: James Cerisme | B30: 0.33333333 | C30: JXCERISM | D30: ='James Cerisme'!B6 -> 0.34195602 | E30: ='James Cerisme'!B8 -> 0 | F30: ='James Cerisme'!G122 -> 0 | G30: ='James Cerisme'!B7 -> #DIV/0! | H30: ='James Cerisme'!K122 -> -0.39583333 | I30: 0.048611111 | J30: =H30-I30 -> -0.44444444 | K30: =B30-J30-I30 -> 0.72916667 | L30: =K30/B30 -> 2.1875 | M30: =VLOOKUP(C30,'Clients complets'!A:F,6,0) -> #N/A | N30: T
A31: Jean René César | B31: 0.33333333 | C31: jxcesar | D31: ='Jean Rene Cesar'!B6 -> 0.33472222 | E31: ='Jean Rene Cesar'!B8 -> 0 | F31: ='Jean Rene Cesar'!G122 -> 0 | G31: ='Jean Rene Cesar'!B7 -> #DIV/0! | H31: ='Jean Rene Cesar'!K122 -> -0.39583333 | I31: 0.048611111 | J31: =H31-I31 -> -0.44444444 | K31: =B31-J31-I31 -> 0.72916667 | L31: =K31/B31 -> 2.1875 | M31: =VLOOKUP(C31,'Clients complets'!A:F,6,0) -> #N/A | N31: T
A32: Robert Cardinal | B32: 0.33333333 | D32: ='Robert Cardinal'!B6 -> 0 | E32: ='Robert Cardinal'!G8 -> 0 | F32: ='Robert Cardinal'!G8 -> 0 | G32: ='Robert Cardinal'!B7 -> #DIV/0! | H32: ='Robert Cardinal'!K122 -> -0.39583333 | I32: 0.048611111 | J32: =H32-I32 -> -0.44444444 | K32: =B32-J32-I32 -> 0.72916667 | L32: =K32/B32 -> 2.1875 | M32: =VLOOKUP(C32,'Clients complets'!A:F,6,0) -> #N/A | N32: P
A33: Marc-Olivier Benoit | B33: 0.33333333 | C33: mxbenoit1 | D33: ='Marc-Olivier Benoit'!B6 -> 0.34859954 | E33: ='Marc-Olivier Benoit'!B8 -> 0 | F33: ='Marc-Olivier Benoit'!G122 -> 0 | G33: ='Marc-Olivier Benoit'!B7 -> #DIV/0! | H33: ='Marc-Olivier Benoit'!K122 -> -0.39583333 | I33: 0.048611111 | J33: =H33-I33 -> -0.44444444 | K33: =B33-J33-I33 -> 0.72916667 | L33: =K33/B33 -> 2.1875 | M33: =VLOOKUP(C33,'Clients complets'!A:F,6,0) -> #N/A | N33: T
A34: Christian Naud-Cavion | B34: 0.33333333 | C34: cxnaudca | D34: ='Christian Naud-Cavion'!B6 -> 0.36252315 | E34: ='Christian Naud-Cavion'!B8 -> 0 | F34: ='Christian Naud-Cavion'!G122 -> 0 | G34: ='Christian Naud-Cavion'!B7 -> #DIV/0! | H34: ='Christian Naud-Cavion'!K122 -> -0.39583333 | I34: 0.048611111 | J34: =H34-I34 -> -0.44444444 | K34: =B34-J34-I34 -> 0.72916667 | L34: =K34/B34 -> 2.1875 | M34: =VLOOKUP(C34,'Clients complets'!A:F,6,0) -> #N/A | N34: T
A35: Oum-Khaltoum Aboudou | B35: 0.33333333 | C35: OXABOUDO | D35: ='Christian Naud-Cavion'!B6 -> 0.36252315 | E35: ='Oum-Khaltoum Aboudou'!B8 -> 0 | F35: ='Oum-Khaltoum Aboudou'!G122 -> 0 | G35: ='Oum-Khaltoum Aboudou'!B7 -> #DIV/0! | H35: ='Oum-Khaltoum Aboudou'!K122 -> -0.39583333 | I35: 0.048611111 | J35: =H35-I35 -> -0.44444444 | K35: =B35-J35-I35 -> 0.72916667 | L35: =K35/B35 -> 2.1875 | M35: =VLOOKUP(C35,'Clients complets'!A:F,6,0) -> #N/A | N35: T
A36: Risto Karev | B36: 0.33333333 | C36: rxkarev | D36: ='Risto Karev'!B6 -> 0.3527662 | E36: ='Risto Karev'!B8 -> 0 | F36: ='Risto Karev'!G122 -> 0 | G36: ='Risto Karev'!B7 -> #DIV/0! | H36: ='Risto Karev'!K122 -> -0.39583333 | I36: 0.048611111 | J36: =H36-I36 -> -0.44444444 | K36: =B36-J36-I36 -> 0.72916667 | L36: =K36/B36 -> 2.1875 | M36: =VLOOKUP(C36,'Clients complets'!A:F,6,0) -> #N/A | N36: T
A37: Sam Allocca | B37: 0.33333333 | C37: SXALLOCC | D37: ='Sam Allocca'!B6 -> 0.36111111 | E37: ='Sam Allocca'!B8 -> 0 | F37: ='Sam Allocca'!G122 -> 0 | G37: ='Sam Allocca'!B7 -> #DIV/0! | H37: ='Sam Allocca'!K122 -> -0.39583333 | I37: 0.048611111 | J37: =H37-I37 -> -0.44444444 | K37: =B37-J37-I37 -> 0.72916667 | L37: =K37/B37 -> 2.1875 | M37: =VLOOKUP(C37,'Clients complets'!A:F,6,0) -> #N/A | N37: T
A38: Vanessa Lavoie | B38: 0.33333333 | C38: vxlavoie | D38: ='Vanessa Lavoie'!B6 -> 0.34846065 | E38: ='Vanessa Lavoie'!B8 -> 0 | F38: ='Vanessa Lavoie'!G122 -> 0 | G38: ='Vanessa Lavoie'!B7 -> #DIV/0! | H38: ='Vanessa Lavoie'!K122 -> -0.39583333 | I38: 0.048611111 | J38: =H38-I38 -> -0.44444444 | K38: =B38-J38-I38 -> 0.72916667 | L38: =K38/B38 -> 2.1875 | M38: =VLOOKUP(C38,'Clients complets'!A:F,6,0) -> #N/A | N38: T
H39: =AVERAGE(H10:H38) -> -0.39583333
A40: INBOUND
A41: Nom de l’agent | B41: Heures travaillées | D41: Heure 1er appel | E41: Heure fin du dernier appel | F41: Nombre d'appels | G41: TTA | H41: Temps entre appels | I41: Temps clerical accorde | J41: Temps pris en trop | K41: Temps en appel | L41: Pourcentage de temps en appel | M41: Note
A42: André Delisle | B42: 0.33333333 | D42: ='André Delisle'!B6 -> 0.34018519 | E42: ='André Delisle'!B8 -> 0 | F42: ='André Delisle'!G122 -> 0 | G42: ='André Delisle'!B7 -> #DIV/0! | H42: ='André Delisle'!K122 -> -0.39583333 | I42: 0.048611111 | J42: =H42-I42 -> -0.44444444 | K42: =B42-J42-I42 -> 0.72916667 | L42: =K42/B42 -> 2.1875
A43: Daphnee Jean Noel | B43: 0.33333333 | D43: ='Daphnee Jean Noel'!B6 -> 0.34049769 | E43: ='Daphnee Jean Noel'!B8 -> 0 | F43: ='Daphnee Jean Noel'!G122 -> 0 | G43: ='Daphnee Jean Noel'!B7 -> #DIV/0! | H43: ='Daphnee Jean Noel'!K122 -> -0.39583333 | I43: 0.048611111 | J43: =H43-I43 -> -0.44444444 | K43: =B43-J43-I43 -> 0.72916667 | L43: =K43/B43 -> 2.1875
A44: Felipe Barrios | B44: 0.33333333 | D44: ='Felipe Barrios'!B6 -> 0.33539352 | E44: ='Felipe Barrios'!B8 -> 0 | F44: ='Felipe Barrios'!G122 -> 0 | G44: ='Felipe Barrios'!B7 -> #DIV/0! | H44: ='Felipe Barrios'!K122 -> -0.39583333 | I44: 0.048611111 | J44: =H44-I44 -> -0.44444444 | K44: =B44-J44-I44 -> 0.72916667 | L44: =K44/B44 -> 2.1875
A45: Alexandre Dion | B45: 0.33333333 | D45: ='Alexandre Dion'!B6 -> 0.35921296 | E45: ='Alexandre Dion'!B8 -> 0 | F45: ='Alexandre Dion'!G122 -> 0 | G45: ='Alexandre Dion'!B7 -> #DIV/0! | H45: ='Alexandre Dion'!K122 -> -0.39583333 | I45: 0.048611111 | J45: =H45-I45 -> -0.44444444 | K45: =B45-J45-I45 -> 0.72916667 | L45: =K45/B45 -> 2.1875
A46: Nicolas Simard | B46: 0.33333333 | D46: ='Nicolas Simard'!B6 -> 0.33899306 | E46: ='Nicolas Simard'!B8 -> 0 | F46: ='Nicolas Simard'!G122 -> 0 | G46: ='Nicolas Simard'!B7 -> #DIV/0! | H46: ='Nicolas Simard'!K122 -> -0.25 | I46: 0.048611111 | J46: =H42-I42 -> -0.44444444 | K46: =B46-J46-I46 -> 0.72916667 | L46: =K46/B46 -> 2.1875
A48: EDI / LOYAUTÉ
A49: Nom de l’agent | B49: Heures travaillées | D49: Heure 1er appel | E49: Heure fin du dernier appel | G49: TTA | H49: Temps entre appels | I49: Temps clerical accorde | J49: Temps pris en trop | K49: Temps en appel | L49: Pourcentage de temps en appel | M49: Pourcentage de temps en appel | N49: Note
A50: Pierre Levac | B50: 0.33333333 | D50: ='Pierre Levac'!B16 -> 0 | E50: ='Pierre Levac'!B18 -> 0 | G50: ='Pierre Levac'!B17 -> 0 | H50: ='Pierre Levac'!K132 -> 0 | I50: 0.048611111 | J50: =H50-I50 -> -0.048611111 | K50: =B50-J50-I50 -> 0.33333333 | L50: =K50/B50 -> 1 | M50: =L50*(#REF!/$L$8) -> #REF!
A51: Miguel Jannard | B51: 0.33333333 | E51: ='Miguel Jannard'!G8 -> 0 | G51: ='Miguel Jannard'!B7 -> #DIV/0! | H51: ='Miguel Jannard'!K122 -> -0.39583333 | I51: 0.048611111 | J51: =H51-I51 -> -0.44444444 | K51: =B51-J51-I51 -> 0.72916667 | L51: =K51/B51 -> 2.1875 | M51: =L51*(#REF!/$L$8) -> #REF!

Sheet Tableau Corpo Inbound
A1: Rapport Journalier - Rapport Calabrio - Analyse de la gestion du temps
A4: ='Micheline Julien'!A5 -> Date : | G4: ='Micheline Julien'!B5 -> 0
A6: TTA Équipe | G6: ='Tableau Corpo'!H6 -> 0
A7: TTA Inbound | G7: =AVERAGE(#REF!) -> #REF! | K7: Objectif | L7: Objectif
I8: Obj <01:00:00 | K8: 0.8 | L8: 1
A9: Nom de l’agent | B9: Heures travaillées | D9: Heure 1er appel | E9: Heure fin du dernier appel | F9: TTA | G9: Temps entre appels | H9: Temps clerical accorde | I9: Temps pris en trop | J9: Temps en appel | K9: Pourcentage de temps en appel | L9: Pourcentage de temps en appel | M9: Clients complets | N9: Statut
A10: André Delisle | B10: 0.33333333 | D10: ='André Delisle'!#REF! -> #REF! | E10: ='André Delisle'!#REF! -> #REF! | F10: ='André Delisle'!#REF! -> #REF! | G10: ='André Delisle'!K91 -> 0 | H10: 0.0625 | I10: =G10-H10 -> -0.0625 | J10: =B10-I10-H10 -> 0.33333333 | K10: =J10/B10 -> 1 | L10: =K10*($L$8/$K$8) -> 1.25 | M10: =VLOOKUP(#REF!,'Clients complets'!A:F,6,0) -> #REF! | N10: P
A11: Daphnee Jean Noel | B11: 0.33333333 | D11: ='Daphnee Jean Noel'!#REF! -> #REF! | E11: ='Daphnee Jean Noel'!#REF! -> #REF! | F11: ='Daphnee Jean Noel'!#REF! -> #REF! | G11: ='Daphnee Jean Noel'!K91 -> 0 | H11: 0.0625 | I11: =G11-H11 -> -0.0625 | J11: =B11-I11-H11 -> 0.33333333 | K11: =J11/B11 -> 1 | L11: =K11*($L$8/$K$8) -> 1.25 | M11: =VLOOKUP(#REF!,'Clients complets'!A:F,6,0) -> #REF! | N11: P
A12: Felipe Barrios | B12: 0.33333333 | D12: ='Felipe Barrios'!#REF! -> #REF! | E12: ='Felipe Barrios'!#REF! -> #REF! | F12: ='Felipe Barrios'!#REF! -> #REF! | G12: ='Felipe Barrios'!K91 -> 0 | H12: 0.0625 | I12: =G12-H12 -> -0.0625 | J12: =B12-I12-H12 -> 0.33333333 | K12: =J12/B12 -> 1 | L12: =K12*($L$8/$K$8) -> 1.25 | M12: =VLOOKUP(#REF!,'Clients complets'!A:F,6,0) -> #REF! | N12: P
A13: Alexandre Dion | B13: 0.33333333 | D13: ='Alexandre Dion'!#REF! -> #REF! | E13: ='Alexandre Dion'!#REF! -> #REF! | F13: ='Alexandre Dion'!#REF! -> #REF! | G13: ='Alexandre Dion'!K91 -> 0 | H13: 0.0625 | I13: =G13-H13 -> -0.0625 | J13: =B13-I13-H13 -> 0.33333333 | K13: =J13/B13 -> 1 | L13: =K13*($L$8/$K$8) -> 1.25
A14: Nicolas Simard | B14: 0.1875 | D14: ='Nicolas Simard'!#REF! -> #REF! | E14: ='Nicolas Simard'!#REF! -> #REF! | F14: ='Nicolas Simard'!#REF! -> #REF! | G14: ='Nicolas Simard'!K91 -> 0 | H14: 0.0625 | I14: =G10-H10 -> -0.0625 | J14: =B14-I14-H14 -> 0.1875 | K14: =J14/B14 -> 1 | L14: =K14*($L$8/$K$8) -> 1.25 | M14: =VLOOKUP(#REF!,'Clients complets'!A:F,6,0) -> #REF! | N14: P

Sheet Christian Naud-Cavion
A1: Christian Naud-Cavion
A3: Analyse de la gestion du temps
K4: ='Micheline Julien'!K4 -> Jeudi | L4: ='Micheline Julien'!L4 -> 0.0625
A5: Date : | B5: ='Micheline Julien'!B5 -> 0
A6: Heure premier appel | B6: 0.36252315
A7: TTA | B7: =AVERAGE(F10:F121) -> #DIV/0!
A8: Heure fin dernier | B8: =D10+F10 -> 0
A9: Nom | B9: Prénom | C9: Date | D9: Heure | E9: Étalonné | F9: Durée de l'appel | G9: ID de l'agent | I9: H fin d'appels | J9: Tps entre appels | K9: Temps entre les appels moins pauses
I10: =IFERROR(D10+F10,"") -> 0 | J10: =IFERROR(D9-I10,"")
I11: =IFERROR(D11+F11,"") -> 0 | J11: =IFERROR(D10-I11,"") -> 0
I12: =IFERROR(D12+F12,"") -> 0 | J12: =IFERROR(D11-I12,"") -> 0
I13: =IFERROR(D13+F13,"") -> 0 | J13: =IFERROR(D12-I13,"") -> 0
I14: =IFERROR(D14+F14,"") -> 0 | J14: =IFERROR(D13-I14,"") -> 0
I15: =IFERROR(D15+F15,"") -> 0 | J15: =IFERROR(D14-I15,"") -> 0
I16: =IFERROR(D16+F16,"") -> 0 | J16: =IFERROR(D15-I16,"") -> 0
I17: =IFERROR(D17+F17,"") -> 0 | J17: =IFERROR(D16-I17,"") -> 0
I18: =IFERROR(D18+F18,"") -> 0 | J18: =IFERROR(D17-I18,"") -> 0
I19: =IFERROR(D19+F19,"") -> 0 | J19: =IFERROR(D18-I19,"") -> 0
I20: =IFERROR(D20+F20,"") -> 0 | J20: =IFERROR(D19-I20,"") -> 0
I21: =IFERROR(D21+F21,"") -> 0 | J21: =IFERROR(D20-I21,"") -> 0
... I120: =IFERROR(D120+F120,"") -> 0 | J120: =IFERROR(D119-I120,"") -> 0
D121: ='Micheline Julien'!D121 -> 0.33333333 | I121: =IFERROR(D121+F121,"") -> 0.33333333 | J121: =IFERROR(D120-I121,"") -> -0.33333333
F122: =SUM(F10:F121) -> 0 | G122: =SUM(G10:G121) -> 0 | J122: =SUM(J11:J121) -> -0.33333333 | K122: =J122-L4 -> -0.39583333

Sheet Anthony Roobby
A1: Anthony Roobby
A3: Analyse de la gestion du temps
K4: ='Micheline Julien'!K4 -> Jeudi | L4: ='Micheline Julien'!L4 -> 0.0625
A5: Date : | B5: ='Micheline Julien'!B5 -> 0
A6: Heure premier appel | B6: 0.34375
A7: TTA | B7: =AVERAGE(F10:F121) -> #DIV/0!
A8: Heure fin dernier | B8: =D10+F10 -> 0
A9: Nom | B9: Prénom | C9: Date | D9: Heure | E9: Étalonné | F9: Durée de l'appel | G9: ID de l'agent | I9: H fin d'appels | J9: Tps entre appels | K9: Temps entre les appels moins pauses
I10: =IFERROR(D10+F10,"") -> 0 | J10: =IFERROR(D9-I10,"")
I11: =IFERROR(D11+F11,"") -> 0 | J11: =IFERROR(D10-I11,"") -> 0
I12: =IFERROR(D12+F12,"") -> 0 | J12: =IFERROR(D11-I12,"") -> 0
I13: =IFERROR(D13+F13,"") -> 0 | J13: =IFERROR(D12-I13,"") -> 0
I14: =IFERROR(D14+F14,"") -> 0 | J14: =IFERROR(D13-I14,"") -> 0
I15: =IFERROR(D15+F15,"") -> 0 | J15: =IFERROR(D14-I15,"") -> 0
I16: =IFERROR(D16+F16,"") -> 0 | J16: =IFERROR(D15-I16,"") -> 0
I17: =IFERROR(D17+F17,"") -> 0 | J17: =IFERROR(D16-I17,"") -> 0
I18: =IFERROR(D18+F18,"") -> 0 | J18: =IFERROR(D17-I18,"") -> 0
I19: =IFERROR(D19+F19,"") -> 0 | J19: =IFERROR(D18-I19,"") -> 0
I20: =IFERROR(D20+F20,"") -> 0 | J20: =IFERROR(D19-I20,"") -> 0
I21: =IFERROR(D21+F21,"") -> 0 | J21: =IFERROR(D20-I21,"") -> 0
... I120: =IFERROR(D120+F120,"") -> 0 | J120: =IFERROR(D119-I120,"") -> 0
D121: ='Micheline Julien'!D121 -> 0.33333333 | I121: =IFERROR(D121+F121,"") -> 0.33333333 | J121: =IFERROR(D120-I121,"") -> -0.33333333
F122: =SUM(F10:F121) -> 0 | G122: =SUM(G10:G121) -> 0 | J122: =SUM(J11:J121) -> -0.33333333 | K122: =J122-L4 -> -0.39583333

Sheet Tableau Corpo Projet
A1: Rapport Journalier - Rapport Calabrio - Analyse de la gestion du temps
A4: ='Micheline Julien'!A5 -> Date : | G4: ='Micheline Julien'!B5 -> 0
A6: TTA Équipe | G6: ='Tableau Corpo'!H6 -> 0
A9: Nom de l’agent | B9: ID de l’agent | C9: Partenaire | D9: Statut | E9: Heure 1er appel | F9: TTA | G9: Temps entre appels | H9: Temps clerical accorde | I9: Temps pris en trop | J9: Projet
A10: Miguel Jannard | B10: mxjannar | C10: 901378 | D10: T | E10: ='Miguel Jannard'!B6 -> 0.34693287 | F10: ='Miguel Jannard'!B7 -> #DIV/0! | G10: ='Miguel Jannard'!K122 -> -0.39583333 | H10: 0.05625 | I10: =G10-H10 -> -0.45208333 | J10: saisonnier
A11: Olivier Sarrazin | B11: oxsarraz | C11: 901296 | D11: P | E11: ='Olivier Sarrazin'!B6 -> 0 | F11: ='Olivier Sarrazin'!B7 -> #DIV/0! | G11: ='Olivier Sarrazin'!K122 -> -0.39583333 | H11: 0.05625 | I11: =G11-H11 -> -0.45208333 | J11: edi
A12: Alexander Baptiste | B12: axbaptis | C12: 901309 | D12: P
A13: Alexandre Dion | B13: axdion | C13: 900751 | D13: P
A14: André Delisle | B14: axdelisl | C14: 901305 | D14: T
A15: Andrée-Ann Sirard | B15: axsirard | C15: 901290 | D15: P
A16: Benoit Lebrun | B16: bxlebrun | C16: 900157 | D16: P
A17: Carole Proulx | B17: cxproulx | C17: 900134 | D17: P
A18: Cassendra Duclair | B18: cxduclai | C18: 901302 | D18: T
A19: Darlyne Aristhenes | B19: dxaristh | C19: 901325 | D19: T
A20: David Kansy | B20: dxkensy | C20: 900718 | D20: T
A21: Felipe Barrios | B21: fxbarrio | C21: 900164 | D21: P
A22: Francine Houle | B22: fxhoule | C22: 900137 | D22: P
A23: Francis Gosselin | B23: fxgossel | C23: 900172 | D23: P
... A45: Vincent Bruno | B45: vxbruno | C45: 901371 | D45: P
A49: Autre

Sheet Vanessa Lavoie
A1: Vanessa Lavoie
A3: Analyse de la gestion du temps
K4: ='Micheline Julien'!K4 -> Jeudi | L4: ='Micheline Julien'!L4 -> 0.0625
A5: Date : | B5: ='Micheline Julien'!B5 -> 0
A6: Heure premier appel | B6: 0.34846065
A7: TTA | B7: =AVERAGE(F10:F121) -> #DIV/0!
A8: Heure fin dernier | B8: =D10+F10 -> 0
A9: Nom | B9: Prénom | C9: Date | D9: Heure | E9: Étalonné | F9: Durée de l'appel | G9: ID de l'agent | I9: H fin d'appels | J9: Tps entre appels | K9: Temps entre les appels moins pauses
I10: =IFERROR(D10+F10,"") -> 0 | J10: =IFERROR(D9-I10,"")
I11: =IFERROR(D11+F11,"") -> 0 | J11: =IFERROR(D10-I11,"") -> 0
I12: =IFERROR(D12+F12,"") -> 0 | J12: =IFERROR(D11-I12,"") -> 0
I13: =IFERROR(D13+F13,"") -> 0 | J13: =IFERROR(D12-I13,"") -> 0
I14: =IFERROR(D14+F14,"") -> 0 | J14: =IFERROR(D13-I14,"") -> 0
I15: =IFERROR(D15+F15,"") -> 0 | J15: =IFERROR(D14-I15,"") -> 0
I16: =IFERROR(D16+F16,"") -> 0 | J16: =IFERROR(D15-I16,"") -> 0
I17: =IFERROR(D17+F17,"") -> 0 | J17: =IFERROR(D16-I17,"") -> 0
I18: =IFERROR(D18+F18,"") -> 0 | J18: =IFERROR(D17-I18,"") -> 0
I19: =IFERROR(D19+F19,"") -> 0 | J19: =IFERROR(D18-I19,"") -> 0
I20: =IFERROR(D20+F20,"") -> 0 | J20: =IFERROR(D19-I20,"") -> 0
I21: =IFERROR(D21+F21,"") -> 0 | J21: =IFERROR(D20-I21,"") -> 0
... I120: =IFERROR(D120+F120,"") -> 0 | J120: =IFERROR(D119-I120,"") -> 0
D121: ='Micheline Julien'!D121 -> 0.33333333 | I121: =IFERROR(D121+F121,"") -> 0.33333333 | J121: =IFERROR(D120-I121,"") -> -0.33333333
F122: =SUM(F10:F121) -> 0 | G122: =SUM(G10:G121) -> 0 | J122: =SUM(J11:J121) -> -0.33333333 | K122: =J122-L4 -> -0.39583333

Sheet Marc-Olivier Benoit
A1: Marc-Olivier Benoit
A3: Analyse de la gestion du temps
K4: ='Micheline Julien'!K4 -> Jeudi | L4: ='Micheline Julien'!L4 -> 0.0625
A5: Date : | B5: ='Micheline Julien'!B5 -> 0
A6: Heure premier appel | B6: 0.34859954
A7: TTA | B7: =AVERAGE(F10:F121) -> #DIV/0!
A8: Heure fin dernier | B8: =D10+F10 -> 0
A9: Nom | B9: Prénom | C9: Date | D9: Heure | E9: Étalonné | F9: Durée de l'appel | G9: ID de l'agent | I9: H fin d'appels | J9: Tps entre appels | K9: Temps entre les appels moins pauses
I10: =IFERROR(D10+F10,"") -> 0 | J10: =IFERROR(D9-I10,"")
I11: =IFERROR(D11+F11,"") -> 0 | J11: =IFERROR(D10-I11,"") -> 0
I12: =IFERROR(D12+F12,"") -> 0 | J12: =IFERROR(D11-I12,"") -> 0
I13: =IFERROR(D13+F13,"") -> 0 | J13: =IFERROR(D12-I13,"") -> 0
I14: =IFERROR(D14+F14,"") -> 0 | J14: =IFERROR(D13-I14,"") -> 0
I15: =IFERROR(D15+F15,"") -> 0 | J15: =IFERROR(D14-I15,"") -> 0
I16: =IFERROR(D16+F16,"") -> 0 | J16: =IFERROR(D15-I16,"") -> 0
I17: =IFERROR(D17+F17,"") -> 0 | J17: =IFERROR(D16-I17,"") -> 0
I18: =IFERROR(D18+F18,"") -> 0 | J18: =IFERROR(D17-I18,"") -> 0
I19: =IFERROR(D19+F19,"") -> 0 | J19: =IFERROR(D18-I19,"") -> 0
I20: =IFERROR(D20+F20,"") -> 0 | J20: =IFERROR(D19-I20,"") -> 0
I21: =IFERROR(D21+F21,"") -> 0 | J21: =IFERROR(D20-I21,"") -> 0
... I120: =IFERROR(D120+F120,"") -> 0 | J120: =IFERROR(D119-I120,"") -> 0
D121: ='Micheline Julien'!D121 -> 0.33333333 | I121: =IFERROR(D121+F121,"") -> 0.33333333 | J121: =IFERROR(D120-I121,"") -> -0.33333333
F122: =SUM(F10:F121) -> 0 | G122: =SUM(G10:G121) -> 0 | J122: =SUM(J11:J121) -> -0.33333333 | K122: =J122-L4 -> -0.39583333

Sheet Alexandre Gaudreault
A1: Alexandre Gaudreault
A3: Analyse de la gestion du temps
K4: ='Micheline Julien'!K4 -> Jeudi | L4: ='Micheline Julien'!L4 -> 0.0625
A5: Date : | B5: ='Micheline Julien'!B5 -> 0
A6: Heure premier appel | B6: 0.34111111
A7: TTA | B7: =AVERAGE(F10:F121) -> #DIV/0!
A8: Heure fin dernier | B8: =D10+F10 -> 0
A9: Nom | B9: Prénom | C9: Date | D9: Heure | E9: Étalonné | F9: Durée de l'appel | G9: ID de l'agent | I9: H fin d'appels | J9: Tps entre appels | K9: Temps entre les appels moins pauses
I10: =IFERROR(D10+F10,"") -> 0 | J10: =IFERROR(D9-I10,"")
I11: =IFERROR(D11+F11,"") -> 0 | J11: =IFERROR(D10-I11,"") -> 0
I12: =IFERROR(D12+F12,"") -> 0 | J12: =IFERROR(D11-I12,"") -> 0
I13: =IFERROR(D13+F13,"") -> 0 | J13: =IFERROR(D12-I13,"") -> 0
I14: =IFERROR(D14+F14,"") -> 0 | J14: =IFERROR(D13-I14,"") -> 0
I15: =IFERROR(D15+F15,"") -> 0 | J15: =IFERROR(D14-I15,"") -> 0
I16: =IFERROR(D16+F16,"") -> 0 | J16: =IFERROR(D15-I16,"") -> 0
I17: =IFERROR(D17+F17,"") -> 0 | J17: =IFERROR(D16-I17,"") -> 0
I18: =IFERROR(D18+F18,"") -> 0 | J18: =IFERROR(D17-I18,"") -> 0
I19: =IFERROR(D19+F19,"") -> 0 | J19: =IFERROR(D18-I19,"") -> 0
I20: =IFERROR(D20+F20,"") -> 0 | J20: =IFERROR(D19-I20,"") -> 0
I21: =IFERROR(D21+F21,"") -> 0 | J21: =IFERROR(D20-I21,"") -> 0
... I120: =IFERROR(D120+F120,"") -> 0 | J120: =IFERROR(D119-I120,"") -> 0
D121: ='Micheline Julien'!D121 -> 0.33333333 | I121: =IFERROR(D121+F121,"") -> 0.33333333 | J121: =IFERROR(D120-I121,"") -> -0.33333333
F122: =SUM(F10:F121) -> 0 | G122: =SUM(G10:G121) -> 0 | J122: =SUM(J11:J121) -> -0.33333333 | K122: =J122-L4 -> -0.39583333

Sheet Sam Allocca
A1: Sam Allocca
A3: Analyse de la gestion du temps
K4: ='Micheline Julien'!K4 -> Jeudi | L4: ='Micheline Julien'!L4 -> 0.0625
A5: Date : | B5: ='Micheline Julien'!B5 -> 0
A6: Heure premier appel | B6: 0.36111111
A7: TTA | B7: =AVERAGE(F10:F121) -> #DIV/0!
A8: Heure fin dernier | B8: =D10+F10 -> 0
A9: Nom | B9: Prénom | C9: Date | D9: Heure | E9: Étalonné | F9: Durée de l'appel | G9: ID de l'agent | I9: H fin d'appels | J9: Tps entre appels | K9: Temps entre les appels moins pauses
I10: =IFERROR(D10+F10,"") -> 0 | J10: =IFERROR(D9-I10,"")
I11: =IFERROR(D11+F11,"") -> 0 | J11: =IFERROR(D10-I11,"") -> 0
I12: =IFERROR(D12+F12,"") -> 0 | J12: =IFERROR(D11-I12,"") -> 0
I13: =IFERROR(D13+F13,"") -> 0 | J13: =IFERROR(D12-I13,"") -> 0
I14: =IFERROR(D14+F14,"") -> 0 | J14: =IFERROR(D13-I14,"") -> 0
I15: =IFERROR(D15+F15,"") -> 0 | J15: =IFERROR(D14-I15,"") -> 0
I16: =IFERROR(D16+F16,"") -> 0 | J16: =IFERROR(D15-I16,"") -> 0
I17: =IFERROR(D17+F17,"") -> 0 | J17: =IFERROR(D16-I17,"") -> 0
I18: =IFERROR(D18+F18,"") -> 0 | J18: =IFERROR(D17-I18,"") -> 0
I19: =IFERROR(D19+F19,"") -> 0 | J19: =IFERROR(D18-I19,"") -> 0
I20: =IFERROR(D20+F20,"") -> 0 | J20: =IFERROR(D19-I20,"") -> 0
I21: =IFERROR(D21+F21,"") -> 0 | J21: =IFERROR(D20-I21,"") -> 0
... I120: =IFERROR(D120+F120,"") -> 0 | J120: =IFERROR(D119-I120,"") -> 0
D121: ='Micheline Julien'!D121 -> 0.33333333 | I121: =IFERROR(D121+F121,"") -> 0.33333333 | J121: =IFERROR(D120-I121,"") -> -0.33333333
F122: =SUM(F10:F121) -> 0 | G122: =SUM(G10:G121) -> 0 | J122: =SUM(J11:J121) -> -0.33333333 | K122: =J122-L4 -> -0.39583333

Sheet Micheline Julien
A1: Micheline Julien
A3: Analyse de la gestion du temps
K4: Jeudi | L4: 0.0625
A5: Date :
A6: Heure premier appel
A7: TTA | B7: =AVERAGE(F10:F121) -> #DIV/0!
A8: Heure fin dernier | B8: =D10+F10 -> 0
A9: Nom | B9: Prénom | C9: Date | D9: Heure | E9: Étalonné | F9: Durée de l'appel | G9: ID de l'agent | I9: H fin d'appels | J9: Tps entre appels | K9: Temps entre les appels moins pauses
I10: =IFERROR(D10+F10,"") -> 0 | J10: =IFERROR(D9-I10,"")
I11: =IFERROR(D11+F11,"") -> 0 | J11: =IFERROR(D10-I11,"") -> 0
I12: =IFERROR(D12+F12,"") -> 0 | J12: =IFERROR(D11-I12,"") -> 0
I13: =IFERROR(D13+F13,"") -> 0 | J13: =IFERROR(D12-I13,"") -> 0
I14: =IFERROR(D14+F14,"") -> 0 | J14: =IFERROR(D13-I14,"") -> 0
I15: =IFERROR(D15+F15,"") -> 0 | J15: =IFERROR(D14-I15,"") -> 0
I16: =IFERROR(D16+F16,"") -> 0 | J16: =IFERROR(D15-I16,"") -> 0
I17: =IFERROR(D17+F17,"") -> 0 | J17: =IFERROR(D16-I17,"") -> 0
I18: =IFERROR(D18+F18,"") -> 0 | J18: =IFERROR(D17-I18,"") -> 0
I19: =IFERROR(D19+F19,"") -> 0 | J19: =IFERROR(D18-I19,"") -> 0
I20: =IFERROR(D20+F20,"") -> 0 | J20: =IFERROR(D19-I20,"") -> 0
I21: =IFERROR(D21+F21,"") -> 0 | J21: =IFERROR(D20-I21,"") -> 0
... I120: =IFERROR(D120+F120,"") -> 0 | J120: =IFERROR(D119-I120,"") -> 0
D121: 0.33333333 | I121: =IFERROR(D121+F121,"") -> 0.33333333 | J121: =IFERROR(D120-I121,"") -> -0.33333333
F122: =SUM(F10:F121) -> 0 | G122: =SUM(G10:G121) -> 0 | J122: =SUM(J11:J121) -> -0.33333333 | K122: =J122-L4 -> -0.39583333

Sheet Martine Hétu
A1: Martine Hétu
A3: Analyse de la gestion du temps
K4: ='Micheline Julien'!K4 -> Jeudi | L4: ='Micheline Julien'!L4 -> 0.0625
A5: Date : | B5: ='Micheline Julien'!B5 -> 0
A6: Heure premier appel | B6: 0.34233796
A7: TTA | B7: =AVERAGE(F10:F121) -> #DIV/0!
A8: Heure fin dernier | B8: =D10+F10 -> 0
A9: Nom | B9: Prénom | C9: Date | D9: Heure | E9: Étalonné | F9: Durée de l'appel | G9: ID de l'agent | I9: H fin d'appels | J9: Tps entre appels | K9: Temps entre les appels moins pauses
I10: =IFERROR(D10+F10,"") -> 0 | J10: =IFERROR(D9-I10,"")
I11: =IFERROR(D11+F11,"") -> 0 | J11: =IFERROR(D10-I11,"") -> 0
I12: =IFERROR(D12+F12,"") -> 0 | J12: =IFERROR(D11-I12,"") -> 0
I13: =IFERROR(D13+F13,"") -> 0 | J13: =IFERROR(D12-I13,"") -> 0
I14: =IFERROR(D14+F14,"") -> 0 | J14: =IFERROR(D13-I14,"") -> 0
I15: =IFERROR(D15+F15,"") -> 0 | J15: =IFERROR(D14-I15,"") -> 0
I16: =IFERROR(D16+F16,"") -> 0 | J16: =IFERROR(D15-I16,"") -> 0
I17: =IFERROR(D17+F17,"") -> 0 | J17: =IFERROR(D16-I17,"") -> 0
I18: =IFERROR(D18+F18,"") -> 0 | J18: =IFERROR(D17-I18,"") -> 0
I19: =IFERROR(D19+F19,"") -> 0 | J19: =IFERROR(D18-I19,"") -> 0
I20: =IFERROR(D20+F20,"") -> 0 | J20: =IFERROR(D19-I20,"") -> 0
I21: =IFERROR(D21+F21,"") -> 0 | J21: =IFERROR(D20-I21,"") -> 0
... I120: =IFERROR(D120+F120,"") -> 0 | J120: =IFERROR(D119-I120,"") -> 0
D121: ='Micheline Julien'!D121 -> 0.33333333 | I121: =IFERROR(D121+F121,"") -> 0.33333333 | J121: =IFERROR(D120-I121,"") -> -0.33333333
F122: =SUM(F10:F121) -> 0 | G122: =SUM(G10:G121) -> 0 | J122: =SUM(J11:J121) -> -0.33333333 | K122: =J122-L4 -> -0.39583333

Sheet Robert Cardinal
A1: Robert Cardinal
A3: Analyse de la gestion du temps
K4: ='Micheline Julien'!K4 -> Jeudi | L4: ='Micheline Julien'!L4 -> 0.0625
A5: Date : | B5: ='Micheline Julien'!B5 -> 0
A6: Heure premier appel
A7: TTA | B7: =AVERAGE(F10:F121) -> #DIV/0!
A8: Heure fin dernier | B8: =D10+F10 -> 0
A9: Nom | B9: Prénom | C9: Date | D9: Heure | E9: Étalonné | F9: Durée de l'appel | G9: ID de l'agent | I9: H fin d'appels | J9: Tps entre appels | K9: Temps entre les appels moins pauses
I10: =IFERROR(D10+F10,"") -> 0 | J10: =IFERROR(D9-I10,"")
I11: =IFERROR(D11+F11,"") -> 0 | J11: =IFERROR(D10-I11,"") -> 0
I12: =IFERROR(D12+F12,"") -> 0 | J12: =IFERROR(D11-I12,"") -> 0
I13: =IFERROR(D13+F13,"") -> 0 | J13: =IFERROR(D12-I13,"") -> 0
I14: =IFERROR(D14+F14,"") -> 0 | J14: =IFERROR(D13-I14,"") -> 0
I15: =IFERROR(D15+F15,"") -> 0 | J15: =IFERROR(D14-I15,"") -> 0
I16: =IFERROR(D16+F16,"") -> 0 | J16: =IFERROR(D15-I16,"") -> 0
I17: =IFERROR(D17+F17,"") -> 0 | J17: =IFERROR(D16-I17,"") -> 0
I18: =IFERROR(D18+F18,"") -> 0 | J18: =IFERROR(D17-I18,"") -> 0
I19: =IFERROR(D19+F19,"") -> 0 | J19: =IFERROR(D18-I19,"") -> 0
I20: =IFERROR(D20+F20,"") -> 0 | J20: =IFERROR(D19-I20,"") -> 0
I21: =IFERROR(D21+F21,"") -> 0 | J21: =IFERROR(D20-I21,"") -> 0
... I120: =IFERROR(D120+F120,"") -> 0 | J120: =IFERROR(D119-I120,"") -> 0
D121: ='Micheline Julien'!D121 -> 0.33333333 | I121: =IFERROR(D121+F121,"") -> 0.33333333 | J121: =IFERROR(D120-I121,"") -> -0.33333333
F122: =SUM(F10:F121) -> 0 | G122: =SUM(G10:G121) -> 0 | J122: =SUM(J11:J121) -> -0.33333333 | K122: =J122-L4 -> -0.39583333

Sheet Sophie Melancon
A1: Sophie Melancon
A3: Analyse de la gestion du temps
K4: ='Micheline Julien'!K4 -> Jeudi | L4: ='Micheline Julien'!L4 -> 0.0625
A5: Date : | B5: ='Micheline Julien'!B5 -> 0
A6: Heure premier appel | B6: 0.3434375
A7: TTA | B7: =AVERAGE(F10:F121) -> #DIV/0!
A8: Heure fin dernier | B8: =D10+F10 -> 0
A9: Nom | B9: Prénom | C9: Date | D9: Heure | E9: Étalonné | F9: Durée de l'appel | G9: ID de l'agent | I9: H fin d'appels | J9: Tps entre appels | K9: Temps entre les appels moins pauses
I10: =IFERROR(D10+F10,"") -> 0 | J10: =IFERROR(D9-I10,"")
I11: =IFERROR(D11+F11,"") -> 0 | J11: =IFERROR(D10-I11,"") -> 0
I12: =IFERROR(D12+F12,"") -> 0 | J12: =IFERROR(D11-I12,"") -> 0
I13: =IFERROR(D13+F13,"") -> 0 | J13: =IFERROR(D12-I13,"") -> 0
I14: =IFERROR(D14+F14,"") -> 0 | J14: =IFERROR(D13-I14,"") -> 0
I15: =IFERROR(D15+F15,"") -> 0 | J15: =IFERROR(D14-I15,"") -> 0
I16: =IFERROR(D16+F16,"") -> 0 | J16: =IFERROR(D15-I16,"") -> 0
I17: =IFERROR(D17+F17,"") -> 0 | J17: =IFERROR(D16-I17,"") -> 0
I18: =IFERROR(D18+F18,"") -> 0 | J18: =IFERROR(D17-I18,"") -> 0
I19: =IFERROR(D19+F19,"") -> 0 | J19: =IFERROR(D18-I19,"") -> 0
I20: =IFERROR(D20+F20,"") -> 0 | J20: =IFERROR(D19-I20,"") -> 0
I21: =IFERROR(D21+F21,"") -> 0 | J21: =IFERROR(D20-I21,"") -> 0
... I120: =IFERROR(D120+F120,"") -> 0 | J120: =IFERROR(D119-I120,"") -> 0
D121: ='Micheline Julien'!D121 -> 0.33333333 | I121: =IFERROR(D121+F121,"") -> 0.33333333 | J121: =IFERROR(D120-I121,"") -> -0.33333333
F122: =SUM(F10:F121) -> 0 | G122: =SUM(G10:G121) -> 0 | J122: =SUM(J11:J121) -> -0.33333333 | K122: =J122-L4 -> -0.39583333

Sheet Nicolas Simard
A1: Nicolas Simard
A3: Analyse de la gestion du temps
K4: ='Micheline Julien'!K4 -> Jeudi | L4: ='Micheline Julien'!L4 -> 0.0625
A5: Date : | B5: ='Micheline Julien'!B5 -> 0
A6: Heure premier appel | B6: 0.33899306
A7: TTA | B7: =AVERAGE(F10:F121) -> #DIV/0!
A8: Heure fin dernier | B8: =D10+F10 -> 0
A9: Nom | B9: Prénom | C9: Date | D9: Heure | E9: Étalonné | F9: Durée de l'appel | G9: ID de l'agent | I9: H fin d'appels | J9: Tps entre appels | K9: Temps entre les appels moins pauses
I10: =IFERROR(D10+F10,"") -> 0 | J10: =IFERROR(D9-I10,"")
I11: =IFERROR(D11+F11,"") -> 0 | J11: =IFERROR(D10-I11,"") -> 0
I12: =IFERROR(D12+F12,"") -> 0 | J12: =IFERROR(D11-I12,"") -> 0
I13: =IFERROR(D13+F13,"") -> 0 | J13: =IFERROR(D12-I13,"") -> 0
I14: =IFERROR(D14+F14,"") -> 0 | J14: =IFERROR(D13-I14,"") -> 0
I15: =IFERROR(D15+F15,"") -> 0 | J15: =IFERROR(D14-I15,"") -> 0
I16: =IFERROR(D16+F16,"") -> 0 | J16: =IFERROR(D15-I16,"") -> 0
I17: =IFERROR(D17+F17,"") -> 0 | J17: =IFERROR(D16-I17,"") -> 0
I18: =IFERROR(D18+F18,"") -> 0 | J18: =IFERROR(D17-I18,"") -> 0
I19: =IFERROR(D19+F19,"") -> 0 | J19: =IFERROR(D18-I19,"") -> 0
I20: =IFERROR(D20+F20,"") -> 0 | J20: =IFERROR(D19-I20,"") -> 0
I21: =IFERROR(D21+F21,"") -> 0 | J21: =IFERROR(D20-I21,"") -> 0
... I120: =IFERROR(D120+F120,"") -> 0 | J120: =IFERROR(D119-I120,"") -> 0
D121: 0.1875 | I121: =IFERROR(D121+F121,"") -> 0.1875 | J121: =IFERROR(D120-I121,"") -> -0.1875
F122: =SUM(F10:F121) -> 0 | G122: =SUM(G10:G121) -> 0 | J122: =SUM(J11:J121) -> -0.1875 | K122: =J122-L4 -> -0.25

Sheet Carole Proulx
A1: Carole Proulx
A3: Analyse de la gestion du temps
K4: ='Micheline Julien'!K4 -> Jeudi | L4: ='Micheline Julien'!L4 -> 0.0625
A5: Date : | B5: ='Micheline Julien'!B5 -> 0
A6: Heure premier appel | B6: 0.33561343
A7: TTA | B7: =AVERAGE(F10:F121) -> #DIV/0!
A8: Heure fin dernier | B8: =D10+F10 -> 0
A9: Nom | B9: Prénom | C9: Date | D9: Heure | E9: Étalonné | F9: Durée de l'appel | G9: ID de l'agent | I9: H fin d'appels | J9: Tps entre appels | K9: Temps entre les appels moins pauses
I10: =IFERROR(D10+F10,"") -> 0 | J10: =IFERROR(D9-I10,"")
I11: =IFERROR(D11+F11,"") -> 0 | J11: =IFERROR(D10-I11,"") -> 0
I12: =IFERROR(D12+F12,"") -> 0 | J12: =IFERROR(D11-I12,"") -> 0
I13: =IFERROR(D13+F13,"") -> 0 | J13: =IFERROR(D12-I13,"") -> 0
I14: =IFERROR(D14+F14,"") -> 0 | J14: =IFERROR(D13-I14,"") -> 0
I15: =IFERROR(D15+F15,"") -> 0 | J15: =IFERROR(D14-I15,"") -> 0
I16: =IFERROR(D16+F16,"") -> 0 | J16: =IFERROR(D15-I16,"") -> 0
I17: =IFERROR(D17+F17,"") -> 0 | J17: =IFERROR(D16-I17,"") -> 0
I18: =IFERROR(D18+F18,"") -> 0 | J18: =IFERROR(D17-I18,"") -> 0
I19: =IFERROR(D19+F19,"") -> 0 | J19: =IFERROR(D18-I19,"") -> 0
I20: =IFERROR(D20+F20,"") -> 0 | J20: =IFERROR(D19-I20,"") -> 0
I21: =IFERROR(D21+F21,"") -> 0 | J21: =IFERROR(D20-I21,"") -> 0
... I120: =IFERROR(D120+F120,"") -> 0 | J120: =IFERROR(D119-I120,"") -> 0
D121: ='Micheline Julien'!D121 -> 0.33333333 | I121: =IFERROR(D121+F121,"") -> 0.33333333 | J121: =IFERROR(D120-I121,"") -> -0.33333333
F122: =SUM(F10:F121) -> 0 | G122: =SUM(G10:G121) -> 0 | J122: =SUM(J11:J121) -> -0.33333333 | K122: =J122-L4 -> -0.39583333

Sheet Solange Langlois
A1: Solange Langlois
A3: Analyse de la gestion du temps
K4: ='Micheline Julien'!K4 -> Jeudi | L4: ='Micheline Julien'!L4 -> 0.0625
A5: Date : | B5: ='Micheline Julien'!B5 -> 0
A6: Heure premier appel
A7: TTA | B7: =AVERAGE(F10:F121) -> #DIV/0!
A8: Heure fin dernier | B8: =D10+F10 -> 0
A9: Nom | B9: Prénom | C9: Date | D9: Heure | E9: Étalonné | F9: Durée de l'appel | G9: ID de l'agent | I9: H fin d'appels | J9: Tps entre appels | K9: Temps entre les appels moins pauses
I10: =IFERROR(D10+F10,"") -> 0 | J10: =IFERROR(D9-I10,"")
I11: =IFERROR(D11+F11,"") -> 0 | J11: =IFERROR(D10-I11,"") -> 0
I12: =IFERROR(D12+F12,"") -> 0 | J12: =IFERROR(D11-I12,"") -> 0
I13: =IFERROR(D13+F13,"") -> 0 | J13: =IFERROR(D12-I13,"") -> 0
I14: =IFERROR(D14+F14,"") -> 0 | J14: =IFERROR(D13-I14,"") -> 0
I15: =IFERROR(D15+F15,"") -> 0 | J15: =IFERROR(D14-I15,"") -> 0
I16: =IFERROR(D16+F16,"") -> 0 | J16: =IFERROR(D15-I16,"") -> 0
I17: =IFERROR(D17+F17,"") -> 0 | J17: =IFERROR(D16-I17,"") -> 0
I18: =IFERROR(D18+F18,"") -> 0 | J18: =IFERROR(D17-I18,"") -> 0
I19: =IFERROR(D19+F19,"") -> 0 | J19: =IFERROR(D18-I19,"") -> 0
I20: =IFERROR(D20+F20,"") -> 0 | J20: =IFERROR(D19-I20,"") -> 0
I21: =IFERROR(D21+F21,"") -> 0 | J21: =IFERROR(D20-I21,"") -> 0
... I120: =IFERROR(D120+F120,"") -> 0 | J120: =IFERROR(D119-I120,"") -> 0
D121: ='Micheline Julien'!D121 -> 0.33333333 | I121: =IFERROR(D121+F121,"") -> 0.33333333 | J121: =IFERROR(D120-I121,"") -> -0.33333333
F122: =SUM(F10:F121) -> 0 | G122: =SUM(G10:G121) -> 0 | J122: =SUM(J11:J121) -> -0.33333333 | K122: =J122-L4 -> -0.39583333

Sheet Pierre Levac
A1: Pierre Levac
A3: Analyse de la gestion du temps
K4: ='Micheline Julien'!K4 -> Jeudi | L4: ='Micheline Julien'!L4 -> 0.0625
A5: Date : | B5: ='Micheline Julien'!B5 -> 0
A6: Heure premier appel
A7: TTA | B7: =AVERAGE(F10:F121) -> #DIV/0!
A8: Heure fin dernier | B8: =D10+F10 -> 0
A9: Nom | B9: Prénom | C9: Date | D9: Heure | E9: Étalonné | F9: Durée de l'appel | G9: ID de l'agent | I9: H fin d'appels | J9: Tps entre appels | K9: Temps entre les appels moins pauses
I10: =IFERROR(D10+F10,"") -> 0 | J10: =IFERROR(D9-I10,"")
I11: =IFERROR(D11+F11,"") -> 0 | J11: =IFERROR(D10-I11,"") -> 0
I12: =IFERROR(D12+F12,"") -> 0 | J12: =IFERROR(D11-I12,"") -> 0
I13: =IFERROR(D13+F13,"") -> 0 | J13: =IFERROR(D12-I13,"") -> 0
I14: =IFERROR(D14+F14,"") -> 0 | J14: =IFERROR(D13-I14,"") -> 0
I15: =IFERROR(D15+F15,"") -> 0 | J15: =IFERROR(D14-I15,"") -> 0
I16: =IFERROR(D16+F16,"") -> 0 | J16: =IFERROR(D15-I16,"") -> 0
I17: =IFERROR(D17+F17,"") -> 0 | J17: =IFERROR(D16-I17,"") -> 0
I18: =IFERROR(D18+F18,"") -> 0 | J18: =IFERROR(D17-I18,"") -> 0
I19: =IFERROR(D19+F19,"") -> 0 | J19: =IFERROR(D18-I19,"") -> 0
I20: =IFERROR(D20+F20,"") -> 0 | J20: =IFERROR(D19-I20,"") -> 0
I21: =IFERROR(D21+F21,"") -> 0 | J21: =IFERROR(D20-I21,"") -> 0
... I120: =IFERROR(D120+F120,"") -> 0 | J120: =IFERROR(D119-I120,"") -> 0
D121: ='Micheline Julien'!D121 -> 0.33333333 | I121: =IFERROR(D121+F121,"") -> 0.33333333 | J121: =IFERROR(D120-I121,"") -> -0.33333333
F122: =SUM(F10:F121) -> 0 | G122: =SUM(G10:G121) -> 0 | J122: =SUM(J11:J121) -> -0.33333333 | K122: =J122-L4 -> -0.39583333

Sheet Manon Loiseau
A1: Manon Loiseau
A3: Analyse de la gestion du temps
K4: ='Micheline Julien'!K4 -> Jeudi | L4: ='Micheline Julien'!L4 -> 0.0625
A5: Date : | B5: ='Micheline Julien'!B5 -> 0
A6: Heure premier appel | B6: 0.34630787
A7: TTA | B7: =AVERAGE(F10:F121) -> #DIV/0!
A8: Heure fin dernier | B8: =D10+F10 -> 0
A9: Nom | B9: Prénom | C9: Date | D9: Heure | E9: Étalonné | F9: Durée de l'appel | G9: ID de l'agent | I9: H fin d'appels | J9: Tps entre appels | K9: Temps entre les appels moins pauses
I10: =IFERROR(D10+F10,"") -> 0 | J10: =IFERROR(D9-I10,"")
I11: =IFERROR(D11+F11,"") -> 0 | J11: =IFERROR(D10-I11,"") -> 0
I12: =IFERROR(D12+F12,"") -> 0 | J12: =IFERROR(D11-I12,"") -> 0
I13: =IFERROR(D13+F13,"") -> 0 | J13: =IFERROR(D12-I13,"") -> 0
I14: =IFERROR(D14+F14,"") -> 0 | J14: =IFERROR(D13-I14,"") -> 0
I15: =IFERROR(D15+F15,"") -> 0 | J15: =IFERROR(D14-I15,"") -> 0
I16: =IFERROR(D16+F16,"") -> 0 | J16: =IFERROR(D15-I16,"") -> 0
I17: =IFERROR(D17+F17,"") -> 0 | J17: =IFERROR(D16-I17,"") -> 0
I18: =IFERROR(D18+F18,"") -> 0 | J18: =IFERROR(D17-I18,"") -> 0
I19: =IFERROR(D19+F19,"") -> 0 | J19: =IFERROR(D18-I19,"") -> 0
I20: =IFERROR(D20+F20,"") -> 0 | J20: =IFERROR(D19-I20,"") -> 0
I21: =IFERROR(D21+F21,"") -> 0 | J21: =IFERROR(D20-I21,"") -> 0
... I120: =IFERROR(D120+F120,"") -> 0 | J120: =IFERROR(D119-I120,"") -> 0
D121: ='Micheline Julien'!D121 -> 0.33333333 | I121: =IFERROR(D121+F121,"") -> 0.33333333 | J121: =IFERROR(D120-I121,"") -> -0.33333333
F122: =SUM(F10:F121) -> 0 | G122: =SUM(G10:G121) -> 0 | J122: =SUM(J11:J121) -> -0.33333333 | K122: =J122-L4 -> -0.39583333

Sheet Francine Houle
A1: Francine Houle
A3: Analyse de la gestion du temps
K4: ='Micheline Julien'!K4 -> Jeudi | L4: ='Micheline Julien'!L4 -> 0.0625
A5: Date : | B5: ='Micheline Julien'!B5 -> 0
A6: Heure premier appel | B6: 0.33530093
A7: TTA | B7: =AVERAGE(F10:F121) -> #DIV/0!
A8: Heure fin dernier | B8: =D10+F10 -> 0
A9: Nom | B9: Prénom | C9: Date | D9: Heure | E9: Étalonné | F9: Durée de l'appel | G9: ID de l'agent | I9: H fin d'appels | J9: Tps entre appels | K9: Temps entre les appels moins pauses
I10: =IFERROR(D10+F10,"") -> 0 | J10: =IFERROR(D9-I10,"")
I11: =IFERROR(D11+F11,"") -> 0 | J11: =IFERROR(D10-I11,"") -> 0
I12: =IFERROR(D12+F12,"") -> 0 | J12: =IFERROR(D11-I12,"") -> 0
I13: =IFERROR(D13+F13,"") -> 0 | J13: =IFERROR(D12-I13,"") -> 0
I14: =IFERROR(D14+F14,"") -> 0 | J14: =IFERROR(D13-I14,"") -> 0
I15: =IFERROR(D15+F15,"") -> 0 | J15: =IFERROR(D14-I15,"") -> 0
I16: =IFERROR(D16+F16,"") -> 0 | J16: =IFERROR(D15-I16,"") -> 0
I17: =IFERROR(D17+F17,"") -> 0 | J17: =IFERROR(D16-I17,"") -> 0
I18: =IFERROR(D18+F18,"") -> 0 | J18: =IFERROR(D17-I18,"") -> 0
I19: =IFERROR(D19+F19,"") -> 0 | J19: =IFERROR(D18-I19,"") -> 0
I20: =IFERROR(D20+F20,"") -> 0 | J20: =IFERROR(D19-I20,"") -> 0
I21: =IFERROR(D21+F21,"") -> 0 | J21: =IFERROR(D20-I21,"") -> 0
... I120: =IFERROR(D120+F120,"") -> 0 | J120: =IFERROR(D119-I120,"") -> 0
D121: ='Micheline Julien'!D121 -> 0.33333333 | I121: =IFERROR(D121+F121,"") -> 0.33333333 | J121: =IFERROR(D120-I121,"") -> -0.33333333
F122: =SUM(F10:F121) -> 0 | G122: =SUM(G10:G121) -> 0 | J122: =SUM(J11:J121) -> -0.33333333 | K122: =J122-L4 -> -0.39583333

Sheet Sylvia Xu
A1: Sylvia Xu
A3: Analyse de la gestion du temps
K4: ='Micheline Julien'!K4 -> Jeudi | L4: ='Micheline Julien'!L4 -> 0.0625
A5: Date : | B5: ='Micheline Julien'!B5 -> 0
A6: Heure premier appel | B6: 0.33795139
A7: TTA | B7: =AVERAGE(F10:F121) -> #DIV/0!
A8: Heure fin dernier | B8: =D10+F10 -> 0
A9: Nom | B9: Prénom | C9: Date | D9: Heure | E9: Étalonné | F9: Durée de l'appel | G9: ID de l'agent | I9: H fin d'appels | J9: Tps entre appels | K9: Temps entre les appels moins pauses
I10: =IFERROR(D10+F10,"") -> 0 | J10: =IFERROR(D9-I10,"")
I11: =IFERROR(D11+F11,"") -> 0 | J11: =IFERROR(D10-I11,"") -> 0
I12: =IFERROR(D12+F12,"") -> 0 | J12: =IFERROR(D11-I12,"") -> 0
I13: =IFERROR(D13+F13,"") -> 0 | J13: =IFERROR(D12-I13,"") -> 0
I14: =IFERROR(D14+F14,"") -> 0 | J14: =IFERROR(D13-I14,"") -> 0
I15: =IFERROR(D15+F15,"") -> 0 | J15: =IFERROR(D14-I15,"") -> 0
I16: =IFERROR(D16+F16,"") -> 0 | J16: =IFERROR(D15-I16,"") -> 0
I17: =IFERROR(D17+F17,"") -> 0 | J17: =IFERROR(D16-I17,"") -> 0
I18: =IFERROR(D18+F18,"") -> 0 | J18: =IFERROR(D17-I18,"") -> 0
I19: =IFERROR(D19+F19,"") -> 0 | J19: =IFERROR(D18-I19,"") -> 0
I20: =IFERROR(D20+F20,"") -> 0 | J20: =IFERROR(D19-I20,"") -> 0
I21: =IFERROR(D21+F21,"") -> 0 | J21: =IFERROR(D20-I21,"") -> 0
... I120: =IFERROR(D120+F120,"") -> 0 | J120: =IFERROR(D119-I120,"") -> 0
D121: ='Micheline Julien'!D121 -> 0.33333333 | I121: =IFERROR(D121+F121,"") -> 0.33333333 | J121: =IFERROR(D120-I121,"") -> -0.33333333
F122: =SUM(F10:F121) -> 0 | G122: =SUM(G10:G121) -> 0 | J122: =SUM(J11:J121) -> -0.33333333 | K122: =J122-L4 -> -0.39583333

Sheet Naima Aboutahir
A1: Naima Aboutahir
A3: Analyse de la gestion du temps
K4: ='Micheline Julien'!K4 -> Jeudi | L4: ='Micheline Julien'!L4 -> 0.0625
A5: Date : | B5: ='Micheline Julien'!B5 -> 0
A6: Heure premier appel
A7: TTA | B7: =AVERAGE(F10:F121) -> #DIV/0!
A8: Heure fin dernier | B8: =D10+F10 -> 0
A9: Nom | B9: Prénom | C9: Date | D9: Heure | E9: Étalonné | F9: Durée de l'appel | G9: ID de l'agent | I9: H fin d'appels | J9: Tps entre appels | K9: Temps entre les appels moins pauses
I10: =IFERROR(D10+F10,"") -> 0 | J10: =IFERROR(D9-I10,"")
I11: =IFERROR(D11+F11,"") -> 0 | J11: =IFERROR(D10-I11,"") -> 0
I12: =IFERROR(D12+F12,"") -> 0 | J12: =IFERROR(D11-I12,"") -> 0
I13: =IFERROR(D13+F13,"") -> 0 | J13: =IFERROR(D12-I13,"") -> 0
I14: =IFERROR(D14+F14,"") -> 0 | J14: =IFERROR(D13-I14,"") -> 0
I15: =IFERROR(D15+F15,"") -> 0 | J15: =IFERROR(D14-I15,"") -> 0
I16: =IFERROR(D16+F16,"") -> 0 | J16: =IFERROR(D15-I16,"") -> 0
I17: =IFERROR(D17+F17,"") -> 0 | J17: =IFERROR(D16-I17,"") -> 0
I18: =IFERROR(D18+F18,"") -> 0 | J18: =IFERROR(D17-I18,"") -> 0
I19: =IFERROR(D19+F19,"") -> 0 | J19: =IFERROR(D18-I19,"") -> 0
I20: =IFERROR(D20+F20,"") -> 0 | J20: =IFERROR(D19-I20,"") -> 0
I21: =IFERROR(D21+F21,"") -> 0 | J21: =IFERROR(D20-I21,"") -> 0
... I120: =IFERROR(D120+F120,"") -> 0 | J120: =IFERROR(D119-I120,"") -> 0
D121: ='Micheline Julien'!D121 -> 0.33333333 | I121: =IFERROR(D121+F121,"") -> 0.33333333 | J121: =IFERROR(D120-I121,"") -> -0.33333333
F122: =SUM(F10:F121) -> 0 | G122: =SUM(G10:G121) -> 0 | J122: =SUM(J11:J121) -> -0.33333333 | K122: =J122-L4 -> -0.39583333

Sheet Marilyn Lemay
A1: Marilyn Lemay
A3: Analyse de la gestion du temps
K4: ='Micheline Julien'!K4 -> Jeudi | L4: ='Micheline Julien'!L4 -> 0.0625
A5: Date : | B5: ='Micheline Julien'!B5 -> 0
A6: Heure premier appel
A7: TTA | B7: =AVERAGE(F10:F121) -> #DIV/0!
A8: Heure fin dernier | B8: =D10+F10 -> 0
A9: Nom | B9: Prénom | C9: Date | D9: Heure | E9: Étalonné | F9: Durée de l'appel | G9: ID de l'agent | I9: H fin d'appels | J9: Tps entre appels | K9: Temps entre les appels moins pauses
I10: =IFERROR(D10+F10,"") -> 0 | J10: =IFERROR(D9-I10,"")
I11: =IFERROR(D11+F11,"") -> 0 | J11: =IFERROR(D10-I11,"") -> 0
I12: =IFERROR(D12+F12,"") -> 0 | J12: =IFERROR(D11-I12,"") -> 0
I13: =IFERROR(D13+F13,"") -> 0 | J13: =IFERROR(D12-I13,"") -> 0
I14: =IFERROR(D14+F14,"") -> 0 | J14: =IFERROR(D13-I14,"") -> 0
I15: =IFERROR(D15+F15,"") -> 0 | J15: =IFERROR(D14-I15,"") -> 0
I16: =IFERROR(D16+F16,"") -> 0 | J16: =IFERROR(D15-I16,"") -> 0
I17: =IFERROR(D17+F17,"") -> 0 | J17: =IFERROR(D16-I17,"") -> 0
I18: =IFERROR(D18+F18,"") -> 0 | J18: =IFERROR(D17-I18,"") -> 0
I19: =IFERROR(D19+F19,"") -> 0 | J19: =IFERROR(D18-I19,"") -> 0
I20: =IFERROR(D20+F20,"") -> 0 | J20: =IFERROR(D19-I20,"") -> 0
I21: =IFERROR(D21+F21,"") -> 0 | J21: =IFERROR(D20-I21,"") -> 0
... I120: =IFERROR(D120+F120,"") -> 0 | J120: =IFERROR(D119-I120,"") -> 0
D121: ='Micheline Julien'!D121 -> 0.33333333 | I121: =IFERROR(D121+F121,"") -> 0.33333333 | J121: =IFERROR(D120-I121,"") -> -0.33333333
F122: =SUM(F10:F121) -> 0 | G122: =SUM(G10:G121) -> 0 | J122: =SUM(J11:J121) -> -0.33333333 | K122: =J122-L4 -> -0.39583333

Sheet Vincent Bruno
A1: Vincent Bruno
A3: Analyse de la gestion du temps
K4: ='Micheline Julien'!K4 -> Jeudi | L4: ='Micheline Julien'!L4 -> 0.0625
A5: Date : | B5: ='Micheline Julien'!B5 -> 0
A6: Heure premier appel | B6: 0.3497338
A7: TTA | B7: =AVERAGE(F10:F121) -> #DIV/0!
A8: Heure fin dernier | B8: =D10+F10 -> 0
A9: Nom | B9: Prénom | C9: Date | D9: Heure | E9: Étalonné | F9: Durée de l'appel | G9: ID de l'agent | I9: H fin d'appels | J9: Tps entre appels | K9: Temps entre les appels moins pauses
I10: =IFERROR(D10+F10,"") -> 0 | J10: =IFERROR(D9-I10,"")
I11: =IFERROR(D11+F11,"") -> 0 | J11: =IFERROR(D10-I11,"") -> 0
I12: =IFERROR(D12+F12,"") -> 0 | J12: =IFERROR(D11-I12,"") -> 0
I13: =IFERROR(D13+F13,"") -> 0 | J13: =IFERROR(D12-I13,"") -> 0
I14: =IFERROR(D14+F14,"") -> 0 | J14: =IFERROR(D13-I14,"") -> 0
I15: =IFERROR(D15+F15,"") -> 0 | J15: =IFERROR(D14-I15,"") -> 0
I16: =IFERROR(D16+F16,"") -> 0 | J16: =IFERROR(D15-I16,"") -> 0
I17: =IFERROR(D17+F17,"") -> 0 | J17: =IFERROR(D16-I17,"") -> 0
I18: =IFERROR(D18+F18,"") -> 0 | J18: =IFERROR(D17-I18,"") -> 0
I19: =IFERROR(D19+F19,"") -> 0 | J19: =IFERROR(D18-I19,"") -> 0
I20: =IFERROR(D20+F20,"") -> 0 | J20: =IFERROR(D19-I20,"") -> 0
I21: =IFERROR(D21+F21,"") -> 0 | J21: =IFERROR(D20-I21,"") -> 0
... I120: =IFERROR(D120+F120,"") -> 0 | J120: =IFERROR(D119-I120,"") -> 0
D121: ='Micheline Julien'!D121 -> 0.33333333 | I121: =IFERROR(D121+F121,"") -> 0.33333333 | J121: =IFERROR(D120-I121,"") -> -0.33333333
F122: =SUM(F10:F121) -> 0 | G122: =SUM(G10:G121) -> 0 | J122: =SUM(J11:J121) -> -0.33333333 | K122: =J122-L4 -> -0.39583333

Sheet Andrée-Ann Sirard
A1: Andrée-Ann Sirard
A3: Analyse de la gestion du temps
K4: ='Micheline Julien'!K4 -> Jeudi | L4: ='Micheline Julien'!L4 -> 0.0625
A5: Date : | B5: ='Micheline Julien'!B5 -> 0
A6: Heure premier appel
A7: TTA | B7: =AVERAGE(F10:F121) -> #DIV/0!
A8: Heure fin dernier | B8: =D10+F10 -> 0
A9: Nom | B9: Prénom | C9: Date | D9: Heure | E9: Étalonné | F9: Durée de l'appel | G9: ID de l'agent | I9: H fin d'appels | J9: Tps entre appels | K9: Temps entre les appels moins pauses
I10: =IFERROR(D10+F10,"") -> 0 | J10: =IFERROR(D9-I10,"")
I11: =IFERROR(D11+F11,"") -> 0 | J11: =IFERROR(D10-I11,"") -> 0
I12: =IFERROR(D12+F12,"") -> 0 | J12: =IFERROR(D11-I12,"") -> 0
I13: =IFERROR(D13+F13,"") -> 0 | J13: =IFERROR(D12-I13,"") -> 0
I14: =IFERROR(D14+F14,"") -> 0 | J14: =IFERROR(D13-I14,"") -> 0
I15: =IFERROR(D15+F15,"") -> 0 | J15: =IFERROR(D14-I15,"") -> 0
I16: =IFERROR(D16+F16,"") -> 0 | J16: =IFERROR(D15-I16,"") -> 0
I17: =IFERROR(D17+F17,"") -> 0 | J17: =IFERROR(D16-I17,"") -> 0
I18: =IFERROR(D18+F18,"") -> 0 | J18: =IFERROR(D17-I18,"") -> 0
I19: =IFERROR(D19+F19,"") -> 0 | J19: =IFERROR(D18-I19,"") -> 0
I20: =IFERROR(D20+F20,"") -> 0 | J20: =IFERROR(D19-I20,"") -> 0
I21: =IFERROR(D21+F21,"") -> 0 | J21: =IFERROR(D20-I21,"") -> 0
... I120: =IFERROR(D120+F120,"") -> 0 | J120: =IFERROR(D119-I120,"") -> 0
D121: ='Micheline Julien'!D121 -> 0.33333333 | I121: =IFERROR(D121+F121,"") -> 0.33333333 | J121: =IFERROR(D120-I121,"") -> -0.33333333
F122: =SUM(F10:F121) -> 0 | G122: =SUM(G10:G121) -> 0 | J122: =SUM(J11:J121) -> -0.33333333 | K122: =J122-L4 -> -0.39583333

Sheet Olivier Sarrazin
A1: Olivier Sarrazin
A3: Analyse de la gestion du temps
K4: ='Micheline Julien'!K4 -> Jeudi | L4: ='Micheline Julien'!L4 -> 0.0625
A5: Date : | B5: ='Micheline Julien'!B5 -> 0
A6: Heure premier appel
A7: TTA | B7: =AVERAGE(F10:F121) -> #DIV/0!
A8: Heure fin dernier | B8: =D10+F10 -> 0
A9: Nom | B9: Prénom | C9: Date | D9: Heure | E9: Étalonné | F9: Durée de l'appel | G9: ID de l'agent | I9: H fin d'appels | J9: Tps entre appels | K9: Temps entre les appels moins pauses
I10: =IFERROR(D10+F10,"") -> 0 | J10: =IFERROR(D9-I10,"")
I11: =IFERROR(D11+F11,"") -> 0 | J11: =IFERROR(D10-I11,"") -> 0
I12: =IFERROR(D12+F12,"") -> 0 | J12: =IFERROR(D11-I12,"") -> 0
I13: =IFERROR(D13+F13,"") -> 0 | J13: =IFERROR(D12-I13,"") -> 0
I14: =IFERROR(D14+F14,"") -> 0 | J14: =IFERROR(D13-I14,"") -> 0
I15: =IFERROR(D15+F15,"") -> 0 | J15: =IFERROR(D14-I15,"") -> 0
I16: =IFERROR(D16+F16,"") -> 0 | J16: =IFERROR(D15-I16,"") -> 0
I17: =IFERROR(D17+F17,"") -> 0 | J17: =IFERROR(D16-I17,"") -> 0
I18: =IFERROR(D18+F18,"") -> 0 | J18: =IFERROR(D17-I18,"") -> 0
I19: =IFERROR(D19+F19,"") -> 0 | J19: =IFERROR(D18-I19,"") -> 0
I20: =IFERROR(D20+F20,"") -> 0 | J20: =IFERROR(D19-I20,"") -> 0
I21: =IFERROR(D21+F21,"") -> 0 | J21: =IFERROR(D20-I21,"") -> 0
... I120: =IFERROR(D120+F120,"") -> 0 | J120: =IFERROR(D119-I120,"") -> 0
D121: ='Micheline Julien'!D121 -> 0.33333333 | I121: =IFERROR(D121+F121,"") -> 0.33333333 | J121: =IFERROR(D120-I121,"") -> -0.33333333
F122: =SUM(F10:F121) -> 0 | G122: =SUM(G10:G121) -> 0 | J122: =SUM(J11:J121) -> -0.33333333 | K122: =J122-L4 -> -0.39583333

Sheet Alexis McCarthy
A1: Alexis McCarthy
A3: Analyse de la gestion du temps
K4: ='Micheline Julien'!K4 -> Jeudi | L4: ='Micheline Julien'!L4 -> 0.0625
A5: Date : | B5: ='Micheline Julien'!B5 -> 0
A6: Heure premier appel
A7: TTA | B7: =AVERAGE(F10:F121) -> #DIV/0!
A8: Heure fin dernier | B8: =D10+F10 -> 0
A9: Nom | B9: Prénom | C9: Date | D9: Heure | E9: Étalonné | F9: Durée de l'appel | G9: ID de l'agent | I9: H fin d'appels | J9: Tps entre appels | K9: Temps entre les appels moins pauses
I10: =IFERROR(D10+F10,"") -> 0 | J10: =IFERROR(D9-I10,"")
I11: =IFERROR(D11+F11,"") -> 0 | J11: =IFERROR(D10-I11,"") -> 0
I12: =IFERROR(D12+F12,"") -> 0 | J12: =IFERROR(D11-I12,"") -> 0
I13: =IFERROR(D13+F13,"") -> 0 | J13: =IFERROR(D12-I13,"") -> 0
I14: =IFERROR(D14+F14,"") -> 0 | J14: =IFERROR(D13-I14,"") -> 0
I15: =IFERROR(D15+F15,"") -> 0 | J15: =IFERROR(D14-I15,"") -> 0
I16: =IFERROR(D16+F16,"") -> 0 | J16: =IFERROR(D15-I16,"") -> 0
I17: =IFERROR(D17+F17,"") -> 0 | J17: =IFERROR(D16-I17,"") -> 0
I18: =IFERROR(D18+F18,"") -> 0 | J18: =IFERROR(D17-I18,"") -> 0
I19: =IFERROR(D19+F19,"") -> 0 | J19: =IFERROR(D18-I19,"") -> 0
I20: =IFERROR(D20+F20,"") -> 0 | J20: =IFERROR(D19-I20,"") -> 0
I21: =IFERROR(D21+F21,"") -> 0 | J21: =IFERROR(D20-I21,"") -> 0
... I120: =IFERROR(D120+F120,"") -> 0 | J120: =IFERROR(D119-I120,"") -> 0
D121: ='Micheline Julien'!D121 -> 0.33333333 | I121: =IFERROR(D121+F121,"") -> 0.33333333 | J121: =IFERROR(D120-I121,"") -> -0.33333333
F122: =SUM(F10:F121) -> 0 | G122: =SUM(G10:G121) -> 0 | J122: =SUM(J11:J121) -> -0.33333333 | K122: =J122-L4 -> -0.39583333

Sheet Patrick Pion
A1: Patrick Pion
A3: Analyse de la gestion du temps
K4: ='Micheline Julien'!K4 -> Jeudi | L4: ='Micheline Julien'!L4 -> 0.0625
A5: Date : | B5: ='Micheline Julien'!B5 -> 0
A6: Heure premier appel
A7: TTA | B7: =AVERAGE(F10:F121) -> #DIV/0!
A8: Heure fin dernier | B8: =D10+F10 -> 0
A9: Nom | B9: Prénom | C9: Date | D9: Heure | E9: Étalonné | F9: Durée de l'appel | G9: ID de l'agent | I9: H fin d'appels | J9: Tps entre appels | K9: Temps entre les appels moins pauses
I10: =IFERROR(D10+F10,"") -> 0 | J10: =IFERROR(D9-I10,"")
I11: =IFERROR(D11+F11,"") -> 0 | J11: =IFERROR(D10-I11,"") -> 0
I12: =IFERROR(D12+F12,"") -> 0 | J12: =IFERROR(D11-I12,"") -> 0
I13: =IFERROR(D13+F13,"") -> 0 | J13: =IFERROR(D12-I13,"") -> 0
I14: =IFERROR(D14+F14,"") -> 0 | J14: =IFERROR(D13-I14,"") -> 0
I15: =IFERROR(D15+F15,"") -> 0 | J15: =IFERROR(D14-I15,"") -> 0
I16: =IFERROR(D16+F16,"") -> 0 | J16: =IFERROR(D15-I16,"") -> 0
I17: =IFERROR(D17+F17,"") -> 0 | J17: =IFERROR(D16-I17,"") -> 0
I18: =IFERROR(D18+F18,"") -> 0 | J18: =IFERROR(D17-I18,"") -> 0
I19: =IFERROR(D19+F19,"") -> 0 | J19: =IFERROR(D18-I19,"") -> 0
I20: =IFERROR(D20+F20,"") -> 0 | J20: =IFERROR(D19-I20,"") -> 0
I21: =IFERROR(D21+F21,"") -> 0 | J21: =IFERROR(D20-I21,"") -> 0
... I120: =IFERROR(D120+F120,"") -> 0 | J120: =IFERROR(D119-I120,"") -> 0
D121: ='Micheline Julien'!D121 -> 0.33333333 | I121: =IFERROR(D121+F121,"") -> 0.33333333 | J121: =IFERROR(D120-I121,"") -> -0.33333333
F122: =SUM(F10:F121) -> 0 | G122: =SUM(G10:G121) -> 0 | J122: =SUM(J11:J121) -> -0.33333333 | K122: =J122-L4 -> -0.39583333

Sheet Felipe Barrios
A1: Felipe Barrios
A3: Analyse de la gestion du temps
K4: ='Micheline Julien'!K4 -> Jeudi | L4: ='Micheline Julien'!L4 -> 0.0625
A5: Date : | B5: ='Micheline Julien'!B5 -> 0
A6: Heure premier appel | B6: 0.33539352
A7: TTA | B7: =AVERAGE(F10:F121) -> #DIV/0!
A8: Heure fin dernier | B8: =D10+F10 -> 0
A9: Nom | B9: Prénom | C9: Date | D9: Heure | E9: Étalonné | F9: Durée de l'appel | G9: ID de l'agent | I9: H fin d'appels | J9: Tps entre appels | K9: Temps entre les appels moins pauses
I10: =IFERROR(D10+F10,"") -> 0 | J10: =IFERROR(D9-I10,"")
I11: =IFERROR(D11+F11,"") -> 0 | J11: =IFERROR(D10-I11,"") -> 0
I12: =IFERROR(D12+F12,"") -> 0 | J12: =IFERROR(D11-I12,"") -> 0
I13: =IFERROR(D13+F13,"") -> 0 | J13: =IFERROR(D12-I13,"") -> 0
I14: =IFERROR(D14+F14,"") -> 0 | J14: =IFERROR(D13-I14,"") -> 0
I15: =IFERROR(D15+F15,"") -> 0 | J15: =IFERROR(D14-I15,"") -> 0
I16: =IFERROR(D16+F16,"") -> 0 | J16: =IFERROR(D15-I16,"") -> 0
I17: =IFERROR(D17+F17,"") -> 0 | J17: =IFERROR(D16-I17,"") -> 0
I18: =IFERROR(D18+F18,"") -> 0 | J18: =IFERROR(D17-I18,"") -> 0
I19: =IFERROR(D19+F19,"") -> 0 | J19: =IFERROR(D18-I19,"") -> 0
I20: =IFERROR(D20+F20,"") -> 0 | J20: =IFERROR(D19-I20,"") -> 0
I21: =IFERROR(D21+F21,"") -> 0 | J21: =IFERROR(D20-I21,"") -> 0
... I120: =IFERROR(D120+F120,"") -> 0 | J120: =IFERROR(D119-I120,"") -> 0
D121: ='Micheline Julien'!D121 -> 0.33333333 | I121: =IFERROR(D121+F121,"") -> 0.33333333 | J121: =IFERROR(D120-I121,"") -> -0.33333333
F122: =SUM(F10:F121) -> 0 | G122: =SUM(G10:G121) -> 0 | J122: =SUM(J11:J121) -> -0.33333333 | K122: =J122-L4 -> -0.39583333

Sheet Alexandre Dion
A1: Alexandre Dion
A3: Analyse de la gestion du temps
K4: ='Micheline Julien'!K4 -> Jeudi | L4: 0.0625
A5: Date : | B5: ='Micheline Julien'!B5 -> 0
A6: Heure premier appel | B6: 0.35921296
A7: TTA | B7: =AVERAGE(F10:F121) -> #DIV/0!
A8: Heure fin dernier | B8: =D10+F10 -> 0
A9: Nom | B9: Prénom | C9: Date | D9: Heure | E9: Étalonné | F9: Durée de l'appel | G9: ID de l'agent | I9: H fin d'appels | J9: Tps entre appels | K9: Temps entre les appels moins pauses
I10: =IFERROR(D10+F10,"") -> 0 | J10: =IFERROR(D9-I10,"")
I11: =IFERROR(D11+F11,"") -> 0 | J11: =IFERROR(D10-I11,"") -> 0
I12: =IFERROR(D12+F12,"") -> 0 | J12: =IFERROR(D11-I12,"") -> 0
I13: =IFERROR(D13+F13,"") -> 0 | J13: =IFERROR(D12-I13,"") -> 0
I14: =IFERROR(D14+F14,"") -> 0 | J14: =IFERROR(D13-I14,"") -> 0
I15: =IFERROR(D15+F15,"") -> 0 | J15: =IFERROR(D14-I15,"") -> 0
I16: =IFERROR(D16+F16,"") -> 0 | J16: =IFERROR(D15-I16,"") -> 0
I17: =IFERROR(D17+F17,"") -> 0 | J17: =IFERROR(D16-I17,"") -> 0
I18: =IFERROR(D18+F18,"") -> 0 | J18: =IFERROR(D17-I18,"") -> 0
I19: =IFERROR(D19+F19,"") -> 0 | J19: =IFERROR(D18-I19,"") -> 0
I20: =IFERROR(D20+F20,"") -> 0 | J20: =IFERROR(D19-I20,"") -> 0
I21: =IFERROR(D21+F21,"") -> 0 | J21: =IFERROR(D20-I21,"") -> 0
... I120: =IFERROR(D120+F120,"") -> 0 | J120: =IFERROR(D119-I120,"") -> 0
D121: 0.33333333 | I121: =IFERROR(D121+F121,"") -> 0.33333333 | J121: =IFERROR(D120-I121,"") -> -0.33333333
F122: =SUM(F10:F121) -> 0 | G122: =SUM(G10:G121) -> 0 | J122: =SUM(J11:J121) -> -0.33333333 | K122: =J122-L4 -> -0.39583333

Sheet Daphnee Jean Noel
A1: Daphnee Jean Noel
A3: Analyse de la gestion du temps
K4: ='Micheline Julien'!K4 -> Jeudi | L4: ='Micheline Julien'!L4 -> 0.0625
A5: Date : | B5: ='Micheline Julien'!B5 -> 0
A6: Heure premier appel | B6: 0.34049769
A7: TTA | B7: =AVERAGE(F10:F121) -> #DIV/0!
A8: Heure fin dernier | B8: =D10+F10 -> 0
A9: Nom | B9: Prénom | C9: Date | D9: Heure | E9: Étalonné | F9: Durée de l'appel | G9: ID de l'agent | I9: H fin d'appels | J9: Tps entre appels | K9: Temps entre les appels moins pauses
I10: =IFERROR(D10+F10,"") -> 0 | J10: =IFERROR(D9-I10,"")
I11: =IFERROR(D11+F11,"") -> 0 | J11: =IFERROR(D10-I11,"") -> 0
I12: =IFERROR(D12+F12,"") -> 0 | J12: =IFERROR(D11-I12,"") -> 0
I13: =IFERROR(D13+F13,"") -> 0 | J13: =IFERROR(D12-I13,"") -> 0
I14: =IFERROR(D14+F14,"") -> 0 | J14: =IFERROR(D13-I14,"") -> 0
I15: =IFERROR(D15+F15,"") -> 0 | J15: =IFERROR(D14-I15,"") -> 0
I16: =IFERROR(D16+F16,"") -> 0 | J16: =IFERROR(D15-I16,"") -> 0
I17: =IFERROR(D17+F17,"") -> 0 | J17: =IFERROR(D16-I17,"") -> 0
I18: =IFERROR(D18+F18,"") -> 0 | J18: =IFERROR(D17-I18,"") -> 0
I19: =IFERROR(D19+F19,"") -> 0 | J19: =IFERROR(D18-I19,"") -> 0
I20: =IFERROR(D20+F20,"") -> 0 | J20: =IFERROR(D19-I20,"") -> 0
I21: =IFERROR(D21+F21,"") -> 0 | J21: =IFERROR(D20-I21,"") -> 0
... I120: =IFERROR(D120+F120,"") -> 0 | J120: =IFERROR(D119-I120,"") -> 0
D121: ='Micheline Julien'!D121 -> 0.33333333 | I121: =IFERROR(D121+F121,"") -> 0.33333333 | J121: =IFERROR(D120-I121,"") -> -0.33333333
F122: =SUM(F10:F121) -> 0 | G122: =SUM(G10:G121) -> 0 | J122: =SUM(J11:J121) -> -0.33333333 | K122: =J122-L4 -> -0.39583333

Sheet Francis Gosselin
A1: Francis Gosselin
A3: Analyse de la gestion du temps
K4: ='Micheline Julien'!K4 -> Jeudi | L4: ='Micheline Julien'!L4 -> 0.0625
A5: Date : | B5: ='Micheline Julien'!B5 -> 0
A6: Heure premier appel | B6: 0.33792824
A7: TTA | B7: =AVERAGE(F10:F121) -> #DIV/0!
A8: Heure fin dernier | B8: =D10+F10 -> 0
A9: Nom | B9: Prénom | C9: Date | D9: Heure | E9: Étalonné | F9: Durée de l'appel | G9: ID de l'agent | I9: H fin d'appels | J9: Tps entre appels | K9: Temps entre les appels moins pauses
I10: =IFERROR(D10+F10,"") -> 0 | J10: =IFERROR(D9-I10,"")
I11: =IFERROR(D11+F11,"") -> 0 | J11: =IFERROR(D10-I11,"") -> 0
I12: =IFERROR(D12+F12,"") -> 0 | J12: =IFERROR(D11-I12,"") -> 0
I13: =IFERROR(D13+F13,"") -> 0 | J13: =IFERROR(D12-I13,"") -> 0
I14: =IFERROR(D14+F14,"") -> 0 | J14: =IFERROR(D13-I14,"") -> 0
I15: =IFERROR(D15+F15,"") -> 0 | J15: =IFERROR(D14-I15,"") -> 0
I16: =IFERROR(D16+F16,"") -> 0 | J16: =IFERROR(D15-I16,"") -> 0
I17: =IFERROR(D17+F17,"") -> 0 | J17: =IFERROR(D16-I17,"") -> 0
I18: =IFERROR(D18+F18,"") -> 0 | J18: =IFERROR(D17-I18,"") -> 0
I19: =IFERROR(D19+F19,"") -> 0 | J19: =IFERROR(D18-I19,"") -> 0
I20: =IFERROR(D20+F20,"") -> 0 | J20: =IFERROR(D19-I20,"") -> 0
I21: =IFERROR(D21+F21,"") -> 0 | J21: =IFERROR(D20-I21,"") -> 0
... I120: =IFERROR(D120+F120,"") -> 0 | J120: =IFERROR(D119-I120,"") -> 0
D121: ='Micheline Julien'!D121 -> 0.33333333 | I121: =IFERROR(D121+F121,"") -> 0.33333333 | J121: =IFERROR(D120-I121,"") -> -0.33333333
F122: =SUM(F10:F121) -> 0 | G122: =SUM(G10:G121) -> 0 | J122: =SUM(J11:J121) -> -0.33333333 | K122: =J122-L4 -> -0.39583333

Sheet David Kansy
A1: David Kansy
A3: Analyse de la gestion du temps
K4: ='Micheline Julien'!K4 -> Jeudi | L4: ='Micheline Julien'!L4 -> 0.0625
A5: Date : | B5: ='Micheline Julien'!B5 -> 0
A6: Heure premier appel | B6: 0.34527778
A7: TTA | B7: =AVERAGE(F10:F121) -> #DIV/0!
A8: Heure fin dernier | B8: =D10+F10 -> 0
A9: Nom | B9: Prénom | C9: Date | D9: Heure | E9: Étalonné | F9: Durée de l'appel | G9: ID de l'agent | I9: H fin d'appels | J9: Tps entre appels | K9: Temps entre les appels moins pauses
I10: =IFERROR(D10+F10,"") -> 0 | J10: =IFERROR(D9-I10,"")
I11: =IFERROR(D11+F11,"") -> 0 | J11: =IFERROR(D10-I11,"") -> 0
I12: =IFERROR(D12+F12,"") -> 0 | J12: =IFERROR(D11-I12,"") -> 0
I13: =IFERROR(D13+F13,"") -> 0 | J13: =IFERROR(D12-I13,"") -> 0
I14: =IFERROR(D14+F14,"") -> 0 | J14: =IFERROR(D13-I14,"") -> 0
I15: =IFERROR(D15+F15,"") -> 0 | J15: =IFERROR(D14-I15,"") -> 0
I16: =IFERROR(D16+F16,"") -> 0 | J16: =IFERROR(D15-I16,"") -> 0
I17: =IFERROR(D17+F17,"") -> 0 | J17: =IFERROR(D16-I17,"") -> 0
I18: =IFERROR(D18+F18,"") -> 0 | J18: =IFERROR(D17-I18,"") -> 0
I19: =IFERROR(D19+F19,"") -> 0 | J19: =IFERROR(D18-I19,"") -> 0
I20: =IFERROR(D20+F20,"") -> 0 | J20: =IFERROR(D19-I20,"") -> 0
I21: =IFERROR(D21+F21,"") -> 0 | J21: =IFERROR(D20-I21,"") -> 0
... I120: =IFERROR(D120+F120,"") -> 0 | J120: =IFERROR(D119-I120,"") -> 0
D121: ='Micheline Julien'!D121 -> 0.33333333 | I121: =IFERROR(D121+F121,"") -> 0.33333333 | J121: =IFERROR(D120-I121,"") -> -0.33333333
F122: =SUM(F10:F121) -> 0 | G122: =SUM(G10:G121) -> 0 | J122: =SUM(J11:J121) -> -0.33333333 | K122: =J122-L4 -> -0.39583333

Sheet Miguel Jannard
A1: Miguel Jannard
A3: Analyse de la gestion du temps
K4: ='Micheline Julien'!K4 -> Jeudi | L4: ='Micheline Julien'!L4 -> 0.0625
A5: Date : | B5: ='Micheline Julien'!B5 -> 0
A6: Heure premier appel | B6: 0.34693287
A7: TTA | B7: =AVERAGE(F10:F121) -> #DIV/0!
A8: Heure fin dernier | B8: =D10+F10 -> 0
A9: Nom | B9: Prénom | C9: Date | D9: Heure | E9: Étalonné | F9: Durée de l'appel | G9: ID de l'agent | I9: H fin d'appels | J9: Tps entre appels | K9: Temps entre les appels moins pauses
I10: =IFERROR(D10+F10,"") -> 0 | J10: =IFERROR(D9-I10,"")
I11: =IFERROR(D11+F11,"") -> 0 | J11: =IFERROR(D10-I11,"") -> 0
I12: =IFERROR(D12+F12,"") -> 0 | J12: =IFERROR(D11-I12,"") -> 0
I13: =IFERROR(D13+F13,"") -> 0 | J13: =IFERROR(D12-I13,"") -> 0
I14: =IFERROR(D14+F14,"") -> 0 | J14: =IFERROR(D13-I14,"") -> 0
I15: =IFERROR(D15+F15,"") -> 0 | J15: =IFERROR(D14-I15,"") -> 0
I16: =IFERROR(D16+F16,"") -> 0 | J16: =IFERROR(D15-I16,"") -> 0
I17: =IFERROR(D17+F17,"") -> 0 | J17: =IFERROR(D16-I17,"") -> 0
I18: =IFERROR(D18+F18,"") -> 0 | J18: =IFERROR(D17-I18,"") -> 0
I19: =IFERROR(D19+F19,"") -> 0 | J19: =IFERROR(D18-I19,"") -> 0
I20: =IFERROR(D20+F20,"") -> 0 | J20: =IFERROR(D19-I20,"") -> 0
I21: =IFERROR(D21+F21,"") -> 0 | J21: =IFERROR(D20-I21,"") -> 0
... I120: =IFERROR(D120+F120,"") -> 0 | J120: =IFERROR(D119-I120,"") -> 0
D121: ='Micheline Julien'!D121 -> 0.33333333 | I121: =IFERROR(D121+F121,"") -> 0.33333333 | J121: =IFERROR(D120-I121,"") -> -0.33333333
F122: =SUM(F10:F121) -> 0 | G122: =SUM(G10:G121) -> 0 | J122: =SUM(J11:J121) -> -0.33333333 | K122: =J122-L4 -> -0.39583333

Sheet Mathieu Monette
A1: Mathieu Monette
A3: Analyse de la gestion du temps
K4: ='Micheline Julien'!K4 -> Jeudi | L4: ='Micheline Julien'!L4 -> 0.0625
A5: Date : | B5: ='Micheline Julien'!B5 -> 0
A6: Heure premier appel | B6: 0.33556713
A7: TTA | B7: =AVERAGE(F10:F121) -> #DIV/0!
A8: Heure fin dernier | B8: =D10+F10 -> 0
A9: Nom | B9: Prénom | C9: Date | D9: Heure | E9: Étalonné | F9: Durée de l'appel | G9: ID de l'agent | I9: H fin d'appels | J9: Tps entre appels | K9: Temps entre les appels moins pauses
I10: =IFERROR(D10+F10,"") -> 0 | J10: =IFERROR(D9-I10,"")
I11: =IFERROR(D11+F11,"") -> 0 | J11: =IFERROR(D10-I11,"") -> 0
I12: =IFERROR(D12+F12,"") -> 0 | J12: =IFERROR(D11-I12,"") -> 0
I13: =IFERROR(D13+F13,"") -> 0 | J13: =IFERROR(D12-I13,"") -> 0
I14: =IFERROR(D14+F14,"") -> 0 | J14: =IFERROR(D13-I14,"") -> 0
I15: =IFERROR(D15+F15,"") -> 0 | J15: =IFERROR(D14-I15,"") -> 0
I16: =IFERROR(D16+F16,"") -> 0 | J16: =IFERROR(D15-I16,"") -> 0
I17: =IFERROR(D17+F17,"") -> 0 | J17: =IFERROR(D16-I17,"") -> 0
I18: =IFERROR(D18+F18,"") -> 0 | J18: =IFERROR(D17-I18,"") -> 0
I19: =IFERROR(D19+F19,"") -> 0 | J19: =IFERROR(D18-I19,"") -> 0
I20: =IFERROR(D20+F20,"") -> 0 | J20: =IFERROR(D19-I20,"") -> 0
I21: =IFERROR(D21+F21,"") -> 0 | J21: =IFERROR(D20-I21,"") -> 0
... I120: =IFERROR(D120+F120,"") -> 0 | J120: =IFERROR(D119-I120,"") -> 0
D121: ='Micheline Julien'!D121 -> 0.33333333 | I121: =IFERROR(D121+F121,"") -> 0.33333333 | J121: =IFERROR(D120-I121,"") -> -0.33333333
F122: =SUM(F10:F121) -> 0 | G122: =SUM(G10:G121) -> 0 | J122: =SUM(J11:J121) -> -0.33333333 | K122: =J122-L4 -> -0.39583333

Sheet André Delisle
A1: André Delisle
A3: Analyse de la gestion du temps
K4: ='Micheline Julien'!K4 -> Jeudi | L4: ='Micheline Julien'!L4 -> 0.0625
A5: Date : | B5: ='Micheline Julien'!B5 -> 0
A6: Heure premier appel | B6: 0.34018519
A7: TTA | B7: =AVERAGE(F10:F121) -> #DIV/0!
A8: Heure fin dernier | B8: =D10+F10 -> 0
A9: Nom | B9: Prénom | C9: Date | D9: Heure | E9: Étalonné | F9: Durée de l'appel | G9: ID de l'agent | I9: H fin d'appels | J9: Tps entre appels | K9: Temps entre les appels moins pauses
I10: =IFERROR(D10+F10,"") -> 0 | J10: =IFERROR(D9-I10,"")
I11: =IFERROR(D11+F11,"") -> 0 | J11: =IFERROR(D10-I11,"") -> 0
I12: =IFERROR(D12+F12,"") -> 0 | J12: =IFERROR(D11-I12,"") -> 0
I13: =IFERROR(D13+F13,"") -> 0 | J13: =IFERROR(D12-I13,"") -> 0
I14: =IFERROR(D14+F14,"") -> 0 | J14: =IFERROR(D13-I14,"") -> 0
I15: =IFERROR(D15+F15,"") -> 0 | J15: =IFERROR(D14-I15,"") -> 0
I16: =IFERROR(D16+F16,"") -> 0 | J16: =IFERROR(D15-I16,"") -> 0
I17: =IFERROR(D17+F17,"") -> 0 | J17: =IFERROR(D16-I17,"") -> 0
I18: =IFERROR(D18+F18,"") -> 0 | J18: =IFERROR(D17-I18,"") -> 0
I19: =IFERROR(D19+F19,"") -> 0 | J19: =IFERROR(D18-I19,"") -> 0
I20: =IFERROR(D20+F20,"") -> 0 | J20: =IFERROR(D19-I20,"") -> 0
I21: =IFERROR(D21+F21,"") -> 0 | J21: =IFERROR(D20-I21,"") -> 0
... I120: =IFERROR(D120+F120,"") -> 0 | J120: =IFERROR(D119-I120,"") -> 0
D121: ='Micheline Julien'!D121 -> 0.33333333 | I121: =IFERROR(D121+F121,"") -> 0.33333333 | J121: =IFERROR(D120-I121,"") -> -0.33333333
F122: =SUM(F10:F121) -> 0 | G122: =SUM(G10:G121) -> 0 | J122: =SUM(J11:J121) -> -0.33333333 | K122: =J122-L4 -> -0.39583333

Sheet Sylvia St Pierre
A1: Sylvia St Pierre
A3: Analyse de la gestion du temps
K4: ='Micheline Julien'!K4 -> Jeudi | L4: ='Micheline Julien'!L4 -> 0.0625
A5: Date : | B5: ='Micheline Julien'!B5 -> 0
A6: Heure premier appel | B6: 0.33748843
A7: TTA | B7: =AVERAGE(F10:F121) -> #DIV/0!
A8: Heure fin dernier | B8: =D10+F10 -> 0
A9: Nom | B9: Prénom | C9: Date | D9: Heure | E9: Étalonné | F9: Durée de l'appel | G9: ID de l'agent | I9: H fin d'appels | J9: Tps entre appels | K9: Temps entre les appels moins pauses
I10: =IFERROR(D10+F10,"") -> 0 | J10: =IFERROR(D9-I10,"")
I11: =IFERROR(D11+F11,"") -> 0 | J11: =IFERROR(D10-I11,"") -> 0
I12: =IFERROR(D12+F12,"") -> 0 | J12: =IFERROR(D11-I12,"") -> 0
I13: =IFERROR(D13+F13,"") -> 0 | J13: =IFERROR(D12-I13,"") -> 0
I14: =IFERROR(D14+F14,"") -> 0 | J14: =IFERROR(D13-I14,"") -> 0
I15: =IFERROR(D15+F15,"") -> 0 | J15: =IFERROR(D14-I15,"") -> 0
I16: =IFERROR(D16+F16,"") -> 0 | J16: =IFERROR(D15-I16,"") -> 0
I17: =IFERROR(D17+F17,"") -> 0 | J17: =IFERROR(D16-I17,"") -> 0
I18: =IFERROR(D18+F18,"") -> 0 | J18: =IFERROR(D17-I18,"") -> 0
I19: =IFERROR(D19+F19,"") -> 0 | J19: =IFERROR(D18-I19,"") -> 0
I20: =IFERROR(D20+F20,"") -> 0 | J20: =IFERROR(D19-I20,"") -> 0
I21: =IFERROR(D21+F21,"") -> 0 | J21: =IFERROR(D20-I21,"") -> 0
... I120: =IFERROR(D120+F120,"") -> 0 | J120: =IFERROR(D119-I120,"") -> 0
D121: ='Micheline Julien'!D121 -> 0.33333333 | I121: =IFERROR(D121+F121,"") -> 0.33333333 | J121: =IFERROR(D120-I121,"") -> -0.33333333
F122: =SUM(F10:F121) -> 0 | G122: =SUM(G10:G121) -> 0 | J122: =SUM(J11:J121) -> -0.33333333 | K122: =J122-L4 -> -0.39583333

Sheet Jean Rene Cesar
A1: Jean Rene Cesar
A3: Analyse de la gestion du temps
K4: ='Micheline Julien'!K4 -> Jeudi | L4: ='Micheline Julien'!L4 -> 0.0625
A5: Date : | B5: ='Micheline Julien'!B5 -> 0
A6: Heure premier appel | B6: 0.33472222
A7: TTA | B7: =AVERAGE(F10:F121) -> #DIV/0!
A8: Heure fin dernier | B8: =D10+F10 -> 0
A9: Nom | B9: Prénom | C9: Date | D9: Heure | E9: Étalonné | F9: Durée de l'appel | G9: ID de l'agent | I9: H fin d'appels | J9: Tps entre appels | K9: Temps entre les appels moins pauses
I10: =IFERROR(D10+F10,"") -> 0 | J10: =IFERROR(D9-I10,"")
I11: =IFERROR(D11+F11,"") -> 0 | J11: =IFERROR(D10-I11,"") -> 0
I12: =IFERROR(D12+F12,"") -> 0 | J12: =IFERROR(D11-I12,"") -> 0
I13: =IFERROR(D13+F13,"") -> 0 | J13: =IFERROR(D12-I13,"") -> 0
I14: =IFERROR(D14+F14,"") -> 0 | J14: =IFERROR(D13-I14,"") -> 0
I15: =IFERROR(D15+F15,"") -> 0 | J15: =IFERROR(D14-I15,"") -> 0
I16: =IFERROR(D16+F16,"") -> 0 | J16: =IFERROR(D15-I16,"") -> 0
I17: =IFERROR(D17+F17,"") -> 0 | J17: =IFERROR(D16-I17,"") -> 0
I18: =IFERROR(D18+F18,"") -> 0 | J18: =IFERROR(D17-I18,"") -> 0
I19: =IFERROR(D19+F19,"") -> 0 | J19: =IFERROR(D18-I19,"") -> 0
I20: =IFERROR(D20+F20,"") -> 0 | J20: =IFERROR(D19-I20,"") -> 0
I21: =IFERROR(D21+F21,"") -> 0 | J21: =IFERROR(D20-I21,"") -> 0
... I120: =IFERROR(D120+F120,"") -> 0 | J120: =IFERROR(D119-I120,"") -> 0
D121: ='Micheline Julien'!D121 -> 0.33333333 | I121: =IFERROR(D121+F121,"") -> 0.33333333 | J121: =IFERROR(D120-I121,"") -> -0.33333333
F122: =SUM(F10:F121) -> 0 | G122: =SUM(G10:G121) -> 0 | J122: =SUM(J11:J121) -> -0.33333333 | K122: =J122-L4 -> -0.39583333

Sheet Christopher Dagher
A1: Sylvia St Pierre
A3: Analyse de la gestion du temps
K4: ='Micheline Julien'!K4 -> Jeudi | L4: ='Micheline Julien'!L4 -> 0.0625
A5: Date : | B5: ='Micheline Julien'!B5 -> 0
A6: Heure premier appel | B6: 0.34082176
A7: TTA | B7: =AVERAGE(F10:F169) -> #DIV/0!
A8: Heure fin dernier | B8: =D10+F10 -> 0
A9: Nom | B9: Prénom | C9: Date | D9: Heure | E9: Étalonné | F9: Durée de l'appel | G9: ID de l'agent | I9: H fin d'appels | J9: Tps entre appels | K9: Temps entre les appels moins pauses
I10: =IFERROR(D10+F10,"") -> 0 | J10: =IFERROR(D9-I10,"")
I11: =IFERROR(D11+F11,"") -> 0 | J11: =IFERROR(D10-I11,"") -> 0
I12: =IFERROR(D12+F12,"") -> 0 | J12: =IFERROR(D11-I12,"") -> 0
I13: =IFERROR(D13+F13,"") -> 0 | J13: =IFERROR(D12-I13,"") -> 0
I14: =IFERROR(D14+F14,"") -> 0 | J14: =IFERROR(D13-I14,"") -> 0
I15: =IFERROR(D15+F15,"") -> 0 | J15: =IFERROR(D14-I15,"") -> 0
I16: =IFERROR(D16+F16,"") -> 0 | J16: =IFERROR(D15-I16,"") -> 0
I17: =IFERROR(D17+F17,"") -> 0 | J17: =IFERROR(D16-I17,"") -> 0
I18: =IFERROR(D18+F18,"") -> 0 | J18: =IFERROR(D17-I18,"") -> 0
I19: =IFERROR(D19+F19,"") -> 0 | J19: =IFERROR(D18-I19,"") -> 0
I20: =IFERROR(D20+F20,"") -> 0 | J20: =IFERROR(D19-I20,"") -> 0
I21: =IFERROR(D21+F21,"") -> 0 | J21: =IFERROR(D20-I21,"") -> 0
... I121: =IFERROR(D121+F121,"") -> 0 | J121: =IFERROR(D120-I121,"") -> 0
G122: =SUM(G10:G121) -> 0 | I122: =IFERROR(D122+F122,"") -> 0 | J122: =IFERROR(D121-I122,"") -> 0
I123: =IFERROR(D123+F123,"") -> 0 | J123: =IFERROR(D122-I123,"") -> 0
I124: =IFERROR(D124+F124,"") -> 0 | J124: =IFERROR(D123-I124,"") -> 0
I125: =IFERROR(D125+F125,"") -> 0 | J125: =IFERROR(D124-I125,"") -> 0
I126: =IFERROR(D126+F126,"") -> 0 | J126: =IFERROR(D125-I126,"") -> 0
I127: =IFERROR(D127+F127,"") -> 0 | J127: =IFERROR(D126-I127,"") -> 0
I128: =IFERROR(D128+F128,"") -> 0 | J128: =IFERROR(D127-I128,"") -> 0
I129: =IFERROR(D129+F129,"") -> 0 | J129: =IFERROR(D128-I129,"") -> 0
I130: =IFERROR(D130+F130,"") -> 0 | J130: =IFERROR(D129-I130,"") -> 0
I131: =IFERROR(D131+F131,"") -> 0 | J131: =IFERROR(D130-I131,"") -> 0
I132: =IFERROR(D132+F132,"") -> 0 | J132: =IFERROR(D131-I132,"") -> 0
I133: =IFERROR(D133+F133,"") -> 0 | J133: =IFERROR(D132-I133,"") -> 0
I134: =IFERROR(D134+F134,"") -> 0 | J134: =IFERROR(D133-I134,"") -> 0
... I168: =IFERROR(D168+F168,"") -> 0 | J168: =IFERROR(D167-I168,"") -> 0
D169: ='Micheline Julien'!D121 -> 0.33333333 | I169: =IFERROR(D169+F169,"") -> 0.33333333 | J169: =IFERROR(D168-I169,"") -> -0.33333333
F170: =SUM(F10:F169) -> 0 | J170: =SUM(J11:J169) -> -0.33333333 | K170: =J170-L4 -> -0.39583333

Sheet Pompiliu Alexandru Pompescu
A1: Pompiliu Alexandru Pompescu
A3: Analyse de la gestion du temps
K4: ='Micheline Julien'!K4 -> Jeudi | L4: ='Micheline Julien'!L4 -> 0.0625
A5: Date : | B5: ='Micheline Julien'!B5 -> 0
A6: Heure premier appel | B6: 0.34184028
A7: TTA | B7: =AVERAGE(F10:F121) -> #DIV/0!
A8: Heure fin dernier | B8: =D10+F10 -> 0
A9: Nom | B9: Prénom | C9: Date | D9: Heure | E9: Étalonné | F9: Durée de l'appel | G9: ID de l'agent | I9: H fin d'appels | J9: Tps entre appels | K9: Temps entre les appels moins pauses
I10: =IFERROR(D10+F10,"") -> 0 | J10: =IFERROR(D9-I10,"")
I11: =IFERROR(D11+F11,"") -> 0 | J11: =IFERROR(D10-I11,"") -> 0
I12: =IFERROR(D12+F12,"") -> 0 | J12: =IFERROR(D11-I12,"") -> 0
I13: =IFERROR(D13+F13,"") -> 0 | J13: =IFERROR(D12-I13,"") -> 0
I14: =IFERROR(D14+F14,"") -> 0 | J14: =IFERROR(D13-I14,"") -> 0
I15: =IFERROR(D15+F15,"") -> 0 | J15: =IFERROR(D14-I15,"") -> 0
I16: =IFERROR(D16+F16,"") -> 0 | J16: =IFERROR(D15-I16,"") -> 0
I17: =IFERROR(D17+F17,"") -> 0 | J17: =IFERROR(D16-I17,"") -> 0
I18: =IFERROR(D18+F18,"") -> 0 | J18: =IFERROR(D17-I18,"") -> 0
I19: =IFERROR(D19+F19,"") -> 0 | J19: =IFERROR(D18-I19,"") -> 0
I20: =IFERROR(D20+F20,"") -> 0 | J20: =IFERROR(D19-I20,"") -> 0
I21: =IFERROR(D21+F21,"") -> 0 | J21: =IFERROR(D20-I21,"") -> 0
... I120: =IFERROR(D120+F120,"") -> 0 | J120: =IFERROR(D119-I120,"") -> 0
D121: ='Micheline Julien'!D121 -> 0.33333333 | I121: =IFERROR(D121+F121,"") -> 0.33333333 | J121: =IFERROR(D120-I121,"") -> -0.33333333
F122: =SUM(F10:F121) -> 0 | G122: =SUM(G10:G121) -> 0 | J122: =SUM(J11:J121) -> -0.33333333 | K122: =J122-L4 -> -0.39583333

Sheet Philippe Cote
A1: Philippe Cote
A3: Analyse de la gestion du temps
K4: ='Micheline Julien'!K4 -> Jeudi | L4: ='Micheline Julien'!L4 -> 0.0625
A5: Date : | B5: ='Micheline Julien'!B5 -> 0
A6: Heure premier appel | B6: 0.33829861
A7: TTA | B7: =AVERAGE(F10:F121) -> #DIV/0!
A8: Heure fin dernier | B8: =D10+F10 -> 0
A9: Nom | B9: Prénom | C9: Date | D9: Heure | E9: Étalonné | F9: Durée de l'appel | G9: ID de l'agent | I9: H fin d'appels | J9: Tps entre appels | K9: Temps entre les appels moins pauses
I10: =IFERROR(D10+F10,"") -> 0 | J10: =IFERROR(D9-I10,"")
I11: =IFERROR(D11+F11,"") -> 0 | J11: =IFERROR(D10-I11,"") -> 0
I12: =IFERROR(D12+F12,"") -> 0 | J12: =IFERROR(D11-I12,"") -> 0
I13: =IFERROR(D13+F13,"") -> 0 | J13: =IFERROR(D12-I13,"") -> 0
I14: =IFERROR(D14+F14,"") -> 0 | J14: =IFERROR(D13-I14,"") -> 0
I15: =IFERROR(D15+F15,"") -> 0 | J15: =IFERROR(D14-I15,"") -> 0
I16: =IFERROR(D16+F16,"") -> 0 | J16: =IFERROR(D15-I16,"") -> 0
I17: =IFERROR(D17+F17,"") -> 0 | J17: =IFERROR(D16-I17,"") -> 0
I18: =IFERROR(D18+F18,"") -> 0 | J18: =IFERROR(D17-I18,"") -> 0
I19: =IFERROR(D19+F19,"") -> 0 | J19: =IFERROR(D18-I19,"") -> 0
I20: =IFERROR(D20+F20,"") -> 0 | J20: =IFERROR(D19-I20,"") -> 0
I21: =IFERROR(D21+F21,"") -> 0 | J21: =IFERROR(D20-I21,"") -> 0
... I120: =IFERROR(D120+F120,"") -> 0 | J120: =IFERROR(D119-I120,"") -> 0
D121: ='Micheline Julien'!D121 -> 0.33333333 | I121: =IFERROR(D121+F121,"") -> 0.33333333 | J121: =IFERROR(D120-I121,"") -> -0.33333333
F122: =SUM(F10:F121) -> 0 | G122: =SUM(G10:G121) -> 0 | J122: =SUM(J11:J121) -> -0.33333333 | K122: =J122-L4 -> -0.39583333

Sheet Oum-Khaltoum Aboudou
A1: Oum-Khaltoum Aboudou
A3: Analyse de la gestion du temps
K4: ='Micheline Julien'!K4 -> Jeudi | L4: ='Micheline Julien'!L4 -> 0.0625
A5: Date : | B5: ='Micheline Julien'!B5 -> 0
A6: Heure premier appel | B6: 0.34097222
A7: TTA | B7: =AVERAGE(F10:F121) -> #DIV/0!
A8: Heure fin dernier | B8: =D10+F10 -> 0
A9: Nom | B9: Prénom | C9: Date | D9: Heure | E9: Étalonné | F9: Durée de l'appel | G9: ID de l'agent | I9: H fin d'appels | J9: Tps entre appels | K9: Temps entre les appels moins pauses
I10: =IFERROR(D10+F10,"") -> 0 | J10: =IFERROR(D9-I10,"")
I11: =IFERROR(D11+F11,"") -> 0 | J11: =IFERROR(D10-I11,"") -> 0
I12: =IFERROR(D12+F12,"") -> 0 | J12: =IFERROR(D11-I12,"") -> 0
I13: =IFERROR(D13+F13,"") -> 0 | J13: =IFERROR(D12-I13,"") -> 0
I14: =IFERROR(D14+F14,"") -> 0 | J14: =IFERROR(D13-I14,"") -> 0
I15: =IFERROR(D15+F15,"") -> 0 | J15: =IFERROR(D14-I15,"") -> 0
I16: =IFERROR(D16+F16,"") -> 0 | J16: =IFERROR(D15-I16,"") -> 0
I17: =IFERROR(D17+F17,"") -> 0 | J17: =IFERROR(D16-I17,"") -> 0
I18: =IFERROR(D18+F18,"") -> 0 | J18: =IFERROR(D17-I18,"") -> 0
I19: =IFERROR(D19+F19,"") -> 0 | J19: =IFERROR(D18-I19,"") -> 0
I20: =IFERROR(D20+F20,"") -> 0 | J20: =IFERROR(D19-I20,"") -> 0
I21: =IFERROR(D21+F21,"") -> 0 | J21: =IFERROR(D20-I21,"") -> 0
... I120: =IFERROR(D120+F120,"") -> 0 | J120: =IFERROR(D119-I120,"") -> 0
D121: ='Micheline Julien'!D121 -> 0.33333333 | I121: =IFERROR(D121+F121,"") -> 0.33333333 | J121: =IFERROR(D120-I121,"") -> -0.33333333
F122: =SUM(F10:F121) -> 0 | G122: =SUM(G10:G121) -> 0 | J122: =SUM(J11:J121) -> -0.33333333 | K122: =J122-L4 -> -0.39583333

Sheet James Cerisme
A1: James Cerisme
A3: Analyse de la gestion du temps
K4: ='Micheline Julien'!K4 -> Jeudi | L4: ='Micheline Julien'!L4 -> 0.0625
A5: Date : | B5: ='Micheline Julien'!B5 -> 0
A6: Heure premier appel | B6: 0.34195602
A7: TTA | B7: =AVERAGE(F10:F121) -> #DIV/0!
A8: Heure fin dernier | B8: =D10+F10 -> 0
A9: Nom | B9: Prénom | C9: Date | D9: Heure | E9: Étalonné | F9: Durée de l'appel | G9: ID de l'agent | I9: H fin d'appels | J9: Tps entre appels | K9: Temps entre les appels moins pauses
I10: =IFERROR(D10+F10,"") -> 0 | J10: =IFERROR(D9-I10,"")
I11: =IFERROR(D11+F11,"") -> 0 | J11: =IFERROR(D10-I11,"") -> 0
I12: =IFERROR(D12+F12,"") -> 0 | J12: =IFERROR(D11-I12,"") -> 0
I13: =IFERROR(D13+F13,"") -> 0 | J13: =IFERROR(D12-I13,"") -> 0
I14: =IFERROR(D14+F14,"") -> 0 | J14: =IFERROR(D13-I14,"") -> 0
I15: =IFERROR(D15+F15,"") -> 0 | J15: =IFERROR(D14-I15,"") -> 0
I16: =IFERROR(D16+F16,"") -> 0 | J16: =IFERROR(D15-I16,"") -> 0
I17: =IFERROR(D17+F17,"") -> 0 | J17: =IFERROR(D16-I17,"") -> 0
I18: =IFERROR(D18+F18,"") -> 0 | J18: =IFERROR(D17-I18,"") -> 0
I19: =IFERROR(D19+F19,"") -> 0 | J19: =IFERROR(D18-I19,"") -> 0
I20: =IFERROR(D20+F20,"") -> 0 | J20: =IFERROR(D19-I20,"") -> 0
I21: =IFERROR(D21+F21,"") -> 0 | J21: =IFERROR(D20-I21,"") -> 0
... I120: =IFERROR(D120+F120,"") -> 0 | J120: =IFERROR(D119-I120,"") -> 0
D121: ='Micheline Julien'!D121 -> 0.33333333 | I121: =IFERROR(D121+F121,"") -> 0.33333333 | J121: =IFERROR(D120-I121,"") -> -0.33333333
F122: =SUM(F10:F121) -> 0 | G122: =SUM(G10:G121) -> 0 | J122: =SUM(J11:J121) -> -0.33333333 | K122: =J122-L4 -> -0.39583333

Sheet Risto Karev
A1: Risto Karev
A3: Analyse de la gestion du temps
K4: ='Micheline Julien'!K4 -> Jeudi | L4: ='Micheline Julien'!L4 -> 0.0625
A5: Date : | B5: ='Micheline Julien'!B5 -> 0
A6: Heure premier appel | B6: 0.3527662
A7: TTA | B7: =AVERAGE(F10:F121) -> #DIV/0!
A8: Heure fin dernier | B8: =D10+F10 -> 0
A9: Nom | B9: Prénom | C9: Date | D9: Heure | E9: Étalonné | F9: Durée de l'appel | G9: ID de l'agent | I9: H fin d'appels | J9: Tps entre appels | K9: Temps entre les appels moins pauses
I10: =IFERROR(D10+F10,"") -> 0 | J10: =IFERROR(D9-I10,"")
I11: =IFERROR(D11+F11,"") -> 0 | J11: =IFERROR(D10-I11,"") -> 0
I12: =IFERROR(D12+F12,"") -> 0 | J12: =IFERROR(D11-I12,"") -> 0
I13: =IFERROR(D13+F13,"") -> 0 | J13: =IFERROR(D12-I13,"") -> 0
I14: =IFERROR(D14+F14,"") -> 0 | J14: =IFERROR(D13-I14,"") -> 0
I15: =IFERROR(D15+F15,"") -> 0 | J15: =IFERROR(D14-I15,"") -> 0
I16: =IFERROR(D16+F16,"") -> 0 | J16: =IFERROR(D15-I16,"") -> 0
I17: =IFERROR(D17+F17,"") -> 0 | J17: =IFERROR(D16-I17,"") -> 0
I18: =IFERROR(D18+F18,"") -> 0 | J18: =IFERROR(D17-I18,"") -> 0
I19: =IFERROR(D19+F19,"") -> 0 | J19: =IFERROR(D18-I19,"") -> 0
I20: =IFERROR(D20+F20,"") -> 0 | J20: =IFERROR(D19-I20,"") -> 0
I21: =IFERROR(D21+F21,"") -> 0 | J21: =IFERROR(D20-I21,"") -> 0
... I120: =IFERROR(D120+F120,"") -> 0 | J120: =IFERROR(D119-I120,"") -> 0
D121: ='Micheline Julien'!D121 -> 0.33333333 | I121: =IFERROR(D121+F121,"") -> 0.33333333 | J121: =IFERROR(D120-I121,"") -> -0.33333333
F122: =SUM(F10:F121) -> 0 | G122: =SUM(G10:G121) -> 0 | J122: =SUM(J11:J121) -> -0.33333333 | K122: =J122-L4 -> -0.39583333

Sheet Bruno Rabasquinho
A1: Bruno Rabasquinho
A3: Analyse de la gestion du temps
K4: ='Micheline Julien'!K4 -> Jeudi | L4: ='Micheline Julien'!L4 -> 0.0625
A5: Date : | B5: ='Micheline Julien'!B5 -> 0
A6: Heure premier appel | B6: 0.34511574
A7: TTA | B7: =AVERAGE(F10:F121) -> #DIV/0!
A8: Heure fin dernier | B8: =D10+F10 -> 0
A9: Nom | B9: Prénom | C9: Date | D9: Heure | E9: Étalonné | F9: Durée de l'appel | G9: ID de l'agent | I9: H fin d'appels | J9: Tps entre appels | K9: Temps entre les appels moins pauses
I10: =IFERROR(D10+F10,"") -> 0 | J10: =IFERROR(D9-I10,"")
I11: =IFERROR(D11+F11,"") -> 0 | J11: =IFERROR(D10-I11,"") -> 0
I12: =IFERROR(D12+F12,"") -> 0 | J12: =IFERROR(D11-I12,"") -> 0
I13: =IFERROR(D13+F13,"") -> 0 | J13: =IFERROR(D12-I13,"") -> 0
I14: =IFERROR(D14+F14,"") -> 0 | J14: =IFERROR(D13-I14,"") -> 0
I15: =IFERROR(D15+F15,"") -> 0 | J15: =IFERROR(D14-I15,"") -> 0
I16: =IFERROR(D16+F16,"") -> 0 | J16: =IFERROR(D15-I16,"") -> 0
I17: =IFERROR(D17+F17,"") -> 0 | J17: =IFERROR(D16-I17,"") -> 0
I18: =IFERROR(D18+F18,"") -> 0 | J18: =IFERROR(D17-I18,"") -> 0
I19: =IFERROR(D19+F19,"") -> 0 | J19: =IFERROR(D18-I19,"") -> 0
I20: =IFERROR(D20+F20,"") -> 0 | J20: =IFERROR(D19-I20,"") -> 0
I21: =IFERROR(D21+F21,"") -> 0 | J21: =IFERROR(D20-I21,"") -> 0
... I120: =IFERROR(D120+F120,"") -> 0 | J120: =IFERROR(D119-I120,"") -> 0
D121: ='Micheline Julien'!D121 -> 0.33333333 | I121: =IFERROR(D121+F121,"") -> 0.33333333 | J121: =IFERROR(D120-I121,"") -> -0.33333333
F122: =SUM(F10:F121) -> 0 | G122: =SUM(G10:G121) -> 0 | J122: =SUM(J11:J121) -> -0.33333333 | K122: =J122-L4 -> -0.39583333
