Workbook

Sheet Dashboard
B2: Version basique, Analyse par mois | H2: Version avancée, Analyse par Trimestre, Onglets dynamiques
D4: texte à chercher | F4: libellé si impayé | J4: format date onglet | K4: texte à chercher | L4: libellé si impayé
D5: non | F5: /!\ Impayé | J5: mmm | K5: non | L5: /!\ Impayé
B7: Mois | C7: Col | D7: Salaire Non réglé | E7: Frais non réglés | F7: Impayés ? | H7: Trim Deb | I7: Trim Fin | J7: Onglet | K7: * Non Réglé | L7: Impayés ?
B9: 43831 | C9: =MATCH(B9,'Janv - Mars'!$2:$2) -> 2 | D9: =COUNTIFS(OFFSET('Janv - Mars'!$A:$A,0,$C9),$D$5) -> 2 | E9: =COUNTIFS(OFFSET('Janv - Mars'!$A:$A,0,$C9+1),$D$5) -> 3 | F9: =IF(SUM(D9:E9)>0,$F$5,"-") -> /!\ Impayé | H9: 43831 | I9: =EDATE(H9,2) -> 43891 | J9: =PROPER("'"&TEXT(H9,$J$5)&" - "&TEXT(I9,$J$5)&"'!") -> 'Janv - Mars'! | K9: =IFERROR(COUNTIFS(INDIRECT($J9&"A:H"),$K$5),NA()) -> 7 | L9: =IF(K9>0,$L$5,"-") -> /!\ Impayé
B10: =EDATE(B9,1) -> 43862 | C10: =MATCH(B10,'Janv - Mars'!$2:$2) -> 5 | D10: =COUNTIFS(OFFSET('Janv - Mars'!$A:$A,0,$C10),$D$5) -> 1 | E10: =COUNTIFS(OFFSET('Janv - Mars'!$A:$A,0,$C10+1),$D$5) -> 1 | F10: =IF(SUM(D10:E10)>0,$F$5,"-") -> /!\ Impayé | H10: =EDATE(H9,3) -> 43922 | I10: =EDATE(H10,2) -> 43983 | J10: =PROPER("'"&TEXT(H10,$J$5)&" - "&TEXT(I10,$J$5)&"'!") -> 'Avr - Juin'! | K10: =IFERROR(COUNTIFS(INDIRECT($J10&"A:H"),$K$5),NA()) -> 16 | L10: =IF(K10>0,$L$5,"-") -> /!\ Impayé
B11: =EDATE(B10,1) -> 43891 | C11: =MATCH(B11,'Janv - Mars'!$2:$2) -> 8 | D11: =COUNTIFS(OFFSET('Janv - Mars'!$A:$A,0,$C11),$D$5) -> 0 | E11: =COUNTIFS(OFFSET('Janv - Mars'!$A:$A,0,$C11+1),$D$5) -> 0 | F11: =IF(SUM(D11:E11)>0,$F$5,"-") -> - | H11: =EDATE(H10,3) -> 44013 | I11: =EDATE(H11,2) -> 44075 | J11: =PROPER("'"&TEXT(H11,$J$5)&" - "&TEXT(I11,$J$5)&"'!") -> 'Juil - Sept'! | K11: =IFERROR(COUNTIFS(INDIRECT($J11&"A:H"),$K$5),NA()) -> #N/A | L11: =IF(K11>0,$L$5,"-") -> #N/A

Sheet Janv - Mars
A1: Janvier - Mars 2020 - Partie Facturation
A2: Clients | B2: 43831 | C2: Salaire réglé | D2: Frais réglés | E2: 43862 | F2: Salaire réglé | G2: Frais réglés | H2: 43891 | I2: Salaire réglé | J2: Frais réglés | K2: Total Trimestre
A4: Client 1
A5: Client 2 | B5: 1000 | C5: oui | D5: oui
A6: Client 3 | B6: 850 | C6: oui | D6: oui
A7: Client 4 | B7: 210 | C7: oui | D7: oui
A8: Client 5 | B8: 1400 | C8: non | D8: non
A9: Client 6 | B9: 450 | C9: oui | D9: non
A10: Client 7 | B10: 1200 | C10: non | D10: non
A11: Client 8
A12: Client 9
A13: Client 10
A14: Client 11
A15: Client 12 | E15: 2000 | F15: non | G15: non
A16: Client 13
A17: Client 14
A18: Total | B18: =SUM(B4:B17) -> 5110 | E18: =SUM(E4:E17) -> 2000 | H18: =SUM(H4:H17) -> 0 | K18: =SUM(B18:H18) -> 7110

Sheet Avr - Juin
A1: Janvier - Mars 2020 - Partie Facturation
A2: Clients | B2: 43922 | C2: Salaire réglé | D2: Frais réglés | E2: 43952 | F2: Salaire réglé | G2: Frais réglés | H2: 43983 | I2: Salaire réglé | J2: Frais réglés | K2: Total Trimestre
A4: Client 1
A5: Client 2 | B5: 1000 | C5: oui | D5: oui
A6: Client 3 | B6: 850 | C6: oui | D6: oui | H6: 210 | I6: oui | J6: oui
A7: Client 4 | B7: 210 | C7: oui | D7: oui | H7: 1400 | I7: oui | J7: non
A8: Client 5 | B8: 1400 | C8: non | D8: non | E8: 210 | F8: oui | G8: oui | H8: 450 | I8: oui | J8: non
A9: Client 6 | B9: 450 | C9: oui | D9: non | E9: 1400 | F9: non | G9: non
A10: Client 7 | B10: 1200 | C10: non | D10: non | E10: 450 | F10: oui | G10: non
A11: Client 8 | B11: 210 | C11: oui | D11: oui | H11: 15 | I11: non | J11: non
A12: Client 9 | B12: 1400 | C12: non | D12: non
A13: Client 10 | B13: 450 | C13: oui | D13: non
A14: Client 11 | B14: 210 | C14: oui | D14: oui
A15: Client 12 | B15: 1400 | C15: non | D15: non | E15: 2000 | F15: non | G15: non
A16: Client 13 | B16: 450 | C16: oui | D16: non
A17: Client 14
A18: Total | B18: =SUM(B4:B17) -> 9230 | E18: =SUM(E4:E17) -> 4060 | H18: =SUM(H4:H17) -> 2075 | K18: =SUM(B18:H18) -> 15365
