Workbook

Sheet Feuil1 (base)
C2: liste des courses
C3: Produit | D3: Qté | E3: Unité
C4: tomates | D4: 5 | E4: kg | G4: Feuille 1
C5: Asperges | D5: 4 | E5: kg
C7: Aubergines | D7: 3 | E7: kg
C10: carottes | D10: 4 | E10: kg
C12: champignons | D12: 6 | E12: kg
C14: glace | D14: 2 | E14: pièce
C15: abricots | D15: 5000 | E15: grammes
C19: bouillon | D19: 3 | E19: cubes
C20: œufs | D20: 45 | E20: pièces

Sheet Feuil2 Pb
C2: liste des courses
C3: Produit | D3: Qté | E3: Unité
B4: a | C4: ='Feuil1 (base)'!C4 -> tomates | D4: ='Feuil1 (base)'!D4 -> 5 | E4: ='Feuil1 (base)'!E4 -> kg | G4: feuille 2
B5: a | C5: ='Feuil1 (base)'!C5 -> Asperges | D5: ='Feuil1 (base)'!D5 -> 4 | E5: ='Feuil1 (base)'!E5 -> kg
B6: m | C6: ='Feuil1 (base)'!C6 -> 0 | D6: ='Feuil1 (base)'!D6 -> 0 | E6: ='Feuil1 (base)'!E6 -> 0
B7: a | C7: ='Feuil1 (base)'!C7 -> Aubergines | D7: ='Feuil1 (base)'!D7 -> 3 | E7: ='Feuil1 (base)'!E7 -> kg
B8: m | C8: ='Feuil1 (base)'!C8 -> 0 | D8: ='Feuil1 (base)'!D8 -> 0 | E8: ='Feuil1 (base)'!E8 -> 0
B9: m | C9: ='Feuil1 (base)'!C9 -> 0 | D9: ='Feuil1 (base)'!D9 -> 0 | E9: ='Feuil1 (base)'!E9 -> 0
B10: a | C10: ='Feuil1 (base)'!C10 -> carottes | D10: ='Feuil1 (base)'!D10 -> 4 | E10: ='Feuil1 (base)'!E10 -> kg
B11: m | C11: ='Feuil1 (base)'!C11 -> 0 | D11: ='Feuil1 (base)'!D11 -> 0 | E11: ='Feuil1 (base)'!E11 -> 0
B12: a | C12: ='Feuil1 (base)'!C12 -> champignons | D12: ='Feuil1 (base)'!D12 -> 6 | E12: ='Feuil1 (base)'!E12 -> kg
B13: m | C13: ='Feuil1 (base)'!C13 -> 0 | D13: ='Feuil1 (base)'!D13 -> 0 | E13: ='Feuil1 (base)'!E13 -> 0
B14: a | C14: ='Feuil1 (base)'!C14 -> glace | D14: ='Feuil1 (base)'!D14 -> 2 | E14: ='Feuil1 (base)'!E14 -> pièce
B15: a | C15: ='Feuil1 (base)'!C15 -> abricots | D15: ='Feuil1 (base)'!D15 -> 5000 | E15: ='Feuil1 (base)'!E15 -> grammes
B16: m | C16: ='Feuil1 (base)'!C16 -> 0 | D16: ='Feuil1 (base)'!D16 -> 0 | E16: ='Feuil1 (base)'!E16 -> 0
... B26: m | C26: ='Feuil1 (base)'!C26 -> 0 | D26: ='Feuil1 (base)'!D26 -> 0 | E26: ='Feuil1 (base)'!E26 -> 0
C27: ='Feuil1 (base)'!C27 -> 0 | D27: ='Feuil1 (base)'!D27 -> 0 | E27: ='Feuil1 (base)'!E27 -> 0
C28: ='Feuil1 (base)'!C28 -> 0 | D28: ='Feuil1 (base)'!D28 -> 0 | E28: ='Feuil1 (base)'!E28 -> 0
C35: serait-il possible que les lignes de cette feuille de la ligne 4 à 20 soient toujours masqueées par default
C36: et que si on itroduit un produit dans le tableau de la feuille 1, la ligne s'affiche automatiquement ?
C39: Compréhension : N'afficher que les lignes ayant un nom de produit valorisé

Sheet Feuil2 Sol1
C2: Tableau dynamique sur Feuil1 - Tri alphabétique automatique
C3: Nécessite Alt+F5 pour rafraîchir
C5: liste des courses
C7: Produit | D7: Qté | E7: Unité
C8: abricots | D8: 5000 | E8: grammes
C9: Asperges | D9: 4 | E9: kg
C10: Aubergines | D10: 3 | E10: kg
C11: bouillon | D11: 3 | E11: cubes
C12: carottes | D12: 4 | E12: kg
C13: champignons | D13: 6 | E13: kg
C14: glace | D14: 2 | E14: pièce
C15: œufs | D15: 45 | E15: pièces
C16: tomates | D16: 5 | E16: kg

Sheet Feuil2 Sol2
A1: [+] | B1: Colonnes de travail/préparation
B2: Replier/Déplier avec le bouton [-]/[+] | H2: liste des courses
C3: ='Feuil1 (base)'!C3&"" -> Produit | D3: iValo | E3: iFeuil1 | F3: iUtile | H3: Produit | I3: Qté | J3: Unité | L3: Cette liste ne reprend que les items de Feuil1 dont le produit n'est pas vide
C4: ='Feuil1 (base)'!C4&"" -> tomates | D4: =SUM(D3,C4<>"") -> 1 | E4: =ROW()-ROW($C$3) -> 1 | F4: =IFERROR(VLOOKUP($E4,$D$4:$E$28,2,0),"") -> 1 | H4: {=IFERROR(PROPER(OFFSET('Feuil1 (base)'!C$3,$F4,0)),"")} -> Tomates | I4: {=IFERROR(OFFSET('Feuil1 (base)'!D$3,$F4,0),"")} -> 5 | J4: {=IFERROR(OFFSET('Feuil1 (base)'!E$3,$F4,0),"")} -> kg | L4: Pas de tri, Ordre de départ respecté
C5: ='Feuil1 (base)'!C5&"" -> Asperges | D5: =SUM(D4,C5<>"") -> 2 | E5: =ROW()-ROW($C$3) -> 2 | F5: =IFERROR(VLOOKUP($E5,$D$4:$E$28,2,0),"") -> 2 | H5: {=IFERROR(PROPER(OFFSET('Feuil1 (base)'!C$3,$F5,0)),"")} -> Asperges | I5: {=IFERROR(OFFSET('Feuil1 (base)'!D$3,$F5,0),"")} -> 4 | J5: {=IFERROR(OFFSET('Feuil1 (base)'!E$3,$F5,0),"")} -> kg
C6: ='Feuil1 (base)'!C6&"" | D6: =SUM(D5,C6<>"") -> 2 | E6: =ROW()-ROW($C$3) -> 3 | F6: =IFERROR(VLOOKUP($E6,$D$4:$E$28,2,0),"") -> 4 | H6: {=IFERROR(PROPER(OFFSET('Feuil1 (base)'!C$3,$F6,0)),"")} -> Aubergines | I6: {=IFERROR(OFFSET('Feuil1 (base)'!D$3,$F6,0),"")} -> 3 | J6: {=IFERROR(OFFSET('Feuil1 (base)'!E$3,$F6,0),"")} -> kg
C7: ='Feuil1 (base)'!C7&"" -> Aubergines | D7: =SUM(D6,C7<>"") -> 3 | E7: =ROW()-ROW($C$3) -> 4 | F7: =IFERROR(VLOOKUP($E7,$D$4:$E$28,2,0),"") -> 7 | H7: {=IFERROR(PROPER(OFFSET('Feuil1 (base)'!C$3,$F7,0)),"")} -> Carottes | I7: {=IFERROR(OFFSET('Feuil1 (base)'!D$3,$F7,0),"")} -> 4 | J7: {=IFERROR(OFFSET('Feuil1 (base)'!E$3,$F7,0),"")} -> kg
C8: ='Feuil1 (base)'!C8&"" | D8: =SUM(D7,C8<>"") -> 3 | E8: =ROW()-ROW($C$3) -> 5 | F8: =IFERROR(VLOOKUP($E8,$D$4:$E$28,2,0),"") -> 9 | H8: {=IFERROR(PROPER(OFFSET('Feuil1 (base)'!C$3,$F8,0)),"")} -> Champignons | I8: {=IFERROR(OFFSET('Feuil1 (base)'!D$3,$F8,0),"")} -> 6 | J8: {=IFERROR(OFFSET('Feuil1 (base)'!E$3,$F8,0),"")} -> kg
C9: ='Feuil1 (base)'!C9&"" | D9: =SUM(D8,C9<>"") -> 3 | E9: =ROW()-ROW($C$3) -> 6 | F9: =IFERROR(VLOOKUP($E9,$D$4:$E$28,2,0),"") -> 11 | H9: {=IFERROR(PROPER(OFFSET('Feuil1 (base)'!C$3,$F9,0)),"")} -> Glace | I9: {=IFERROR(OFFSET('Feuil1 (base)'!D$3,$F9,0),"")} -> 2 | J9: {=IFERROR(OFFSET('Feuil1 (base)'!E$3,$F9,0),"")} -> pièce
C10: ='Feuil1 (base)'!C10&"" -> carottes | D10: =SUM(D9,C10<>"") -> 4 | E10: =ROW()-ROW($C$3) -> 7 | F10: =IFERROR(VLOOKUP($E10,$D$4:$E$28,2,0),"") -> 12 | H10: {=IFERROR(PROPER(OFFSET('Feuil1 (base)'!C$3,$F10,0)),"")} -> Abricots | I10: {=IFERROR(OFFSET('Feuil1 (base)'!D$3,$F10,0),"")} -> 5000 | J10: {=IFERROR(OFFSET('Feuil1 (base)'!E$3,$F10,0),"")} -> grammes
C11: ='Feuil1 (base)'!C11&"" | D11: =SUM(D10,C11<>"") -> 4 | E11: =ROW()-ROW($C$3) -> 8 | F11: =IFERROR(VLOOKUP($E11,$D$4:$E$28,2,0),"") -> 16 | H11: {=IFERROR(PROPER(OFFSET('Feuil1 (base)'!C$3,$F11,0)),"")} -> Bouillon | I11: {=IFERROR(OFFSET('Feuil1 (base)'!D$3,$F11,0),"")} -> 3 | J11: {=IFERROR(OFFSET('Feuil1 (base)'!E$3,$F11,0),"")} -> cubes
C12: ='Feuil1 (base)'!C12&"" -> champignons | D12: =SUM(D11,C12<>"") -> 5 | E12: =ROW()-ROW($C$3) -> 9 | F12: =IFERROR(VLOOKUP($E12,$D$4:$E$28,2,0),"") -> 17 | H12: {=IFERROR(PROPER(OFFSET('Feuil1 (base)'!C$3,$F12,0)),"")} -> Œufs | I12: {=IFERROR(OFFSET('Feuil1 (base)'!D$3,$F12,0),"")} -> 45 | J12: {=IFERROR(OFFSET('Feuil1 (base)'!E$3,$F12,0),"")} -> pièces
C13: ='Feuil1 (base)'!C13&"" | D13: =SUM(D12,C13<>"") -> 5 | E13: =ROW()-ROW($C$3) -> 10 | F13: =IFERROR(VLOOKUP($E13,$D$4:$E$28,2,0),"") | H13: {=IFERROR(PROPER(OFFSET('Feuil1 (base)'!C$3,$F13,0)),"")} | I13: {=IFERROR(OFFSET('Feuil1 (base)'!D$3,$F13,0),"")} | J13: {=IFERROR(OFFSET('Feuil1 (base)'!E$3,$F13,0),"")}
C14: ='Feuil1 (base)'!C14&"" -> glace | D14: =SUM(D13,C14<>"") -> 6 | E14: =ROW()-ROW($C$3) -> 11 | F14: =IFERROR(VLOOKUP($E14,$D$4:$E$28,2,0),"") | H14: {=IFERROR(PROPER(OFFSET('Feuil1 (base)'!C$3,$F14,0)),"")} | I14: {=IFERROR(OFFSET('Feuil1 (base)'!D$3,$F14,0),"")} | J14: {=IFERROR(OFFSET('Feuil1 (base)'!E$3,$F14,0),"")}
C15: ='Feuil1 (base)'!C15&"" -> abricots | D15: =SUM(D14,C15<>"") -> 7 | E15: =ROW()-ROW($C$3) -> 12 | F15: =IFERROR(VLOOKUP($E15,$D$4:$E$28,2,0),"") | H15: {=IFERROR(PROPER(OFFSET('Feuil1 (base)'!C$3,$F15,0)),"")} | I15: {=IFERROR(OFFSET('Feuil1 (base)'!D$3,$F15,0),"")} | J15: {=IFERROR(OFFSET('Feuil1 (base)'!E$3,$F15,0),"")}
C16: ='Feuil1 (base)'!C16&"" | D16: =SUM(D15,C16<>"") -> 7 | E16: =ROW()-ROW($C$3) -> 13 | F16: =IFERROR(VLOOKUP($E16,$D$4:$E$28,2,0),"") | H16: {=IFERROR(PROPER(OFFSET('Feuil1 (base)'!C$3,$F16,0)),"")} | I16: {=IFERROR(OFFSET('Feuil1 (base)'!D$3,$F16,0),"")} | J16: {=IFERROR(OFFSET('Feuil1 (base)'!E$3,$F16,0),"")}
... C28: ='Feuil1 (base)'!C28&"" | D28: =SUM(D27,C28<>"") -> 9 | E28: =ROW()-ROW($C$3) -> 25 | F28: =IFERROR(VLOOKUP($E28,$D$4:$E$28,2,0),"") | H28: {=IFERROR(PROPER(OFFSET('Feuil1 (base)'!C$3,$F28,0)),"")} | I28: {=IFERROR(OFFSET('Feuil1 (base)'!D$3,$F28,0),"")} | J28: {=IFERROR(OFFSET('Feuil1 (base)'!E$3,$F28,0),"")}
