Workbook
Name Béton: Feuil1!$C$4:$C$40
Name Briques: Feuil1!$C$92:$C$107
Name Isolants: Feuil1!$C$51:$C$90
Name Matériaux: Feuil1!$B$2:$B$6
Name Plâtre: Feuil1!$C$42:$C$50

Sheet Feuil1
A2: Toiture | C2: Matériau | D2: Lambda | F2: Epaisseur
A3: R-3 | B3: Béton
A4: R-2 | B4: Plâtre | C4: 0 | D4: 0 | F4: 0 | G4: 0 | H4: 0 | O4: Plâtre | P4: Béton | Q4: Isolants
A5: R-1 | B5: Isolants | C5: Bauge | D5: 1.1 | E5: 0 | F5: 0.2 | G5: 0.25 | H5: 0.3 | I5: 0.35 | O5: 0 | P5: 0 | Q5: 0
A6: RDC | B6: Briques | C6: Béton caverneux | D6: 1.35 | E6: 0 | F6: 0.2 | G6: 0.25 | H6: 0.3 | I6: 0.35 | O6: 0.013 | P6: 0.2 | Q6: 0.12
A7: R+1 | C7: Béton caverneux d'argile expensée | D7: 0.33 | E7: 0 | F7: 0.2 | G7: 0.25 | H7: 0.3 | I7: 0.35 | O7: 0.018 | P7: 0.25 | Q7: 0.16
A8: R+2 | C8: Béton cellulaire collé masse vol. 400 | D8: 0.16 | E8: 0 | F8: 0.2 | G8: 0.25 | H8: 0.3 | I8: 0.35 | O8: 0.026 | P8: 0.3 | Q8: 0.19
A9: R+3 | C9: Béton cellulaire collé masse vol. 450 | D9: 0.17 | E9: 0 | F9: 0.2 | G9: 0.25 | H9: 0.3 | I9: 0.35 | P9: 0.35 | Q9: 0.2
A10: R+4 | C10: Béton cellulaire collé masse vol. 500 | D10: 0.18 | E10: 0 | F10: 0.2 | G10: 0.25 | H10: 0.3 | I10: 0.35 | Q10: 0.22
A11: R+5 | C11: Béton cellulaire collé masse vol. 550 | D11: 0.2 | E11: 0 | F11: 0.2 | G11: 0.25 | H11: 0.3 | I11: 0.35 | Q11: 0.24
A12: R+6 | C12: Béton cellulaire collé masse vol. 600 | D12: 0.22 | E12: 0 | F12: 0.2 | G12: 0.25 | H12: 0.3 | I12: 0.35 | Q12: 0.26
A13: R+7 | C13: Béton cellulaire collé masse vol. 650 | D13: 0.24 | E13: 0 | F13: 0.2 | G13: 0.25 | H13: 0.3 | I13: 0.35
A14: R+8 | C14: Béton cellulaire collé masse vol. 700 | D14: 0.26 | E14: 0 | F14: 0.2 | G14: 0.25 | H14: 0.3 | I14: 0.35
A15: R+9 | C15: Béton cellulaire collé masse vol. 750 | D15: 0.28 | E15: 0 | F15: 0.2 | G15: 0.25 | H15: 0.3 | I15: 0.35
A16: R+10 | C16: Béton cellulaire collé masse vol. 800 | D16: 0.3 | E16: 0 | F16: 0.2 | G16: 0.25 | H16: 0.3 | I16: 0.35
A17: R+11 | C17: Béton cellulaire maçonné masse vol. 400 | D17: 0.2 | E17: 0 | F17: 0.2 | G17: 0.25 | H17: 0.3 | I17: 0.35
A18: R+12 | C18: Béton cellulaire maçonné masse vol. 450 | D18: 0.21 | E18: 0 | F18: 0.2 | G18: 0.25 | H18: 0.3 | I18: 0.35
A19: R+13 | C19: Béton cellulaire maçonné masse vol. 500 | D19: 0.22 | E19: 0 | F19: 0.2 | G19: 0.25 | H19: 0.3 | I19: 0.35
A20: R+14 | C20: Béton cellulaire maçonné masse vol. 550 | D20: 0.24 | E20: 0 | F20: 0.2 | G20: 0.25 | H20: 0.3 | I20: 0.35
A21: R+15 | C21: Béton cellulaire maçonné masse vol. 600 | D21: 0.25 | E21: 0 | F21: 0.2 | G21: 0.25 | H21: 0.3 | I21: 0.35
A22: R+16 | C22: Béton cellulaire maçonné masse vol. 650 | D22: 0.27 | E22: 0 | F22: 0.2 | G22: 0.25 | H22: 0.3 | I22: 0.35
A23: R+17 | C23: Béton cellulaire maçonné masse vol. 700 | D23: 0.3 | E23: 0 | F23: 0.2 | G23: 0.25 | H23: 0.3 | I23: 0.35
A24: R+18 | C24: Béton cellulaire maçonné masse vol. 750 | D24: 0.31 | E24: 0 | F24: 0.2 | G24: 0.25 | H24: 0.3 | I24: 0.35
... A26: R+20 | C26: Béton de cendres | D26: 0.35 | E26: 0 | F26: 0.2 | G26: 0.25 | H26: 0.3 | I26: 0.35
C27: Béton de copeaux de bois | D27: 0.16 | E27: 0 | F27: 0.2 | G27: 0.25 | H27: 0.3 | I27: 0.35
C28: Béton de pierre ponce | D28: 0.46 | E28: 0 | F28: 0.2 | G28: 0.25 | H28: 0.3 | I28: 0.35
C29: Béton de pouzzolane | D29: 0.52 | E29: 0 | F29: 0.2 | G29: 0.25 | H29: 0.3 | I29: 0.35
C30: Béton de terre stabilisée | D30: 1.1 | E30: 0 | F30: 0.2 | G30: 0.25 | H30: 0.3 | I30: 0.35
C31: Béton de vermiculite | D31: 0.31 | E31: 0 | F31: 0.2 | G31: 0.25 | H31: 0.3 | I31: 0.35
C32: Béton de vermiculite (préfa. Usine) | D32: 0.19 | E32: 0 | F32: 0.2 | G32: 0.25 | H32: 0.3 | I32: 0.35
C33: Béton fibragglo (plaque) 350 < p <= 450 | D33: 0.12 | E33: 0 | F33: 0.2 | G33: 0.25 | H33: 0.3 | I33: 0.35
C34: Béton fibragglo (plaque) 450 < p <= 550 | D34: 0.15 | E34: 0 | F34: 0.2 | G34: 0.25 | H34: 0.3 | I34: 0.35
C35: Béton fibragglo (plaque) p <= 350 | D35: 0.1 | E35: 0 | F35: 0.2 | G35: 0.25 | H35: 0.3 | I35: 0.35
C36: Béton plein | D36: 2 | E36: 0 | F36: 0.2 | G36: 0.25 | H36: 0.3 | I36: 0.35
C37: Béton plein (laitier granulé) | D37: 0.8 | E37: 0 | F37: 0.2 | G37: 0.25 | H37: 0.3 | I37: 0.35
C38: Béton plein armé | D38: 2.4 | E38: 0 | F38: 0.2 | G38: 0.25 | H38: 0.3 | I38: 0.35
... C40: Pisé | D40: 1.1 | E40: 0 | F40: 0.2 | G40: 0.25 | H40: 0.3 | I40: 0.35
C42: 0 | D42: 0
C43: Plâtre Placo-plâtre standard | D43: 0.25 | E43: 0 | F43: 0.013 | G43: 0.018 | H43: 0.026
C44: Plâtre Placo-plâtre coupe feu | D44: 0.25 | E44: 0 | F44: 0.013 | G44: 0.018 | H44: 0.026
...

Sheet Feuil2
C1: Murs
C2: Mur | D2: Conduc lambda | E2: Epaisseur | F2: Resistances Mur | G2: Rtot | H2: Coefficient de transmision surfacique | I2: Surface murs | J2: Flux thermique à travers les murs | K2: Flux thermique à travers les murs
B3: Matériaux | C3: Type de matériaux | F3: R = e/l | G3: Rtot=R1+R2+R3 | H3: U=1/Rtot | I3: SP | J3: ΦM = φM SM | K3: ΦM = φM SM
C4: Unités | D4: W/K.m | E4: M | F4: M².K/W | G4: M².K/W | I4: m² | J4: W | K4: kW
B5: Briques | C5: Plâtre haute dureté masse vol. 1100 | D5: =VLOOKUP(C5,Feuil1!C4:L107,2,FALSE) -> 0.43 | G5: =SUM(F5:F14) -> 0 | H5: =IF(G5=0,0,1/G5) -> 0 | K5: =SUM(K5:K14) -> 0

Sheet Etage
B1: Ville | C1: Temps base hiver | D1: Temp été | E1: Delta de Température max
B2: Lyon | C2: =VLOOKUP(B2,Feuil1!C138:F165,3,FALSE) -> -3 | D2: =VLOOKUP(B2,Feuil1!C138:I165,6,FALSE) -> 32 | E2: =SUM(D2-C2) -> 35
B5: Mesure
B6: Longeur | C6: en m | D6: Largeur | E6: en m | F6: Hauteur | G6: en m
B7: R-2 | D7: =IF(B7=0,0,B7) -> R-2 | F7: =IF(D7=0,0,D7) -> R-2
B8: Surface
B9: Surface murs | C9: en m² | D9: Surface plancher | E9: en m² | F9: Surface vitrées
B10: =IF(F7=0,0,F7) -> R-2 | C10: =IF(AND(I10=0,C7=0,G7=0,E7=0),0,(C7*G7*2)+(E7*G7*2)-I10) -> 0 | D10: =IF(F7=0,0,F7) -> R-2 | E10: =IF(AND(C7=0,E7=0),0,E7*C7) -> 0 | F10: =IF(F7=0,0,F7) -> R-2 | G10: =IF(E10=0,0,E10/6) -> 0
B15: Murs | M15: Plafond
B16: Mur | C16: Conduc lambda | D16: Epaisseur | E16: Resistances Mur | F16: Rtot | G16: Coefficient de transmision surfacique | H16: Surface murs | I16: Flux thermique à travers les murs | J16: Flux thermique à travers les murs | M16: Parois | N16: Epaisseur | O16: Conduc lambda | P16: Resistance Murs | Q16: Flux surfacique | R16: Surface murs | S16: Flux thermique à travers les murs | T16: Flux thermique à travers les murs
B17: Matériaux | E17: R = e/l | F17: Rtot=R1+R2+R3 | G17: U=1/Rtot | H17: SP | I17: ΦM = φM SM | J17: ΦM = φM SM | P17: R = e/l | Q17: φM =(θi-θe) / RM | R17: SM = 2(L+l) h -Sp-Sv | S17: ΦM = φM SM | T17: ΦM = φM SM
B18: Unités | C18: W/K.m | D18: M | E18: M².K/W | F18: M².K/W | H18: m² | I18: W | J18: kW | M18: Unités | N18: M | O18: W/K.m | P18: M².K/W | Q18: W m-2 | R18: m² | S18: W | T18: kW
B19: Béton | C19: 0 | E19: =IF(AND(C19=0,D19=0),0,D19/C19) -> 0 | F19: =SUM(E19:E28) -> 0 | G19: =IF(F19=0,0,1/F19) -> 0 | H19: =C10 -> 0 | I19: =IF(AND(E2=0,H19=0,G19=0),0,H19*G19*E2) -> 0 | J19: =SUM(J19:J28) -> 0 | M19: Matériaux
C20: =VLOOKUP(B20,Feuil1!C51:L91,2,FALSE) -> 0 | D20: 0 | E20: =IF(AND(C20=0,D20=0),0,D20/C20) -> 0
C21: =VLOOKUP(B21,Feuil1!C42:L50,2,FALSE) -> 0 | D21: 0 | E21: =IF(AND(C21=0,D21=0),0,D21/C21) -> 0
E28: =SUM(E19:E27) -> 0
B30: Plancher
B31: Matériaux | C31: Conduc lambda | D31: Epaisseur | E31: Resistance Murs | H31: Surface murs | I31: Flux thermique à travers les murs | J31: Flux thermique à travers les murs | M31: Fenêtre
E32: R = e/l | H32: SM = 2(L+l) h -Sp-Sv | I32: ΦM = φM SM | J32: ΦM = φM SM | M32: Parois | N32: Epaisseur | O32: Conduc lambda | P32: Resistance Murs | Q32: Flux surfacique | R32: Surface murs | S32: Flux thermique à travers les murs | T32: Flux thermique à travers les murs
B33: Unités | C33: W/K.m | D33: M | E33: M².K/W | H33: m² | I33: W | J33: kW | P33: R = e/l | Q33: φM =(θi-θe) / RM | R33: SM = 2(L+l) h -Sp-Sv | S33: ΦM = φM SM | T33: ΦM = φM SM
B34: Matériaux | M34: Unités | N34: M | O34: W/K.m | P34: M².K/W | Q34: W m-2 | R34: m² | S34: W | T34: kW
M35: Matériaux
