Workbook

Sheet 18 02 20
A1: Cial | B1: Interloc | C1: Client | D1: Nom | E1: siret | F1: Téléphone | G1: N° de fact. | H1: Date de fact. | I1: Echéance | J1: Montant TTC | K1: Déjà versé | L1: Solde | M1: Échéance | N1: Nb jours | O1: Ancienne facture | P1: Niveau de relance de base | Q1: Niveau | R1: Niveau de relance | S1: Action | T1: Date envoi courrier | U1: Commentaire précédent | V1: Commentaire | W1: Paiement ok | X1: Promesse de paiement | Y1: Action supplémentaire | Z1: Ne pas relancer | AA1: Action supplémentaire | AB1: Date promesse de paiement | AC1: Vérification contrat | AD1: Vérifications relevé d'heures | AE1: Adresse 1 | AF1: Adresse 2 | AG1: Code Postal | AH1: Ville | AI1: Nom du contact | AJ1: N° de téléphone
D2: MACHIN TRUC | G2: 2836 | H2: 43799 | I2: V 30/12/2019 | J2: 1386 | L2: 1386 | M2: =RIGHT(I2,10) -> 30/12/2019 | N2: =IF(M2="","",DATEDIF(M2,TODAY(),"d")) -> 52 | O2: =IF(Q2="","",IF(DATEVALUE(M2)>$AM$2,"","x")) -> x | P2: =IF(I2="","",IF(N2>40,"relance niveau 6",IF(N2>35,"relance niveau 5",IF(N2>25,"relance niveau 4",IF(N2>20,"relance niveau 3",IF(N2>10,"relance niveau 2",IF(N2>=5,"relance niveau 1","facture non échue"))))))) -> relance niveau 6 | Q2: =IF(W2="x","",IF(P2="facture non échue","",RIGHT(P2,1))) -> 6 | R2: =IF(P2="facture non échue","ne pas relancer", IF(Z2="x","ne pas relancer", IF(O2="x","relance niveau 2", IF(Q2="","facture réglée", IF(AND(O2="",Q1=""),P2, IF(W1="x",P2, IF(I2="","", IF(Y2="oui","contrôler avant de relancer", IF(X2="oui","promesse de paiement", IF(AND(D2=D1,Q1>=Q2),R1, IF(N2>40,"relance niveau 6", IF(N2>35,"relance niveau 5", IF(N2>25,"relance niveau 4", IF(N2>20,"relance niveau 3", IF(N2>10,"relance niveau 2", IF(N2>=5,"relance niveau 1", IF(X2="oui","promesse de paiement",""))))))))))))))))) -> relance niveau 2 | S2: =IF(R2="relance niveau 1","relance simple par courrier",IF(R2="relance niveau 2","relance téléphonique",IF(R2="relance niveau 3","lettre rar",IF(R2="relance niveau 4","relance téléphonique",IF(R2="relance niveau 5","Mise en demeure LRAR",IF(R2="relance niveau 6","relance téléphonique",IF(R2="promesse de paiement","Contrôler si paiement",""))))))) -> relance téléphonique | U2: =IF($I2="","",IF((VLOOKUP($G2,'12 02 20'!$G:AH,16,FALSE))=0,"",(VLOOKUP($G2,'12 02 20'!$G:AH,16,FALSE)))) -> ESSAI | X2: =IF(AB2="","","oui") | Y2: =IF(AA2="","","oui") | Z2: =IF($I2="","",IF((VLOOKUP($G2,'12 02 20'!$G:AM,20,FALSE))=0,"",(VLOOKUP($G2,'12 02 20'!$G:AM,20,FALSE)))) | AA2: =IF($I2="","",IF((VLOOKUP($G2,'12 02 20'!$G:AN,21,FALSE))=0,"",(VLOOKUP($G2,'12 02 20'!$G:AN,21,FALSE)))) | AB2: =IF($I2="","",IF((VLOOKUP($G2,'12 02 20'!$G:AO,22,FALSE))=0,"",(VLOOKUP($G2,'12 02 20'!$G:AO,22,FALSE)))) | AC2: =IF($I2="","",IF((VLOOKUP($G2,'12 02 20'!$G:AP,23,FALSE))=0,"",(VLOOKUP($G2,'12 02 20'!$G:AP,23,FALSE)))) | AD2: =IF($I2="","",IF((VLOOKUP($G2,'12 02 20'!$G:AQ,24,FALSE))=0,"",(VLOOKUP($G2,'12 02 20'!$G:AQ,24,FALSE)))) | AE2: =IF($I2="","",IF((VLOOKUP($D2,'Fichier client - BBI IDF'!$A:G,2,FALSE))=0,"",(VLOOKUP($D2,'Fichier client - BBI IDF'!$A:G,2,FALSE)))) -> 112 avenue Henri Ginoux | AF2: =IF($I2="","",IF((VLOOKUP($D2,'Fichier client - BBI IDF'!$A:H,3,FALSE))=0,"",(VLOOKUP($D2,'Fichier client - BBI IDF'!$A:H,3,FALSE)))) | AG2: =IF($I2="","",IF((VLOOKUP($D2,'Fichier client - BBI IDF'!$A:I,4,FALSE))=0,"",(VLOOKUP($D2,'Fichier client - BBI IDF'!$A:I,4,FALSE)))) -> 92120 MONTROUGE | AH2: =IF($I2="","",IF((VLOOKUP($D2,'Fichier client - BBI IDF'!$A:J,5,FALSE))=0,"",(VLOOKUP($D2,'Fichier client - BBI IDF'!$A:J,5,FALSE)))) | AI2: =IF($I2="","",IF((VLOOKUP($D2,'Fichier client - BBI IDF'!$A:K,6,FALSE))=0,"",(VLOOKUP($D2,'Fichier client - BBI IDF'!$A:K,6,FALSE)))) | AJ2: =IF($I2="","",IF((VLOOKUP($D2,'Fichier client - BBI IDF'!$A:L,7,FALSE))=0,"",(VLOOKUP($D2,'Fichier client - BBI IDF'!$A:L,7,FALSE)))) | AM2: 43873
D3: TRUC CHOSE | G3: 2837 | H3: 43799 | I3: V 30/12/2019 | J3: 2574 | L3: 2574 | M3: =RIGHT(I3,10) -> 30/12/2019 | N3: =IF(M3="","",DATEDIF(M3,TODAY(),"d")) -> 52 | O3: =IF(Q3="","",IF(DATEVALUE(M3)>$AM$2,"","x")) -> x | P3: =IF(I3="","",IF(N3>40,"relance niveau 6",IF(N3>35,"relance niveau 5",IF(N3>25,"relance niveau 4",IF(N3>20,"relance niveau 3",IF(N3>10,"relance niveau 2",IF(N3>=5,"relance niveau 1","facture non échue"))))))) -> relance niveau 6 | Q3: =IF(W3="x","",IF(P3="facture non échue","",RIGHT(P3,1))) -> 6 | R3: =IF(P3="facture non échue","ne pas relancer", IF(Z3="x","ne pas relancer", IF(O3="x","relance niveau 2", IF(Q3="","facture réglée", IF(AND(O3="",Q2=""),P3, IF(W2="x",P3, IF(I3="","", IF(Y3="oui","contrôler avant de relancer", IF(X3="oui","promesse de paiement", IF(AND(D3=D2,Q2>=Q3),R2, IF(N3>40,"relance niveau 6", IF(N3>35,"relance niveau 5", IF(N3>25,"relance niveau 4", IF(N3>20,"relance niveau 3", IF(N3>10,"relance niveau 2", IF(N3>=5,"relance niveau 1", IF(X3="oui","promesse de paiement",""))))))))))))))))) -> relance niveau 2 | S3: =IF(R3="relance niveau 1","relance simple par courrier",IF(R3="relance niveau 2","relance téléphonique",IF(R3="relance niveau 3","lettre rar",IF(R3="relance niveau 4","relance téléphonique",IF(R3="relance niveau 5","Mise en demeure LRAR",IF(R3="relance niveau 6","relance téléphonique",IF(R3="promesse de paiement","Contrôler si paiement",""))))))) -> relance téléphonique | U3: =IF($I3="","",IF((VLOOKUP($G3,'12 02 20'!$G:AH,16,FALSE))=0,"",(VLOOKUP($G3,'12 02 20'!$G:AH,16,FALSE)))) | X3: =IF(AB3="","","oui") | Y3: =IF(AA3="","","oui") | Z3: =IF($I3="","",IF((VLOOKUP($G3,'12 02 20'!$G:$AJ,20,FALSE))=0,"",(VLOOKUP($G3,'12 02 20'!$G:$AJ,20,FALSE)))) | AA3: =IF($I3="","",IF((VLOOKUP($G3,'12 02 20'!$G:$AJ,21,FALSE))=0,"",(VLOOKUP($G3,'12 02 20'!$G:$AJ,21,FALSE)))) | AB3: =IF($I3="","",IF((VLOOKUP($G3,'12 02 20'!$G:$AJ,22,FALSE))=0,"",(VLOOKUP($G3,'12 02 20'!$G:$AJ,22,FALSE)))) | AC3: =IF($I3="","",IF((VLOOKUP($G3,'12 02 20'!$G:$AJ,23,FALSE))=0,"",(VLOOKUP($G3,'12 02 20'!$G:$AJ,23,FALSE)))) | AD3: =IF($I3="","",IF((VLOOKUP($G3,'12 02 20'!$G:$AJ,24,FALSE))=0,"",(VLOOKUP($G3,'12 02 20'!$G:$AJ,24,FALSE)))) | AE3: =IF($I3="","",IF((VLOOKUP($D3,'Fichier client - BBI IDF'!$A:G,2,FALSE))=0,"",(VLOOKUP($D3,'Fichier client - BBI IDF'!$A:G,2,FALSE)))) -> 4 RUE MMM | AF3: =IF($I3="","",IF((VLOOKUP($D3,'Fichier client - BBI IDF'!$A:H,3,FALSE))=0,"",(VLOOKUP($D3,'Fichier client - BBI IDF'!$A:H,3,FALSE)))) -> 34580 | AG3: =IF($I3="","",IF((VLOOKUP($D3,'Fichier client - BBI IDF'!$A:I,4,FALSE))=0,"",(VLOOKUP($D3,'Fichier client - BBI IDF'!$A:I,4,FALSE)))) -> FEFEIJF | AH3: =IF($I3="","",IF((VLOOKUP($D3,'Fichier client - BBI IDF'!$A:J,5,FALSE))=0,"",(VLOOKUP($D3,'Fichier client - BBI IDF'!$A:J,5,FALSE)))) -> FFFF | AI3: =IF($I3="","",IF((VLOOKUP($D3,'Fichier client - BBI IDF'!$A:K,6,FALSE))=0,"",(VLOOKUP($D3,'Fichier client - BBI IDF'!$A:K,6,FALSE)))) | AJ3: =IF($I3="","",IF((VLOOKUP($D3,'Fichier client - BBI IDF'!$A:L,7,FALSE))=0,"",(VLOOKUP($D3,'Fichier client - BBI IDF'!$A:L,7,FALSE))))
D4: HOP HOP HOP | G4: 2927 | H4: 43830 | I4: V 31/01/2020 | J4: 12024 | L4: 12024 | M4: =RIGHT(I4,10) -> 31/01/2020 | N4: =IF(M4="","",DATEDIF(M4,TODAY(),"d")) -> 20 | O4: =IF(Q4="","",IF(DATEVALUE(M4)>$AM$2,"","x")) -> x | P4: =IF(I4="","",IF(N4>40,"relance niveau 6",IF(N4>35,"relance niveau 5",IF(N4>25,"relance niveau 4",IF(N4>20,"relance niveau 3",IF(N4>10,"relance niveau 2",IF(N4>=5,"relance niveau 1","facture non échue"))))))) -> relance niveau 2 | Q4: =IF(W4="x","",IF(P4="facture non échue","",RIGHT(P4,1))) -> 2 | R4: =IF(P4="facture non échue","ne pas relancer", IF(Z4="x","ne pas relancer", IF(O4="x","relance niveau 2", IF(Q4="","facture réglée", IF(AND(O4="",Q3=""),P4, IF(W3="x",P4, IF(I4="","", IF(Y4="oui","contrôler avant de relancer", IF(X4="oui","promesse de paiement", IF(AND(D4=D3,Q3>=Q4),R3, IF(N4>40,"relance niveau 6", IF(N4>35,"relance niveau 5", IF(N4>25,"relance niveau 4", IF(N4>20,"relance niveau 3", IF(N4>10,"relance niveau 2", IF(N4>=5,"relance niveau 1", IF(X4="oui","promesse de paiement",""))))))))))))))))) -> relance niveau 2 | S4: =IF(R4="relance niveau 1","relance simple par courrier",IF(R4="relance niveau 2","relance téléphonique",IF(R4="relance niveau 3","lettre rar",IF(R4="relance niveau 4","relance téléphonique",IF(R4="relance niveau 5","Mise en demeure LRAR",IF(R4="relance niveau 6","relance téléphonique",IF(R4="promesse de paiement","Contrôler si paiement",""))))))) -> relance téléphonique | U4: =IF($I4="","",IF((VLOOKUP($G4,'12 02 20'!$G:AH,16,FALSE))=0,"",(VLOOKUP($G4,'12 02 20'!$G:AH,16,FALSE)))) | X4: =IF(AB4="","","oui") | Y4: =IF(AA4="","","oui") | Z4: =IF($I4="","",IF((VLOOKUP($G4,'12 02 20'!$G:$AJ,20,FALSE))=0,"",(VLOOKUP($G4,'12 02 20'!$G:$AJ,20,FALSE)))) | AA4: =IF($I4="","",IF((VLOOKUP($G4,'12 02 20'!$G:$AJ,21,FALSE))=0,"",(VLOOKUP($G4,'12 02 20'!$G:$AJ,21,FALSE)))) | AB4: =IF($I4="","",IF((VLOOKUP($G4,'12 02 20'!$G:$AJ,22,FALSE))=0,"",(VLOOKUP($G4,'12 02 20'!$G:$AJ,22,FALSE)))) | AC4: =IF($I4="","",IF((VLOOKUP($G4,'12 02 20'!$G:$AJ,23,FALSE))=0,"",(VLOOKUP($G4,'12 02 20'!$G:$AJ,23,FALSE)))) | AD4: =IF($I4="","",IF((VLOOKUP($G4,'12 02 20'!$G:$AJ,24,FALSE))=0,"",(VLOOKUP($G4,'12 02 20'!$G:$AJ,24,FALSE)))) | AE4: =IF($I4="","",IF((VLOOKUP($D4,'Fichier client - BBI IDF'!$A:G,2,FALSE))=0,"",(VLOOKUP($D4,'Fichier client - BBI IDF'!$A:G,2,FALSE)))) -> 4 RUE MOIMONT | AF4: =IF($I4="","",IF((VLOOKUP($D4,'Fichier client - BBI IDF'!$A:H,3,FALSE))=0,"",(VLOOKUP($D4,'Fichier client - BBI IDF'!$A:H,3,FALSE)))) | AG4: =IF($I4="","",IF((VLOOKUP($D4,'Fichier client - BBI IDF'!$A:I,4,FALSE))=0,"",(VLOOKUP($D4,'Fichier client - BBI IDF'!$A:I,4,FALSE)))) -> 95470 | AH4: =IF($I4="","",IF((VLOOKUP($D4,'Fichier client - BBI IDF'!$A:J,5,FALSE))=0,"",(VLOOKUP($D4,'Fichier client - BBI IDF'!$A:J,5,FALSE)))) -> SAINT-WITZ | AI4: =IF($I4="","",IF((VLOOKUP($D4,'Fichier client - BBI IDF'!$A:K,6,FALSE))=0,"",(VLOOKUP($D4,'Fichier client - BBI IDF'!$A:K,6,FALSE)))) | AJ4: =IF($I4="","",IF((VLOOKUP($D4,'Fichier client - BBI IDF'!$A:L,7,FALSE))=0,"",(VLOOKUP($D4,'Fichier client - BBI IDF'!$A:L,7,FALSE))))
D5: MERCI DE M'AIDER | G5: 2928 | H5: 43830 | I5: V 31/01/2020 | J5: 5700 | L5: 5700 | M5: =RIGHT(I5,10) -> 31/01/2020 | N5: =IF(M5="","",DATEDIF(M5,TODAY(),"d")) -> 20 | O5: =IF(Q5="","",IF(DATEVALUE(M5)>$AM$2,"","x")) -> x | P5: =IF(I5="","",IF(N5>40,"relance niveau 6",IF(N5>35,"relance niveau 5",IF(N5>25,"relance niveau 4",IF(N5>20,"relance niveau 3",IF(N5>10,"relance niveau 2",IF(N5>=5,"relance niveau 1","facture non échue"))))))) -> relance niveau 2 | Q5: =IF(W5="x","",IF(P5="facture non échue","",RIGHT(P5,1))) -> 2 | R5: =IF(P5="facture non échue","ne pas relancer", IF(Z5="x","ne pas relancer", IF(O5="x","relance niveau 2", IF(Q5="","facture réglée", IF(AND(O5="",Q4=""),P5, IF(W4="x",P5, IF(I5="","", IF(Y5="oui","contrôler avant de relancer", IF(X5="oui","promesse de paiement", IF(AND(D5=D4,Q4>=Q5),R4, IF(N5>40,"relance niveau 6", IF(N5>35,"relance niveau 5", IF(N5>25,"relance niveau 4", IF(N5>20,"relance niveau 3", IF(N5>10,"relance niveau 2", IF(N5>=5,"relance niveau 1", IF(X5="oui","promesse de paiement",""))))))))))))))))) -> relance niveau 2 | S5: =IF(R5="relance niveau 1","relance simple par courrier",IF(R5="relance niveau 2","relance téléphonique",IF(R5="relance niveau 3","lettre rar",IF(R5="relance niveau 4","relance téléphonique",IF(R5="relance niveau 5","Mise en demeure LRAR",IF(R5="relance niveau 6","relance téléphonique",IF(R5="promesse de paiement","Contrôler si paiement",""))))))) -> relance téléphonique | U5: =IF($I5="","",IF((VLOOKUP($G5,'12 02 20'!$G:AH,16,FALSE))=0,"",(VLOOKUP($G5,'12 02 20'!$G:AH,16,FALSE)))) | X5: =IF(AB5="","","oui") | Y5: =IF(AA5="","","oui") | Z5: =IF($I5="","",IF((VLOOKUP($G5,'12 02 20'!$G:$AJ,20,FALSE))=0,"",(VLOOKUP($G5,'12 02 20'!$G:$AJ,20,FALSE)))) | AA5: =IF($I5="","",IF((VLOOKUP($G5,'12 02 20'!$G:$AJ,21,FALSE))=0,"",(VLOOKUP($G5,'12 02 20'!$G:$AJ,21,FALSE)))) | AB5: =IF($I5="","",IF((VLOOKUP($G5,'12 02 20'!$G:$AJ,22,FALSE))=0,"",(VLOOKUP($G5,'12 02 20'!$G:$AJ,22,FALSE)))) | AC5: =IF($I5="","",IF((VLOOKUP($G5,'12 02 20'!$G:$AJ,23,FALSE))=0,"",(VLOOKUP($G5,'12 02 20'!$G:$AJ,23,FALSE)))) | AD5: =IF($I5="","",IF((VLOOKUP($G5,'12 02 20'!$G:$AJ,24,FALSE))=0,"",(VLOOKUP($G5,'12 02 20'!$G:$AJ,24,FALSE)))) | AE5: =IF($I5="","",IF((VLOOKUP($D5,'Fichier client - BBI IDF'!$A:G,2,FALSE))=0,"",(VLOOKUP($D5,'Fichier client - BBI IDF'!$A:G,2,FALSE)))) -> 108 rue denis roy | AF5: =IF($I5="","",IF((VLOOKUP($D5,'Fichier client - BBI IDF'!$A:H,3,FALSE))=0,"",(VLOOKUP($D5,'Fichier client - BBI IDF'!$A:H,3,FALSE)))) | AG5: =IF($I5="","",IF((VLOOKUP($D5,'Fichier client - BBI IDF'!$A:I,4,FALSE))=0,"",(VLOOKUP($D5,'Fichier client - BBI IDF'!$A:I,4,FALSE)))) -> 95100 | AH5: =IF($I5="","",IF((VLOOKUP($D5,'Fichier client - BBI IDF'!$A:J,5,FALSE))=0,"",(VLOOKUP($D5,'Fichier client - BBI IDF'!$A:J,5,FALSE)))) -> ARGENTEUIL | AI5: =IF($I5="","",IF((VLOOKUP($D5,'Fichier client - BBI IDF'!$A:K,6,FALSE))=0,"",(VLOOKUP($D5,'Fichier client - BBI IDF'!$A:K,6,FALSE)))) | AJ5: =IF($I5="","",IF((VLOOKUP($D5,'Fichier client - BBI IDF'!$A:L,7,FALSE))=0,"",(VLOOKUP($D5,'Fichier client - BBI IDF'!$A:L,7,FALSE))))
N6: =IF(M6="","",DATEDIF(M6,TODAY(),"d")) | O6: =IF(I6="","",IF(DATEVALUE(M6)>$AM$2,"","x")) | P6: =IF(I6="","",IF(N6>40,"relance niveau 6",IF(N6>35,"relance niveau 5",IF(N6>25,"relance niveau 4",IF(N6>20,"relance niveau 3",IF(N6>10,"relance niveau 2",IF(N6>=5,"relance niveau 1","facture non échue"))))))) | Q6: =IF(P6="facture non échue","",IF(O6="","",RIGHT(P6,1))) | S6: =IF(R6="relance niveau 1","relance simple par courrier",IF(R6="relance niveau 2","relance téléphonique",IF(R6="relance niveau 3","lettre rar",IF(R6="relance niveau 4","relance téléphonique",IF(R6="relance niveau 5","Mise en demeure LRAR",IF(R6="relance niveau 6","relance téléphonique",IF(R6="promesse de paiement","Contrôler si paiement",""))))))) | X6: =IF(AB6="","","oui")
M7: =RIGHT(I7,10) | N7: =IF(M7="","",DATEDIF(M7,TODAY(),"d")) | O7: =IF(I7="","",IF(DATEVALUE(M7)>$AM$2,"","x")) | P7: =IF(I7="","",IF(N7>40,"relance niveau 6",IF(N7>35,"relance niveau 5",IF(N7>25,"relance niveau 4",IF(N7>20,"relance niveau 3",IF(N7>10,"relance niveau 2",IF(N7>=5,"relance niveau 1","facture non échue"))))))) | Q7: =IF(P7="facture non échue","",IF(O7="","",RIGHT(P7,1))) | S7: =IF(R7="relance niveau 1","relance simple par courrier",IF(R7="relance niveau 2","relance téléphonique",IF(R7="relance niveau 3","lettre rar",IF(R7="relance niveau 4","relance téléphonique",IF(R7="relance niveau 5","Mise en demeure LRAR",IF(R7="relance niveau 6","relance téléphonique",IF(R7="promesse de paiement","Contrôler si paiement",""))))))) | X7: =IF(AB7="","","oui")
M8: =RIGHT(I8,10) | N8: =IF(M8="","",DATEDIF(M8,TODAY(),"d")) | O8: =IF(Q8="","",IF(DATEVALUE(M8)>$AM$2,"","x")) | P8: =IF(I8="","",IF(N8>40,"relance niveau 6",IF(N8>35,"relance niveau 5",IF(N8>25,"relance niveau 4",IF(N8>20,"relance niveau 3",IF(N8>10,"relance niveau 2",IF(N8>=5,"relance niveau 1","facture non échue"))))))) | Q8: =IF(W8="x","",IF(P8="facture non échue","",RIGHT(P8,1))) | S8: =IF(R8="relance niveau 1","relance simple par courrier",IF(R8="relance niveau 2","relance téléphonique",IF(R8="relance niveau 3","lettre rar",IF(R8="relance niveau 4","relance téléphonique",IF(R8="relance niveau 5","Mise en demeure LRAR",IF(R8="relance niveau 6","relance téléphonique",IF(R8="promesse de paiement","Contrôler si paiement",""))))))) | X8: =IF(AB8="","","oui")
M9: =RIGHT(I9,10) | N9: =IF(M9="","",DATEDIF(M9,TODAY(),"d")) | O9: =IF(I9="","",IF(DATEVALUE(M9)>$AM$2,"","x")) | P9: =IF(I9="","",IF(N9>40,"relance niveau 6",IF(N9>35,"relance niveau 5",IF(N9>25,"relance niveau 4",IF(N9>20,"relance niveau 3",IF(N9>10,"relance niveau 2",IF(N9>=5,"relance niveau 1","facture non échue"))))))) | Q9: =IF(P9="facture non échue","",IF(O9="","",RIGHT(P9,1))) | S9: =IF(R9="relance niveau 1","relance simple par courrier",IF(R9="relance niveau 2","relance téléphonique",IF(R9="relance niveau 3","lettre rar",IF(R9="relance niveau 4","relance téléphonique",IF(R9="relance niveau 5","Mise en demeure LRAR",IF(R9="relance niveau 6","relance téléphonique",IF(R9="promesse de paiement","Contrôler si paiement",""))))))) | X9: =IF(AB9="","","oui")
M10: =RIGHT(I10,10) | N10: =IF(M10="","",DATEDIF(M10,TODAY(),"d")) | O10: =IF(I10="","",IF(DATEVALUE(M10)>$AM$2,"","x")) | P10: =IF(I10="","",IF(N10>40,"relance niveau 6",IF(N10>35,"relance niveau 5",IF(N10>25,"relance niveau 4",IF(N10>20,"relance niveau 3",IF(N10>10,"relance niveau 2",IF(N10>=5,"relance niveau 1","facture non échue"))))))) | Q10: =IF(P10="facture non échue","",IF(O10="","",RIGHT(P10,1))) | S10: =IF(R10="relance niveau 1","relance simple par courrier",IF(R10="relance niveau 2","relance téléphonique",IF(R10="relance niveau 3","lettre rar",IF(R10="relance niveau 4","relance téléphonique",IF(R10="relance niveau 5","Mise en demeure LRAR",IF(R10="relance niveau 6","relance téléphonique",IF(R10="promesse de paiement","Contrôler si paiement",""))))))) | X10: =IF(AB10="","","oui")
M11: =RIGHT(I11,10) | N11: =IF(M11="","",DATEDIF(M11,TODAY(),"d")) | O11: =IF(Q11="","",IF(DATEVALUE(M11)>$AM$2,"","x")) | P11: =IF(I11="","",IF(N11>40,"relance niveau 6",IF(N11>35,"relance niveau 5",IF(N11>25,"relance niveau 4",IF(N11>20,"relance niveau 3",IF(N11>10,"relance niveau 2",IF(N11>=5,"relance niveau 1","facture non échue"))))))) | Q11: =IF(W11="x","",IF(P11="facture non échue","",RIGHT(P11,1))) | S11: =IF(R11="relance niveau 1","relance simple par courrier",IF(R11="relance niveau 2","relance téléphonique",IF(R11="relance niveau 3","lettre rar",IF(R11="relance niveau 4","relance téléphonique",IF(R11="relance niveau 5","Mise en demeure LRAR",IF(R11="relance niveau 6","relance téléphonique",IF(R11="promesse de paiement","Contrôler si paiement",""))))))) | X11: =IF(AB11="","","oui")
M12: =RIGHT(I12,10) | N12: =IF(M12="","",DATEDIF(M12,TODAY(),"d")) | O12: =IF(I12="","",IF(DATEVALUE(M12)>$AM$2,"","x")) | P12: =IF(I12="","",IF(N12>40,"relance niveau 6",IF(N12>35,"relance niveau 5",IF(N12>25,"relance niveau 4",IF(N12>20,"relance niveau 3",IF(N12>10,"relance niveau 2",IF(N12>=5,"relance niveau 1","facture non échue"))))))) | Q12: =IF(P12="facture non échue","",IF(O12="","",RIGHT(P12,1))) | S12: =IF(R12="relance niveau 1","relance simple par courrier",IF(R12="relance niveau 2","relance téléphonique",IF(R12="relance niveau 3","lettre rar",IF(R12="relance niveau 4","relance téléphonique",IF(R12="relance niveau 5","Mise en demeure LRAR",IF(R12="relance niveau 6","relance téléphonique",IF(R12="promesse de paiement","Contrôler si paiement",""))))))) | X12: =IF(AB12="","","oui")
M13: =RIGHT(I13,10) | N13: =IF(M13="","",DATEDIF(M13,TODAY(),"d")) | O13: =IF(I13="","",IF(DATEVALUE(M13)>$AM$2,"","x")) | P13: =IF(I13="","",IF(N13>40,"relance niveau 6",IF(N13>35,"relance niveau 5",IF(N13>25,"relance niveau 4",IF(N13>20,"relance niveau 3",IF(N13>10,"relance niveau 2",IF(N13>=5,"relance niveau 1","facture non échue"))))))) | Q13: =IF(P13="facture non échue","",IF(O13="","",RIGHT(P13,1))) | S13: =IF(R13="relance niveau 1","relance simple par courrier",IF(R13="relance niveau 2","relance téléphonique",IF(R13="relance niveau 3","lettre rar",IF(R13="relance niveau 4","relance téléphonique",IF(R13="relance niveau 5","Mise en demeure LRAR",IF(R13="relance niveau 6","relance téléphonique",IF(R13="promesse de paiement","Contrôler si paiement",""))))))) | X13: =IF(AB13="","","oui")
M14: =RIGHT(I14,10) | N14: =IF(M14="","",DATEDIF(M14,TODAY(),"d")) | O14: =IF(I14="","",IF(DATEVALUE(M14)>$AM$2,"","x")) | P14: =IF(I14="","",IF(N14>40,"relance niveau 6",IF(N14>35,"relance niveau 5",IF(N14>25,"relance niveau 4",IF(N14>20,"relance niveau 3",IF(N14>10,"relance niveau 2",IF(N14>=5,"relance niveau 1","facture non échue"))))))) | Q14: =IF(P14="facture non échue","",IF(O14="","",RIGHT(P14,1))) | S14: =IF(R14="relance niveau 1","relance simple par courrier",IF(R14="relance niveau 2","relance téléphonique",IF(R14="relance niveau 3","lettre rar",IF(R14="relance niveau 4","relance téléphonique",IF(R14="relance niveau 5","Mise en demeure LRAR",IF(R14="relance niveau 6","relance téléphonique",IF(R14="promesse de paiement","Contrôler si paiement",""))))))) | X14: =IF(AB14="","","oui")
M15: =RIGHT(I15,10) | N15: =IF(M15="","",DATEDIF(M15,TODAY(),"d")) | O15: =IF(I15="","",IF(DATEVALUE(M15)>$AM$2,"","x")) | P15: =IF(I15="","",IF(N15>40,"relance niveau 6",IF(N15>35,"relance niveau 5",IF(N15>25,"relance niveau 4",IF(N15>20,"relance niveau 3",IF(N15>10,"relance niveau 2",IF(N15>=5,"relance niveau 1","facture non échue"))))))) | Q15: =IF(P15="facture non échue","",IF(O15="","",RIGHT(P15,1))) | S15: =IF(R15="relance niveau 1","relance simple par courrier",IF(R15="relance niveau 2","relance téléphonique",IF(R15="relance niveau 3","lettre rar",IF(R15="relance niveau 4","relance téléphonique",IF(R15="relance niveau 5","Mise en demeure LRAR",IF(R15="relance niveau 6","relance téléphonique",IF(R15="promesse de paiement","Contrôler si paiement",""))))))) | X15: =IF(AB15="","","oui")
M16: =RIGHT(I16,10) | N16: =IF(M16="","",DATEDIF(M16,TODAY(),"d")) | O16: =IF(I16="","",IF(DATEVALUE(M16)>$AM$2,"","x")) | P16: =IF(I16="","",IF(N16>40,"relance niveau 6",IF(N16>35,"relance niveau 5",IF(N16>25,"relance niveau 4",IF(N16>20,"relance niveau 3",IF(N16>10,"relance niveau 2",IF(N16>=5,"relance niveau 1","facture non échue"))))))) | Q16: =IF(P16="facture non échue","",IF(O16="","",RIGHT(P16,1))) | S16: =IF(R16="relance niveau 1","relance simple par courrier",IF(R16="relance niveau 2","relance téléphonique",IF(R16="relance niveau 3","lettre rar",IF(R16="relance niveau 4","relance téléphonique",IF(R16="relance niveau 5","Mise en demeure LRAR",IF(R16="relance niveau 6","relance téléphonique",IF(R16="promesse de paiement","Contrôler si paiement",""))))))) | X16: =IF(AB16="","","oui")
M17: =RIGHT(I17,10) | N17: =IF(M17="","",DATEDIF(M17,TODAY(),"d")) | O17: =IF(Q17="","",IF(DATEVALUE(M17)>$AM$2,"","x")) | P17: =IF(I17="","",IF(N17>40,"relance niveau 6",IF(N17>35,"relance niveau 5",IF(N17>25,"relance niveau 4",IF(N17>20,"relance niveau 3",IF(N17>10,"relance niveau 2",IF(N17>=5,"relance niveau 1","facture non échue"))))))) | Q17: =IF(W17="x","",IF(P17="facture non échue","",RIGHT(P17,1))) | S17: =IF(R17="relance niveau 1","relance simple par courrier",IF(R17="relance niveau 2","relance téléphonique",IF(R17="relance niveau 3","lettre rar",IF(R17="relance niveau 4","relance téléphonique",IF(R17="relance niveau 5","Mise en demeure LRAR",IF(R17="relance niveau 6","relance téléphonique",IF(R17="promesse de paiement","Contrôler si paiement",""))))))) | X17: =IF(AB17="","","oui")
M18: =RIGHT(I18,10) | N18: =IF(M18="","",DATEDIF(M18,TODAY(),"d")) | O18: =IF(Q18="","",IF(DATEVALUE(M18)>$AM$2,"","x")) | P18: =IF(I18="","",IF(N18>40,"relance niveau 6",IF(N18>35,"relance niveau 5",IF(N18>25,"relance niveau 4",IF(N18>20,"relance niveau 3",IF(N18>10,"relance niveau 2",IF(N18>=5,"relance niveau 1","facture non échue"))))))) | Q18: =IF(W18="x","",IF(P18="facture non échue","",RIGHT(P18,1))) | S18: =IF(R18="relance niveau 1","relance simple par courrier",IF(R18="relance niveau 2","relance téléphonique",IF(R18="relance niveau 3","lettre rar",IF(R18="relance niveau 4","relance téléphonique",IF(R18="relance niveau 5","Mise en demeure LRAR",IF(R18="relance niveau 6","relance téléphonique",IF(R18="promesse de paiement","Contrôler si paiement",""))))))) | X18: =IF(AB18="","","oui")
M19: =RIGHT(I19,10) | N19: =IF(M19="","",DATEDIF(M19,TODAY(),"d")) | O19: =IF(I19="","",IF(DATEVALUE(M19)>$AM$2,"","x")) | P19: =IF(I19="","",IF(N19>40,"relance niveau 6",IF(N19>35,"relance niveau 5",IF(N19>25,"relance niveau 4",IF(N19>20,"relance niveau 3",IF(N19>10,"relance niveau 2",IF(N19>=5,"relance niveau 1","facture non échue"))))))) | Q19: =IF(P19="facture non échue","",IF(O19="","",RIGHT(P19,1))) | S19: =IF(R19="relance niveau 1","relance simple par courrier",IF(R19="relance niveau 2","relance téléphonique",IF(R19="relance niveau 3","lettre rar",IF(R19="relance niveau 4","relance téléphonique",IF(R19="relance niveau 5","Mise en demeure LRAR",IF(R19="relance niveau 6","relance téléphonique",IF(R19="promesse de paiement","Contrôler si paiement",""))))))) | X19: =IF(AB19="","","oui")
M20: =RIGHT(I20,10) | N20: =IF(M20="","",DATEDIF(M20,TODAY(),"d")) | O20: =IF(I20="","",IF(DATEVALUE(M20)>$AM$2,"","x")) | P20: =IF(I20="","",IF(N20>40,"relance niveau 6",IF(N20>35,"relance niveau 5",IF(N20>25,"relance niveau 4",IF(N20>20,"relance niveau 3",IF(N20>10,"relance niveau 2",IF(N20>=5,"relance niveau 1","facture non échue"))))))) | Q20: =IF(P20="facture non échue","",IF(O20="","",RIGHT(P20,1))) | S20: =IF(R20="relance niveau 1","relance simple par courrier",IF(R20="relance niveau 2","relance téléphonique",IF(R20="relance niveau 3","lettre rar",IF(R20="relance niveau 4","relance téléphonique",IF(R20="relance niveau 5","Mise en demeure LRAR",IF(R20="relance niveau 6","relance téléphonique",IF(R20="promesse de paiement","Contrôler si paiement",""))))))) | X20: =IF(AB20="","","oui")
M21: =RIGHT(I21,10) | N21: =IF(M21="","",DATEDIF(M21,TODAY(),"d")) | O21: =IF(Q21="","",IF(DATEVALUE(M21)>$AM$2,"","x")) | P21: =IF(I21="","",IF(N21>40,"relance niveau 6",IF(N21>35,"relance niveau 5",IF(N21>25,"relance niveau 4",IF(N21>20,"relance niveau 3",IF(N21>10,"relance niveau 2",IF(N21>=5,"relance niveau 1","facture non échue"))))))) | Q21: =IF(W21="x","",IF(P21="facture non échue","",RIGHT(P21,1))) | S21: =IF(R21="relance niveau 1","relance simple par courrier",IF(R21="relance niveau 2","relance téléphonique",IF(R21="relance niveau 3","lettre rar",IF(R21="relance niveau 4","relance téléphonique",IF(R21="relance niveau 5","Mise en demeure LRAR",IF(R21="relance niveau 6","relance téléphonique",IF(R21="promesse de paiement","Contrôler si paiement",""))))))) | X21: =IF(AB21="","","oui")
M22: =RIGHT(I22,10) | N22: =IF(M22="","",DATEDIF(M22,TODAY(),"d")) | O22: =IF(I22="","",IF(DATEVALUE(M22)>$AM$2,"","x")) | P22: =IF(I22="","",IF(N22>40,"relance niveau 6",IF(N22>35,"relance niveau 5",IF(N22>25,"relance niveau 4",IF(N22>20,"relance niveau 3",IF(N22>10,"relance niveau 2",IF(N22>=5,"relance niveau 1","facture non échue"))))))) | Q22: =IF(P22="facture non échue","",IF(O22="","",RIGHT(P22,1))) | S22: =IF(R22="relance niveau 1","relance simple par courrier",IF(R22="relance niveau 2","relance téléphonique",IF(R22="relance niveau 3","lettre rar",IF(R22="relance niveau 4","relance téléphonique",IF(R22="relance niveau 5","Mise en demeure LRAR",IF(R22="relance niveau 6","relance téléphonique",IF(R22="promesse de paiement","Contrôler si paiement",""))))))) | X22: =IF(AB22="","","oui")
M23: =RIGHT(I23,10) | N23: =IF(M23="","",DATEDIF(M23,TODAY(),"d")) | O23: =IF(I23="","",IF(DATEVALUE(M23)>$AM$2,"","x")) | P23: =IF(I23="","",IF(N23>40,"relance niveau 6",IF(N23>35,"relance niveau 5",IF(N23>25,"relance niveau 4",IF(N23>20,"relance niveau 3",IF(N23>10,"relance niveau 2",IF(N23>=5,"relance niveau 1","facture non échue"))))))) | Q23: =IF(P23="facture non échue","",IF(O23="","",RIGHT(P23,1))) | S23: =IF(R23="relance niveau 1","relance simple par courrier",IF(R23="relance niveau 2","relance téléphonique",IF(R23="relance niveau 3","lettre rar",IF(R23="relance niveau 4","relance téléphonique",IF(R23="relance niveau 5","Mise en demeure LRAR",IF(R23="relance niveau 6","relance téléphonique",IF(R23="promesse de paiement","Contrôler si paiement",""))))))) | X23: =IF(AB23="","","oui")
M24: =RIGHT(I24,10) | N24: =IF(M24="","",DATEDIF(M24,TODAY(),"d")) | O24: =IF(I24="","",IF(DATEVALUE(M24)>$AM$2,"","x")) | P24: =IF(I24="","",IF(N24>40,"relance niveau 6",IF(N24>35,"relance niveau 5",IF(N24>25,"relance niveau 4",IF(N24>20,"relance niveau 3",IF(N24>10,"relance niveau 2",IF(N24>=5,"relance niveau 1","facture non échue"))))))) | Q24: =IF(P24="facture non échue","",IF(O24="","",RIGHT(P24,1))) | S24: =IF(R24="relance niveau 1","relance simple par courrier",IF(R24="relance niveau 2","relance téléphonique",IF(R24="relance niveau 3","lettre rar",IF(R24="relance niveau 4","relance téléphonique",IF(R24="relance niveau 5","Mise en demeure LRAR",IF(R24="relance niveau 6","relance téléphonique",IF(R24="promesse de paiement","Contrôler si paiement",""))))))) | X24: =IF(AB24="","","oui")
M25: =RIGHT(I25,10) | N25: =IF(M25="","",DATEDIF(M25,TODAY(),"d")) | O25: =IF(I25="","",IF(DATEVALUE(M25)>$AM$2,"","x")) | P25: =IF(I25="","",IF(N25>40,"relance niveau 6",IF(N25>35,"relance niveau 5",IF(N25>25,"relance niveau 4",IF(N25>20,"relance niveau 3",IF(N25>10,"relance niveau 2",IF(N25>=5,"relance niveau 1","facture non échue"))))))) | Q25: =IF(P25="facture non échue","",IF(O25="","",RIGHT(P25,1))) | S25: =IF(R25="relance niveau 1","relance simple par courrier",IF(R25="relance niveau 2","relance téléphonique",IF(R25="relance niveau 3","lettre rar",IF(R25="relance niveau 4","relance téléphonique",IF(R25="relance niveau 5","Mise en demeure LRAR",IF(R25="relance niveau 6","relance téléphonique",IF(R25="promesse de paiement","Contrôler si paiement",""))))))) | X25: =IF(AB25="","","oui")
M26: =RIGHT(I26,10) | N26: =IF(M26="","",DATEDIF(M26,TODAY(),"d")) | O26: =IF(I26="","",IF(DATEVALUE(M26)>$AM$2,"","x")) | P26: =IF(I26="","",IF(N26>40,"relance niveau 6",IF(N26>35,"relance niveau 5",IF(N26>25,"relance niveau 4",IF(N26>20,"relance niveau 3",IF(N26>10,"relance niveau 2",IF(N26>=5,"relance niveau 1","facture non échue"))))))) | Q26: =IF(P26="facture non échue","",IF(O26="","",RIGHT(P26,1))) | S26: =IF(R26="relance niveau 1","relance simple par courrier",IF(R26="relance niveau 2","relance téléphonique",IF(R26="relance niveau 3","lettre rar",IF(R26="relance niveau 4","relance téléphonique",IF(R26="relance niveau 5","Mise en demeure LRAR",IF(R26="relance niveau 6","relance téléphonique",IF(R26="promesse de paiement","Contrôler si paiement",""))))))) | X26: =IF(AB26="","","oui")
M27: =RIGHT(I27,10) | N27: =IF(M27="","",DATEDIF(M27,TODAY(),"d")) | O27: =IF(I27="","",IF(DATEVALUE(M27)>$AM$2,"","x")) | P27: =IF(I27="","",IF(N27>40,"relance niveau 6",IF(N27>35,"relance niveau 5",IF(N27>25,"relance niveau 4",IF(N27>20,"relance niveau 3",IF(N27>10,"relance niveau 2",IF(N27>=5,"relance niveau 1","facture non échue"))))))) | Q27: =IF(P27="facture non échue","",IF(O27="","",RIGHT(P27,1))) | S27: =IF(R27="relance niveau 1","relance simple par courrier",IF(R27="relance niveau 2","relance téléphonique",IF(R27="relance niveau 3","lettre rar",IF(R27="relance niveau 4","relance téléphonique",IF(R27="relance niveau 5","Mise en demeure LRAR",IF(R27="relance niveau 6","relance téléphonique",IF(R27="promesse de paiement","Contrôler si paiement",""))))))) | X27: =IF(AB27="","","oui")
M28: =RIGHT(I28,10) | N28: =IF(M28="","",DATEDIF(M28,TODAY(),"d")) | O28: =IF(I28="","",IF(DATEVALUE(M28)>$AM$2,"","x")) | P28: =IF(I28="","",IF(N28>40,"relance niveau 6",IF(N28>35,"relance niveau 5",IF(N28>25,"relance niveau 4",IF(N28>20,"relance niveau 3",IF(N28>10,"relance niveau 2",IF(N28>=5,"relance niveau 1","facture non échue"))))))) | Q28: =IF(P28="facture non échue","",IF(O28="","",RIGHT(P28,1))) | S28: =IF(R28="relance niveau 1","relance simple par courrier",IF(R28="relance niveau 2","relance téléphonique",IF(R28="relance niveau 3","lettre rar",IF(R28="relance niveau 4","relance téléphonique",IF(R28="relance niveau 5","Mise en demeure LRAR",IF(R28="relance niveau 6","relance téléphonique",IF(R28="promesse de paiement","Contrôler si paiement",""))))))) | X28: =IF(AB28="","","oui")
M29: =RIGHT(I29,10) | N29: =IF(M29="","",DATEDIF(M29,TODAY(),"d")) | O29: =IF(I29="","",IF(DATEVALUE(M29)>$AM$2,"","x")) | P29: =IF(I29="","",IF(N29>40,"relance niveau 6",IF(N29>35,"relance niveau 5",IF(N29>25,"relance niveau 4",IF(N29>20,"relance niveau 3",IF(N29>10,"relance niveau 2",IF(N29>=5,"relance niveau 1","facture non échue"))))))) | Q29: =IF(P29="facture non échue","",IF(O29="","",RIGHT(P29,1))) | S29: =IF(R29="relance niveau 1","relance simple par courrier",IF(R29="relance niveau 2","relance téléphonique",IF(R29="relance niveau 3","lettre rar",IF(R29="relance niveau 4","relance téléphonique",IF(R29="relance niveau 5","Mise en demeure LRAR",IF(R29="relance niveau 6","relance téléphonique",IF(R29="promesse de paiement","Contrôler si paiement",""))))))) | X29: =IF(AB29="","","oui")
M30: =RIGHT(I30,10) | N30: =IF(M30="","",DATEDIF(M30,TODAY(),"d")) | O30: =IF(I30="","",IF(DATEVALUE(M30)>$AM$2,"","x")) | P30: =IF(I30="","",IF(N30>40,"relance niveau 6",IF(N30>35,"relance niveau 5",IF(N30>25,"relance niveau 4",IF(N30>20,"relance niveau 3",IF(N30>10,"relance niveau 2",IF(N30>=5,"relance niveau 1","facture non échue"))))))) | Q30: =IF(P30="facture non échue","",IF(O30="","",RIGHT(P30,1))) | S30: =IF(R30="relance niveau 1","relance simple par courrier",IF(R30="relance niveau 2","relance téléphonique",IF(R30="relance niveau 3","lettre rar",IF(R30="relance niveau 4","relance téléphonique",IF(R30="relance niveau 5","Mise en demeure LRAR",IF(R30="relance niveau 6","relance téléphonique",IF(R30="promesse de paiement","Contrôler si paiement",""))))))) | X30: =IF(AB30="","","oui")
M31: =RIGHT(I31,10) | N31: =IF(M31="","",DATEDIF(M31,TODAY(),"d")) | O31: =IF(Q31="","",IF(DATEVALUE(M31)>$AM$2,"","x")) | P31: =IF(I31="","",IF(N31>40,"relance niveau 6",IF(N31>35,"relance niveau 5",IF(N31>25,"relance niveau 4",IF(N31>20,"relance niveau 3",IF(N31>10,"relance niveau 2",IF(N31>=5,"relance niveau 1","facture non échue"))))))) | Q31: =IF(W31="x","",IF(P31="facture non échue","",RIGHT(P31,1))) | S31: =IF(R31="relance niveau 1","relance simple par courrier",IF(R31="relance niveau 2","relance téléphonique",IF(R31="relance niveau 3","lettre rar",IF(R31="relance niveau 4","relance téléphonique",IF(R31="relance niveau 5","Mise en demeure LRAR",IF(R31="relance niveau 6","relance téléphonique",IF(R31="promesse de paiement","Contrôler si paiement",""))))))) | X31: =IF(AB31="","","oui")
M32: =RIGHT(I32,10) | N32: =IF(M32="","",DATEDIF(M32,TODAY(),"d")) | O32: =IF(I32="","",IF(DATEVALUE(M32)>$AM$2,"","x")) | P32: =IF(I32="","",IF(N32>40,"relance niveau 6",IF(N32>35,"relance niveau 5",IF(N32>25,"relance niveau 4",IF(N32>20,"relance niveau 3",IF(N32>10,"relance niveau 2",IF(N32>=5,"relance niveau 1","facture non échue"))))))) | Q32: =IF(P32="facture non échue","",IF(O32="","",RIGHT(P32,1))) | S32: =IF(R32="relance niveau 1","relance simple par courrier",IF(R32="relance niveau 2","relance téléphonique",IF(R32="relance niveau 3","lettre rar",IF(R32="relance niveau 4","relance téléphonique",IF(R32="relance niveau 5","Mise en demeure LRAR",IF(R32="relance niveau 6","relance téléphonique",IF(R32="promesse de paiement","Contrôler si paiement",""))))))) | X32: =IF(AB32="","","oui")
M33: =RIGHT(I33,10) | N33: =IF(M33="","",DATEDIF(M33,TODAY(),"d")) | O33: =IF(I33="","",IF(DATEVALUE(M33)>$AM$2,"","x")) | P33: =IF(I33="","",IF(N33>40,"relance niveau 6",IF(N33>35,"relance niveau 5",IF(N33>25,"relance niveau 4",IF(N33>20,"relance niveau 3",IF(N33>10,"relance niveau 2",IF(N33>=5,"relance niveau 1","facture non échue"))))))) | Q33: =IF(P33="facture non échue","",IF(O33="","",RIGHT(P33,1))) | S33: =IF(R33="relance niveau 1","relance simple par courrier",IF(R33="relance niveau 2","relance téléphonique",IF(R33="relance niveau 3","lettre rar",IF(R33="relance niveau 4","relance téléphonique",IF(R33="relance niveau 5","Mise en demeure LRAR",IF(R33="relance niveau 6","relance téléphonique",IF(R33="promesse de paiement","Contrôler si paiement",""))))))) | X33: =IF(AB33="","","oui")
M34: =RIGHT(I34,10) | N34: =IF(M34="","",DATEDIF(M34,TODAY(),"d")) | O34: =IF(Q34="","",IF(DATEVALUE(M34)>$AM$2,"","x")) | P34: =IF(I34="","",IF(N34>40,"relance niveau 6",IF(N34>35,"relance niveau 5",IF(N34>25,"relance niveau 4",IF(N34>20,"relance niveau 3",IF(N34>10,"relance niveau 2",IF(N34>=5,"relance niveau 1","facture non échue"))))))) | Q34: =IF(W34="x","",IF(P34="facture non échue","",RIGHT(P34,1))) | S34: =IF(R34="relance niveau 1","relance simple par courrier",IF(R34="relance niveau 2","relance téléphonique",IF(R34="relance niveau 3","lettre rar",IF(R34="relance niveau 4","relance téléphonique",IF(R34="relance niveau 5","Mise en demeure LRAR",IF(R34="relance niveau 6","relance téléphonique",IF(R34="promesse de paiement","Contrôler si paiement",""))))))) | X34: =IF(AB34="","","oui")
M35: =RIGHT(I35,10) | N35: =IF(M35="","",DATEDIF(M35,TODAY(),"d")) | O35: =IF(Q35="","",IF(DATEVALUE(M35)>$AM$2,"","x")) | P35: =IF(I35="","",IF(N35>40,"relance niveau 6",IF(N35>35,"relance niveau 5",IF(N35>25,"relance niveau 4",IF(N35>20,"relance niveau 3",IF(N35>10,"relance niveau 2",IF(N35>=5,"relance niveau 1","facture non échue"))))))) | Q35: =IF(W35="x","",IF(P35="facture non échue","",RIGHT(P35,1))) | S35: =IF(R35="relance niveau 1","relance simple par courrier",IF(R35="relance niveau 2","relance téléphonique",IF(R35="relance niveau 3","lettre rar",IF(R35="relance niveau 4","relance téléphonique",IF(R35="relance niveau 5","Mise en demeure LRAR",IF(R35="relance niveau 6","relance téléphonique",IF(R35="promesse de paiement","Contrôler si paiement",""))))))) | X35: =IF(AB35="","","oui")
M36: =RIGHT(I36,10) | N36: =IF(M36="","",DATEDIF(M36,TODAY(),"d")) | O36: =IF(Q36="","",IF(DATEVALUE(M36)>$AM$2,"","x")) | P36: =IF(I36="","",IF(N36>40,"relance niveau 6",IF(N36>35,"relance niveau 5",IF(N36>25,"relance niveau 4",IF(N36>20,"relance niveau 3",IF(N36>10,"relance niveau 2",IF(N36>=5,"relance niveau 1","facture non échue"))))))) | Q36: =IF(W36="x","",IF(P36="facture non échue","",RIGHT(P36,1))) | S36: =IF(R36="relance niveau 1","relance simple par courrier",IF(R36="relance niveau 2","relance téléphonique",IF(R36="relance niveau 3","lettre rar",IF(R36="relance niveau 4","relance téléphonique",IF(R36="relance niveau 5","Mise en demeure LRAR",IF(R36="relance niveau 6","relance téléphonique",IF(R36="promesse de paiement","Contrôler si paiement",""))))))) | X36: =IF(AB36="","","oui")
M37: =RIGHT(I37,10) | N37: =IF(M37="","",DATEDIF(M37,TODAY(),"d")) | O37: =IF(Q37="","",IF(DATEVALUE(M37)>$AM$2,"","x")) | P37: =IF(I37="","",IF(N37>40,"relance niveau 6",IF(N37>35,"relance niveau 5",IF(N37>25,"relance niveau 4",IF(N37>20,"relance niveau 3",IF(N37>10,"relance niveau 2",IF(N37>=5,"relance niveau 1","facture non échue"))))))) | Q37: =IF(W37="x","",IF(P37="facture non échue","",RIGHT(P37,1))) | S37: =IF(R37="relance niveau 1","relance simple par courrier",IF(R37="relance niveau 2","relance téléphonique",IF(R37="relance niveau 3","lettre rar",IF(R37="relance niveau 4","relance téléphonique",IF(R37="relance niveau 5","Mise en demeure LRAR",IF(R37="relance niveau 6","relance téléphonique",IF(R37="promesse de paiement","Contrôler si paiement",""))))))) | X37: =IF(AB37="","","oui")
M38: =RIGHT(I38,10) | N38: =IF(M38="","",DATEDIF(M38,TODAY(),"d")) | O38: =IF(Q38="","",IF(DATEVALUE(M38)>$AM$2,"","x")) | P38: =IF(I38="","",IF(N38>40,"relance niveau 6",IF(N38>35,"relance niveau 5",IF(N38>25,"relance niveau 4",IF(N38>20,"relance niveau 3",IF(N38>10,"relance niveau 2",IF(N38>=5,"relance niveau 1","facture non échue"))))))) | Q38: =IF(W38="x","",IF(P38="facture non échue","",RIGHT(P38,1))) | S38: =IF(R38="relance niveau 1","relance simple par courrier",IF(R38="relance niveau 2","relance téléphonique",IF(R38="relance niveau 3","lettre rar",IF(R38="relance niveau 4","relance téléphonique",IF(R38="relance niveau 5","Mise en demeure LRAR",IF(R38="relance niveau 6","relance téléphonique",IF(R38="promesse de paiement","Contrôler si paiement",""))))))) | X38: =IF(AB38="","","oui")
M39: =RIGHT(I39,10) | N39: =IF(M39="","",DATEDIF(M39,TODAY(),"d")) | O39: =IF(Q39="","",IF(DATEVALUE(M39)>$AM$2,"","x")) | P39: =IF(I39="","",IF(N39>40,"relance niveau 6",IF(N39>35,"relance niveau 5",IF(N39>25,"relance niveau 4",IF(N39>20,"relance niveau 3",IF(N39>10,"relance niveau 2",IF(N39>=5,"relance niveau 1","facture non échue"))))))) | Q39: =IF(W39="x","",IF(P39="facture non échue","",RIGHT(P39,1))) | S39: =IF(R39="relance niveau 1","relance simple par courrier",IF(R39="relance niveau 2","relance téléphonique",IF(R39="relance niveau 3","lettre rar",IF(R39="relance niveau 4","relance téléphonique",IF(R39="relance niveau 5","Mise en demeure LRAR",IF(R39="relance niveau 6","relance téléphonique",IF(R39="promesse de paiement","Contrôler si paiement",""))))))) | X39: =IF(AB39="","","oui")
M40: =RIGHT(I40,10) | N40: =IF(M40="","",DATEDIF(M40,TODAY(),"d")) | O40: =IF(Q40="","",IF(DATEVALUE(M40)>$AM$2,"","x")) | P40: =IF(I40="","",IF(N40>40,"relance niveau 6",IF(N40>35,"relance niveau 5",IF(N40>25,"relance niveau 4",IF(N40>20,"relance niveau 3",IF(N40>10,"relance niveau 2",IF(N40>=5,"relance niveau 1","facture non échue"))))))) | Q40: =IF(W40="x","",IF(P40="facture non échue","",RIGHT(P40,1))) | S40: =IF(R40="relance niveau 1","relance simple par courrier",IF(R40="relance niveau 2","relance téléphonique",IF(R40="relance niveau 3","lettre rar",IF(R40="relance niveau 4","relance téléphonique",IF(R40="relance niveau 5","Mise en demeure LRAR",IF(R40="relance niveau 6","relance téléphonique",IF(R40="promesse de paiement","Contrôler si paiement",""))))))) | X40: =IF(AB40="","","oui")
...

Sheet 12 02 20
A1: Cial | B1: Interloc | C1: Client | D1: Nom | E1: siret | F1: Téléphone | G1: N° de fact. | H1: Date de fact. | I1: Echéance | J1: Montant TTC | K1: Déjà versé | L1: Solde | M1: Échéance | N1: Nb jours | O1: Ancienne facture | P1: Niveau de relance de base | Q1: Niveau | R1: Niveau de relance | S1: Action | T1: Date envoi courrier | U1: Commentaire précédent | V1: Commentaire | W1: Paiement ok | X1: Promesse de paiement | Y1: Action supplémentaire | Z1: Ne pas relancer | AA1: Action supplémentaire | AB1: Date promesse de paiement | AC1: Vérification contrat | AD1: Vérifications relevé d'heures | AE1: Adresse 1 | AF1: Adresse 2 | AG1: Code Postal | AH1: Ville | AI1: Nom du contact | AJ1: N° de téléphone
D2: MACHIN TRUC | G2: 2836 | H2: 43799 | I2: V 30/12/2019 | J2: 1386 | L2: 1386 | M2: =RIGHT(I2,10) -> 30/12/2019 | N2: =IF(M2="","",DATEDIF(M2,TODAY(),"d")) -> 52 | O2: =IF(I2="","",IF(W2="x","",IF(VLOOKUP(G2,#REF!,9,FALSE)=0,"",VLOOKUP(G2,#REF!,9,FALSE)))) -> #REF! | P2: =IF(I2="","",IF(N2>40,"relance niveau 6",IF(N2>35,"relance niveau 5",IF(N2>25,"relance niveau 4",IF(N2>20,"relance niveau 3",IF(N2>10,"relance niveau 2",IF(N2>=5,"relance niveau 1",""))))))) -> relance niveau 6 | Q2: =IF(O2="","",RIGHT(P2,1)) -> #REF! | R2: =IF(O2="x","relance niveau 1", IF(Q2="","facture réglée", IF(AND(O2="",#REF!="facture réglée"),P2, IF(#REF!="x",P2, IF(W2="x","facture réglée", IF(I2="","", IF(Z2="x","ne pas relancer", IF(Y2="oui","contrôler avant de relancer", IF(X2="oui","promesse de paiement", IF(AND(D2=#REF!,#REF!>=Q2),#REF!, IF(P2="facture réglée", IF(N2>40,"relance niveau 6", IF(N2>35,"relance niveau 5", IF(N2>25,"relance niveau 4", IF(N2>20,"relance niveau 3", IF(N2>10,"relance niveau 2", IF(N2>=5,"relance niveau 1", IF(X2="oui","promesse de paiement","")))))))))))))))))) -> #REF! | S2: =IF(R2="relance niveau 1","relance simple par courrier",IF(R2="relance niveau 2","relance téléphonique",IF(R2="relance niveau 3","lettre rar",IF(R2="relance niveau 4","relance téléphonique",IF(R2="relance niveau 5","Mise en demeure LRAR",IF(R2="relance niveau 6","relance téléphonique",IF(R2="promesse de paiement","Contrôler si paiement",""))))))) -> #REF! | T2: 43878 | U2: =IF($I2="","",IF((VLOOKUP($G2,#REF!,15,FALSE))=0,"",(VLOOKUP($G2,#REF!,15,FALSE)))) -> #REF! | V2: ESSAI | AE2: =IF($I2="","",IF((VLOOKUP($D2,'Fichier client - BBI IDF'!$A:G,2,FALSE))=0,"",(VLOOKUP($D2,'Fichier client - BBI IDF'!$A:G,2,FALSE)))) -> 112 avenue Henri Ginoux | AF2: =IF($I2="","",IF((VLOOKUP($D2,'Fichier client - BBI IDF'!$A:H,3,FALSE))=0,"",(VLOOKUP($D2,'Fichier client - BBI IDF'!$A:H,3,FALSE)))) | AG2: =IF($I2="","",IF((VLOOKUP($D2,'Fichier client - BBI IDF'!$A:I,4,FALSE))=0,"",(VLOOKUP($D2,'Fichier client - BBI IDF'!$A:I,4,FALSE)))) -> 92120 MONTROUGE | AH2: =IF($I2="","",IF((VLOOKUP($D2,'Fichier client - BBI IDF'!$A:J,5,FALSE))=0,"",(VLOOKUP($D2,'Fichier client - BBI IDF'!$A:J,5,FALSE)))) | AI2: =IF($I2="","",IF((VLOOKUP($D2,'Fichier client - BBI IDF'!$A:K,6,FALSE))=0,"",(VLOOKUP($D2,'Fichier client - BBI IDF'!$A:K,6,FALSE)))) | AJ2: =IF($I2="","",IF((VLOOKUP($D2,'Fichier client - BBI IDF'!$A:L,7,FALSE))=0,"",(VLOOKUP($D2,'Fichier client - BBI IDF'!$A:L,7,FALSE))))
D3: TRUC CHOSE | G3: 2837 | H3: 43799 | I3: V 30/12/2019 | J3: 2574 | L3: 2574 | M3: =RIGHT(I3,10) -> 30/12/2019 | N3: =IF(M3="","",DATEDIF(M3,TODAY(),"d")) -> 52 | O3: =IF(I3="","",IF(W3="x","",IF(VLOOKUP(G3,#REF!,9,FALSE)=0,"",VLOOKUP(G3,#REF!,9,FALSE)))) -> #REF! | P3: =IF(I3="","",IF(N3>40,"relance niveau 6",IF(N3>35,"relance niveau 5",IF(N3>25,"relance niveau 4",IF(N3>20,"relance niveau 3",IF(N3>10,"relance niveau 2",IF(N3>=5,"relance niveau 1",""))))))) -> relance niveau 6 | Q3: =IF(O3="","",RIGHT(P3,1)) -> #REF! | R3: =IF(O3="x","relance niveau 1", IF(Q3="","facture réglée", IF(AND(O3="",#REF!="facture réglée"),P3, IF(#REF!="x",P3, IF(W3="x","facture réglée", IF(I3="","", IF(Z3="x","ne pas relancer", IF(Y3="oui","contrôler avant de relancer", IF(X3="oui","promesse de paiement", IF(AND(D3=#REF!,#REF!>=Q3),#REF!, IF(P3="facture réglée", IF(N3>40,"relance niveau 6", IF(N3>35,"relance niveau 5", IF(N3>25,"relance niveau 4", IF(N3>20,"relance niveau 3", IF(N3>10,"relance niveau 2", IF(N3>=5,"relance niveau 1", IF(X3="oui","promesse de paiement","")))))))))))))))))) -> #REF! | S3: =IF(R3="relance niveau 1","relance simple par courrier",IF(R3="relance niveau 2","relance téléphonique",IF(R3="relance niveau 3","lettre rar",IF(R3="relance niveau 4","relance téléphonique",IF(R3="relance niveau 5","Mise en demeure LRAR",IF(R3="relance niveau 6","relance téléphonique",IF(R3="promesse de paiement","Contrôler si paiement",""))))))) -> #REF! | T3: 43878 | U3: =IF($I3="","",IF((VLOOKUP($G3,#REF!,15,FALSE))=0,"",(VLOOKUP($G3,#REF!,15,FALSE)))) -> #REF! | AE3: =IF($I3="","",IF((VLOOKUP($D3,'Fichier client - BBI IDF'!$A:G,2,FALSE))=0,"",(VLOOKUP($D3,'Fichier client - BBI IDF'!$A:G,2,FALSE)))) -> 4 RUE MMM | AF3: =IF($I3="","",IF((VLOOKUP($D3,'Fichier client - BBI IDF'!$A:H,3,FALSE))=0,"",(VLOOKUP($D3,'Fichier client - BBI IDF'!$A:H,3,FALSE)))) -> 34580 | AG3: =IF($I3="","",IF((VLOOKUP($D3,'Fichier client - BBI IDF'!$A:I,4,FALSE))=0,"",(VLOOKUP($D3,'Fichier client - BBI IDF'!$A:I,4,FALSE)))) -> FEFEIJF | AH3: =IF($I3="","",IF((VLOOKUP($D3,'Fichier client - BBI IDF'!$A:J,5,FALSE))=0,"",(VLOOKUP($D3,'Fichier client - BBI IDF'!$A:J,5,FALSE)))) -> FFFF | AI3: =IF($I3="","",IF((VLOOKUP($D3,'Fichier client - BBI IDF'!$A:K,6,FALSE))=0,"",(VLOOKUP($D3,'Fichier client - BBI IDF'!$A:K,6,FALSE)))) | AJ3: =IF($I3="","",IF((VLOOKUP($D3,'Fichier client - BBI IDF'!$A:L,7,FALSE))=0,"",(VLOOKUP($D3,'Fichier client - BBI IDF'!$A:L,7,FALSE))))
D4: HOP HOP HOP | G4: 2927 | H4: 43830 | I4: V 31/01/2020 | J4: 12024 | L4: 12024 | M4: =RIGHT(I4,10) -> 31/01/2020 | N4: =IF(M4="","",DATEDIF(M4,TODAY(),"d")) -> 20 | O4: =IF(I4="","",IF(W4="x","",IF(VLOOKUP(G4,#REF!,9,FALSE)=0,"",VLOOKUP(G4,#REF!,9,FALSE)))) -> #REF! | P4: =IF(I4="","",IF(N4>40,"relance niveau 6",IF(N4>35,"relance niveau 5",IF(N4>25,"relance niveau 4",IF(N4>20,"relance niveau 3",IF(N4>10,"relance niveau 2",IF(N4>=5,"relance niveau 1",""))))))) -> relance niveau 2 | Q4: =IF(O4="","",RIGHT(P4,1)) -> #REF! | R4: =IF(O4="x","relance niveau 1", IF(Q4="","facture réglée", IF(AND(O4="",#REF!="facture réglée"),P4, IF(#REF!="x",P4, IF(W4="x","facture réglée", IF(I4="","", IF(Z4="x","ne pas relancer", IF(Y4="oui","contrôler avant de relancer", IF(X4="oui","promesse de paiement", IF(AND(D4=#REF!,#REF!>=Q4),#REF!, IF(P4="facture réglée", IF(N4>40,"relance niveau 6", IF(N4>35,"relance niveau 5", IF(N4>25,"relance niveau 4", IF(N4>20,"relance niveau 3", IF(N4>10,"relance niveau 2", IF(N4>=5,"relance niveau 1", IF(X4="oui","promesse de paiement","")))))))))))))))))) -> #REF! | S4: =IF(R4="relance niveau 1","relance simple par courrier",IF(R4="relance niveau 2","relance téléphonique",IF(R4="relance niveau 3","lettre rar",IF(R4="relance niveau 4","relance téléphonique",IF(R4="relance niveau 5","Mise en demeure LRAR",IF(R4="relance niveau 6","relance téléphonique",IF(R4="promesse de paiement","Contrôler si paiement",""))))))) -> #REF! | T4: 43878 | U4: =IF($I4="","",IF((VLOOKUP($G4,#REF!,15,FALSE))=0,"",(VLOOKUP($G4,#REF!,15,FALSE)))) -> #REF! | AE4: =IF($I4="","",IF((VLOOKUP($D4,'Fichier client - BBI IDF'!$A:G,2,FALSE))=0,"",(VLOOKUP($D4,'Fichier client - BBI IDF'!$A:G,2,FALSE)))) -> 4 RUE MOIMONT | AF4: =IF($I4="","",IF((VLOOKUP($D4,'Fichier client - BBI IDF'!$A:H,3,FALSE))=0,"",(VLOOKUP($D4,'Fichier client - BBI IDF'!$A:H,3,FALSE)))) | AG4: =IF($I4="","",IF((VLOOKUP($D4,'Fichier client - BBI IDF'!$A:I,4,FALSE))=0,"",(VLOOKUP($D4,'Fichier client - BBI IDF'!$A:I,4,FALSE)))) -> 95470 | AH4: =IF($I4="","",IF((VLOOKUP($D4,'Fichier client - BBI IDF'!$A:J,5,FALSE))=0,"",(VLOOKUP($D4,'Fichier client - BBI IDF'!$A:J,5,FALSE)))) -> SAINT-WITZ | AI4: =IF($I4="","",IF((VLOOKUP($D4,'Fichier client - BBI IDF'!$A:K,6,FALSE))=0,"",(VLOOKUP($D4,'Fichier client - BBI IDF'!$A:K,6,FALSE)))) | AJ4: =IF($I4="","",IF((VLOOKUP($D4,'Fichier client - BBI IDF'!$A:L,7,FALSE))=0,"",(VLOOKUP($D4,'Fichier client - BBI IDF'!$A:L,7,FALSE))))
D5: MERCI DE M'AIDER | G5: 2928 | H5: 43830 | I5: V 31/01/2020 | J5: 5700 | L5: 5700 | M5: =RIGHT(I5,10) -> 31/01/2020 | N5: =IF(M5="","",DATEDIF(M5,TODAY(),"d")) -> 20 | O5: =IF(I5="","",IF(W5="x","",IF(VLOOKUP(G5,#REF!,9,FALSE)=0,"",VLOOKUP(G5,#REF!,9,FALSE)))) -> #REF! | P5: =IF(I5="","",IF(N5>40,"relance niveau 6",IF(N5>35,"relance niveau 5",IF(N5>25,"relance niveau 4",IF(N5>20,"relance niveau 3",IF(N5>10,"relance niveau 2",IF(N5>=5,"relance niveau 1",""))))))) -> relance niveau 2 | Q5: =IF(O5="","",RIGHT(P5,1)) -> #REF! | R5: =IF(O5="x","relance niveau 1", IF(Q5="","facture réglée", IF(AND(O5="",#REF!="facture réglée"),P5, IF(#REF!="x",P5, IF(W5="x","facture réglée", IF(I5="","", IF(Z5="x","ne pas relancer", IF(Y5="oui","contrôler avant de relancer", IF(X5="oui","promesse de paiement", IF(AND(D5=#REF!,#REF!>=Q5),#REF!, IF(P5="facture réglée", IF(N5>40,"relance niveau 6", IF(N5>35,"relance niveau 5", IF(N5>25,"relance niveau 4", IF(N5>20,"relance niveau 3", IF(N5>10,"relance niveau 2", IF(N5>=5,"relance niveau 1", IF(X5="oui","promesse de paiement","")))))))))))))))))) -> #REF! | S5: =IF(R5="relance niveau 1","relance simple par courrier",IF(R5="relance niveau 2","relance téléphonique",IF(R5="relance niveau 3","lettre rar",IF(R5="relance niveau 4","relance téléphonique",IF(R5="relance niveau 5","Mise en demeure LRAR",IF(R5="relance niveau 6","relance téléphonique",IF(R5="promesse de paiement","Contrôler si paiement",""))))))) -> #REF! | T5: 43878 | U5: =IF($I5="","",IF((VLOOKUP($G5,#REF!,15,FALSE))=0,"",(VLOOKUP($G5,#REF!,15,FALSE)))) -> #REF! | AE5: =IF($I5="","",IF((VLOOKUP($D5,'Fichier client - BBI IDF'!$A:G,2,FALSE))=0,"",(VLOOKUP($D5,'Fichier client - BBI IDF'!$A:G,2,FALSE)))) -> 108 rue denis roy | AF5: =IF($I5="","",IF((VLOOKUP($D5,'Fichier client - BBI IDF'!$A:H,3,FALSE))=0,"",(VLOOKUP($D5,'Fichier client - BBI IDF'!$A:H,3,FALSE)))) | AG5: =IF($I5="","",IF((VLOOKUP($D5,'Fichier client - BBI IDF'!$A:I,4,FALSE))=0,"",(VLOOKUP($D5,'Fichier client - BBI IDF'!$A:I,4,FALSE)))) -> 95100 | AH5: =IF($I5="","",IF((VLOOKUP($D5,'Fichier client - BBI IDF'!$A:J,5,FALSE))=0,"",(VLOOKUP($D5,'Fichier client - BBI IDF'!$A:J,5,FALSE)))) -> ARGENTEUIL | AI5: =IF($I5="","",IF((VLOOKUP($D5,'Fichier client - BBI IDF'!$A:K,6,FALSE))=0,"",(VLOOKUP($D5,'Fichier client - BBI IDF'!$A:K,6,FALSE)))) | AJ5: =IF($I5="","",IF((VLOOKUP($D5,'Fichier client - BBI IDF'!$A:L,7,FALSE))=0,"",(VLOOKUP($D5,'Fichier client - BBI IDF'!$A:L,7,FALSE))))
Z949: =IF($I949="","",IF((VLOOKUP($G949,#REF!,18,FALSE))=0,"",(VLOOKUP($G949,#REF!,18,FALSE))))
Z950: =IF($I950="","",IF((VLOOKUP($G950,#REF!,18,FALSE))=0,"",(VLOOKUP($G950,#REF!,18,FALSE))))
Z951: =IF($I951="","",IF((VLOOKUP($G951,#REF!,18,FALSE))=0,"",(VLOOKUP($G951,#REF!,18,FALSE))))
Z952: =IF($I952="","",IF((VLOOKUP($G952,#REF!,18,FALSE))=0,"",(VLOOKUP($G952,#REF!,18,FALSE))))

Sheet Fichier client - BBI IDF
A1: Nom | B1: Rue | C1: Rue 2 | D1: Postal | E1: Ville | F1: Interlocuteur | G1: Téléphone | H1: Mail
A2: MACHIN TRUC | B2: 112 avenue Henri Ginoux | D2: 92120 MONTROUGE
A3: TRUC CHOSE | B3: 4 RUE MMM | C3: 34580 | D3: FEFEIJF | E3: FFFF
A4: HOP HOP HOP | B4: 4 RUE MOIMONT | D4: 95470 | E4: SAINT-WITZ
A5: MERCI DE M'AIDER | B5: 108 rue denis roy | D5: 95100 | E5: ARGENTEUIL
