Workbook

Sheet 18 02 20
A1: Cial | B1: Interloc | C1: Client | D1: Nom | E1: siret | F1: Téléphone | G1: N° de fact. | H1: Date de fact. | I1: Echéance | J1: Montant TTC | K1: Déjà versé | L1: Solde | M1: Échéance | N1: Nb jours | O1: Ancienne facture | P1: Niveau de relance de base | Q1: Niveau | R1: Niveau de relance | S1: Action | T1: Date envoi courrier | U1: Commentaire précédent | V1: Commentaire | W1: Paiement ok | X1: Promesse de paiement | Y1: Action supplémentaire | Z1: Ne pas relancer | AA1: Action supplémentaire | AB1: Date promesse de paiement | AC1: Vérification contrat | AD1: Vérifications relevé d'heures | AE1: Adresse 1 | AF1: Adresse 2 | AG1: Code Postal | AH1: Ville | AI1: Nom du contact | AJ1: N° de téléphone
D2: MACHIN TRUC | G2: 2836 | H2: 43799 | I2: V 30/12/2019 | J2: 1386 | L2: 1386 | M2: =RIGHT(I2,10) -> 30/12/2019 | N2: =IF(M2="","",DATEDIF(M2,TODAY(),"d")) -> 52 | O2: =IF(Q2="","",IF(DATEVALUE(M2)>$AM$2,"","x")) -> x | P2: =IF(I2="","",IF(N2>40,"relance niveau 6",IF(N2>35,"relance niveau 5",IF(N2>25,"relance niveau 4",IF(N2>20,"relance niveau 3",IF(N2>10,"relance niveau 2",IF(N2>=5,"relance niveau 1","facture non échue"))))))) -> relance niveau 6 | Q2: =IF(W2="x","",IF(P2="facture non échue","",RIGHT(P2,1))) -> 6 | R2: =IF(P2="facture non échue","ne pas relancer", IF(Z2="x","ne pas relancer", IF(O2="x","relance niveau 2", IF(Q2="","facture réglée", IF(AND(O2="",Q1=""),P2, IF(W1="x",P2, IF(I2="","", IF(Y2="oui","contrôler avant de relancer", IF(X2="oui","promesse de paiement", IF(AND(D2=D1,Q1>=Q2),R1, IF(N2>40,"relance niveau 6", IF(N2>35,"relance niveau 5", IF(N2>25,"relance niveau 4", IF(N2>20,"relance niveau 3", IF(N2>10,"relance niveau 2", IF(N2>=5,"relance niveau 1", IF(X2="oui","promesse de paiement",""))))))))))))))))) -> relance niveau 2 | S2: =IF(R2="relance niveau 1","relance simple par courrier",IF(R2="relance niveau 2","relance téléphonique",IF(R2="relance niveau 3","lettre rar",IF(R2="relance niveau 4","relance téléphonique",IF(R2="relance niveau 5","Mise en demeure LRAR",IF(R2="relance niveau 6","relance téléphonique",IF(R2="promesse de paiement","Contrôler si paiement",""))))))) -> relance téléphonique | U2: =IF($I2="","",IF((VLOOKUP($G2,'12 02 20'!$G:AH,16,FALSE))=0,"",(VLOOKUP($G2,'12 02 20'!$G:AH,16,FALSE)))) -> ESSAI | X2: =IF(AB2="","","oui") | Y2: =IF(AA2="","","oui") | Z2: =IF($I2="","",IF((VLOOKUP($G2,'12 02 20'!$G:AM,20,FALSE))=0,"",(VLOOKUP($G2,'12 02 20'!$G:AM,20,FALSE)))) | AA2: =IF($I2="","",IF((VLOOKUP($G2,'12 02 20'!$G:AN,21,FALSE))=0,"",(VLOOKUP($G2,'12 02 20'!$G:AN,21,FALSE)))) | AB2: =IF($I2="","",IF((VLOOKUP($G2,'12 02 20'!$G:AO,22,FALSE))=0,"",(VLOOKUP($G2,'12 02 20'!$G:AO,22,FALSE)))) | AC2: =IF($I2="","",IF((VLOOKUP($G2,'12 02 20'!$G:AP,23,FALSE))=0,"",(VLOOKUP($G2,'12 02 20'!$G:AP,23,FALSE)))) | AD2: =IF($I2="","",IF((VLOOKUP($G2,'12 02 20'!$G:AQ,24,FALSE))=0,"",(VLOOKUP($G2,'12 02 20'!$G:AQ,24,FALSE)))) | AE2: =IF($I2="","",IF((VLOOKUP($D2,'Fichier client - BBI IDF'!$A:G,2,FALSE))=0,"",(VLOOKUP($D2,'Fichier client - BBI IDF'!$A:G,2,FALSE)))) -> 112 avenue Henri Ginoux | AF2: =IF($I2="","",IF((VLOOKUP($D2,'Fichier client - BBI IDF'!$A:H,3,FALSE))=0,"",(VLOOKUP($D2,'Fichier client - BBI IDF'!$A:H,3,FALSE)))) | AG2: =IF($I2="","",IF((VLOOKUP($D2,'Fichier client - BBI IDF'!$A:I,4,FALSE))=0,"",(VLOOKUP($D2,'Fichier client - BBI IDF'!$A:I,4,FALSE)))) -> 92120 MONTROUGE | AH2: =IF($I2="","",IF((VLOOKUP($D2,'Fichier client - BBI IDF'!$A:J,5,FALSE))=0,"",(VLOOKUP($D2,'Fichier client - BBI IDF'!$A:J,5,FALSE)))) | AI2: =IF($I2="","",IF((VLOOKUP($D2,'Fichier client - BBI IDF'!$A:K,6,FALSE))=0,"",(VLOOKUP($D2,'Fichier client - BBI IDF'!$A:K,6,FALSE)))) | AJ2: =IF($I2="","",IF((VLOOKUP($D2,'Fichier client - BBI IDF'!$A:L,7,FALSE))=0,"",(VLOOKUP($D2,'Fichier client - BBI IDF'!$A:L,7,FALSE)))) | AM2: 43873
D3: TRUC CHOSE | G3: 2837 | H3: 43799 | I3: V 30/12/2019 | J3: 2574 | L3: 2574 | M3: =RIGHT(I3,10) -> 30/12/2019 | N3: =IF(M3="","",DATEDIF(M3,TODAY(),"d")) -> 52 | O3: =IF(Q3="","",IF(DATEVALUE(M3)>$AM$2,"","x")) -> x | P3: =IF(I3="","",IF(N3>40,"relance niveau 6",IF(N3>35,"relance niveau 5",IF(N3>25,"relance niveau 4",IF(N3>20,"relance niveau 3",IF(N3>10,"relance niveau 2",IF(N3>=5,"relance niveau 1","facture non échue"))))))) -> relance niveau 6 | Q3: =IF(W3="x","",IF(P3="facture non échue","",RIGHT(P3,1))) -> 6 | R3: =IF(P3="facture non échue","ne pas relancer", IF(Z3="x","ne pas relancer", IF(O3="x","relance niveau 2", IF(Q3="","facture réglée", IF(AND(O3="",Q2=""),P3, IF(W2="x",P3, IF(I3="","", IF(Y3="oui","contrôler avant de relancer", IF(X3="oui","promesse de paiement", IF(AND(D3=D2,Q2>=Q3),R2, IF(N3>40,"relance niveau 6", IF(N3>35,"relance niveau 5", IF(N3>25,"relance niveau 4", IF(N3>20,"relance niveau 3", IF(N3>10,"relance niveau 2", IF(N3>=5,"relance niveau 1", IF(X3="oui","promesse de paiement",""))))))))))))))))) -> relance niveau 2 | S3: =IF(R3="relance niveau 1","relance simple par courrier",IF(R3="relance niveau 2","relance téléphonique",IF(R3="relance niveau 3","lettre rar",IF(R3="relance niveau 4","relance téléphonique",IF(R3="relance niveau 5","Mise en demeure LRAR",IF(R3="relance niveau 6","relance téléphonique",IF(R3="promesse de paiement","Contrôler si paiement",""))))))) -> relance téléphonique | U3: =IF($I3="","",IF((VLOOKUP($G3,'12 02 20'!$G:AH,16,FALSE))=0,"",(VLOOKUP($G3,'12 02 20'!$G:AH,16,FALSE)))) | X3: =IF(AB3="","","oui") | Y3: =IF(AA3="","","oui") | Z3: =IF($I3="","",IF((VLOOKUP($G3,'12 02 20'!$G:$AJ,20,FALSE))=0,"",(VLOOKUP($G3,'12 02 20'!$G:$AJ,20,FALSE)))) | AA3: =IF($I3="","",IF((VLOOKUP($G3,'12 02 20'!$G:$AJ,21,FALSE))=0,"",(VLOOKUP($G3,'12 02 20'!$G:$AJ,21,FALSE)))) | AB3: =IF($I3="","",IF((VLOOKUP($G3,'12 02 20'!$G:$AJ,22,FALSE))=0,"",(VLOOKUP($G3,'12 02 20'!$G:$AJ,22,FALSE)))) | AC3: =IF($I3="","",IF((VLOOKUP($G3,'12 02 20'!$G:$AJ,23,FALSE))=0,"",(VLOOKUP($G3,'12 02 20'!$G:$AJ,23,FALSE)))) | AD3: =IF($I3="","",IF((VLOOKUP($G3,'12 02 20'!$G:$AJ,24,FALSE))=0,"",(VLOOKUP($G3,'12 02 20'!$G:$AJ,24,FALSE)))) | AE3: =IF($I3="","",IF((VLOOKUP($D3,'Fichier client - BBI IDF'!$A:G,2,FALSE))=0,"",(VLOOKUP($D3,'Fichier client - BBI IDF'!$A:G,2,FALSE)))) -> 4 RUE MMM | AF3: =IF($I3="","",IF((VLOOKUP($D3,'Fichier client - BBI IDF'!$A:H,3,FALSE))=0,"",(VLOOKUP($D3,'Fichier client - BBI IDF'!$A:H,3,FALSE)))) -> 34580 | AG3: =IF($I3="","",IF((VLOOKUP($D3,'Fichier client - BBI IDF'!$A:I,4,FALSE))=0,"",(VLOOKUP($D3,'Fichier client - BBI IDF'!$A:I,4,FALSE)))) -> FEFEIJF | AH3: =IF($I3="","",IF((VLOOKUP($D3,'Fichier client - BBI IDF'!$A:J,5,FALSE))=0,"",(VLOOKUP($D3,'Fichier client - BBI IDF'!$A:J,5,FALSE)))) -> FFFF | AI3: =IF($I3="","",IF((VLOOKUP($D3,'Fichier client - BBI IDF'!$A:K,6,FALSE))=0,"",(VLOOKUP($D3,'Fichier client - BBI IDF'!$A:K,6,FALSE)))) | AJ3: =IF($I3="","",IF((VLOOKUP($D3,'Fichier client - BBI IDF'!$A:L,7,FALSE))=0,"",(VLOOKUP($D3,'Fichier client - BBI IDF'!$A:L,7,FALSE))))
D4: HOP HOP HOP | G4: 2927 | H4: 43830 | I4: V 31/01/2020 | J4: 12024 | L4: 12024 | M4: =RIGHT(I4,10) -> 31/01/2020 | N4: =IF(M4="","",DATEDIF(M4,TODAY(),"d")) -> 20 | O4: =IF(Q4="","",IF(DATEVALUE(M4)>$AM$2,"","x")) -> x | P4: =IF(I4="","",IF(N4>40,"relance niveau 6",IF(N4>35,"relance niveau 5",IF(N4>25,"relance niveau 4",IF(N4>20,"relance niveau 3",IF(N4>10,"relance niveau 2",IF(N4>=5,"relance niveau 1","facture non échue"))))))) -> relance niveau 2 | Q4: =IF(W4="x","",IF(P4="facture non échue","",RIGHT(P4,1))) -> 2 | R4: =IF(P4="facture non échue","ne pas relancer", IF(Z4="x","ne pas relancer", IF(O4="x","relance niveau 2", IF(Q4="","facture réglée", IF(AND(O4="",Q3=""),P4, IF(W3="x",P4, IF(I4="","", IF(Y4="oui","contrôler avant de relancer", IF(X4="oui","promesse de paiement", IF(AND(D4=D3,Q3>=Q4),R3, IF(N4>40,"relance niveau 6", IF(N4>35,"relance niveau 5", IF(N4>25,"relance niveau 4", IF(N4>20,"relance niveau 3", IF(N4>10,"relance niveau 2", IF(N4>=5,"relance niveau 1", IF(X4="oui","promesse de paiement",""))))))))))))))))) -> relance niveau 2 | S4: =IF(R4="relance niveau 1","relance simple par courrier",IF(R4="relance niveau 2","relance téléphonique",IF(R4="relance niveau 3","lettre rar",IF(R4="relance niveau 4","relance téléphonique",IF(R4="relance niveau 5","Mise en demeure LRAR",IF(R4="relance niveau 6","relance téléphonique",IF(R4="promesse de paiement","Contrôler si paiement",""))))))) -> relance téléphonique | U4: =IF($I4="","",IF((VLOOKUP($G4,'12 02 20'!$G:AH,16,FALSE))=0,"",(VLOOKUP($G4,'12 02 20'!$G:AH,16,FALSE)))) | X4: =IF(AB4="","","oui") | Y4: =IF(AA4="","","oui") | Z4: =IF($I4="","",IF((VLOOKUP($G4,'12 02 20'!$G:$AJ,20,FALSE))=0,"",(VLOOKUP($G4,'12 02 20'!$G:$AJ,20,FALSE)))) | AA4: =IF($I4="","",IF((VLOOKUP($G4,'12 02 20'!$G:$AJ,21,FALSE))=0,"",(VLOOKUP($G4,'12 02 20'!$G:$AJ,21,FALSE)))) | AB4: =IF($I4="","",IF((VLOOKUP($G4,'12 02 20'!$G:$AJ,22,FALSE))=0,"",(VLOOKUP($G4,'12 02 20'!$G:$AJ,22,FALSE)))) | AC4: =IF($I4="","",IF((VLOOKUP($G4,'12 02 20'!$G:$AJ,23,FALSE))=0,"",(VLOOKUP($G4,'12 02 20'!$G:$AJ,23,FALSE)))) | AD4: =IF($I4="","",IF((VLOOKUP($G4,'12 02 20'!$G:$AJ,24,FALSE))=0,"",(VLOOKUP($G4,'12 02 20'!$G:$AJ,24,FALSE)))) | AE4: =IF($I4="","",IF((VLOOKUP($D4,'Fichier client - BBI IDF'!$A:G,2,FALSE))=0,"",(VLOOKUP($D4,'Fichier client - BBI IDF'!$A:G,2,FALSE)))) -> 4 RUE MOIMONT | AF4: =IF($I4="","",IF((VLOOKUP($D4,'Fichier client - BBI IDF'!$A:H,3,FALSE))=0,"",(VLOOKUP($D4,'Fichier client - BBI IDF'!$A:H,3,FALSE)))) | AG4: =IF($I4="","",IF((VLOOKUP($D4,'Fichier client - BBI IDF'!$A:I,4,FALSE))=0,"",(VLOOKUP($D4,'Fichier client - BBI IDF'!$A:I,4,FALSE)))) -> 95470 | AH4: =IF($I4="","",IF((VLOOKUP($D4,'Fichier client - BBI IDF'!$A:J,5,FALSE))=0,"",(VLOOKUP($D4,'Fichier client - BBI IDF'!$A:J,5,FALSE)))) -> SAINT-WITZ | AI4: =IF($I4="","",IF((VLOOKUP($D4,'Fichier client - BBI IDF'!$A:K,6,FALSE))=0,"",(VLOOKUP($D4,'Fichier client - BBI IDF'!$A:K,6,FALSE)))) | AJ4: =IF($I4="","",IF((VLOOKUP($D4,'Fichier client - BBI IDF'!$A:L,7,FALSE))=0,"",(VLOOKUP($D4,'Fichier client - BBI IDF'!$A:L,7,FALSE))))
D5: MERCI DE M'AIDER | G5: 2928 | H5: 43830 | I5: V 31/01/2020 | J5: 5700 | L5: 5700 | M5: =RIGHT(I5,10) -> 31/01/2020 | N5: =IF(M5="","",DATEDIF(M5,TODAY(),"d")) -> 20 | O5: =IF(Q5="","",IF(DATEVALUE(M5)>$AM$2,"","x")) -> x | P5: =IF(I5="","",IF(N5>40,"relance niveau 6",IF(N5>35,"relance niveau 5",IF(N5>25,"relance niveau 4",IF(N5>20,"relance niveau 3",IF(N5>10,"relance niveau 2",IF(N5>=5,"relance niveau 1","facture non échue"))))))) -> relance niveau 2 | Q5: =IF(W5="x","",IF(P5="facture non échue","",RIGHT(P5,1))) -> 2 | R5: =IF(P5="facture non échue","ne pas relancer", IF(Z5="x","ne pas relancer", IF(O5="x","relance niveau 2", IF(Q5="","facture réglée", IF(AND(O5="",Q4=""),P5, IF(W4="x",P5, IF(I5="","", IF(Y5="oui","contrôler avant de relancer", IF(X5="oui","promesse de paiement", IF(AND(D5=D4,Q4>=Q5),R4, IF(N5>40,"relance niveau 6", IF(N5>35,"relance niveau 5", IF(N5>25,"relance niveau 4", IF(N5>20,"relance niveau 3", IF(N5>10,"relance niveau 2", IF(N5>=5,"relance niveau 1", IF(X5="oui","promesse de paiement",""))))))))))))))))) -> relance niveau 2 | S5: =IF(R5="relance niveau 1","relance simple par courrier",IF(R5="relance niveau 2","relance téléphonique",IF(R5="relance niveau 3","lettre rar",IF(R5="relance niveau 4","relance téléphonique",IF(R5="relance niveau 5","Mise en demeure LRAR",IF(R5="relance niveau 6","relance téléphonique",IF(R5="promesse de paiement","Contrôler si paiement",""))))))) -> relance téléphonique | U5: =IF($I5="","",IF((VLOOKUP($G5,'12 02 20'!$G:AH,16,FALSE))=0,"",(VLOOKUP($G5,'12 02 20'!$G:AH,16,FALSE)))) | X5: =IF(AB5="","","oui") | Y5: =IF(AA5="","","oui") | Z5: =IF($I5="","",IF((VLOOKUP($G5,'12 02 20'!$G:$AJ,20,FALSE))=0,"",(VLOOKUP($G5,'12 02 20'!$G:$AJ,20,FALSE)))) | AA5: =IF($I5="","",IF((VLOOKUP($G5,'12 02 20'!$G:$AJ,21,FALSE))=0,"",(VLOOKUP($G5,'12 02 20'!$G:$AJ,21,FALSE)))) | AB5: =IF($I5="","",IF((VLOOKUP($G5,'12 02 20'!$G:$AJ,22,FALSE))=0,"",(VLOOKUP($G5,'12 02 20'!$G:$AJ,22,FALSE)))) | AC5: =IF($I5="","",IF((VLOOKUP($G5,'12 02 20'!$G:$AJ,23,FALSE))=0,"",(VLOOKUP($G5,'12 02 20'!$G:$AJ,23,FALSE)))) | AD5: =IF($I5="","",IF((VLOOKUP($G5,'12 02 20'!$G:$AJ,24,FALSE))=0,"",(VLOOKUP($G5,'12 02 20'!$G:$AJ,24,FALSE)))) | AE5: =IF($I5="","",IF((VLOOKUP($D5,'Fichier client - BBI IDF'!$A:G,2,FALSE))=0,"",(VLOOKUP($D5,'Fichier client - BBI IDF'!$A:G,2,FALSE)))) -> 108 rue denis roy | AF5: =IF($I5="","",IF((VLOOKUP($D5,'Fichier client - BBI IDF'!$A:H,3,FALSE))=0,"",(VLOOKUP($D5,'Fichier client - BBI IDF'!$A:H,3,FALSE)))) | AG5: =IF($I5="","",IF((VLOOKUP($D5,'Fichier client - BBI IDF'!$A:I,4,FALSE))=0,"",(VLOOKUP($D5,'Fichier client - BBI IDF'!$A:I,4,FALSE)))) -> 95100 | AH5: =IF($I5="","",IF((VLOOKUP($D5,'Fichier client - BBI IDF'!$A:J,5,FALSE))=0,"",(VLOOKUP($D5,'Fichier client - BBI IDF'!$A:J,5,FALSE)))) -> ARGENTEUIL | AI5: =IF($I5="","",IF((VLOOKUP($D5,'Fichier client - BBI IDF'!$A:K,6,FALSE))=0,"",(VLOOKUP($D5,'Fichier client - BBI IDF'!$A:K,6,FALSE)))) | AJ5: =IF($I5="","",IF((VLOOKUP($D5,'Fichier client - BBI IDF'!$A:L,7,FALSE))=0,"",(VLOOKUP($D5,'Fichier client - BBI IDF'!$A:L,7,FALSE))))
N6: =IF(M6="","",DATEDIF(M6,TODAY(),"d")) | O6: =IF(I6="","",IF(DATEVALUE(M6)>$AM$2,"","x")) | P6: =IF(I6="","",IF(N6>40,"relance niveau 6",IF(N6>35,"relance niveau 5",IF(N6>25,"relance niveau 4",IF(N6>20,"relance niveau 3",IF(N6>10,"relance niveau 2",IF(N6>=5,"relance niveau 1","facture non échue"))))))) | Q6: =IF(P6="facture non échue","",IF(O6="","",RIGHT(P6,1))) | S6: =IF(R6="relance niveau 1","relance simple par courrier",IF(R6="relance niveau 2","relance téléphonique",IF(R6="relance niveau 3","lettre rar",IF(R6="relance niveau 4","relance téléphonique",IF(R6="relance niveau 5","Mise en demeure LRAR",IF(R6="relance niveau 6","relance téléphonique",IF(R6="promesse de paiement","Contrôler si paiement",""))))))) | X6: =IF(AB6="","","oui")
M7: =RIGHT(I7,10) | N7: =IF(M7="","",DATEDIF(M7,TODAY(),"d")) | O7: =IF(I7="","",IF(DATEVALUE(M7)>$AM$2,"","x")) | P7: =IF(I7="","",IF(N7>40,"relance niveau 6",IF(N7>35,"relance niveau 5",IF(N7>25,"relance niveau 4",IF(N7>20,"relance niveau 3",IF(N7>10,"relance niveau 2",IF(N7>=5,"relance niveau 1","facture non échue"))))))) | Q7: =IF(P7="facture non échue","",IF(O7="","",RIGHT(P7,1))) | S7: =IF(R7="relance niveau 1","relance simple par courrier",IF(R7="relance niveau 2","relance téléphonique",IF(R7="relance niveau 3","lettre rar",IF(R7="relance niveau 4","relance téléphonique",IF(R7="relance niveau 5","Mise en demeure LRAR",IF(R7="relance niveau 6","relance téléphonique",IF(R7="promesse de paiement","Contrôler si paiement",""))))))) | X7: =IF(AB7="","","oui")
M8: =RIGHT(I8,10) | N8: =IF(M8="","",DATEDIF(M8,TODAY(),"d")) | O8: =IF(Q8="","",IF(DATEVALUE(M8)>$AM$2,"","x")) | P8: =IF(I8="","",IF(N8>40,"relance niveau 6",IF(N8>35,"relance niveau 5",IF(N8>25,"relance niveau 4",IF(N8>20,"relance niveau 3",IF(N8>10,"relance niveau 2",IF(N8>=5,"relance niveau 1","facture non échue"))))))) | Q8: =IF(W8="x","",IF(P8="facture non échue","",RIGHT(P8,1))) | S8: =IF(R8="relance niveau 1","relance simple par courrier",IF(R8="relance niveau 2","relance téléphonique",IF(R8="relance niveau 3","lettre rar",IF(R8="relance niveau 4","relance téléphonique",IF(R8="relance niveau 5","Mise en demeure LRAR",IF(R8="relance niveau 6","relance téléphonique",IF(R8="promesse de paiement","Contrôler si paiement",""))))))) | X8: =IF(AB8="","","oui")
M9: =RIGHT(I9,10) | N9: =IF(M9="","",DATEDIF(M9,TODAY(),"d")) | O9: =IF(I9="","",IF(DATEVALUE(M9)>$AM$2,"","x")) | P9: =IF(I9="","",IF(N9>40,"relance niveau 6",IF(N9>35,"relance niveau 5",IF(N9>25,"relance niveau 4",IF(N9>20,"relance niveau 3",IF(N9>10,"relance niveau 2",IF(N9>=5,"relance niveau 1","facture non échue"))))))) | Q9: =IF(P9="facture non échue","",IF(O9="","",RIGHT(P9,1))) | S9: =IF(R9="relance niveau 1","relance simple par courrier",IF(R9="relance niveau 2","relance téléphonique",IF(R9="relance niveau 3","lettre rar",IF(R9="relance niveau 4","relance téléphonique",IF(R9="relance niveau 5","Mise en demeure LRAR",IF(R9="relance niveau 6","relance téléphonique",IF(R9="promesse de paiement","Contrôler si paiement",""))))))) | X9: =IF(AB9="","","oui")
M10: =RIGHT(I10,10) | N10: =IF(M10="","",DATEDIF(M10,TODAY(),"d")) | O10: =IF(I10="","",IF(DATEVALUE(M10)>$AM$2,"","x")) | P10: =IF(I10="","",IF(N10>40,"relance niveau 6",IF(N10>35,"relance niveau 5",IF(N10>25,"relance niveau 4",IF(N10>20,"relance niveau 3",IF(N10>10,"relance niveau 2",IF(N10>=5,"relance niveau 1","facture non échue"))))))) | Q10: =IF(P10="facture non échue","",IF(O10="","",RIGHT(P10,1))) | S10: =IF(R10="relance niveau 1","relance simple par courrier",IF(R10="relance niveau 2","relance téléphonique",IF(R10="relance niveau 3","lettre rar",IF(R10="relance niveau 4","relance téléphonique",IF(R10="relance niveau 5","Mise en demeure LRAR",IF(R10="relance niveau 6","relance téléphonique",IF(R10="promesse de paiement","Contrôler si paiement",""))))))) | X10: =IF(AB10="","","oui")
M11: =RIGHT(I11,10) | N11: =IF(M11="","",DATEDIF(M11,TODAY(),"d")) | O11: =IF(Q11="","",IF(DATEVALUE(M11)>$AM$2,"","x")) | P11: =IF(I11="","",IF(N11>40,"relance niveau 6",IF(N11>35,"relance niveau 5",IF(N11>25,"relance niveau 4",IF(N11>20,"relance niveau 3",IF(N11>10,"relance niveau 2",IF(N11>=5,"relance niveau 1","facture non échue"))))))) | Q11: =IF(W11="x","",IF(P11="facture non échue","",RIGHT(P11,1))) | S11: =IF(R11="relance niveau 1","relance simple par courrier",IF(R11="relance niveau 2","relance téléphonique",IF(R11="relance niveau 3","lettre rar",IF(R11="relance niveau 4","relance téléphonique",IF(R11="relance niveau 5","Mise en demeure LRAR",IF(R11="relance niveau 6","relance téléphonique",IF(R11="promesse de paiement","Contrôler si paiement",""))))))) | X11: =IF(AB11="","","oui")
M12: =RIGHT(I12,10) | N12: =IF(M12="","",DATEDIF(M12,TODAY(),"d")) | O12: =IF(I12="","",IF(DATEVALUE(M12)>$AM$2,"","x")) | P12: =IF(I12="","",IF(N12>40,"relance niveau 6",IF(N12>35,"relance niveau 5",IF(N12>25,"relance niveau 4",IF(N12>20,"relance niveau 3",IF(N12>10,"relance niveau 2",IF(N12>=5,"relance niveau 1","facture non échue"))))))) | Q12: =IF(P12="facture non échue","",IF(O12="","",RIGHT(P12,1))) | S12: =IF(R12="relance niveau 1","relance simple par courrier",IF(R12="relance niveau 2","relance téléphonique",IF(R12="relance niveau 3","lettre rar",IF(R12="relance niveau 4","relance téléphonique",IF(R12="relance niveau 5","Mise en demeure LRAR",IF(R12="relance niveau 6","relance téléphonique",IF(R12="promesse de paiement","Contrôler si paiement",""))))))) | X12: =IF(AB12="","","oui")
M13: =RIGHT(I13,10) | N13: =IF(M13="","",DATEDIF(M13,TODAY(),"d")) | O13: =IF(I13="","",IF(DATEVALUE(M13)>$AM$2,"","x")) | P13: =IF(I13="","",IF(N13>40,"relance niveau 6",IF(N13>35,"relance niveau 5",IF(N13>25,"relance niveau 4",IF(N13>20,"relance niveau 3",IF(N13>10,"relance niveau 2",IF(N13>=5,"relance niveau 1","facture non échue"))))))) | Q13: =IF(P13="facture non échue","",IF(O13="","",RIGHT(P13,1))) | S13: =IF(R13="relance niveau 1","relance simple par courrier",IF(R13="relance niveau 2","relance téléphonique",IF(R13="relance niveau 3","lettre rar",IF(R13="relance niveau 4","relance téléphonique",IF(R13="relance niveau 5","Mise en demeure LRAR",IF(R13="relance niveau 6","relance téléphonique",IF(R13="promesse de paiement","Contrôler si paiement",""))))))) | X13: =IF(AB13="","","oui")
M14: =RIGHT(I14,10) | N14: =IF(M14="","",DATEDIF(M14,TODAY(),"d")) | O14: =IF(I14="","",IF(DATEVALUE(M14)>$AM$2,"","x")) | P14: =IF(I14="","",IF(N14>40,"relance niveau 6",IF(N14>35,"relance niveau 5",IF(N14>25,"relance niveau 4",IF(N14>20,"relance niveau 3",IF(N14>10,"relance niveau 2",IF(N14>=5,"relance niveau 1","facture non échue"))))))) | Q14: =IF(P14="facture non échue","",IF(O14="","",RIGHT(P14,1))) | S14: =IF(R14="relance niveau 1","relance simple par courrier",IF(R14="relance niveau 2","relance téléphonique",IF(R14="relance niveau 3","lettre rar",IF(R14="relance niveau 4","relance téléphonique",IF(R14="relance niveau 5","Mise en demeure LRAR",IF(R14="relance niveau 6","relance téléphonique",IF(R14="promesse de paiement","Contrôler si paiement",""))))))) | X14: =IF(AB14="","","oui")
M15: =RIGHT(I15,10) | N15: =IF(M15="","",DATEDIF(M15,TODAY(),"d")) | O15: =IF(I15="","",IF(DATEVALUE(M15)>$AM$2,"","x")) | P15: =IF(I15="","",IF(N15>40,"relance niveau 6",IF(N15>35,"relance niveau 5",IF(N15>25,"relance niveau 4",IF(N15>20,"relance niveau 3",IF(N15>10,"relance niveau 2",IF(N15>=5,"relance niveau 1","facture non échue"))))))) | Q15: =IF(P15="facture non échue","",IF(O15="","",RIGHT(P15,1))) | S15: =IF(R15="relance niveau 1","relance simple par courrier",IF(R15="relance niveau 2","relance téléphonique",IF(R15="relance niveau 3","lettre rar",IF(R15="relance niveau 4","relance téléphonique",IF(R15="relance niveau 5","Mise en demeure LRAR",IF(R15="relance niveau 6","relance téléphonique",IF(R15="promesse de paiement","Contrôler si paiement",""))))))) | X15: =IF(AB15="","","oui")
M16: =RIGHT(I16,10) | N16: =IF(M16="","",DATEDIF(M16,TODAY(),"d")) | O16: =IF(I16="","",IF(DATEVALUE(M16)>$AM$2,"","x")) | P16: =IF(I16="","",IF(N16>40,"relance niveau 6",IF(N16>35,"relance niveau 5",IF(N16>25,"relance niveau 4",IF(N16>20,"relance niveau 3",IF(N16>10,"relance niveau 2",IF(N16>=5,"relance niveau 1","facture non échue"))))))) | Q16: =IF(P16="facture non échue","",IF(O16="","",RIGHT(P16,1))) | S16: =IF(R16="relance niveau 1","relance simple par courrier",IF(R16="relance niveau 2","relance téléphonique",IF(R16="relance niveau 3","lettre rar",IF(R16="relance niveau 4","relance téléphonique",IF(R16="relance niveau 5","Mise en demeure LRAR",IF(R16="relance niveau 6","relance téléphonique",IF(R16="promesse de paiement","Contrôler si paiement",""))))))) | X16: =IF(AB16="","","oui")
M17: =RIGHT(I17,10) | N17: =IF(M17="","",DATEDIF(M17,TODAY(),"d")) | O17: =IF(Q17="","",IF(DATEVALUE(M17)>$AM$2,"","x")) | P17: =IF(I17="","",IF(N17>40,"relance niveau 6",IF(N17>35,"relance niveau 5",IF(N17>25,"relance niveau 4",IF(N17>20,"relance niveau 3",IF(N17>10,"relance niveau 2",IF(N17>=5,"relance niveau 1","facture non échue"))))))) | Q17: =IF(W17="x","",IF(P17="facture non échue","",RIGHT(P17,1))) | S17: =IF(R17="relance niveau 1","relance simple par courrier",IF(R17="relance niveau 2","relance téléphonique",IF(R17="relance niveau 3","lettre rar",IF(R17="relance niveau 4","relance téléphonique",IF(R17="relance niveau 5","Mise en demeure LRAR",IF(R17="relance niveau 6","relance téléphonique",IF(R17="promesse de paiement","Contrôler si paiement",""))))))) | X17: =IF(AB17="","","oui")
M18: =RIGHT(I18,10) | N18: =IF(M18="","",DATEDIF(M18,TODAY(),"d")) | O18: =IF(Q18="","",IF(DATEVALUE(M18)>$AM$2,"","x")) | P18: =IF(I18="","",IF(N18>40,"relance niveau 6",IF(N18>35,"relance niveau 5",IF(N18>25,"relance niveau 4",IF(N18>20,"relance niveau 3",IF(N18>10,"relance niveau 2",IF(N18>=5,"relance niveau 1","facture non échue"))))))) | Q18: =IF(W18="x","",IF(P18="facture non échue","",RIGHT(P18,1))) | S18: =IF(R18="relance niveau 1","relance simple par courrier",IF(R18="relance niveau 2","relance téléphonique",IF(R18="relance niveau 3","lettre rar",IF(R18="relance niveau 4","relance téléphonique",IF(R18="relance niveau 5","Mise en demeure LRAR",IF(R18="relance niveau 6","relance téléphonique",IF(R18="promesse de paiement","Contrôler si paiement",""))))))) | X18: =IF(AB18="","","oui")
M19: =RIGHT(I19,10) | N19: =IF(M19="","",DATEDIF(M19,TODAY(),"d")) | O19: =IF(I19="","",IF(DATEVALUE(M19)>$AM$2,"","x")) | P19: =IF(I19="","",IF(N19>40,"relance niveau 6",IF(N19>35,"relance niveau 5",IF(N19>25,"relance niveau 4",IF(N19>20,"relance niveau 3",IF(N19>10,"relance niveau 2",IF(N19>=5,"relance niveau 1","facture non échue"))))))) | Q19: =IF(P19="facture non échue","",IF(O19="","",RIGHT(P19,1))) | S19: =IF(R19="relance niveau 1","relance simple par courrier",IF(R19="relance niveau 2","relance téléphonique",IF(R19="relance niveau 3","lettre rar",IF(R19="relance niveau 4","relance téléphonique",IF(R19="relance niveau 5","Mise en demeure LRAR",IF(R19="relance niveau 6","relance téléphonique",IF(R19="promesse de paiement","Contrôler si paiement",""))))))) | X19: =IF(AB19="","","oui")
M20: =RIGHT(I20,10) | N20: =IF(M20="","",DATEDIF(M20,TODAY(),"d")) | O20: =IF(I20="","",IF(DATEVALUE(M20)>$AM$2,"","x")) | P20: =IF(I20="","",IF(N20>40,"relance niveau 6",IF(N20>35,"relance niveau 5",IF(N20>25,"relance niveau 4",IF(N20>20,"relance niveau 3",IF(N20>10,"relance niveau 2",IF(N20>=5,"relance niveau 1","facture non échue"))))))) | Q20: =IF(P20="facture non échue","",IF(O20="","",RIGHT(P20,1))) | S20: =IF(R20="relance niveau 1","relance simple par courrier",IF(R20="relance niveau 2","relance téléphonique",IF(R20="relance niveau 3","lettre rar",IF(R20="relance niveau 4","relance téléphonique",IF(R20="relance niveau 5","Mise en demeure LRAR",IF(R20="relance niveau 6","relance téléphonique",IF(R20="promesse de paiement","Contrôler si paiement",""))))))) | X20: =IF(AB20="","","oui")
M21: =RIGHT(I21,10) | N21: =IF(M21="","",DATEDIF(M21,TODAY(),"d")) | O21: =IF(Q21="","",IF(DATEVALUE(M21)>$AM$2,"","x")) | P21: =IF(I21="","",IF(N21>40,"relance niveau 6",IF(N21>35,"relance niveau 5",IF(N21>25,"relance niveau 4",IF(N21>20,"relance niveau 3",IF(N21>10,"relance niveau 2",IF(N21>=5,"relance niveau 1","facture non échue"))))))) | Q21: =IF(W21="x","",IF(P21="facture non échue","",RIGHT(P21,1))) | S21: =IF(R21="relance niveau 1","relance simple par courrier",IF(R21="relance niveau 2","relance téléphonique",IF(R21="relance niveau 3","lettre rar",IF(R21="relance niveau 4","relance téléphonique",IF(R21="relance niveau 5","Mise en demeure LRAR",IF(R21="relance niveau 6","relance téléphonique",IF(R21="promesse de paiement","Contrôler si paiement",""))))))) | X21: =IF(AB21="","","oui")
M22: =RIGHT(I22,10) | N22: =IF(M22="","",DATEDIF(M22,TODAY(),"d")) | O22: =IF(I22="","",IF(DATEVALUE(M22)>$AM$2,"","x")) | P22: =IF(I22="","",IF(N22>40,"relance niveau 6",IF(N22>35,"relance niveau 5",IF(N22>25,"relance niveau 4",IF(N22>20,"relance niveau 3",IF(N22>10,"relance niveau 2",IF(N22>=5,"relance niveau 1","facture non échue"))))))) | Q22: =IF(P22="facture non échue","",IF(O22="","",RIGHT(P22,1))) | S22: =IF(R22="relance niveau 1","relance simple par courrier",IF(R22="relance niveau 2","relance téléphonique",IF(R22="relance niveau 3","lettre rar",IF(R22="relance niveau 4","relance téléphonique",IF(R22="relance niveau 5","Mise en demeure LRAR",IF(R22="relance niveau 6","relance téléphonique",IF(R22="promesse de paiement","Contrôler si paiement",""))))))) | X22: =IF(AB22="","","oui")
M23: =RIGHT(I23,10) | N23: =IF(M23="","",DATEDIF(M23,TODAY(),"d")) | O23: =IF(I23="","",IF(DATEVALUE(M23)>$AM$2,"","x")) | P23: =IF(I23="","",IF(N23>40,"relance niveau 6",IF(N23>35,"relance niveau 5",IF(N23>25,"relance niveau 4",IF(N23>20,"relance niveau 3",IF(N23>10,"relance niveau 2",IF(N23>=5,"relance niveau 1","facture non échue"))))))) | Q23: =IF(P23="facture non échue","",IF(O23="","",RIGHT(P23,1))) | S23: =IF(R23="relance niveau 1","relance simple par courrier",IF(R23="relance niveau 2","relance téléphonique",IF(R23="relance niveau 3","lettre rar",IF(R23="relance niveau 4","relance téléphonique",IF(R23="relance niveau 5","Mise en demeure LRAR",IF(R23="relance niveau 6","relance téléphonique",IF(R23="promesse de paiement","Contrôler si paiement",""))))))) | X23: =IF(AB23="","","oui")
M24: =RIGHT(I24,10) | N24: =IF(M24="","",DATEDIF(M24,TODAY(),"d")) | O24: =IF(I24="","",IF(DATEVALUE(M24)>$AM$2,"","x")) | P24: =IF(I24="","",IF(N24>40,"relance niveau 6",IF(N24>35,"relance niveau 5",IF(N24>25,"relance niveau 4",IF(N24>20,"relance niveau 3",IF(N24>10,"relance niveau 2",IF(N24>=5,"relance niveau 1","facture non échue"))))))) | Q24: =IF(P24="facture non échue","",IF(O24="","",RIGHT(P24,1))) | S24: =IF(R24="relance niveau 1","relance simple par courrier",IF(R24="relance niveau 2","relance téléphonique",IF(R24="relance niveau 3","lettre rar",IF(R24="relance niveau 4","relance téléphonique",IF(R24="relance niveau 5","Mise en demeure LRAR",IF(R24="relance niveau 6","relance téléphonique",IF(R24="promesse de paiement","Contrôler si paiement",""))))))) | X24: =IF(AB24="","","oui")
M25: =RIGHT(I25,10) | N25: =IF(M25="","",DATEDIF(M25,TODAY(),"d")) | O25: =IF(I25="","",IF(DATEVALUE(M25)>$AM$2,"","x")) | P25: =IF(I25="","",IF(N25>40,"relance niveau 6",IF(N25>35,"relance niveau 5",IF(N25>25,"relance niveau 4",IF(N25>20,"relance niveau 3",IF(N25>10,"relance niveau 2",IF(N25>=5,"relance niveau 1","facture non échue"))))))) | Q25: =IF(P25="facture non échue","",IF(O25="","",RIGHT(P25,1))) | S25: =IF(R25="relance niveau 1","relance simple par courrier",IF(R25="relance niveau 2","relance téléphonique",IF(R25="relance niveau 3","lettre rar",IF(R25="relance niveau 4","relance téléphonique",IF(R25="relance niveau 5","Mise en demeure LRAR",IF(R25="relance niveau 6","relance téléphonique",IF(R25="promesse de paiement","Contrôler si paiement",""))))))) | X25: =IF(AB25="","","oui")
M26: =RIGHT(I26,10) | N26: =IF(M26="","",DATEDIF(M26,TODAY(),"d")) | O26: =IF(I26="","",IF(DATEVALUE(M26)>$AM$2,"","x")) | P26: =IF(I26="","",IF(N26>40,"relance niveau 6",IF(N26>35,"relance niveau 5",IF(N26>25,"relance niveau 4",IF(N26>20,"relance niveau 3",IF(N26>10,"relance niveau 2",IF(N26>=5,"relance niveau 1","facture non échue"))))))) | Q26: =IF(P26="facture non échue","",IF(O26="","",RIGHT(P26,1))) | S26: =IF(R26="relance niveau 1","relance simple par courrier",IF(R26="relance niveau 2","relance téléphonique",IF(R26="relance niveau 3","lettre rar",IF(R26="relance niveau 4","relance téléphonique",IF(R26="relance niveau 5","Mise en demeure LRAR",IF(R26="relance niveau 6","relance téléphonique",IF(R26="promesse de paiement","Contrôler si paiement",""))))))) | X26: =IF(AB26="","","oui")
M27: =RIGHT(I27,10) | N27: =IF(M27="","",DATEDIF(M27,TODAY(),"d")) | O27: =IF(I27="","",IF(DATEVALUE(M27)>$AM$2,"","x")) | P27: =IF(I27="","",IF(N27>40,"relance niveau 6",IF(N27>35,"relance niveau 5",IF(N27>25,"relance niveau 4",IF(N27>20,"relance niveau 3",IF(N27>10,"relance niveau 2",IF(N27>=5,"relance niveau 1","facture non échue"))))))) | Q27: =IF(P27="facture non échue","",IF(O27="","",RIGHT(P27,1))) | S27: =IF(R27="relance niveau 1","relance simple par courrier",IF(R27="relance niveau 2","relance téléphonique",IF(R27="relance niveau 3","lettre rar",IF(R27="relance niveau 4","relance téléphonique",IF(R27="relance niveau 5","Mise en demeure LRAR",IF(R27="relance niveau 6","relance téléphonique",IF(R27="promesse de paiement","Contrôler si paiement",""))))))) | X27: =IF(AB27="","","oui")
M28: =RIGHT(I28,10) | N28: =IF(M28="","",DATEDIF(M28,TODAY(),"d")) | O28: =IF(I28="","",IF(DATEVALUE(M28)>$AM$2,"","x")) | P28: =IF(I28="","",IF(N28>40,"relance niveau 6",IF(N28>35,"relance niveau 5",IF(N28>25,"relance niveau 4",IF(N28>20,"relance niveau 3",IF(N28>10,"relance niveau 2",IF(N28>=5,"relance niveau 1","facture non échue"))))))) | Q28: =IF(P28="facture non échue","",IF(O28="","",RIGHT(P28,1))) | S28: =IF(R28="relance niveau 1","relance simple par courrier",IF(R28="relance niveau 2","relance téléphonique",IF(R28="relance niveau 3","lettre rar",IF(R28="relance niveau 4","relance téléphonique",IF(R28="relance niveau 5","Mise en demeure LRAR",IF(R28="relance niveau 6","relance téléphonique",IF(R28="promesse de paiement","Contrôler si paiement",""))))))) | X28: =IF(AB28="","","oui")
M29: =RIGHT(I29,10) | N29: =IF(M29="","",DATEDIF(M29,TODAY(),"d")) | O29: =IF(I29="","",IF(DATEVALUE(M29)>$AM$2,"","x")) | P29: =IF(I29="","",IF(N29>40,"relance niveau 6",IF(N29>35,"relance niveau 5",IF(N29>25,"relance niveau 4",IF(N29>20,"relance niveau 3",IF(N29>10,"relance niveau 2",IF(N29>=5,"relance niveau 1","facture non échue"))))))) | Q29: =IF(P29="facture non échue","",IF(O29="","",RIGHT(P29,1))) | S29: =IF(R29="relance niveau 1","relance simple par courrier",IF(R29="relance niveau 2","relance téléphonique",IF(R29="relance niveau 3","lettre rar",IF(R29="relance niveau 4","relance téléphonique",IF(R29="relance niveau 5","Mise en demeure LRAR",IF(R29="relance niveau 6","relance téléphonique",IF(R29="promesse de paiement","Contrôler si paiement",""))))))) | X29: =IF(AB29="","","oui")
M30: =RIGHT(I30,10) | N30: =IF(M30="","",DATEDIF(M30,TODAY(),"d")) | O30: =IF(I30="","",IF(DATEVALUE(M30)>$AM$2,"","x")) | P30: =IF(I30="","",IF(N30>40,"relance niveau 6",IF(N30>35,"relance niveau 5",IF(N30>25,"relance niveau 4",IF(N30>20,"relance niveau 3",IF(N30>10,"relance niveau 2",IF(N30>=5,"relance niveau 1","facture non échue"))))))) | Q30: =IF(P30="facture non échue","",IF(O30="","",RIGHT(P30,1))) | S30: =IF(R30="relance niveau 1","relance simple par courrier",IF(R30="relance niveau 2","relance téléphonique",IF(R30="relance niveau 3","lettre rar",IF(R30="relance niveau 4","relance téléphonique",IF(R30="relance niveau 5","Mise en demeure LRAR",IF(R30="relance niveau 6","relance téléphonique",IF(R30="promesse de paiement","Contrôler si paiement",""))))))) | X30: =IF(AB30="","","oui")
M31: =RIGHT(I31,10) | N31: =IF(M31="","",DATEDIF(M31,TODAY(),"d")) | O31: =IF(Q31="","",IF(DATEVALUE(M31)>$AM$2,"","x")) | P31: =IF(I31="","",IF(N31>40,"relance niveau 6",IF(N31>35,"relance niveau 5",IF(N31>25,"relance niveau 4",IF(N31>20,"relance niveau 3",IF(N31>10,"relance niveau 2",IF(N31>=5,"relance niveau 1","facture non échue"))))))) | Q31: =IF(W31="x","",IF(P31="facture non échue","",RIGHT(P31,1))) | S31: =IF(R31="relance niveau 1","relance simple par courrier",IF(R31="relance niveau 2","relance téléphonique",IF(R31="relance niveau 3","lettre rar",IF(R31="relance niveau 4","relance téléphonique",IF(R31="relance niveau 5","Mise en demeure LRAR",IF(R31="relance niveau 6","relance téléphonique",IF(R31="promesse de paiement","Contrôler si paiement",""))))))) | X31: =IF(AB31="","","oui")
M32: =RIGHT(I32,10) | N32: =IF(M32="","",DATEDIF(M32,TODAY(),"d")) | O32: =IF(I32="","",IF(DATEVALUE(M32)>$AM$2,"","x")) | P32: =IF(I32="","",IF(N32>40,"relance niveau 6",IF(N32>35,"relance niveau 5",IF(N32>25,"relance niveau 4",IF(N32>20,"relance niveau 3",IF(N32>10,"relance niveau 2",IF(N32>=5,"relance niveau 1","facture non échue"))))))) | Q32: =IF(P32="facture non échue","",IF(O32="","",RIGHT(P32,1))) | S32: =IF(R32="relance niveau 1","relance simple par courrier",IF(R32="relance niveau 2","relance téléphonique",IF(R32="relance niveau 3","lettre rar",IF(R32="relance niveau 4","relance téléphonique",IF(R32="relance niveau 5","Mise en demeure LRAR",IF(R32="relance niveau 6","relance téléphonique",IF(R32="promesse de paiement","Contrôler si paiement",""))))))) | X32: =IF(AB32="","","oui")
M33: =RIGHT(I33,10) | N33: =IF(M33="","",DATEDIF(M33,TODAY(),"d")) | O33: =IF(I33="","",IF(DATEVALUE(M33)>$AM$2,"","x")) | P33: =IF(I33="","",IF(N33>40,"relance niveau 6",IF(N33>35,"relance niveau 5",IF(N33>25,"relance niveau 4",IF(N33>20,"relance niveau 3",IF(N33>10,"relance niveau 2",IF(N33>=5,"relance niveau 1","facture non échue"))))))) | Q33: =IF(P33="facture non échue","",IF(O33="","",RIGHT(P33,1))) | S33: =IF(R33="relance niveau 1","relance simple par courrier",IF(R33="relance niveau 2","relance téléphonique",IF(R33="relance niveau 3","lettre rar",IF(R33="relance niveau 4","relance téléphonique",IF(R33="relance niveau 5","Mise en demeure LRAR",IF(R33="relance niveau 6","relance téléphonique",IF(R33="promesse de paiement","Contrôler si paiement",""))))))) | X33: =IF(AB33="","","oui")
M34: =RIGHT(I34,10) | N34: =IF(M34="","",DATEDIF(M34,TODAY(),"d")) | O34: =IF(Q34="","",IF(DATEVALUE(M34)>$AM$2,"","x")) | P34: =IF(I34="","",IF(N34>40,"relance niveau 6",IF(N34>35,"relance niveau 5",IF(N34>25,"relance niveau 4",IF(N34>20,"relance niveau 3",IF(N34>10,"relance niveau 2",IF(N34>=5,"relance niveau 1","facture non échue"))))))) | Q34: =IF(W34="x","",IF(P34="facture non échue","",RIGHT(P34,1))) | S34: =IF(R34="relance niveau 1","relance simple par courrier",IF(R34="relance niveau 2","relance téléphonique",IF(R34="relance niveau 3","lettre rar",IF(R34="relance niveau 4","relance téléphonique",IF(R34="relance niveau 5","Mise en demeure LRAR",IF(R34="relance niveau 6","relance téléphonique",IF(R34="promesse de paiement","Contrôler si paiement",""))))))) | X34: =IF(AB34="","","oui")
M35: =RIGHT(I35,10) | N35: =IF(M35="","",DATEDIF(M35,TODAY(),"d")) | O35: =IF(Q35="","",IF(DATEVALUE(M35)>$AM$2,"","x")) | P35: =IF(I35="","",IF(N35>40,"relance niveau 6",IF(N35>35,"relance niveau 5",IF(N35>25,"relance niveau 4",IF(N35>20,"relance niveau 3",IF(N35>10,"relance niveau 2",IF(N35>=5,"relance niveau 1","facture non échue"))))))) | Q35: =IF(W35="x","",IF(P35="facture non échue","",RIGHT(P35,1))) | S35: =IF(R35="relance niveau 1","relance simple par courrier",IF(R35="relance niveau 2","relance téléphonique",IF(R35="relance niveau 3","lettre rar",IF(R35="relance niveau 4","relance téléphonique",IF(R35="relance niveau 5","Mise en demeure LRAR",IF(R35="relance niveau 6","relance téléphonique",IF(R35="promesse de paiement","Contrôler si paiement",""))))))) | X35: =IF(AB35="","","oui")
M36: =RIGHT(I36,10) | N36: =IF(M36="","",DATEDIF(M36,TODAY(),"d")) | O36: =IF(Q36="","",IF(DATEVALUE(M36)>$AM$2,"","x")) | P36: =IF(I36="","",IF(N36>40,"relance niveau 6",IF(N36>35,"relance niveau 5",IF(N36>25,"relance niveau 4",IF(N36>20,"relance niveau 3",IF(N36>10,"relance niveau 2",IF(N36>=5,"relance niveau 1","facture non échue"))))))) | Q36: =IF(W36="x","",IF(P36="facture non échue","",RIGHT(P36,1))) | S36: =IF(R36="relance niveau 1","relance simple par courrier",IF(R36="relance niveau 2","relance téléphonique",IF(R36="relance niveau 3","lettre rar",IF(R36="relance niveau 4","relance téléphonique",IF(R36="relance niveau 5","Mise en demeure LRAR",IF(R36="relance niveau 6","relance téléphonique",IF(R36="promesse de paiement","Contrôler si paiement",""))))))) | X36: =IF(AB36="","","oui")
M37: =RIGHT(I37,10) | N37: =IF(M37="","",DATEDIF(M37,TODAY(),"d")) | O37: =IF(Q37="","",IF(DATEVALUE(M37)>$AM$2,"","x")) | P37: =IF(I37="","",IF(N37>40,"relance niveau 6",IF(N37>35,"relance niveau 5",IF(N37>25,"relance niveau 4",IF(N37>20,"relance niveau 3",IF(N37>10,"relance niveau 2",IF(N37>=5,"relance niveau 1","facture non échue"))))))) | Q37: =IF(W37="x","",IF(P37="facture non échue","",RIGHT(P37,1))) | S37: =IF(R37="relance niveau 1","relance simple par courrier",IF(R37="relance niveau 2","relance téléphonique",IF(R37="relance niveau 3","lettre rar",IF(R37="relance niveau 4","relance téléphonique",IF(R37="relance niveau 5","Mise en demeure LRAR",IF(R37="relance niveau 6","relance téléphonique",IF(R37="promesse de paiement","Contrôler si paiement",""))))))) | X37: =IF(AB37="","","oui")
M38: =RIGHT(I38,10) | N38: =IF(M38="","",DATEDIF(M38,TODAY(),"d")) | O38: =IF(Q38="","",IF(DATEVALUE(M38)>$AM$2,"","x")) | P38: =IF(I38="","",IF(N38>40,"relance niveau 6",IF(N38>35,"relance niveau 5",IF(N38>25,"relance niveau 4",IF(N38>20,"relance niveau 3",IF(N38>10,"relance niveau 2",IF(N38>=5,"relance niveau 1","facture non échue"))))))) | Q38: =IF(W38="x","",IF(P38="facture non échue","",RIGHT(P38,1))) | S38: =IF(R38="relance niveau 1","relance simple par courrier",IF(R38="relance niveau 2","relance téléphonique",IF(R38="relance niveau 3","lettre rar",IF(R38="relance niveau 4","relance téléphonique",IF(R38="relance niveau 5","Mise en demeure LRAR",IF(R38="relance niveau 6","relance téléphonique",IF(R38="promesse de paiement","Contrôler si paiement",""))))))) | X38: =IF(AB38="","","oui")
M39: =RIGHT(I39,10) | N39: =IF(M39="","",DATEDIF(M39,TODAY(),"d")) | O39: =IF(Q39="","",IF(DATEVALUE(M39)>$AM$2,"","x")) | P39: =IF(I39="","",IF(N39>40,"relance niveau 6",IF(N39>35,"relance niveau 5",IF(N39>25,"relance niveau 4",IF(N39>20,"relance niveau 3",IF(N39>10,"relance niveau 2",IF(N39>=5,"relance niveau 1","facture non échue"))))))) | Q39: =IF(W39="x","",IF(P39="facture non échue","",RIGHT(P39,1))) | S39: =IF(R39="relance niveau 1","relance simple par courrier",IF(R39="relance niveau 2","relance téléphonique",IF(R39="relance niveau 3","lettre rar",IF(R39="relance niveau 4","relance téléphonique",IF(R39="relance niveau 5","Mise en demeure LRAR",IF(R39="relance niveau 6","relance téléphonique",IF(R39="promesse de paiement","Contrôler si paiement",""))))))) | X39: =IF(AB39="","","oui")
M40: =RIGHT(I40,10) | N40: =IF(M40="","",DATEDIF(M40,TODAY(),"d")) | O40: =IF(Q40="","",IF(DATEVALUE(M40)>$AM$2,"","x")) | P40: =IF(I40="","",IF(N40>40,"relance niveau 6",IF(N40>35,"relance niveau 5",IF(N40>25,"relance niveau 4",IF(N40>20,"relance niveau 3",IF(N40>10,"relance niveau 2",IF(N40>=5,"relance niveau 1","facture non échue"))))))) | Q40: =IF(W40="x","",IF(P40="facture non échue","",RIGHT(P40,1))) | S40: =IF(R40="relance niveau 1","relance simple par courrier",IF(R40="relance niveau 2","relance téléphonique",IF(R40="relance niveau 3","lettre rar",IF(R40="relance niveau 4","relance téléphonique",IF(R40="relance niveau 5","Mise en demeure LRAR",IF(R40="relance niveau 6","relance téléphonique",IF(R40="promesse de paiement","Contrôler si paiement",""))))))) | X40: =IF(AB40="","","oui")
M41: =RIGHT(I41,10) | N41: =IF(M41="","",DATEDIF(M41,TODAY(),"d")) | O41: =IF(Q41="","",IF(DATEVALUE(M41)>$AM$2,"","x")) | P41: =IF(I41="","",IF(N41>40,"relance niveau 6",IF(N41>35,"relance niveau 5",IF(N41>25,"relance niveau 4",IF(N41>20,"relance niveau 3",IF(N41>10,"relance niveau 2",IF(N41>=5,"relance niveau 1","facture non échue"))))))) | Q41: =IF(W41="x","",IF(P41="facture non échue","",RIGHT(P41,1))) | S41: =IF(R41="relance niveau 1","relance simple par courrier",IF(R41="relance niveau 2","relance téléphonique",IF(R41="relance niveau 3","lettre rar",IF(R41="relance niveau 4","relance téléphonique",IF(R41="relance niveau 5","Mise en demeure LRAR",IF(R41="relance niveau 6","relance téléphonique",IF(R41="promesse de paiement","Contrôler si paiement",""))))))) | X41: =IF(AB41="","","oui")
M42: =RIGHT(I42,10) | N42: =IF(M42="","",DATEDIF(M42,TODAY(),"d")) | O42: =IF(Q42="","",IF(DATEVALUE(M42)>$AM$2,"","x")) | P42: =IF(I42="","",IF(N42>40,"relance niveau 6",IF(N42>35,"relance niveau 5",IF(N42>25,"relance niveau 4",IF(N42>20,"relance niveau 3",IF(N42>10,"relance niveau 2",IF(N42>=5,"relance niveau 1","facture non échue"))))))) | Q42: =IF(W42="x","",IF(P42="facture non échue","",RIGHT(P42,1))) | S42: =IF(R42="relance niveau 1","relance simple par courrier",IF(R42="relance niveau 2","relance téléphonique",IF(R42="relance niveau 3","lettre rar",IF(R42="relance niveau 4","relance téléphonique",IF(R42="relance niveau 5","Mise en demeure LRAR",IF(R42="relance niveau 6","relance téléphonique",IF(R42="promesse de paiement","Contrôler si paiement",""))))))) | X42: =IF(AB42="","","oui")
M43: =RIGHT(I43,10) | N43: =IF(M43="","",DATEDIF(M43,TODAY(),"d")) | O43: =IF(Q43="","",IF(DATEVALUE(M43)>$AM$2,"","x")) | P43: =IF(I43="","",IF(N43>40,"relance niveau 6",IF(N43>35,"relance niveau 5",IF(N43>25,"relance niveau 4",IF(N43>20,"relance niveau 3",IF(N43>10,"relance niveau 2",IF(N43>=5,"relance niveau 1","facture non échue"))))))) | Q43: =IF(W43="x","",IF(P43="facture non échue","",RIGHT(P43,1))) | S43: =IF(R43="relance niveau 1","relance simple par courrier",IF(R43="relance niveau 2","relance téléphonique",IF(R43="relance niveau 3","lettre rar",IF(R43="relance niveau 4","relance téléphonique",IF(R43="relance niveau 5","Mise en demeure LRAR",IF(R43="relance niveau 6","relance téléphonique",IF(R43="promesse de paiement","Contrôler si paiement",""))))))) | X43: =IF(AB43="","","oui")
M44: =RIGHT(I44,10) | N44: =IF(M44="","",DATEDIF(M44,TODAY(),"d")) | O44: =IF(I44="","",IF(DATEVALUE(M44)>$AM$2,"","x")) | P44: =IF(I44="","",IF(N44>40,"relance niveau 6",IF(N44>35,"relance niveau 5",IF(N44>25,"relance niveau 4",IF(N44>20,"relance niveau 3",IF(N44>10,"relance niveau 2",IF(N44>=5,"relance niveau 1","facture non échue"))))))) | Q44: =IF(P44="facture non échue","",IF(O44="","",RIGHT(P44,1))) | S44: =IF(R44="relance niveau 1","relance simple par courrier",IF(R44="relance niveau 2","relance téléphonique",IF(R44="relance niveau 3","lettre rar",IF(R44="relance niveau 4","relance téléphonique",IF(R44="relance niveau 5","Mise en demeure LRAR",IF(R44="relance niveau 6","relance téléphonique",IF(R44="promesse de paiement","Contrôler si paiement",""))))))) | X44: =IF(AB44="","","oui")
M45: =RIGHT(I45,10) | N45: =IF(M45="","",DATEDIF(M45,TODAY(),"d")) | O45: =IF(I45="","",IF(DATEVALUE(M45)>$AM$2,"","x")) | P45: =IF(I45="","",IF(N45>40,"relance niveau 6",IF(N45>35,"relance niveau 5",IF(N45>25,"relance niveau 4",IF(N45>20,"relance niveau 3",IF(N45>10,"relance niveau 2",IF(N45>=5,"relance niveau 1","facture non échue"))))))) | Q45: =IF(P45="facture non échue","",IF(O45="","",RIGHT(P45,1))) | S45: =IF(R45="relance niveau 1","relance simple par courrier",IF(R45="relance niveau 2","relance téléphonique",IF(R45="relance niveau 3","lettre rar",IF(R45="relance niveau 4","relance téléphonique",IF(R45="relance niveau 5","Mise en demeure LRAR",IF(R45="relance niveau 6","relance téléphonique",IF(R45="promesse de paiement","Contrôler si paiement",""))))))) | X45: =IF(AB45="","","oui")
M46: =RIGHT(I46,10) | N46: =IF(M46="","",DATEDIF(M46,TODAY(),"d")) | O46: =IF(Q46="","",IF(DATEVALUE(M46)>$AM$2,"","x")) | P46: =IF(I46="","",IF(N46>40,"relance niveau 6",IF(N46>35,"relance niveau 5",IF(N46>25,"relance niveau 4",IF(N46>20,"relance niveau 3",IF(N46>10,"relance niveau 2",IF(N46>=5,"relance niveau 1","facture non échue"))))))) | Q46: =IF(W46="x","",IF(P46="facture non échue","",RIGHT(P46,1))) | S46: =IF(R46="relance niveau 1","relance simple par courrier",IF(R46="relance niveau 2","relance téléphonique",IF(R46="relance niveau 3","lettre rar",IF(R46="relance niveau 4","relance téléphonique",IF(R46="relance niveau 5","Mise en demeure LRAR",IF(R46="relance niveau 6","relance téléphonique",IF(R46="promesse de paiement","Contrôler si paiement",""))))))) | X46: =IF(AB46="","","oui")
M47: =RIGHT(I47,10) | N47: =IF(M47="","",DATEDIF(M47,TODAY(),"d")) | O47: =IF(I47="","",IF(DATEVALUE(M47)>$AM$2,"","x")) | P47: =IF(I47="","",IF(N47>40,"relance niveau 6",IF(N47>35,"relance niveau 5",IF(N47>25,"relance niveau 4",IF(N47>20,"relance niveau 3",IF(N47>10,"relance niveau 2",IF(N47>=5,"relance niveau 1","facture non échue"))))))) | Q47: =IF(P47="facture non échue","",IF(O47="","",RIGHT(P47,1))) | S47: =IF(R47="relance niveau 1","relance simple par courrier",IF(R47="relance niveau 2","relance téléphonique",IF(R47="relance niveau 3","lettre rar",IF(R47="relance niveau 4","relance téléphonique",IF(R47="relance niveau 5","Mise en demeure LRAR",IF(R47="relance niveau 6","relance téléphonique",IF(R47="promesse de paiement","Contrôler si paiement",""))))))) | X47: =IF(AB47="","","oui")
M48: =RIGHT(I48,10) | N48: =IF(M48="","",DATEDIF(M48,TODAY(),"d")) | O48: =IF(I48="","",IF(DATEVALUE(M48)>$AM$2,"","x")) | P48: =IF(I48="","",IF(N48>40,"relance niveau 6",IF(N48>35,"relance niveau 5",IF(N48>25,"relance niveau 4",IF(N48>20,"relance niveau 3",IF(N48>10,"relance niveau 2",IF(N48>=5,"relance niveau 1","facture non échue"))))))) | Q48: =IF(P48="facture non échue","",IF(O48="","",RIGHT(P48,1))) | S48: =IF(R48="relance niveau 1","relance simple par courrier",IF(R48="relance niveau 2","relance téléphonique",IF(R48="relance niveau 3","lettre rar",IF(R48="relance niveau 4","relance téléphonique",IF(R48="relance niveau 5","Mise en demeure LRAR",IF(R48="relance niveau 6","relance téléphonique",IF(R48="promesse de paiement","Contrôler si paiement",""))))))) | X48: =IF(AB48="","","oui")
M49: =RIGHT(I49,10) | N49: =IF(M49="","",DATEDIF(M49,TODAY(),"d")) | O49: =IF(Q49="","",IF(DATEVALUE(M49)>$AM$2,"","x")) | P49: =IF(I49="","",IF(N49>40,"relance niveau 6",IF(N49>35,"relance niveau 5",IF(N49>25,"relance niveau 4",IF(N49>20,"relance niveau 3",IF(N49>10,"relance niveau 2",IF(N49>=5,"relance niveau 1","facture non échue"))))))) | Q49: =IF(W49="x","",IF(P49="facture non échue","",RIGHT(P49,1))) | S49: =IF(R49="relance niveau 1","relance simple par courrier",IF(R49="relance niveau 2","relance téléphonique",IF(R49="relance niveau 3","lettre rar",IF(R49="relance niveau 4","relance téléphonique",IF(R49="relance niveau 5","Mise en demeure LRAR",IF(R49="relance niveau 6","relance téléphonique",IF(R49="promesse de paiement","Contrôler si paiement",""))))))) | X49: =IF(AB49="","","oui")
M50: =RIGHT(I50,10) | N50: =IF(M50="","",DATEDIF(M50,TODAY(),"d")) | O50: =IF(I50="","",IF(DATEVALUE(M50)>$AM$2,"","x")) | P50: =IF(I50="","",IF(N50>40,"relance niveau 6",IF(N50>35,"relance niveau 5",IF(N50>25,"relance niveau 4",IF(N50>20,"relance niveau 3",IF(N50>10,"relance niveau 2",IF(N50>=5,"relance niveau 1","facture non échue"))))))) | Q50: =IF(P50="facture non échue","",IF(O50="","",RIGHT(P50,1))) | S50: =IF(R50="relance niveau 1","relance simple par courrier",IF(R50="relance niveau 2","relance téléphonique",IF(R50="relance niveau 3","lettre rar",IF(R50="relance niveau 4","relance téléphonique",IF(R50="relance niveau 5","Mise en demeure LRAR",IF(R50="relance niveau 6","relance téléphonique",IF(R50="promesse de paiement","Contrôler si paiement",""))))))) | X50: =IF(AB50="","","oui")
M51: =RIGHT(I51,10) | N51: =IF(M51="","",DATEDIF(M51,TODAY(),"d")) | O51: =IF(I51="","",IF(DATEVALUE(M51)>$AM$2,"","x")) | P51: =IF(I51="","",IF(N51>40,"relance niveau 6",IF(N51>35,"relance niveau 5",IF(N51>25,"relance niveau 4",IF(N51>20,"relance niveau 3",IF(N51>10,"relance niveau 2",IF(N51>=5,"relance niveau 1","facture non échue"))))))) | Q51: =IF(P51="facture non échue","",IF(O51="","",RIGHT(P51,1))) | S51: =IF(R51="relance niveau 1","relance simple par courrier",IF(R51="relance niveau 2","relance téléphonique",IF(R51="relance niveau 3","lettre rar",IF(R51="relance niveau 4","relance téléphonique",IF(R51="relance niveau 5","Mise en demeure LRAR",IF(R51="relance niveau 6","relance téléphonique",IF(R51="promesse de paiement","Contrôler si paiement",""))))))) | X51: =IF(AB51="","","oui")
M52: =RIGHT(I52,10) | N52: =IF(M52="","",DATEDIF(M52,TODAY(),"d")) | O52: =IF(Q52="","",IF(DATEVALUE(M52)>$AM$2,"","x")) | P52: =IF(I52="","",IF(N52>40,"relance niveau 6",IF(N52>35,"relance niveau 5",IF(N52>25,"relance niveau 4",IF(N52>20,"relance niveau 3",IF(N52>10,"relance niveau 2",IF(N52>=5,"relance niveau 1","facture non échue"))))))) | Q52: =IF(W52="x","",IF(P52="facture non échue","",RIGHT(P52,1))) | S52: =IF(R52="relance niveau 1","relance simple par courrier",IF(R52="relance niveau 2","relance téléphonique",IF(R52="relance niveau 3","lettre rar",IF(R52="relance niveau 4","relance téléphonique",IF(R52="relance niveau 5","Mise en demeure LRAR",IF(R52="relance niveau 6","relance téléphonique",IF(R52="promesse de paiement","Contrôler si paiement",""))))))) | X52: =IF(AB52="","","oui")
M53: =RIGHT(I53,10) | N53: =IF(M53="","",DATEDIF(M53,TODAY(),"d")) | O53: =IF(Q53="","",IF(DATEVALUE(M53)>$AM$2,"","x")) | P53: =IF(I53="","",IF(N53>40,"relance niveau 6",IF(N53>35,"relance niveau 5",IF(N53>25,"relance niveau 4",IF(N53>20,"relance niveau 3",IF(N53>10,"relance niveau 2",IF(N53>=5,"relance niveau 1","facture non échue"))))))) | Q53: =IF(W53="x","",IF(P53="facture non échue","",RIGHT(P53,1))) | S53: =IF(R53="relance niveau 1","relance simple par courrier",IF(R53="relance niveau 2","relance téléphonique",IF(R53="relance niveau 3","lettre rar",IF(R53="relance niveau 4","relance téléphonique",IF(R53="relance niveau 5","Mise en demeure LRAR",IF(R53="relance niveau 6","relance téléphonique",IF(R53="promesse de paiement","Contrôler si paiement",""))))))) | X53: =IF(AB53="","","oui")
M54: =RIGHT(I54,10) | N54: =IF(M54="","",DATEDIF(M54,TODAY(),"d")) | O54: =IF(I54="","",IF(DATEVALUE(M54)>$AM$2,"","x")) | P54: =IF(I54="","",IF(N54>40,"relance niveau 6",IF(N54>35,"relance niveau 5",IF(N54>25,"relance niveau 4",IF(N54>20,"relance niveau 3",IF(N54>10,"relance niveau 2",IF(N54>=5,"relance niveau 1","facture non échue"))))))) | Q54: =IF(P54="facture non échue","",IF(O54="","",RIGHT(P54,1))) | S54: =IF(R54="relance niveau 1","relance simple par courrier",IF(R54="relance niveau 2","relance téléphonique",IF(R54="relance niveau 3","lettre rar",IF(R54="relance niveau 4","relance téléphonique",IF(R54="relance niveau 5","Mise en demeure LRAR",IF(R54="relance niveau 6","relance téléphonique",IF(R54="promesse de paiement","Contrôler si paiement",""))))))) | X54: =IF(AB54="","","oui")
M55: =RIGHT(I55,10) | N55: =IF(M55="","",DATEDIF(M55,TODAY(),"d")) | O55: =IF(I55="","",IF(DATEVALUE(M55)>$AM$2,"","x")) | P55: =IF(I55="","",IF(N55>40,"relance niveau 6",IF(N55>35,"relance niveau 5",IF(N55>25,"relance niveau 4",IF(N55>20,"relance niveau 3",IF(N55>10,"relance niveau 2",IF(N55>=5,"relance niveau 1","facture non échue"))))))) | Q55: =IF(P55="facture non échue","",IF(O55="","",RIGHT(P55,1))) | S55: =IF(R55="relance niveau 1","relance simple par courrier",IF(R55="relance niveau 2","relance téléphonique",IF(R55="relance niveau 3","lettre rar",IF(R55="relance niveau 4","relance téléphonique",IF(R55="relance niveau 5","Mise en demeure LRAR",IF(R55="relance niveau 6","relance téléphonique",IF(R55="promesse de paiement","Contrôler si paiement",""))))))) | X55: =IF(AB55="","","oui")
M56: =RIGHT(I56,10) | N56: =IF(M56="","",DATEDIF(M56,TODAY(),"d")) | O56: =IF(Q56="","",IF(DATEVALUE(M56)>$AM$2,"","x")) | P56: =IF(I56="","",IF(N56>40,"relance niveau 6",IF(N56>35,"relance niveau 5",IF(N56>25,"relance niveau 4",IF(N56>20,"relance niveau 3",IF(N56>10,"relance niveau 2",IF(N56>=5,"relance niveau 1","facture non échue"))))))) | Q56: =IF(W56="x","",IF(P56="facture non échue","",RIGHT(P56,1))) | S56: =IF(R56="relance niveau 1","relance simple par courrier",IF(R56="relance niveau 2","relance téléphonique",IF(R56="relance niveau 3","lettre rar",IF(R56="relance niveau 4","relance téléphonique",IF(R56="relance niveau 5","Mise en demeure LRAR",IF(R56="relance niveau 6","relance téléphonique",IF(R56="promesse de paiement","Contrôler si paiement",""))))))) | X56: =IF(AB56="","","oui")
M57: =RIGHT(I57,10) | N57: =IF(M57="","",DATEDIF(M57,TODAY(),"d")) | O57: =IF(Q57="","",IF(DATEVALUE(M57)>$AM$2,"","x")) | P57: =IF(I57="","",IF(N57>40,"relance niveau 6",IF(N57>35,"relance niveau 5",IF(N57>25,"relance niveau 4",IF(N57>20,"relance niveau 3",IF(N57>10,"relance niveau 2",IF(N57>=5,"relance niveau 1","facture non échue"))))))) | Q57: =IF(W57="x","",IF(P57="facture non échue","",RIGHT(P57,1))) | S57: =IF(R57="relance niveau 1","relance simple par courrier",IF(R57="relance niveau 2","relance téléphonique",IF(R57="relance niveau 3","lettre rar",IF(R57="relance niveau 4","relance téléphonique",IF(R57="relance niveau 5","Mise en demeure LRAR",IF(R57="relance niveau 6","relance téléphonique",IF(R57="promesse de paiement","Contrôler si paiement",""))))))) | X57: =IF(AB57="","","oui")
M58: =RIGHT(I58,10) | N58: =IF(M58="","",DATEDIF(M58,TODAY(),"d")) | O58: =IF(Q58="","",IF(DATEVALUE(M58)>$AM$2,"","x")) | P58: =IF(I58="","",IF(N58>40,"relance niveau 6",IF(N58>35,"relance niveau 5",IF(N58>25,"relance niveau 4",IF(N58>20,"relance niveau 3",IF(N58>10,"relance niveau 2",IF(N58>=5,"relance niveau 1","facture non échue"))))))) | Q58: =IF(W58="x","",IF(P58="facture non échue","",RIGHT(P58,1))) | S58: =IF(R58="relance niveau 1","relance simple par courrier",IF(R58="relance niveau 2","relance téléphonique",IF(R58="relance niveau 3","lettre rar",IF(R58="relance niveau 4","relance téléphonique",IF(R58="relance niveau 5","Mise en demeure LRAR",IF(R58="relance niveau 6","relance téléphonique",IF(R58="promesse de paiement","Contrôler si paiement",""))))))) | X58: =IF(AB58="","","oui")
M59: =RIGHT(I59,10) | N59: =IF(M59="","",DATEDIF(M59,TODAY(),"d")) | O59: =IF(Q59="","",IF(DATEVALUE(M59)>$AM$2,"","x")) | P59: =IF(I59="","",IF(N59>40,"relance niveau 6",IF(N59>35,"relance niveau 5",IF(N59>25,"relance niveau 4",IF(N59>20,"relance niveau 3",IF(N59>10,"relance niveau 2",IF(N59>=5,"relance niveau 1","facture non échue"))))))) | Q59: =IF(W59="x","",IF(P59="facture non échue","",RIGHT(P59,1))) | S59: =IF(R59="relance niveau 1","relance simple par courrier",IF(R59="relance niveau 2","relance téléphonique",IF(R59="relance niveau 3","lettre rar",IF(R59="relance niveau 4","relance téléphonique",IF(R59="relance niveau 5","Mise en demeure LRAR",IF(R59="relance niveau 6","relance téléphonique",IF(R59="promesse de paiement","Contrôler si paiement",""))))))) | X59: =IF(AB59="","","oui")
M60: =RIGHT(I60,10) | N60: =IF(M60="","",DATEDIF(M60,TODAY(),"d")) | O60: =IF(Q60="","",IF(DATEVALUE(M60)>$AM$2,"","x")) | P60: =IF(I60="","",IF(N60>40,"relance niveau 6",IF(N60>35,"relance niveau 5",IF(N60>25,"relance niveau 4",IF(N60>20,"relance niveau 3",IF(N60>10,"relance niveau 2",IF(N60>=5,"relance niveau 1","facture non échue"))))))) | Q60: =IF(W60="x","",IF(P60="facture non échue","",RIGHT(P60,1))) | S60: =IF(R60="relance niveau 1","relance simple par courrier",IF(R60="relance niveau 2","relance téléphonique",IF(R60="relance niveau 3","lettre rar",IF(R60="relance niveau 4","relance téléphonique",IF(R60="relance niveau 5","Mise en demeure LRAR",IF(R60="relance niveau 6","relance téléphonique",IF(R60="promesse de paiement","Contrôler si paiement",""))))))) | X60: =IF(AB60="","","oui")
M61: =RIGHT(I61,10) | N61: =IF(M61="","",DATEDIF(M61,TODAY(),"d")) | O61: =IF(Q61="","",IF(DATEVALUE(M61)>$AM$2,"","x")) | P61: =IF(I61="","",IF(N61>40,"relance niveau 6",IF(N61>35,"relance niveau 5",IF(N61>25,"relance niveau 4",IF(N61>20,"relance niveau 3",IF(N61>10,"relance niveau 2",IF(N61>=5,"relance niveau 1","facture non échue"))))))) | Q61: =IF(W61="x","",IF(P61="facture non échue","",RIGHT(P61,1))) | S61: =IF(R61="relance niveau 1","relance simple par courrier",IF(R61="relance niveau 2","relance téléphonique",IF(R61="relance niveau 3","lettre rar",IF(R61="relance niveau 4","relance téléphonique",IF(R61="relance niveau 5","Mise en demeure LRAR",IF(R61="relance niveau 6","relance téléphonique",IF(R61="promesse de paiement","Contrôler si paiement",""))))))) | X61: =IF(AB61="","","oui")
M62: =RIGHT(I62,10) | N62: =IF(M62="","",DATEDIF(M62,TODAY(),"d")) | O62: =IF(I62="","",IF(DATEVALUE(M62)>$AM$2,"","x")) | P62: =IF(I62="","",IF(N62>40,"relance niveau 6",IF(N62>35,"relance niveau 5",IF(N62>25,"relance niveau 4",IF(N62>20,"relance niveau 3",IF(N62>10,"relance niveau 2",IF(N62>=5,"relance niveau 1","facture non échue"))))))) | Q62: =IF(P62="facture non échue","",IF(O62="","",RIGHT(P62,1))) | S62: =IF(R62="relance niveau 1","relance simple par courrier",IF(R62="relance niveau 2","relance téléphonique",IF(R62="relance niveau 3","lettre rar",IF(R62="relance niveau 4","relance téléphonique",IF(R62="relance niveau 5","Mise en demeure LRAR",IF(R62="relance niveau 6","relance téléphonique",IF(R62="promesse de paiement","Contrôler si paiement",""))))))) | X62: =IF(AB62="","","oui")
M63: =RIGHT(I63,10) | N63: =IF(M63="","",DATEDIF(M63,TODAY(),"d")) | O63: =IF(I63="","",IF(DATEVALUE(M63)>$AM$2,"","x")) | P63: =IF(I63="","",IF(N63>40,"relance niveau 6",IF(N63>35,"relance niveau 5",IF(N63>25,"relance niveau 4",IF(N63>20,"relance niveau 3",IF(N63>10,"relance niveau 2",IF(N63>=5,"relance niveau 1","facture non échue"))))))) | Q63: =IF(P63="facture non échue","",IF(O63="","",RIGHT(P63,1))) | S63: =IF(R63="relance niveau 1","relance simple par courrier",IF(R63="relance niveau 2","relance téléphonique",IF(R63="relance niveau 3","lettre rar",IF(R63="relance niveau 4","relance téléphonique",IF(R63="relance niveau 5","Mise en demeure LRAR",IF(R63="relance niveau 6","relance téléphonique",IF(R63="promesse de paiement","Contrôler si paiement",""))))))) | X63: =IF(AB63="","","oui")
M64: =RIGHT(I64,10) | N64: =IF(M64="","",DATEDIF(M64,TODAY(),"d")) | O64: =IF(Q64="","",IF(DATEVALUE(M64)>$AM$2,"","x")) | P64: =IF(I64="","",IF(N64>40,"relance niveau 6",IF(N64>35,"relance niveau 5",IF(N64>25,"relance niveau 4",IF(N64>20,"relance niveau 3",IF(N64>10,"relance niveau 2",IF(N64>=5,"relance niveau 1","facture non échue"))))))) | Q64: =IF(W64="x","",IF(P64="facture non échue","",RIGHT(P64,1))) | S64: =IF(R64="relance niveau 1","relance simple par courrier",IF(R64="relance niveau 2","relance téléphonique",IF(R64="relance niveau 3","lettre rar",IF(R64="relance niveau 4","relance téléphonique",IF(R64="relance niveau 5","Mise en demeure LRAR",IF(R64="relance niveau 6","relance téléphonique",IF(R64="promesse de paiement","Contrôler si paiement",""))))))) | X64: =IF(AB64="","","oui")
M65: =RIGHT(I65,10) | N65: =IF(M65="","",DATEDIF(M65,TODAY(),"d")) | O65: =IF(Q65="","",IF(DATEVALUE(M65)>$AM$2,"","x")) | P65: =IF(I65="","",IF(N65>40,"relance niveau 6",IF(N65>35,"relance niveau 5",IF(N65>25,"relance niveau 4",IF(N65>20,"relance niveau 3",IF(N65>10,"relance niveau 2",IF(N65>=5,"relance niveau 1","facture non échue"))))))) | Q65: =IF(W65="x","",IF(P65="facture non échue","",RIGHT(P65,1))) | S65: =IF(R65="relance niveau 1","relance simple par courrier",IF(R65="relance niveau 2","relance téléphonique",IF(R65="relance niveau 3","lettre rar",IF(R65="relance niveau 4","relance téléphonique",IF(R65="relance niveau 5","Mise en demeure LRAR",IF(R65="relance niveau 6","relance téléphonique",IF(R65="promesse de paiement","Contrôler si paiement",""))))))) | X65: =IF(AB65="","","oui")
M66: =RIGHT(I66,10) | N66: =IF(M66="","",DATEDIF(M66,TODAY(),"d")) | O66: =IF(I66="","",IF(DATEVALUE(M66)>$AM$2,"","x")) | P66: =IF(I66="","",IF(N66>40,"relance niveau 6",IF(N66>35,"relance niveau 5",IF(N66>25,"relance niveau 4",IF(N66>20,"relance niveau 3",IF(N66>10,"relance niveau 2",IF(N66>=5,"relance niveau 1","facture non échue"))))))) | Q66: =IF(P66="facture non échue","",IF(O66="","",RIGHT(P66,1))) | S66: =IF(R66="relance niveau 1","relance simple par courrier",IF(R66="relance niveau 2","relance téléphonique",IF(R66="relance niveau 3","lettre rar",IF(R66="relance niveau 4","relance téléphonique",IF(R66="relance niveau 5","Mise en demeure LRAR",IF(R66="relance niveau 6","relance téléphonique",IF(R66="promesse de paiement","Contrôler si paiement",""))))))) | X66: =IF(AB66="","","oui")
M67: =RIGHT(I67,10) | N67: =IF(M67="","",DATEDIF(M67,TODAY(),"d")) | O67: =IF(I67="","",IF(DATEVALUE(M67)>$AM$2,"","x")) | P67: =IF(I67="","",IF(N67>40,"relance niveau 6",IF(N67>35,"relance niveau 5",IF(N67>25,"relance niveau 4",IF(N67>20,"relance niveau 3",IF(N67>10,"relance niveau 2",IF(N67>=5,"relance niveau 1","facture non échue"))))))) | Q67: =IF(P67="facture non échue","",IF(O67="","",RIGHT(P67,1))) | S67: =IF(R67="relance niveau 1","relance simple par courrier",IF(R67="relance niveau 2","relance téléphonique",IF(R67="relance niveau 3","lettre rar",IF(R67="relance niveau 4","relance téléphonique",IF(R67="relance niveau 5","Mise en demeure LRAR",IF(R67="relance niveau 6","relance téléphonique",IF(R67="promesse de paiement","Contrôler si paiement",""))))))) | X67: =IF(AB67="","","oui")
M68: =RIGHT(I68,10) | N68: =IF(M68="","",DATEDIF(M68,TODAY(),"d")) | O68: =IF(Q68="","",IF(DATEVALUE(M68)>$AM$2,"","x")) | P68: =IF(I68="","",IF(N68>40,"relance niveau 6",IF(N68>35,"relance niveau 5",IF(N68>25,"relance niveau 4",IF(N68>20,"relance niveau 3",IF(N68>10,"relance niveau 2",IF(N68>=5,"relance niveau 1","facture non échue"))))))) | Q68: =IF(W68="x","",IF(P68="facture non échue","",RIGHT(P68,1))) | S68: =IF(R68="relance niveau 1","relance simple par courrier",IF(R68="relance niveau 2","relance téléphonique",IF(R68="relance niveau 3","lettre rar",IF(R68="relance niveau 4","relance téléphonique",IF(R68="relance niveau 5","Mise en demeure LRAR",IF(R68="relance niveau 6","relance téléphonique",IF(R68="promesse de paiement","Contrôler si paiement",""))))))) | X68: =IF(AB68="","","oui")
M69: =RIGHT(I69,10) | N69: =IF(M69="","",DATEDIF(M69,TODAY(),"d")) | O69: =IF(Q69="","",IF(DATEVALUE(M69)>$AM$2,"","x")) | P69: =IF(I69="","",IF(N69>40,"relance niveau 6",IF(N69>35,"relance niveau 5",IF(N69>25,"relance niveau 4",IF(N69>20,"relance niveau 3",IF(N69>10,"relance niveau 2",IF(N69>=5,"relance niveau 1","facture non échue"))))))) | Q69: =IF(W69="x","",IF(P69="facture non échue","",RIGHT(P69,1))) | S69: =IF(R69="relance niveau 1","relance simple par courrier",IF(R69="relance niveau 2","relance téléphonique",IF(R69="relance niveau 3","lettre rar",IF(R69="relance niveau 4","relance téléphonique",IF(R69="relance niveau 5","Mise en demeure LRAR",IF(R69="relance niveau 6","relance téléphonique",IF(R69="promesse de paiement","Contrôler si paiement",""))))))) | X69: =IF(AB69="","","oui")
M70: =RIGHT(I70,10) | N70: =IF(M70="","",DATEDIF(M70,TODAY(),"d")) | O70: =IF(Q70="","",IF(DATEVALUE(M70)>$AM$2,"","x")) | P70: =IF(I70="","",IF(N70>40,"relance niveau 6",IF(N70>35,"relance niveau 5",IF(N70>25,"relance niveau 4",IF(N70>20,"relance niveau 3",IF(N70>10,"relance niveau 2",IF(N70>=5,"relance niveau 1","facture non échue"))))))) | Q70: =IF(W70="x","",IF(P70="facture non échue","",RIGHT(P70,1))) | S70: =IF(R70="relance niveau 1","relance simple par courrier",IF(R70="relance niveau 2","relance téléphonique",IF(R70="relance niveau 3","lettre rar",IF(R70="relance niveau 4","relance téléphonique",IF(R70="relance niveau 5","Mise en demeure LRAR",IF(R70="relance niveau 6","relance téléphonique",IF(R70="promesse de paiement","Contrôler si paiement",""))))))) | X70: =IF(AB70="","","oui")
M71: =RIGHT(I71,10) | N71: =IF(M71="","",DATEDIF(M71,TODAY(),"d")) | O71: =IF(I71="","",IF(DATEVALUE(M71)>$AM$2,"","x")) | P71: =IF(I71="","",IF(N71>40,"relance niveau 6",IF(N71>35,"relance niveau 5",IF(N71>25,"relance niveau 4",IF(N71>20,"relance niveau 3",IF(N71>10,"relance niveau 2",IF(N71>=5,"relance niveau 1","facture non échue"))))))) | Q71: =IF(P71="facture non échue","",IF(O71="","",RIGHT(P71,1))) | S71: =IF(R71="relance niveau 1","relance simple par courrier",IF(R71="relance niveau 2","relance téléphonique",IF(R71="relance niveau 3","lettre rar",IF(R71="relance niveau 4","relance téléphonique",IF(R71="relance niveau 5","Mise en demeure LRAR",IF(R71="relance niveau 6","relance téléphonique",IF(R71="promesse de paiement","Contrôler si paiement",""))))))) | X71: =IF(AB71="","","oui")
M72: =RIGHT(I72,10) | N72: =IF(M72="","",DATEDIF(M72,TODAY(),"d")) | O72: =IF(I72="","",IF(DATEVALUE(M72)>$AM$2,"","x")) | P72: =IF(I72="","",IF(N72>40,"relance niveau 6",IF(N72>35,"relance niveau 5",IF(N72>25,"relance niveau 4",IF(N72>20,"relance niveau 3",IF(N72>10,"relance niveau 2",IF(N72>=5,"relance niveau 1","facture non échue"))))))) | Q72: =IF(P72="facture non échue","",IF(O72="","",RIGHT(P72,1))) | S72: =IF(R72="relance niveau 1","relance simple par courrier",IF(R72="relance niveau 2","relance téléphonique",IF(R72="relance niveau 3","lettre rar",IF(R72="relance niveau 4","relance téléphonique",IF(R72="relance niveau 5","Mise en demeure LRAR",IF(R72="relance niveau 6","relance téléphonique",IF(R72="promesse de paiement","Contrôler si paiement",""))))))) | X72: =IF(AB72="","","oui")
M73: =RIGHT(I73,10) | N73: =IF(M73="","",DATEDIF(M73,TODAY(),"d")) | O73: =IF(I73="","",IF(DATEVALUE(M73)>$AM$2,"","x")) | P73: =IF(I73="","",IF(N73>40,"relance niveau 6",IF(N73>35,"relance niveau 5",IF(N73>25,"relance niveau 4",IF(N73>20,"relance niveau 3",IF(N73>10,"relance niveau 2",IF(N73>=5,"relance niveau 1","facture non échue"))))))) | Q73: =IF(P73="facture non échue","",IF(O73="","",RIGHT(P73,1))) | S73: =IF(R73="relance niveau 1","relance simple par courrier",IF(R73="relance niveau 2","relance téléphonique",IF(R73="relance niveau 3","lettre rar",IF(R73="relance niveau 4","relance téléphonique",IF(R73="relance niveau 5","Mise en demeure LRAR",IF(R73="relance niveau 6","relance téléphonique",IF(R73="promesse de paiement","Contrôler si paiement",""))))))) | X73: =IF(AB73="","","oui")
M74: =RIGHT(I74,10) | N74: =IF(M74="","",DATEDIF(M74,TODAY(),"d")) | O74: =IF(I74="","",IF(DATEVALUE(M74)>$AM$2,"","x")) | P74: =IF(I74="","",IF(N74>40,"relance niveau 6",IF(N74>35,"relance niveau 5",IF(N74>25,"relance niveau 4",IF(N74>20,"relance niveau 3",IF(N74>10,"relance niveau 2",IF(N74>=5,"relance niveau 1","facture non échue"))))))) | Q74: =IF(P74="facture non échue","",IF(O74="","",RIGHT(P74,1))) | S74: =IF(R74="relance niveau 1","relance simple par courrier",IF(R74="relance niveau 2","relance téléphonique",IF(R74="relance niveau 3","lettre rar",IF(R74="relance niveau 4","relance téléphonique",IF(R74="relance niveau 5","Mise en demeure LRAR",IF(R74="relance niveau 6","relance téléphonique",IF(R74="promesse de paiement","Contrôler si paiement",""))))))) | X74: =IF(AB74="","","oui")
M75: =RIGHT(I75,10) | N75: =IF(M75="","",DATEDIF(M75,TODAY(),"d")) | O75: =IF(I75="","",IF(DATEVALUE(M75)>$AM$2,"","x")) | P75: =IF(I75="","",IF(N75>40,"relance niveau 6",IF(N75>35,"relance niveau 5",IF(N75>25,"relance niveau 4",IF(N75>20,"relance niveau 3",IF(N75>10,"relance niveau 2",IF(N75>=5,"relance niveau 1","facture non échue"))))))) | Q75: =IF(P75="facture non échue","",IF(O75="","",RIGHT(P75,1))) | S75: =IF(R75="relance niveau 1","relance simple par courrier",IF(R75="relance niveau 2","relance téléphonique",IF(R75="relance niveau 3","lettre rar",IF(R75="relance niveau 4","relance téléphonique",IF(R75="relance niveau 5","Mise en demeure LRAR",IF(R75="relance niveau 6","relance téléphonique",IF(R75="promesse de paiement","Contrôler si paiement",""))))))) | X75: =IF(AB75="","","oui")
M76: =RIGHT(I76,10) | N76: =IF(M76="","",DATEDIF(M76,TODAY(),"d")) | O76: =IF(I76="","",IF(DATEVALUE(M76)>$AM$2,"","x")) | P76: =IF(I76="","",IF(N76>40,"relance niveau 6",IF(N76>35,"relance niveau 5",IF(N76>25,"relance niveau 4",IF(N76>20,"relance niveau 3",IF(N76>10,"relance niveau 2",IF(N76>=5,"relance niveau 1","facture non échue"))))))) | Q76: =IF(P76="facture non échue","",IF(O76="","",RIGHT(P76,1))) | S76: =IF(R76="relance niveau 1","relance simple par courrier",IF(R76="relance niveau 2","relance téléphonique",IF(R76="relance niveau 3","lettre rar",IF(R76="relance niveau 4","relance téléphonique",IF(R76="relance niveau 5","Mise en demeure LRAR",IF(R76="relance niveau 6","relance téléphonique",IF(R76="promesse de paiement","Contrôler si paiement",""))))))) | X76: =IF(AB76="","","oui")
M77: =RIGHT(I77,10) | N77: =IF(M77="","",DATEDIF(M77,TODAY(),"d")) | O77: =IF(Q77="","",IF(DATEVALUE(M77)>$AM$2,"","x")) | P77: =IF(I77="","",IF(N77>40,"relance niveau 6",IF(N77>35,"relance niveau 5",IF(N77>25,"relance niveau 4",IF(N77>20,"relance niveau 3",IF(N77>10,"relance niveau 2",IF(N77>=5,"relance niveau 1","facture non échue"))))))) | Q77: =IF(W77="x","",IF(P77="facture non échue","",RIGHT(P77,1))) | S77: =IF(R77="relance niveau 1","relance simple par courrier",IF(R77="relance niveau 2","relance téléphonique",IF(R77="relance niveau 3","lettre rar",IF(R77="relance niveau 4","relance téléphonique",IF(R77="relance niveau 5","Mise en demeure LRAR",IF(R77="relance niveau 6","relance téléphonique",IF(R77="promesse de paiement","Contrôler si paiement",""))))))) | X77: =IF(AB77="","","oui")
M78: =RIGHT(I78,10) | N78: =IF(M78="","",DATEDIF(M78,TODAY(),"d")) | O78: =IF(I78="","",IF(DATEVALUE(M78)>$AM$2,"","x")) | P78: =IF(I78="","",IF(N78>40,"relance niveau 6",IF(N78>35,"relance niveau 5",IF(N78>25,"relance niveau 4",IF(N78>20,"relance niveau 3",IF(N78>10,"relance niveau 2",IF(N78>=5,"relance niveau 1","facture non échue"))))))) | Q78: =IF(P78="facture non échue","",IF(O78="","",RIGHT(P78,1))) | S78: =IF(R78="relance niveau 1","relance simple par courrier",IF(R78="relance niveau 2","relance téléphonique",IF(R78="relance niveau 3","lettre rar",IF(R78="relance niveau 4","relance téléphonique",IF(R78="relance niveau 5","Mise en demeure LRAR",IF(R78="relance niveau 6","relance téléphonique",IF(R78="promesse de paiement","Contrôler si paiement",""))))))) | X78: =IF(AB78="","","oui")
M79: =RIGHT(I79,10) | N79: =IF(M79="","",DATEDIF(M79,TODAY(),"d")) | O79: =IF(I79="","",IF(DATEVALUE(M79)>$AM$2,"","x")) | P79: =IF(I79="","",IF(N79>40,"relance niveau 6",IF(N79>35,"relance niveau 5",IF(N79>25,"relance niveau 4",IF(N79>20,"relance niveau 3",IF(N79>10,"relance niveau 2",IF(N79>=5,"relance niveau 1","facture non échue"))))))) | Q79: =IF(P79="facture non échue","",IF(O79="","",RIGHT(P79,1))) | S79: =IF(R79="relance niveau 1","relance simple par courrier",IF(R79="relance niveau 2","relance téléphonique",IF(R79="relance niveau 3","lettre rar",IF(R79="relance niveau 4","relance téléphonique",IF(R79="relance niveau 5","Mise en demeure LRAR",IF(R79="relance niveau 6","relance téléphonique",IF(R79="promesse de paiement","Contrôler si paiement",""))))))) | X79: =IF(AB79="","","oui")
M80: =RIGHT(I80,10) | N80: =IF(M80="","",DATEDIF(M80,TODAY(),"d")) | O80: =IF(Q80="","",IF(DATEVALUE(M80)>$AM$2,"","x")) | P80: =IF(I80="","",IF(N80>40,"relance niveau 6",IF(N80>35,"relance niveau 5",IF(N80>25,"relance niveau 4",IF(N80>20,"relance niveau 3",IF(N80>10,"relance niveau 2",IF(N80>=5,"relance niveau 1","facture non échue"))))))) | Q80: =IF(W80="x","",IF(P80="facture non échue","",RIGHT(P80,1))) | S80: =IF(R80="relance niveau 1","relance simple par courrier",IF(R80="relance niveau 2","relance téléphonique",IF(R80="relance niveau 3","lettre rar",IF(R80="relance niveau 4","relance téléphonique",IF(R80="relance niveau 5","Mise en demeure LRAR",IF(R80="relance niveau 6","relance téléphonique",IF(R80="promesse de paiement","Contrôler si paiement",""))))))) | X80: =IF(AB80="","","oui")
M81: =RIGHT(I81,10) | N81: =IF(M81="","",DATEDIF(M81,TODAY(),"d")) | O81: =IF(I81="","",IF(DATEVALUE(M81)>$AM$2,"","x")) | P81: =IF(I81="","",IF(N81>40,"relance niveau 6",IF(N81>35,"relance niveau 5",IF(N81>25,"relance niveau 4",IF(N81>20,"relance niveau 3",IF(N81>10,"relance niveau 2",IF(N81>=5,"relance niveau 1","facture non échue"))))))) | Q81: =IF(P81="facture non échue","",IF(O81="","",RIGHT(P81,1))) | S81: =IF(R81="relance niveau 1","relance simple par courrier",IF(R81="relance niveau 2","relance téléphonique",IF(R81="relance niveau 3","lettre rar",IF(R81="relance niveau 4","relance téléphonique",IF(R81="relance niveau 5","Mise en demeure LRAR",IF(R81="relance niveau 6","relance téléphonique",IF(R81="promesse de paiement","Contrôler si paiement",""))))))) | X81: =IF(AB81="","","oui")
M82: =RIGHT(I82,10) | N82: =IF(M82="","",DATEDIF(M82,TODAY(),"d")) | O82: =IF(I82="","",IF(DATEVALUE(M82)>$AM$2,"","x")) | P82: =IF(I82="","",IF(N82>40,"relance niveau 6",IF(N82>35,"relance niveau 5",IF(N82>25,"relance niveau 4",IF(N82>20,"relance niveau 3",IF(N82>10,"relance niveau 2",IF(N82>=5,"relance niveau 1","facture non échue"))))))) | Q82: =IF(P82="facture non échue","",IF(O82="","",RIGHT(P82,1))) | S82: =IF(R82="relance niveau 1","relance simple par courrier",IF(R82="relance niveau 2","relance téléphonique",IF(R82="relance niveau 3","lettre rar",IF(R82="relance niveau 4","relance téléphonique",IF(R82="relance niveau 5","Mise en demeure LRAR",IF(R82="relance niveau 6","relance téléphonique",IF(R82="promesse de paiement","Contrôler si paiement",""))))))) | X82: =IF(AB82="","","oui")
M83: =RIGHT(I83,10) | N83: =IF(M83="","",DATEDIF(M83,TODAY(),"d")) | O83: =IF(Q83="","",IF(DATEVALUE(M83)>$AM$2,"","x")) | P83: =IF(I83="","",IF(N83>40,"relance niveau 6",IF(N83>35,"relance niveau 5",IF(N83>25,"relance niveau 4",IF(N83>20,"relance niveau 3",IF(N83>10,"relance niveau 2",IF(N83>=5,"relance niveau 1","facture non échue"))))))) | Q83: =IF(W83="x","",IF(P83="facture non échue","",RIGHT(P83,1))) | S83: =IF(R83="relance niveau 1","relance simple par courrier",IF(R83="relance niveau 2","relance téléphonique",IF(R83="relance niveau 3","lettre rar",IF(R83="relance niveau 4","relance téléphonique",IF(R83="relance niveau 5","Mise en demeure LRAR",IF(R83="relance niveau 6","relance téléphonique",IF(R83="promesse de paiement","Contrôler si paiement",""))))))) | X83: =IF(AB83="","","oui")
M84: =RIGHT(I84,10) | N84: =IF(M84="","",DATEDIF(M84,TODAY(),"d")) | O84: =IF(Q84="","",IF(DATEVALUE(M84)>$AM$2,"","x")) | P84: =IF(I84="","",IF(N84>40,"relance niveau 6",IF(N84>35,"relance niveau 5",IF(N84>25,"relance niveau 4",IF(N84>20,"relance niveau 3",IF(N84>10,"relance niveau 2",IF(N84>=5,"relance niveau 1","facture non échue"))))))) | Q84: =IF(W84="x","",IF(P84="facture non échue","",RIGHT(P84,1))) | S84: =IF(R84="relance niveau 1","relance simple par courrier",IF(R84="relance niveau 2","relance téléphonique",IF(R84="relance niveau 3","lettre rar",IF(R84="relance niveau 4","relance téléphonique",IF(R84="relance niveau 5","Mise en demeure LRAR",IF(R84="relance niveau 6","relance téléphonique",IF(R84="promesse de paiement","Contrôler si paiement",""))))))) | X84: =IF(AB84="","","oui")
M85: =RIGHT(I85,10) | N85: =IF(M85="","",DATEDIF(M85,TODAY(),"d")) | O85: =IF(Q85="","",IF(DATEVALUE(M85)>$AM$2,"","x")) | P85: =IF(I85="","",IF(N85>40,"relance niveau 6",IF(N85>35,"relance niveau 5",IF(N85>25,"relance niveau 4",IF(N85>20,"relance niveau 3",IF(N85>10,"relance niveau 2",IF(N85>=5,"relance niveau 1","facture non échue"))))))) | Q85: =IF(W85="x","",IF(P85="facture non échue","",RIGHT(P85,1))) | S85: =IF(R85="relance niveau 1","relance simple par courrier",IF(R85="relance niveau 2","relance téléphonique",IF(R85="relance niveau 3","lettre rar",IF(R85="relance niveau 4","relance téléphonique",IF(R85="relance niveau 5","Mise en demeure LRAR",IF(R85="relance niveau 6","relance téléphonique",IF(R85="promesse de paiement","Contrôler si paiement",""))))))) | X85: =IF(AB85="","","oui")
M86: =RIGHT(I86,10) | N86: =IF(M86="","",DATEDIF(M86,TODAY(),"d")) | O86: =IF(Q86="","",IF(DATEVALUE(M86)>$AM$2,"","x")) | P86: =IF(I86="","",IF(N86>40,"relance niveau 6",IF(N86>35,"relance niveau 5",IF(N86>25,"relance niveau 4",IF(N86>20,"relance niveau 3",IF(N86>10,"relance niveau 2",IF(N86>=5,"relance niveau 1","facture non échue"))))))) | Q86: =IF(W86="x","",IF(P86="facture non échue","",RIGHT(P86,1))) | S86: =IF(R86="relance niveau 1","relance simple par courrier",IF(R86="relance niveau 2","relance téléphonique",IF(R86="relance niveau 3","lettre rar",IF(R86="relance niveau 4","relance téléphonique",IF(R86="relance niveau 5","Mise en demeure LRAR",IF(R86="relance niveau 6","relance téléphonique",IF(R86="promesse de paiement","Contrôler si paiement",""))))))) | X86: =IF(AB86="","","oui")
M87: =RIGHT(I87,10) | N87: =IF(M87="","",DATEDIF(M87,TODAY(),"d")) | O87: =IF(Q87="","",IF(DATEVALUE(M87)>$AM$2,"","x")) | P87: =IF(I87="","",IF(N87>40,"relance niveau 6",IF(N87>35,"relance niveau 5",IF(N87>25,"relance niveau 4",IF(N87>20,"relance niveau 3",IF(N87>10,"relance niveau 2",IF(N87>=5,"relance niveau 1","facture non échue"))))))) | Q87: =IF(W87="x","",IF(P87="facture non échue","",RIGHT(P87,1))) | S87: =IF(R87="relance niveau 1","relance simple par courrier",IF(R87="relance niveau 2","relance téléphonique",IF(R87="relance niveau 3","lettre rar",IF(R87="relance niveau 4","relance téléphonique",IF(R87="relance niveau 5","Mise en demeure LRAR",IF(R87="relance niveau 6","relance téléphonique",IF(R87="promesse de paiement","Contrôler si paiement",""))))))) | X87: =IF(AB87="","","oui")
M88: =RIGHT(I88,10) | N88: =IF(M88="","",DATEDIF(M88,TODAY(),"d")) | O88: =IF(Q88="","",IF(DATEVALUE(M88)>$AM$2,"","x")) | P88: =IF(I88="","",IF(N88>40,"relance niveau 6",IF(N88>35,"relance niveau 5",IF(N88>25,"relance niveau 4",IF(N88>20,"relance niveau 3",IF(N88>10,"relance niveau 2",IF(N88>=5,"relance niveau 1","facture non échue"))))))) | Q88: =IF(W88="x","",IF(P88="facture non échue","",RIGHT(P88,1))) | S88: =IF(R88="relance niveau 1","relance simple par courrier",IF(R88="relance niveau 2","relance téléphonique",IF(R88="relance niveau 3","lettre rar",IF(R88="relance niveau 4","relance téléphonique",IF(R88="relance niveau 5","Mise en demeure LRAR",IF(R88="relance niveau 6","relance téléphonique",IF(R88="promesse de paiement","Contrôler si paiement",""))))))) | X88: =IF(AB88="","","oui")
M89: =RIGHT(I89,10) | N89: =IF(M89="","",DATEDIF(M89,TODAY(),"d")) | O89: =IF(I89="","",IF(DATEVALUE(M89)>$AM$2,"","x")) | P89: =IF(I89="","",IF(N89>40,"relance niveau 6",IF(N89>35,"relance niveau 5",IF(N89>25,"relance niveau 4",IF(N89>20,"relance niveau 3",IF(N89>10,"relance niveau 2",IF(N89>=5,"relance niveau 1","facture non échue"))))))) | Q89: =IF(P89="facture non échue","",IF(O89="","",RIGHT(P89,1))) | S89: =IF(R89="relance niveau 1","relance simple par courrier",IF(R89="relance niveau 2","relance téléphonique",IF(R89="relance niveau 3","lettre rar",IF(R89="relance niveau 4","relance téléphonique",IF(R89="relance niveau 5","Mise en demeure LRAR",IF(R89="relance niveau 6","relance téléphonique",IF(R89="promesse de paiement","Contrôler si paiement",""))))))) | X89: =IF(AB89="","","oui")
M90: =RIGHT(I90,10) | N90: =IF(M90="","",DATEDIF(M90,TODAY(),"d")) | O90: =IF(I90="","",IF(DATEVALUE(M90)>$AM$2,"","x")) | P90: =IF(I90="","",IF(N90>40,"relance niveau 6",IF(N90>35,"relance niveau 5",IF(N90>25,"relance niveau 4",IF(N90>20,"relance niveau 3",IF(N90>10,"relance niveau 2",IF(N90>=5,"relance niveau 1","facture non échue"))))))) | Q90: =IF(P90="facture non échue","",IF(O90="","",RIGHT(P90,1))) | S90: =IF(R90="relance niveau 1","relance simple par courrier",IF(R90="relance niveau 2","relance téléphonique",IF(R90="relance niveau 3","lettre rar",IF(R90="relance niveau 4","relance téléphonique",IF(R90="relance niveau 5","Mise en demeure LRAR",IF(R90="relance niveau 6","relance téléphonique",IF(R90="promesse de paiement","Contrôler si paiement",""))))))) | X90: =IF(AB90="","","oui")
M91: =RIGHT(I91,10) | N91: =IF(M91="","",DATEDIF(M91,TODAY(),"d")) | O91: =IF(Q91="","",IF(DATEVALUE(M91)>$AM$2,"","x")) | P91: =IF(I91="","",IF(N91>40,"relance niveau 6",IF(N91>35,"relance niveau 5",IF(N91>25,"relance niveau 4",IF(N91>20,"relance niveau 3",IF(N91>10,"relance niveau 2",IF(N91>=5,"relance niveau 1","facture non échue"))))))) | Q91: =IF(W91="x","",IF(P91="facture non échue","",RIGHT(P91,1))) | S91: =IF(R91="relance niveau 1","relance simple par courrier",IF(R91="relance niveau 2","relance téléphonique",IF(R91="relance niveau 3","lettre rar",IF(R91="relance niveau 4","relance téléphonique",IF(R91="relance niveau 5","Mise en demeure LRAR",IF(R91="relance niveau 6","relance téléphonique",IF(R91="promesse de paiement","Contrôler si paiement",""))))))) | X91: =IF(AB91="","","oui")
M92: =RIGHT(I92,10) | N92: =IF(M92="","",DATEDIF(M92,TODAY(),"d")) | O92: =IF(I92="","",IF(DATEVALUE(M92)>$AM$2,"","x")) | P92: =IF(I92="","",IF(N92>40,"relance niveau 6",IF(N92>35,"relance niveau 5",IF(N92>25,"relance niveau 4",IF(N92>20,"relance niveau 3",IF(N92>10,"relance niveau 2",IF(N92>=5,"relance niveau 1","facture non échue"))))))) | Q92: =IF(P92="facture non échue","",IF(O92="","",RIGHT(P92,1))) | S92: =IF(R92="relance niveau 1","relance simple par courrier",IF(R92="relance niveau 2","relance téléphonique",IF(R92="relance niveau 3","lettre rar",IF(R92="relance niveau 4","relance téléphonique",IF(R92="relance niveau 5","Mise en demeure LRAR",IF(R92="relance niveau 6","relance téléphonique",IF(R92="promesse de paiement","Contrôler si paiement",""))))))) | X92: =IF(AB92="","","oui")
M93: =RIGHT(I93,10) | N93: =IF(M93="","",DATEDIF(M93,TODAY(),"d")) | O93: =IF(I93="","",IF(DATEVALUE(M93)>$AM$2,"","x")) | P93: =IF(I93="","",IF(N93>40,"relance niveau 6",IF(N93>35,"relance niveau 5",IF(N93>25,"relance niveau 4",IF(N93>20,"relance niveau 3",IF(N93>10,"relance niveau 2",IF(N93>=5,"relance niveau 1","facture non échue"))))))) | Q93: =IF(P93="facture non échue","",IF(O93="","",RIGHT(P93,1))) | S93: =IF(R93="relance niveau 1","relance simple par courrier",IF(R93="relance niveau 2","relance téléphonique",IF(R93="relance niveau 3","lettre rar",IF(R93="relance niveau 4","relance téléphonique",IF(R93="relance niveau 5","Mise en demeure LRAR",IF(R93="relance niveau 6","relance téléphonique",IF(R93="promesse de paiement","Contrôler si paiement",""))))))) | X93: =IF(AB93="","","oui")
M94: =RIGHT(I94,10) | N94: =IF(M94="","",DATEDIF(M94,TODAY(),"d")) | O94: =IF(Q94="","",IF(DATEVALUE(M94)>$AM$2,"","x")) | P94: =IF(I94="","",IF(N94>40,"relance niveau 6",IF(N94>35,"relance niveau 5",IF(N94>25,"relance niveau 4",IF(N94>20,"relance niveau 3",IF(N94>10,"relance niveau 2",IF(N94>=5,"relance niveau 1","facture non échue"))))))) | Q94: =IF(W94="x","",IF(P94="facture non échue","",RIGHT(P94,1))) | S94: =IF(R94="relance niveau 1","relance simple par courrier",IF(R94="relance niveau 2","relance téléphonique",IF(R94="relance niveau 3","lettre rar",IF(R94="relance niveau 4","relance téléphonique",IF(R94="relance niveau 5","Mise en demeure LRAR",IF(R94="relance niveau 6","relance téléphonique",IF(R94="promesse de paiement","Contrôler si paiement",""))))))) | X94: =IF(AB94="","","oui")
M95: =RIGHT(I95,10) | N95: =IF(M95="","",DATEDIF(M95,TODAY(),"d")) | O95: =IF(Q95="","",IF(DATEVALUE(M95)>$AM$2,"","x")) | P95: =IF(I95="","",IF(N95>40,"relance niveau 6",IF(N95>35,"relance niveau 5",IF(N95>25,"relance niveau 4",IF(N95>20,"relance niveau 3",IF(N95>10,"relance niveau 2",IF(N95>=5,"relance niveau 1","facture non échue"))))))) | Q95: =IF(W95="x","",IF(P95="facture non échue","",RIGHT(P95,1))) | S95: =IF(R95="relance niveau 1","relance simple par courrier",IF(R95="relance niveau 2","relance téléphonique",IF(R95="relance niveau 3","lettre rar",IF(R95="relance niveau 4","relance téléphonique",IF(R95="relance niveau 5","Mise en demeure LRAR",IF(R95="relance niveau 6","relance téléphonique",IF(R95="promesse de paiement","Contrôler si paiement",""))))))) | X95: =IF(AB95="","","oui")
M96: =RIGHT(I96,10) | N96: =IF(M96="","",DATEDIF(M96,TODAY(),"d")) | O96: =IF(Q96="","",IF(DATEVALUE(M96)>$AM$2,"","x")) | P96: =IF(I96="","",IF(N96>40,"relance niveau 6",IF(N96>35,"relance niveau 5",IF(N96>25,"relance niveau 4",IF(N96>20,"relance niveau 3",IF(N96>10,"relance niveau 2",IF(N96>=5,"relance niveau 1","facture non échue"))))))) | Q96: =IF(W96="x","",IF(P96="facture non échue","",RIGHT(P96,1))) | S96: =IF(R96="relance niveau 1","relance simple par courrier",IF(R96="relance niveau 2","relance téléphonique",IF(R96="relance niveau 3","lettre rar",IF(R96="relance niveau 4","relance téléphonique",IF(R96="relance niveau 5","Mise en demeure LRAR",IF(R96="relance niveau 6","relance téléphonique",IF(R96="promesse de paiement","Contrôler si paiement",""))))))) | X96: =IF(AB96="","","oui")
M97: =RIGHT(I97,10) | N97: =IF(M97="","",DATEDIF(M97,TODAY(),"d")) | O97: =IF(Q97="","",IF(DATEVALUE(M97)>$AM$2,"","x")) | P97: =IF(I97="","",IF(N97>40,"relance niveau 6",IF(N97>35,"relance niveau 5",IF(N97>25,"relance niveau 4",IF(N97>20,"relance niveau 3",IF(N97>10,"relance niveau 2",IF(N97>=5,"relance niveau 1","facture non échue"))))))) | Q97: =IF(W97="x","",IF(P97="facture non échue","",RIGHT(P97,1))) | S97: =IF(R97="relance niveau 1","relance simple par courrier",IF(R97="relance niveau 2","relance téléphonique",IF(R97="relance niveau 3","lettre rar",IF(R97="relance niveau 4","relance téléphonique",IF(R97="relance niveau 5","Mise en demeure LRAR",IF(R97="relance niveau 6","relance téléphonique",IF(R97="promesse de paiement","Contrôler si paiement",""))))))) | X97: =IF(AB97="","","oui")
M98: =RIGHT(I98,10) | N98: =IF(M98="","",DATEDIF(M98,TODAY(),"d")) | O98: =IF(I98="","",IF(DATEVALUE(M98)>$AM$2,"","x")) | P98: =IF(I98="","",IF(N98>40,"relance niveau 6",IF(N98>35,"relance niveau 5",IF(N98>25,"relance niveau 4",IF(N98>20,"relance niveau 3",IF(N98>10,"relance niveau 2",IF(N98>=5,"relance niveau 1","facture non échue"))))))) | Q98: =IF(P98="facture non échue","",IF(O98="","",RIGHT(P98,1))) | S98: =IF(R98="relance niveau 1","relance simple par courrier",IF(R98="relance niveau 2","relance téléphonique",IF(R98="relance niveau 3","lettre rar",IF(R98="relance niveau 4","relance téléphonique",IF(R98="relance niveau 5","Mise en demeure LRAR",IF(R98="relance niveau 6","relance téléphonique",IF(R98="promesse de paiement","Contrôler si paiement",""))))))) | X98: =IF(AB98="","","oui")
M99: =RIGHT(I99,10) | N99: =IF(M99="","",DATEDIF(M99,TODAY(),"d")) | O99: =IF(I99="","",IF(DATEVALUE(M99)>$AM$2,"","x")) | P99: =IF(I99="","",IF(N99>40,"relance niveau 6",IF(N99>35,"relance niveau 5",IF(N99>25,"relance niveau 4",IF(N99>20,"relance niveau 3",IF(N99>10,"relance niveau 2",IF(N99>=5,"relance niveau 1","facture non échue"))))))) | Q99: =IF(P99="facture non échue","",IF(O99="","",RIGHT(P99,1))) | S99: =IF(R99="relance niveau 1","relance simple par courrier",IF(R99="relance niveau 2","relance téléphonique",IF(R99="relance niveau 3","lettre rar",IF(R99="relance niveau 4","relance téléphonique",IF(R99="relance niveau 5","Mise en demeure LRAR",IF(R99="relance niveau 6","relance téléphonique",IF(R99="promesse de paiement","Contrôler si paiement",""))))))) | X99: =IF(AB99="","","oui")
M100: =RIGHT(I100,10) | N100: =IF(M100="","",DATEDIF(M100,TODAY(),"d")) | O100: =IF(I100="","",IF(DATEVALUE(M100)>$AM$2,"","x")) | P100: =IF(I100="","",IF(N100>40,"relance niveau 6",IF(N100>35,"relance niveau 5",IF(N100>25,"relance niveau 4",IF(N100>20,"relance niveau 3",IF(N100>10,"relance niveau 2",IF(N100>=5,"relance niveau 1","facture non échue"))))))) | Q100: =IF(P100="facture non échue","",IF(O100="","",RIGHT(P100,1))) | S100: =IF(R100="relance niveau 1","relance simple par courrier",IF(R100="relance niveau 2","relance téléphonique",IF(R100="relance niveau 3","lettre rar",IF(R100="relance niveau 4","relance téléphonique",IF(R100="relance niveau 5","Mise en demeure LRAR",IF(R100="relance niveau 6","relance téléphonique",IF(R100="promesse de paiement","Contrôler si paiement",""))))))) | X100: =IF(AB100="","","oui")
...

Sheet 12 02 20
A1: Cial | B1: Interloc | C1: Client | D1: Nom | E1: siret | F1: Téléphone | G1: N° de fact. | H1: Date de fact. | I1: Echéance | J1: Montant TTC | K1: Déjà versé | L1: Solde | M1: Échéance | N1: Nb jours | O1: Ancienne facture | P1: Niveau de relance de base | Q1: Niveau | R1: Niveau de relance | S1: Action | T1: Date envoi courrier | U1: Commentaire précédent | V1: Commentaire | W1: Paiement ok | X1: Promesse de paiement | Y1: Action supplémentaire | Z1: Ne pas relancer | AA1: Action supplémentaire | AB1: Date promesse de paiement | AC1: Vérification contrat | AD1: Vérifications relevé d'heures | AE1: Adresse 1 | AF1: Adresse 2 | AG1: Code Postal | AH1: Ville | AI1: Nom du contact | AJ1: N° de téléphone
D2: MACHIN TRUC | G2: 2836 | H2: 43799 | I2: V 30/12/2019 | J2: 1386 | L2: 1386 | M2: =RIGHT(I2,10) -> 30/12/2019 | N2: =IF(M2="","",DATEDIF(M2,TODAY(),"d")) -> 52 | O2: =IF(I2="","",IF(W2="x","",IF(VLOOKUP(G2,#REF!,9,FALSE)=0,"",VLOOKUP(G2,#REF!,9,FALSE)))) -> #REF! | P2: =IF(I2="","",IF(N2>40,"relance niveau 6",IF(N2>35,"relance niveau 5",IF(N2>25,"relance niveau 4",IF(N2>20,"relance niveau 3",IF(N2>10,"relance niveau 2",IF(N2>=5,"relance niveau 1",""))))))) -> relance niveau 6 | Q2: =IF(O2="","",RIGHT(P2,1)) -> #REF! | R2: =IF(O2="x","relance niveau 1", IF(Q2="","facture réglée", IF(AND(O2="",#REF!="facture réglée"),P2, IF(#REF!="x",P2, IF(W2="x","facture réglée", IF(I2="","", IF(Z2="x","ne pas relancer", IF(Y2="oui","contrôler avant de relancer", IF(X2="oui","promesse de paiement", IF(AND(D2=#REF!,#REF!>=Q2),#REF!, IF(P2="facture réglée", IF(N2>40,"relance niveau 6", IF(N2>35,"relance niveau 5", IF(N2>25,"relance niveau 4", IF(N2>20,"relance niveau 3", IF(N2>10,"relance niveau 2", IF(N2>=5,"relance niveau 1", IF(X2="oui","promesse de paiement","")))))))))))))))))) -> #REF! | S2: =IF(R2="relance niveau 1","relance simple par courrier",IF(R2="relance niveau 2","relance téléphonique",IF(R2="relance niveau 3","lettre rar",IF(R2="relance niveau 4","relance téléphonique",IF(R2="relance niveau 5","Mise en demeure LRAR",IF(R2="relance niveau 6","relance téléphonique",IF(R2="promesse de paiement","Contrôler si paiement",""))))))) -> #REF! | T2: 43878 | U2: =IF($I2="","",IF((VLOOKUP($G2,#REF!,15,FALSE))=0,"",(VLOOKUP($G2,#REF!,15,FALSE)))) -> #REF! | V2: ESSAI | AE2: =IF($I2="","",IF((VLOOKUP($D2,'Fichier client - BBI IDF'!$A:G,2,FALSE))=0,"",(VLOOKUP($D2,'Fichier client - BBI IDF'!$A:G,2,FALSE)))) -> 112 avenue Henri Ginoux | AF2: =IF($I2="","",IF((VLOOKUP($D2,'Fichier client - BBI IDF'!$A:H,3,FALSE))=0,"",(VLOOKUP($D2,'Fichier client - BBI IDF'!$A:H,3,FALSE)))) | AG2: =IF($I2="","",IF((VLOOKUP($D2,'Fichier client - BBI IDF'!$A:I,4,FALSE))=0,"",(VLOOKUP($D2,'Fichier client - BBI IDF'!$A:I,4,FALSE)))) -> 92120 MONTROUGE | AH2: =IF($I2="","",IF((VLOOKUP($D2,'Fichier client - BBI IDF'!$A:J,5,FALSE))=0,"",(VLOOKUP($D2,'Fichier client - BBI IDF'!$A:J,5,FALSE)))) | AI2: =IF($I2="","",IF((VLOOKUP($D2,'Fichier client - BBI IDF'!$A:K,6,FALSE))=0,"",(VLOOKUP($D2,'Fichier client - BBI IDF'!$A:K,6,FALSE)))) | AJ2: =IF($I2="","",IF((VLOOKUP($D2,'Fichier client - BBI IDF'!$A:L,7,FALSE))=0,"",(VLOOKUP($D2,'Fichier client - BBI IDF'!$A:L,7,FALSE))))
D3: TRUC CHOSE | G3: 2837 | H3: 43799 | I3: V 30/12/2019 | J3: 2574 | L3: 2574 | M3: =RIGHT(I3,10) -> 30/12/2019 | N3: =IF(M3="","",DATEDIF(M3,TODAY(),"d")) -> 52 | O3: =IF(I3="","",IF(W3="x","",IF(VLOOKUP(G3,#REF!,9,FALSE)=0,"",VLOOKUP(G3,#REF!,9,FALSE)))) -> #REF! | P3: =IF(I3="","",IF(N3>40,"relance niveau 6",IF(N3>35,"relance niveau 5",IF(N3>25,"relance niveau 4",IF(N3>20,"relance niveau 3",IF(N3>10,"relance niveau 2",IF(N3>=5,"relance niveau 1",""))))))) -> relance niveau 6 | Q3: =IF(O3="","",RIGHT(P3,1)) -> #REF! | R3: =IF(O3="x","relance niveau 1", IF(Q3="","facture réglée", IF(AND(O3="",#REF!="facture réglée"),P3, IF(#REF!="x",P3, IF(W3="x","facture réglée", IF(I3="","", IF(Z3="x","ne pas relancer", IF(Y3="oui","contrôler avant de relancer", IF(X3="oui","promesse de paiement", IF(AND(D3=#REF!,#REF!>=Q3),#REF!, IF(P3="facture réglée", IF(N3>40,"relance niveau 6", IF(N3>35,"relance niveau 5", IF(N3>25,"relance niveau 4", IF(N3>20,"relance niveau 3", IF(N3>10,"relance niveau 2", IF(N3>=5,"relance niveau 1", IF(X3="oui","promesse de paiement","")))))))))))))))))) -> #REF! | S3: =IF(R3="relance niveau 1","relance simple par courrier",IF(R3="relance niveau 2","relance téléphonique",IF(R3="relance niveau 3","lettre rar",IF(R3="relance niveau 4","relance téléphonique",IF(R3="relance niveau 5","Mise en demeure LRAR",IF(R3="relance niveau 6","relance téléphonique",IF(R3="promesse de paiement","Contrôler si paiement",""))))))) -> #REF! | T3: 43878 | U3: =IF($I3="","",IF((VLOOKUP($G3,#REF!,15,FALSE))=0,"",(VLOOKUP($G3,#REF!,15,FALSE)))) -> #REF! | AE3: =IF($I3="","",IF((VLOOKUP($D3,'Fichier client - BBI IDF'!$A:G,2,FALSE))=0,"",(VLOOKUP($D3,'Fichier client - BBI IDF'!$A:G,2,FALSE)))) -> 4 RUE MMM | AF3: =IF($I3="","",IF((VLOOKUP($D3,'Fichier client - BBI IDF'!$A:H,3,FALSE))=0,"",(VLOOKUP($D3,'Fichier client - BBI IDF'!$A:H,3,FALSE)))) -> 34580 | AG3: =IF($I3="","",IF((VLOOKUP($D3,'Fichier client - BBI IDF'!$A:I,4,FALSE))=0,"",(VLOOKUP($D3,'Fichier client - BBI IDF'!$A:I,4,FALSE)))) -> FEFEIJF | AH3: =IF($I3="","",IF((VLOOKUP($D3,'Fichier client - BBI IDF'!$A:J,5,FALSE))=0,"",(VLOOKUP($D3,'Fichier client - BBI IDF'!$A:J,5,FALSE)))) -> FFFF | AI3: =IF($I3="","",IF((VLOOKUP($D3,'Fichier client - BBI IDF'!$A:K,6,FALSE))=0,"",(VLOOKUP($D3,'Fichier client - BBI IDF'!$A:K,6,FALSE)))) | AJ3: =IF($I3="","",IF((VLOOKUP($D3,'Fichier client - BBI IDF'!$A:L,7,FALSE))=0,"",(VLOOKUP($D3,'Fichier client - BBI IDF'!$A:L,7,FALSE))))
D4: HOP HOP HOP | G4: 2927 | H4: 43830 | I4: V 31/01/2020 | J4: 12024 | L4: 12024 | M4: =RIGHT(I4,10) -> 31/01/2020 | N4: =IF(M4="","",DATEDIF(M4,TODAY(),"d")) -> 20 | O4: =IF(I4="","",IF(W4="x","",IF(VLOOKUP(G4,#REF!,9,FALSE)=0,"",VLOOKUP(G4,#REF!,9,FALSE)))) -> #REF! | P4: =IF(I4="","",IF(N4>40,"relance niveau 6",IF(N4>35,"relance niveau 5",IF(N4>25,"relance niveau 4",IF(N4>20,"relance niveau 3",IF(N4>10,"relance niveau 2",IF(N4>=5,"relance niveau 1",""))))))) -> relance niveau 2 | Q4: =IF(O4="","",RIGHT(P4,1)) -> #REF! | R4: =IF(O4="x","relance niveau 1", IF(Q4="","facture réglée", IF(AND(O4="",#REF!="facture réglée"),P4, IF(#REF!="x",P4, IF(W4="x","facture réglée", IF(I4="","", IF(Z4="x","ne pas relancer", IF(Y4="oui","contrôler avant de relancer", IF(X4="oui","promesse de paiement", IF(AND(D4=#REF!,#REF!>=Q4),#REF!, IF(P4="facture réglée", IF(N4>40,"relance niveau 6", IF(N4>35,"relance niveau 5", IF(N4>25,"relance niveau 4", IF(N4>20,"relance niveau 3", IF(N4>10,"relance niveau 2", IF(N4>=5,"relance niveau 1", IF(X4="oui","promesse de paiement","")))))))))))))))))) -> #REF! | S4: =IF(R4="relance niveau 1","relance simple par courrier",IF(R4="relance niveau 2","relance téléphonique",IF(R4="relance niveau 3","lettre rar",IF(R4="relance niveau 4","relance téléphonique",IF(R4="relance niveau 5","Mise en demeure LRAR",IF(R4="relance niveau 6","relance téléphonique",IF(R4="promesse de paiement","Contrôler si paiement",""))))))) -> #REF! | T4: 43878 | U4: =IF($I4="","",IF((VLOOKUP($G4,#REF!,15,FALSE))=0,"",(VLOOKUP($G4,#REF!,15,FALSE)))) -> #REF! | AE4: =IF($I4="","",IF((VLOOKUP($D4,'Fichier client - BBI IDF'!$A:G,2,FALSE))=0,"",(VLOOKUP($D4,'Fichier client - BBI IDF'!$A:G,2,FALSE)))) -> 4 RUE MOIMONT | AF4: =IF($I4="","",IF((VLOOKUP($D4,'Fichier client - BBI IDF'!$A:H,3,FALSE))=0,"",(VLOOKUP($D4,'Fichier client - BBI IDF'!$A:H,3,FALSE)))) | AG4: =IF($I4="","",IF((VLOOKUP($D4,'Fichier client - BBI IDF'!$A:I,4,FALSE))=0,"",(VLOOKUP($D4,'Fichier client - BBI IDF'!$A:I,4,FALSE)))) -> 95470 | AH4: =IF($I4="","",IF((VLOOKUP($D4,'Fichier client - BBI IDF'!$A:J,5,FALSE))=0,"",(VLOOKUP($D4,'Fichier client - BBI IDF'!$A:J,5,FALSE)))) -> SAINT-WITZ | AI4: =IF($I4="","",IF((VLOOKUP($D4,'Fichier client - BBI IDF'!$A:K,6,FALSE))=0,"",(VLOOKUP($D4,'Fichier client - BBI IDF'!$A:K,6,FALSE)))) | AJ4: =IF($I4="","",IF((VLOOKUP($D4,'Fichier client - BBI IDF'!$A:L,7,FALSE))=0,"",(VLOOKUP($D4,'Fichier client - BBI IDF'!$A:L,7,FALSE))))
D5: MERCI DE M'AIDER | G5: 2928 | H5: 43830 | I5: V 31/01/2020 | J5: 5700 | L5: 5700 | M5: =RIGHT(I5,10) -> 31/01/2020 | N5: =IF(M5="","",DATEDIF(M5,TODAY(),"d")) -> 20 | O5: =IF(I5="","",IF(W5="x","",IF(VLOOKUP(G5,#REF!,9,FALSE)=0,"",VLOOKUP(G5,#REF!,9,FALSE)))) -> #REF! | P5: =IF(I5="","",IF(N5>40,"relance niveau 6",IF(N5>35,"relance niveau 5",IF(N5>25,"relance niveau 4",IF(N5>20,"relance niveau 3",IF(N5>10,"relance niveau 2",IF(N5>=5,"relance niveau 1",""))))))) -> relance niveau 2 | Q5: =IF(O5="","",RIGHT(P5,1)) -> #REF! | R5: =IF(O5="x","relance niveau 1", IF(Q5="","facture réglée", IF(AND(O5="",#REF!="facture réglée"),P5, IF(#REF!="x",P5, IF(W5="x","facture réglée", IF(I5="","", IF(Z5="x","ne pas relancer", IF(Y5="oui","contrôler avant de relancer", IF(X5="oui","promesse de paiement", IF(AND(D5=#REF!,#REF!>=Q5),#REF!, IF(P5="facture réglée", IF(N5>40,"relance niveau 6", IF(N5>35,"relance niveau 5", IF(N5>25,"relance niveau 4", IF(N5>20,"relance niveau 3", IF(N5>10,"relance niveau 2", IF(N5>=5,"relance niveau 1", IF(X5="oui","promesse de paiement","")))))))))))))))))) -> #REF! | S5: =IF(R5="relance niveau 1","relance simple par courrier",IF(R5="relance niveau 2","relance téléphonique",IF(R5="relance niveau 3","lettre rar",IF(R5="relance niveau 4","relance téléphonique",IF(R5="relance niveau 5","Mise en demeure LRAR",IF(R5="relance niveau 6","relance téléphonique",IF(R5="promesse de paiement","Contrôler si paiement",""))))))) -> #REF! | T5: 43878 | U5: =IF($I5="","",IF((VLOOKUP($G5,#REF!,15,FALSE))=0,"",(VLOOKUP($G5,#REF!,15,FALSE)))) -> #REF! | AE5: =IF($I5="","",IF((VLOOKUP($D5,'Fichier client - BBI IDF'!$A:G,2,FALSE))=0,"",(VLOOKUP($D5,'Fichier client - BBI IDF'!$A:G,2,FALSE)))) -> 108 rue denis roy | AF5: =IF($I5="","",IF((VLOOKUP($D5,'Fichier client - BBI IDF'!$A:H,3,FALSE))=0,"",(VLOOKUP($D5,'Fichier client - BBI IDF'!$A:H,3,FALSE)))) | AG5: =IF($I5="","",IF((VLOOKUP($D5,'Fichier client - BBI IDF'!$A:I,4,FALSE))=0,"",(VLOOKUP($D5,'Fichier client - BBI IDF'!$A:I,4,FALSE)))) -> 95100 | AH5: =IF($I5="","",IF((VLOOKUP($D5,'Fichier client - BBI IDF'!$A:J,5,FALSE))=0,"",(VLOOKUP($D5,'Fichier client - BBI IDF'!$A:J,5,FALSE)))) -> ARGENTEUIL | AI5: =IF($I5="","",IF((VLOOKUP($D5,'Fichier client - BBI IDF'!$A:K,6,FALSE))=0,"",(VLOOKUP($D5,'Fichier client - BBI IDF'!$A:K,6,FALSE)))) | AJ5: =IF($I5="","",IF((VLOOKUP($D5,'Fichier client - BBI IDF'!$A:L,7,FALSE))=0,"",(VLOOKUP($D5,'Fichier client - BBI IDF'!$A:L,7,FALSE))))
Z949: =IF($I949="","",IF((VLOOKUP($G949,#REF!,18,FALSE))=0,"",(VLOOKUP($G949,#REF!,18,FALSE))))
Z950: =IF($I950="","",IF((VLOOKUP($G950,#REF!,18,FALSE))=0,"",(VLOOKUP($G950,#REF!,18,FALSE))))
Z951: =IF($I951="","",IF((VLOOKUP($G951,#REF!,18,FALSE))=0,"",(VLOOKUP($G951,#REF!,18,FALSE))))
Z952: =IF($I952="","",IF((VLOOKUP($G952,#REF!,18,FALSE))=0,"",(VLOOKUP($G952,#REF!,18,FALSE))))

Sheet Fichier client - BBI IDF
A1: Nom | B1: Rue | C1: Rue 2 | D1: Postal | E1: Ville | F1: Interlocuteur | G1: Téléphone | H1: Mail
A2: MACHIN TRUC | B2: 112 avenue Henri Ginoux | D2: 92120 MONTROUGE
A3: TRUC CHOSE | B3: 4 RUE MMM | C3: 34580 | D3: FEFEIJF | E3: FFFF
A4: HOP HOP HOP | B4: 4 RUE MOIMONT | D4: 95470 | E4: SAINT-WITZ
A5: MERCI DE M'AIDER | B5: 108 rue denis roy | D5: 95100 | E5: ARGENTEUIL
