Workbook

Sheet Feuil1
C3: liste des courses
C4: tomates | D4: 5 | E4: kg | G4: Feuille 1
C5: Asperges | D5: 4 | E5: kg
C7: Aubergines | D7: 3 | E7: kg
C10: carottes | D10: 4 | E10: kg
C12: champignons | D12: 6 | E12: kg
C14: glace | D14: 2 | E14: pièce
C15: abricots | D15: 5000 | E15: grammes
C19: bouillon | D19: 3 | E19: cubes
C20: œufs | D20: 45 | E20: pièces

Sheet Feuil2
C3: liste des courses
C4: =Feuil1!C4 -> tomates | D4: =Feuil1!D4 -> 5 | E4: =Feuil1!E4 -> kg | G4: feuille 2
C5: =Feuil1!C5 -> Asperges | D5: =Feuil1!D5 -> 4 | E5: =Feuil1!E5 -> kg
C6: =Feuil1!C6 -> 0 | D6: =Feuil1!D6 -> 0 | E6: =Feuil1!E6 -> 0
C7: =Feuil1!C7 -> Aubergines | D7: =Feuil1!D7 -> 3 | E7: =Feuil1!E7 -> kg
C8: =Feuil1!C8 -> 0 | D8: =Feuil1!D8 -> 0 | E8: =Feuil1!E8 -> 0
C9: =Feuil1!C9 -> 0 | D9: =Feuil1!D9 -> 0 | E9: =Feuil1!E9 -> 0
C10: =Feuil1!C10 -> carottes | D10: =Feuil1!D10 -> 4 | E10: =Feuil1!E10 -> kg
C11: =Feuil1!C11 -> 0 | D11: =Feuil1!D11 -> 0 | E11: =Feuil1!E11 -> 0
C12: =Feuil1!C12 -> champignons | D12: =Feuil1!D12 -> 6 | E12: =Feuil1!E12 -> kg
C13: =Feuil1!C13 -> 0 | D13: =Feuil1!D13 -> 0 | E13: =Feuil1!E13 -> 0
C14: =Feuil1!C14 -> glace | D14: =Feuil1!D14 -> 2 | E14: =Feuil1!E14 -> pièce
C15: =Feuil1!C15 -> abricots | D15: =Feuil1!D15 -> 5000 | E15: =Feuil1!E15 -> grammes
C16: =Feuil1!C16 -> 0 | D16: =Feuil1!D16 -> 0 | E16: =Feuil1!E16 -> 0
... C28: =Feuil1!C28 -> 0 | D28: =Feuil1!D28 -> 0 | E28: =Feuil1!E28 -> 0
C35: serait-il possible que les lignes de cette feuille de la ligne 4 à 20 soient toujours masqueées par default
C36: et que si on itroduit un produit dans le tableau de la feuille 1, la ligne s'affiche automatiquement ?
