Workbook

Sheet Alerte
F2: =TODAY() -> 43874
E6: IMMATRICULATION | F6: CONTRÔLE TECHNIQUE | I6: VIDANGE | M6: PATENTE | P6: STATIONNEMENT | S6: ASSURANCE
F7: DATE PRECEDENTE | G7: DATE SUIVANTE | H7: SITUATION | I7: TYPE DE VIDANGE | J7: DATE PRECEDENTE | K7: DATE SUIVANTE | L7: SITUATION | M7: DATE PRECEDENTE | N7: DATE SUIVANTE | O7: SITUATION | P7: DATE PRECEDENTE | Q7: DATE SUIVANTE | R7: SITUATION | S7: DATE PRECEDENTE | T7: DATE SUIVANTE | U7: SITUATION
E8: 1213HZ01 | F8: =_xlfn.IFNA(MAX(VLOOKUP(E8,'Opérations '!S:T,2,0)),"") | G8: =IF(F8="","",F8+365) | H8: =IFERROR(IF(G8-30<TODAY(),"URGENT","OK"),"") | J8: =_xlfn.IFNA(MAX(VLOOKUP(E8,'Opérations '!E:F,2,0)),"") | K8: =IFERROR(J8+I8,"") | L8: =IFERROR(IF(K8-30<TODAY(),"URGENT","OK"),"") | M8: =_xlfn.IFNA(MAX(VLOOKUP(E8,'Opérations '!K:L,2,0)),"") | N8: =IFERROR(M8+365,"") | O8: =IFERROR(IF(N8-30<TODAY(),"URGENT","OK"),"") | P8: =_xlfn.IFNA(MAX(VLOOKUP(E8,'Opérations '!O:P,2,0)),"") | Q8: =IF(P8="","",P8+365) | R8: =IFERROR(IF(Q8-30<TODAY(),"URGENT","OK"),"") | S8: =_xlfn.IFNA(MAX(VLOOKUP(E8,'Opérations '!A:B,2,0)),"") -> 43831 | T8: =IFERROR(S8+365,"") -> 44196 | U8: =IFERROR(IF(T8-30<TODAY(),"URGENT","OK"),"") -> OK
E9: 1214HZ01 | F9: =_xlfn.IFNA(MAX(VLOOKUP(E9,'Opérations '!S:T,2,0)),"") | G9: =IF(F9="","",F9+365) | H9: =IFERROR(IF(G9-30<TODAY(),"URGENT","OK"),"") | J9: =_xlfn.IFNA(MAX(VLOOKUP(E9,'Opérations '!E:F,2,0)),"") | K9: =IFERROR(J9+I9,"") | L9: =IFERROR(IF(K9-30<TODAY(),"URGENT","OK"),"") | M9: =_xlfn.IFNA(MAX(VLOOKUP(E9,'Opérations '!K:L,2,0)),"") | N9: =IFERROR(M9+365,"") | O9: =IFERROR(IF(N9-30<TODAY(),"URGENT","OK"),"") | P9: =_xlfn.IFNA(MAX(VLOOKUP(E9,'Opérations '!O:P,2,0)),"") | Q9: =IF(P9="","",P9+365) | R9: =IFERROR(IF(Q9-30<TODAY(),"URGENT","OK"),"") | S9: =_xlfn.IFNA(MAX(VLOOKUP(E9,'Opérations '!A:B,2,0)),"") -> 43827 | T9: =IFERROR(S9+365,"") -> 44192 | U9: =IFERROR(IF(T9-30<TODAY(),"URGENT","OK"),"") -> OK
E10: 8574GZ 01 | F10: =_xlfn.IFNA(MAX(VLOOKUP(E10,'Opérations '!S:T,2,0)),"") | G10: =IF(F10="","",F10+365) | H10: =IFERROR(IF(G10-30<TODAY(),"URGENT","OK"),"") | J10: =_xlfn.IFNA(MAX(VLOOKUP(E10,'Opérations '!E:F,2,0)),"") | K10: =IFERROR(J10+I10,"") | L10: =IFERROR(IF(K10-30<TODAY(),"URGENT","OK"),"") | M10: =_xlfn.IFNA(MAX(VLOOKUP(E10,'Opérations '!K:L,2,0)),"") | N10: =IFERROR(M10+365,"") | O10: =IFERROR(IF(N10-30<TODAY(),"URGENT","OK"),"") | P10: =_xlfn.IFNA(MAX(VLOOKUP(E10,'Opérations '!O:P,2,0)),"") | Q10: =IF(P10="","",P10+365) | R10: =IFERROR(IF(Q10-30<TODAY(),"URGENT","OK"),"") | S10: =_xlfn.IFNA(MAX(VLOOKUP(E10,'Opérations '!A:B,2,0)),"") | T10: =IFERROR(S10+365,"") | U10: =IFERROR(IF(T10-30<TODAY(),"URGENT","OK"),"")
E11: 3417GE 01 | F11: =_xlfn.IFNA(MAX(VLOOKUP(E11,'Opérations '!S:T,2,0)),"") | G11: =IF(F11="","",F11+365) | H11: =IFERROR(IF(G11-30<TODAY(),"URGENT","OK"),"") | J11: =_xlfn.IFNA(MAX(VLOOKUP(E11,'Opérations '!E:F,2,0)),"") | K11: =IFERROR(J11+I11,"") | L11: =IFERROR(IF(K11-30<TODAY(),"URGENT","OK"),"") | M11: =_xlfn.IFNA(MAX(VLOOKUP(E11,'Opérations '!K:L,2,0)),"") | N11: =IFERROR(M11+365,"") | O11: =IFERROR(IF(N11-30<TODAY(),"URGENT","OK"),"") | P11: =_xlfn.IFNA(MAX(VLOOKUP(E11,'Opérations '!O:P,2,0)),"") | Q11: =IF(P11="","",P11+365) | R11: =IFERROR(IF(Q11-30<TODAY(),"URGENT","OK"),"") | S11: =_xlfn.IFNA(MAX(VLOOKUP(E11,'Opérations '!A:B,2,0)),"") | T11: =IFERROR(S11+365,"") | U11: =IFERROR(IF(T11-30<TODAY(),"URGENT","OK"),"")
E12: 9473FX01 | F12: =_xlfn.IFNA(MAX(VLOOKUP(E12,'Opérations '!S:T,2,0)),"") | G12: =IF(F12="","",F12+365) | H12: =IFERROR(IF(G12-30<TODAY(),"URGENT","OK"),"") | J12: =_xlfn.IFNA(MAX(VLOOKUP(E12,'Opérations '!E:F,2,0)),"") | K12: =IFERROR(J12+I12,"") | L12: =IFERROR(IF(K12-30<TODAY(),"URGENT","OK"),"") | M12: =_xlfn.IFNA(MAX(VLOOKUP(E12,'Opérations '!K:L,2,0)),"") | N12: =IFERROR(M12+365,"") | O12: =IFERROR(IF(N12-30<TODAY(),"URGENT","OK"),"") | P12: =_xlfn.IFNA(MAX(VLOOKUP(E12,'Opérations '!O:P,2,0)),"") | Q12: =IF(P12="","",P12+365) | R12: =IFERROR(IF(Q12-30<TODAY(),"URGENT","OK"),"") | S12: =_xlfn.IFNA(MAX(VLOOKUP(E12,'Opérations '!A:B,2,0)),"") | T12: =IFERROR(S12+365,"") | U12: =IFERROR(IF(T12-30<TODAY(),"URGENT","OK"),"")
E13: 9471FX01 | F13: =_xlfn.IFNA(MAX(VLOOKUP(E13,'Opérations '!S:T,2,0)),"") | G13: =IF(F13="","",F13+365) | H13: =IFERROR(IF(G13-30<TODAY(),"URGENT","OK"),"") | J13: =_xlfn.IFNA(MAX(VLOOKUP(E13,'Opérations '!E:F,2,0)),"") | K13: =IFERROR(J13+I13,"") | L13: =IFERROR(IF(K13-30<TODAY(),"URGENT","OK"),"") | M13: =_xlfn.IFNA(MAX(VLOOKUP(E13,'Opérations '!K:L,2,0)),"") | N13: =IFERROR(M13+365,"") | O13: =IFERROR(IF(N13-30<TODAY(),"URGENT","OK"),"") | P13: =_xlfn.IFNA(MAX(VLOOKUP(E13,'Opérations '!O:P,2,0)),"") | Q13: =IF(P13="","",P13+365) | R13: =IFERROR(IF(Q13-30<TODAY(),"URGENT","OK"),"") | S13: =_xlfn.IFNA(MAX(VLOOKUP(E13,'Opérations '!A:B,2,0)),"") | T13: =IFERROR(S13+365,"") | U13: =IFERROR(IF(T13-30<TODAY(),"URGENT","OK"),"")
E14: 9469FX01 | F14: =_xlfn.IFNA(MAX(VLOOKUP(E14,'Opérations '!S:T,2,0)),"") | G14: =IF(F14="","",F14+365) | H14: =IFERROR(IF(G14-30<TODAY(),"URGENT","OK"),"") | J14: =_xlfn.IFNA(MAX(VLOOKUP(E14,'Opérations '!E:F,2,0)),"") | K14: =IFERROR(J14+I14,"") | L14: =IFERROR(IF(K14-30<TODAY(),"URGENT","OK"),"") | M14: =_xlfn.IFNA(MAX(VLOOKUP(E14,'Opérations '!K:L,2,0)),"") | N14: =IFERROR(M14+365,"") | O14: =IFERROR(IF(N14-30<TODAY(),"URGENT","OK"),"") | P14: =_xlfn.IFNA(MAX(VLOOKUP(E14,'Opérations '!O:P,2,0)),"") | Q14: =IF(P14="","",P14+365) | R14: =IFERROR(IF(Q14-30<TODAY(),"URGENT","OK"),"") | S14: =_xlfn.IFNA(MAX(VLOOKUP(E14,'Opérations '!A:B,2,0)),"") -> 43787 | T14: =IFERROR(S14+365,"") -> 44152 | U14: =IFERROR(IF(T14-30<TODAY(),"URGENT","OK"),"") -> OK
E15: 4583GJ01 | F15: =_xlfn.IFNA(MAX(VLOOKUP(E15,'Opérations '!S:T,2,0)),"") -> 43508 | G15: =IF(F15="","",F15+365) -> 43873 | H15: =IFERROR(IF(G15-30<TODAY(),"URGENT","OK"),"") -> URGENT | J15: =_xlfn.IFNA(MAX(VLOOKUP(E15,'Opérations '!E:F,2,0)),"") -> 43536 | K15: =IFERROR(J15+I15,"") -> 43536 | L15: =IFERROR(IF(K15-30<TODAY(),"URGENT","OK"),"") -> URGENT | M15: =_xlfn.IFNA(MAX(VLOOKUP(E15,'Opérations '!K:L,2,0)),"") -> 44175 | N15: =IFERROR(M15+365,"") -> 44540 | O15: =IFERROR(IF(N15-30<TODAY(),"URGENT","OK"),"") -> OK | P15: =_xlfn.IFNA(MAX(VLOOKUP(E15,'Opérations '!O:P,2,0)),"") -> 44175 | Q15: =IF(P15="","",P15+365) -> 44540 | R15: =IFERROR(IF(Q15-30<TODAY(),"URGENT","OK"),"") -> OK | S15: =_xlfn.IFNA(MAX(VLOOKUP(E15,'Opérations '!A:B,2,0)),"") -> 43787 | T15: =IFERROR(S15+365,"") -> 44152 | U15: =IFERROR(IF(T15-30<TODAY(),"URGENT","OK"),"") -> OK
E16: 8984GE 01 | F16: =_xlfn.IFNA(MAX(VLOOKUP(E16,'Opérations '!S:T,2,0)),"") | G16: =IF(F16="","",F16+365) | H16: =IFERROR(IF(G16-30<TODAY(),"URGENT","OK"),"") | J16: =_xlfn.IFNA(MAX(VLOOKUP(E16,'Opérations '!E:F,2,0)),"") | K16: =IFERROR(J16+I16,"") | L16: =IFERROR(IF(K16-30<TODAY(),"URGENT","OK"),"") | M16: =_xlfn.IFNA(MAX(VLOOKUP(E16,'Opérations '!K:L,2,0)),"") | N16: =IFERROR(M16+365,"") | O16: =IFERROR(IF(N16-30<TODAY(),"URGENT","OK"),"") | P16: =_xlfn.IFNA(MAX(VLOOKUP(E16,'Opérations '!O:P,2,0)),"") | Q16: =IF(P16="","",P16+365) | R16: =IFERROR(IF(Q16-30<TODAY(),"URGENT","OK"),"") | S16: =_xlfn.IFNA(MAX(VLOOKUP(E16,'Opérations '!A:B,2,0)),"") | T16: =IFERROR(S16+365,"") | U16: =IFERROR(IF(T16-30<TODAY(),"URGENT","OK"),"")
E17: 277JA01 | F17: =_xlfn.IFNA(MAX(VLOOKUP(E17,'Opérations '!S:T,2,0)),"") | G17: =IF(F17="","",F17+365) | H17: =IFERROR(IF(G17-30<TODAY(),"URGENT","OK"),"") | J17: =_xlfn.IFNA(MAX(VLOOKUP(E17,'Opérations '!E:F,2,0)),"") | K17: =IFERROR(J17+I17,"") | L17: =IFERROR(IF(K17-30<TODAY(),"URGENT","OK"),"") | M17: =_xlfn.IFNA(MAX(VLOOKUP(E17,'Opérations '!K:L,2,0)),"") | N17: =IFERROR(M17+365,"") | O17: =IFERROR(IF(N17-30<TODAY(),"URGENT","OK"),"") | P17: =_xlfn.IFNA(MAX(VLOOKUP(E17,'Opérations '!O:P,2,0)),"") | Q17: =IF(P17="","",P17+365) | R17: =IFERROR(IF(Q17-30<TODAY(),"URGENT","OK"),"") | S17: =_xlfn.IFNA(MAX(VLOOKUP(E17,'Opérations '!A:B,2,0)),"") | T17: =IFERROR(S17+365,"") | U17: =IFERROR(IF(T17-30<TODAY(),"URGENT","OK"),"")
E18: 2024HH01 | F18: =_xlfn.IFNA(MAX(VLOOKUP(E18,'Opérations '!S:T,2,0)),"") | G18: =IF(F18="","",F18+365) | H18: =IFERROR(IF(G18-30<TODAY(),"URGENT","OK"),"") | J18: =_xlfn.IFNA(MAX(VLOOKUP(E18,'Opérations '!E:F,2,0)),"") | K18: =IFERROR(J18+I18,"") | L18: =IFERROR(IF(K18-30<TODAY(),"URGENT","OK"),"") | M18: =_xlfn.IFNA(MAX(VLOOKUP(E18,'Opérations '!K:L,2,0)),"") | N18: =IFERROR(M18+365,"") | O18: =IFERROR(IF(N18-30<TODAY(),"URGENT","OK"),"") | P18: =_xlfn.IFNA(MAX(VLOOKUP(E18,'Opérations '!O:P,2,0)),"") | Q18: =IF(P18="","",P18+365) | R18: =IFERROR(IF(Q18-30<TODAY(),"URGENT","OK"),"") | S18: =_xlfn.IFNA(MAX(VLOOKUP(E18,'Opérations '!A:B,2,0)),"") | T18: =IFERROR(S18+365,"") | U18: =IFERROR(IF(T18-30<TODAY(),"URGENT","OK"),"")
E19: 7156GA01 | F19: =_xlfn.IFNA(MAX(VLOOKUP(E19,'Opérations '!S:T,2,0)),"") | G19: =IF(F19="","",F19+365) | H19: =IFERROR(IF(G19-30<TODAY(),"URGENT","OK"),"") | J19: =_xlfn.IFNA(MAX(VLOOKUP(E19,'Opérations '!E:F,2,0)),"") | K19: =IFERROR(J19+I19,"") | L19: =IFERROR(IF(K19-30<TODAY(),"URGENT","OK"),"") | M19: =_xlfn.IFNA(MAX(VLOOKUP(E19,'Opérations '!K:L,2,0)),"") | N19: =IFERROR(M19+365,"") | O19: =IFERROR(IF(N19-30<TODAY(),"URGENT","OK"),"") | P19: =_xlfn.IFNA(MAX(VLOOKUP(E19,'Opérations '!O:P,2,0)),"") | Q19: =IF(P19="","",P19+365) | R19: =IFERROR(IF(Q19-30<TODAY(),"URGENT","OK"),"") | S19: =_xlfn.IFNA(MAX(VLOOKUP(E19,'Opérations '!A:B,2,0)),"") | T19: =IFERROR(S19+365,"") | U19: =IFERROR(IF(T19-30<TODAY(),"URGENT","OK"),"")
E20: 2252GK01 | F20: =_xlfn.IFNA(MAX(VLOOKUP(E20,'Opérations '!S:T,2,0)),"") | J20: =_xlfn.IFNA(MAX(VLOOKUP(E20,'Opérations '!E:F,2,0)),"") | M20: =_xlfn.IFNA(MAX(VLOOKUP(E20,'Opérations '!K:L,2,0)),"") | P20: =_xlfn.IFNA(MAX(VLOOKUP(E20,'Opérations '!O:P,2,0)),"") | S20: =_xlfn.IFNA(MAX(VLOOKUP(E20,'Opérations '!A:B,2,0)),"")
E21: 9843HJ01 | F21: =_xlfn.IFNA(MAX(VLOOKUP(E21,'Opérations '!S:T,2,0)),"") | J21: =_xlfn.IFNA(MAX(VLOOKUP(E21,'Opérations '!E:F,2,0)),"") | M21: =_xlfn.IFNA(MAX(VLOOKUP(E21,'Opérations '!K:L,2,0)),"") | P21: =_xlfn.IFNA(MAX(VLOOKUP(E21,'Opérations '!O:P,2,0)),"") | S21: =_xlfn.IFNA(MAX(VLOOKUP(E21,'Opérations '!A:B,2,0)),"")

Sheet Opérations 
A2: ASSURANCE | E2: VIDANGE | K2: PATENTE | O2: STATIONNEMENT | S2: VISITE DE CONTRÔLE | Y2: ENTRETIEN ET REPARATION
A3: Immatriculation | B3: Date Renouvellement | C3: Montant | E3: Immatriculation | F3: Date Vidange | G3: Technicien | H3: Duree | I3: Montant | K3: Immatriculation | L3: Date | M3: Montant | O3: Immatriculation | P3: Date | Q3: Montant | S3: Immatriculation | T3: Date | U3: Technicien | V3: Duree | W3: Montant | Y3: Immatriculation | Z3: Date | AA3: Nature L'Operation | AB3: Technicien | AC3: Duree | AD3: Montant
A4: 1214HZ01 | B4: 43827 | E4: 4583GJ01 | F4: 43536 | K4: 4583GJ01 | L4: 44175 | O4: 4583GJ01 | P4: 44175 | S4: 4583GJ01 | T4: 43508
A5: 9469FX01 | B5: 43787 | K5: 4583GJ01 | L5: 44175 | O5: 4583GJ01 | P5: 44175
A6: 4583GJ01 | B6: 43787
A7: 4583GJ01 | B7: 44150
A8: 1213HZ01 | B8: 43831
A9: 1213HZ01 | B9: 44197
A11: 1213HZ01
