Workbook

Sheet BASE
A1: PRODUITS | B1: MONTANT | C1: PRIMES | D1: NOM | E1: SERVICE | F1: MOIS
A2: CARTE FNAC | B2: 10.99 | C2: 1 | D2: Sébastien | E2: Produit Technique | F2: 43831
A3: REMBOURSEMENT 100% TV | B3: 0 | C3: 5 | D3: Pierre | E3: Produit Technique | F3: 43862
A4: REMBOURSEMENT 100% PHOTO | B4: 0 | C4: 5 | D4: Florian | E4: Produit Technique | F4: 43891
A5: REMBOURSEMENT 100% HIFI | B5: 0 | C5: 5 | D5: Anaïs | E5: Produit Technique | F5: 43922
A6: REMBOURSEMENT 100% INFORMATIQUE | B6: 0 | C6: 5 | D6: Cyril | E6: Produit Technique | F6: 43952
A7: GP (pc/tablette/apn/console)SIMPLY | B7: 6.99 | C7: 2 | D7: Florian L | E7: Produit Technique | F7: 43983
A8: GP (pc/tablette/apn/console)CLASSIC | B8: 9.99 | C8: 3 | D8: Matthieu | E8: Produit Editorial | F8: 44013
A9: GP (pc/tablette/apn/console)UTIMATE | B9: 17.99 | C9: 8 | D9: Anita | E9: Produit Editorial | F9: 44044
A10: GARANTIE GP Téléphonie BASIC | B10: 4.99 | C10: 1 | D10: Anaïs 2 | E10: Produit Editorial | F10: 44075
A11: GARANTIE GP Téléphonie SMART | B11: 6.99 | C11: 2 | D11: Aurore | E11: Produit Editorial | F11: 44105
A12: GARANTIE GP Téléphonie MEDIUM | B12: 11.99 | C12: 3 | D12: Benjamin | E12: Produit Editorial | F12: 44136
A13: GARANTIE GP Téléphonie OPTIMUM | B13: 13.99 | C13: 5 | D13: Stéphane | E13: Produit Editorial | F13: 44166
A14: GARANTIE GP Téléphonie PREMIUM | B14: 18.99 | C14: 8 | D14: Manon | E14: Produit Editorial
A15: GARANTIE GP -200€ (de 0-99€) | B15: 15.99 | C15: 2 | D15: Françoise | E15: Service client
A16: GARANTIE GP -200€ (de100-149€) | B16: 28.99 | C16: 2 | D16: Amélie | E16: Service client
A17: GARANTIE GP -200€ (de 150-200€) | B17: 34.99 | C17: 2 | D17: Maurine | E17: Service client
A18: GARANTIE GP TROTINETTE (0-199€) | B18: 19.99 | C18: 2 | D18: Alice | E18: Service client
A19: GARANTIE GP TROTINETTE (200-249€) | B19: 39.99 | C19: 8 | D19: Tifany | E19: Service client
A20: GARANTIE GP TROTINETTE (500-999€) | B20: 79.99 | C20: 8 | D20: CDD | E20: Service client
A21: GARANTIE GP TROTINETTE (1000-2000€) | B21: 99.99 | C21: 8

Sheet BDD
A1: Nom Conseilers | B1: MOIS | C1: SECTEUR | D1: SERVICE | E1: MONTANT | F1: QUANTITE | G1: VALEUR PRIMES | H1: Primes 2 | I1: primes total
C2: =IF(ISNA(VLOOKUP(A2,BASE!$D$2:$E$21,2,FALSE)),"",VLOOKUP(A2,BASE!$D$2:$E$21,2,FALSE)) | E2: =IF(ISNA(VLOOKUP(D2,BASE!$A$1:$C$30,2,0)),"",VLOOKUP(D2,BASE!$A$1:$C$30,2,0)) | G2: =IF(ISNA(VLOOKUP(D2,BASE!$A$1:$C$27,3,0)),"",VLOOKUP(D2,BASE!$A$1:$C$27,3,0)) | H2: =IFERROR(F2*G2,0) -> 0 | I2: =IF(AND(D2="CARTE FNAC",F2>=20),F2*G2,IF(AND(D2<>"Carte FNAC",F2>=40),F2*G2,0)) -> 0
C3: =IF(ISNA(VLOOKUP(A3,BASE!$D$2:$E$21,2,FALSE)),"",VLOOKUP(A3,BASE!$D$2:$E$21,2,FALSE)) | E3: =IF(ISNA(VLOOKUP(D3,BASE!$A$1:$C$30,2,0)),"",VLOOKUP(D3,BASE!$A$1:$C$30,2,0)) | G3: =IF(ISNA(VLOOKUP(D3,BASE!$A$1:$C$27,3,0)),"",VLOOKUP(D3,BASE!$A$1:$C$27,3,0)) | H3: =IFERROR(F3*G3,0) -> 0 | I3: =IF(AND(D3="CARTE FNAC",F3>=20),F3*G3,IF(AND(D3<>"Carte FNAC",F3>=40),F3*G3,0)) -> 0
C4: =IF(ISNA(VLOOKUP(A4,BASE!$D$2:$E$21,2,FALSE)),"",VLOOKUP(A4,BASE!$D$2:$E$21,2,FALSE)) | E4: =IF(ISNA(VLOOKUP(D4,BASE!$A$1:$C$30,2,0)),"",VLOOKUP(D4,BASE!$A$1:$C$30,2,0)) | G4: =IF(ISNA(VLOOKUP(D4,BASE!$A$1:$C$27,3,0)),"",VLOOKUP(D4,BASE!$A$1:$C$27,3,0)) | H4: =IFERROR(F4*G4,0) -> 0 | I4: =IF(AND(D4="CARTE FNAC",F4>=20),F4*G4,IF(AND(D4<>"Carte FNAC",F4>=40),F4*G4,0)) -> 0
C5: =IF(ISNA(VLOOKUP(A5,BASE!$D$2:$E$21,2,FALSE)),"",VLOOKUP(A5,BASE!$D$2:$E$21,2,FALSE)) | E5: =IF(ISNA(VLOOKUP(D5,BASE!$A$1:$C$30,2,0)),"",VLOOKUP(D5,BASE!$A$1:$C$30,2,0)) | G5: =IF(ISNA(VLOOKUP(D5,BASE!$A$1:$C$27,3,0)),"",VLOOKUP(D5,BASE!$A$1:$C$27,3,0)) | H5: =IFERROR(F5*G5,0) -> 0 | I5: =IF(AND(D5="CARTE FNAC",F5>=20),F5*G5,IF(AND(D5<>"Carte FNAC",F5>=40),F5*G5,0)) -> 0
C6: =IF(ISNA(VLOOKUP(A6,BASE!$D$2:$E$21,2,FALSE)),"",VLOOKUP(A6,BASE!$D$2:$E$21,2,FALSE)) | E6: =IF(ISNA(VLOOKUP(D6,BASE!$A$1:$C$30,2,0)),"",VLOOKUP(D6,BASE!$A$1:$C$30,2,0)) | G6: =IF(ISNA(VLOOKUP(D6,BASE!$A$1:$C$27,3,0)),"",VLOOKUP(D6,BASE!$A$1:$C$27,3,0)) | H6: =IFERROR(F6*G6,0) -> 0 | I6: =IF(AND(D6="CARTE FNAC",F6>=20),F6*G6,IF(AND(D6<>"Carte FNAC",F6>=40),F6*G6,0)) -> 0
C7: =IF(ISNA(VLOOKUP(A7,BASE!$D$2:$E$21,2,FALSE)),"",VLOOKUP(A7,BASE!$D$2:$E$21,2,FALSE)) | E7: =IF(ISNA(VLOOKUP(D7,BASE!$A$1:$C$30,2,0)),"",VLOOKUP(D7,BASE!$A$1:$C$30,2,0)) | G7: =IF(ISNA(VLOOKUP(D7,BASE!$A$1:$C$27,3,0)),"",VLOOKUP(D7,BASE!$A$1:$C$27,3,0)) | H7: =IFERROR(F7*G7,0) -> 0 | I7: =IF(AND(D7="CARTE FNAC",F7>=20),F7*G7,IF(AND(D7<>"Carte FNAC",F7>=40),F7*G7,0)) -> 0
C8: =IF(ISNA(VLOOKUP(A8,BASE!$D$2:$E$21,2,FALSE)),"",VLOOKUP(A8,BASE!$D$2:$E$21,2,FALSE)) | E8: =IF(ISNA(VLOOKUP(D8,BASE!$A$1:$C$30,2,0)),"",VLOOKUP(D8,BASE!$A$1:$C$30,2,0)) | G8: =IF(ISNA(VLOOKUP(D8,BASE!$A$1:$C$27,3,0)),"",VLOOKUP(D8,BASE!$A$1:$C$27,3,0)) | H8: =IFERROR(F8*G8,0) -> 0 | I8: =IF(AND(D8="CARTE FNAC",F8>=20),F8*G8,IF(AND(D8<>"Carte FNAC",F8>=40),F8*G8,0)) -> 0
C9: =IF(ISNA(VLOOKUP(A9,BASE!$D$2:$E$21,2,FALSE)),"",VLOOKUP(A9,BASE!$D$2:$E$21,2,FALSE)) | E9: =IF(ISNA(VLOOKUP(D9,BASE!$A$1:$C$30,2,0)),"",VLOOKUP(D9,BASE!$A$1:$C$30,2,0)) | G9: =IF(ISNA(VLOOKUP(D9,BASE!$A$1:$C$27,3,0)),"",VLOOKUP(D9,BASE!$A$1:$C$27,3,0)) | H9: =IFERROR(F9*G9,0) -> 0 | I9: =IF(AND(D9="CARTE FNAC",F9>=20),F9*G9,IF(AND(D9<>"Carte FNAC",F9>=40),F9*G9,0)) -> 0
C10: =IF(ISNA(VLOOKUP(A10,BASE!$D$2:$E$21,2,FALSE)),"",VLOOKUP(A10,BASE!$D$2:$E$21,2,FALSE)) | E10: =IF(ISNA(VLOOKUP(D10,BASE!$A$1:$C$30,2,0)),"",VLOOKUP(D10,BASE!$A$1:$C$30,2,0)) | G10: =IF(ISNA(VLOOKUP(D10,BASE!$A$1:$C$27,3,0)),"",VLOOKUP(D10,BASE!$A$1:$C$27,3,0)) | H10: =IFERROR(F10*G10,0) -> 0 | I10: =IF(AND(D10="CARTE FNAC",F10>=20),F10*G10,IF(AND(D10<>"Carte FNAC",F10>=40),F10*G10,0)) -> 0
C11: =IF(ISNA(VLOOKUP(A11,BASE!$D$2:$E$21,2,FALSE)),"",VLOOKUP(A11,BASE!$D$2:$E$21,2,FALSE)) | E11: =IF(ISNA(VLOOKUP(D11,BASE!$A$1:$C$30,2,0)),"",VLOOKUP(D11,BASE!$A$1:$C$30,2,0)) | G11: =IF(ISNA(VLOOKUP(D11,BASE!$A$1:$C$27,3,0)),"",VLOOKUP(D11,BASE!$A$1:$C$27,3,0)) | H11: =IFERROR(F11*G11,0) -> 0 | I11: =IF(AND(D11="CARTE FNAC",F11>=20),F11*G11,IF(AND(D11<>"Carte FNAC",F11>=40),F11*G11,0)) -> 0
C12: =IF(ISNA(VLOOKUP(A12,BASE!$D$2:$E$21,2,FALSE)),"",VLOOKUP(A12,BASE!$D$2:$E$21,2,FALSE)) | E12: =IF(ISNA(VLOOKUP(D12,BASE!$A$1:$C$30,2,0)),"",VLOOKUP(D12,BASE!$A$1:$C$30,2,0)) | G12: =IF(ISNA(VLOOKUP(D12,BASE!$A$1:$C$27,3,0)),"",VLOOKUP(D12,BASE!$A$1:$C$27,3,0)) | H12: =IFERROR(F12*G12,0) -> 0 | I12: =IF(AND(D12="CARTE FNAC",F12>=20),F12*G12,IF(AND(D12<>"Carte FNAC",F12>=40),F12*G12,0)) -> 0
C13: =IF(ISNA(VLOOKUP(A13,BASE!$D$2:$E$21,2,FALSE)),"",VLOOKUP(A13,BASE!$D$2:$E$21,2,FALSE)) | E13: =IF(ISNA(VLOOKUP(D13,BASE!$A$1:$C$30,2,0)),"",VLOOKUP(D13,BASE!$A$1:$C$30,2,0)) | G13: =IF(ISNA(VLOOKUP(D13,BASE!$A$1:$C$27,3,0)),"",VLOOKUP(D13,BASE!$A$1:$C$27,3,0)) | H13: =IFERROR(F13*G13,0) -> 0 | I13: =IF(AND(D13="CARTE FNAC",F13>=20),F13*G13,IF(AND(D13<>"Carte FNAC",F13>=40),F13*G13,0)) -> 0
C14: =IF(ISNA(VLOOKUP(A14,BASE!$D$2:$E$21,2,FALSE)),"",VLOOKUP(A14,BASE!$D$2:$E$21,2,FALSE)) | E14: =IF(ISNA(VLOOKUP(D14,BASE!$A$1:$C$30,2,0)),"",VLOOKUP(D14,BASE!$A$1:$C$30,2,0)) | G14: =IF(ISNA(VLOOKUP(D14,BASE!$A$1:$C$27,3,0)),"",VLOOKUP(D14,BASE!$A$1:$C$27,3,0)) | H14: =IFERROR(F14*G14,0) -> 0 | I14: =IF(AND(D14="CARTE FNAC",F14>=20),F14*G14,IF(AND(D14<>"Carte FNAC",F14>=40),F14*G14,0)) -> 0 | J14: {=IF(C14="Produit Technique",(IF(sommes.si.ens($F$2:$F$35,$A$2:$A$35,A14)<20,"0%",IF(sommes.si.ens($F$2:$F$35,$A$2:$A$35,A14)<140,"80%","100%"))),"")}
C15: =IF(ISNA(VLOOKUP(A15,BASE!$D$2:$E$21,2,FALSE)),"",VLOOKUP(A15,BASE!$D$2:$E$21,2,FALSE)) | E15: =IF(ISNA(VLOOKUP(D15,BASE!$A$1:$C$30,2,0)),"",VLOOKUP(D15,BASE!$A$1:$C$30,2,0)) | G15: =IF(ISNA(VLOOKUP(D15,BASE!$A$1:$C$27,3,0)),"",VLOOKUP(D15,BASE!$A$1:$C$27,3,0)) | H15: =IFERROR(F15*G15,0) -> 0 | I15: =IF(AND(D15="CARTE FNAC",F15>=20),F15*G15,IF(AND(D15<>"Carte FNAC",F15>=40),F15*G15,0)) -> 0 | J15: {=IF(C15="Produit Technique",(IF(sommes.si.ens($F$2:$F$35,$A$2:$A$35,A15)<20,"0%",IF(sommes.si.ens($F$2:$F$35,$A$2:$A$35,A15)<140,"80%","100%"))),"")}
C16: =IF(ISNA(VLOOKUP(A16,BASE!$D$2:$E$21,2,FALSE)),"",VLOOKUP(A16,BASE!$D$2:$E$21,2,FALSE)) | E16: =IF(ISNA(VLOOKUP(D16,BASE!$A$1:$C$30,2,0)),"",VLOOKUP(D16,BASE!$A$1:$C$30,2,0)) | G16: =IF(ISNA(VLOOKUP(D16,BASE!$A$1:$C$27,3,0)),"",VLOOKUP(D16,BASE!$A$1:$C$27,3,0)) | H16: =IFERROR(F16*G16,0) -> 0 | I16: =IF(AND(D16="CARTE FNAC",F16>=20),F16*G16,IF(AND(D16<>"Carte FNAC",F16>=40),F16*G16,0)) -> 0 | J16: {=IF(C16="Produit Technique",(IF(sommes.si.ens($F$2:$F$35,$A$2:$A$35,A16)<20,"0%",IF(sommes.si.ens($F$2:$F$35,$A$2:$A$35,A16)<140,"80%","100%"))),"")}
C17: =IF(ISNA(VLOOKUP(A17,BASE!$D$2:$E$21,2,FALSE)),"",VLOOKUP(A17,BASE!$D$2:$E$21,2,FALSE)) | E17: =IF(ISNA(VLOOKUP(D17,BASE!$A$1:$C$30,2,0)),"",VLOOKUP(D17,BASE!$A$1:$C$30,2,0)) | G17: =IF(ISNA(VLOOKUP(D17,BASE!$A$1:$C$27,3,0)),"",VLOOKUP(D17,BASE!$A$1:$C$27,3,0)) | H17: =IFERROR(F17*G17,0) -> 0 | I17: =IF(AND(D17="CARTE FNAC",F17>=20),F17*G17,IF(AND(D17<>"Carte FNAC",F17>=40),F17*G17,0)) -> 0 | J17: {=IF(C17="Produit Technique",(IF(sommes.si.ens($F$2:$F$35,$A$2:$A$35,A17)<20,"0%",IF(sommes.si.ens($F$2:$F$35,$A$2:$A$35,A17)<140,"80%","100%"))),"")}
C18: =IF(ISNA(VLOOKUP(A18,BASE!$D$2:$E$21,2,FALSE)),"",VLOOKUP(A18,BASE!$D$2:$E$21,2,FALSE)) | E18: =IF(ISNA(VLOOKUP(D18,BASE!$A$1:$C$30,2,0)),"",VLOOKUP(D18,BASE!$A$1:$C$30,2,0)) | G18: =IF(ISNA(VLOOKUP(D18,BASE!$A$1:$C$27,3,0)),"",VLOOKUP(D18,BASE!$A$1:$C$27,3,0)) | H18: =IFERROR(F18*G18,0) -> 0 | I18: =IF(AND(D18="CARTE FNAC",F18>=20),F18*G18,IF(AND(D18<>"Carte FNAC",F18>=40),F18*G18,0)) -> 0 | J18: {=IF(C18="Produit Technique",(IF(sommes.si.ens($F$2:$F$35,$A$2:$A$35,A18)<20,"0%",IF(sommes.si.ens($F$2:$F$35,$A$2:$A$35,A18)<140,"80%","100%"))),"")}
C19: =IF(ISNA(VLOOKUP(A19,BASE!$D$2:$E$21,2,FALSE)),"",VLOOKUP(A19,BASE!$D$2:$E$21,2,FALSE)) | E19: =IF(ISNA(VLOOKUP(D19,BASE!$A$1:$C$30,2,0)),"",VLOOKUP(D19,BASE!$A$1:$C$30,2,0)) | G19: =IF(ISNA(VLOOKUP(D19,BASE!$A$1:$C$27,3,0)),"",VLOOKUP(D19,BASE!$A$1:$C$27,3,0)) | H19: =IFERROR(F19*G19,0) -> 0 | I19: =IF(AND(D19="CARTE FNAC",F19>=20),F19*G19,IF(AND(D19<>"Carte FNAC",F19>=40),F19*G19,0)) -> 0 | J19: {=IF(C19="Produit Technique",(IF(sommes.si.ens($F$2:$F$35,$A$2:$A$35,A19)<20,"0%",IF(sommes.si.ens($F$2:$F$35,$A$2:$A$35,A19)<140,"80%","100%"))),"")}
C20: =IF(ISNA(VLOOKUP(A20,BASE!$D$2:$E$21,2,FALSE)),"",VLOOKUP(A20,BASE!$D$2:$E$21,2,FALSE)) | E20: =IF(ISNA(VLOOKUP(D20,BASE!$A$1:$C$30,2,0)),"",VLOOKUP(D20,BASE!$A$1:$C$30,2,0)) | G20: =IF(ISNA(VLOOKUP(D20,BASE!$A$1:$C$27,3,0)),"",VLOOKUP(D20,BASE!$A$1:$C$27,3,0)) | H20: =IFERROR(F20*G20,0) -> 0 | I20: =IF(AND(D20="CARTE FNAC",F20>=20),F20*G20,IF(AND(D20<>"Carte FNAC",F20>=40),F20*G20,0)) -> 0
C21: =IF(ISNA(VLOOKUP(A21,BASE!$D$2:$E$21,2,FALSE)),"",VLOOKUP(A21,BASE!$D$2:$E$21,2,FALSE)) | E21: =IF(ISNA(VLOOKUP(D21,BASE!$A$1:$C$30,2,0)),"",VLOOKUP(D21,BASE!$A$1:$C$30,2,0)) | G21: =IF(ISNA(VLOOKUP(D21,BASE!$A$1:$C$27,3,0)),"",VLOOKUP(D21,BASE!$A$1:$C$27,3,0)) | H21: =IFERROR(F21*G21,0) -> 0 | I21: =IF(AND(D21="CARTE FNAC",F21>=20),F21*G21,IF(AND(D21<>"Carte FNAC",F21>=40),F21*G21,0)) -> 0
C22: =IF(ISNA(VLOOKUP(A22,BASE!$D$2:$E$21,2,FALSE)),"",VLOOKUP(A22,BASE!$D$2:$E$21,2,FALSE)) | E22: =IF(ISNA(VLOOKUP(D22,BASE!$A$1:$C$30,2,0)),"",VLOOKUP(D22,BASE!$A$1:$C$30,2,0)) | G22: =IF(ISNA(VLOOKUP(D22,BASE!$A$1:$C$27,3,0)),"",VLOOKUP(D22,BASE!$A$1:$C$27,3,0)) | H22: =IFERROR(F22*G22,0) -> 0 | I22: =IF(AND(D22="CARTE FNAC",F22>=20),F22*G22,IF(AND(D22<>"Carte FNAC",F22>=40),F22*G22,0)) -> 0
C23: =IF(ISNA(VLOOKUP(A23,BASE!$D$2:$E$21,2,FALSE)),"",VLOOKUP(A23,BASE!$D$2:$E$21,2,FALSE)) | E23: =IF(ISNA(VLOOKUP(D23,BASE!$A$1:$C$30,2,0)),"",VLOOKUP(D23,BASE!$A$1:$C$30,2,0)) | G23: =IF(ISNA(VLOOKUP(D23,BASE!$A$1:$C$27,3,0)),"",VLOOKUP(D23,BASE!$A$1:$C$27,3,0)) | H23: =IFERROR(F23*G23,0) -> 0 | I23: =IF(AND(D23="CARTE FNAC",F23>=20),F23*G23,IF(AND(D23<>"Carte FNAC",F23>=40),F23*G23,0)) -> 0
C24: =IF(ISNA(VLOOKUP(A24,BASE!$D$2:$E$21,2,FALSE)),"",VLOOKUP(A24,BASE!$D$2:$E$21,2,FALSE)) | E24: =IF(ISNA(VLOOKUP(D24,BASE!$A$1:$C$30,2,0)),"",VLOOKUP(D24,BASE!$A$1:$C$30,2,0)) | G24: =IF(ISNA(VLOOKUP(D24,BASE!$A$1:$C$27,3,0)),"",VLOOKUP(D24,BASE!$A$1:$C$27,3,0)) | H24: =IFERROR(F24*G24,0) -> 0 | I24: =IF(AND(D24="CARTE FNAC",F24>=20),F24*G24,IF(AND(D24<>"Carte FNAC",F24>=40),F24*G24,0)) -> 0
C25: =IF(ISNA(VLOOKUP(A25,BASE!$D$2:$E$21,2,FALSE)),"",VLOOKUP(A25,BASE!$D$2:$E$21,2,FALSE)) | E25: =IF(ISNA(VLOOKUP(D25,BASE!$A$1:$C$30,2,0)),"",VLOOKUP(D25,BASE!$A$1:$C$30,2,0)) | G25: =IF(ISNA(VLOOKUP(D25,BASE!$A$1:$C$27,3,0)),"",VLOOKUP(D25,BASE!$A$1:$C$27,3,0)) | H25: =IFERROR(F25*G25,0) -> 0 | I25: =IF(AND(D25="CARTE FNAC",F25>=20),F25*G25,IF(AND(D25<>"Carte FNAC",F25>=40),F25*G25,0)) -> 0
C26: =IF(ISNA(VLOOKUP(A26,BASE!$D$2:$E$21,2,FALSE)),"",VLOOKUP(A26,BASE!$D$2:$E$21,2,FALSE)) | E26: =IF(ISNA(VLOOKUP(D26,BASE!$A$1:$C$30,2,0)),"",VLOOKUP(D26,BASE!$A$1:$C$30,2,0)) | G26: =IF(ISNA(VLOOKUP(D26,BASE!$A$1:$C$27,3,0)),"",VLOOKUP(D26,BASE!$A$1:$C$27,3,0)) | H26: =IFERROR(F26*G26,0) -> 0 | I26: =IF(AND(D26="CARTE FNAC",F26>=20),F26*G26,IF(AND(D26<>"Carte FNAC",F26>=40),F26*G26,0)) -> 0
C27: =IF(ISNA(VLOOKUP(A27,BASE!$D$2:$E$21,2,FALSE)),"",VLOOKUP(A27,BASE!$D$2:$E$21,2,FALSE)) | E27: =IF(ISNA(VLOOKUP(D27,BASE!$A$1:$C$30,2,0)),"",VLOOKUP(D27,BASE!$A$1:$C$30,2,0)) | G27: =IF(ISNA(VLOOKUP(D27,BASE!$A$1:$C$27,3,0)),"",VLOOKUP(D27,BASE!$A$1:$C$27,3,0)) | H27: =IFERROR(F27*G27,0) -> 0 | I27: =IF(AND(D27="CARTE FNAC",F27>=20),F27*G27,IF(AND(D27<>"Carte FNAC",F27>=40),F27*G27,0)) -> 0
C28: =IF(ISNA(VLOOKUP(A28,BASE!$D$2:$E$21,2,FALSE)),"",VLOOKUP(A28,BASE!$D$2:$E$21,2,FALSE)) | E28: =IF(ISNA(VLOOKUP(D28,BASE!$A$1:$C$30,2,0)),"",VLOOKUP(D28,BASE!$A$1:$C$30,2,0)) | G28: =IF(ISNA(VLOOKUP(D28,BASE!$A$1:$C$27,3,0)),"",VLOOKUP(D28,BASE!$A$1:$C$27,3,0)) | H28: =IFERROR(F28*G28,0) -> 0 | I28: =IF(AND(D28="CARTE FNAC",F28>=20),F28*G28,IF(AND(D28<>"Carte FNAC",F28>=40),F28*G28,0)) -> 0
C29: =IF(ISNA(VLOOKUP(A29,BASE!$D$2:$E$21,2,FALSE)),"",VLOOKUP(A29,BASE!$D$2:$E$21,2,FALSE)) | E29: =IF(ISNA(VLOOKUP(D29,BASE!$A$1:$C$30,2,0)),"",VLOOKUP(D29,BASE!$A$1:$C$30,2,0)) | G29: =IF(ISNA(VLOOKUP(D29,BASE!$A$1:$C$27,3,0)),"",VLOOKUP(D29,BASE!$A$1:$C$27,3,0)) | H29: =IFERROR(F29*G29,0) -> 0 | I29: =IF(AND(D29="CARTE FNAC",F29>=20),F29*G29,IF(AND(D29<>"Carte FNAC",F29>=40),F29*G29,0)) -> 0
C30: =IF(ISNA(VLOOKUP(A30,BASE!$D$2:$E$21,2,FALSE)),"",VLOOKUP(A30,BASE!$D$2:$E$21,2,FALSE)) | E30: =IF(ISNA(VLOOKUP(D30,BASE!$A$1:$C$30,2,0)),"",VLOOKUP(D30,BASE!$A$1:$C$30,2,0)) | G30: =IF(ISNA(VLOOKUP(D30,BASE!$A$1:$C$27,3,0)),"",VLOOKUP(D30,BASE!$A$1:$C$27,3,0)) | H30: =IFERROR(F30*G30,0) -> 0 | I30: =IF(AND(D30="CARTE FNAC",F30>=20),F30*G30,IF(AND(D30<>"Carte FNAC",F30>=40),F30*G30,0)) -> 0
C31: =IF(ISNA(VLOOKUP(A31,BASE!$D$2:$E$21,2,FALSE)),"",VLOOKUP(A31,BASE!$D$2:$E$21,2,FALSE)) | E31: =IF(ISNA(VLOOKUP(D31,BASE!$A$1:$C$30,2,0)),"",VLOOKUP(D31,BASE!$A$1:$C$30,2,0)) | G31: =IF(ISNA(VLOOKUP(D31,BASE!$A$1:$C$27,3,0)),"",VLOOKUP(D31,BASE!$A$1:$C$27,3,0)) | H31: =IFERROR(F31*G31,0) -> 0 | I31: =IF(AND(D31="CARTE FNAC",F31>=20),F31*G31,IF(AND(D31<>"Carte FNAC",F31>=40),F31*G31,0)) -> 0
... C34: =IF(ISNA(VLOOKUP(A34,BASE!$D$2:$E$21,2,FALSE)),"",VLOOKUP(A34,BASE!$D$2:$E$21,2,FALSE)) | E34: =IF(ISNA(VLOOKUP(D34,BASE!$A$1:$C$30,2,0)),"",VLOOKUP(D34,BASE!$A$1:$C$30,2,0)) | G34: =IF(ISNA(VLOOKUP(D34,BASE!$A$1:$C$27,3,0)),"",VLOOKUP(D34,BASE!$A$1:$C$27,3,0)) | H34: =IFERROR(F34*G34,0) -> 0 | I34: =IF(AND(D34="CARTE FNAC",F34>=20),F34*G34,IF(AND(D34<>"Carte FNAC",F34>=40),F34*G34,0)) -> 0
C35: =IF(ISNA(VLOOKUP(A35,BASE!$D$2:$E$21,2,FALSE)),"",VLOOKUP(A35,BASE!$D$2:$E$21,2,FALSE)) | E35: =IF(ISNA(VLOOKUP(D35,BASE!$A$1:$C$30,2,0)),"",VLOOKUP(D35,BASE!$A$1:$C$30,2,0)) | G35: =IF(ISNA(VLOOKUP(D35,BASE!$A$1:$C$27,3,0)),"",VLOOKUP(D35,BASE!$A$1:$C$27,3,0)) | H35: =IFERROR(F35*G35,0) -> 0 | I35: =IF(AND(D35="CARTE FNAC",F35>=20),F35*G35,IF(AND(D35<>"Carte FNAC",F35>=40),F35*G35,0)) -> 0 | J35: {=IF(C35="Produit Technique",(IF(sommes.si.ens($F$2:$F$35,$A$2:$A$35,A35)<20,"0%",IF(sommes.si.ens($F$2:$F$35,$A$2:$A$35,A35)<140,"80%","100%"))),"")}
C36: =IF(ISNA(VLOOKUP(A36,BASE!$D$2:$E$21,2,FALSE)),"",VLOOKUP(A36,BASE!$D$2:$E$21,2,FALSE)) | E36: =IF(ISNA(VLOOKUP(D36,BASE!$A$1:$C$30,2,0)),"",VLOOKUP(D36,BASE!$A$1:$C$30,2,0)) | G36: =IF(ISNA(VLOOKUP(D36,BASE!$A$1:$C$27,3,0)),"",VLOOKUP(D36,BASE!$A$1:$C$27,3,0)) | H36: =IFERROR(F36*G36,0) -> 0 | I36: =IF(AND(D36="CARTE FNAC",F36>=20),F36*G36,IF(AND(D36<>"Carte FNAC",F36>=40),F36*G36,0)) -> 0 | J36: {=IF(C36="Produit Technique",(IF(sommes.si.ens($F$2:$F$35,$A$2:$A$35,A36)<20,"0%",IF(sommes.si.ens($F$2:$F$35,$A$2:$A$35,A36)<140,"80%","100%"))),"")}
C37: =IF(ISNA(VLOOKUP(A37,BASE!$D$2:$E$21,2,FALSE)),"",VLOOKUP(A37,BASE!$D$2:$E$21,2,FALSE)) | E37: =IF(ISNA(VLOOKUP(D37,BASE!$A$1:$C$30,2,0)),"",VLOOKUP(D37,BASE!$A$1:$C$30,2,0)) | G37: =IF(ISNA(VLOOKUP(D37,BASE!$A$1:$C$27,3,0)),"",VLOOKUP(D37,BASE!$A$1:$C$27,3,0)) | H37: =IFERROR(F37*G37,0) -> 0 | I37: =IF(AND(D37="CARTE FNAC",F37>=20),F37*G37,IF(AND(D37<>"Carte FNAC",F37>=40),F37*G37,0)) -> 0 | J37: {=IF(C37="Produit Technique",(IF(sommes.si.ens($F$2:$F$35,$A$2:$A$35,A37)<20,"0%",IF(sommes.si.ens($F$2:$F$35,$A$2:$A$35,A37)<140,"80%","100%"))),"")}
C38: =IF(ISNA(VLOOKUP(A38,BASE!$D$2:$E$21,2,FALSE)),"",VLOOKUP(A38,BASE!$D$2:$E$21,2,FALSE)) | E38: =IF(ISNA(VLOOKUP(D38,BASE!$A$1:$C$30,2,0)),"",VLOOKUP(D38,BASE!$A$1:$C$30,2,0)) | G38: =IF(ISNA(VLOOKUP(D38,BASE!$A$1:$C$27,3,0)),"",VLOOKUP(D38,BASE!$A$1:$C$27,3,0)) | H38: =IFERROR(F38*G38,0) -> 0 | I38: =IF(AND(D38="CARTE FNAC",F38>=20),F38*G38,IF(AND(D38<>"Carte FNAC",F38>=40),F38*G38,0)) -> 0
C39: =IF(ISNA(VLOOKUP(A39,BASE!$D$2:$E$21,2,FALSE)),"",VLOOKUP(A39,BASE!$D$2:$E$21,2,FALSE)) | E39: =IF(ISNA(VLOOKUP(D39,BASE!$A$1:$C$30,2,0)),"",VLOOKUP(D39,BASE!$A$1:$C$30,2,0)) | G39: =IF(ISNA(VLOOKUP(D39,BASE!$A$1:$C$27,3,0)),"",VLOOKUP(D39,BASE!$A$1:$C$27,3,0)) | H39: =IFERROR(F39*G39,0) -> 0 | I39: =IF(AND(D39="CARTE FNAC",F39>=20),F39*G39,IF(AND(D39<>"Carte FNAC",F39>=40),F39*G39,0)) -> 0
C40: =IF(ISNA(VLOOKUP(A40,BASE!$D$2:$E$21,2,FALSE)),"",VLOOKUP(A40,BASE!$D$2:$E$21,2,FALSE)) | E40: =IF(ISNA(VLOOKUP(D40,BASE!$A$1:$C$30,2,0)),"",VLOOKUP(D40,BASE!$A$1:$C$30,2,0)) | G40: =IF(ISNA(VLOOKUP(D40,BASE!$A$1:$C$27,3,0)),"",VLOOKUP(D40,BASE!$A$1:$C$27,3,0)) | H40: =IFERROR(F40*G40,0) -> 0 | I40: =IF(AND(D40="CARTE FNAC",F40>=20),F40*G40,IF(AND(D40<>"Carte FNAC",F40>=40),F40*G40,0)) -> 0
C41: =IF(ISNA(VLOOKUP(A41,BASE!$D$2:$E$21,2,FALSE)),"",VLOOKUP(A41,BASE!$D$2:$E$21,2,FALSE)) | E41: =IF(ISNA(VLOOKUP(D41,BASE!$A$1:$C$30,2,0)),"",VLOOKUP(D41,BASE!$A$1:$C$30,2,0)) | G41: =IF(ISNA(VLOOKUP(D41,BASE!$A$1:$C$27,3,0)),"",VLOOKUP(D41,BASE!$A$1:$C$27,3,0)) | H41: =IFERROR(F41*G41,0) -> 0 | I41: =IF(AND(D41="CARTE FNAC",F41>=20),F41*G41,IF(AND(D41<>"Carte FNAC",F41>=40),F41*G41,0)) -> 0
C42: =IF(ISNA(VLOOKUP(A42,BASE!$D$2:$E$21,2,FALSE)),"",VLOOKUP(A42,BASE!$D$2:$E$21,2,FALSE)) | E42: =IF(ISNA(VLOOKUP(D42,BASE!$A$1:$C$30,2,0)),"",VLOOKUP(D42,BASE!$A$1:$C$30,2,0)) | G42: =IF(ISNA(VLOOKUP(D42,BASE!$A$1:$C$27,3,0)),"",VLOOKUP(D42,BASE!$A$1:$C$27,3,0)) | H42: =IFERROR(F42*G42,0) -> 0 | I42: =IF(AND(D42="CARTE FNAC",F42>=20),F42*G42,IF(AND(D42<>"Carte FNAC",F42>=40),F42*G42,0)) -> 0
...

Sheet VALEUR PRIMES
A2: Quantité service par secteur hors CARTE FNAC | B2: janv-20 | C2: févr-20 | D2: mars-20 | E2: avr-20 | F2: mai-20 | G2: juin-20 | H2: juil-20 | I2: août-20 | J2: sept-20 | K2: oct-20 | L2: nov-20 | M2: déc-20
A3: Produit Technique | B3: =SUMIFS(BDD!$F$2:$F$454,BDD!$C$2:$C$454,$A$3,BDD!$B$2:$B$454,B2,BDD!$D$2:D454,"<>CARTE FNAC") -> 0 | C3: =SUMIFS(BDD!$F$2:$F$454,BDD!$C$2:$C$454,$A$3,BDD!$B$2:$B$454,C2,BDD!$D$2:$D$454,"<>CARTE FNAC") -> 0 | D3: =SUMIFS(BDD!$F$2:$F$454,BDD!$C$2:$C$454,$A$3,BDD!$B$2:$B$454,D2,BDD!$D$2:$D$454,"<>CARTE FNAC") -> 0 | E3: =SUMIFS(BDD!$F$2:$F$454,BDD!$C$2:$C$454,$A$3,BDD!$B$2:$B$454,E2,BDD!$D$2:$D$454,"<>CARTE FNAC") -> 0 | F3: =SUMIFS(BDD!$F$2:$F$454,BDD!$C$2:$C$454,$A$3,BDD!$B$2:$B$454,F2,BDD!$D$2:$D$454,"<>CARTE FNAC") -> 0 | G3: =SUMIFS(BDD!$F$2:$F$454,BDD!$C$2:$C$454,$A$3,BDD!$B$2:$B$454,G2,BDD!$D$2:$D$454,"<>CARTE FNAC") -> 0 | H3: =SUMIFS(BDD!$F$2:$F$454,BDD!$C$2:$C$454,$A$3,BDD!$B$2:$B$454,H2,BDD!$D$2:$D$454,"<>CARTE FNAC") -> 0 | I3: =SUMIFS(BDD!$F$2:$F$454,BDD!$C$2:$C$454,$A$3,BDD!$B$2:$B$454,I2,BDD!$D$2:$D$454,"<>CARTE FNAC") -> 0 | J3: =SUMIFS(BDD!$F$2:$F$454,BDD!$C$2:$C$454,$A$3,BDD!$B$2:$B$454,J2,BDD!$D$2:$D$454,"<>CARTE FNAC") -> 0 | ... M3: =SUMIFS(BDD!$F$2:$F$454,BDD!$C$2:$C$454,$A$3,BDD!$B$2:$B$454,M2,BDD!$D$2:$D$454,"<>CARTE FNAC") -> 0
A4: Produit Editorial | B4: =SUMIFS(BDD!$F$2:$F$454,BDD!$C$2:$C$454,$A$4,BDD!$B$2:$B$454,B2,BDD!$D$2:$D$454,"<>CARTE FNAC") -> 0 | C4: =SUMIFS(BDD!$F$2:$F$454,BDD!$C$2:$C$454,$A$4,BDD!$B$2:$B$454,C2,BDD!$D$2:$D$454,"<>CARTE FNAC") -> 0 | D4: =SUMIFS(BDD!$F$2:$F$454,BDD!$C$2:$C$454,$A$4,BDD!$B$2:$B$454,D2,BDD!$D$2:$D$454,"<>CARTE FNAC") -> 0 | E4: =SUMIFS(BDD!$F$2:$F$454,BDD!$C$2:$C$454,$A$4,BDD!$B$2:$B$454,E2,BDD!$D$2:$D$454,"<>CARTE FNAC") -> 0 | F4: =SUMIFS(BDD!$F$2:$F$454,BDD!$C$2:$C$454,$A$4,BDD!$B$2:$B$454,F2,BDD!$D$2:$D$454,"<>CARTE FNAC") -> 0 | G4: =SUMIFS(BDD!$F$2:$F$454,BDD!$C$2:$C$454,$A$4,BDD!$B$2:$B$454,G2,BDD!$D$2:$D$454,"<>CARTE FNAC") -> 0 | H4: =SUMIFS(BDD!$F$2:$F$454,BDD!$C$2:$C$454,$A$4,BDD!$B$2:$B$454,H2,BDD!$D$2:$D$454,"<>CARTE FNAC") -> 0 | I4: =SUMIFS(BDD!$F$2:$F$454,BDD!$C$2:$C$454,$A$4,BDD!$B$2:$B$454,I2,BDD!$D$2:$D$454,"<>CARTE FNAC") -> 0 | ... M4: =SUMIFS(BDD!$F$2:$F$454,BDD!$C$2:$C$454,$A$4,BDD!$B$2:$B$454,M2,BDD!$D$2:$D$454,"<>CARTE FNAC") -> 0
A5: Service client | B5: =SUMIFS(BDD!$F$2:$F$454,BDD!$C$2:$C$454,$A$5,BDD!$B$2:$B$454,B$2,BDD!$D$2:$D$454,"<>CARTE FNAC") -> 0 | C5: =SUMIFS(BDD!$F$2:$F$454,BDD!$C$2:$C$454,$A$5,BDD!$B$2:$B$454,C$2,BDD!$D$2:$D$454,"<>CARTE FNAC") -> 0 | D5: =SUMIFS(BDD!$F$2:$F$454,BDD!$C$2:$C$454,$A$5,BDD!$B$2:$B$454,D$2,BDD!$D$2:$D$454,"<>CARTE FNAC") -> 0 | E5: =SUMIFS(BDD!$F$2:$F$454,BDD!$C$2:$C$454,$A$5,BDD!$B$2:$B$454,E$2,BDD!$D$2:$D$454,"<>CARTE FNAC") -> 0 | F5: =SUMIFS(BDD!$F$2:$F$454,BDD!$C$2:$C$454,$A$5,BDD!$B$2:$B$454,F$2,BDD!$D$2:$D$454,"<>CARTE FNAC") -> 0 | G5: =SUMIFS(BDD!$F$2:$F$454,BDD!$C$2:$C$454,$A$5,BDD!$B$2:$B$454,G$2,BDD!$D$2:$D$454,"<>CARTE FNAC") -> 0 | H5: =SUMIFS(BDD!$F$2:$F$454,BDD!$C$2:$C$454,$A$5,BDD!$B$2:$B$454,H$2,BDD!$D$2:$D$454,"<>CARTE FNAC") -> 0 | I5: =SUMIFS(BDD!$F$2:$F$454,BDD!$C$2:$C$454,$A$5,BDD!$B$2:$B$454,I$2,BDD!$D$2:$D$454,"<>CARTE FNAC") -> 0 | ... M5: =SUMIFS(BDD!$F$2:$F$454,BDD!$C$2:$C$454,$A$5,BDD!$B$2:$B$454,M$2,BDD!$D$2:$D$454,"<>CARTE FNAC") -> 0
A7: Quantité service par secteur que CARTE FNAC | B7: janv-20 | C7: févr-20 | D7: mars-20 | E7: avr-20 | F7: mai-20 | G7: juin-20 | H7: juil-20 | I7: août-20 | J7: sept-20 | K7: oct-20 | L7: nov-20 | M7: déc-20
A8: Produit Technique | B8: =SUMIFS(BDD!$F$2:$F$454,BDD!$C$2:$C$454,A$8,BDD!$B$2:$B$454,B7,BDD!$D$2:$D$454,"CARTE FNAC") -> 0 | C8: =SUMIFS(BDD!$F$2:$F$454,BDD!$C$2:$C$454,$A8,BDD!$B$2:$B$454,$C$7,BDD!$D$2:$D$454,"CARTE FNAC") -> 0 | D8: =SUMIFS(BDD!$F$2:$F$454,BDD!$C$2:$C$454,$A8,BDD!$B$2:$B$454,$D$7,BDD!$D$2:$D$454,"CARTE FNAC") -> 0 | E8: =SUMIFS(BDD!$F$2:$F$454,BDD!$C$2:$C$454,$A8,BDD!$B$2:$B$454,$E$7,BDD!$D$2:$D$454,"CARTE FNAC") -> 0 | F8: =SUMIFS(BDD!$F$2:$F$454,BDD!$C$2:$C$454,$A8,BDD!$B$2:$B$454,$F$7,BDD!$D$2:$D$454,"CARTE FNAC") -> 0 | G8: =SUMIFS(BDD!$F$2:$F$454,BDD!$C$2:$C$454,$A8,BDD!$B$2:$B$454,$G$7,BDD!$D$2:$D$454,"CARTE FNAC") -> 0 | H8: =SUMIFS(BDD!$F$2:$F$454,BDD!$C$2:$C$454,$A8,BDD!$B$2:$B$454,$H$7,BDD!$D$2:$D$454,"CARTE FNAC") -> 0 | I8: =SUMIFS(BDD!$F$2:$F$454,BDD!$C$2:$C$454,$A8,BDD!$B$2:$B$454,$I$7,BDD!$D$2:$D$454,"CARTE FNAC") -> 0 | J8: =SUMIFS(BDD!$F$2:$F$454,BDD!$C$2:$C$454,$A8,BDD!$B$2:$B$454,$J$7,BDD!$D$2:$D$454,"CARTE FNAC") -> 0 | K8: =SUMIFS(BDD!$F$2:$F$454,BDD!$C$2:$C$454,$A8,BDD!$B$2:$B$454,$K$7,BDD!$D$2:$D$454,"CARTE FNAC") -> 0 | L8: =SUMIFS(BDD!$F$2:$F$454,BDD!$C$2:$C$454,$A8,BDD!$B$2:$B$454,$L$7,BDD!$D$2:$D$454,"CARTE FNAC") -> 0 | M8: =SUMIFS(BDD!$F$2:$F$454,BDD!$C$2:$C$454,$A8,BDD!$B$2:$B$454,$M$7,BDD!$D$2:$D$454,"CARTE FNAC") -> 0
A9: Produit Editorial | B9: =SUMIFS(BDD!$F$2:$F$454,BDD!$C$2:$C$454,A$8,BDD!$B$2:$B$454,B7,BDD!$D$2:$D$454,"CARTE FNAC") -> 0 | C9: =SUMIFS(BDD!$F$2:$F$454,BDD!$C$2:$C$454,$A9,BDD!$B$2:$B$454,$C$7,BDD!$D$2:$D$454,"CARTE FNAC") -> 0 | D9: =SUMIFS(BDD!$F$2:$F$454,BDD!$C$2:$C$454,$A9,BDD!$B$2:$B$454,$D$7,BDD!$D$2:$D$454,"CARTE FNAC") -> 0 | E9: =SUMIFS(BDD!$F$2:$F$454,BDD!$C$2:$C$454,$A9,BDD!$B$2:$B$454,$E$7,BDD!$D$2:$D$454,"CARTE FNAC") -> 0 | F9: =SUMIFS(BDD!$F$2:$F$454,BDD!$C$2:$C$454,$A9,BDD!$B$2:$B$454,$F$7,BDD!$D$2:$D$454,"CARTE FNAC") -> 0 | G9: =SUMIFS(BDD!$F$2:$F$454,BDD!$C$2:$C$454,$A9,BDD!$B$2:$B$454,$G$7,BDD!$D$2:$D$454,"CARTE FNAC") -> 0 | H9: =SUMIFS(BDD!$F$2:$F$454,BDD!$C$2:$C$454,$A9,BDD!$B$2:$B$454,$H$7,BDD!$D$2:$D$454,"CARTE FNAC") -> 0 | I9: =SUMIFS(BDD!$F$2:$F$454,BDD!$C$2:$C$454,$A9,BDD!$B$2:$B$454,$I$7,BDD!$D$2:$D$454,"CARTE FNAC") -> 0 | J9: =SUMIFS(BDD!$F$2:$F$454,BDD!$C$2:$C$454,$A9,BDD!$B$2:$B$454,$J$7,BDD!$D$2:$D$454,"CARTE FNAC") -> 0 | K9: =SUMIFS(BDD!$F$2:$F$454,BDD!$C$2:$C$454,$A9,BDD!$B$2:$B$454,$K$7,BDD!$D$2:$D$454,"CARTE FNAC") -> 0 | L9: =SUMIFS(BDD!$F$2:$F$454,BDD!$C$2:$C$454,$A9,BDD!$B$2:$B$454,$L$7,BDD!$D$2:$D$454,"CARTE FNAC") -> 0 | M9: =SUMIFS(BDD!$F$2:$F$454,BDD!$C$2:$C$454,$A9,BDD!$B$2:$B$454,$M$7,BDD!$D$2:$D$454,"CARTE FNAC") -> 0
A10: Service client | B10: =SUMIFS(BDD!$F$2:$F$454,BDD!$C$2:$C$454,A$8,BDD!$B$2:$B$454,B7,BDD!$D$2:$D$454,"CARTE FNAC") -> 0 | C10: =SUMIFS(BDD!$F$2:$F$454,BDD!$C$2:$C$454,$A10,BDD!$B$2:$B$454,$C$7,BDD!$D$2:$D$454,"CARTE FNAC") -> 0 | D10: =SUMIFS(BDD!$F$2:$F$454,BDD!$C$2:$C$454,$A10,BDD!$B$2:$B$454,$D$7,BDD!$D$2:$D$454,"CARTE FNAC") -> 0 | E10: =SUMIFS(BDD!$F$2:$F$454,BDD!$C$2:$C$454,$A10,BDD!$B$2:$B$454,$E$7,BDD!$D$2:$D$454,"CARTE FNAC") -> 0 | F10: =SUMIFS(BDD!$F$2:$F$454,BDD!$C$2:$C$454,$A10,BDD!$B$2:$B$454,$F$7,BDD!$D$2:$D$454,"CARTE FNAC") -> 0 | G10: =SUMIFS(BDD!$F$2:$F$454,BDD!$C$2:$C$454,$A10,BDD!$B$2:$B$454,$G$7,BDD!$D$2:$D$454,"CARTE FNAC") -> 0 | H10: =SUMIFS(BDD!$F$2:$F$454,BDD!$C$2:$C$454,$A10,BDD!$B$2:$B$454,$H$7,BDD!$D$2:$D$454,"CARTE FNAC") -> 0 | I10: =SUMIFS(BDD!$F$2:$F$454,BDD!$C$2:$C$454,$A10,BDD!$B$2:$B$454,$I$7,BDD!$D$2:$D$454,"CARTE FNAC") -> 0 | J10: =SUMIFS(BDD!$F$2:$F$454,BDD!$C$2:$C$454,$A10,BDD!$B$2:$B$454,$J$7,BDD!$D$2:$D$454,"CARTE FNAC") -> 0 | K10: =SUMIFS(BDD!$F$2:$F$454,BDD!$C$2:$C$454,$A10,BDD!$B$2:$B$454,$K$7,BDD!$D$2:$D$454,"CARTE FNAC") -> 0 | L10: =SUMIFS(BDD!$F$2:$F$454,BDD!$C$2:$C$454,$A10,BDD!$B$2:$B$454,$L$7,BDD!$D$2:$D$454,"CARTE FNAC") -> 0 | M10: =SUMIFS(BDD!$F$2:$F$454,BDD!$C$2:$C$454,$A10,BDD!$B$2:$B$454,$M$7,BDD!$D$2:$D$454,"CARTE FNAC") -> 0
A13: Prime par CONSEILLER hors CARTE FNAC | B13: janv-20 | C13: févr-20 | D13: mars-20 | E13: avr-20 | F13: mai-20 | G13: juin-20 | H13: juil-20 | I13: août-20 | J13: sept-20 | K13: oct-20 | L13: nov-20 | M13: déc-20
A14: Sébastien
A15: Qté | B15: =SUMIFS(BDD!$F$2:$F$466,BDD!$A$2:$A$466,A14,BDD!$B$2:$B$466,$B$13,BDD!$D$2:$D$466,"<>CARTE FNAC") -> 0 | C15: =SUMIFS(BDD!$F$2:$F$466,BDD!$A$2:$A$466,$A$14,BDD!$B$2:$B$466,$C$13,BDD!$D$2:$D$466,"<>CARTE FNAC") -> 0 | D15: =SUMIFS(BDD!$F$2:$F$466,BDD!$A$2:$A$466,$A$14,BDD!$B$2:$B$466,D13,BDD!$D$2:$D$466,"<>CARTE FNAC") -> 0 | E15: =SUMIFS(BDD!$F$2:$F$466,BDD!$A$2:$A$466,$A$14,BDD!$B$2:$B$466,E13,BDD!$D$2:$D$466,"<>CARTE FNAC") -> 0 | F15: =SUMIFS(BDD!$F$2:$F$466,BDD!$A$2:$A$466,$A$14,BDD!$B$2:$B$466,F13,BDD!$D$2:$D$466,"<>CARTE FNAC") -> 0 | G15: =SUMIFS(BDD!$F$2:$F$466,BDD!$A$2:$A$466,$A$14,BDD!$B$2:$B$466,G13,BDD!$D$2:$D$466,"<>CARTE FNAC") -> 0 | H15: =SUMIFS(BDD!$F$2:$F$466,BDD!$A$2:$A$466,$A$14,BDD!$B$2:$B$466,H13,BDD!$D$2:$D$466,"<>CARTE FNAC") -> 0 | I15: =SUMIFS(BDD!$F$2:$F$466,BDD!$A$2:$A$466,$A$14,BDD!$B$2:$B$466,I13,BDD!$D$2:$D$466,"<>CARTE FNAC") -> 0 | J15: =SUMIFS(BDD!$F$2:$F$466,BDD!$A$2:$A$466,$A$14,BDD!$B$2:$B$466,J13,BDD!$D$2:$D$466,"<>CARTE FNAC") -> 0 | K15: =SUMIFS(BDD!$F$2:$F$466,BDD!$A$2:$A$466,$A$14,BDD!$B$2:$B$466,K13,BDD!$D$2:$D$466,"<>CARTE FNAC") -> 0 | ... M15: =SUMIFS(BDD!$F$2:$F$466,BDD!$A$2:$A$466,$A$14,BDD!$B$2:$B$466,M13,BDD!$D$2:$D$466,"<>CARTE FNAC") -> 0
A16: Primes | B16: =SUMIFS(BDD!$I$2:$I$466,BDD!$A$2:$A$466,$A$14,BDD!$B$2:$B$466,$B$13,BDD!$D$2:$D$466,"<>CARTE FNAC")*IF(B3<140,0.8,1) -> 0 | C16: =SUMIFS(BDD!$I$2:$I$466,BDD!$A$2:$A$466,$A$14,BDD!$B$2:$B$466,C$13,BDD!$D$2:$D$466,"<>CARTE FNAC")*IF(C3<140,0.8,1) -> 0 | D16: =SUMIFS(BDD!$I$2:$I$466,BDD!$A$2:$A$466,$A$14,BDD!$B$2:$B$466,D$13,BDD!$D$2:$D$466,"<>CARTE FNAC")*IF(D3<140,0.8,1) -> 0 | E16: =SUMIFS(BDD!$I$2:$I$466,BDD!$A$2:$A$466,$A$14,BDD!$B$2:$B$466,E$13,BDD!$D$2:$D$466,"<>CARTE FNAC")*IF(E3<140,0.8,1) -> 0 | F16: =SUMIFS(BDD!$I$2:$I$466,BDD!$A$2:$A$466,$A$14,BDD!$B$2:$B$466,F$13,BDD!$D$2:$D$466,"<>CARTE FNAC")*IF($F$3<140,0.8,1) -> 0 | G16: =SUMIFS(BDD!$I$2:$I$466,BDD!$A$2:$A$466,$A$14,BDD!$B$2:$B$466,G$13,BDD!$D$2:$D$466,"<>CARTE FNAC")*IF($G$3<140,0.8,1) -> 0 | H16: =SUMIFS(BDD!$I$2:$I$466,BDD!$A$2:$A$466,$A$14,BDD!$B$2:$B$466,H$13,BDD!$D$2:$D$466,"<>CARTE FNAC")*IF(H$3<140,0.8,1) -> 0 | I16: =SUMIFS(BDD!$I$2:$I$466,BDD!$A$2:$A$466,$A$14,BDD!$B$2:$B$466,I$13,BDD!$D$2:$D$466,"<>CARTE FNAC")*IF(I$3<140,0.8,1) -> 0 | J16: =SUMIFS(BDD!$I$2:$I$466,BDD!$A$2:$A$466,$A$14,BDD!$B$2:$B$466,J$13,BDD!$D$2:$D$466,"<>CARTE FNAC")*IF(J$3<140,0.8,1) -> 0 | K16: =SUMIFS(BDD!$I$2:$I$466,BDD!$A$2:$A$466,$A$14,BDD!$B$2:$B$466,K$13,BDD!$D$2:$D$466,"<>CARTE FNAC")*IF(K$3<140,0.8,1) -> 0 | L16: =SUMIFS(BDD!$I$2:$I$466,BDD!$A$2:$A$466,$A$14,BDD!$B$2:$B$466,L$13,BDD!$D$2:$D$466,"<>CARTE FNAC")*IF(L$3<140,0.8,1) -> 0 | M16: =SUMIFS(BDD!$I$2:$I$466,BDD!$A$2:$A$466,$A$14,BDD!$B$2:$B$466,M$13,BDD!$D$2:$D$466,"<>CARTE FNAC")*IF(M$3<140,0.8,1) -> 0
A17: N-1 Qté
A18: Pierre
A19: Qté | B19: =SUMIFS(BDD!$F$2:$F$466,BDD!$A$2:$A$466,A18,BDD!$B$2:$B$466,$B$13,BDD!$D$2:$D$466,"<>CARTE FNAC") -> 0 | C19: =SUMIFS(BDD!$F$2:$F$466,BDD!$A$2:$A$466,$A$18,BDD!$B$2:$B$466,$C$13,BDD!$D$2:$D$466,"<>CARTE FNAC") -> 0 | D19: =SUMIFS(BDD!$F$2:$F$466,BDD!$A$2:$A$466,$A$18,BDD!$B$2:$B$466,D2,BDD!$D$2:$D$466,"<>CARTE FNAC") -> 0 | E19: =SUMIFS(BDD!$F$2:$F$466,BDD!$A$2:$A$466,$A$18,BDD!$B$2:$B$466,E2,BDD!$D$2:$D$466,"<>CARTE FNAC") -> 0 | F19: =SUMIFS(BDD!$F$2:$F$466,BDD!$A$2:$A$466,$A$18,BDD!$B$2:$B$466,F2,BDD!$D$2:$D$466,"<>CARTE FNAC") -> 0 | G19: =SUMIFS(BDD!$F$2:$F$466,BDD!$A$2:$A$466,$A$18,BDD!$B$2:$B$466,G2,BDD!$D$2:$D$466,"<>CARTE FNAC") -> 0 | H19: =SUMIFS(BDD!$F$2:$F$466,BDD!$A$2:$A$466,$A$18,BDD!$B$2:$B$466,H2,BDD!$D$2:$D$466,"<>CARTE FNAC") -> 0 | I19: =SUMIFS(BDD!$F$2:$F$466,BDD!$A$2:$A$466,$A$18,BDD!$B$2:$B$466,I2,BDD!$D$2:$D$466,"<>CARTE FNAC") -> 0 | J19: =SUMIFS(BDD!$F$2:$F$466,BDD!$A$2:$A$466,$A$18,BDD!$B$2:$B$466,J2,BDD!$D$2:$D$466,"<>CARTE FNAC") -> 0 | K19: =SUMIFS(BDD!$F$2:$F$466,BDD!$A$2:$A$466,$A$18,BDD!$B$2:$B$466,K2,BDD!$D$2:$D$466,"<>CARTE FNAC") -> 0 | ... M19: =SUMIFS(BDD!$F$2:$F$466,BDD!$A$2:$A$466,$A$18,BDD!$B$2:$B$466,M2,BDD!$D$2:$D$466,"<>CARTE FNAC") -> 0
A20: Primes | B20: =SUMIFS(BDD!$I$2:$I$466,BDD!$A$2:$A$466,$A$18,BDD!$B$2:$B$466,$B$13,BDD!$D$2:$D$466,"<>CARTE FNAC")*IF(B$3<140,0.8,1) -> 0 | C20: =SUMIFS(BDD!$I$2:$I$466,BDD!$A$2:$A$466,$A$18,BDD!$B$2:$B$466,$B$13,BDD!$D$2:$D$466,"<>CARTE FNAC")*IF(C$3<140,0.8,1) -> 0 | D20: =SUMIFS(BDD!$I$2:$I$466,BDD!$A$2:$A$466,$A$18,BDD!$B$2:$B$466,$B$13,BDD!$D$2:$D$466,"<>CARTE FNAC")*IF(D$3<140,0.8,1) -> 0 | E20: =SUMIFS(BDD!$I$2:$I$466,BDD!$A$2:$A$466,$A$18,BDD!$B$2:$B$466,$B$13,BDD!$D$2:$D$466,"<>CARTE FNAC")*IF(E$3<140,0.8,1) -> 0 | F20: =SUMIFS(BDD!$I$2:$I$466,BDD!$A$2:$A$466,$A$18,BDD!$B$2:$B$466,$B$13,BDD!$D$2:$D$466,"<>CARTE FNAC")*IF(F$3<140,0.8,1) -> 0 | G20: =SUMIFS(BDD!$I$2:$I$466,BDD!$A$2:$A$466,$A$18,BDD!$B$2:$B$466,$B$13,BDD!$D$2:$D$466,"<>CARTE FNAC")*IF(G$3<140,0.8,1) -> 0 | H20: =SUMIFS(BDD!$I$2:$I$466,BDD!$A$2:$A$466,$A$18,BDD!$B$2:$B$466,$B$13,BDD!$D$2:$D$466,"<>CARTE FNAC")*IF(H$3<140,0.8,1) -> 0 | I20: =SUMIFS(BDD!$I$2:$I$466,BDD!$A$2:$A$466,$A$18,BDD!$B$2:$B$466,$B$13,BDD!$D$2:$D$466,"<>CARTE FNAC")*IF(I$3<140,0.8,1) -> 0 | ... M20: =SUMIFS(BDD!$I$2:$I$466,BDD!$A$2:$A$466,$A$18,BDD!$B$2:$B$466,$B$13,BDD!$D$2:$D$466,"<>CARTE FNAC")*IF(M$3<140,0.8,1) -> 0
A21: N-1 Qté
A22: Florian
A23: Qté | B23: =SUMIFS(BDD!$F$2:$F$466,BDD!$A$2:$A$466,A22,BDD!$B$2:$B$466,$B$13,BDD!$D$2:$D$466,"<>CARTE FNAC") -> 0 | C23: =SUMIFS(BDD!$F$2:$F$466,BDD!$A$2:$A$466,$A$18,BDD!$B$2:$B$466,$C$13,BDD!$D$2:$D$466,"<>CARTE FNAC") -> 0 | D23: =SUMIFS(BDD!$F$2:$F$466,BDD!$A$2:$A$466,$A$22,BDD!$B$2:$B$466,$D$2,BDD!$D$2:$D$466,"<>CARTE FNAC") -> 0 | E23: =SUMIFS(BDD!$F$2:$F$466,BDD!$A$2:$A$466,$A$22,BDD!$B$2:$B$466,$E$2,BDD!$D$2:$D$466,"<>CARTE FNAC") -> 0 | F23: =SUMIFS(BDD!$F$2:$F$466,BDD!$A$2:$A$466,$A$22,BDD!$B$2:$B$466,F$2,BDD!$D$2:$D$466,"<>CARTE FNAC") -> 0 | G23: =SUMIFS(BDD!$F$2:$F$466,BDD!$A$2:$A$466,$A$22,BDD!$B$2:$B$466,G$2,BDD!$D$2:$D$466,"<>CARTE FNAC") -> 0 | H23: =SUMIFS(BDD!$F$2:$F$466,BDD!$A$2:$A$466,$A$22,BDD!$B$2:$B$466,H$2,BDD!$D$2:$D$466,"<>CARTE FNAC") -> 0 | I23: =SUMIFS(BDD!$F$2:$F$466,BDD!$A$2:$A$466,$A$22,BDD!$B$2:$B$466,I$2,BDD!$D$2:$D$466,"<>CARTE FNAC") -> 0 | J23: =SUMIFS(BDD!$F$2:$F$466,BDD!$A$2:$A$466,$A$22,BDD!$B$2:$B$466,J$2,BDD!$D$2:$D$466,"<>CARTE FNAC") -> 0 | K23: =SUMIFS(BDD!$F$2:$F$466,BDD!$A$2:$A$466,$A$22,BDD!$B$2:$B$466,K$2,BDD!$D$2:$D$466,"<>CARTE FNAC") -> 0 | L23: =SUMIFS(BDD!$F$2:$F$466,BDD!$A$2:$A$466,$A$22,BDD!$B$2:$B$466,L$2,BDD!$D$2:$D$466,"<>CARTE FNAC") -> 0 | M23: =SUMIFS(BDD!$F$2:$F$466,BDD!$A$2:$A$466,$A$22,BDD!$B$2:$B$466,M$2,BDD!$D$2:$D$466,"<>CARTE FNAC") -> 0
A24: Primes | B24: =SUMIFS(BDD!$I$2:$I$466,BDD!$A$2:$A$466,$A$22,BDD!$B$2:$B$466,B$13,BDD!$D$2:$D$466,"<>CARTE FNAC")*IF(B$3<140,0.8,1) -> 0 | C24: =SUMIFS(BDD!$I$2:$I$466,BDD!$A$2:$A$466,$A$22,BDD!$B$2:$B$466,C$13,BDD!$D$2:$D$466,"<>CARTE FNAC")*IF(C$3<140,0.8,1) -> 0 | D24: =SUMIFS(BDD!$I$2:$I$466,BDD!$A$2:$A$466,$A$22,BDD!$B$2:$B$466,D$13,BDD!$D$2:$D$466,"<>CARTE FNAC")*IF(D$3<140,0.8,1) -> 0 | E24: =SUMIFS(BDD!$I$2:$I$466,BDD!$A$2:$A$466,$A$22,BDD!$B$2:$B$466,E$13,BDD!$D$2:$D$466,"<>CARTE FNAC")*IF(E$3<140,0.8,1) -> 0 | F24: =SUMIFS(BDD!$I$2:$I$466,BDD!$A$2:$A$466,$A$22,BDD!$B$2:$B$466,F$13,BDD!$D$2:$D$466,"<>CARTE FNAC")*IF(F$3<140,0.8,1) -> 0 | G24: =SUMIFS(BDD!$I$2:$I$466,BDD!$A$2:$A$466,$A$22,BDD!$B$2:$B$466,G$13,BDD!$D$2:$D$466,"<>CARTE FNAC")*IF(G$3<140,0.8,1) -> 0 | H24: =SUMIFS(BDD!$I$2:$I$466,BDD!$A$2:$A$466,$A$22,BDD!$B$2:$B$466,H$13,BDD!$D$2:$D$466,"<>CARTE FNAC")*IF(H$3<140,0.8,1) -> 0 | I24: =SUMIFS(BDD!$I$2:$I$466,BDD!$A$2:$A$466,$A$22,BDD!$B$2:$B$466,I$13,BDD!$D$2:$D$466,"<>CARTE FNAC")*IF(I$3<140,0.8,1) -> 0 | ... M24: =SUMIFS(BDD!$I$2:$I$466,BDD!$A$2:$A$466,$A$22,BDD!$B$2:$B$466,M$13,BDD!$D$2:$D$466,"<>CARTE FNAC")*IF(M$3<140,0.8,1) -> 0
A25: N-1 Qté
A26: Anaïs
A27: Qté | B27: =SUMIFS(BDD!$F$2:$F$466,BDD!$A$2:$A$466,$A$26,BDD!$B$2:$B$466,B$13,BDD!$D$2:$D$466,"<>CARTE FNAC") -> 0 | C27: =SUMIFS(BDD!$F$2:$F$466,BDD!$A$2:$A$466,$A$26,BDD!$B$2:$B$466,C$13,BDD!$D$2:$D$466,"<>CARTE FNAC") -> 0 | D27: =SUMIFS(BDD!$F$2:$F$466,BDD!$A$2:$A$466,$A$26,BDD!$B$2:$B$466,D$13,BDD!$D$2:$D$466,"<>CARTE FNAC") -> 0 | E27: =SUMIFS(BDD!$F$2:$F$466,BDD!$A$2:$A$466,$A$26,BDD!$B$2:$B$466,E$13,BDD!$D$2:$D$466,"<>CARTE FNAC") -> 0 | F27: =SUMIFS(BDD!$F$2:$F$466,BDD!$A$2:$A$466,$A$26,BDD!$B$2:$B$466,F$13,BDD!$D$2:$D$466,"<>CARTE FNAC") -> 0 | G27: =SUMIFS(BDD!$F$2:$F$466,BDD!$A$2:$A$466,$A$26,BDD!$B$2:$B$466,G$13,BDD!$D$2:$D$466,"<>CARTE FNAC") -> 0 | H27: =SUMIFS(BDD!$F$2:$F$466,BDD!$A$2:$A$466,$A$26,BDD!$B$2:$B$466,H$13,BDD!$D$2:$D$466,"<>CARTE FNAC") -> 0 | I27: =SUMIFS(BDD!$F$2:$F$466,BDD!$A$2:$A$466,$A$26,BDD!$B$2:$B$466,I$13,BDD!$D$2:$D$466,"<>CARTE FNAC") -> 0 | ... M27: =SUMIFS(BDD!$F$2:$F$466,BDD!$A$2:$A$466,$A$26,BDD!$B$2:$B$466,M$13,BDD!$D$2:$D$466,"<>CARTE FNAC") -> 0
A28: Primes | B28: =SUMIFS(BDD!$I$2:$I$466,BDD!$A$2:$A$466,$A$26,BDD!$B$2:$B$466,B$13,BDD!$D$2:$D$466,"<>CARTE FNAC")*IF(B$3<140,0.8,1) -> 0 | C28: =SUMIFS(BDD!$I$2:$I$466,BDD!$A$2:$A$466,$A$26,BDD!$B$2:$B$466,C$13,BDD!$D$2:$D$466,"<>CARTE FNAC")*IF(C$3<140,0.8,1) -> 0 | D28: =SUMIFS(BDD!$I$2:$I$466,BDD!$A$2:$A$466,$A$26,BDD!$B$2:$B$466,D$13,BDD!$D$2:$D$466,"<>CARTE FNAC")*IF(D$3<140,0.8,1) -> 0 | E28: =SUMIFS(BDD!$I$2:$I$466,BDD!$A$2:$A$466,$A$26,BDD!$B$2:$B$466,E$13,BDD!$D$2:$D$466,"<>CARTE FNAC")*IF(E$3<140,0.8,1) -> 0 | F28: =SUMIFS(BDD!$I$2:$I$466,BDD!$A$2:$A$466,$A$26,BDD!$B$2:$B$466,F$13,BDD!$D$2:$D$466,"<>CARTE FNAC")*IF(F$3<140,0.8,1) -> 0 | G28: =SUMIFS(BDD!$I$2:$I$466,BDD!$A$2:$A$466,$A$26,BDD!$B$2:$B$466,G$13,BDD!$D$2:$D$466,"<>CARTE FNAC")*IF(G$3<140,0.8,1) -> 0 | H28: =SUMIFS(BDD!$I$2:$I$466,BDD!$A$2:$A$466,$A$26,BDD!$B$2:$B$466,H$13,BDD!$D$2:$D$466,"<>CARTE FNAC")*IF(H$3<140,0.8,1) -> 0 | I28: =SUMIFS(BDD!$I$2:$I$466,BDD!$A$2:$A$466,$A$26,BDD!$B$2:$B$466,I$13,BDD!$D$2:$D$466,"<>CARTE FNAC")*IF(I$3<140,0.8,1) -> 0 | ... M28: =SUMIFS(BDD!$I$2:$I$466,BDD!$A$2:$A$466,$A$26,BDD!$B$2:$B$466,M$13,BDD!$D$2:$D$466,"<>CARTE FNAC")*IF(M$3<140,0.8,1) -> 0
A29: N-1 Qté
A30: Cyril
A31: Qté | B31: =SUMIFS(BDD!$F$2:$F$466,BDD!$A$2:$A$466,$A$30,BDD!$B$2:$B$466,B$13,BDD!$D$2:$D$466,"<>CARTE FNAC") -> 0 | C31: =SUMIFS(BDD!$F$2:$F$466,BDD!$A$2:$A$466,$A$30,BDD!$B$2:$B$466,C$13,BDD!$D$2:$D$466,"<>CARTE FNAC") -> 0 | D31: =SUMIFS(BDD!$F$2:$F$466,BDD!$A$2:$A$466,$A$30,BDD!$B$2:$B$466,D$13,BDD!$D$2:$D$466,"<>CARTE FNAC") -> 0 | E31: =SUMIFS(BDD!$F$2:$F$466,BDD!$A$2:$A$466,$A$30,BDD!$B$2:$B$466,E$13,BDD!$D$2:$D$466,"<>CARTE FNAC") -> 0 | F31: =SUMIFS(BDD!$F$2:$F$466,BDD!$A$2:$A$466,$A$30,BDD!$B$2:$B$466,F$13,BDD!$D$2:$D$466,"<>CARTE FNAC") -> 0 | G31: =SUMIFS(BDD!$F$2:$F$466,BDD!$A$2:$A$466,$A$30,BDD!$B$2:$B$466,G$13,BDD!$D$2:$D$466,"<>CARTE FNAC") -> 0 | H31: =SUMIFS(BDD!$F$2:$F$466,BDD!$A$2:$A$466,$A$30,BDD!$B$2:$B$466,H$13,BDD!$D$2:$D$466,"<>CARTE FNAC") -> 0 | I31: =SUMIFS(BDD!$F$2:$F$466,BDD!$A$2:$A$466,$A$30,BDD!$B$2:$B$466,I$13,BDD!$D$2:$D$466,"<>CARTE FNAC") -> 0 | ... M31: =SUMIFS(BDD!$F$2:$F$466,BDD!$A$2:$A$466,$A$30,BDD!$B$2:$B$466,M$13,BDD!$D$2:$D$466,"<>CARTE FNAC") -> 0
A32: Primes | B32: =SUMIFS(BDD!$I$2:$I$466,BDD!$A$2:$A$466,$A$30,BDD!$B$2:$B$466,B$13,BDD!$D$2:$D$466,"<>CARTE FNAC")*IF(B$3<140,0.8,1) -> 0 | C32: =SUMIFS(BDD!$I$2:$I$466,BDD!$A$2:$A$466,$A$30,BDD!$B$2:$B$466,C$13,BDD!$D$2:$D$466,"<>CARTE FNAC")*IF(C$3<140,0.8,1) -> 0 | D32: =SUMIFS(BDD!$I$2:$I$466,BDD!$A$2:$A$466,$A$30,BDD!$B$2:$B$466,D$13,BDD!$D$2:$D$466,"<>CARTE FNAC")*IF(D$3<140,0.8,1) -> 0 | E32: =SUMIFS(BDD!$I$2:$I$466,BDD!$A$2:$A$466,$A$30,BDD!$B$2:$B$466,E$13,BDD!$D$2:$D$466,"<>CARTE FNAC")*IF(E$3<140,0.8,1) -> 0 | F32: =SUMIFS(BDD!$I$2:$I$466,BDD!$A$2:$A$466,$A$30,BDD!$B$2:$B$466,F$13,BDD!$D$2:$D$466,"<>CARTE FNAC")*IF(F$3<140,0.8,1) -> 0 | G32: =SUMIFS(BDD!$I$2:$I$466,BDD!$A$2:$A$466,$A$30,BDD!$B$2:$B$466,G$13,BDD!$D$2:$D$466,"<>CARTE FNAC")*IF(G$3<140,0.8,1) -> 0 | H32: =SUMIFS(BDD!$I$2:$I$466,BDD!$A$2:$A$466,$A$30,BDD!$B$2:$B$466,H$13,BDD!$D$2:$D$466,"<>CARTE FNAC")*IF(H$3<140,0.8,1) -> 0 | I32: =SUMIFS(BDD!$I$2:$I$466,BDD!$A$2:$A$466,$A$30,BDD!$B$2:$B$466,I$13,BDD!$D$2:$D$466,"<>CARTE FNAC")*IF(I$3<140,0.8,1) -> 0 | ... M32: =SUMIFS(BDD!$I$2:$I$466,BDD!$A$2:$A$466,$A$30,BDD!$B$2:$B$466,M$13,BDD!$D$2:$D$466,"<>CARTE FNAC")*IF(M$3<140,0.8,1) -> 0
A33: N-1 Qté
A34: Florian L
A35: Qté | B35: =SUMIFS(BDD!$F$2:$F$466,BDD!$A$2:$A$466,$A$34,BDD!$B$2:$B$466,B$13,BDD!$D$2:$D$466,"<>CARTE FNAC") -> 0 | C35: =SUMIFS(BDD!$F$2:$F$466,BDD!$A$2:$A$466,$A$34,BDD!$B$2:$B$466,C$13,BDD!$D$2:$D$466,"<>CARTE FNAC") -> 0 | D35: =SUMIFS(BDD!$F$2:$F$466,BDD!$A$2:$A$466,$A$34,BDD!$B$2:$B$466,D$13,BDD!$D$2:$D$466,"<>CARTE FNAC") -> 0 | E35: =SUMIFS(BDD!$F$2:$F$466,BDD!$A$2:$A$466,$A$34,BDD!$B$2:$B$466,E$13,BDD!$D$2:$D$466,"<>CARTE FNAC") -> 0 | F35: =SUMIFS(BDD!$F$2:$F$466,BDD!$A$2:$A$466,$A$34,BDD!$B$2:$B$466,F$13,BDD!$D$2:$D$466,"<>CARTE FNAC") -> 0 | G35: =SUMIFS(BDD!$F$2:$F$466,BDD!$A$2:$A$466,$A$34,BDD!$B$2:$B$466,G$13,BDD!$D$2:$D$466,"<>CARTE FNAC") -> 0 | H35: =SUMIFS(BDD!$F$2:$F$466,BDD!$A$2:$A$466,$A$34,BDD!$B$2:$B$466,H$13,BDD!$D$2:$D$466,"<>CARTE FNAC") -> 0 | I35: =SUMIFS(BDD!$F$2:$F$466,BDD!$A$2:$A$466,$A$34,BDD!$B$2:$B$466,I$13,BDD!$D$2:$D$466,"<>CARTE FNAC") -> 0 | ... M35: =SUMIFS(BDD!$F$2:$F$466,BDD!$A$2:$A$466,$A$34,BDD!$B$2:$B$466,M$13,BDD!$D$2:$D$466,"<>CARTE FNAC") -> 0
A36: Primes | B36: =SUMIFS(BDD!$I$2:$I$466,BDD!$A$2:$A$466,$A$34,BDD!$B$2:$B$466,B$13,BDD!$D$2:$D$466,"<>CARTE FNAC")*IF(B$3<140,0.8,1) -> 0 | C36: =SUMIFS(BDD!$I$2:$I$466,BDD!$A$2:$A$466,$A$34,BDD!$B$2:$B$466,C$13,BDD!$D$2:$D$466,"<>CARTE FNAC")*IF(C$3<140,0.8,1) -> 0 | D36: =SUMIFS(BDD!$I$2:$I$466,BDD!$A$2:$A$466,$A$34,BDD!$B$2:$B$466,D$13,BDD!$D$2:$D$466,"<>CARTE FNAC")*IF(D$3<140,0.8,1) -> 0 | E36: =SUMIFS(BDD!$I$2:$I$466,BDD!$A$2:$A$466,$A$34,BDD!$B$2:$B$466,E$13,BDD!$D$2:$D$466,"<>CARTE FNAC")*IF(E$3<140,0.8,1) -> 0 | F36: =SUMIFS(BDD!$I$2:$I$466,BDD!$A$2:$A$466,$A$34,BDD!$B$2:$B$466,F$13,BDD!$D$2:$D$466,"<>CARTE FNAC")*IF(F$3<140,0.8,1) -> 0 | G36: =SUMIFS(BDD!$I$2:$I$466,BDD!$A$2:$A$466,$A$34,BDD!$B$2:$B$466,G$13,BDD!$D$2:$D$466,"<>CARTE FNAC")*IF(G$3<140,0.8,1) -> 0 | H36: =SUMIFS(BDD!$I$2:$I$466,BDD!$A$2:$A$466,$A$34,BDD!$B$2:$B$466,H$13,BDD!$D$2:$D$466,"<>CARTE FNAC")*IF(H$3<140,0.8,1) -> 0 | I36: =SUMIFS(BDD!$I$2:$I$466,BDD!$A$2:$A$466,$A$34,BDD!$B$2:$B$466,I$13,BDD!$D$2:$D$466,"<>CARTE FNAC")*IF(I$3<140,0.8,1) -> 0 | ... M36: =SUMIFS(BDD!$I$2:$I$466,BDD!$A$2:$A$466,$A$34,BDD!$B$2:$B$466,M$13,BDD!$D$2:$D$466,"<>CARTE FNAC")*IF(M$3<140,0.8,1) -> 0
A37: N-1 Qté
A41: Prime par CONSEILLER CARTE FNAC | B41: janv-20 | C41: févr-20 | D41: mars-20 | E41: avr-20 | F41: mai-20 | G41: juin-20 | H41: juil-20 | I41: août-20 | J41: sept-20 | K41: oct-20 | L41: nov-20 | M41: déc-20
A42: Sébastien
A43: Qté | B43: =SUMIFS(BDD!$F$2:$F$466,BDD!$A$2:$A$466,A42,BDD!$B$2:$B$466,$B$41,BDD!$D$2:$D$466,"CARTE FNAC") -> 0 | C43: =SUMIFS(BDD!$F$2:$F$466,BDD!$A$2:$A$466,$A42,BDD!$B$2:$B$466,C$41,BDD!$D$2:$D$466,"CARTE FNAC") -> 0 | D43: =SUMIFS(BDD!$F$2:$F$466,BDD!$A$2:$A$466,$A42,BDD!$B$2:$B$466,D$41,BDD!$D$2:$D$466,"CARTE FNAC") -> 0 | E43: =SUMIFS(BDD!$F$2:$F$466,BDD!$A$2:$A$466,$A42,BDD!$B$2:$B$466,E$41,BDD!$D$2:$D$466,"CARTE FNAC") -> 0 | F43: =SUMIFS(BDD!$F$2:$F$466,BDD!$A$2:$A$466,$A42,BDD!$B$2:$B$466,F$41,BDD!$D$2:$D$466,"CARTE FNAC") -> 0 | G43: =SUMIFS(BDD!$F$2:$F$466,BDD!$A$2:$A$466,$A42,BDD!$B$2:$B$466,G$41,BDD!$D$2:$D$466,"CARTE FNAC") -> 0 | H43: =SUMIFS(BDD!$F$2:$F$466,BDD!$A$2:$A$466,$A42,BDD!$B$2:$B$466,H$41,BDD!$D$2:$D$466,"CARTE FNAC") -> 0 | I43: =SUMIFS(BDD!$F$2:$F$466,BDD!$A$2:$A$466,$A42,BDD!$B$2:$B$466,I$41,BDD!$D$2:$D$466,"CARTE FNAC") -> 0 | J43: =SUMIFS(BDD!$F$2:$F$466,BDD!$A$2:$A$466,$A42,BDD!$B$2:$B$466,J$41,BDD!$D$2:$D$466,"CARTE FNAC") -> 0 | ... M43: =SUMIFS(BDD!$F$2:$F$466,BDD!$A$2:$A$466,$A42,BDD!$B$2:$B$466,M$41,BDD!$D$2:$D$466,"CARTE FNAC") -> 0
A44: Primes | B44: =SUMIFS(BDD!$I$2:$I$466,BDD!$A$2:$A$466,$A$14,BDD!$B$2:$B$466,B$41,BDD!$D$2:$D$466,"CARTE FNAC") -> 0 | C44: =SUMIFS(BDD!$I$2:$I$466,BDD!$A$2:$A$466,$A$14,BDD!$B$2:$B$466,C$41,BDD!$D$2:$D$466,"CARTE FNAC")*IF(C$3<140,0.8,1) -> 0 | D44: =SUMIFS(BDD!$I$2:$I$466,BDD!$A$2:$A$466,$A$14,BDD!$B$2:$B$466,D$41,BDD!$D$2:$D$466,"CARTE FNAC")*IF(D$3<140,0.8,1) -> 0 | E44: =SUMIFS(BDD!$I$2:$I$466,BDD!$A$2:$A$466,$A$14,BDD!$B$2:$B$466,E$41,BDD!$D$2:$D$466,"CARTE FNAC")*IF(E$3<140,0.8,1) -> 0 | F44: =SUMIFS(BDD!$I$2:$I$466,BDD!$A$2:$A$466,$A$14,BDD!$B$2:$B$466,F$41,BDD!$D$2:$D$466,"CARTE FNAC")*IF(F$3<140,0.8,1) -> 0 | G44: =SUMIFS(BDD!$I$2:$I$466,BDD!$A$2:$A$466,$A$14,BDD!$B$2:$B$466,G$41,BDD!$D$2:$D$466,"CARTE FNAC")*IF(G$3<140,0.8,1) -> 0 | H44: =SUMIFS(BDD!$I$2:$I$466,BDD!$A$2:$A$466,$A$14,BDD!$B$2:$B$466,H$41,BDD!$D$2:$D$466,"CARTE FNAC")*IF(H$3<140,0.8,1) -> 0 | I44: =SUMIFS(BDD!$I$2:$I$466,BDD!$A$2:$A$466,$A$14,BDD!$B$2:$B$466,I$41,BDD!$D$2:$D$466,"CARTE FNAC")*IF(I$3<140,0.8,1) -> 0 | J44: =SUMIFS(BDD!$I$2:$I$466,BDD!$A$2:$A$466,$A$14,BDD!$B$2:$B$466,J$41,BDD!$D$2:$D$466,"CARTE FNAC")*IF(J$3<140,0.8,1) -> 0 | ... M44: =SUMIFS(BDD!$I$2:$I$466,BDD!$A$2:$A$466,$A$14,BDD!$B$2:$B$466,M$41,BDD!$D$2:$D$466,"CARTE FNAC")*IF(M$3<140,0.8,1) -> 0
A45: N-1 Qté
A46: Pierre
A47: Qté | B47: =SUMIFS(BDD!$F$2:$F$466,BDD!$A$2:$A$466,$A$46,BDD!$B$2:$B$466,B$41,BDD!$D$2:$D$466,"CARTE FNAC") -> 0 | C47: =SUMIFS(BDD!$F$2:$F$466,BDD!$A$2:$A$466,$A$46,BDD!$B$2:$B$466,C$41,BDD!$D$2:$D$466,"CARTE FNAC") -> 0 | D47: =SUMIFS(BDD!$F$2:$F$466,BDD!$A$2:$A$466,$A$46,BDD!$B$2:$B$466,D$41,BDD!$D$2:$D$466,"CARTE FNAC") -> 0 | E47: =SUMIFS(BDD!$F$2:$F$466,BDD!$A$2:$A$466,$A$46,BDD!$B$2:$B$466,E$41,BDD!$D$2:$D$466,"CARTE FNAC") -> 0 | F47: =SUMIFS(BDD!$F$2:$F$466,BDD!$A$2:$A$466,$A$46,BDD!$B$2:$B$466,F$41,BDD!$D$2:$D$466,"CARTE FNAC") -> 0 | G47: =SUMIFS(BDD!$F$2:$F$466,BDD!$A$2:$A$466,$A$46,BDD!$B$2:$B$466,G$41,BDD!$D$2:$D$466,"CARTE FNAC") -> 0 | H47: =SUMIFS(BDD!$F$2:$F$466,BDD!$A$2:$A$466,$A$46,BDD!$B$2:$B$466,H$41,BDD!$D$2:$D$466,"CARTE FNAC") -> 0 | I47: =SUMIFS(BDD!$F$2:$F$466,BDD!$A$2:$A$466,$A$46,BDD!$B$2:$B$466,I$41,BDD!$D$2:$D$466,"CARTE FNAC") -> 0 | ... M47: =SUMIFS(BDD!$F$2:$F$466,BDD!$A$2:$A$466,$A$46,BDD!$B$2:$B$466,M$41,BDD!$D$2:$D$466,"CARTE FNAC") -> 0
...
