Workbook

Sheet Plan d'action corners
A1: PLAN D'ACTION CORNER
A5: Centre | B5: BELLEVILLE | D5: ANIMATEURS | E5: =VLOOKUP($B$5,'source 2'!$A:$AA,2,FALSE) -> ANTHONY | F5: DATE DE VISITE | G5: 44390 | H5: CA 2021 CUMUL | I5: =VLOOKUP($B$6,'source 3'!$A:$AA,4,FALSE) -> 0 | J5: Evol vs N-1 | K5: =VLOOKUP($B$6,'source 1'!$B:$Y,9,FALSE) -> 0
A6: code rpb | B6: =VLOOKUP($B$5,'source 2'!$A:$AA,3,FALSE) -> RPBC027 | D6: date ouverture | E6: =VLOOKUP($B$6,'source 1'!$B:$Y,10,FALSE) -> 43647
A7: PREREQUIS
A9: Numéros | C9: QUESTIONS 1 | I9: Réponses | K9: Action mis en place lors de la visite avec l'adhérent
A11: 1.1 | C11: Equipe en place et former pour faire du pare-brise et de l’impact ? | I11: OUI
A12: Commentaires
A14: 1.2 | C14: Identification de l’enseigne RPB (panneau, banderole…) ? | I14: NON
A15: Commentaires
A17: 1.3 | C17: Lister les panneaux à mettre en place pour une bonne identification ?
A18: Commentaires
A20: 1.4 | C20: Outillage et consommable à jour ?
A21: Commentaires
A23: 1.5 | C23: Emplacement dédier pour les voitures en réparation ?
A24: Commentaires
A26: 1.6 | C26: FCC, Clearbus, Tribu ?
A27: Commentaires
A29: 1.7 | C29: Identifier si une personne gère l’administratif ?
A30: Commentaires
A32: 1.8 | C32: Identifier s’il y a un responsable dans chaque centre (interlocuteur Atelier et Magasin) ?
A33: Commentaires
A35: 1.9 | C35: Identifier s’il y a une ligne téléphonique ?
A36: Commentaires
A38: 1.10 | C38: Les corners doivent faire des enregistrements des appels ?
A39: Commentaires
A41: 1.11 | C41: Identifier s’il y a une personne qui s’occupe des appels ?
A42: Commentaires
A44: 1.12 | C44: Savoir si les centres travaillent en chèques ou en session de créance ?
A45: Commentaires
A48: Levier d'actions
A50: Numéros | C50: QUESTIONS 2 | I50: Réponses | K50: Action mis en place lors de la visite avec l'adhérent
A52: 2.1 | C52: Check list atelier (la mettre en place) ?
A53: Commentaires
A55: 2.2 | C55: Faire les contrôles véhicules ?
A56: Commentaires
A58: 2.3 | C58: Budget web enseigne ?
A59: Commentaires
A61: 2.4 | C61: Faire des formations au discours commercial
A62: Commentaires
A64: 2.5 | C64: On-t-il une page Facebook (ou un autre réseau social) ?
...

Sheet source 1
A1: ouv | B1: N°RPB | C1: ville | D1: CA 05-21 | E1: Clients | F1: Panier | G1: CA 05-20 | H1: Clients | I1: Panier | J1: % CA | K1: ouv
A2: 43773 | B2: RPBC009 | C2: AGDE | K2: 43773
A3: 43535 | B3: RPBC002 | C3: ARGELES | K3: 43535
A4: 44011 | B4: RPBC038 | C4: AUBENAS | K4: 44011
A5: 44081 | B5: RPBC021 | C5: AURILLAC | K5: 44081
A6: 43738 | B6: RPBC035 | C6: BAGNOLS SUR CEZE | K6: 43738
A7: 44018 | B7: RPBC056 | C7: Beaurains | K7: 44018
A8: 43647 | B8: RPBC027 | C8: BELLEVILLE/SAONE | K8: 43647
A9: 43508 | B9: RPBC001 | C9: BERNAY | K9: 43508
A10: 44347 | B10: RPBC062 | C10: BONSON | K10: 44347
A11: 43647 | B11: RPBC026 | C11: CABESTANY | K11: 43647
A12: 44340 | B12: RPBC060 | C12: CAMBO LES BAINS | K12: 44340
A13: 43851 | B13: RPBC037 | C13: CASTELNAUDARY | K13: 43851
... A57: 43766 | B57: RPBC040 | C57: VILLEFRANCHE SUR SOANE | K57: 43766
A58: 44281 | B58: RPBC061 | C58: VIRE | D58: =+VLOOKUP($B58,'[1]client 05-21'!$B$281:$E$400,4,FALSE) -> 6915.276 | E58: =+VLOOKUP($B58,'[1]client 05-21'!$B$281:$F$400,5,FALSE) -> 10 | F58: =D58/E58 -> 691.5276 | G58: =+IFERROR(VLOOKUP($B58,'[1]client 05-20'!$B$265:$E$399,4,FALSE),0) -> 0 | H58: =IFERROR(VLOOKUP(B58,'[1]client 05-20'!$B$2:$F$399,5,FALSE),0) -> 0 | I58: =G58/H58 -> #DIV/0! | J58: =+D58/G58-1 -> #DIV/0! | K58: 44281
G62: =+G63+G66+G69+G72+G75+G78+G81+G84+G87 -> 0
C64: Constant + 1 an | D64: =SUMIF(#REF!,"2-C",D$2:D$56) -> #REF! | E64: =SUMIF(#REF!,"2-C",E$2:E$56) -> #REF! | F64: =D64/E64 -> #REF! | G64: =SUMIF(#REF!,"2-C",G$2:G$56) -> #REF! | H64: =SUMIF(#REF!,"2-C",H$2:H$56) -> #REF! | I64: =G64/H64 -> #REF! | J64: =(D64-G64)/G64 -> #REF!
C65: Evolutif | D65: =SUMIF(#REF!,"2",D$2:D$56) -> #REF! | E65: =SUMIF(#REF!,"2",E$2:E$56) -> #REF! | F65: =D65/E65 -> #REF! | G65: =SUMIF(#REF!,"2",G$2:G$56) -> #REF! | H65: =SUMIF(#REF!,"2",H$2:H$56) -> #REF! | I65: =G65/H65 -> #REF! | J65: =(D65-G65)/G65 -> #REF!
C67: Constant + 1 an | D67: =SUMIF(#REF!,"3-C",D$2:D$56) -> #REF! | E67: =SUMIF(#REF!,"3-C",E$2:E$56) -> #REF! | F67: =D67/E67 -> #REF! | G67: =SUMIF(#REF!,"3-C",G$2:G$56) -> #REF! | H67: =SUMIF(#REF!,"3-C",H$2:H$56) -> #REF! | I67: =G67/H67 -> #REF! | J67: =(D67-G67)/G67 -> #REF!
C68: Evolutif | D68: =SUMIF(#REF!,"3",D$2:D$56) -> #REF! | E68: =SUMIF(#REF!,"3",E$2:E$56) -> #REF! | F68: =D68/E68 -> #REF! | G68: =SUMIF(#REF!,"3",G$2:G$56) -> #REF! | H68: =SUMIF(#REF!,"3",H$2:H$56) -> #REF! | I68: =G68/H68 -> #REF! | J68: =(D68-G68)/G68 -> #REF!
C70: Constant + 1 an | D70: =SUMIF(#REF!,"4-C",D$2:D$56) -> #REF! | E70: =SUMIF(#REF!,"4-C",E$2:E$56) -> #REF! | F70: =D70/E70 -> #REF! | G70: =SUMIF(#REF!,"4-C",G$2:G$56) -> #REF! | H70: =SUMIF(#REF!,"4-C",H$2:H$56) -> #REF! | I70: =G70/H70 -> #REF! | J70: =(D70-G70)/G70 -> #REF!
C71: Evolutif | D71: =SUMIF(#REF!,"4",D$2:D$56) -> #REF! | E71: =SUMIF(#REF!,"4",E$2:E$56) -> #REF! | F71: =D71/E71 -> #REF! | G71: =SUMIF(#REF!,"4",G$2:G$56) -> #REF! | H71: =SUMIF(#REF!,"4",H$2:H$56) -> #REF! | I71: =G71/H71 -> #REF! | J71: =(D71-G71)/G71 -> #REF!
C73: Constant + 1 an | D73: =SUMIF(#REF!,"5-C",D2:D56) -> #REF! | E73: =SUMIF(#REF!,"5-C",E2:E56) -> #REF! | F73: =D73/E73 -> #REF! | G73: =SUMIF(#REF!,"5-C",G2:G56) -> #REF! | H73: =SUMIF(#REF!,"5-C",H2:H56) -> #REF! | I73: =G73/H73 -> #REF! | J73: =(D73-G73)/G73 -> #REF!
C74: Evolutif | D74: =SUMIF(#REF!,"5",D$2:D$56) -> #REF! | E74: =SUMIF(#REF!,"5",E$2:E$56) -> #REF! | F74: =D74/E74 -> #REF! | G74: =SUMIF(#REF!,"5",G$2:G$56) -> #REF! | H74: =SUMIF(#REF!,"5",H$2:H$56) -> #REF! | I74: =G74/H74 -> #REF! | J74: =(D74-G74)/G74 -> #REF!
C76: Constant + 1 an | D76: =SUMIF(#REF!,"6-C",D$2:D$56) -> #REF! | E76: =SUMIF(#REF!,"6-C",E$2:E$35) -> #REF! | F76: =D76/E76 -> #REF! | G76: =SUMIF(#REF!,"6-C",G$2:G$56) -> #REF! | H76: =SUMIF(#REF!,"6-C",H$2:H$35) -> #REF! | I76: =G76/H76 -> #REF! | J76: =(D76-G76)/G76 -> #REF!
C77: Evolutif | D77: =SUMIF(#REF!,"6",D$2:D$56) -> #REF! | E77: =SUMIF(#REF!,"6",E$2:E$35) -> #REF! | F77: =D77/E77 -> #REF! | G77: =SUMIF(#REF!,"6",G$2:G$56) -> #REF! | H77: =SUMIF(#REF!,"6",H$2:H$35) -> #REF! | I77: =G77/H77 -> #REF! | J77: =(D77-G77)/G77 -> #REF!
C79: Constant + 1 an | D79: =SUMIF(#REF!,"7-C",D$2:D$56) -> #REF! | E79: =SUMIF(#REF!,"7-C",E$2:E$35) -> #REF! | F79: =D79/E79 -> #REF! | G79: =SUMIF(#REF!,"7-C",G$2:G$56) -> #REF! | H79: =SUMIF(#REF!,"7-C",H$2:H$35) -> #REF! | I79: =G79/H79 -> #REF! | J79: =(D79-G79)/G79 -> #REF!
C80: Evolutif | D80: =SUMIF(#REF!,"7",D$2:D$56) -> #REF! | E80: =SUMIF(#REF!,"7",E$2:E$35) -> #REF! | F80: =D80/E80 -> #REF! | G80: =SUMIF(#REF!,"7",G$2:G$645) -> #REF! | H80: =SUMIF(#REF!,"7",H$2:H$35) -> #REF! | I80: =G80/H80 -> #REF! | J80: =(D80-G80)/G80 -> #REF!
C82: Constant + 1 an | D82: =SUMIF(#REF!,"8-C",D$2:D$56) -> #REF! | E82: =SUMIF(#REF!,"8-C",E$2:E$35) -> #REF! | F82: =D82/E82 -> #REF! | G82: =SUMIF(#REF!,"8-C",G$2:G$56) -> #REF! | H82: =SUMIF(#REF!,"8-C",H$2:H$35) -> #REF! | I82: =G82/H82 -> #REF! | J82: =(D82-G82)/G82 -> #REF!
C83: Evolutif | D83: =SUMIF(#REF!,"8",D$2:D$56) -> #REF! | E83: =SUMIF(#REF!,"8",E$2:E$35) -> #REF! | F83: =D83/E83 -> #REF! | G83: =SUMIF(#REF!,"8",G$2:G$56) -> #REF! | H83: =SUMIF(#REF!,"8",H$2:H$35) -> #REF! | I83: =G83/H83 -> #REF! | J83: =(D83-G83)/G83 -> #REF!

Sheet source 2
A1: centre | B1: ANIMATEUR
A2: AGDE | B2: ANTHONY | C2: RPBC009 | D2: OUI
A3: AGETMAU | B3: GEOFFREY | D3: NON
A4: ARGELES | B4: ANTHONY | C4: RPBC002
A5: AUBENAS | B5: ANTHONY | C5: RPBC038
A6: AURILLAC | B6: GEOFFREY | C6: RPBC021
A7: BEAURRAINS | B7: ADAM | C7: RPBC056
A8: BELLEVILLE | B8: ANTHONY | C8: RPBC027
A9: CHANAS | B9: ANTHONY | C9: RPBC057
A10: CHAZEY BONS | B10: ANTHONY | C10: RPBC017
A11: CONCARNEAU | B11: GEOFFREY | C11: RPBC048
A12: DECIZE | B12: ADAM | C12: RPBC055
A13: GANNAT | B13: ADAM | C13: RPBC022
A14: ISLE SUR ORGUE | B14: ANTHONY | C14: RPBC041
A15: ISSOIRE | B15: ANTHONY | C15: RPBC018
... A40: VILLEFRANCHE SUR SAONE | B40: ANTHONY | C40: RPBC040

Sheet source 3
A1: N°RPB | B1: INTITULE | C1: VILLE | D1: CA RCUMUL M5 | E1: NOMBRE DE JOB | F1: CA CUMUL R M5 | G1: RPB EN % DE R | H1: CUMUL CA p + R | I1: YTD 2021 sur base actuel | J1: Simulation cumul M5 | K1: Pojection YTD 2021
A2: RPBC009 | B2: CAPOSLO | C2: AGDE
A3: RPBC002 | B3: MAEN (ARGELES-SUR-MER) | C3: ARGELES
A4: RPBC038 | B4: CHRISAMP | C4: AUBENAS
A5: RPBC021 | B5: SAS MAHETHO | C5: AURILLAC
A6: RPBC035 | B6: AMARAUTO | C6: BAGNOLS SUR CEZE
A7: RPBC056 | B7: SAS CARWAY | C7: Beaurains
A8: RPBC027 | B8: SYCLAR (BELLEVILLE) | C8: BELLEVILLE/SAONE
A9: RPBC001 | B9: DAPA (BERNAY) | C9: BERNAY
A10: RPBC026 | B10: DILAS (CABESTANY) | C10: CABESTANY
A11: RPBC037 | B11: MIBBAUTO SAS | C11: CASTELNAUDARY
A12: RPBC057 | B12: SAS VALCEDAUTO | C12: CHANAS
A13: RPBC017 | B13: SAS VALUPIE | C13: CHAZEY BONS
... A56: RPBC061 | B56: MIC AUTO | C56: VIRE
