Workbook

Sheet source
A1: 45 | B1: toto | C1: norfd | D1: 520 | E1: 58 | F1: 4 | G1: 587 | H1: trds | J1: ffrh | K1: 45 | L1: klsdhu | M1: sdf | N1: sd | O1: d | P1: 11111 | Q1: jjj | R1: dfddf | S1: ff | T1: 745 | V1: mlk

Sheet but
A1: =source!A1 -> 45
A2: =source!B$1 -> toto
A3: =source!C$1 -> norfd
A4: =source!D$1 -> 520
A5: =source!E$1 -> 58
A6: =source!F$1 -> 4
A7: =source!G$1 -> 587
A8: =source!H$1 -> trds
A9: =source!I$1 -> 0
A10: =source!J$1 -> ffrh
A11: =source!K$1 -> 45
A12: =source!L$1 -> klsdhu
A13: =source!M$1 -> sdf
A14: =source!N$1 -> sd
A15: =source!O$1 -> d
A16: =source!P$1 -> 11111
A17: =source!Q$1 -> jjj
A18: =source!R$1 -> dfddf
A19: =source!S$1 -> ff
A20: =source!T$1 -> 745
A21: =source!U$1 -> 0
A22: =source!V$1 -> mlk
A23: =source!W$1 -> 0
A24: =source!X$1 -> 0
A25: =source!Y$1 -> 0
A26: =source!Z$1 -> 0
A27: =source!AA$1 -> 0
A28: =source!AB$1 -> 0
A29: =source!AC$1 -> 0
A30: =source!AD$1 -> 0
A31: =source!AE$1 -> 0
A32: =source!AF$1 -> 0
A33: =source!AG$1 -> 0
A34: =source!AH$1 -> 0
A35: =source!AI$1 -> 0
A36: =source!AJ$1 -> 0
A37: =source!AK$1 -> 0
A38: =source!AL$1 -> 0
A39: =source!AM$1 -> 0
A40: =source!AN$1 -> 0
A41: =source!AO$1 -> 0
A42: =source!AP$1 -> 0
A43: =source!AQ$1 -> 0
A44: =source!AR$1 -> 0
A45: =source!AS$1 -> 0
A46: =source!AT$1 -> 0
A47: =source!AU$1 -> 0
A48: =source!AV$1 -> 0
A49: =source!AW$1 -> 0
A50: =source!AX$1 -> 0
A51: =source!AY$1 -> 0
A52: =source!AZ$1 -> 0
A53: =source!BA$1 -> 0
A54: =source!BB$1 -> 0
A55: =source!BC$1 -> 0
A56: =source!BD$1 -> 0
A57: =source!BE$1 -> 0
A58: =source!BF$1 -> 0
A59: =source!BG$1 -> 0
A60: =source!BH$1 -> 0
A61: =source!BI$1 -> 0
A62: =source!BJ$1 -> 0
A63: =source!BK$1 -> 0
A64: =source!BL$1 -> 0
A65: =source!BM$1 -> 0
A66: =source!BN$1 -> 0
A67: =source!BO$1 -> 0
A68: =source!BP$1 -> 0
A69: =source!BQ$1 -> 0
A70: =source!BR$1 -> 0
A71: =source!BS$1 -> 0
A72: =source!BT$1 -> 0
A73: =source!BU$1 -> 0
A74: =source!BV$1 -> 0
A75: =source!BW$1 -> 0
A76: =source!BX$1 -> 0
A77: =source!BY$1 -> 0
A78: =source!BZ$1 -> 0
A79: =source!CA$1 -> 0
A80: =source!CB$1 -> 0
A81: =source!CC$1 -> 0
A82: =source!CD$1 -> 0
A83: =source!CE$1 -> 0
A84: =source!CF$1 -> 0
A85: =source!CG$1 -> 0
A86: =source!CH$1 -> 0
A87: =source!CI$1 -> 0
A88: =source!CJ$1 -> 0
A89: =source!CK$1 -> 0
A90: =source!CL$1 -> 0
A91: =source!CM$1 -> 0
A92: =source!CN$1 -> 0
A93: =source!CO$1 -> 0
A94: =source!CP$1 -> 0
A95: =source!CQ$1 -> 0
A96: =source!CR$1 -> 0
A97: =source!CS$1 -> 0
A98: =source!CT$1 -> 0
A99: =source!CU$1 -> 0
A100: =source!CV$1 -> 0
...

Sheet Feuil3
