Workbook

Sheet source
A1: 45 | B1: toto | C1: norfd | D1: 520 | E1: 58 | F1: 4 | G1: 587 | H1: trds | J1: ffrh | K1: 45 | L1: klsdhu | M1: sdf | N1: sd | O1: d | P1: 11111 | Q1: jjj | R1: dfddf | S1: ff | T1: 745 | V1: mlk

Sheet but
A1: =source!A1 -> 45
A2: =source!B$1 -> toto
A3: =source!C$1 -> norfd
A4: =source!D$1 -> 520
A5: =source!E$1 -> 58
A6: =source!F$1 -> 4
A7: =source!G$1 -> 587
A8: =source!H$1 -> trds
A9: =source!I$1 -> 0
A10: =source!J$1 -> ffrh
A11: =source!K$1 -> 45
A12: =source!L$1 -> klsdhu
A13: =source!M$1 -> sdf
A14: =source!N$1 -> sd
A15: =source!O$1 -> d
A16: =source!P$1 -> 11111
A17: =source!Q$1 -> jjj
A18: =source!R$1 -> dfddf
A19: =source!S$1 -> ff
A20: =source!T$1 -> 745
A21: =source!U$1 -> 0
A22: =source!V$1 -> mlk
A23: =source!W$1 -> 0
A24: =source!X$1 -> 0
A25: =source!Y$1 -> 0
A26: =source!Z$1 -> 0
A27: =source!AA$1 -> 0
A28: =source!AB$1 -> 0
A29: =source!AC$1 -> 0
A30: =source!AD$1 -> 0
A31: =source!AE$1 -> 0
A32: =source!AF$1 -> 0
A33: =source!AG$1 -> 0
A34: =source!AH$1 -> 0
A35: =source!AI$1 -> 0
A36: =source!AJ$1 -> 0
A37: =source!AK$1 -> 0
A38: =source!AL$1 -> 0
A39: =source!AM$1 -> 0
A40: =source!AN$1 -> 0
...

Sheet Feuil3
