Workbook

Sheet Données
A2: Clé Primaire | B2: Code du département | C2: Département | D2: Informations | E2: Clé unique
A3: =B3&"_"&COUNTIF($B$3:B3,B3) -> 1_1 | B3: 1 | C3: AIN | D3: =IF(ISNA(VLOOKUP(A3,Formule!A:C,7,FALSE)),"",VLOOKUP(A3,Formule!A:C,7,FALSE)) | E3: =COUNTIF($B$3:B3,B3) -> 1
A4: =B4&"_"&COUNTIF($B$3:B4,B4) -> 1_2 | B4: 1 | C4: AIN | D4: =IF(ISNA(VLOOKUP(A4,Formule!A:C,7,FALSE)),"",VLOOKUP(A4,Formule!A:C,7,FALSE)) | E4: =COUNTIF($B$3:B4,B4) -> 2
A5: =B5&"_"&COUNTIF($B$3:B5,B5) -> 1_3 | B5: 1 | C5: AIN | D5: =IF(ISNA(VLOOKUP(A5,Formule!A:C,7,FALSE)),"",VLOOKUP(A5,Formule!A:C,7,FALSE)) | E5: =COUNTIF($B$3:B5,B5) -> 3
A6: =B6&"_"&COUNTIF($B$3:B6,B6) -> 1_4 | B6: 1 | C6: AIN | D6: =IF(ISNA(VLOOKUP(A6,Formule!A:C,7,FALSE)),"",VLOOKUP(A6,Formule!A:C,7,FALSE)) | E6: =COUNTIF($B$3:B6,B6) -> 4
A7: =B7&"_"&COUNTIF($B$3:B7,B7) -> 1_5 | B7: 1 | C7: AIN | D7: =IF(ISNA(VLOOKUP(A7,Formule!A:C,7,FALSE)),"",VLOOKUP(A7,Formule!A:C,7,FALSE)) | E7: =COUNTIF($B$3:B7,B7) -> 5
A8: =B8&"_"&COUNTIF($B$3:B8,B8) -> 1_6 | B8: 1 | C8: AIN | D8: =IF(ISNA(VLOOKUP(A8,Formule!A:C,7,FALSE)),"",VLOOKUP(A8,Formule!A:C,7,FALSE)) | E8: =COUNTIF($B$3:B8,B8) -> 6
A9: =B9&"_"&COUNTIF($B$3:B9,B9) -> 1_7 | B9: 1 | C9: AIN | D9: =IF(ISNA(VLOOKUP(A9,Formule!A:C,7,FALSE)),"",VLOOKUP(A9,Formule!A:C,7,FALSE)) | E9: =COUNTIF($B$3:B9,B9) -> 7
A10: =B10&"_"&COUNTIF($B$3:B10,B10) -> 1_8 | B10: 1 | C10: AIN | D10: =IF(ISNA(VLOOKUP(A10,Formule!A:C,7,FALSE)),"",VLOOKUP(A10,Formule!A:C,7,FALSE)) | E10: =COUNTIF($B$3:B10,B10) -> 8
A11: =B11&"_"&COUNTIF($B$3:B11,B11) -> 1_9 | B11: 1 | C11: AIN | D11: =IF(ISNA(VLOOKUP(A11,Formule!A:C,7,FALSE)),"",VLOOKUP(A11,Formule!A:C,7,FALSE)) | E11: =COUNTIF($B$3:B11,B11) -> 9
A12: =B12&"_"&COUNTIF($B$3:B12,B12) -> 1_10 | B12: 1 | C12: AIN | D12: =IF(ISNA(VLOOKUP(A12,Formule!A:C,7,FALSE)),"",VLOOKUP(A12,Formule!A:C,7,FALSE)) | E12: =COUNTIF($B$3:B12,B12) -> 10
A13: =B13&"_"&COUNTIF($B$3:B13,B13) -> 1_11 | B13: 1 | C13: AIN | D13: =IF(ISNA(VLOOKUP(A13,Formule!A:C,7,FALSE)),"",VLOOKUP(A13,Formule!A:C,7,FALSE)) | E13: =COUNTIF($B$3:B13,B13) -> 11
A14: =B14&"_"&COUNTIF($B$3:B14,B14) -> 1_12 | B14: 1 | C14: AIN | D14: =IF(ISNA(VLOOKUP(A14,Formule!A:C,7,FALSE)),"",VLOOKUP(A14,Formule!A:C,7,FALSE)) | E14: =COUNTIF($B$3:B14,B14) -> 12
... A367: =B367&"_"&COUNTIF($B$3:B367,B367) -> 10_31 | B367: 10 | C367: AUBE | D367: =IF(ISNA(VLOOKUP(A367,Formule!A:C,7,FALSE)),"",VLOOKUP(A367,Formule!A:C,7,FALSE)) | E367: =COUNTIF($B$3:B367,B367) -> 31
A368: =B368&"_"&COUNTIF($B$3:B368,B368) -> 10_32 | B368: 10 | C368: AUBE | D368: =IF(ISNA(VLOOKUP(A368,Formule!A:C,7,FALSE)),"",VLOOKUP(A368,Formule!A:C,7,FALSE))
A369: =B369&"_"&COUNTIF($B$3:B369,B369) -> 10_33 | B369: 10 | C369: AUBE | D369: =IF(ISNA(VLOOKUP(A369,Formule!A:C,7,FALSE)),"",VLOOKUP(A369,Formule!A:C,7,FALSE))
A370: =B370&"_"&COUNTIF($B$3:B370,B370) -> 10_34 | B370: 10 | C370: AUBE | D370: =IF(ISNA(VLOOKUP(A370,Formule!A:C,7,FALSE)),"",VLOOKUP(A370,Formule!A:C,7,FALSE))
A371: =B371&"_"&COUNTIF($B$3:B371,B371) -> 11_1 | B371: 11 | C371: AUDE | D371: =IF(ISNA(VLOOKUP(A371,Formule!A:C,7,FALSE)),"",VLOOKUP(A371,Formule!A:C,7,FALSE))
A372: =B372&"_"&COUNTIF($B$3:B372,B372) -> 11_2 | B372: 11 | C372: AUDE | D372: =IF(ISNA(VLOOKUP(A372,Formule!A:C,7,FALSE)),"",VLOOKUP(A372,Formule!A:C,7,FALSE))
A373: =B373&"_"&COUNTIF($B$3:B373,B373) -> 11_3 | B373: 11 | C373: AUDE | D373: =IF(ISNA(VLOOKUP(A373,Formule!A:C,7,FALSE)),"",VLOOKUP(A373,Formule!A:C,7,FALSE))
A374: =B374&"_"&COUNTIF($B$3:B374,B374) -> 11_4 | B374: 11 | C374: AUDE | D374: =IF(ISNA(VLOOKUP(A374,Formule!A:C,7,FALSE)),"",VLOOKUP(A374,Formule!A:C,7,FALSE))
A375: =B375&"_"&COUNTIF($B$3:B375,B375) -> 11_5 | B375: 11 | C375: AUDE | D375: =IF(ISNA(VLOOKUP(A375,Formule!A:C,7,FALSE)),"",VLOOKUP(A375,Formule!A:C,7,FALSE))
A376: =B376&"_"&COUNTIF($B$3:B376,B376) -> 11_6 | B376: 11 | C376: AUDE | D376: =IF(ISNA(VLOOKUP(A376,Formule!A:C,7,FALSE)),"",VLOOKUP(A376,Formule!A:C,7,FALSE))
A377: =B377&"_"&COUNTIF($B$3:B377,B377) -> 11_7 | B377: 11 | C377: AUDE | D377: =IF(ISNA(VLOOKUP(A377,Formule!A:C,7,FALSE)),"",VLOOKUP(A377,Formule!A:C,7,FALSE))
A378: =B378&"_"&COUNTIF($B$3:B378,B378) -> 11_8 | B378: 11 | C378: AUDE | D378: =IF(ISNA(VLOOKUP(A378,Formule!A:C,7,FALSE)),"",VLOOKUP(A378,Formule!A:C,7,FALSE))
A379: =B379&"_"&COUNTIF($B$3:B379,B379) -> 11_9 | B379: 11 | C379: AUDE | D379: =IF(ISNA(VLOOKUP(A379,Formule!A:C,7,FALSE)),"",VLOOKUP(A379,Formule!A:C,7,FALSE))
... A3913: =B3913&"_"&COUNTIF($B$3:B3913,B3913) -> 95_43 | B3913: 95 | C3913: VAL D'OISE | D3913: =IF(ISNA(VLOOKUP(A3913,Formule!A:C,7,FALSE)),"",VLOOKUP(A3913,Formule!A:C,7,FALSE))

Sheet Formule
C1: Département
A2: =IF(ISNA(VLOOKUP(Informations!B$3&"_"&B2,Données!A1:C3913,1,FALSE)),"",VLOOKUP(Informations!B$3&"_"&B2,Données!A1:C3913,1,FALSE)) -> 92_1 | B2: 1 | C2: =IF(ISNA(VLOOKUP(Informations!B$3&"_"&B2,Données!A1:C3913,3,FALSE)),"",VLOOKUP(Informations!B$3&"_"&B2,Données!A1:C3913,3,FALSE)) -> HAUTS DE SEINE
A3: =IF(ISNA(VLOOKUP(Informations!B$3&"_"&B3,Données!A2:C3914,1,FALSE)),"",VLOOKUP(Informations!B$3&"_"&B3,Données!A2:C3914,1,FALSE)) -> 92_2 | B3: 2 | C3: =IF(ISNA(VLOOKUP(Informations!B$3&"_"&B3,Données!A2:C3914,3,FALSE)),"",VLOOKUP(Informations!B$3&"_"&B3,Données!A2:C3914,3,FALSE)) -> HAUTS DE SEINE
A4: =IF(ISNA(VLOOKUP(Informations!B$3&"_"&B4,Données!A3:C3915,1,FALSE)),"",VLOOKUP(Informations!B$3&"_"&B4,Données!A3:C3915,1,FALSE)) -> 92_3 | B4: 3 | C4: =IF(ISNA(VLOOKUP(Informations!B$3&"_"&B4,Données!A3:C3915,3,FALSE)),"",VLOOKUP(Informations!B$3&"_"&B4,Données!A3:C3915,3,FALSE)) -> HAUTS DE SEINE
A5: =IF(ISNA(VLOOKUP(Informations!B$3&"_"&B5,Données!A4:C3916,1,FALSE)),"",VLOOKUP(Informations!B$3&"_"&B5,Données!A4:C3916,1,FALSE)) -> 92_4 | B5: 4 | C5: =IF(ISNA(VLOOKUP(Informations!B$3&"_"&B5,Données!A4:C3916,3,FALSE)),"",VLOOKUP(Informations!B$3&"_"&B5,Données!A4:C3916,3,FALSE)) -> HAUTS DE SEINE
A6: =IF(ISNA(VLOOKUP(Informations!B$3&"_"&B6,Données!A5:C3917,1,FALSE)),"",VLOOKUP(Informations!B$3&"_"&B6,Données!A5:C3917,1,FALSE)) -> 92_5 | B6: 5 | C6: =IF(ISNA(VLOOKUP(Informations!B$3&"_"&B6,Données!A5:C3917,3,FALSE)),"",VLOOKUP(Informations!B$3&"_"&B6,Données!A5:C3917,3,FALSE)) -> HAUTS DE SEINE
A7: =IF(ISNA(VLOOKUP(Informations!B$3&"_"&B7,Données!A6:C3918,1,FALSE)),"",VLOOKUP(Informations!B$3&"_"&B7,Données!A6:C3918,1,FALSE)) -> 92_6 | B7: 6 | C7: =IF(ISNA(VLOOKUP(Informations!B$3&"_"&B7,Données!A6:C3918,3,FALSE)),"",VLOOKUP(Informations!B$3&"_"&B7,Données!A6:C3918,3,FALSE)) -> HAUTS DE SEINE
A8: =IF(ISNA(VLOOKUP(Informations!B$3&"_"&B8,Données!A7:C3919,1,FALSE)),"",VLOOKUP(Informations!B$3&"_"&B8,Données!A7:C3919,1,FALSE)) -> 92_7 | B8: 7 | C8: =IF(ISNA(VLOOKUP(Informations!B$3&"_"&B8,Données!A7:C3919,3,FALSE)),"",VLOOKUP(Informations!B$3&"_"&B8,Données!A7:C3919,3,FALSE)) -> HAUTS DE SEINE
A9: =IF(ISNA(VLOOKUP(Informations!B$3&"_"&B9,Données!A8:C3920,1,FALSE)),"",VLOOKUP(Informations!B$3&"_"&B9,Données!A8:C3920,1,FALSE)) -> 92_8 | B9: 8 | C9: =IF(ISNA(VLOOKUP(Informations!B$3&"_"&B9,Données!A8:C3920,3,FALSE)),"",VLOOKUP(Informations!B$3&"_"&B9,Données!A8:C3920,3,FALSE)) -> HAUTS DE SEINE
A10: =IF(ISNA(VLOOKUP(Informations!B$3&"_"&B10,Données!A9:C3921,1,FALSE)),"",VLOOKUP(Informations!B$3&"_"&B10,Données!A9:C3921,1,FALSE)) -> 92_9 | B10: 9 | C10: =IF(ISNA(VLOOKUP(Informations!B$3&"_"&B10,Données!A9:C3921,3,FALSE)),"",VLOOKUP(Informations!B$3&"_"&B10,Données!A9:C3921,3,FALSE)) -> HAUTS DE SEINE
A11: =IF(ISNA(VLOOKUP(Informations!B$3&"_"&B11,Données!A10:C3922,1,FALSE)),"",VLOOKUP(Informations!B$3&"_"&B11,Données!A10:C3922,1,FALSE)) -> 92_10 | B11: 10 | C11: =IF(ISNA(VLOOKUP(Informations!B$3&"_"&B11,Données!A10:C3922,3,FALSE)),"",VLOOKUP(Informations!B$3&"_"&B11,Données!A10:C3922,3,FALSE)) -> HAUTS DE SEINE
A12: =IF(ISNA(VLOOKUP(Informations!B$3&"_"&B12,Données!A11:C3923,1,FALSE)),"",VLOOKUP(Informations!B$3&"_"&B12,Données!A11:C3923,1,FALSE)) -> 92_11 | B12: 11 | C12: =IF(ISNA(VLOOKUP(Informations!B$3&"_"&B12,Données!A11:C3923,3,FALSE)),"",VLOOKUP(Informations!B$3&"_"&B12,Données!A11:C3923,3,FALSE)) -> HAUTS DE SEINE
A13: =IF(ISNA(VLOOKUP(Informations!B$3&"_"&B13,Données!A12:C3924,1,FALSE)),"",VLOOKUP(Informations!B$3&"_"&B13,Données!A12:C3924,1,FALSE)) -> 92_12 | B13: 12 | C13: =IF(ISNA(VLOOKUP(Informations!B$3&"_"&B13,Données!A12:C3924,3,FALSE)),"",VLOOKUP(Informations!B$3&"_"&B13,Données!A12:C3924,3,FALSE)) -> HAUTS DE SEINE
... A46: =IF(ISNA(VLOOKUP(Informations!B$3&"_"&B46,Données!A45:C3957,1,FALSE)),"",VLOOKUP(Informations!B$3&"_"&B46,Données!A45:C3957,1,FALSE)) -> 92_45 | B46: 45 | C46: =IF(ISNA(VLOOKUP(Informations!B$3&"_"&B46,Données!A45:C3957,3,FALSE)),"",VLOOKUP(Informations!B$3&"_"&B46,Données!A45:C3957,3,FALSE)) -> HAUTS DE SEINE
A47: =IF(ISNA(VLOOKUP(Informations!B$3&"_"&B47,Données!A46:C3958,1,FALSE)),"",VLOOKUP(Informations!B$3&"_"&B47,Données!A46:C3958,1,FALSE)) | C47: =IF(ISNA(VLOOKUP(Informations!B$3&"_"&B47,Données!A46:C3958,3,FALSE)),"",VLOOKUP(Informations!B$3&"_"&B47,Données!A46:C3958,3,FALSE))
A48: =IF(ISNA(VLOOKUP(Informations!B$3&"_"&B48,Données!A47:C3959,1,FALSE)),"",VLOOKUP(Informations!B$3&"_"&B48,Données!A47:C3959,1,FALSE)) | C48: =IF(ISNA(VLOOKUP(Informations!B$3&"_"&B48,Données!A47:C3959,3,FALSE)),"",VLOOKUP(Informations!B$3&"_"&B48,Données!A47:C3959,3,FALSE))
A49: =IF(ISNA(VLOOKUP(Informations!B$3&"_"&B49,Données!A48:C3960,1,FALSE)),"",VLOOKUP(Informations!B$3&"_"&B49,Données!A48:C3960,1,FALSE)) | C49: =IF(ISNA(VLOOKUP(Informations!B$3&"_"&B49,Données!A48:C3960,3,FALSE)),"",VLOOKUP(Informations!B$3&"_"&B49,Données!A48:C3960,3,FALSE))
A50: =IF(ISNA(VLOOKUP(Informations!B$3&"_"&B50,Données!A49:C3961,1,FALSE)),"",VLOOKUP(Informations!B$3&"_"&B50,Données!A49:C3961,1,FALSE)) | C50: =IF(ISNA(VLOOKUP(Informations!B$3&"_"&B50,Données!A49:C3961,3,FALSE)),"",VLOOKUP(Informations!B$3&"_"&B50,Données!A49:C3961,3,FALSE))
A51: =IF(ISNA(VLOOKUP(Informations!B$3&"_"&B51,Données!A50:C3962,1,FALSE)),"",VLOOKUP(Informations!B$3&"_"&B51,Données!A50:C3962,1,FALSE)) | C51: =IF(ISNA(VLOOKUP(Informations!B$3&"_"&B51,Données!A50:C3962,3,FALSE)),"",VLOOKUP(Informations!B$3&"_"&B51,Données!A50:C3962,3,FALSE))
A52: =IF(ISNA(VLOOKUP(Informations!B$3&"_"&B52,Données!A51:C3963,1,FALSE)),"",VLOOKUP(Informations!B$3&"_"&B52,Données!A51:C3963,1,FALSE)) | C52: =IF(ISNA(VLOOKUP(Informations!B$3&"_"&B52,Données!A51:C3963,3,FALSE)),"",VLOOKUP(Informations!B$3&"_"&B52,Données!A51:C3963,3,FALSE))
A53: =IF(ISNA(VLOOKUP(Informations!B$3&"_"&B53,Données!A52:C3964,1,FALSE)),"",VLOOKUP(Informations!B$3&"_"&B53,Données!A52:C3964,1,FALSE)) | C53: =IF(ISNA(VLOOKUP(Informations!B$3&"_"&B53,Données!A52:C3964,3,FALSE)),"",VLOOKUP(Informations!B$3&"_"&B53,Données!A52:C3964,3,FALSE))
A54: =IF(ISNA(VLOOKUP(Informations!B$3&"_"&B54,Données!A53:C3965,1,FALSE)),"",VLOOKUP(Informations!B$3&"_"&B54,Données!A53:C3965,1,FALSE)) | C54: =IF(ISNA(VLOOKUP(Informations!B$3&"_"&B54,Données!A53:C3965,3,FALSE)),"",VLOOKUP(Informations!B$3&"_"&B54,Données!A53:C3965,3,FALSE))
A55: =IF(ISNA(VLOOKUP(Informations!B$3&"_"&B55,Données!A54:C3966,1,FALSE)),"",VLOOKUP(Informations!B$3&"_"&B55,Données!A54:C3966,1,FALSE)) | C55: =IF(ISNA(VLOOKUP(Informations!B$3&"_"&B55,Données!A54:C3966,3,FALSE)),"",VLOOKUP(Informations!B$3&"_"&B55,Données!A54:C3966,3,FALSE))
A56: =IF(ISNA(VLOOKUP(Informations!B$3&"_"&B56,Données!A55:C3967,1,FALSE)),"",VLOOKUP(Informations!B$3&"_"&B56,Données!A55:C3967,1,FALSE)) | C56: =IF(ISNA(VLOOKUP(Informations!B$3&"_"&B56,Données!A55:C3967,3,FALSE)),"",VLOOKUP(Informations!B$3&"_"&B56,Données!A55:C3967,3,FALSE))
A57: =IF(ISNA(VLOOKUP(Informations!B$3&"_"&B57,Données!A56:C3968,1,FALSE)),"",VLOOKUP(Informations!B$3&"_"&B57,Données!A56:C3968,1,FALSE)) | C57: =IF(ISNA(VLOOKUP(Informations!B$3&"_"&B57,Données!A56:C3968,3,FALSE)),"",VLOOKUP(Informations!B$3&"_"&B57,Données!A56:C3968,3,FALSE))
A58: =IF(ISNA(VLOOKUP(Informations!B$3&"_"&B58,Données!A57:C3969,1,FALSE)),"",VLOOKUP(Informations!B$3&"_"&B58,Données!A57:C3969,1,FALSE)) | C58: =IF(ISNA(VLOOKUP(Informations!B$3&"_"&B58,Données!A57:C3969,3,FALSE)),"",VLOOKUP(Informations!B$3&"_"&B58,Données!A57:C3969,3,FALSE))
... A102: =IF(ISNA(VLOOKUP(Informations!B$3&"_"&B102,Données!A101:C4013,1,FALSE)),"",VLOOKUP(Informations!B$3&"_"&B102,Données!A101:C4013,1,FALSE)) | C102: =IF(ISNA(VLOOKUP(Informations!B$3&"_"&B102,Données!A101:C4013,3,FALSE)),"",VLOOKUP(Informations!B$3&"_"&B102,Données!A101:C4013,3,FALSE))

Sheet Informations
A1: Numéro département
A3: Code: | B3: 92
A6: Département | B6: Information
A7: =Formule!C2 -> HAUTS DE SEINE
A8: =Formule!C3 -> HAUTS DE SEINE
A9: =Formule!C4 -> HAUTS DE SEINE
A10: =Formule!C5 -> HAUTS DE SEINE
A11: =Formule!C6 -> HAUTS DE SEINE
A12: =Formule!C7 -> HAUTS DE SEINE
A13: =Formule!C8 -> HAUTS DE SEINE
A14: =Formule!C9 -> HAUTS DE SEINE
A15: =Formule!C10 -> HAUTS DE SEINE
A16: =Formule!C11 -> HAUTS DE SEINE
A17: =Formule!C12 -> HAUTS DE SEINE
A18: =Formule!C13 -> HAUTS DE SEINE
... A51: =Formule!C46 -> HAUTS DE SEINE
