Workbook
Name ___Deb1: #REF!
Name ___Deb2: #REF!
Name ___Fin1: #REF!
Name ___Fin2: #REF!
Name __Deb1: #REF!
Name __Deb2: #REF!
Name __Fin1: #REF!
Name __Fin2: #REF!
Name _Deb1: #REF!
Name _Deb2: #REF!
Name _Fin1: #REF!
Name _Fin2: #REF!
Name Annee: #REF!
Name ChargesSal_Dec: #REF!
Name ChargesSal_DecB: #REF!
Name ChargesSal_Jan: #REF!
Name ChargesSal_JanB: #REF!
Name CoutsDiv_Dec: #REF!
Name CoutsDiv_DecB: #REF!
Name CoutsDiv_Jan: #REF!
Name CoutsDiv_JanB: #REF!
Name Deb1B: #REF!
Name Deb2B: #REF!
Name FactLemo_Dec: #REF!
Name FactLemo_DecB: #REF!
Name FIN: '[1]Source machines'!$J$143
Name Fin1B: #REF!
Name Fin2B: #REF!
Name JoursFer_Dec: #REF!
Name JoursFer_DecB: #REF!
Name JoursFer_Jan: #REF!
Name JoursFer_JanB: #REF!
Name JoursPic_Dec: #REF!
Name JoursPic_DecB: #REF!
Name JoursPic_Jan: #REF!
Name JoursPic_JanB: #REF!
Name JoursVac_Dec: #REF!
Name JoursVac_DecB: #REF!
Name JoursVac_Jan: #REF!
Name JoursVac_JanB: #REF!
Name TOTAL_L5: [2]Objectifs!$C$43

Sheet Groupes Décolletage
M2: FORMULAIRE
M3: FO-L5-030_03-fr
A5: Définition des groupes de travail Décolletage
A7: Processus: Décolletage | H7: Date de mise à jour : | I7: 42702 | M7: Langue: fr
A9: Groupe 1 | B9: Cames | C9: C/C | E9: MCH | G9: Nbre | H9: TOT | J9: Remarques
A10: Tornos M7 simple | C10: D000 | D10: 01 | E10: à | F10: 03 | G10: 3
A11: Tornos M7 arrêtage | C11: D005 | D11: 01 | E11: à | F11: 7 | G11: 7
A12: M7 trans. + trou latér. | C12: D016 | D12: 01 | E12: à | F12: 14 | G12: 14
A13: MS7+ trans.+ arrêt. | C13: D030 | D13: 01 | E13: à | F13: 03 | G13: 3
A14: R10 simple | C14: D050 | D14: 01 | E14: à | F14: 2 | G14: 2 | H14: =SUM(G10:G14) -> 29
A17: Groupe 2 | B17: Tours CNC | C17: C/C | E17: MCH | G17: Nbre | H17: TOT | J17: Remarques
A18: Tornos MS7 CNC | C18: D500 | D18: 01 | G18: 1
A19: Tornos R10 CNC | C19: D505 | D19: 01 | G19: 1
A20: Tsugami NP11 CNC | C20: D510 | D20: 01 | E20: à | F20: 02 | G20: 2
A21: Tsugami 17CNC | C21: D550 | D21: 01 | G21: 1 | H21: =SUM(G17:G21) -> 5
A24: Groupe 3 | B24: Delta | C24: C/C | E24: MCH | G24: Nbre | H24: TOT | J24: Remarques
A25: Tornos Delta 12/5 II CE | C25: D512 | D25: 01 | E25: à | F25: 05 | G25: 5 | H25: =SUM(G25) -> 5
A28: Groupe 4 | B28: MULTI Cames | C28: C/C | E28: MCH | G28: Nbre | H28: TOT | J28: Remarques
A29: SAS 16 multibroches | C29: D300 | D29: 01 | E29: à | F29: 05 | G29: 5
A30: SAS 16 multibroches + chariot. cnc | C30: D300 | D30: 06 | E30: à | F30: 07 | G30: 2
A31: AS 14 multibroches + chariot. cnc | C31: D300 | D31: 08 | G31: 1
A32: Tornos BS20 | C32: D302 | D32: 01 | G32: 1 | H32: =SUM(G29:G32) -> 9
A35: Groupe 5 | B35: MULTI CNC | C35: C/C | E35: MCH | G35: Nbre | H35: TOT | J35: Remarques
A36: Multideco 20/6b | C36: D305 | D36: 01 | E36: à | F36: 03 | G36: 3
A37: MultiAlpha 20/8 | C37: D310 | D37: 01 | E37: à | F37: 02 | G37: 2
A38: MultiAlpha 20/8 | C38: D311 | D38: 01 | G38: 1 | H38: =SUM(G36:G38) -> 6
A41: Groupe 6 | B41: DECO 10 | C41: C/C | E41: MCH | G41: Nbre | H41: TOT | J41: Remarques
A42: DECO 2000.10 PNC | C42: D610 | D42: 01 | E42: à | F42: 15 | G42: 15
A43: EvoDECO 10 ISO | C43: D611 | D43: 01 | E43: à | F43: 02 | G43: 2
A44: DECO 2000.10 PNC (TF/TK) | C44: D612 | D44: 01 | E44: à | F44: 03 | G44: 3 | H44: =SUM(G42:G44) -> 20
A47: Groupe 7 | B47: DECO 20 | C47: C/C | E47: MCH | G47: Nbre | H47: TOT | J47: Remarques
A48: DECO 2000.13a PNC | C48: D613 | D48: 01 | E48: à | F48: 05 | G48: 5
A49: DECO 2000.20a PNC | C49: D620 | D49: 01 | E49: à | F49: 08 | G49: 8
A50: DECO 2000.26a PNC | C50: D626 | D50: 01 | E50: à | F50: 02 | G50: 2 | H50: =SUM(G48:G50) -> 15
A53: Groupe 8 | B53: DECO SIGMA | C53: C/C | E53: MCH | G53: Nbre | H53: TOT | J53: Remarques
A54: DECO Sigma 20 | C54: D621 | D54: 01 | E54: à | F54: 12 | G54: 12
A55: DECO Sigma 32 | C55: D633 | D55: 01 | G55: 1 | H55: =SUM(G54:G55) -> 13
A58: TOTAL DECOLLETAGE: | H58: =SUM(H10:H56) -> 102
A64: Etabli par: Resp. Décolletage | H64: Visa: pera | L64: Date: | M64: 42702

Sheet OS
A1: Résumé HC semaine : | F1: 3 | I1: TRS
E2: OBJ. HEBDO | J2: MY/Jour | L2: MY/Jour | N2: MY/Jour
A3: OBJECTIFS : | D3: HC | E3: 5080 | G3: CUMUL | J3: 6784 | L3: =IF(ISERROR(J3/E3*B5),"- - -",IF(J3/E3*B5=0,9999.9,J3/E3*B5)) -> 6.6771654 | M3: Ress. | N3: 60 | P3: Objectif Journaler : | Q3: =E3/B5 -> 1016
J4: HC | Q4: Obj. Jour | R4: HC Cum | S4: Obj. Cum
A5: Jours dans la semaine | B5: 5 | D5: Lu | G5: =E5 -> 0 | J5: 3000 | L5: =IF(ISERROR(J5/E5),"",J5/E5) | P5: Lundi | Q5: =$Q$3 -> 1016 | R5: =G5 -> 0 | S5: =$Q$3*T5 -> 1016 | T5: 1
D6: Ma | G6: =IF(E6="","",G5+E6) | L6: =IF(ISERROR(J6/E6),"",J6/E6) | P6: Mardi | Q6: =$Q$3 -> 1016 | R6: =G6 | S6: =$Q$3*T6 -> 2032 | T6: 2
D7: Me | G7: =IF(E7="","",G6+E7) | L7: =IF(ISERROR(J7/E7),"",J7/E7) | P7: Mercredi | Q7: =$Q$3 -> 1016 | R7: =G7 | S7: =$Q$3*T7 -> 3048 | T7: 3
D8: Je | G8: =IF(E8="","",G7+E8) | L8: =IF(ISERROR(J8/E8),"",J8/E8) | P8: Jeudi | Q8: =$Q$3 -> 1016 | R8: =G8 | S8: =$Q$3*T8 -> 4064 | T8: 4
D9: Ve | G9: =IF(E9="","",G8+E9) | L9: =IF(ISERROR(J9/E9),"",J9/E9) | P9: Vendredi | Q9: =$Q$3 -> 1016 | R9: =G9 | S9: =$Q$3*T9 -> 5080 | T9: 5
D10: Sa | G10: =IF(E10="","",G9+E10) | L10: =IF(ISERROR(J10/E10),"---",J10/E10) -> --- | P10: Samedi | Q10: =$Q$3 -> 1016 | R10: =G10 | S10: =E3 -> 5080 | T10: 6
D11: Di | G11: =IF(E11="","",G10+E11) | L11: =IF(ISERROR(J11/E11),"---",J11/E11) -> --- | P11: Dimanche | Q11: =$Q$3 -> 1016 | R11: =G11 | S11: =S10 -> 5080 | T11: 7
A13: OBJECTIFS Semaine suivante | B13: 5 | D13: HC | E13: 5185 | I13: HC | J13: 3000 | L13: =IF(ISERROR(J13/E13*B13),"- - -",IF(J13/E13*B13=0,9999.9,J13/E13*B13)) -> 2.8929605 | M13: Ress. | N13: 60
A35: La mesure est indispensable à la connaissance et au progrès.
A36: Mesurer, c'est connaître et pouvoir maîtriser.
A37: Mesurer, c'est aussi traduire une perception ou des impressions vagues en grandeurs concrètes.

Sheet MATRICE
A1: CDC | B1: Groupe | C1: Equipe | D1: HRS | E1: Coefficient | F1: Heures TRS | I1: DECOLLETAGE
A2: L5D000 | B2: DG1 | C2: 2 | D2: =C2*$L$2 -> 16 | E2: 0.8 | F2: =(D2*E2)/$M$2 -> 12.8 | G2: Tornos M7 simple | I2: Heures journalières par Equipe | L2: 8 | M2: 1 | N2: =SUM(F2:F29) -> 421.6 | O2: Heures
A3: L5D005 | B3: DG1 | C3: 2 | D3: =C3*$L$2 -> 16 | E3: 0.8 | F3: =(D3*E3)/$M$2 -> 12.8 | G3: Tornos M7 arrêtage
A4: L5D016 | B4: DG1 | C4: 2 | D4: =C4*$L$2 -> 16 | E4: 0.8 | F4: =(D4*E4)/$M$2 -> 12.8 | G4: M7 trans. + trou latér.
A5: L5D030 | B5: DG1 | C5: 2 | D5: =C5*$L$2 -> 16 | E5: 0.8 | F5: =(D5*E5)/$M$2 -> 12.8 | G5: MS7+ trans.+ arrêt.
A6: L5D300 | B6: DG4 | C6: 2 | D6: =C6*$L$2 -> 16 | E6: 0.75 | F6: =(D6*E6)/$M$2 -> 12 | G6: AS / SAS 16 multibroches
A7: L5D302 | B7: DG4 | C7: 2 | D7: =C7*$L$2 -> 16 | E7: 0.75 | F7: =(D7*E7)/$M$2 -> 12 | G7: Tornos BS20
A8: L5D305 | B8: DG5 | C8: 3 | D8: =C8*$L$2 -> 24 | E8: 0.8 | F8: =(D8*E8)/$M$2 -> 19.2 | G8: Multideco 20/6b
A9: L5D310 | B9: DG5 | C9: 3 | D9: =C9*$L$2 -> 24 | E9: 0.8 | F9: =(D9*E9)/$M$2 -> 19.2 | G9: MultiAlpha 20/8
A10: L5D311 | B10: DG5 | C10: 3 | D10: =C10*$L$2 -> 24 | E10: 0.8 | F10: =(D10*E10)/$M$2 -> 19.2 | G10: MultiAlpha 20/8
A11: L5D316 | B11: DG5 | C11: 3 | D11: =C11*$L$2 -> 24 | E11: 0.8 | F11: =(D11*E11)/$M$2 -> 19.2 | G11: INDEX MS16C
A12: L5D317 | B12: DG5 | C12: 3 | D12: =C12*$L$2 -> 24 | E12: 0.8 | F12: =(D12*E12)/$M$2 -> 19.2 | G12: INDEX MS16C Plus
A13: L5D322 | B13: DG5 | C13: 3 | D13: =C13*$L$2 -> 24 | E13: 0.8 | F13: =(D13*E13)/$M$2 -> 19.2 | G13: INDEX MS22C-8
A14: L5D326 | B14: DG5 | C14: 3 | D14: =C14*$L$2 -> 24 | E14: 0.8 | F14: =(D14*E14)/$M$2 -> 19.2 | G14: TORNOS MultiSwiss 8x26
... A104: L5X000 | B104: EG1 | C104: 1 | D104: =C104*$L$2 -> 8 | E104: 0.8 | F104: =(D104*E104)/$M$2 -> 6.4 | G104: Emballage-Expedition

Sheet JOURS ANNUEL
A1: ANNEE | B1: JANVIER | C1: FÉVRIER | D1: MARS | E1: AVRIL | F1: MAI | G1: JUIN | H1: JUILLET | I1: AOÛT | J1: SEPTEMBRE | K1: OCTOBRE | L1: NOVEMBRE | M1: DÉCEMBRE
A2: 2019 | B2: 19 | C2: 20 | D2: 21 | E2: 20 | F2: 20 | G2: 17 | H2: 23 | I2: 18 | J2: 21 | K2: 23 | L2: 20 | M2: 15
A3: 2020 | B3: 20 | C3: 20 | D3: 22 | E3: 20 | F3: 18 | G3: 17 | H3: 23 | I3: 21 | J3: 22 | K3: 22 | L3: 21 | M3: 17

Sheet EXTRACTION
A1: 1 | C1: Jours ouvrés dans la sem. courante: | E1: 20
E2: PRODUCTION | M2: * | N2: Selon 36.2.6 (calendrier usine )
A3: Extraction Mensuelle
A4: JANVIER 2020 | P4: RENDEMENT | T4: EFFICACITE
E5: Temps effectifs (jalonnés) | H5: Temps alloués (gammés) | P5: (H. Tot / Capacité) | T5: (Alloué / Effectif)
A6: C/Chg. | B6: Description | C6: Mch | D6: Régl. | E6: H.Rég | F6: H.Fab | G6: H.Tot | H6: H.Rég | I6: H.Fab | J6: H.Tot | K6: Capa.Tot. | L6: Groupe | M6: Charge unit. * | N6: Capacité * | P6: Jalonné | Q6: Gammé | R6: Δ | T6: Rég | U6: Prod
A7: L5B000 | B7: Preparation du travail | C7: 1 | D7: 0 | E7: 0 | F7: 4 | G7: 4 | H7: 0 | I7: 0 | J7: 0 | K7: 600 | L7: =IF(A7="","",INDEX(MATRICE!$B$2:$B$104,MATCH(EXTRACTION!A7,MATRICE!$A$2:$A$104,0))) -> MG1 | M7: =IF(A7="","",VLOOKUP(A7, MATRICE!A$2:G$104, 4)) -> #N/A | N7: =IF(M7="","",(M7*C7)*$E$1) -> #N/A | P7: =IF(G7="","",G7/N7) -> #N/A | Q7: =IF(J7="","",J7/N7) -> #N/A | R7: =IF(Q7="","",Q7-P7) -> #N/A | T7: =IF(E7="","",IF(E7=0,"",H7/E7)) | U7: =IF(F7="","",IF(F7=0,"",I7/F7)) -> 0
A8: L5C000 | B8: Controle du lot | C8: 1 | D8: 0 | E8: 0 | F8: 0 | G8: 0 | H8: 0 | I8: 0 | J8: 0 | K8: 141 | L8: =IF(A8="","",INDEX(MATRICE!$B$2:$B$104,MATCH(EXTRACTION!A8,MATRICE!$A$2:$A$104,0))) -> QG1 | M8: =IF(A8="","",VLOOKUP(A8, MATRICE!A$2:G$104, 4)) -> #N/A | N8: =IF(M8="","",(M8*C8)*$E$1) -> #N/A | P8: =IF(G8="","",G8/N8) -> #N/A | Q8: =IF(J8="","",J8/N8) -> #N/A | R8: =IF(Q8="","",Q8-P8) -> #N/A | T8: =IF(E8="","",IF(E8=0,"",H8/E8)) | U8: =IF(F8="","",IF(F8=0,"",I8/F8))
A9: L5C100 | B9: Controle metrologie | C9: 0 | D9: 0 | E9: 0 | F9: 0 | G9: 0 | H9: 0 | I9: 24 | J9: 24 | K9: 0 | L9: =IF(A9="","",INDEX(MATRICE!$B$2:$B$104,MATCH(EXTRACTION!A9,MATRICE!$A$2:$A$104,0))) -> QG1 | M9: =IF(A9="","",VLOOKUP(A9, MATRICE!A$2:G$104, 4)) -> #N/A | N9: =IF(M9="","",(M9*C9)*$E$1) -> #N/A | P9: =IF(G9="","",G9/N9) -> #N/A | Q9: =IF(J9="","",J9/N9) -> #N/A | R9: =IF(Q9="","",Q9-P9) -> #N/A | T9: =IF(E9="","",IF(E9=0,"",H9/E9)) | U9: =IF(F9="","",IF(F9=0,"",I9/F9))
A10: L5CAQP | B10: Assurance qualite | C10: 1 | D10: 0 | E10: 0 | F10: 0 | G10: 0 | H10: 0 | I10: 0 | J10: 0 | K10: 136 | L10: =IF(A10="","",INDEX(MATRICE!$B$2:$B$104,MATCH(EXTRACTION!A10,MATRICE!$A$2:$A$104,0))) -> QG1 | M10: =IF(A10="","",VLOOKUP(A10, MATRICE!A$2:G$104, 4)) -> #N/A | N10: =IF(M10="","",(M10*C10)*$E$1) -> #N/A | P10: =IF(G10="","",G10/N10) -> #N/A | Q10: =IF(J10="","",J10/N10) -> #N/A | R10: =IF(Q10="","",Q10-P10) -> #N/A | T10: =IF(E10="","",IF(E10=0,"",H10/E10)) | U10: =IF(F10="","",IF(F10=0,"",I10/F10))
A11: L5CD00 | B11: Controle lot-Decolletage | C11: 1 | D11: 0 | E11: 0 | F11: 0 | G11: 0 | H11: 0 | I11: 0 | J11: 0 | K11: 136 | L11: =IF(A11="","",INDEX(MATRICE!$B$2:$B$104,MATCH(EXTRACTION!A11,MATRICE!$A$2:$A$104,0))) -> QG1 | M11: =IF(A11="","",VLOOKUP(A11, MATRICE!A$2:G$104, 4)) -> #N/A | N11: =IF(M11="","",(M11*C11)*$E$1) -> #N/A | P11: =IF(G11="","",G11/N11) -> #N/A | Q11: =IF(J11="","",J11/N11) -> #N/A | R11: =IF(Q11="","",Q11-P11) -> #N/A | T11: =IF(E11="","",IF(E11=0,"",H11/E11)) | U11: =IF(F11="","",IF(F11=0,"",I11/F11))
A12: L5CE00 | B12: Controle reception | C12: 1 | D12: 0 | E12: 0 | F12: 0 | G12: 0 | H12: 0 | I12: 0 | J12: 0 | K12: 136 | L12: =IF(A12="","",INDEX(MATRICE!$B$2:$B$104,MATCH(EXTRACTION!A12,MATRICE!$A$2:$A$104,0))) -> QG1 | M12: =IF(A12="","",VLOOKUP(A12, MATRICE!A$2:G$104, 4)) -> #N/A | N12: =IF(M12="","",(M12*C12)*$E$1) -> #N/A | P12: =IF(G12="","",G12/N12) -> #N/A | Q12: =IF(J12="","",J12/N12) -> #N/A | R12: =IF(Q12="","",Q12-P12) -> #N/A | T12: =IF(E12="","",IF(E12=0,"",H12/E12)) | U12: =IF(F12="","",IF(F12=0,"",I12/F12))
A13: L5CF00 | B13: Controle final | C13: 1 | D13: 0 | E13: 0 | F13: 0 | G13: 0 | H13: 0 | I13: 0 | J13: 0 | K13: 136 | L13: =IF(A13="","",INDEX(MATRICE!$B$2:$B$104,MATCH(EXTRACTION!A13,MATRICE!$A$2:$A$104,0))) -> QG1 | M13: =IF(A13="","",VLOOKUP(A13, MATRICE!A$2:G$104, 4)) -> #N/A | N13: =IF(M13="","",(M13*C13)*$E$1) -> #N/A | P13: =IF(G13="","",G13/N13) -> #N/A | Q13: =IF(J13="","",J13/N13) -> #N/A | R13: =IF(Q13="","",Q13-P13) -> #N/A | T13: =IF(E13="","",IF(E13=0,"",H13/E13)) | U13: =IF(F13="","",IF(F13=0,"",I13/F13))
A14: L5CQ99 | B14: Contr.recept-S/t | C14: 1 | D14: 0 | E14: 0 | F14: 0 | G14: 0 | H14: 0 | I14: 0 | J14: 0 | K14: 136 | L14: =IF(A14="","",INDEX(MATRICE!$B$2:$B$104,MATCH(EXTRACTION!A14,MATRICE!$A$2:$A$104,0))) -> QG1 | M14: =IF(A14="","",VLOOKUP(A14, MATRICE!A$2:G$104, 4)) -> #N/A | N14: =IF(M14="","",(M14*C14)*$E$1) -> #N/A | P14: =IF(G14="","",G14/N14) -> #N/A | Q14: =IF(J14="","",J14/N14) -> #N/A | R14: =IF(Q14="","",Q14-P14) -> #N/A | T14: =IF(E14="","",IF(E14=0,"",H14/E14)) | U14: =IF(F14="","",IF(F14=0,"",I14/F14))
A15: L5CR00 | B15: Controle lot-Reprise | C15: 1 | D15: 0 | E15: 0 | F15: 0 | G15: 0 | H15: 0 | I15: 0 | J15: 0 | K15: 136 | L15: =IF(A15="","",INDEX(MATRICE!$B$2:$B$104,MATCH(EXTRACTION!A15,MATRICE!$A$2:$A$104,0))) -> QG1 | M15: =IF(A15="","",VLOOKUP(A15, MATRICE!A$2:G$104, 4)) -> #N/A | N15: =IF(M15="","",(M15*C15)*$E$1) -> #N/A | P15: =IF(G15="","",G15/N15) -> #N/A | Q15: =IF(J15="","",J15/N15) -> #N/A | R15: =IF(Q15="","",Q15-P15) -> #N/A | T15: =IF(E15="","",IF(E15=0,"",H15/E15)) | U15: =IF(F15="","",IF(F15=0,"",I15/F15))
A16: L5D000 | B16: M7 simple | C16: 5 | D16: 18 | E16: 62 | F16: 1171 | G16: 1233 | H16: 108 | I16: 1082 | J16: 1190 | K16: 680 | L16: =IF(A16="","",INDEX(MATRICE!$B$2:$B$104,MATCH(EXTRACTION!A16,MATRICE!$A$2:$A$104,0))) -> DG1 | M16: =IF(A16="","",VLOOKUP(A16, MATRICE!A$2:G$104, 4)) -> 16 | N16: =IF(M16="","",(M16*C16)*$E$1) -> 1600 | P16: =IF(G16="","",G16/N16) -> 0.770625 | Q16: =IF(J16="","",J16/N16) -> 0.74375 | R16: =IF(Q16="","",Q16-P16) -> -0.026875 | T16: =IF(E16="","",IF(E16=0,"",H16/E16)) -> 1.7419355 | U16: =IF(F16="","",IF(F16=0,"",I16/F16)) -> 0.92399658
A17: L5D005 | B17: M7/AR7+arretage simple | C17: 7 | D17: 16 | E17: 75 | F17: 1546 | G17: 1622 | H17: 112 | I17: 1846 | J17: 1958 | K17: 952 | L17: =IF(A17="","",INDEX(MATRICE!$B$2:$B$104,MATCH(EXTRACTION!A17,MATRICE!$A$2:$A$104,0))) -> DG1 | M17: =IF(A17="","",VLOOKUP(A17, MATRICE!A$2:G$104, 4)) -> 16 | N17: =IF(M17="","",(M17*C17)*$E$1) -> 2240 | P17: =IF(G17="","",G17/N17) -> 0.72410714 | Q17: =IF(J17="","",J17/N17) -> 0.87410714 | R17: =IF(Q17="","",Q17-P17) -> 0.15 | T17: =IF(E17="","",IF(E17=0,"",H17/E17)) -> 1.4933333 | U17: =IF(F17="","",IF(F17=0,"",I17/F17)) -> 1.1940492
A18: L5D016 | B18: M7/AR10+trans.+tr/later. | C18: 10 | D18: 25 | E18: 141 | F18: 1747 | G18: 1887 | H18: 200 | I18: 1613 | J18: 1813 | K18: 1360 | L18: =IF(A18="","",INDEX(MATRICE!$B$2:$B$104,MATCH(EXTRACTION!A18,MATRICE!$A$2:$A$104,0))) -> DG1 | M18: =IF(A18="","",VLOOKUP(A18, MATRICE!A$2:G$104, 4)) -> 16 | N18: =IF(M18="","",(M18*C18)*$E$1) -> 3200 | P18: =IF(G18="","",G18/N18) -> 0.5896875 | Q18: =IF(J18="","",J18/N18) -> 0.5665625 | R18: =IF(Q18="","",Q18-P18) -> -0.023125 | T18: =IF(E18="","",IF(E18=0,"",H18/E18)) -> 1.4184397 | U18: =IF(F18="","",IF(F18=0,"",I18/F18)) -> 0.92329708
... A84: L5X000 | B84: Emballage-Expedition | C84: 1 | D84: 0 | E84: 0 | F84: 0 | G84: 0 | H84: 0 | I84: 0 | J84: 0 | K84: 141 | L84: =IF(A84="","",INDEX(MATRICE!$B$2:$B$104,MATCH(EXTRACTION!A84,MATRICE!$A$2:$A$104,0))) -> EG1 | M84: =IF(A84="","",VLOOKUP(A84, MATRICE!A$2:G$104, 4)) -> 8 | N84: =IF(M84="","",(M84*C84)*$E$1) -> 160 | P84: =IF(G84="","",G84/N84) -> 0 | Q84: =IF(J84="","",J84/N84) -> 0 | R84: =IF(Q84="","",Q84-P84) -> 0 | T84: =IF(E84="","",IF(E84=0,"",H84/E84)) | U84: =IF(F84="","",IF(F84=0,"",I84/F84))
L85: =IF(A85="","",INDEX(MATRICE!$B$2:$B$104,MATCH(EXTRACTION!A85,MATRICE!$A$2:$A$104,0))) | M85: =IF(A85="","",VLOOKUP(A85, MATRICE!A$2:G$104, 4)) | N85: =IF(M85="","",(M85*C85)*$E$1) | P85: =IF(G85="","",G85/N85) | Q85: =IF(J85="","",J85/N85) | R85: =IF(Q85="","",Q85-P85) | T85: =IF(E85="","",IF(E85=0,"",H85/E85)) | U85: =IF(F85="","",IF(F85=0,"",I85/F85))
L86: =IF(A86="","",INDEX(MATRICE!$B$2:$B$104,MATCH(EXTRACTION!A86,MATRICE!$A$2:$A$104,0))) | M86: =IF(A86="","",VLOOKUP(A86, MATRICE!A$2:G$104, 4)) | N86: =IF(M86="","",(M86*C86)*$E$1) | P86: =IF(G86="","",G86/N86) | Q86: =IF(J86="","",J86/N86) | R86: =IF(Q86="","",Q86-P86) | T86: =IF(E86="","",IF(E86=0,"",H86/E86)) | U86: =IF(F86="","",IF(F86=0,"",I86/F86))
L87: =IF(A87="","",INDEX(MATRICE!$B$2:$B$104,MATCH(EXTRACTION!A87,MATRICE!$A$2:$A$104,0))) | M87: =IF(A87="","",VLOOKUP(A87, MATRICE!A$2:G$104, 4)) | N87: =IF(M87="","",(M87*C87)*$E$1) | P87: =IF(G87="","",G87/N87) | Q87: =IF(J87="","",J87/N87) | R87: =IF(Q87="","",Q87-P87) | T87: =IF(E87="","",IF(E87=0,"",H87/E87)) | U87: =IF(F87="","",IF(F87=0,"",I87/F87))
L88: =IF(A88="","",INDEX(MATRICE!$B$2:$B$104,MATCH(EXTRACTION!A88,MATRICE!$A$2:$A$104,0))) | M88: =IF(A88="","",VLOOKUP(A88, MATRICE!A$2:G$104, 4)) | N88: =IF(M88="","",(M88*C88)*$E$1) | P88: =IF(G88="","",G88/N88) | Q88: =IF(J88="","",J88/N88) | R88: =IF(Q88="","",Q88-P88) | T88: =IF(E88="","",IF(E88=0,"",H88/E88)) | U88: =IF(F88="","",IF(F88=0,"",I88/F88))
L89: =IF(A89="","",INDEX(MATRICE!$B$2:$B$104,MATCH(EXTRACTION!A89,MATRICE!$A$2:$A$104,0))) | M89: =IF(A89="","",VLOOKUP(A89, MATRICE!A$2:G$104, 4)) | N89: =IF(M89="","",(M89*C89)*$E$1) | P89: =IF(G89="","",G89/N89) | Q89: =IF(J89="","",J89/N89) | R89: =IF(Q89="","",Q89-P89) | T89: =IF(E89="","",IF(E89=0,"",H89/E89)) | U89: =IF(F89="","",IF(F89=0,"",I89/F89))
L90: =IF(A90="","",INDEX(MATRICE!$B$2:$B$104,MATCH(EXTRACTION!A90,MATRICE!$A$2:$A$104,0))) | M90: =IF(A90="","",VLOOKUP(A90, MATRICE!A$2:G$104, 4)) | N90: =IF(M90="","",(M90*C90)*$E$1) | P90: =IF(G90="","",G90/N90) | Q90: =IF(J90="","",J90/N90) | R90: =IF(Q90="","",Q90-P90) | T90: =IF(E90="","",IF(E90=0,"",H90/E90)) | U90: =IF(F90="","",IF(F90=0,"",I90/F90))
B91: TOTAUX | C91: =SUM(C7:C90) -> 231 | D91: =SUM(D7:D90) -> 1149 | E91: =SUM(E7:E90) -> 2439 | F91: =SUM(F7:F90) -> 41134 | G91: =SUM(G7:G90) -> 43575 | H91: =SUM(H7:H90) -> 3280 | I91: =SUM(I7:I90) -> 36871 | J91: =SUM(J7:J90) -> 40143 | K91: =SUM(K7:K90) -> 41906 | M91: =SUM(M7:M90) -> #N/A | N91: =SUM(N7:N90) -> #N/A | P91: =AVERAGE(P7:P90) -> #N/A | Q91: =AVERAGE(Q7:Q90) -> #N/A | R91: =IF(Q91="","",Q91-P91) -> #N/A | T91: =IF(E91="","",IF(E91=0,"",H91/E91)) -> 1.3448134 | U91: =IF(F91="","",IF(F91=0,"",I91/F91)) -> 0.89636311
A93: Commentaires généraux :
