Workbook

Sheet Devis
C4: Tour Leader
C5: Responsable Logistique
B14: DEVIS | E14: Devis adressé à
B15: N° Devis | D15: Date
B16: DV | D16: =TODAY() -> 43937 | E16: =IFERROR(VLOOKUP(E15,Clients!A2:B14,2,0),"")
E17: =IFERROR(VLOOKUP(E15,Clients!A2:C14,3,0),"")
B19: Mode de paiement | D19: Virement | F19: Date d'échéance: | G19: =D16+30 -> 43967
F20: Code opération:
F21: Date opération:
B24: Description | E24: Qté | F24: Prix unitaire | G24: Prix total
B25: Article #1 | E25: 1 | F25: 200 | G25: =product(E25,F25) -> 200
B26: Article #2 | E26: 2 | F26: 200 | G26: =product(E26,F26) -> 400
G27: =product(E27,F27) -> 0
G28: =product(E28,F28) -> 0
G29: =product(E29,F29) -> 0
F34: Sous-total | G34: =SUM(G25:G32) -> 600
F35: - | G35: =IF(F35="TVA 20%",G34*20/100,0) -> 0
F36: TTC | G36: =SUM(G34:G35) -> 600
B39: En cas d’annulation de la prestation par le Client après son acceptation par le Prestataire, pour quelque raison que ce soit hormis la force majeure, un pourcentage de la facture totale sera acquis au Prestataire (comme mentionné ci dessous), à titre de dommages et intérêts, en réparation du préjudice ainsi subi et de l'incapacité de retrouver un contrat dans le délais imparti
B40: Annulation de la prestation à J-20 - 30% dus / J-15 - 35% dus / J-10 - 40% dus / J-5 - 100% dus
B41: Pénalités de retard de: 20 % - Escompte en cas de paiement anticipé de : 25%
B42: =IF(F35="-","TVA non applicable, art. 293-B du CGI","") -> TVA non applicable, art. 293-B du CGI
D44: Mention "Bon pour accord" suivi du tampon de l'entreprise ou signature du Client
E45: Bon pour accord

Sheet Facture
B14: FACTURE | E14: Facture adressée à
B15: N° Facture | D15: Date | E15: DOUBLE2
B16: =MAX('Archive Factures'!A:A)+1 -> 47 | D16: =TODAY() -> 43937 | E16: =IFERROR(VLOOKUP(E15,Clients!A2:B14,2,0),"") -> 25 rue de Prony
E17: =IFERROR(VLOOKUP(E15,Clients!A2:C14,3,0),"") -> 75017 Paris
B19: Mode de paiement | D19: Virement | F19: Date d'échéance: | G19: =D17+30 -> 30
F20: Code opération:
F21: Date opération:
B24: Description | E24: Qté | F24: Prix unitaire | G24: Prix total
B25: Prestation de services | E25: 2 | F25: 400 | G25: =F25*E25 -> 800
G26: =IF(E26<1,"",F26*E26)
G27: =IF(E27<1,"",F27*E27)
G28: =IF(E28<1,"",F28*E28)
G29: =IF(E29<1,"",F29*E29)
G30: =IF(E30<1,"",F30*E30)
G31: =IF(E31<1,"",F31*E31)
G32: =IF(E32<1,"",F32*E32)
F34: Sous-total | G34: =SUM(G25:G32) -> 800
F35: - | G35: =IF(F35="TVA 20%",G34*20/100,0) -> 0
F36: TTC | G36: =SUM(G34:G35) -> 800
B39: En cas d’annulation de la prestation par le Client après son acceptation par le Prestataire, pour quelque raison que ce soit hormis la force majeure, un pourcentage de la facture totale sera acquis au Prestataire (comme mentionné ci dessous), à titre de dommages et intérêts, en réparation du préjudice ainsi subi et de l'incapacité de retrouver un contrat dans le délais imparti
B40: Annulation de la prestation à J-20 - 30% dus / J-15 - 35% dus / J-10 - 40% dus / J-5 - 100% dus
B41: Pénalités de retard de: 20 % - Escompte en cas de paiement anticipé de : 25%
B42: =IF(F35="-","TVA non applicable, art. 293-B du CGI","") -> TVA non applicable, art. 293-B du CGI

Sheet Note de débours
B14: Note de débours | E14: Facture adressée à
B15: N° Débours | D15: Date
B16: DB | E16: =IFERROR(VLOOKUP(E15,Clients!A2:B14,2,0),"")
E17: =IFERROR(VLOOKUP(E15,Clients!A2:C14,3,0),"")
B19: Mode de paiement | D19: Virement | F19: Date d'échéance: | G19: 36785
F20: Code opération:
F21: Date opération:
B24: Description | E24: Qté | F24: Prix unitaire | G24: Prix total
B25: Article #1 | E25: 1 | F25: 200 | G25: =product(E25,F25) -> 200
B26: Article #2 | E26: 2 | F26: 200 | G26: =product(E26,F26) -> 400
G27: =product(E27,F27) -> 0
G28: =product(E28,F28) -> 0
G29: =product(E29,F29) -> 0
F34: Sous-total | G34: =SUM(G25:G32) -> 600
F35: - | G35: =IF(F35="TVA 20%",G34*20/100,0) -> 0
F36: TTC | G36: =SUM(G34:G35) -> 600
B39: Pénalités de retard de: 20 % - Escompte en cas de paiement anticipé de : 25%
B40: =IF(F35="-","TVA non applicable, art. 293-B du CGI","") -> TVA non applicable, art. 293-B du CGI
B41: =IF(F33="-","TVA non applicable, art. 293-B du CGI","")

Sheet Archive Factures
A1: Numéro de Facture | B1: Client | C1: Date | D1: Montant TTC
A2: 46 | B2: SAVE THE DATE | C2: 43896
A3: 45 | B3: SAGARMATHA | C3: 43892
A4: 44 | B4: NETKIN | C4: 43850
A5: 43 | B5: NETKIN | C5: 43871
A6: 42 | B6: SAGARMATHA | C6: 43864
A7: 41 | B7: DOUBLE2 | C7: 43853
A8: 40 | B8: EXPERTISE EVENT | C8: 43850
A9: 39 | B9: ALLEGRIA | C9: 43845
A10: 38 | B10: PUBLICISLIVE | C10: 43840
A11: 37 | B11: OEUF COCOTTE | C11: 43839
A12: 36 | B12: NETKIN | C12: 43812
A13: 35 | B13: HOPSCOTCH | C13: 43806
A14: 34 | B14: AIR BIS PRODUCTION | C14: 43799
A15: 33
A16: 32 | B16: PHENOMENE | C16: 43781
A17: FC031-Bis | B17: EGG | C17: 43779
A18: 31 | B18: EGG | C18: 43763
A19: 30 | B19: PHENOMENE | C19: 43763
A20: 29 | B20: NETKIN | C20: 43756
A21: 28 | B21: NETKIN | C21: 43746
A22: 27 | B22: FEELING HAO | C22: 43746
A23: 26 | B23: ADR | C23: 43738
A24: 25 | B24: EGG | C24: 43733
A25: 24 | B25: NETKIN | C25: 43729
A26: 23 | B26: HOPSCOTCH | C26: 43653
A27: 22 | B27: LONG DISTANCE | C27: 43655
A28: 21 | B28: LONG DISTANCE | C28: 43646
A29: 20 | B29: LONG DISTANCE | C29: 43640
... A31: 18 | B31: NETKIN | C31: 43574
A32: 17
A33: 16 | B33: DOUBLE2 | C33: 43497
A34: 15 | B34: SWING TRAVEL | C34: 43497
A35: 14 | B35: WITHUP COM | C35: 43475
A36: 13 | B36: UBIBENE | C36: 43452
A37: 12 | B37: NETKIN | C37: 43438
A38: 11 | B38: MOMA EVENT | C38: 43434
A39: 10 | B39: HENDLER | C39: 43398
A40: 9 | B40: SAVETHEDATE | C40: 43398
A41: 8 | B41: DOUBLE2 | C41: 43305
...

Sheet Clients
A1: Nom du client / agence | B1: Adresse | C1: Ville
A2: NETKIN | B2: 8 rue de Milan | C2: 75009 Paris
A3: SAGARMATHA PARIS | B3: 25 Rue Notre Dame des Victoires | C3: 75002 Paris
A4: SAGARMATHA LYON | B4: 1 Chemin des Petites Brosses | C4: 69300 Caluire-et-Cuire
A5: SAVETHEDATE | B5: 33 Rue Lazare Carnot | C5: 92140 Clamart
A6: DOUBLE2 | B6: 25 rue de Prony | C6: 75017 Paris
A7: ALLEGRIA | B7: 125 Rue de Saussure | C7: 75017 Paris
A8: FEELING HAO | B8: 6 boulevard Gambetta | C8: 92130 Issy-les-Moulineaux
A9: PUBLICISLIVE | B9: 30-34 rue du chemin vert | C9: 75011 Paris
A10: EGG | B10: 68 Rue Marjolin | C10: 92300 Levallois-Perret
A11: CREATIVE SPIRIT | B11: 82 Rue de Charenton | C11: 75012 Paris
A12: PHENOMENE | B12: 4 Rue du Port aux Vins | C12: 92150 Suresnes
... A14: HOPSCOTCH | B14: 25 Rue Notre Dame des Victoires | C14: 75002 Paris
