Workbook

Sheet Emp.1
D1: Mois | E1: SemFin | F1: di | G1: lu | H1: ma | I1: me | J1: je | K1: ve | L1: sa | M1: Rég | N1: hr | O1: HrCCQ | P1: Sal. Brut | Q1: Vacanc | R1: Total rén | S1: Av.impos | T1: Total | U1: R.R.Q. | V1: Cumul. | W1: AssEmploi | X1: Gainsass | Y1: RQAP | Z1: PrélCCQ | AA1: cotis.synd | AB1: Avant.Soc | AC1: Sal/admféd | AD1: Impôt féd | AE1: Sal/admpr | AF1: Impôt prov. | AG1: Vacanc | AH1: Déduction | AI1: TOTAL | AJ1: Équip | AK1: Sal. net | AL1: RQAPempl | AM1: Av.soc.empl | AN1: Tx ass | AO1: cont.secto | AQ1: calcul
D2: janvier | E2: 5 | O2: 0 | R2: =SUM(P2,Q2) -> 0 | T2: =SUM(R2,S2) -> 0 | U2: =IF(AQ2<0,0,(T2-67.3)*0.057) -> 0 | Y2: =R2*0.494% -> 0 | AC2: =R2-Z2-AA2-AB2 -> 0 | AD2: =IF(P2=0,0,IF(VLOOKUP(AC2,'Table 52'!$A$2:$B$384,2,TRUE)>=VLOOKUP(Emp.1!AC2,'Table 52'!$C$2:$D$384,2,TRUE),MAX(VLOOKUP(Emp.1!AC2,'Table 52'!$A$2:$B$384,2,TRUE),VLOOKUP(Emp.1!AC2,'Table 52'!$C$2:$D$384,2,TRUE)),0)+55) -> 0 | AE2: =T2-AB2 -> 0 | AF2: =IF(P2=0,0,IF(VLOOKUP(AE2,'Table 52'!$E$2:$F$276,2,TRUE)>=VLOOKUP(Emp.1!AE2,'Table 52'!$G$2:$H$276,2,TRUE),MAX(VLOOKUP(Emp.1!AE2,'Table 52'!$E$2:$F$276,2,TRUE),VLOOKUP(Emp.1!AE2,'Table 52'!$G$2:$H$276,2,TRUE)),0)+100) -> 0 | AG2: =Q2 -> 0 | AH2: =SUM(U2,W2,Y2,Z2,AA2,AB2,AD2,AF2,AG2) -> 0 | AI2: =R2-AH2 -> 0 | AJ2: =O2*0.6 -> 0 | AK2: =AI2+AJ2 -> 0 | AL2: =R2*0.692% -> 0 | AQ2: =(T2-67.3)*0.057 -> -3.8361
D3: janvier | E3: 14 | R3: =SUM(P3,Q3) -> 0 | T3: =SUM(R3,S3) -> 0 | U3: =IF(AQ3<0,0,(T3-67.3)*0.057) -> 0 | Y3: =R3*0.494% -> 0 | AC3: =R3-Z3-AA3-AB3 -> 0 | AD3: =IF(P3=0,0,IF(VLOOKUP(AC3,'Table 52'!$A$2:$B$384,2,TRUE)>=VLOOKUP(Emp.1!AC3,'Table 52'!$C$2:$D$384,2,TRUE),MAX(VLOOKUP(Emp.1!AC3,'Table 52'!$A$2:$B$384,2,TRUE),VLOOKUP(Emp.1!AC3,'Table 52'!$C$2:$D$384,2,TRUE)),0)+55) -> 0 | AE3: =T3-AB3 -> 0 | AF3: =IF(P3=0,0,IF(VLOOKUP(AE3,'Table 52'!$E$2:$F$276,2,TRUE)>=VLOOKUP(Emp.1!AE3,'Table 52'!$G$2:$H$276,2,TRUE),MAX(VLOOKUP(Emp.1!AE3,'Table 52'!$E$2:$F$276,2,TRUE),VLOOKUP(Emp.1!AE3,'Table 52'!$G$2:$H$276,2,TRUE)),0)+100) -> 0 | AG3: =Q3 -> 0 | AH3: =SUM(U3,W3,Y3,Z3,AA3,AB3,AD3,AF3,AG3) -> 0 | AI3: =R3-AH3 -> 0 | AJ3: =O3*0.6 -> 0 | AK3: =AI3+AJ3 -> 0 | AL3: =R3*0.692% -> 0 | AQ3: =(T3-67.3)*0.057 -> -3.8361
D4: janvier | E4: 18 | R4: =SUM(P4,Q4) -> 0 | T4: =SUM(R4,S4) -> 0 | U4: =IF(AQ4<0,0,(T4-67.3)*0.057) -> 0 | Y4: =R4*0.494% -> 0 | AC4: =R4-Z4-AA4-AB4 -> 0 | AD4: =IF(P4=0,0,IF(VLOOKUP(AC4,'Table 52'!$A$2:$B$384,2,TRUE)>=VLOOKUP(Emp.1!AC4,'Table 52'!$C$2:$D$384,2,TRUE),MAX(VLOOKUP(Emp.1!AC4,'Table 52'!$A$2:$B$384,2,TRUE),VLOOKUP(Emp.1!AC4,'Table 52'!$C$2:$D$384,2,TRUE)),0)+55) -> 0 | AE4: =T4-AB4 -> 0 | AF4: =IF(P4=0,0,IF(VLOOKUP(AE4,'Table 52'!$E$2:$F$276,2,TRUE)>=VLOOKUP(Emp.1!AE4,'Table 52'!$G$2:$H$276,2,TRUE),MAX(VLOOKUP(Emp.1!AE4,'Table 52'!$E$2:$F$276,2,TRUE),VLOOKUP(Emp.1!AE4,'Table 52'!$G$2:$H$276,2,TRUE)),0)+100) -> 0 | AG4: =Q4 -> 0 | AH4: =SUM(U4,W4,Y4,Z4,AA4,AB4,AD4,AF4,AG4) -> 0 | AI4: =R4-AH4 -> 0 | AJ4: =O4*0.6 -> 0 | AK4: =AI4+AJ4 -> 0 | AL4: =R4*0.692% -> 0 | AQ4: =(T4-67.3)*0.057 -> -3.8361
D5: janvier | E5: 22 | R5: =SUM(P5,Q5) -> 0 | T5: =SUM(R5,S5) -> 0 | U5: =IF(AQ5<0,0,(T5-67.3)*0.057) -> 0 | Y5: =R5*0.494% -> 0 | AC5: =R5-Z5-AA5-AB5 -> 0 | AD5: =IF(P5=0,0,IF(VLOOKUP(AC5,'Table 52'!$A$2:$B$384,2,TRUE)>=VLOOKUP(Emp.1!AC5,'Table 52'!$C$2:$D$384,2,TRUE),MAX(VLOOKUP(Emp.1!AC5,'Table 52'!$A$2:$B$384,2,TRUE),VLOOKUP(Emp.1!AC5,'Table 52'!$C$2:$D$384,2,TRUE)),0)+55) -> 0 | AE5: =T5-AB5 -> 0 | AF5: =IF(P5=0,0,IF(VLOOKUP(AE5,'Table 52'!$E$2:$F$276,2,TRUE)>=VLOOKUP(Emp.1!AE5,'Table 52'!$G$2:$H$276,2,TRUE),MAX(VLOOKUP(Emp.1!AE5,'Table 52'!$E$2:$F$276,2,TRUE),VLOOKUP(Emp.1!AE5,'Table 52'!$G$2:$H$276,2,TRUE)),0)+100) -> 0 | AG5: =Q5 -> 0 | AH5: =SUM(U5,W5,Y5,Z5,AA5,AB5,AD5,AF5,AG5) -> 0 | AI5: =R5-AH5 -> 0 | AJ5: =O5*0.6 -> 0 | AK5: =AI5+AJ5 -> 0 | AL5: =R5*0.692% -> 0 | AQ5: =(T5-67.3)*0.057 -> -3.8361
D6: janvier | E6: 25 | O6: 0 | R6: =SUM(P6,Q6) -> 0 | T6: =SUM(R6,S6) -> 0 | U6: =IF(AQ6<0,0,(T6-67.3)*0.057) -> 0 | W6: 0 | Y6: =R6*0.494% -> 0 | AC6: =R6-Z6-AA6-AB6 -> 0 | AD6: =IF(P6=0,0,IF(VLOOKUP(AC6,'Table 52'!$A$2:$B$384,2,TRUE)>=VLOOKUP(Emp.1!AC6,'Table 52'!$C$2:$D$384,2,TRUE),MAX(VLOOKUP(Emp.1!AC6,'Table 52'!$A$2:$B$384,2,TRUE),VLOOKUP(Emp.1!AC6,'Table 52'!$C$2:$D$384,2,TRUE)),0)+55) -> 0 | AE6: =T6-AB6 -> 0 | AF6: =IF(P6=0,0,IF(VLOOKUP(AE6,'Table 52'!$E$2:$F$276,2,TRUE)>=VLOOKUP(Emp.1!AE6,'Table 52'!$G$2:$H$276,2,TRUE),MAX(VLOOKUP(Emp.1!AE6,'Table 52'!$E$2:$F$276,2,TRUE),VLOOKUP(Emp.1!AE6,'Table 52'!$G$2:$H$276,2,TRUE)),0)+100) -> 0 | AG6: =Q6 -> 0 | AH6: =SUM(AD6+AF6+U6+W6+Y6+Z6+AA6+AB6+AG6) -> 0 | AI6: =R6-AH6 -> 0 | AJ6: =O6*0.6 -> 0 | AK6: =AI6+AJ6 -> 0 | AL6: =R6*0.692% -> 0 | AQ6: =(T6-67.3)*0.057 -> -3.8361
D7: Total mois | O7: =SUM(O2:O6) -> 0 | P7: =SUM(P2:P6) -> 0 | Q7: =SUM(Q2:Q6) -> 0 | R7: =SUM(R2:R6) -> 0 | S7: =SUM(S2:S6) -> 0 | T7: =SUM(T2:T6) -> 0 | U7: =SUM(U2:U6) -> 0 | V7: =SUM(V2:V6) -> 0 | ... AP7: =SUM(AP2:AP6) -> 0
R8: =P8+Q8 -> 0 | T8: =R8+S8 -> 0 | Y8: =R8*0.559% -> 0 | Z8: =R8*0.75% -> 0 | AL8: =R8*0.752% -> 0 | AM8: =O8*5.335 -> 0 | AN8: =2*O8 -> 0
D9: Février | E9: 28 | O9: 0 | R9: =SUM(P9,Q9) -> 0 | T9: =SUM(R9,S9) -> 0 | U9: =IF(AQ9<0,0,(T9-67.3)*0.057) -> 0 | Y9: =R9*0.494% -> 0 | AC9: =R9-Z9-AA9-AB9 -> 0 | AD9: =IF(P9=0,0,IF(VLOOKUP(AC9,'Table 52'!$A$2:$B$384,2,TRUE)>=VLOOKUP(Emp.1!AC9,'Table 52'!$C$2:$D$384,2,TRUE),MAX(VLOOKUP(Emp.1!AC9,'Table 52'!$A$2:$B$384,2,TRUE),VLOOKUP(Emp.1!AC9,'Table 52'!$C$2:$D$384,2,TRUE)),0)+55) -> 0 | AE9: =T9-AB9 -> 0 | AF9: =IF(P9=0,0,IF(VLOOKUP(AE9,'Table 52'!$E$2:$F$276,2,TRUE)>=VLOOKUP(Emp.1!AE9,'Table 52'!$G$2:$H$276,2,TRUE),MAX(VLOOKUP(Emp.1!AE9,'Table 52'!$E$2:$F$276,2,TRUE),VLOOKUP(Emp.1!AE9,'Table 52'!$G$2:$H$276,2,TRUE)),0)+100) -> 0 | AG9: =Q9 -> 0 | AH9: =SUM(U9,W9,Y9,Z9,AA9,AB9,AD9,AF9,AG9) -> 0 | AI9: =R9-AH9 -> 0 | AJ9: =O9*0.6 -> 0 | AK9: =AI9+AJ9 -> 0 | AL9: =R9*0.692% -> 0 | AQ9: =(T9-67.3)*0.057 -> -3.8361
D10: Février | R10: =SUM(P10,Q10) -> 0 | T10: =SUM(R10,S10) -> 0 | U10: =IF(AQ10<0,0,(T10-67.3)*0.057) -> 0 | Y10: =R10*0.494% -> 0 | AC10: =R10-Z10-AA10-AB10 -> 0 | AD10: =IF(P10=0,0,IF(VLOOKUP(AC10,'Table 52'!$A$2:$B$384,2,TRUE)>=VLOOKUP(Emp.1!AC10,'Table 52'!$C$2:$D$384,2,TRUE),MAX(VLOOKUP(Emp.1!AC10,'Table 52'!$A$2:$B$384,2,TRUE),VLOOKUP(Emp.1!AC10,'Table 52'!$C$2:$D$384,2,TRUE)),0)+55) -> 0 | AE10: =T10-AB10 -> 0 | AF10: =IF(P10=0,0,IF(VLOOKUP(AE10,'Table 52'!$E$2:$F$276,2,TRUE)>=VLOOKUP(Emp.1!AE10,'Table 52'!$G$2:$H$276,2,TRUE),MAX(VLOOKUP(Emp.1!AE10,'Table 52'!$E$2:$F$276,2,TRUE),VLOOKUP(Emp.1!AE10,'Table 52'!$G$2:$H$276,2,TRUE)),0)+100) -> 0 | AG10: =Q10 -> 0 | AH10: =SUM(U10,W10,Y10,Z10,AA10,AB10,AD10,AF10,AG10) -> 0 | AI10: =R10-AH10 -> 0 | AJ10: =O10*0.6 -> 0 | AK10: =AI10+AJ10 -> 0 | AL10: =R10*0.692% -> 0 | AQ10: =(T10-67.3)*0.057 -> -3.8361
D11: Février | R11: =SUM(P11,Q11) -> 0 | T11: =SUM(R11,S11) -> 0 | U11: =IF(AQ11<0,0,(T11-67.3)*0.057) -> 0 | Y11: =R11*0.494% -> 0 | AC11: =R11-Z11-AA11-AB11 -> 0 | AD11: =IF(P11=0,0,IF(VLOOKUP(AC11,'Table 52'!$A$2:$B$384,2,TRUE)>=VLOOKUP(Emp.1!AC11,'Table 52'!$C$2:$D$384,2,TRUE),MAX(VLOOKUP(Emp.1!AC11,'Table 52'!$A$2:$B$384,2,TRUE),VLOOKUP(Emp.1!AC11,'Table 52'!$C$2:$D$384,2,TRUE)),0)+55) -> 0 | AE11: =T11-AB11 -> 0 | AF11: =IF(P11=0,0,IF(VLOOKUP(AE11,'Table 52'!$E$2:$F$276,2,TRUE)>=VLOOKUP(Emp.1!AE11,'Table 52'!$G$2:$H$276,2,TRUE),MAX(VLOOKUP(Emp.1!AE11,'Table 52'!$E$2:$F$276,2,TRUE),VLOOKUP(Emp.1!AE11,'Table 52'!$G$2:$H$276,2,TRUE)),0)+100) -> 0 | AG11: =Q11 -> 0 | AH11: =SUM(U11,W11,Y11,Z11,AA11,AB11,AD11,AF11,AG11) -> 0 | AI11: =R11-AH11 -> 0 | AJ11: =O11*0.6 -> 0 | AK11: =AI11+AJ11 -> 0 | AL11: =R11*0.692% -> 0 | AQ11: =(T11-67.3)*0.057 -> -3.8361
D12: Février | E12: 11 | R12: =SUM(P12,Q12) -> 0 | T12: =SUM(R12,S12) -> 0 | U12: =IF(AQ12<0,0,(T12-67.3)*0.057) -> 0 | Y12: =R12*0.494% -> 0 | AC12: =R12-Z12-AA12-AB12 -> 0 | AD12: =IF(P12=0,0,IF(VLOOKUP(AC12,'Table 52'!$A$2:$B$384,2,TRUE)>=VLOOKUP(Emp.1!AC12,'Table 52'!$C$2:$D$384,2,TRUE),MAX(VLOOKUP(Emp.1!AC12,'Table 52'!$A$2:$B$384,2,TRUE),VLOOKUP(Emp.1!AC12,'Table 52'!$C$2:$D$384,2,TRUE)),0)+55) -> 0 | AE12: =T12-AB12 -> 0 | AF12: =IF(P12=0,0,IF(VLOOKUP(AE12,'Table 52'!$E$2:$F$276,2,TRUE)>=VLOOKUP(Emp.1!AE12,'Table 52'!$G$2:$H$276,2,TRUE),MAX(VLOOKUP(Emp.1!AE12,'Table 52'!$E$2:$F$276,2,TRUE),VLOOKUP(Emp.1!AE12,'Table 52'!$G$2:$H$276,2,TRUE)),0)+100) -> 0 | AG12: =Q12 -> 0 | AH12: =SUM(U12,W12,Y12,Z12,AA12,AB12,AD12,AF12,AG12) -> 0 | AI12: =R12-AH12 -> 0 | AJ12: =O12*0.6 -> 0 | AK12: =AI12+AJ12 -> 0 | AL12: =R12*0.692% -> 0 | AQ12: =(T12-67.3)*0.057 -> -3.8361
D14: Total mois | O14: =SUM(O10:O12) -> 0 | P14: =SUM(P9:P13) -> 0 | Q14: =SUM(Q9:Q13) -> 0 | R14: =SUM(R9:R13) -> 0 | S14: =SUM(S9:S13) -> 0 | T14: =SUM(T9:T13) -> 0 | U14: =SUM(U9:U13) -> 0 | V14: =SUM(V9:V13) -> 0 | W14: =SUM(W9:W13) -> 0 | ... AL14: =SUM(AL9:AL13) -> 0 | AM14: =SUM(AM8:AM12) -> 0 | AN14: =SUM(AN9:AN12) -> 0 | AO14: =SUM(AO9:AO12) -> 0
R15: =P15+Q15 -> 0 | T15: =R15+S15 -> 0 | Y15: =R15*0.559% -> 0 | Z15: =R15*0.75% -> 0 | AB15: =0.8*O15 -> 0 | AL15: =R15*0.752% -> 0 | AM15: =O15*5.335 -> 0 | AN15: =2*O15 -> 0
D16: Mars | E16: 8 | R16: =SUM(P16,Q16) -> 0 | T16: =SUM(R16,S16) -> 0 | U16: =IF(AQ16<0,0,(T16-67.3)*0.057) -> 0 | Y16: =R16*0.494% -> 0 | AC16: =R16-Z16-AA16-AB16 -> 0 | AD16: =IF(P16=0,0,IF(VLOOKUP(AC16,'Table 52'!$A$2:$B$384,2,TRUE)>=VLOOKUP(Emp.1!AC16,'Table 52'!$C$2:$D$384,2,TRUE),MAX(VLOOKUP(Emp.1!AC16,'Table 52'!$A$2:$B$384,2,TRUE),VLOOKUP(Emp.1!AC16,'Table 52'!$C$2:$D$384,2,TRUE)),0)+55) -> 0 | AE16: =T16-AB16 -> 0 | AF16: =IF(P16=0,0,IF(VLOOKUP(AE16,'Table 52'!$E$2:$F$276,2,TRUE)>=VLOOKUP(Emp.1!AE16,'Table 52'!$G$2:$H$276,2,TRUE),MAX(VLOOKUP(Emp.1!AE16,'Table 52'!$E$2:$F$276,2,TRUE),VLOOKUP(Emp.1!AE16,'Table 52'!$G$2:$H$276,2,TRUE)),0)+100) -> 0 | AG16: =Q16 -> 0 | AH16: =SUM(U16,W16,Y16,Z16,AA16,AB16,AD16,AF16,AG16) -> 0 | AI16: =R16-AH16 -> 0 | AJ16: =O16*0.6 -> 0 | AK16: =AI16+AJ16 -> 0 | AL16: =R16*0.692% -> 0 | AQ16: =(T16-67.3)*0.057 -> -3.8361
D17: Mars | E17: 12 | R17: =SUM(P17,Q17) -> 0 | T17: =SUM(R17,S17) -> 0 | U17: =IF(AQ17<0,0,(T17-67.3)*0.057) -> 0 | Y17: =R17*0.494% -> 0 | AC17: =R17-Z17-AA17-AB17 -> 0 | AD17: =IF(P17=0,0,IF(VLOOKUP(AC17,'Table 52'!$A$2:$B$384,2,TRUE)>=VLOOKUP(Emp.1!AC17,'Table 52'!$C$2:$D$384,2,TRUE),MAX(VLOOKUP(Emp.1!AC17,'Table 52'!$A$2:$B$384,2,TRUE),VLOOKUP(Emp.1!AC17,'Table 52'!$C$2:$D$384,2,TRUE)),0)+55) -> 0 | AE17: =T17-AB17 -> 0 | AF17: =IF(P17=0,0,IF(VLOOKUP(AE17,'Table 52'!$E$2:$F$276,2,TRUE)>=VLOOKUP(Emp.1!AE17,'Table 52'!$G$2:$H$276,2,TRUE),MAX(VLOOKUP(Emp.1!AE17,'Table 52'!$E$2:$F$276,2,TRUE),VLOOKUP(Emp.1!AE17,'Table 52'!$G$2:$H$276,2,TRUE)),0)+100) -> 0 | AG17: =Q17 -> 0 | AH17: =SUM(U17,W17,Y17,Z17,AA17,AB17,AD17,AF17,AG17) -> 0 | AI17: =R17-AH17 -> 0 | AJ17: =O17*0.6 -> 0 | AK17: =AI17+AJ17 -> 0 | AL17: =R17*0.692% -> 0 | AQ17: =(T17-67.3)*0.057 -> -3.8361
D18: Mars | R18: =SUM(P18,Q18) -> 0 | T18: =SUM(R18,S18) -> 0 | U18: =IF(AQ18<0,0,(T18-67.3)*0.057) -> 0 | Y18: =R18*0.494% -> 0 | AC18: =R18-Z18-AA18-AB18 -> 0 | AD18: =IF(P18=0,0,IF(VLOOKUP(AC18,'Table 52'!$A$2:$B$384,2,TRUE)>=VLOOKUP(Emp.1!AC18,'Table 52'!$C$2:$D$384,2,TRUE),MAX(VLOOKUP(Emp.1!AC18,'Table 52'!$A$2:$B$384,2,TRUE),VLOOKUP(Emp.1!AC18,'Table 52'!$C$2:$D$384,2,TRUE)),0)+55) -> 0 | AE18: =T18-AB18 -> 0 | AF18: =IF(P18=0,0,IF(VLOOKUP(AE18,'Table 52'!$E$2:$F$276,2,TRUE)>=VLOOKUP(Emp.1!AE18,'Table 52'!$G$2:$H$276,2,TRUE),MAX(VLOOKUP(Emp.1!AE18,'Table 52'!$E$2:$F$276,2,TRUE),VLOOKUP(Emp.1!AE18,'Table 52'!$G$2:$H$276,2,TRUE)),0)+100) -> 0 | AG18: =Q18 -> 0 | AH18: =SUM(U18,W18,Y18,Z18,AA18,AB18,AD18,AF18,AG18) -> 0 | AI18: =R18-AH18 -> 0 | AJ18: =O18*0.6 -> 0 | AK18: =AI18+AJ18 -> 0 | AL18: =R18*0.692% -> 0 | AQ18: =(T18-67.3)*0.057 -> -3.8361
D19: Mars | R19: =SUM(P19,Q19) -> 0 | T19: =SUM(R19,S19) -> 0 | U19: =IF(AQ19<0,0,(T19-67.3)*0.057) -> 0 | Y19: =R19*0.494% -> 0 | AC19: =R19-Z19-AA19-AB19 -> 0 | AD19: =IF(P19=0,0,IF(VLOOKUP(AC19,'Table 52'!$A$2:$B$384,2,TRUE)>=VLOOKUP(Emp.1!AC19,'Table 52'!$C$2:$D$384,2,TRUE),MAX(VLOOKUP(Emp.1!AC19,'Table 52'!$A$2:$B$384,2,TRUE),VLOOKUP(Emp.1!AC19,'Table 52'!$C$2:$D$384,2,TRUE)),0)+55) -> 0 | AE19: =T19-AB19 -> 0 | AF19: =IF(P19=0,0,IF(VLOOKUP(AE19,'Table 52'!$E$2:$F$276,2,TRUE)>=VLOOKUP(Emp.1!AE19,'Table 52'!$G$2:$H$276,2,TRUE),MAX(VLOOKUP(Emp.1!AE19,'Table 52'!$E$2:$F$276,2,TRUE),VLOOKUP(Emp.1!AE19,'Table 52'!$G$2:$H$276,2,TRUE)),0)+100) -> 0 | AG19: =Q19 -> 0 | AH19: =SUM(U19,W19,Y19,Z19,AA19,AB19,AD19,AF19,AG19) -> 0 | AI19: =R19-AH19 -> 0 | AJ19: =O19*0.6 -> 0 | AK19: =AI19+AJ19 -> 0 | AL19: =R19*0.692% -> 0 | AQ19: =(T19-67.3)*0.057 -> -3.8361
D20: Mars | Q20: =P20*13% -> 0 | R20: =SUM(P20,Q20) -> 0 | T20: =SUM(R20,S20) -> 0 | U20: =IF(AQ20<0,0,(T20-67.3)*0.057) -> 0 | W20: 0 | Y20: =R20*0.494% -> 0 | Z20: =R20*0.75% -> 0 | AC20: =R20-Z20-AA20-AB20 -> 0 | AD20: =IF(P20=0,0,IF(VLOOKUP(AC20,'Table 52'!$A$2:$B$384,2,TRUE)>=VLOOKUP(Emp.1!AC20,'Table 52'!$C$2:$D$384,2,TRUE),MAX(VLOOKUP(Emp.1!AC20,'Table 52'!$A$2:$B$384,2,TRUE),VLOOKUP(Emp.1!AC20,'Table 52'!$C$2:$D$384,2,TRUE)),0)+55) -> 0 | AE20: =T20-AB20 -> 0 | AF20: =IF(P20=0,0,IF(VLOOKUP(AE20,'Table 52'!$E$2:$F$276,2,TRUE)>=VLOOKUP(Emp.1!AE20,'Table 52'!$G$2:$H$276,2,TRUE),MAX(VLOOKUP(Emp.1!AE20,'Table 52'!$E$2:$F$276,2,TRUE),VLOOKUP(Emp.1!AE20,'Table 52'!$G$2:$H$276,2,TRUE)),0)+100) -> 0 | AL20: =R20*0.692% -> 0 | AQ20: =(T20-67.3)*0.057 -> -3.8361
D21: Total mois | P21: =SUM(P16:P20) -> 0 | Q21: =SUM(Q16:Q20) -> 0 | R21: =SUM(R16:R20) -> 0 | S21: =SUM(S16:S20) -> 0 | T21: =SUM(T16:T20) -> 0 | U21: =SUM(U16:U20) -> 0 | V21: =SUM(V16:V20) -> 0 | W21: =SUM(W16:W20) -> 0 | ... AO21: =SUM(AO16:AO20) -> 0
Q22: =P22*13% -> 0 | R22: =P22+Q22 -> 0 | T22: =R22+S22 -> 0 | Y22: =R22*0.559% -> 0 | AC22: =R22-Z22-AA22-AB22 -> 0 | AL22: =R22*0.752% -> 0 | AM22: =O22*5.335 -> 0 | AN22: =2*O22 -> 0
D23: Avril | R23: =SUM(P23,Q23) -> 0 | T23: =SUM(R23,S23) -> 0 | U23: =IF(AQ23<0,0,(T23-67.3)*0.057) -> 0 | Y23: =R23*0.494% -> 0 | AC23: =R23-Z23-AA23-AB23 -> 0 | AD23: =IF(P23=0,0,IF(VLOOKUP(AC23,'Table 52'!$A$2:$B$384,2,TRUE)>=VLOOKUP(Emp.1!AC23,'Table 52'!$C$2:$D$384,2,TRUE),MAX(VLOOKUP(Emp.1!AC23,'Table 52'!$A$2:$B$384,2,TRUE),VLOOKUP(Emp.1!AC23,'Table 52'!$C$2:$D$384,2,TRUE)),0)+55) -> 0 | AE23: =T23-AB23 -> 0 | AF23: =IF(P23=0,0,IF(VLOOKUP(AE23,'Table 52'!$E$2:$F$276,2,TRUE)>=VLOOKUP(Emp.1!AE23,'Table 52'!$G$2:$H$276,2,TRUE),MAX(VLOOKUP(Emp.1!AE23,'Table 52'!$E$2:$F$276,2,TRUE),VLOOKUP(Emp.1!AE23,'Table 52'!$G$2:$H$276,2,TRUE)),0)+100) -> 0 | AG23: =Q23 -> 0 | AH23: =SUM(U23,W23,Y23,Z23,AA23,AB23,AD23,AF23,AG23) -> 0 | AI23: =R23-AH23 -> 0 | AJ23: =O23*0.6 -> 0 | AK23: =AI23+AJ23 -> 0 | AL23: =R23*0.692% -> 0 | AQ23: =(T23-67.3)*0.057 -> -3.8361
D24: Avril | E24: 12 | R24: =SUM(P24,Q24) -> 0 | T24: =SUM(R24,S24) -> 0 | U24: =IF(AQ24<0,0,(T24-67.3)*0.057) -> 0 | Y24: =R24*0.494% -> 0 | AC24: =R24-Z24-AA24-AB24 -> 0 | AD24: =IF(P24=0,0,IF(VLOOKUP(AC24,'Table 52'!$A$2:$B$384,2,TRUE)>=VLOOKUP(Emp.1!AC24,'Table 52'!$C$2:$D$384,2,TRUE),MAX(VLOOKUP(Emp.1!AC24,'Table 52'!$A$2:$B$384,2,TRUE),VLOOKUP(Emp.1!AC24,'Table 52'!$C$2:$D$384,2,TRUE)),0)+55) -> 0 | AE24: =T24-AB24 -> 0 | AF24: =IF(P24=0,0,IF(VLOOKUP(AE24,'Table 52'!$E$2:$F$276,2,TRUE)>=VLOOKUP(Emp.1!AE24,'Table 52'!$G$2:$H$276,2,TRUE),MAX(VLOOKUP(Emp.1!AE24,'Table 52'!$E$2:$F$276,2,TRUE),VLOOKUP(Emp.1!AE24,'Table 52'!$G$2:$H$276,2,TRUE)),0)+100) -> 0 | AG24: =Q24 -> 0 | AH24: =SUM(U24,W24,Y24,Z24,AA24,AB24,AD24,AF24,AG24) -> 0 | AI24: =R24-AH24 -> 0 | AJ24: =O24*0.6 -> 0 | AK24: =AI24+AJ24 -> 0 | AL24: =R24*0.692% -> 0 | AQ24: =(T24-67.3)*0.057 -> -3.8361
D25: Avril | R25: =SUM(P25,Q25) -> 0 | T25: =SUM(R25,S25) -> 0 | U25: =IF(AQ25<0,0,(T25-67.3)*0.057) -> 0 | Y25: =R25*0.494% -> 0 | AC25: =R25-Z25-AA25-AB25 -> 0 | AD25: =IF(P25=0,0,IF(VLOOKUP(AC25,'Table 52'!$A$2:$B$384,2,TRUE)>=VLOOKUP(Emp.1!AC25,'Table 52'!$C$2:$D$384,2,TRUE),MAX(VLOOKUP(Emp.1!AC25,'Table 52'!$A$2:$B$384,2,TRUE),VLOOKUP(Emp.1!AC25,'Table 52'!$C$2:$D$384,2,TRUE)),0)+55) -> 0 | AE25: =T25-AB25 -> 0 | AF25: =IF(P25=0,0,IF(VLOOKUP(AE25,'Table 52'!$E$2:$F$276,2,TRUE)>=VLOOKUP(Emp.1!AE25,'Table 52'!$G$2:$H$276,2,TRUE),MAX(VLOOKUP(Emp.1!AE25,'Table 52'!$E$2:$F$276,2,TRUE),VLOOKUP(Emp.1!AE25,'Table 52'!$G$2:$H$276,2,TRUE)),0)+100) -> 0 | AG25: =Q25 -> 0 | AH25: =SUM(U25,W25,Y25,Z25,AA25,AB25,AD25,AF25,AG25) -> 0 | AI25: =R25-AH25 -> 0 | AJ25: =O25*0.6 -> 0 | AK25: =AI25+AJ25 -> 0 | AL25: =R25*0.692% -> 0 | AQ25: =(T25-67.3)*0.057 -> -3.8361
D26: Avril | R26: =SUM(P26,Q26) -> 0 | T26: =SUM(R26,S26) -> 0 | U26: =IF(AQ26<0,0,(T26-67.3)*0.057) -> 0 | Y26: =R26*0.494% -> 0 | AC26: =R26-Z26-AA26-AB26 -> 0 | AD26: =IF(P26=0,0,IF(VLOOKUP(AC26,'Table 52'!$A$2:$B$384,2,TRUE)>=VLOOKUP(Emp.1!AC26,'Table 52'!$C$2:$D$384,2,TRUE),MAX(VLOOKUP(Emp.1!AC26,'Table 52'!$A$2:$B$384,2,TRUE),VLOOKUP(Emp.1!AC26,'Table 52'!$C$2:$D$384,2,TRUE)),0)+55) -> 0 | AE26: =T26-AB26 -> 0 | AF26: =IF(P26=0,0,IF(VLOOKUP(AE26,'Table 52'!$E$2:$F$276,2,TRUE)>=VLOOKUP(Emp.1!AE26,'Table 52'!$G$2:$H$276,2,TRUE),MAX(VLOOKUP(Emp.1!AE26,'Table 52'!$E$2:$F$276,2,TRUE),VLOOKUP(Emp.1!AE26,'Table 52'!$G$2:$H$276,2,TRUE)),0)+100) -> 0 | AG26: =Q26 -> 0 | AH26: =SUM(U26,W26,Y26,Z26,AA26,AB26,AD26,AF26,AG26) -> 0 | AI26: =R26-AH26 -> 0 | AJ26: =O26*0.6 -> 0 | AK26: =AI26+AJ26 -> 0 | AL26: =R26*0.692% -> 0 | AQ26: =(T26-67.3)*0.057 -> -3.8361
D27: Avril | R27: =SUM(P27,Q27) -> 0 | T27: =SUM(R27,S27) -> 0 | U27: =IF(AQ27<0,0,(T27-67.3)*0.057) -> 0 | W27: 0 | Y27: =R27*0.494% -> 0 | AC27: =R27-Z27-AA27-AB27 -> 0 | AD27: =IF(P27=0,0,IF(VLOOKUP(AC27,'Table 52'!$A$2:$B$384,2,TRUE)>=VLOOKUP(Emp.1!AC27,'Table 52'!$C$2:$D$384,2,TRUE),MAX(VLOOKUP(Emp.1!AC27,'Table 52'!$A$2:$B$384,2,TRUE),VLOOKUP(Emp.1!AC27,'Table 52'!$C$2:$D$384,2,TRUE)),0)+55) -> 0 | AE27: =T27-AB27 -> 0 | AF27: =IF(P27=0,0,IF(VLOOKUP(AE27,'Table 52'!$E$2:$F$276,2,TRUE)>=VLOOKUP(Emp.1!AE27,'Table 52'!$G$2:$H$276,2,TRUE),MAX(VLOOKUP(Emp.1!AE27,'Table 52'!$E$2:$F$276,2,TRUE),VLOOKUP(Emp.1!AE27,'Table 52'!$G$2:$H$276,2,TRUE)),0)+100) -> 0 | AG27: =Q27 -> 0 | AH27: =SUM(U27,W27,Y27,Z27,AA27,AB27,AD27,AF27,AG27) -> 0 | AI27: =R27-AH27 -> 0 | AJ27: =O27*0.6 -> 0 | AK27: =AI27+AJ27 -> 0 | AL27: =R27*0.692% -> 0 | AQ27: =(T27-67.3)*0.057 -> -3.8361
D28: total mois | O28: =SUM(O23:O27) -> 0 | P28: =SUM(P23:P27) -> 0 | Q28: =SUM(Q23:Q27) -> 0 | R28: =SUM(R23:R27) -> 0 | S28: =SUM(S23:S27) -> 0 | T28: =SUM(T23:T27) -> 0 | U28: =SUM(U23:U27) -> 0 | V28: =SUM(V23:V27) -> 0 | ... AO28: =SUM(AO23:AO27) -> 0
Q29: =P29*13% -> 0 | R29: =P29+Q29 -> 0 | T29: =R29+S29 -> 0 | Y29: =R29*0.559% -> 0 | AC29: =R29-Z29-AA29-AB29 -> 0 | AL29: =R29*0.752% -> 0 | AM29: =O29*5.335 -> 0 | AN29: =2*O29 -> 0
D30: Mai | O30: 0 | R30: =SUM(P30,Q30) -> 0 | T30: =SUM(R30,S30) -> 0 | U30: =IF(AQ30<0,0,(T30-67.3)*0.057) -> 0 | Y30: =R30*0.494% -> 0 | AC30: =R30-Z30-AA30-AB30 -> 0 | AD30: =IF(P30=0,0,IF(VLOOKUP(AC30,'Table 52'!$A$2:$B$384,2,TRUE)>=VLOOKUP(Emp.1!AC30,'Table 52'!$C$2:$D$384,2,TRUE),MAX(VLOOKUP(Emp.1!AC30,'Table 52'!$A$2:$B$384,2,TRUE),VLOOKUP(Emp.1!AC30,'Table 52'!$C$2:$D$384,2,TRUE)),0)+55) -> 0 | AE30: =T30-AB30 -> 0 | AF30: =IF(P30=0,0,IF(VLOOKUP(AE30,'Table 52'!$E$2:$F$276,2,TRUE)>=VLOOKUP(Emp.1!AE30,'Table 52'!$G$2:$H$276,2,TRUE),MAX(VLOOKUP(Emp.1!AE30,'Table 52'!$E$2:$F$276,2,TRUE),VLOOKUP(Emp.1!AE30,'Table 52'!$G$2:$H$276,2,TRUE)),0)+100) -> 0 | AG30: =Q30 -> 0 | AH30: =SUM(U30,W30,Y30,Z30,AA30,AB30,AD30,AF30,AG30) -> 0 | AI30: =R30-AH30 -> 0 | AJ30: =O30*0.6 -> 0 | AK30: =AI30+AJ30 -> 0 | AL30: =R30*0.692% -> 0 | AQ30: =(T30-67.3)*0.057 -> -3.8361
D31: Mai | E31: 17 | R31: =SUM(P31,Q31) -> 0 | T31: =SUM(R31,S31) -> 0 | U31: =IF(AQ31<0,0,(T31-67.3)*0.057) -> 0 | Y31: =R31*0.494% -> 0 | AC31: =R31-Z31-AA31-AB31 -> 0 | AD31: =IF(P31=0,0,IF(VLOOKUP(AC31,'Table 52'!$A$2:$B$384,2,TRUE)>=VLOOKUP(Emp.1!AC31,'Table 52'!$C$2:$D$384,2,TRUE),MAX(VLOOKUP(Emp.1!AC31,'Table 52'!$A$2:$B$384,2,TRUE),VLOOKUP(Emp.1!AC31,'Table 52'!$C$2:$D$384,2,TRUE)),0)+55) -> 0 | AE31: =T31-AB31 -> 0 | AF31: =IF(P31=0,0,IF(VLOOKUP(AE31,'Table 52'!$E$2:$F$276,2,TRUE)>=VLOOKUP(Emp.1!AE31,'Table 52'!$G$2:$H$276,2,TRUE),MAX(VLOOKUP(Emp.1!AE31,'Table 52'!$E$2:$F$276,2,TRUE),VLOOKUP(Emp.1!AE31,'Table 52'!$G$2:$H$276,2,TRUE)),0)+100) -> 0 | AG31: =Q31 -> 0 | AH31: =SUM(U31,W31,Y31,Z31,AA31,AB31,AD31,AF31,AG31) -> 0 | AI31: =R31-AH31 -> 0 | AJ31: =O31*0.6 -> 0 | AK31: =AI31+AJ31 -> 0 | AL31: =R31*0.692% -> 0 | AQ31: =(T31-67.3)*0.057 -> -3.8361
D32: Mai | R32: =SUM(P32,Q32) -> 0 | T32: =SUM(R32,S32) -> 0 | U32: =IF(AQ32<0,0,(T32-67.3)*0.057) -> 0 | Y32: =R32*0.494% -> 0 | AC32: =R32-Z32-AA32-AB32 -> 0 | AD32: =IF(P32=0,0,IF(VLOOKUP(AC32,'Table 52'!$A$2:$B$384,2,TRUE)>=VLOOKUP(Emp.1!AC32,'Table 52'!$C$2:$D$384,2,TRUE),MAX(VLOOKUP(Emp.1!AC32,'Table 52'!$A$2:$B$384,2,TRUE),VLOOKUP(Emp.1!AC32,'Table 52'!$C$2:$D$384,2,TRUE)),0)+55) -> 0 | AE32: =T32-AB32 -> 0 | AF32: =IF(P32=0,0,IF(VLOOKUP(AE32,'Table 52'!$E$2:$F$276,2,TRUE)>=VLOOKUP(Emp.1!AE32,'Table 52'!$G$2:$H$276,2,TRUE),MAX(VLOOKUP(Emp.1!AE32,'Table 52'!$E$2:$F$276,2,TRUE),VLOOKUP(Emp.1!AE32,'Table 52'!$G$2:$H$276,2,TRUE)),0)+100) -> 0 | AG32: =Q32 -> 0 | AH32: =SUM(U32,W32,Y32,Z32,AA32,AB32,AD32,AF32,AG32) -> 0 | AI32: =R32-AH32 -> 0 | AJ32: =O32*0.6 -> 0 | AK32: =AI32+AJ32 -> 0 | AL32: =R32*0.692% -> 0 | AQ32: =(T32-67.3)*0.057 -> -3.8361
D33: Mai | R33: =SUM(P33,Q33) -> 0 | T33: =SUM(R33,S33) -> 0 | U33: =IF(AQ33<0,0,(T33-67.3)*0.057) -> 0 | Y33: =R33*0.494% -> 0 | AC33: =R33-Z33-AA33-AB33 -> 0 | AD33: =IF(P33=0,0,IF(VLOOKUP(AC33,'Table 52'!$A$2:$B$384,2,TRUE)>=VLOOKUP(Emp.1!AC33,'Table 52'!$C$2:$D$384,2,TRUE),MAX(VLOOKUP(Emp.1!AC33,'Table 52'!$A$2:$B$384,2,TRUE),VLOOKUP(Emp.1!AC33,'Table 52'!$C$2:$D$384,2,TRUE)),0)+55) -> 0 | AE33: =T33-AB33 -> 0 | AF33: =IF(P33=0,0,IF(VLOOKUP(AE33,'Table 52'!$E$2:$F$276,2,TRUE)>=VLOOKUP(Emp.1!AE33,'Table 52'!$G$2:$H$276,2,TRUE),MAX(VLOOKUP(Emp.1!AE33,'Table 52'!$E$2:$F$276,2,TRUE),VLOOKUP(Emp.1!AE33,'Table 52'!$G$2:$H$276,2,TRUE)),0)+100) -> 0 | AG33: =Q33 -> 0 | AH33: =SUM(U33,W33,Y33,Z33,AA33,AB33,AD33,AF33,AG33) -> 0 | AI33: =R33-AH33 -> 0 | AJ33: =O33*0.6 -> 0 | AK33: =AI33+AJ33 -> 0 | AL33: =R33*0.692% -> 0 | AQ33: =(T33-67.3)*0.057 -> -3.8361
D34: Mai | R34: =SUM(P34,Q34) -> 0 | T34: =SUM(R34,S34) -> 0 | U34: =IF(AQ34<0,0,(T34-67.3)*0.057) -> 0 | W34: 0 | Y34: =R34*0.494% -> 0 | AC34: =R34-Z34-AA34-AB34 -> 0 | AD34: =IF(P34=0,0,IF(VLOOKUP(AC34,'Table 52'!$A$2:$B$384,2,TRUE)>=VLOOKUP(Emp.1!AC34,'Table 52'!$C$2:$D$384,2,TRUE),MAX(VLOOKUP(Emp.1!AC34,'Table 52'!$A$2:$B$384,2,TRUE),VLOOKUP(Emp.1!AC34,'Table 52'!$C$2:$D$384,2,TRUE)),0)+55) -> 0 | AE34: =T34-AB34 -> 0 | AF34: =IF(P34=0,0,IF(VLOOKUP(AE34,'Table 52'!$E$2:$F$276,2,TRUE)>=VLOOKUP(Emp.1!AE34,'Table 52'!$G$2:$H$276,2,TRUE),MAX(VLOOKUP(Emp.1!AE34,'Table 52'!$E$2:$F$276,2,TRUE),VLOOKUP(Emp.1!AE34,'Table 52'!$G$2:$H$276,2,TRUE)),0)+100) -> 0 | AL34: =R34*0.692% -> 0 | AQ34: =(T34-67.3)*0.057 -> -3.8361
D35: total mois | O35: =SUM(O30:O34) -> 0 | P35: =SUM(P30:P34) -> 0 | Q35: =SUM(Q30:Q34) -> 0 | R35: =SUM(R30:R34) -> 0 | S35: =SUM(S30:S34) -> 0 | T35: =SUM(T30:T34) -> 0 | U35: =SUM(U30:U34) -> 0 | V35: =SUM(V30:V34) -> 0 | ... AO35: =SUM(AO30:AO34) -> 0
R36: =P36+Q36 -> 0 | T36: =R36+S36 -> 0 | Y36: =R36*0.559% -> 0 | AB36: =0.8*O36 -> 0 | AC36: =R36-Z36-AA36-AB36 -> 0 | AL36: =R36*0.752% -> 0 | AM36: =O36*5.335 -> 0 | AN36: =2*O36 -> 0
D37: Juin | R37: =SUM(P37,Q37) -> 0 | T37: =SUM(R37,S37) -> 0 | U37: =IF(AQ37<0,0,(T37-67.3)*0.057) -> 0 | Y37: =R37*0.494% -> 0 | AC37: =R37-Z37-AA37-AB37 -> 0 | AD37: =IF(P37=0,0,IF(VLOOKUP(AC37,'Table 52'!$A$2:$B$384,2,TRUE)>=VLOOKUP(Emp.1!AC37,'Table 52'!$C$2:$D$384,2,TRUE),MAX(VLOOKUP(Emp.1!AC37,'Table 52'!$A$2:$B$384,2,TRUE),VLOOKUP(Emp.1!AC37,'Table 52'!$C$2:$D$384,2,TRUE)),0)+55) -> 0 | AE37: =T37-AB37 -> 0 | AF37: =IF(P37=0,0,IF(VLOOKUP(AE37,'Table 52'!$E$2:$F$276,2,TRUE)>=VLOOKUP(Emp.1!AE37,'Table 52'!$G$2:$H$276,2,TRUE),MAX(VLOOKUP(Emp.1!AE37,'Table 52'!$E$2:$F$276,2,TRUE),VLOOKUP(Emp.1!AE37,'Table 52'!$G$2:$H$276,2,TRUE)),0)+100) -> 0 | AG37: =Q37 -> 0 | AH37: =SUM(U37,W37,Y37,Z37,AA37,AB37,AD37,AF37,AG37) -> 0 | AI37: =R37-AH37 -> 0 | AJ37: =O37*0.6 -> 0 | AK37: =AI37+AJ37 -> 0 | AL37: =R37*0.692% -> 0 | AQ37: =(T37-67.3)*0.057 -> -3.8361
D38: Juin | E38: 21 | R38: =SUM(P38,Q38) -> 0 | T38: =SUM(R38,S38) -> 0 | U38: =IF(AQ38<0,0,(T38-67.3)*0.057) -> 0 | Y38: =R38*0.494% -> 0 | AC38: =R38-Z38-AA38-AB38 -> 0 | AD38: =IF(P38=0,0,IF(VLOOKUP(AC38,'Table 52'!$A$2:$B$384,2,TRUE)>=VLOOKUP(Emp.1!AC38,'Table 52'!$C$2:$D$384,2,TRUE),MAX(VLOOKUP(Emp.1!AC38,'Table 52'!$A$2:$B$384,2,TRUE),VLOOKUP(Emp.1!AC38,'Table 52'!$C$2:$D$384,2,TRUE)),0)+55) -> 0 | AE38: =T38-AB38 -> 0 | AF38: =IF(P38=0,0,IF(VLOOKUP(AE38,'Table 52'!$E$2:$F$276,2,TRUE)>=VLOOKUP(Emp.1!AE38,'Table 52'!$G$2:$H$276,2,TRUE),MAX(VLOOKUP(Emp.1!AE38,'Table 52'!$E$2:$F$276,2,TRUE),VLOOKUP(Emp.1!AE38,'Table 52'!$G$2:$H$276,2,TRUE)),0)+100) -> 0 | AG38: =Q38 -> 0 | AH38: =SUM(U38,W38,Y38,Z38,AA38,AB38,AD38,AF38,AG38) -> 0 | AI38: =R38-AH38 -> 0 | AJ38: =O38*0.6 -> 0 | AK38: =AI38+AJ38 -> 0 | AL38: =R38*0.692% -> 0 | AQ38: =(T38-67.3)*0.057 -> -3.8361
D39: Juin | R39: =SUM(P39,Q39) -> 0 | T39: =SUM(R39,S39) -> 0 | U39: =IF(AQ39<0,0,(T39-67.3)*0.057) -> 0 | Y39: =R39*0.494% -> 0 | AC39: =R39-Z39-AA39-AB39 -> 0 | AD39: =IF(P39=0,0,IF(VLOOKUP(AC39,'Table 52'!$A$2:$B$384,2,TRUE)>=VLOOKUP(Emp.1!AC39,'Table 52'!$C$2:$D$384,2,TRUE),MAX(VLOOKUP(Emp.1!AC39,'Table 52'!$A$2:$B$384,2,TRUE),VLOOKUP(Emp.1!AC39,'Table 52'!$C$2:$D$384,2,TRUE)),0)+55) -> 0 | AE39: =T39-AB39 -> 0 | AF39: =IF(P39=0,0,IF(VLOOKUP(AE39,'Table 52'!$E$2:$F$276,2,TRUE)>=VLOOKUP(Emp.1!AE39,'Table 52'!$G$2:$H$276,2,TRUE),MAX(VLOOKUP(Emp.1!AE39,'Table 52'!$E$2:$F$276,2,TRUE),VLOOKUP(Emp.1!AE39,'Table 52'!$G$2:$H$276,2,TRUE)),0)+100) -> 0 | AG39: =Q39 -> 0 | AH39: =SUM(U39,W39,Y39,Z39,AA39,AB39,AD39,AF39,AG39) -> 0 | AI39: =R39-AH39 -> 0 | AJ39: =O39*0.6 -> 0 | AK39: =AI39+AJ39 -> 0 | AL39: =R39*0.692% -> 0 | AQ39: =(T39-67.3)*0.057 -> -3.8361
D40: Juin | R40: =SUM(P40,Q40) -> 0 | T40: =SUM(R40,S40) -> 0 | U40: =IF(AQ40<0,0,(T40-67.3)*0.057) -> 0 | Y40: =R40*0.494% -> 0 | AC40: =R40-Z40-AA40-AB40 -> 0 | AD40: =IF(P40=0,0,IF(VLOOKUP(AC40,'Table 52'!$A$2:$B$384,2,TRUE)>=VLOOKUP(Emp.1!AC40,'Table 52'!$C$2:$D$384,2,TRUE),MAX(VLOOKUP(Emp.1!AC40,'Table 52'!$A$2:$B$384,2,TRUE),VLOOKUP(Emp.1!AC40,'Table 52'!$C$2:$D$384,2,TRUE)),0)+55) -> 0 | AE40: =T40-AB40 -> 0 | AF40: =IF(P40=0,0,IF(VLOOKUP(AE40,'Table 52'!$E$2:$F$276,2,TRUE)>=VLOOKUP(Emp.1!AE40,'Table 52'!$G$2:$H$276,2,TRUE),MAX(VLOOKUP(Emp.1!AE40,'Table 52'!$E$2:$F$276,2,TRUE),VLOOKUP(Emp.1!AE40,'Table 52'!$G$2:$H$276,2,TRUE)),0)+100) -> 0 | AG40: =Q40 -> 0 | AH40: =SUM(U40,W40,Y40,Z40,AA40,AB40,AD40,AF40,AG40) -> 0 | AI40: =R40-AH40 -> 0 | AJ40: =O40*0.6 -> 0 | AK40: =AI40+AJ40 -> 0 | AL40: =R40*0.692% -> 0 | AQ40: =(T40-67.3)*0.057 -> -3.8361
D41: Juin | Q41: =P41*13% -> 0 | R41: =SUM(P41,Q41) -> 0 | T41: =SUM(R41,S41) -> 0 | U41: =IF(AQ41<0,0,(T41-67.3)*0.057) -> 0 | W41: 0 | Y41: =R41*0.494% -> 0 | AC41: =R41-Z41-AA41-AB41 -> 0 | AD41: =IF(P41=0,0,IF(VLOOKUP(AC41,'Table 52'!$A$2:$B$384,2,TRUE)>=VLOOKUP(Emp.1!AC41,'Table 52'!$C$2:$D$384,2,TRUE),MAX(VLOOKUP(Emp.1!AC41,'Table 52'!$A$2:$B$384,2,TRUE),VLOOKUP(Emp.1!AC41,'Table 52'!$C$2:$D$384,2,TRUE)),0)+55) -> 0 | AE41: =T41-AB41 -> 0 | AF41: =IF(P41=0,0,IF(VLOOKUP(AE41,'Table 52'!$E$2:$F$276,2,TRUE)>=VLOOKUP(Emp.1!AE41,'Table 52'!$G$2:$H$276,2,TRUE),MAX(VLOOKUP(Emp.1!AE41,'Table 52'!$E$2:$F$276,2,TRUE),VLOOKUP(Emp.1!AE41,'Table 52'!$G$2:$H$276,2,TRUE)),0)+100) -> 0 | AL41: =R41*0.692% -> 0 | AQ41: =(T41-67.3)*0.057 -> -3.8361
...

Sheet Empl.2
D1: Mois | E1: SemFin | F1: di | G1: lu | H1: ma | I1: me | J1: je | K1: ve | L1: sa | M1: Rég | N1: hr | O1: HrCCQ | P1: Nbr h. | Q1: S. sem | R1: h. pér | S1: S. pér | T1: Sal. Brut | U1: Vacanc | V1: Total rén | W1: Av.impos | X1: Total | Y1: R.R.Q. | Z1: Cumul. | AA1: AssEmploi | AB1: Gainsass | AC1: RQAP | AD1: PrélCCQ | AE1: cotis.synd | AF1: Avant.Soc | AG1: Sal/admféd | AH1: Impôt féd | AI1: Sal/admpr | AJ1: Impôt prov. | AK1: Vacanc | AL1: Déduction | AM1: TOTAL | AN1: Équip | AO1: Remb. Km | AP1: Sal. net | AQ1: RQAPempl | AR1: av. emp | AS1: txass | AT1: cont sec | AW1: Vac. à payer
C2: 1 | D2: 2 | E2: 3 | F2: 4 | G2: 5 | H2: 6 | I2: 7 | J2: 8 | K2: 9 | L2: 10 | M2: 11 | N2: 12 | O2: 13 | P2: 14 | Q2: 15 | R2: 16 | S2: 17 | T2: 18 | U2: 19 | V2: 20 | W2: 21 | X2: 22 | Y2: 23 | Z2: 24 | AA2: 25 | AB2: 26 | AC2: 27 | AD2: 28 | AE2: 29 | AF2: 30 | AG2: 31 | AH2: 32 | AI2: 33 | AJ2: 34 | AK2: 35 | AL2: 36 | AM2: 37 | AN2: 38 | AO2: 39 | AP2: 40 | AQ2: 41 | AR2: 42 | AS2: 43 | AT2: 44 | AU2: 45 | AV2: 46 | AW2: 47
D4: janvier | M4: 0 | O4: 0 | V4: =T4+U4 -> 0 | W4: =1.879*O4 -> 0 | X4: =V4+W4 -> 0 | Y4: =IF(AV4<0,0,(X4-134.62)*0.057) -> 0 | AA4: =V4*1.2% -> 0 | AC4: =V4*0.494% -> 0 | AG4: =V4-AD4-AE4-AF4 -> 0 | AH4: =IF(VLOOKUP(AG4,'Table 26'!$A$2:$C$438,2,TRUE)>=VLOOKUP(AG4,'Table 26'!$C$2:$D$438,2,TRUE),MAX(VLOOKUP(AG4,'Table 26'!$A$2:$B$438,2,TRUE),VLOOKUP(AG4,'Table 26'!$C$2:$D$438,2,TRUE)),0) -> 0 | AI4: =X4-AF4 -> 0 | AJ4: =IF(VLOOKUP(AI4,'Table 26'!$E$2:$F$306,2,TRUE)>=VLOOKUP(AI4,'Table 26'!$G$2:$H$306,2,TRUE),MAX(VLOOKUP(AI4,'Table 26'!$E$2:$F$306,2,TRUE),VLOOKUP(AI4,'Table 26'!$G$2:$H$306,2,TRUE)),0) -> 0 | AL4: =Y4+AA4+AC4+AD4+AE4+AF4+AH4+AJ4+AK4 -> 0 | AM4: =V4-AL4 -> 0 | AP4: =AM4+AN4+AO4 -> 0 | AQ4: =V4*0.692% -> 0 | AV4: =(X4-134.62)*0.057 -> -7.67334 | AW4: =T4*0.04 -> 0
D5: janvier | M5: 0 | V5: =T5+U5 -> 0 | W5: =O5*1.998 -> 0 | X5: =V5+W5 -> 0 | Y5: =IF(AV5<0,0,(X5-134.62)*0.057) -> 0 | AA5: =V5*1.2% -> 0 | AC5: =V5*0.494% -> 0 | AG5: =V5-AD5-AE5-AF5 -> 0 | AH5: =IF(VLOOKUP(AG5,'Table 26'!$A$2:$C$438,2,TRUE)>=VLOOKUP(AG5,'Table 26'!$C$2:$D$438,2,TRUE),MAX(VLOOKUP(AG5,'Table 26'!$A$2:$B$438,2,TRUE),VLOOKUP(AG5,'Table 26'!$C$2:$D$438,2,TRUE)),0) -> 0 | AI5: =X5-AF5 -> 0 | AJ5: =IF(VLOOKUP(AI5,'Table 26'!$E$2:$F$306,2,TRUE)>=VLOOKUP(AI5,'Table 26'!$G$2:$H$306,2,TRUE),MAX(VLOOKUP(AI5,'Table 26'!$E$2:$F$306,2,TRUE),VLOOKUP(AI5,'Table 26'!$G$2:$H$306,2,TRUE)),0) -> 0 | AL5: =Y5+AA5+AC5+AD5+AE5+AF5+AH5+AJ5+AK5 -> 0 | AM5: =V5-AL5 -> 0 | AP5: =AM5+AN5+AO5 -> 0 | AQ5: =V5*0.692% -> 0 | AR5: =O5*5.335 -> 0 | AS5: =2*O5 -> 0 | AT5: =0.04*O5 -> 0 | AV5: =(X5-134.62)*0.057 -> -7.67334 | AW5: =T5*0.04 -> 0
D6: janvier | M6: 0 | V6: =T6+U6 -> 0 | W6: =O6*1.998 -> 0 | X6: =V6+W6 -> 0 | Y6: =IF(AV6<0,0,(X6-134.62)*0.057) -> 0 | AA6: =V6*1.2% -> 0 | AC6: =V6*0.494% -> 0 | AG6: =V6-AD6-AE6-AF6 -> 0 | AH6: =IF(VLOOKUP(AG6,'Table 26'!$A$2:$C$438,2,TRUE)>=VLOOKUP(AG6,'Table 26'!$C$2:$D$438,2,TRUE),MAX(VLOOKUP(AG6,'Table 26'!$A$2:$B$438,2,TRUE),VLOOKUP(AG6,'Table 26'!$C$2:$D$438,2,TRUE)),0) -> 0 | AI6: =X6-AF6 -> 0 | AJ6: =IF(VLOOKUP(AI6,'Table 26'!$E$2:$F$306,2,TRUE)>=VLOOKUP(AI6,'Table 26'!$G$2:$H$306,2,TRUE),MAX(VLOOKUP(AI6,'Table 26'!$E$2:$F$306,2,TRUE),VLOOKUP(AI6,'Table 26'!$G$2:$H$306,2,TRUE)),0) -> 0 | AL6: =Y6+AA6+AC6+AD6+AE6+AF6+AH6+AJ6+AK6 -> 0 | AM6: =V6-AL6 -> 0 | AP6: =AM6+AN6+AO6 -> 0 | AQ6: =V6*0.692% -> 0 | AR6: =O6*5.335 -> 0 | AS6: =2*O6 -> 0 | AT6: =0.04*O6 -> 0 | AV6: =(X6-134.62)*0.057 -> -7.67334 | AW6: =T6*0.04 -> 0
D7: janvier | M7: 0 | V7: =T7+U7 -> 0 | W7: =O7*1.998 -> 0 | X7: =V7+W7 -> 0 | Y7: =IF(AV7<0,0,(X7-134.62)*0.057) -> 0 | AA7: =V7*1.2% -> 0 | AC7: =V7*0.494% -> 0 | AG7: =V7-AD7-AE7-AF7 -> 0 | AH7: =IF(VLOOKUP(AG7,'Table 26'!$A$2:$C$438,2,TRUE)>=VLOOKUP(AG7,'Table 26'!$C$2:$D$438,2,TRUE),MAX(VLOOKUP(AG7,'Table 26'!$A$2:$B$438,2,TRUE),VLOOKUP(AG7,'Table 26'!$C$2:$D$438,2,TRUE)),0) -> 0 | AI7: =X7-AF7 -> 0 | AJ7: =IF(VLOOKUP(AI7,'Table 26'!$E$2:$F$306,2,TRUE)>=VLOOKUP(AI7,'Table 26'!$G$2:$H$306,2,TRUE),MAX(VLOOKUP(AI7,'Table 26'!$E$2:$F$306,2,TRUE),VLOOKUP(AI7,'Table 26'!$G$2:$H$306,2,TRUE)),0) -> 0 | AL7: =Y7+AA7+AC7+AD7+AE7+AF7+AH7+AJ7+AK7 -> 0 | AM7: =V7-AL7 -> 0 | AP7: =AM7+AN7+AO7 -> 0 | AQ7: =V7*0.692% -> 0 | AR7: =O7*5.335 -> 0 | AS7: =2*O7 -> 0 | AT7: =0.04*O7 -> 0 | AV7: =(X7-134.62)*0.057 -> -7.67334 | AW7: =T7*0.04 -> 0
D8: janvier | V8: =T8+U8 -> 0 | W8: =O8*1.998 -> 0 | X8: =V8+W8 -> 0 | Y8: =IF(AV8<0,0,(X8-134.62)*0.057) -> 0 | AA8: =V8*1.2% -> 0 | AC8: =V8*0.494% -> 0 | AG8: =V8-AD8-AE8-AF8 -> 0 | AH8: =IF(VLOOKUP(AG8,'Table 26'!$A$2:$C$438,2,TRUE)>=VLOOKUP(AG8,'Table 26'!$C$2:$D$438,2,TRUE),MAX(VLOOKUP(AG8,'Table 26'!$A$2:$B$438,2,TRUE),VLOOKUP(AG8,'Table 26'!$C$2:$D$438,2,TRUE)),0) -> 0 | AI8: =X8-AF8 -> 0 | AJ8: =IF(VLOOKUP(AI8,'Table 26'!$E$2:$F$306,2,TRUE)>=VLOOKUP(AI8,'Table 26'!$G$2:$H$306,2,TRUE),MAX(VLOOKUP(AI8,'Table 26'!$E$2:$F$306,2,TRUE),VLOOKUP(AI8,'Table 26'!$G$2:$H$306,2,TRUE)),0) -> 0 | AL8: =Y8+AA8+AC8+AD8+AE8+AF8+AH8+AJ8+AK8 -> 0 | AM8: =V8-AL8 -> 0 | AP8: =AM8+AN8+AO8 -> 0 | AQ8: =V8*0.692% -> 0 | AR8: =O8*5.335 -> 0 | AS8: =2*O8 -> 0 | AT8: =0.04*O8 -> 0 | AV8: =(X8-134.62)*0.057 -> -7.67334 | AW8: =T8*0.04 -> 0
D9: Total mois | M9: 0 | N9: 0 | O9: =SUM(O4:O8) -> 0 | T9: =SUM(T4:T8) -> 0 | U9: =SUM(U4:U8) -> 0 | V9: =SUM(V4:V8) -> 0 | W9: =SUM(W4:W8) -> 0 | X9: =SUM(X4:X8) -> 0 | Y9: =SUM(Y4:Y8) -> 0 | Z9: =SUM(Z4:Z8) -> 0 | AA9: =SUM(AA4:AA8) -> 0 | ... AU9: =SUM(AU4:AU8) -> 0 | AW9: =SUM(AW4:AW8) -> 0
AR10: =O10*5.335 -> 0 | AS10: =2*O10 -> 0 | AT10: =0.04*O10 -> 0
D11: Février | E11: 1 | M11: 0 | P11: 15 | Q11: 375 | V11: =T11+U11 -> 0 | W11: =O11*1.998 -> 0 | X11: =V11+W11 -> 0 | Y11: =IF(AV11<0,0,(X11-134.62)*0.057) -> 0 | AA11: =V11*1.2% -> 0 | AC11: =V11*0.494% -> 0 | AG11: =V11-AD11-AE11-AF11 -> 0 | AH11: =IF(VLOOKUP(AG11,'Table 26'!$A$2:$C$438,2,TRUE)>=VLOOKUP(AG11,'Table 26'!$C$2:$D$438,2,TRUE),MAX(VLOOKUP(AG11,'Table 26'!$A$2:$B$438,2,TRUE),VLOOKUP(AG11,'Table 26'!$C$2:$D$438,2,TRUE)),0) -> 0 | AI11: =X11-AF11 -> 0 | AJ11: =IF(VLOOKUP(AI11,'Table 26'!$E$2:$F$306,2,TRUE)>=VLOOKUP(AI11,'Table 26'!$G$2:$H$306,2,TRUE),MAX(VLOOKUP(AI11,'Table 26'!$E$2:$F$306,2,TRUE),VLOOKUP(AI11,'Table 26'!$G$2:$H$306,2,TRUE)),0) -> 0 | AL11: =Y11+AA11+AC11+AD11+AE11+AF11+AH11+AJ11+AK11 -> 0 | AM11: =V11-AL11 -> 0 | AP11: =AM11+AN11+AO11 -> 0 | AQ11: =V11*0.692% -> 0 | AR11: =O11*5.335 -> 0 | AS11: =2*O11 -> 0 | AT11: =0.04*O11 -> 0 | AV11: =(X11-134.62)*0.057 -> -7.67334 | AW11: =T11*0.04 -> 0
C12: 3 | D12: Février | E12: 8 | M12: 0 | P12: 15 | Q12: 375 | R12: =P11+P12 -> 30 | S12: =Q11+Q12 -> 750 | T12: 750 | V12: =T12+U12 -> 750 | W12: =O12*1.998 -> 0 | X12: =V12+W12 -> 750 | Y12: =IF(AV12<0,0,(X12-134.62)*0.057) -> 35.07666 | AA12: =V12*1.2% -> 9 | AC12: =V12*0.494% -> 3.705 | AG12: =V12-AD12-AE12-AF12 -> 750 | AH12: =IF(VLOOKUP(AG12,'Table 26'!$A$2:$C$438,2,TRUE)>=VLOOKUP(AG12,'Table 26'!$C$2:$D$438,2,TRUE),MAX(VLOOKUP(AG12,'Table 26'!$A$2:$B$438,2,TRUE),VLOOKUP(AG12,'Table 26'!$C$2:$D$438,2,TRUE)),0) -> 22.6 | AI12: =X12-AF12 -> 750 | AJ12: =IF(VLOOKUP(AI12,'Table 26'!$E$2:$F$306,2,TRUE)>=VLOOKUP(AI12,'Table 26'!$G$2:$H$306,2,TRUE),MAX(VLOOKUP(AI12,'Table 26'!$E$2:$F$306,2,TRUE),VLOOKUP(AI12,'Table 26'!$G$2:$H$306,2,TRUE)),0) -> 16.85 | AL12: =Y12+AA12+AC12+AD12+AE12+AF12+AH12+AJ12+AK12 -> 87.23166 | AM12: =V12-AL12 -> 662.76834 | AO12: 54 | AP12: =AM12+AN12+AO12 -> 716.76834 | AQ12: =V12*0.692% -> 5.19 | AR12: =O12*5.335 -> 0 | AS12: =2*O12 -> 0 | AT12: =0.04*O12 -> 0 | AV12: =(X12-134.62)*0.057 -> 35.07666 | AW12: =T12*0.04 -> 30
D13: Février | E13: 15 | M13: 0 | P13: 15 | Q13: 500 | V13: =T13+U13 -> 0 | W13: =O13*1.998 -> 0 | X13: =V13+W13 -> 0 | Y13: =IF(AV13<0,0,(X13-134.62)*0.057) -> 0 | AA13: =V13*1.2% -> 0 | AC13: =V13*0.494% -> 0 | AG13: =V13-AD13-AE13-AF13 -> 0 | AH13: =IF(VLOOKUP(AG13,'Table 26'!$A$2:$C$438,2,TRUE)>=VLOOKUP(AG13,'Table 26'!$C$2:$D$438,2,TRUE),MAX(VLOOKUP(AG13,'Table 26'!$A$2:$B$438,2,TRUE),VLOOKUP(AG13,'Table 26'!$C$2:$D$438,2,TRUE)),0) -> 0 | AI13: =X13-AF13 -> 0 | AJ13: =IF(VLOOKUP(AI13,'Table 26'!$E$2:$F$306,2,TRUE)>=VLOOKUP(AI13,'Table 26'!$G$2:$H$306,2,TRUE),MAX(VLOOKUP(AI13,'Table 26'!$E$2:$F$306,2,TRUE),VLOOKUP(AI13,'Table 26'!$G$2:$H$306,2,TRUE)),0) -> 0 | AL13: =Y13+AA13+AC13+AD13+AE13+AF13+AH13+AJ13+AK13 -> 0 | AM13: =V13-AL13 -> 0 | AP13: =AM13+AN13+AO13 -> 0 | AQ13: =V13*0.692% -> 0 | AR13: =O13*5.335 -> 0 | AS13: =2*O13 -> 0 | AT13: =0.04*O13 -> 0 | AV13: =(X13-134.62)*0.057 -> -7.67334 | AW13: =T13*0.04 -> 0
C14: 4 | D14: Février | E14: 22 | M14: 0 | P14: 15 | Q14: 500 | R14: =P13+P14 -> 30 | S14: =Q13+Q14 -> 1000 | T14: 1000 | V14: =T14+U14 -> 1000 | W14: =O14*1.998 -> 0 | X14: =V14+W14 -> 1000 | Y14: =IF(AV14<0,0,(X14-134.62)*0.057) -> 49.32666 | AA14: =V14*1.2% -> 12 | AC14: =V14*0.494% -> 4.94 | AG14: =V14-AD14-AE14-AF14 -> 1000 | AH14: =IF(VLOOKUP(AG14,'Table 26'!$A$2:$C$438,2,TRUE)>=VLOOKUP(AG14,'Table 26'!$C$2:$D$438,2,TRUE),MAX(VLOOKUP(AG14,'Table 26'!$A$2:$B$438,2,TRUE),VLOOKUP(AG14,'Table 26'!$C$2:$D$438,2,TRUE)),0) -> 51.6 | AI14: =X14-AF14 -> 1000 | AJ14: =IF(VLOOKUP(AI14,'Table 26'!$E$2:$F$306,2,TRUE)>=VLOOKUP(AI14,'Table 26'!$G$2:$H$306,2,TRUE),MAX(VLOOKUP(AI14,'Table 26'!$E$2:$F$306,2,TRUE),VLOOKUP(AI14,'Table 26'!$G$2:$H$306,2,TRUE)),0) -> 55.03 | AL14: =Y14+AA14+AC14+AD14+AE14+AF14+AH14+AJ14+AK14 -> 172.89666 | AM14: =V14-AL14 -> 827.10334 | AP14: =AM14+AN14+AO14 -> 827.10334 | AQ14: =V14*0.692% -> 6.92 | AR14: =O14*5.335 -> 0 | AS14: =2*O14 -> 0 | AT14: =0.04*O14 -> 0 | AV14: =(X14-134.62)*0.057 -> 49.32666 | AW14: =T14*0.04 -> 40
D15: Février | E15: 29 | AI15: =X15-AF15 -> 0 | AP15: =AM15+AN15+AO15 -> 0
D16: Total mois | M16: 0 | N16: 0 | O16: =SUM(O11:O14) -> 0 | T16: =SUM(T11:U15) -> 1750 | U16: =SUM(U11:V15) -> 1750 | V16: =SUM(V11:W15) -> 1750 | W16: =SUM(W11:X15) -> 1750 | X16: =SUM(X11:Y15) -> 1834.4033 | Y16: =SUM(Y11:Z15) -> 84.40332 | Z16: =SUM(Z11:AA15) -> 21 | AA16: =SUM(AA11:AB15) -> 21 | ... AH16: =SUM(AH11:AI15) -> 1824.2 | AI16: =SUM(AI11:AI15) -> 1750 | AJ16: =SUM(AJ11:AK15) -> 71.88 | AK16: =SUM(AK11:AK15) -> 0 | AL16: =SUM(AL11:AM15) -> 1750 | AM16: =SUM(AM11:AN15) -> 1489.8717 | AN16: =SUM(AN11:AP15) -> 1597.8717 | AO16: =SUM(AO11:AO15) -> 54 | AP16: =SUM(AP11:AP15) -> 1543.8717 | AQ16: =SUM(AQ11:AR15) -> 12.11 | AR16: =SUM(AR11:AS15) -> 0 | AS16: =SUM(AS11:AT15) -> 0 | AT16: =SUM(AT11:AU15) -> 0 | AU16: =SUM(AU11:AV15) -> 69.05664 | AV16: =SUM(AV11:AW15) -> 139.05664 | AW16: =SUM(AW11:AX15) -> 70
AR17: =O17*5.335 -> 0 | AS17: =2*O17 -> 0 | AT17: =0.04*O17 -> 0
C18: 5 | D18: Mars | E18: 7 | R18: =P15+P18 -> 0 | S18: =Q18+Q15 -> 0 | V18: =T18+U18 -> 0 | W18: =O18*1.998 -> 0 | X18: =V18+W18 -> 0 | Y18: =IF(AV18<0,0,(X18-134.62)*0.057) -> 0 | AA18: =V18*1.2% -> 0 | AC18: =V18*0.494% -> 0 | AG18: =V18-AD18-AE18-AF18 -> 0 | AH18: =IF(VLOOKUP(AG18,'Table 26'!$A$2:$C$438,2,TRUE)>=VLOOKUP(AG18,'Table 26'!$C$2:$D$438,2,TRUE),MAX(VLOOKUP(AG18,'Table 26'!$A$2:$B$438,2,TRUE),VLOOKUP(AG18,'Table 26'!$C$2:$D$438,2,TRUE)),0) -> 0 | AI18: =X18-AF18 -> 0 | AJ18: =IF(VLOOKUP(AI18,'Table 26'!$E$2:$F$306,2,TRUE)>=VLOOKUP(AI18,'Table 26'!$G$2:$H$306,2,TRUE),MAX(VLOOKUP(AI18,'Table 26'!$E$2:$F$306,2,TRUE),VLOOKUP(AI18,'Table 26'!$G$2:$H$306,2,TRUE)),0) -> 0 | AL18: =Y18+AA18+AC18+AD18+AE18+AF18+AH18+AJ18+AK18 -> 0 | AM18: =V18-AL18 -> 0 | AP18: =AM18+AN18+AO18 -> 0 | AQ18: =V18*0.692% -> 0 | AV18: =(X18-134.62)*0.057 -> -7.67334 | AW18: =T18*0.04 -> 0
D19: Mars | E19: 14 | V19: =T19+U19 -> 0 | W19: =O19*1.998 -> 0 | X19: =V19+W19 -> 0 | Y19: =IF(AV19<0,0,(X19-134.62)*0.057) -> 0 | AA19: =V19*1.2% -> 0 | AC19: =V19*0.494% -> 0 | AG19: =V19-AD19-AE19-AF19 -> 0 | AH19: =IF(VLOOKUP(AG19,'Table 26'!$A$2:$C$438,2,TRUE)>=VLOOKUP(AG19,'Table 26'!$C$2:$D$438,2,TRUE),MAX(VLOOKUP(AG19,'Table 26'!$A$2:$B$438,2,TRUE),VLOOKUP(AG19,'Table 26'!$C$2:$D$438,2,TRUE)),0) -> 0 | AI19: =X19-AF19 -> 0 | AJ19: =IF(VLOOKUP(AI19,'Table 26'!$E$2:$F$306,2,TRUE)>=VLOOKUP(AI19,'Table 26'!$G$2:$H$306,2,TRUE),MAX(VLOOKUP(AI19,'Table 26'!$E$2:$F$306,2,TRUE),VLOOKUP(AI19,'Table 26'!$G$2:$H$306,2,TRUE)),0) -> 0 | AL19: =Y19+AA19+AC19+AD19+AE19+AF19+AH19+AJ19+AK19 -> 0 | AM19: =V19-AL19 -> 0 | AP19: =AM19+AN19+AO19 -> 0 | AQ19: =V19*0.692% -> 0 | AR19: =O19*5.335 -> 0 | AS19: =2*O19 -> 0 | AT19: =0.04*O19 -> 0 | AV19: =(X19-134.62)*0.057 -> -7.67334 | AW19: =T19*0.04 -> 0
C20: 6 | D20: Mars | E20: 21 | M20: 0 | O20: 0 | R20: =P19+P20 -> 0 | S20: =Q19+Q20 -> 0 | V20: =T20+U20 -> 0 | W20: =O20*1.998 -> 0 | X20: =V20+W20 -> 0 | Y20: =IF(AV20<0,0,(X20-134.62)*0.057) -> 0 | AA20: =V20*1.2% -> 0 | AC20: =V20*0.494% -> 0 | AG20: =V20-AD20-AE20-AF20 -> 0 | AH20: =IF(VLOOKUP(AG20,'Table 26'!$A$2:$C$438,2,TRUE)>=VLOOKUP(AG20,'Table 26'!$C$2:$D$438,2,TRUE),MAX(VLOOKUP(AG20,'Table 26'!$A$2:$B$438,2,TRUE),VLOOKUP(AG20,'Table 26'!$C$2:$D$438,2,TRUE)),0) -> 0 | AI20: =X20-AF20 -> 0 | AJ20: =IF(VLOOKUP(AI20,'Table 26'!$E$2:$F$306,2,TRUE)>=VLOOKUP(AI20,'Table 26'!$G$2:$H$306,2,TRUE),MAX(VLOOKUP(AI20,'Table 26'!$E$2:$F$306,2,TRUE),VLOOKUP(AI20,'Table 26'!$G$2:$H$306,2,TRUE)),0) -> 0 | AL20: =Y20+AA20+AC20+AD20+AE20+AF20+AH20+AJ20+AK20 -> 0 | AM20: =V20-AL20 -> 0 | AP20: =AM20+AN20+AO20 -> 0 | AQ20: =V20*0.692% -> 0 | AR20: =O20*5.335 -> 0 | AS20: =2*O20 -> 0 | AT20: =0.04*O20 -> 0 | AV20: =(X20-134.62)*0.057 -> -7.67334 | AW20: =T20*0.04 -> 0
D21: Mars | E21: 28 | M21: 0 | O21: 0 | V21: =T21+U21 -> 0 | W21: =O21*1.998 -> 0 | X21: =V21+W21 -> 0 | Y21: =IF(AV21<0,0,(X21-134.62)*0.057) -> 0 | AA21: =V21*1.2% -> 0 | AC21: =V21*0.494% -> 0 | AG21: =V21-AD21-AE21-AF21 -> 0 | AH21: =IF(VLOOKUP(AG21,'Table 26'!$A$2:$C$438,2,TRUE)>=VLOOKUP(AG21,'Table 26'!$C$2:$D$438,2,TRUE),MAX(VLOOKUP(AG21,'Table 26'!$A$2:$B$438,2,TRUE),VLOOKUP(AG21,'Table 26'!$C$2:$D$438,2,TRUE)),0) -> 0 | AI21: =X21-AF21 -> 0 | AJ21: =IF(VLOOKUP(AI21,'Table 26'!$E$2:$F$306,2,TRUE)>=VLOOKUP(AI21,'Table 26'!$G$2:$H$306,2,TRUE),MAX(VLOOKUP(AI21,'Table 26'!$E$2:$F$306,2,TRUE),VLOOKUP(AI21,'Table 26'!$G$2:$H$306,2,TRUE)),0) -> 0 | AL21: =Y21+AA21+AC21+AD21+AE21+AF21+AH21+AJ21+AK21 -> 0 | AM21: =V21-AL21 -> 0 | AP21: =AM21+AN21+AO21 -> 0 | AQ21: =V21*0.692% -> 0 | AR21: =O21*5.335 -> 0 | AS21: =2*O21 -> 0 | AT21: =0.04*O21 -> 0 | AV21: =(X21-134.62)*0.057 -> -7.67334 | AW21: =T21*0.04 -> 0
D22: Mars | M22: 0 | O22: 0 | V22: =T22+U22 -> 0 | W22: =O22*1.998 -> 0 | X22: =V22+W22 -> 0 | Y22: =IF(AV22<0,0,(X22-134.62)*0.057) -> 0 | AA22: =V22*1.2% -> 0 | AC22: =V22*0.494% -> 0 | AG22: =V22-AD22-AE22-AF22 -> 0 | AH22: =IF(VLOOKUP(AG22,'Table 26'!$A$2:$C$438,2,TRUE)>=VLOOKUP(AG22,'Table 26'!$C$2:$D$438,2,TRUE),MAX(VLOOKUP(AG22,'Table 26'!$A$2:$B$438,2,TRUE),VLOOKUP(AG22,'Table 26'!$C$2:$D$438,2,TRUE)),0) -> 0 | AI22: =X22-AF22 -> 0 | AJ22: =IF(VLOOKUP(AI22,'Table 26'!$E$2:$F$306,2,TRUE)>=VLOOKUP(AI22,'Table 26'!$G$2:$H$306,2,TRUE),MAX(VLOOKUP(AI22,'Table 26'!$E$2:$F$306,2,TRUE),VLOOKUP(AI22,'Table 26'!$G$2:$H$306,2,TRUE)),0) -> 0 | AL22: =Y22+AA22+AC22+AD22+AE22+AF22+AH22+AJ22+AK22 -> 0 | AM22: =V22-AL22 -> 0 | AP22: =AM22+AN22+AO22 -> 0 | AQ22: =V22*0.692% -> 0 | AR22: =O22*5.335 -> 0 | AS22: =2*O22 -> 0 | AT22: =0.04*O22 -> 0 | AV22: =(X22-134.62)*0.057 -> -7.67334 | AW22: =T22*0.04 -> 0
D23: Total mois | M23: 0 | N23: 0 | O23: =SUM(O18:O22) -> 0 | T23: =SUM(T18:T22) -> 0 | U23: =SUM(U18:U22) -> 0 | V23: =SUM(V18:V22) -> 0 | W23: =SUM(W18:W22) -> 0 | X23: =SUM(X18:X22) -> 0 | Y23: =SUM(Y18:Y22) -> 0 | Z23: =SUM(Z18:Z22) -> 0 | AA23: =SUM(AA18:AA22) -> 0 | ... AU23: =SUM(AU18:AU22) -> 0 | AW23: =SUM(AW18:AW22) -> 0
V24: =T24+U24 -> 0 | W24: =O24*1.998 -> 0 | X24: =V24+W24 -> 0 | AC24: =V24*0.559% -> 0 | AG24: =V24-AD24-AE24-AF24 -> 0 | AI24: =X24-AF24 -> 0 | AL24: =Y24+AA24+AC24+AD24+AE24+AF24+AH24+AJ24+AK24 -> 0 | AQ24: =V24*0.782% -> 0 | AR24: =O24*5.335 -> 0 | AS24: =2*O24 -> 0
C25: 7 | D25: Avril | E25: 4 | M25: 0 | O25: 0 | R25: =P21+P25 -> 0 | S25: =Q21+Q25 -> 0 | V25: =T25+U25 -> 0 | W25: =O25*1.998 -> 0 | X25: =V25+W25 -> 0 | Y25: =IF(AV25<0,0,(X25-134.62)*0.057) -> 0 | AA25: =V25*1.2% -> 0 | AC25: =V25*0.494% -> 0 | AG25: =V25-AD25-AE25-AF25 -> 0 | AH25: =IF(VLOOKUP(AG25,'Table 26'!$A$2:$C$438,2,TRUE)>=VLOOKUP(AG25,'Table 26'!$C$2:$D$438,2,TRUE),MAX(VLOOKUP(AG25,'Table 26'!$A$2:$B$438,2,TRUE),VLOOKUP(AG25,'Table 26'!$C$2:$D$438,2,TRUE)),0) -> 0 | AI25: =X25-AF25 -> 0 | AJ25: =IF(VLOOKUP(AI25,'Table 26'!$E$2:$F$306,2,TRUE)>=VLOOKUP(AI25,'Table 26'!$G$2:$H$306,2,TRUE),MAX(VLOOKUP(AI25,'Table 26'!$E$2:$F$306,2,TRUE),VLOOKUP(AI25,'Table 26'!$G$2:$H$306,2,TRUE)),0) -> 0 | AL25: =Y25+AA25+AC25+AD25+AE25+AF25+AH25+AJ25+AK25 -> 0 | AM25: =V25-AL25 -> 0 | AP25: =AM25+AN25+AO25 -> 0 | AQ25: =V25*0.692% -> 0 | AV25: =(X25-134.62)*0.057 -> -7.67334 | AW25: =T25*0.04 -> 0
D26: Avril | E26: 11 | O26: 0 | V26: =T26+U26 -> 0 | W26: =O26*1.998 -> 0 | X26: =V26+W26 -> 0 | Y26: =IF(AV26<0,0,(X26-134.62)*0.057) -> 0 | AA26: =V26*1.2% -> 0 | AC26: =V26*0.494% -> 0 | AG26: =V26-AD26-AE26-AF26 -> 0 | AH26: =IF(VLOOKUP(AG26,'Table 26'!$A$2:$C$438,2,TRUE)>=VLOOKUP(AG26,'Table 26'!$C$2:$D$438,2,TRUE),MAX(VLOOKUP(AG26,'Table 26'!$A$2:$B$438,2,TRUE),VLOOKUP(AG26,'Table 26'!$C$2:$D$438,2,TRUE)),0) -> 0 | AI26: =X26-AF26 -> 0 | AJ26: =IF(VLOOKUP(AI26,'Table 26'!$E$2:$F$306,2,TRUE)>=VLOOKUP(AI26,'Table 26'!$G$2:$H$306,2,TRUE),MAX(VLOOKUP(AI26,'Table 26'!$E$2:$F$306,2,TRUE),VLOOKUP(AI26,'Table 26'!$G$2:$H$306,2,TRUE)),0) -> 0 | AL26: =Y26+AA26+AC26+AD26+AE26+AF26+AH26+AJ26+AK26 -> 0 | AM26: =V26-AL26 -> 0 | AP26: =AM26+AN26+AO26 -> 0 | AQ26: =V26*0.692% -> 0 | AR26: =O26*5.335 -> 0 | AS26: =2*O26 -> 0 | AT26: =0.04*O26 -> 0 | AV26: =(X26-134.62)*0.057 -> -7.67334 | AW26: =T26*0.04 -> 0
C27: 8 | D27: Avril | E27: 18 | O27: 0 | R27: =P26+P27 -> 0 | S27: =Q26+Q27 -> 0 | V27: =T27+U27 -> 0 | W27: =O27*1.998 -> 0 | X27: =V27+W27 -> 0 | Y27: =IF(AV27<0,0,(X27-134.62)*0.057) -> 0 | AA27: =V27*1.2% -> 0 | AC27: =V27*0.494% -> 0 | AG27: =V27-AD27-AE27-AF27 -> 0 | AH27: =IF(VLOOKUP(AG27,'Table 26'!$A$2:$C$438,2,TRUE)>=VLOOKUP(AG27,'Table 26'!$C$2:$D$438,2,TRUE),MAX(VLOOKUP(AG27,'Table 26'!$A$2:$B$438,2,TRUE),VLOOKUP(AG27,'Table 26'!$C$2:$D$438,2,TRUE)),0) -> 0 | AI27: =X27-AF27 -> 0 | AJ27: =IF(VLOOKUP(AI27,'Table 26'!$E$2:$F$306,2,TRUE)>=VLOOKUP(AI27,'Table 26'!$G$2:$H$306,2,TRUE),MAX(VLOOKUP(AI27,'Table 26'!$E$2:$F$306,2,TRUE),VLOOKUP(AI27,'Table 26'!$G$2:$H$306,2,TRUE)),0) -> 0 | AL27: =Y27+AA27+AC27+AD27+AE27+AF27+AH27+AJ27+AK27 -> 0 | AM27: =V27-AL27 -> 0 | AP27: =AM27+AN27+AO27 -> 0 | AQ27: =V27*0.692% -> 0 | AR27: =O27*5.335 -> 0 | AS27: =2*O27 -> 0 | AT27: =0.04*O27 -> 0 | AV27: =(X27-134.62)*0.057 -> -7.67334 | AW27: =T27*0.04 -> 0
D28: Avril | E28: 25 | V28: =T28+U28 -> 0 | W28: =O28*1.998 -> 0 | X28: =V28+W28 -> 0 | Y28: =IF(AV28<0,0,(X28-134.62)*0.057) -> 0 | AA28: =V28*1.2% -> 0 | AC28: =V28*0.494% -> 0 | AG28: =V28-AD28-AE28-AF28 -> 0 | AH28: =IF(VLOOKUP(AG28,'Table 26'!$A$2:$C$438,2,TRUE)>=VLOOKUP(AG28,'Table 26'!$C$2:$D$438,2,TRUE),MAX(VLOOKUP(AG28,'Table 26'!$A$2:$B$438,2,TRUE),VLOOKUP(AG28,'Table 26'!$C$2:$D$438,2,TRUE)),0) -> 0 | AI28: =X28-AF28 -> 0 | AJ28: =IF(VLOOKUP(AI28,'Table 26'!$E$2:$F$306,2,TRUE)>=VLOOKUP(AI28,'Table 26'!$G$2:$H$306,2,TRUE),MAX(VLOOKUP(AI28,'Table 26'!$E$2:$F$306,2,TRUE),VLOOKUP(AI28,'Table 26'!$G$2:$H$306,2,TRUE)),0) -> 0 | AL28: =Y28+AA28+AC28+AD28+AE28+AF28+AH28+AJ28+AK28 -> 0 | AM28: =V28-AL28 -> 0 | AP28: =AM28+AN28+AO28 -> 0 | AQ28: =V28*0.692% -> 0 | AR28: =O28*5.335 -> 0 | AS28: =2*O28 -> 0 | AT28: =0.04*O28 -> 0 | AV28: =(X28-134.62)*0.057 -> -7.67334 | AW28: =T28*0.04 -> 0
D29: Avril | O29: 0 | V29: =T29+U29 -> 0 | W29: =O29*1.998 -> 0 | X29: =V29+W29 -> 0 | Y29: =IF(AV29<0,0,(X29-134.62)*0.057) -> 0 | AA29: =V29*1.2% -> 0 | AC29: =V29*0.494% -> 0 | AG29: =V29-AD29-AE29-AF29 -> 0 | AH29: =IF(VLOOKUP(AG29,'Table 26'!$A$2:$C$438,2,TRUE)>=VLOOKUP(AG29,'Table 26'!$C$2:$D$438,2,TRUE),MAX(VLOOKUP(AG29,'Table 26'!$A$2:$B$438,2,TRUE),VLOOKUP(AG29,'Table 26'!$C$2:$D$438,2,TRUE)),0) -> 0 | AI29: =X29-AF29 -> 0 | AJ29: =IF(VLOOKUP(AI29,'Table 26'!$E$2:$F$306,2,TRUE)>=VLOOKUP(AI29,'Table 26'!$G$2:$H$306,2,TRUE),MAX(VLOOKUP(AI29,'Table 26'!$E$2:$F$306,2,TRUE),VLOOKUP(AI29,'Table 26'!$G$2:$H$306,2,TRUE)),0) -> 0 | AL29: =Y29+AA29+AC29+AD29+AE29+AF29+AH29+AJ29+AK29 -> 0 | AM29: =V29-AL29 -> 0 | AP29: =AM29+AN29+AO29 -> 0 | AQ29: =V29*0.692% -> 0 | AR29: =O29*5.335 -> 0 | AS29: =2*O29 -> 0 | AT29: =0.04*O29 -> 0 | AV29: =(X29-134.62)*0.057 -> -7.67334 | AW29: =T29*0.04 -> 0
D30: total mois | M30: 0 | N30: 0 | O30: =SUM(O25:O29) -> 0 | T30: =SUM(T25:T29) -> 0 | U30: =SUM(U25:U29) -> 0 | V30: =SUM(V25:V29) -> 0 | W30: =SUM(W25:W29) -> 0 | X30: =SUM(X25:X29) -> 0 | Y30: =SUM(Y25:Y29) -> 0 | Z30: =SUM(Z25:Z29) -> 0 | AA30: =SUM(AA25:AA29) -> 0 | ... AU30: =SUM(AU25:AU29) -> 0 | AW30: =SUM(AW25:AW29) -> 0
AR31: =O31*5.335 -> 0 | AS31: =2*O31 -> 0
C32: 9 | D32: Mai | E32: 2 | M32: 0 | O32: 0 | R32: =P28+P32 -> 0 | S32: =Q28+Q32 -> 0 | V32: =T32+U32 -> 0 | W32: =O32*1.998 -> 0 | X32: =V32+W32 -> 0 | Y32: =IF(AV32<0,0,(X32-134.62)*0.057) -> 0 | AA32: =V32*1.2% -> 0 | AC32: =V32*0.494% -> 0 | AG32: =V32-AD32-AE32-AF32 -> 0 | AH32: =IF(VLOOKUP(AG32,'Table 26'!$A$2:$C$438,2,TRUE)>=VLOOKUP(AG32,'Table 26'!$C$2:$D$438,2,TRUE),MAX(VLOOKUP(AG32,'Table 26'!$A$2:$B$438,2,TRUE),VLOOKUP(AG32,'Table 26'!$C$2:$D$438,2,TRUE)),0) -> 0 | AI32: =X32-AF32 -> 0 | AJ32: =IF(VLOOKUP(AI32,'Table 26'!$E$2:$F$306,2,TRUE)>=VLOOKUP(AI32,'Table 26'!$G$2:$H$306,2,TRUE),MAX(VLOOKUP(AI32,'Table 26'!$E$2:$F$306,2,TRUE),VLOOKUP(AI32,'Table 26'!$G$2:$H$306,2,TRUE)),0) -> 0 | AL32: =Y32+AA32+AC32+AD32+AE32+AF32+AH32+AJ32+AK32 -> 0 | AM32: =V32-AL32 -> 0 | AP32: =AM32+AN32+AO32 -> 0 | AQ32: =V32*0.692% -> 0 | AV32: =(X32-134.62)*0.057 -> -7.67334 | AW32: =T32*0.04 -> 0
D33: Mai | E33: 9 | M33: 0 | O33: 0 | V33: =T33+U33 -> 0 | W33: =O33*1.998 -> 0 | X33: =V33+W33 -> 0 | Y33: =IF(AV33<0,0,(X33-134.62)*0.057) -> 0 | AA33: =V33*1.2% -> 0 | AC33: =V33*0.494% -> 0 | AG33: =V33-AD33-AE33-AF33 -> 0 | AH33: =IF(VLOOKUP(AG33,'Table 26'!$A$2:$C$438,2,TRUE)>=VLOOKUP(AG33,'Table 26'!$C$2:$D$438,2,TRUE),MAX(VLOOKUP(AG33,'Table 26'!$A$2:$B$438,2,TRUE),VLOOKUP(AG33,'Table 26'!$C$2:$D$438,2,TRUE)),0) -> 0 | AI33: =X33-AF33 -> 0 | AJ33: =IF(VLOOKUP(AI33,'Table 26'!$E$2:$F$306,2,TRUE)>=VLOOKUP(AI33,'Table 26'!$G$2:$H$306,2,TRUE),MAX(VLOOKUP(AI33,'Table 26'!$E$2:$F$306,2,TRUE),VLOOKUP(AI33,'Table 26'!$G$2:$H$306,2,TRUE)),0) -> 0 | AL33: =Y33+AA33+AC33+AD33+AE33+AF33+AH33+AJ33+AK33 -> 0 | AM33: =V33-AL33 -> 0 | AP33: =AM33+AN33+AO33 -> 0 | AQ33: =V33*0.692% -> 0 | AR33: =O33*5.335 -> 0 | AS33: =2*O33 -> 0 | AT33: =0.04*O33 -> 0 | AV33: =(X33-134.62)*0.057 -> -7.67334 | AW33: =T33*0.04 -> 0
C34: 10 | D34: Mai | E34: 16 | M34: 0 | O34: 0 | R34: =P33+P34 -> 0 | S34: =Q33+Q34 -> 0 | V34: =T34+U34 -> 0 | W34: =O34*1.998 -> 0 | X34: =V34+W34 -> 0 | Y34: =IF(AV34<0,0,(X34-134.62)*0.057) -> 0 | AA34: =V34*1.2% -> 0 | AC34: =V34*0.494% -> 0 | AG34: =V34-AD34-AE34-AF34 -> 0 | AH34: =IF(VLOOKUP(AG34,'Table 26'!$A$2:$C$438,2,TRUE)>=VLOOKUP(AG34,'Table 26'!$C$2:$D$438,2,TRUE),MAX(VLOOKUP(AG34,'Table 26'!$A$2:$B$438,2,TRUE),VLOOKUP(AG34,'Table 26'!$C$2:$D$438,2,TRUE)),0) -> 0 | AI34: =X34-AF34 -> 0 | AJ34: =IF(VLOOKUP(AI34,'Table 26'!$E$2:$F$306,2,TRUE)>=VLOOKUP(AI34,'Table 26'!$G$2:$H$306,2,TRUE),MAX(VLOOKUP(AI34,'Table 26'!$E$2:$F$306,2,TRUE),VLOOKUP(AI34,'Table 26'!$G$2:$H$306,2,TRUE)),0) -> 0 | AL34: =Y34+AA34+AC34+AD34+AE34+AF34+AH34+AJ34+AK34 -> 0 | AM34: =V34-AL34 -> 0 | AP34: =AM34+AN34+AO34 -> 0 | AQ34: =V34*0.692% -> 0 | AR34: =O34*5.335 -> 0 | AS34: =2*O34 -> 0 | AT34: =0.04*O34 -> 0 | AV34: =(X34-134.62)*0.057 -> -7.67334 | AW34: =T34*0.04 -> 0
D35: Mai | E35: 23 | M35: 0 | O35: 0 | V35: =T35+U35 -> 0 | W35: =O35*1.998 -> 0 | X35: =V35+W35 -> 0 | Y35: =IF(AV35<0,0,(X35-134.62)*0.057) -> 0 | AA35: =V35*1.2% -> 0 | AC35: =V35*0.494% -> 0 | AG35: =V35-AD35-AE35-AF35 -> 0 | AH35: =IF(VLOOKUP(AG35,'Table 26'!$A$2:$C$438,2,TRUE)>=VLOOKUP(AG35,'Table 26'!$C$2:$D$438,2,TRUE),MAX(VLOOKUP(AG35,'Table 26'!$A$2:$B$438,2,TRUE),VLOOKUP(AG35,'Table 26'!$C$2:$D$438,2,TRUE)),0) -> 0 | AI35: =X35-AF35 -> 0 | AJ35: =IF(VLOOKUP(AI35,'Table 26'!$E$2:$F$306,2,TRUE)>=VLOOKUP(AI35,'Table 26'!$G$2:$H$306,2,TRUE),MAX(VLOOKUP(AI35,'Table 26'!$E$2:$F$306,2,TRUE),VLOOKUP(AI35,'Table 26'!$G$2:$H$306,2,TRUE)),0) -> 0 | AL35: =Y35+AA35+AC35+AD35+AE35+AF35+AH35+AJ35+AK35 -> 0 | AM35: =V35-AL35 -> 0 | AP35: =AM35+AN35+AO35 -> 0 | AQ35: =V35*0.692% -> 0 | AR35: =O35*5.335 -> 0 | AS35: =2*O35 -> 0 | AT35: =0.04*O35 -> 0 | AV35: =(X35-134.62)*0.057 -> -7.67334 | AW35: =T35*0.04 -> 0
C36: 11 | D36: Mai | E36: 30 | R36: =P35+P36 -> 0 | S36: =Q35+Q36 -> 0 | V36: =T36+U36 -> 0 | W36: =O36*1.998 -> 0 | X36: =V36+W36 -> 0 | Y36: =IF(AV36<0,0,(X36-134.62)*0.057) -> 0 | AA36: =V36*1.2% -> 0 | AC36: =V36*0.494% -> 0 | AG36: =V36-AD36-AE36-AF36 -> 0 | AH36: =IF(VLOOKUP(AG36,'Table 26'!$A$2:$C$438,2,TRUE)>=VLOOKUP(AG36,'Table 26'!$C$2:$D$438,2,TRUE),MAX(VLOOKUP(AG36,'Table 26'!$A$2:$B$438,2,TRUE),VLOOKUP(AG36,'Table 26'!$C$2:$D$438,2,TRUE)),0) -> 0 | AI36: =X36-AF36 -> 0 | AJ36: =IF(VLOOKUP(AI36,'Table 26'!$E$2:$F$306,2,TRUE)>=VLOOKUP(AI36,'Table 26'!$G$2:$H$306,2,TRUE),MAX(VLOOKUP(AI36,'Table 26'!$E$2:$F$306,2,TRUE),VLOOKUP(AI36,'Table 26'!$G$2:$H$306,2,TRUE)),0) -> 0 | AL36: =Y36+AA36+AC36+AD36+AE36+AF36+AH36+AJ36+AK36 -> 0 | AM36: =V36-AL36 -> 0 | AP36: =AM36+AN36+AO36 -> 0 | AQ36: =V36*0.692% -> 0 | AR36: =O36*5.335 -> 0 | AS36: =2*O36 -> 0 | AT36: =0.04*O36 -> 0 | AV36: =(X36-134.62)*0.057 -> -7.67334 | AW36: =T36*0.04 -> 0
D37: total mois | M37: 0 | N37: 0 | O37: =SUM(O32:O36) -> 0 | T37: =SUM(T32:T36) -> 0 | U37: =SUM(U32:U36) -> 0 | V37: =SUM(V32:V36) -> 0 | W37: =SUM(W32:W36) -> 0 | X37: =SUM(X32:X36) -> 0 | Y37: =SUM(Y32:Y36) -> 0 | Z37: =SUM(Z32:Z36) -> 0 | AA37: =SUM(AA32:AA36) -> 0 | ... AU37: =SUM(AU32:AU36) -> 0 | AW37: =SUM(AW32:AW36) -> 0
AR38: =O38*5.335 -> 0 | AS38: =2*O38 -> 0
D39: Juin | E39: 6 | M39: 0 | O39: 0 | V39: =T39+U39 -> 0 | W39: =O39*1.998 -> 0 | X39: =V39+W39 -> 0 | Y39: =IF(AV39<0,0,(X39-134.62)*0.057) -> 0 | AA39: =V39*1.2% -> 0 | AC39: =V39*0.494% -> 0 | AG39: =V39-AD39-AE39-AF39 -> 0 | AH39: =IF(VLOOKUP(AG39,'Table 26'!$A$2:$C$438,2,TRUE)>=VLOOKUP(AG39,'Table 26'!$C$2:$D$438,2,TRUE),MAX(VLOOKUP(AG39,'Table 26'!$A$2:$B$438,2,TRUE),VLOOKUP(AG39,'Table 26'!$C$2:$D$438,2,TRUE)),0) -> 0 | AI39: =X39-AF39 -> 0 | AJ39: =IF(VLOOKUP(AI39,'Table 26'!$E$2:$F$306,2,TRUE)>=VLOOKUP(AI39,'Table 26'!$G$2:$H$306,2,TRUE),MAX(VLOOKUP(AI39,'Table 26'!$E$2:$F$306,2,TRUE),VLOOKUP(AI39,'Table 26'!$G$2:$H$306,2,TRUE)),0) -> 0 | AL39: =Y39+AA39+AC39+AD39+AE39+AF39+AH39+AJ39+AK39 -> 0 | AM39: =V39-AL39 -> 0 | AP39: =AM39+AN39+AO39 -> 0 | AQ39: =V39*0.692% -> 0 | AV39: =(X39-134.62)*0.057 -> -7.67334 | AW39: =T39*0.04 -> 0
C40: 12 | D40: Juin | E40: 13 | M40: 0 | O40: 0 | R40: =P39+P40 -> 0 | S40: =Q39+Q40 -> 0 | V40: =T40+U40 -> 0 | W40: =O40*1.998 -> 0 | X40: =V40+W40 -> 0 | Y40: =IF(AV40<0,0,(X40-134.62)*0.057) -> 0 | AA40: =V40*1.2% -> 0 | AC40: =V40*0.494% -> 0 | AG40: =V40-AD40-AE40-AF40 -> 0 | AH40: =IF(VLOOKUP(AG40,'Table 26'!$A$2:$C$438,2,TRUE)>=VLOOKUP(AG40,'Table 26'!$C$2:$D$438,2,TRUE),MAX(VLOOKUP(AG40,'Table 26'!$A$2:$B$438,2,TRUE),VLOOKUP(AG40,'Table 26'!$C$2:$D$438,2,TRUE)),0) -> 0 | AI40: =X40-AF40 -> 0 | AJ40: =IF(VLOOKUP(AI40,'Table 26'!$E$2:$F$306,2,TRUE)>=VLOOKUP(AI40,'Table 26'!$G$2:$H$306,2,TRUE),MAX(VLOOKUP(AI40,'Table 26'!$E$2:$F$306,2,TRUE),VLOOKUP(AI40,'Table 26'!$G$2:$H$306,2,TRUE)),0) -> 0 | AL40: =Y40+AA40+AC40+AD40+AE40+AF40+AH40+AJ40+AK40 -> 0 | AM40: =V40-AL40 -> 0 | AP40: =AM40+AN40+AO40 -> 0 | AQ40: =V40*0.692% -> 0 | AR40: =O40*5.335 -> 0 | AS40: =2*O40 -> 0 | AT40: =0.04*O40 -> 0 | AV40: =(X40-134.62)*0.057 -> -7.67334 | AW40: =T40*0.04 -> 0
D41: Juin | E41: 20 | M41: 0 | O41: 0 | V41: =T41+U41 -> 0 | W41: =O41*1.998 -> 0 | X41: =V41+W41 -> 0 | Y41: =IF(AV41<0,0,(X41-134.62)*0.057) -> 0 | AA41: =V41*1.2% -> 0 | AC41: =V41*0.494% -> 0 | AG41: =V41-AD41-AE41-AF41 -> 0 | AH41: =IF(VLOOKUP(AG41,'Table 26'!$A$2:$C$438,2,TRUE)>=VLOOKUP(AG41,'Table 26'!$C$2:$D$438,2,TRUE),MAX(VLOOKUP(AG41,'Table 26'!$A$2:$B$438,2,TRUE),VLOOKUP(AG41,'Table 26'!$C$2:$D$438,2,TRUE)),0) -> 0 | AI41: =X41-AF41 -> 0 | AJ41: =IF(VLOOKUP(AI41,'Table 26'!$E$2:$F$306,2,TRUE)>=VLOOKUP(AI41,'Table 26'!$G$2:$H$306,2,TRUE),MAX(VLOOKUP(AI41,'Table 26'!$E$2:$F$306,2,TRUE),VLOOKUP(AI41,'Table 26'!$G$2:$H$306,2,TRUE)),0) -> 0 | AL41: =Y41+AA41+AC41+AD41+AE41+AF41+AH41+AJ41+AK41 -> 0 | AM41: =V41-AL41 -> 0 | AP41: =AM41+AN41+AO41 -> 0 | AQ41: =V41*0.692% -> 0 | AR41: =O41*5.335 -> 0 | AS41: =2*O41 -> 0 | AT41: =0.04*O41 -> 0 | AV41: =(X41-134.62)*0.057 -> -7.67334 | AW41: =T41*0.04 -> 0
...

Sheet TP E2
F5: Période | H5: 4
F7: du :
F8: au :
F9: Payé le :
F11: Au montant de : | H11: =VLOOKUP($H$5,Empl.2!$C$4:$AW$86,40,FALSE) -> 827.10334
I14: Ces deux colonnes là
B15: Heures et revenus | E15: Déductions à la source
C16: Période | D16: Cumulatif | F16: Montant | G16: Cumulatif
B18: Heures | C18: =VLOOKUP($H$5,Empl.2!$C$4:$AW$86,16,FALSE) -> 30 | E18: Impôt fédéral | F18: =VLOOKUP($H$5,Empl.2!$C$4:$AW$86,32,FALSE) -> 51.6
B19: Salaire reg | C19: =VLOOKUP($H$5,Empl.2!$C$4:$AW$86,18,FALSE) -> 1000 | E19: Impôt provincial | F19: =VLOOKUP($H$5,Empl.2!$C$4:$AW$86,34,FALSE) -> 55.03
B20: Vacances (4%) | C20: =VLOOKUP($H$5,Empl.2!$C$4:$AW$86,47,FALSE) -> 40 | E20: Assurance-emploi | F20: =VLOOKUP($H$5,Empl.2!$C$4:$AW$86,25,FALSE) -> 12
B21: Remb. Km | C21: =VLOOKUP($H$5,Empl.2!$C$4:$AW$86,39,FALSE) -> 0 | E21: RRQ | F21: =VLOOKUP($H$5,Empl.2!$C$4:$AW$86,23,FALSE) -> 49.32666
E22: RQAP | F22: =VLOOKUP($H$5,Empl.2!$C$4:$AW$86,27,FALSE) -> 4.94
B24: Total | C24: =SUM(C19:C21) -> 1040 | F24: =SUM(F18:F23) -> 172.89666
E26: À payer : | F26: =C19+C21-F24 -> 827.10334
B35: Ne pas prendre en compte celui-là!
B37: Description | D37: Période | E37: Cumulatif
B40: Salaire régulier | D40: =C19 -> 1000
B41: Vacances | D41: =C20 -> 40
B42: Heures | D42: =C18 -> 30
B43: Remb. Km | D43: =C21 -> 0

Sheet Empl.3
D1: Mois | E1: SemFin | F1: di | G1: lu | H1: ma | I1: me | J1: je | K1: ve | L1: sa | M1: Rég | N1: hr | O1: HrCCQ | P1: Nbr h. | Q1: S. sem | R1: h. pér | S1: S. pér | T1: Sal. Brut | U1: Vacanc | V1: Total rén | W1: Av.impos | X1: Total | Y1: R.R.Q. | Z1: Cumul. | AA1: AssEmploi | AB1: Gainsass | AC1: RQAP | AD1: PrélCCQ | AE1: cotis.synd | AF1: Avant.Soc | AG1: Sal/admféd | AH1: Impôt féd | AI1: Sal/admpr | AJ1: Impôt prov. | AK1: Vacanc | AL1: Déduction | AM1: TOTAL | AN1: Équip | AO1: Remb. Km | AP1: Sal. net | AQ1: RQAPempl | AR1: av. emp | AS1: txass | AT1: cont sec | AW1: Vac. à payer
D4: janvier | M4: 0 | V4: =T4+U4 -> 0 | W4: =O4*1.93 -> 0 | X4: =V4+W4 -> 0 | Y4: =IF(AV4<0,0,(X4-134.62)*0.057) -> 0 | AA4: =V4*1.2% -> 0 | AC4: =V4*0.494% -> 0 | AG4: =V4-AD4-AE4-AF4 -> 0 | AH4: =IF(VLOOKUP(AG4,'Table 26'!$A$2:$C$438,2,TRUE)>=VLOOKUP(AG4,'Table 26'!$C$2:$D$438,2,TRUE),MAX(VLOOKUP(AG4,'Table 26'!$A$2:$B$438,2,TRUE),VLOOKUP(AG4,'Table 26'!$C$2:$D$438,2,TRUE)),0) -> 0 | AI4: =X4-AF4 -> 0 | AJ4: =IF(VLOOKUP(AI4,'Table 26'!$E$2:$F$306,2,TRUE)>=VLOOKUP(AI4,'Table 26'!$G$2:$H$306,2,TRUE),MAX(VLOOKUP(AI4,'Table 26'!$E$2:$F$306,2,TRUE),VLOOKUP(AI4,'Table 26'!$G$2:$H$306,2,TRUE)),0) -> 0 | AL4: =SUM(AH4+AJ4+AK4+Y4+AA4+AC4+AD4+AE4+AF4) -> 0 | AM4: =V4-AL4 -> 0 | AN4: =O4*0.6 -> 0 | AP4: =AM4+AN4+AO4 -> 0 | AQ4: =V4*0.692% -> 0 | AV4: =(X4-134.62)*0.057 -> -7.67334 | AW4: =T4*0.04 -> 0
D5: janvier | M5: 0 | V5: =T5+U5 -> 0 | W5: =O5*1.93 -> 0 | X5: =V5+W5 -> 0 | Y5: =IF(AV5<0,0,(X5-134.62)*0.057) -> 0 | AA5: =V5*1.2% -> 0 | AC5: =V5*0.494% -> 0 | AG5: =V5-AD5-AE5-AF5 -> 0 | AH5: =IF(VLOOKUP(AG5,'Table 26'!$A$2:$C$438,2,TRUE)>=VLOOKUP(AG5,'Table 26'!$C$2:$D$438,2,TRUE),MAX(VLOOKUP(AG5,'Table 26'!$A$2:$B$438,2,TRUE),VLOOKUP(AG5,'Table 26'!$C$2:$D$438,2,TRUE)),0) -> 0 | AI5: =X5-AF5 -> 0 | AJ5: =IF(VLOOKUP(AI5,'Table 26'!$E$2:$F$306,2,TRUE)>=VLOOKUP(AI5,'Table 26'!$G$2:$H$306,2,TRUE),MAX(VLOOKUP(AI5,'Table 26'!$E$2:$F$306,2,TRUE),VLOOKUP(AI5,'Table 26'!$G$2:$H$306,2,TRUE)),0) -> 0 | AL5: =SUM(AH5+AJ5+AK5+Y5+AA5+AC5+AD5+AE5+AF5) -> 0 | AM5: =V5-AL5 -> 0 | AN5: =O5*0.6 -> 0 | AP5: =AM5+AN5+AO5 -> 0 | AQ5: =V5*0.692% -> 0 | AR5: =O5*5.335 -> 0 | AS5: =2*O5 -> 0 | AT5: =0.04*O5 -> 0 | AV5: =(X5-134.62)*0.057 -> -7.67334 | AW5: =T5*0.04 -> 0
