Workbook
Name CODESJOURNAUX: OFFSET(BASE!$L$6,,,COUNTA(BASE!$L:$L)-1)
Name DATE: OFFSET(JOURNAL!$C$9,,,COUNTA(JOURNAL!$C:$C)-6)
Name DECAISSE: OFFSET(JOURNAL!$J$9,,,COUNTA(DATE))
Name ENCAISSE: OFFSET(JOURNAL!$I$9,,,COUNTA(DATE))
Name NATURE: OFFSET(BASE!$T$6,,,COUNTA(BASE!$T:$T)-1)
Name TYPE: OFFSET(JOURNAL!$K$9,,,COUNTA(JOURNAL!$K:$K)-5)
Name TYPEDEP: OFFSET(BASE!$N$6,,,COUNTA(BASE!$N:$N,)-2)

Sheet BASE
D4: PLAN COMPTABLE | G4: PLAN TIERS | K4: CODES JOURNAUX
B5: MODE DE REGEMENT | D5: N°CPTE | E5: LIBELLES | G5: REF | H5: N°CPTE | I5: NOM TIERS | K5: CODE | L5: LIBELLES | N5: TYPES DE DEPENSES | Q5: Mois | T5: NATURE
B6: Espèces | D6: 10100000 | E6: CAPITAL SOCIAL | G6: FOO1 | H6: 4011POINT | I6: PAP POINT D'INTERROG | K6: ACH | L6: ACHATS | N6: Hyppo | Q6: 1 | R6: Janvier | T6: Achats
B7: Chèque | D7: 11100000 | E7: RESERVE LÉGALE | G7: FOO2 | H7: 4011QATRAORE | I7: QUINCAILLERIE ABDOULAYE TRAORE | K7: VTE | L7: VENTES | N7: Directrice | Q7: 2 | R7: Fevrier | T7: Ventes
B8: Virement | D8: 12100000 | E8: REPORT A NOUVEAU CREDITEUR | G8: FOO3 | H8: 4011DRAMANEM | I8: DRAMANE MOUSTAPHA | K8: CAI | L8: CAISSE | N8: Kabako | Q8: 3 | R8: Mars | T8: Salaire
D9: 12900000 | E9: REPORT A NOUVEAU DEBITEUR | G9: FOO4 | H9: 4011ONAKOYA | I9: ONAKOYA WOLLEX | K9: OD | L9: OPERATIONS DIVERSES | N9: Sphnix | Q9: 4 | R9: Avril | T9: Alimentation Caisse
D10: 13100000 | E10: RESULTAT NET: BENEFICE | G10: FOO5 | H10: 4011FOF | I10: FOF BOUTIQUE | K10: RAN | L10: REPORT A NOUVEAU | N10: Revanche | Q10: 5 | R10: Mai | T10: Solde
D11: 13900000 | E11: RESULTAT NET: PERTE | G11: FOO6 | H11: 4011SANFO | I11: ETS. MOHAMED SANFO | K11: BNDA | L11: BNDA | N11: Mousso TV | Q11: 6 | R11: Juin | T11: Depenses
D12: 23100000 | E12: BATIMENT | G12: FOO7 | H12: 4011TECHNICOM | I12: TECHNICOM | K12: BDM | L12: BDM | Q12: 7 | R12: Juillet | T12: Recettes
D13: 24400000 | E13: MATERIEL ET MOBILIER | G13: FOO8 | H13: 4011SANGARE | I13: QUINCAILLERIE SANGARE & FRERES | K13: BOA | L13: BOA | Q13: 8 | R13: Août | T13: Dep Perso
D14: 24500000 | E14: MATERIEL DE TRANSPORT | G14: FOO9 | H14: 4011LOYALE | I14: QUINCAILLERIE LOYALE | Q14: 9 | R14: Septembre
D15: 27200000 | E15: PRÊT AU PERSONNEL | G15: F010 | H15: 4011ISLAM | I15: QUINCAILLERIE GLE ISLAMIQUE | Q15: 10 | R15: Octobre
D16: 28300000 | E16: AMORTISSEMENT BATIMENT ET INSTALLATION | G16: F011 | H16: 4011SOCAF | I16: SOCAF SARL | Q16: 11 | R16: Novembre
D17: 31100000 | E17: STOKS DE MARCHANDISES | G17: F012 | H17: 4011MAKADJI | I17: TAMBA MAKADJI | Q17: 12 | R17: Décembre
D18: 33100000 | E18: STOCKS MATIERES CONSOMMABLES | G18: F013 | H18: 4011DOUCOURE | I18: PAP OUMAROU DOUCOURE
D19: 42200000 | E19: SALAIRE NET | G19: F014 | H19: 4011ESPOIR | I19: QUINCAILLERIE DE L'ESPOIR
D20: 43100000 | E20: SÉCURITÉ SOCIALE (INPS + AMO) | G20: F015 | I20: QUINCAILERIE GL KISSIMA SANG
D21: 44200000 | E21: ETAT AUTRE IMPOT ET TAXE | G21: F016 | I21: MOCTECH
D22: 47600000 | E22: CHARGES CONSTATEES D'AVANCE | G22: F017 | I22: PAPETERIE DE L'ISLAM
D23: 48100000 | E23: FOURNISSEURS D'INVESTISSEMENT | G23: F018 | I23: QUINCAILLERIE GLE ADAMA BAH
D24: 52100000 | E24: BANQUE | G24: F019 | I24: COMPAGNIE MALIENNE DU PAPIER
D25: 57100000 | E25: CAISSE | G25: F020 | I25: STATION ORYX
D26: 58500000 | E26: VIREMENTS DE FONDS | G26: F021 | I26: ETS DABO
D27: 60100000 | E27: ACHATS DE MARCHANDISES | G27: F022 | I27: IMPRIMERIE CF-MAC
D28: 60200000 | E28: ACHATS DE MATIÈRES PREMIÈRES ET FOURNITURES LIÉES | G28: F023 | I28: PAP PLUS-DISTRIBUTION
D29: 60400000 | E29: ACHATS STOCKÉS DE MATIÈRES ET FOURNITURES CONSOMMABLES | G29: F024 | I29: IMPRIM SERVICES
D30: 60500000 | E30: AUTRES ACHATS | G30: F025 | I30: SIECO
D31: 60800000 | E31: ACHATS D'EMBALLAGES | G31: F026 | I31: GUANGMINGS S.A.-MALI
D32: 61200000 | E32: TRANSPORT SUR VENTES | G32: F027 | I32: KOUMA & FRERES
D33: 61300000 | E33: TRANSPORT POUR LE COMPTE DE TIERS
D34: 61400000 | E34: TRANSPORT DU PERSONNEL
D35: 61600000 | E35: TRANSPORT DE PLIS
D36: 61800000 | E36: AUTRES FRAIS DE TRANSPORT
D37: 62200000 | E37: LOCATION, CHARGES LOCATIVES
D38: 62400000 | E38: ENTRETIEN, REPARATION, REMISE EN ETAT, MAINTENANCE
D39: 63100000 | E39: FRAIS BANCAIRES
D40: 64600000 | E40: DROIT D'ENREGISTREMENT
D41: 65800000 | E41: CHARGES DIVERSES
D42: 66000000 | E42: CHARGES DE PERSONNEL
D43: 70200000 | E43: VENTES DE PRODUITS FINIS
...

Sheet RECAP
G1: 2020
B4: Hyppo | H4: Directrice | N4: MOUSSO TV
B5: MOIS | C5: Recettes | D5: Dépenses | E5: Solde mois | F5: Trésorerie | H5: MOIS | I5: Recettes | J5: Dépenses | K5: Solde mois | L5: Trésorerie | N5: MOIS | O5: Recettes | P5: Dépenses | Q5: Solde mois | R5: Trésorerie
B6: Janvier | C6: =IFERROR(SUMIFS(JOURNAL!$I:$I,JOURNAL!$K:$K,RECAP!$B$4,JOURNAL!$B:$B,RECAP!$B6),0) -> 10950000 | D6: =IFERROR(SUMIFS(JOURNAL!$J:$J,JOURNAL!$K:$K,RECAP!$B$4,JOURNAL!$B:$B,RECAP!B6),0) -> 7288600 | E6: =+C6-D6 -> 3661400 | F6: =E6 -> 3661400 | H6: Janvier | I6: =IFERROR(SUMIFS(JOURNAL!$I:$I,JOURNAL!$L:$L,RECAP!$H$4,JOURNAL!$B:$B,RECAP!H6),0) -> 0 | J6: =IFERROR(SUMIFS(JOURNAL!$J:$J,JOURNAL!$L:$L,RECAP!$H$4,JOURNAL!$B:$B,RECAP!H6),0) -> 2894350 | K6: =IFERROR(J6-I6,0) -> 2894350 | L6: =K6 -> 2894350 | N6: Janvier | O6: =IFERROR(SUMIFS(JOURNAL!$I:$I,JOURNAL!$L:$L,$N$4,JOURNAL!$B:$B,RECAP!N6),0) -> 0 | P6: =IFERROR(SUMIFS(JOURNAL!$J:$J,JOURNAL!$L:$L,RECAP!$N$4,JOURNAL!$B:$B,RECAP!N6),0) -> 120000 | Q6: =IFERROR(P6-O6,0) -> 120000 | R6: =Q6 -> 120000
B7: Fevrier | C7: =IFERROR(SUMIFS(JOURNAL!$I:$I,JOURNAL!$K:$K,RECAP!$B$4,JOURNAL!$B:$B,RECAP!$B7),0) -> 6730000 | D7: =IFERROR(SUMIFS(JOURNAL!$J:$J,JOURNAL!$K:$K,RECAP!$B$4,JOURNAL!$B:$B,RECAP!B7),0) -> 9749400 | E7: =C7-D7 -> -3019400 | F7: =F6+E7 -> 642000 | H7: Fevrier | I7: =IFERROR(SUMIFS(JOURNAL!$I:$I,JOURNAL!$L:$L,RECAP!$H$4,JOURNAL!$B:$B,RECAP!H7),0) -> 0 | J7: =IFERROR(SUMIFS(JOURNAL!$J:$J,JOURNAL!$L:$L,RECAP!$H$4,JOURNAL!$B:$B,RECAP!H7),0) -> 2406800 | K7: =IFERROR(J7-I7,0) -> 2406800 | L7: =L6+K7 -> 5301150 | N7: Fevrier | O7: =IFERROR(SUMIFS(JOURNAL!$I:$I,JOURNAL!$L:$L,$N$4,JOURNAL!$B:$B,RECAP!N7),0) -> 0 | P7: =IFERROR(SUMIFS(JOURNAL!$J:$J,JOURNAL!$L:$L,RECAP!$N$4,JOURNAL!$B:$B,RECAP!N7),0) -> 806500 | Q7: =IFERROR(P7-O7,0) -> 806500 | R7: =R6+Q7 -> 926500
B8: Mars | C8: =IFERROR(SUMIFS(JOURNAL!$I:$I,JOURNAL!$K:$K,RECAP!$B$4,JOURNAL!$B:$B,RECAP!$B8),0) -> 0 | D8: =IFERROR(SUMIFS(JOURNAL!$J:$J,JOURNAL!$K:$K,RECAP!$B$4,JOURNAL!$B:$B,RECAP!B8),0) -> 0 | E8: =C8-D8 -> 0 | F8: =F7+E8 -> 642000 | H8: Mars | I8: =IFERROR(SUMIFS(JOURNAL!$I:$I,JOURNAL!$L:$L,RECAP!$H$4,JOURNAL!$B:$B,RECAP!H8),0) -> 0 | J8: =IFERROR(SUMIFS(JOURNAL!$J:$J,JOURNAL!$L:$L,RECAP!$H$4,JOURNAL!$B:$B,RECAP!H8),0) -> 0 | K8: =IFERROR(J8-I8,0) -> 0 | L8: =L7+K8 -> 5301150 | N8: Mars | O8: =IFERROR(SUMIFS(JOURNAL!$I:$I,JOURNAL!$L:$L,$N$4,JOURNAL!$B:$B,RECAP!N8),0) -> 0 | P8: =IFERROR(SUMIFS(JOURNAL!$J:$J,JOURNAL!$L:$L,RECAP!$N$4,JOURNAL!$B:$B,RECAP!N8),0) -> 0 | Q8: =IFERROR(P8-O8,0) -> 0 | R8: =R7+Q8 -> 926500
B9: Avril | C9: =IFERROR(SUMIFS(JOURNAL!$I:$I,JOURNAL!$K:$K,RECAP!$B$4,JOURNAL!$B:$B,RECAP!$B9),0) -> 0 | D9: =IFERROR(SUMIFS(JOURNAL!$J:$J,JOURNAL!$K:$K,RECAP!$B$4,JOURNAL!$B:$B,RECAP!B9),0) -> 0 | E9: =C9-D9 -> 0 | F9: =F8+E9 -> 642000 | H9: Avril | I9: =IFERROR(SUMIFS(JOURNAL!$I:$I,JOURNAL!$L:$L,RECAP!$H$4,JOURNAL!$B:$B,RECAP!H9),0) -> 0 | J9: =IFERROR(SUMIFS(JOURNAL!$J:$J,JOURNAL!$L:$L,RECAP!$H$4,JOURNAL!$B:$B,RECAP!H9),0) -> 0 | K9: =IFERROR(J9-I9,0) -> 0 | L9: =L8+K9 -> 5301150 | N9: Avril | O9: =IFERROR(SUMIFS(JOURNAL!$I:$I,JOURNAL!$L:$L,$N$4,JOURNAL!$B:$B,RECAP!N9),0) -> 0 | P9: =IFERROR(SUMIFS(JOURNAL!$J:$J,JOURNAL!$L:$L,RECAP!$N$4,JOURNAL!$B:$B,RECAP!N9),0) -> 0 | Q9: =IFERROR(P9-O9,0) -> 0 | R9: =R8+Q9 -> 926500
B10: Mai | C10: =IFERROR(SUMIFS(JOURNAL!$I:$I,JOURNAL!$K:$K,RECAP!$B$4,JOURNAL!$B:$B,RECAP!$B10),0) -> 0 | D10: =IFERROR(SUMIFS(JOURNAL!$J:$J,JOURNAL!$K:$K,RECAP!$B$4,JOURNAL!$B:$B,RECAP!B10),0) -> 0 | E10: =C10-D10 -> 0 | F10: =F9+E10 -> 642000 | H10: Mai | I10: =IFERROR(SUMIFS(JOURNAL!$I:$I,JOURNAL!$L:$L,RECAP!$H$4,JOURNAL!$B:$B,RECAP!H10),0) -> 0 | J10: =IFERROR(SUMIFS(JOURNAL!$J:$J,JOURNAL!$L:$L,RECAP!$H$4,JOURNAL!$B:$B,RECAP!H10),0) -> 0 | K10: =IFERROR(J10-I10,0) -> 0 | L10: =L9+K10 -> 5301150 | N10: Mai | O10: =IFERROR(SUMIFS(JOURNAL!$I:$I,JOURNAL!$L:$L,$N$4,JOURNAL!$B:$B,RECAP!N10),0) -> 0 | P10: =IFERROR(SUMIFS(JOURNAL!$J:$J,JOURNAL!$L:$L,RECAP!$N$4,JOURNAL!$B:$B,RECAP!N10),0) -> 0 | Q10: =IFERROR(P10-O10,0) -> 0 | R10: =R9+Q10 -> 926500
B11: Juin | C11: =IFERROR(SUMIFS(JOURNAL!$I:$I,JOURNAL!$K:$K,RECAP!$B$4,JOURNAL!$B:$B,RECAP!$B11),0) -> 0 | D11: =IFERROR(SUMIFS(JOURNAL!$J:$J,JOURNAL!$K:$K,RECAP!$B$4,JOURNAL!$B:$B,RECAP!B11),0) -> 0 | E11: =C11-D11 -> 0 | F11: =F10+E11 -> 642000 | H11: Juin | I11: =IFERROR(SUMIFS(JOURNAL!$I:$I,JOURNAL!$L:$L,RECAP!$H$4,JOURNAL!$B:$B,RECAP!H11),0) -> 0 | J11: =IFERROR(SUMIFS(JOURNAL!$J:$J,JOURNAL!$L:$L,RECAP!$H$4,JOURNAL!$B:$B,RECAP!H11),0) -> 0 | K11: =IFERROR(J11-I11,0) -> 0 | L11: =L10+K11 -> 5301150 | N11: Juin | O11: =IFERROR(SUMIFS(JOURNAL!$I:$I,JOURNAL!$L:$L,$N$4,JOURNAL!$B:$B,RECAP!N11),0) -> 0 | P11: =IFERROR(SUMIFS(JOURNAL!$J:$J,JOURNAL!$L:$L,RECAP!$N$4,JOURNAL!$B:$B,RECAP!N11),0) -> 0 | Q11: =IFERROR(P11-O11,0) -> 0 | R11: =R10+Q11 -> 926500
B12: Juillet | C12: =IFERROR(SUMIFS(JOURNAL!$I:$I,JOURNAL!$K:$K,RECAP!$B$4,JOURNAL!$B:$B,RECAP!$B12),0) -> 0 | D12: =IFERROR(SUMIFS(JOURNAL!$J:$J,JOURNAL!$K:$K,RECAP!$B$4,JOURNAL!$B:$B,RECAP!B12),0) -> 0 | E12: =C12-D12 -> 0 | F12: =F11+E12 -> 642000 | H12: Juillet | I12: =IFERROR(SUMIFS(JOURNAL!$I:$I,JOURNAL!$L:$L,RECAP!$H$4,JOURNAL!$B:$B,RECAP!H12),0) -> 0 | J12: =IFERROR(SUMIFS(JOURNAL!$J:$J,JOURNAL!$L:$L,RECAP!$H$4,JOURNAL!$B:$B,RECAP!H12),0) -> 0 | K12: =IFERROR(J12-I12,0) -> 0 | L12: =L11+K12 -> 5301150 | N12: Juillet | O12: =IFERROR(SUMIFS(JOURNAL!$I:$I,JOURNAL!$L:$L,$N$4,JOURNAL!$B:$B,RECAP!N12),0) -> 0 | P12: =IFERROR(SUMIFS(JOURNAL!$J:$J,JOURNAL!$L:$L,RECAP!$N$4,JOURNAL!$B:$B,RECAP!N12),0) -> 0 | Q12: =IFERROR(P12-O12,0) -> 0 | R12: =R11+Q12 -> 926500
B13: Août | C13: =IFERROR(SUMIFS(JOURNAL!$I:$I,JOURNAL!$K:$K,RECAP!$B$4,JOURNAL!$B:$B,RECAP!$B13),0) -> 0 | D13: =IFERROR(SUMIFS(JOURNAL!$J:$J,JOURNAL!$K:$K,RECAP!$B$4,JOURNAL!$B:$B,RECAP!B13),0) -> 0 | E13: =C13-D13 -> 0 | F13: =F12+E13 -> 642000 | H13: Août | I13: =IFERROR(SUMIFS(JOURNAL!$I:$I,JOURNAL!$L:$L,RECAP!$H$4,JOURNAL!$B:$B,RECAP!H13),0) -> 0 | J13: =IFERROR(SUMIFS(JOURNAL!$J:$J,JOURNAL!$L:$L,RECAP!$H$4,JOURNAL!$B:$B,RECAP!H13),0) -> 0 | K13: =IFERROR(J13-I13,0) -> 0 | L13: =L12+K13 -> 5301150 | N13: Août | O13: =IFERROR(SUMIFS(JOURNAL!$I:$I,JOURNAL!$L:$L,$N$4,JOURNAL!$B:$B,RECAP!N13),0) -> 0 | P13: =IFERROR(SUMIFS(JOURNAL!$J:$J,JOURNAL!$L:$L,RECAP!$N$4,JOURNAL!$B:$B,RECAP!N13),0) -> 0 | Q13: =IFERROR(P13-O13,0) -> 0 | R13: =R12+Q13 -> 926500
B14: Septembre | C14: =IFERROR(SUMIFS(JOURNAL!$I:$I,JOURNAL!$K:$K,RECAP!$B$4,JOURNAL!$B:$B,RECAP!$B14),0) -> 0 | D14: =IFERROR(SUMIFS(JOURNAL!$J:$J,JOURNAL!$K:$K,RECAP!$B$4,JOURNAL!$B:$B,RECAP!B14),0) -> 0 | E14: =C14-D14 -> 0 | F14: =F13+E14 -> 642000 | H14: Septembre | I14: =IFERROR(SUMIFS(JOURNAL!$I:$I,JOURNAL!$L:$L,RECAP!$H$4,JOURNAL!$B:$B,RECAP!H14),0) -> 0 | J14: =IFERROR(SUMIFS(JOURNAL!$J:$J,JOURNAL!$L:$L,RECAP!$H$4,JOURNAL!$B:$B,RECAP!H14),0) -> 0 | K14: =IFERROR(J14-I14,0) -> 0 | L14: =L13+K14 -> 5301150 | N14: Septembre | O14: =IFERROR(SUMIFS(JOURNAL!$I:$I,JOURNAL!$L:$L,$N$4,JOURNAL!$B:$B,RECAP!N14),0) -> 0 | P14: =IFERROR(SUMIFS(JOURNAL!$J:$J,JOURNAL!$L:$L,RECAP!$N$4,JOURNAL!$B:$B,RECAP!N14),0) -> 0 | Q14: =IFERROR(P14-O14,0) -> 0 | R14: =R13+Q14 -> 926500
B15: Octobre | C15: =IFERROR(SUMIFS(JOURNAL!$I:$I,JOURNAL!$K:$K,RECAP!$B$4,JOURNAL!$B:$B,RECAP!$B15),0) -> 0 | D15: =IFERROR(SUMIFS(JOURNAL!$J:$J,JOURNAL!$K:$K,RECAP!$B$4,JOURNAL!$B:$B,RECAP!B15),0) -> 0 | E15: =C15-D15 -> 0 | F15: =F14+E15 -> 642000 | H15: Octobre | I15: =IFERROR(SUMIFS(JOURNAL!$I:$I,JOURNAL!$L:$L,RECAP!$H$4,JOURNAL!$B:$B,RECAP!H15),0) -> 0 | J15: =IFERROR(SUMIFS(JOURNAL!$J:$J,JOURNAL!$L:$L,RECAP!$H$4,JOURNAL!$B:$B,RECAP!H15),0) -> 0 | K15: =IFERROR(J15-I15,0) -> 0 | L15: =L14+K15 -> 5301150 | N15: Octobre | O15: =IFERROR(SUMIFS(JOURNAL!$I:$I,JOURNAL!$L:$L,$N$4,JOURNAL!$B:$B,RECAP!N15),0) -> 0 | P15: =IFERROR(SUMIFS(JOURNAL!$J:$J,JOURNAL!$L:$L,RECAP!$N$4,JOURNAL!$B:$B,RECAP!N15),0) -> 0 | Q15: =IFERROR(P15-O15,0) -> 0 | R15: =R14+Q15 -> 926500
B16: Novembre | C16: =IFERROR(SUMIFS(JOURNAL!$I:$I,JOURNAL!$K:$K,RECAP!$B$4,JOURNAL!$B:$B,RECAP!$B16),0) -> 0 | D16: =IFERROR(SUMIFS(JOURNAL!$J:$J,JOURNAL!$K:$K,RECAP!$B$4,JOURNAL!$B:$B,RECAP!B16),0) -> 0 | E16: =C16-D16 -> 0 | F16: =F15+E16 -> 642000 | H16: Novembre | I16: =IFERROR(SUMIFS(JOURNAL!$I:$I,JOURNAL!$L:$L,RECAP!$H$4,JOURNAL!$B:$B,RECAP!H16),0) -> 0 | J16: =IFERROR(SUMIFS(JOURNAL!$J:$J,JOURNAL!$L:$L,RECAP!$H$4,JOURNAL!$B:$B,RECAP!H16),0) -> 0 | K16: =IFERROR(J16-I16,0) -> 0 | L16: =L15+K16 -> 5301150 | N16: Novembre | O16: =IFERROR(SUMIFS(JOURNAL!$I:$I,JOURNAL!$L:$L,$N$4,JOURNAL!$B:$B,RECAP!N16),0) -> 0 | P16: =IFERROR(SUMIFS(JOURNAL!$J:$J,JOURNAL!$L:$L,RECAP!$N$4,JOURNAL!$B:$B,RECAP!N16),0) -> 0 | Q16: =IFERROR(P16-O16,0) -> 0 | R16: =R15+Q16 -> 926500
B17: Décembre | C17: =IFERROR(SUMIFS(JOURNAL!$I:$I,JOURNAL!$K:$K,RECAP!$B$4,JOURNAL!$B:$B,RECAP!$B17),0) -> 0 | D17: =IFERROR(SUMIFS(JOURNAL!$J:$J,JOURNAL!$K:$K,RECAP!$B$4,JOURNAL!$B:$B,RECAP!B17),0) -> 0 | E17: =C17-D17 -> 0 | F17: =F16+E17 -> 642000 | H17: Décembre | I17: =IFERROR(SUMIFS(JOURNAL!$I:$I,JOURNAL!$L:$L,RECAP!$H$4,JOURNAL!$B:$B,RECAP!H17),0) -> 0 | J17: =IFERROR(SUMIFS(JOURNAL!$J:$J,JOURNAL!$L:$L,RECAP!$H$4,JOURNAL!$B:$B,RECAP!H17),0) -> 0 | K17: =IFERROR(J17-I17,0) -> 0 | L17: =L16+K17 -> 5301150 | N17: Décembre | O17: =IFERROR(SUMIFS(JOURNAL!$I:$I,JOURNAL!$L:$L,$N$4,JOURNAL!$B:$B,RECAP!N17),0) -> 0 | P17: =IFERROR(SUMIFS(JOURNAL!$J:$J,JOURNAL!$L:$L,RECAP!$N$4,JOURNAL!$B:$B,RECAP!N17),0) -> 0 | Q17: =IFERROR(P17-O17,0) -> 0 | R17: =R16+Q17 -> 926500
B20: Kabako | H20: SPHNIX | N20: REVANCHE
B22: MOIS | C22: Recettes | D22: Dépenses | E22: Solde mois | F22: Trésorerie | H22: MOIS | I22: Recettes | J22: Dépenses | K22: Solde mois | L22: Trésorerie | N22: MOIS | O22: Recettes | P22: Dépenses | Q22: Solde mois | R22: Trésorerie
B23: Janvier | C23: =IFERROR(SUMIFS(JOURNAL!$I:$I,JOURNAL!$K:$K,RECAP!$B$20,JOURNAL!$B:$B,RECAP!B23),0) -> 179470 | D23: =IFERROR(SUMIFS(JOURNAL!$J:$J,JOURNAL!$K:$K,RECAP!$B$20,JOURNAL!$B:$B,RECAP!B23),0) -> 80000 | E23: =C23-D23 -> 99470 | F23: =E23 -> 99470 | H23: Janvier | I23: =SUMIFS(JOURNAL!$I:$I,JOURNAL!$K:$K,RECAP!$H$20,JOURNAL!$B:$B,RECAP!H23) -> 220000 | J23: =SUMIFS(JOURNAL!$J:$J,JOURNAL!$K:$K,RECAP!$H$20,JOURNAL!$B:$B,RECAP!H23) -> 56000 | K23: =I23-J23 -> 164000 | L23: =K23 -> 164000 | N23: Janvier | O23: =SUMIFS(JOURNAL!$I:$I,JOURNAL!$K:$K,RECAP!$N$20,JOURNAL!$B:$B,RECAP!N23) -> 125400 | P23: =SUMIFS(JOURNAL!$J:$J,JOURNAL!$K:$K,RECAP!$N$20,JOURNAL!$B:$B,RECAP!N23) -> 73000 | Q23: =O23-P23 -> 52400 | R23: =Q23 -> 52400
B24: Fevrier | C24: =IFERROR(SUMIFS(JOURNAL!$I:$I,JOURNAL!$K:$K,RECAP!$B$20,JOURNAL!$B:$B,RECAP!B24),0) -> 71760 | D24: =IFERROR(SUMIFS(JOURNAL!$J:$J,JOURNAL!$K:$K,RECAP!$B$20,JOURNAL!$B:$B,RECAP!B24),0) -> 69000 | E24: =C24-D24 -> 2760 | F24: =F23+E24 -> 102230 | H24: Fevrier | I24: =SUMIFS(JOURNAL!$I:$I,JOURNAL!$K:$K,RECAP!$H$20,JOURNAL!$B:$B,RECAP!H24) -> 50000 | J24: =SUMIFS(JOURNAL!$J:$J,JOURNAL!$K:$K,RECAP!$H$20,JOURNAL!$B:$B,RECAP!H24) -> 28000 | K24: =I24-J24 -> 22000 | L24: =L23+K24 -> 186000 | N24: Fevrier | O24: =SUMIFS(JOURNAL!$I:$I,JOURNAL!$K:$K,RECAP!$N$20,JOURNAL!$B:$B,RECAP!N24) -> 0 | P24: =SUMIFS(JOURNAL!$J:$J,JOURNAL!$K:$K,RECAP!$N$20,JOURNAL!$B:$B,RECAP!N24) -> 0 | Q24: =O24-P24 -> 0 | R24: =R23+Q24 -> 52400
B25: Mars | C25: =IFERROR(SUMIFS(JOURNAL!$I:$I,JOURNAL!$K:$K,RECAP!$B$20,JOURNAL!$B:$B,RECAP!B25),0) -> 0 | D25: =IFERROR(SUMIFS(JOURNAL!$J:$J,JOURNAL!$K:$K,RECAP!$B$20,JOURNAL!$B:$B,RECAP!B25),0) -> 0 | E25: =C25-D25 -> 0 | F25: =F24+E25 -> 102230 | H25: Mars | I25: =SUMIFS(JOURNAL!$I:$I,JOURNAL!$K:$K,RECAP!$H$20,JOURNAL!$B:$B,RECAP!H25) -> 0 | J25: =SUMIFS(JOURNAL!$J:$J,JOURNAL!$K:$K,RECAP!$H$20,JOURNAL!$B:$B,RECAP!H25) -> 0 | K25: =I25-J25 -> 0 | L25: =L24+K25 -> 186000 | N25: Mars | O25: =SUMIFS(JOURNAL!$I:$I,JOURNAL!$K:$K,RECAP!$N$20,JOURNAL!$B:$B,RECAP!N25) -> 0 | P25: =SUMIFS(JOURNAL!$J:$J,JOURNAL!$K:$K,RECAP!$N$20,JOURNAL!$B:$B,RECAP!N25) -> 0 | Q25: =O25-P25 -> 0 | R25: =R24+Q25 -> 52400
B26: Avril | C26: =IFERROR(SUMIFS(JOURNAL!$I:$I,JOURNAL!$K:$K,RECAP!$B$20,JOURNAL!$B:$B,RECAP!B26),0) -> 0 | D26: =IFERROR(SUMIFS(JOURNAL!$J:$J,JOURNAL!$K:$K,RECAP!$B$20,JOURNAL!$B:$B,RECAP!B26),0) -> 0 | E26: =C26-D26 -> 0 | F26: =F25+E26 -> 102230 | H26: Avril | I26: =SUMIFS(JOURNAL!$I:$I,JOURNAL!$K:$K,RECAP!$H$20,JOURNAL!$B:$B,RECAP!H26) -> 0 | J26: =SUMIFS(JOURNAL!$J:$J,JOURNAL!$K:$K,RECAP!$H$20,JOURNAL!$B:$B,RECAP!H26) -> 0 | K26: =I26-J26 -> 0 | L26: =L25+K26 -> 186000 | N26: Avril | O26: =SUMIFS(JOURNAL!$I:$I,JOURNAL!$K:$K,RECAP!$N$20,JOURNAL!$B:$B,RECAP!N26) -> 0 | P26: =SUMIFS(JOURNAL!$J:$J,JOURNAL!$K:$K,RECAP!$N$20,JOURNAL!$B:$B,RECAP!N26) -> 0 | Q26: =O26-P26 -> 0 | R26: =R25+Q26 -> 52400
B27: Mai | C27: =IFERROR(SUMIFS(JOURNAL!$I:$I,JOURNAL!$K:$K,RECAP!$B$20,JOURNAL!$B:$B,RECAP!B27),0) -> 0 | D27: =IFERROR(SUMIFS(JOURNAL!$J:$J,JOURNAL!$K:$K,RECAP!$B$20,JOURNAL!$B:$B,RECAP!B27),0) -> 0 | E27: =C27-D27 -> 0 | F27: =F26+E27 -> 102230 | H27: Mai | I27: =SUMIFS(JOURNAL!$I:$I,JOURNAL!$K:$K,RECAP!$H$20,JOURNAL!$B:$B,RECAP!H27) -> 0 | J27: =SUMIFS(JOURNAL!$J:$J,JOURNAL!$K:$K,RECAP!$H$20,JOURNAL!$B:$B,RECAP!H27) -> 0 | K27: =I27-J27 -> 0 | L27: =L26+K27 -> 186000 | N27: Mai | O27: =SUMIFS(JOURNAL!$I:$I,JOURNAL!$K:$K,RECAP!$N$20,JOURNAL!$B:$B,RECAP!N27) -> 0 | P27: =SUMIFS(JOURNAL!$J:$J,JOURNAL!$K:$K,RECAP!$N$20,JOURNAL!$B:$B,RECAP!N27) -> 0 | Q27: =O27-P27 -> 0 | R27: =R26+Q27 -> 52400
B28: Juin | C28: =IFERROR(SUMIFS(JOURNAL!$I:$I,JOURNAL!$K:$K,RECAP!$B$20,JOURNAL!$B:$B,RECAP!B28),0) -> 0 | D28: =IFERROR(SUMIFS(JOURNAL!$J:$J,JOURNAL!$K:$K,RECAP!$B$20,JOURNAL!$B:$B,RECAP!B28),0) -> 0 | E28: =C28-D28 -> 0 | F28: =F27+E28 -> 102230 | H28: Juin | I28: =SUMIFS(JOURNAL!$I:$I,JOURNAL!$K:$K,RECAP!$H$20,JOURNAL!$B:$B,RECAP!H28) -> 0 | J28: =SUMIFS(JOURNAL!$J:$J,JOURNAL!$K:$K,RECAP!$H$20,JOURNAL!$B:$B,RECAP!H28) -> 0 | K28: =I28-J28 -> 0 | L28: =L27+K28 -> 186000 | N28: Juin | O28: =SUMIFS(JOURNAL!$I:$I,JOURNAL!$K:$K,RECAP!$N$20,JOURNAL!$B:$B,RECAP!N28) -> 0 | P28: =SUMIFS(JOURNAL!$J:$J,JOURNAL!$K:$K,RECAP!$N$20,JOURNAL!$B:$B,RECAP!N28) -> 0 | Q28: =O28-P28 -> 0 | R28: =R27+Q28 -> 52400
B29: Juillet | C29: =IFERROR(SUMIFS(JOURNAL!$I:$I,JOURNAL!$K:$K,RECAP!$B$20,JOURNAL!$B:$B,RECAP!B29),0) -> 0 | D29: =IFERROR(SUMIFS(JOURNAL!$J:$J,JOURNAL!$K:$K,RECAP!$B$20,JOURNAL!$B:$B,RECAP!B29),0) -> 0 | E29: =C29-D29 -> 0 | F29: =F28+E29 -> 102230 | H29: Juillet | I29: =SUMIFS(JOURNAL!$I:$I,JOURNAL!$K:$K,RECAP!$H$20,JOURNAL!$B:$B,RECAP!H29) -> 0 | J29: =SUMIFS(JOURNAL!$J:$J,JOURNAL!$K:$K,RECAP!$H$20,JOURNAL!$B:$B,RECAP!H29) -> 0 | K29: =I29-J29 -> 0 | L29: =L28+K29 -> 186000 | N29: Juillet | O29: =SUMIFS(JOURNAL!$I:$I,JOURNAL!$K:$K,RECAP!$N$20,JOURNAL!$B:$B,RECAP!N29) -> 0 | P29: =SUMIFS(JOURNAL!$J:$J,JOURNAL!$K:$K,RECAP!$N$20,JOURNAL!$B:$B,RECAP!N29) -> 0 | Q29: =O29-P29 -> 0 | R29: =R28+Q29 -> 52400
B30: Août | C30: =IFERROR(SUMIFS(JOURNAL!$I:$I,JOURNAL!$K:$K,RECAP!$B$20,JOURNAL!$B:$B,RECAP!B30),0) -> 0 | D30: =IFERROR(SUMIFS(JOURNAL!$J:$J,JOURNAL!$K:$K,RECAP!$B$20,JOURNAL!$B:$B,RECAP!B30),0) -> 0 | E30: =C30-D30 -> 0 | F30: =F29+E30 -> 102230 | H30: Août | I30: =SUMIFS(JOURNAL!$I:$I,JOURNAL!$K:$K,RECAP!$H$20,JOURNAL!$B:$B,RECAP!H30) -> 0 | J30: =SUMIFS(JOURNAL!$J:$J,JOURNAL!$K:$K,RECAP!$H$20,JOURNAL!$B:$B,RECAP!H30) -> 0 | K30: =I30-J30 -> 0 | L30: =L29+K30 -> 186000 | N30: Août | O30: =SUMIFS(JOURNAL!$I:$I,JOURNAL!$K:$K,RECAP!$N$20,JOURNAL!$B:$B,RECAP!N30) -> 0 | P30: =SUMIFS(JOURNAL!$J:$J,JOURNAL!$K:$K,RECAP!$N$20,JOURNAL!$B:$B,RECAP!N30) -> 0 | Q30: =O30-P30 -> 0 | R30: =R29+Q30 -> 52400
B31: Septembre | C31: =IFERROR(SUMIFS(JOURNAL!$I:$I,JOURNAL!$K:$K,RECAP!$B$20,JOURNAL!$B:$B,RECAP!B31),0) -> 0 | D31: =IFERROR(SUMIFS(JOURNAL!$J:$J,JOURNAL!$K:$K,RECAP!$B$20,JOURNAL!$B:$B,RECAP!B31),0) -> 0 | E31: =C31-D31 -> 0 | F31: =F30+E31 -> 102230 | H31: Septembre | I31: =SUMIFS(JOURNAL!$I:$I,JOURNAL!$K:$K,RECAP!$H$20,JOURNAL!$B:$B,RECAP!H31) -> 0 | J31: =SUMIFS(JOURNAL!$J:$J,JOURNAL!$K:$K,RECAP!$H$20,JOURNAL!$B:$B,RECAP!H31) -> 0 | K31: =I31-J31 -> 0 | L31: =L30+K31 -> 186000 | N31: Septembre | O31: =SUMIFS(JOURNAL!$I:$I,JOURNAL!$K:$K,RECAP!$N$20,JOURNAL!$B:$B,RECAP!N31) -> 0 | P31: =SUMIFS(JOURNAL!$J:$J,JOURNAL!$K:$K,RECAP!$N$20,JOURNAL!$B:$B,RECAP!N31) -> 0 | Q31: =O31-P31 -> 0 | R31: =R30+Q31 -> 52400
B32: Octobre | C32: =IFERROR(SUMIFS(JOURNAL!$I:$I,JOURNAL!$K:$K,RECAP!$B$20,JOURNAL!$B:$B,RECAP!B32),0) -> 0 | D32: =IFERROR(SUMIFS(JOURNAL!$J:$J,JOURNAL!$K:$K,RECAP!$B$20,JOURNAL!$B:$B,RECAP!B32),0) -> 0 | E32: =C32-D32 -> 0 | F32: =F31+E32 -> 102230 | H32: Octobre | I32: =SUMIFS(JOURNAL!$I:$I,JOURNAL!$K:$K,RECAP!$H$20,JOURNAL!$B:$B,RECAP!H32) -> 0 | J32: =SUMIFS(JOURNAL!$J:$J,JOURNAL!$K:$K,RECAP!$H$20,JOURNAL!$B:$B,RECAP!H32) -> 0 | K32: =I32-J32 -> 0 | L32: =L31+K32 -> 186000 | N32: Octobre | O32: =SUMIFS(JOURNAL!$I:$I,JOURNAL!$K:$K,RECAP!$N$20,JOURNAL!$B:$B,RECAP!N32) -> 0 | P32: =SUMIFS(JOURNAL!$J:$J,JOURNAL!$K:$K,RECAP!$N$20,JOURNAL!$B:$B,RECAP!N32) -> 0 | Q32: =O32-P32 -> 0 | R32: =R31+Q32 -> 52400
B33: Novembre | C33: =IFERROR(SUMIFS(JOURNAL!$I:$I,JOURNAL!$K:$K,RECAP!$B$20,JOURNAL!$B:$B,RECAP!B33),0) -> 0 | D33: =IFERROR(SUMIFS(JOURNAL!$J:$J,JOURNAL!$K:$K,RECAP!$B$20,JOURNAL!$B:$B,RECAP!B33),0) -> 0 | E33: =C33-D33 -> 0 | F33: =F32+E33 -> 102230 | H33: Novembre | I33: =SUMIFS(JOURNAL!$I:$I,JOURNAL!$K:$K,RECAP!$H$20,JOURNAL!$B:$B,RECAP!H33) -> 0 | J33: =SUMIFS(JOURNAL!$J:$J,JOURNAL!$K:$K,RECAP!$H$20,JOURNAL!$B:$B,RECAP!H33) -> 0 | K33: =I33-J33 -> 0 | L33: =L32+K33 -> 186000 | N33: Novembre | O33: =SUMIFS(JOURNAL!$I:$I,JOURNAL!$K:$K,RECAP!$N$20,JOURNAL!$B:$B,RECAP!N33) -> 0 | P33: =SUMIFS(JOURNAL!$J:$J,JOURNAL!$K:$K,RECAP!$N$20,JOURNAL!$B:$B,RECAP!N33) -> 0 | Q33: =O33-P33 -> 0 | R33: =R32+Q33 -> 52400
B34: Décembre | C34: =IFERROR(SUMIFS(JOURNAL!$I:$I,JOURNAL!$K:$K,RECAP!$B$20,JOURNAL!$B:$B,RECAP!B34),0) -> 0 | D34: =IFERROR(SUMIFS(JOURNAL!$J:$J,JOURNAL!$K:$K,RECAP!$B$20,JOURNAL!$B:$B,RECAP!B34),0) -> 0 | E34: =C34-D34 -> 0 | F34: =F33+E34 -> 102230 | H34: Décembre | I34: =SUMIFS(JOURNAL!$I:$I,JOURNAL!$K:$K,RECAP!$H$20,JOURNAL!$B:$B,RECAP!H34) -> 0 | J34: =SUMIFS(JOURNAL!$J:$J,JOURNAL!$K:$K,RECAP!$H$20,JOURNAL!$B:$B,RECAP!H34) -> 0 | K34: =I34-J34 -> 0 | L34: =L33+K34 -> 186000 | N34: Décembre | O34: =SUMIFS(JOURNAL!$I:$I,JOURNAL!$K:$K,RECAP!$N$20,JOURNAL!$B:$B,RECAP!N34) -> 0 | P34: =SUMIFS(JOURNAL!$J:$J,JOURNAL!$K:$K,RECAP!$N$20,JOURNAL!$B:$B,RECAP!N34) -> 0 | Q34: =O34-P34 -> 0 | R34: =R33+Q34 -> 52400
B36: TOTAUX | C36: =SUM(C23:C34) -> 251230 | D36: =SUM(D23:D34) -> 149000 | E36: SOLDE ANNEE | F36: =+C36-D36 -> 102230 | H36: TOTAUX | I36: =SUM(I23:I34) -> 270000 | J36: =SUM(J23:J34) -> 84000 | K36: SOLDE ANNEE | L36: =+I36-J36 -> 186000 | N36: TOTAUX | O36: =SUM(O23:O34) -> 125400 | P36: =SUM(P23:P34) -> 73000 | Q36: SOLDE ANNEE | R36: =+O36-P36 -> 52400

Sheet GLOBALE
B1: DU | C1: 43853 | D1: AU | E1: =+TODAY() -> 43872
H2: RECETTES | N2: DEPENSES | T2: SOLDE
C3: ENC | D3: DEC | E3: SOLDE | H3: Hyppo | I3: KABAKO | J3: SPHNIX | K3: REVANCHE | L3: DIRECTRICE | M3: MOUSSO TV | N3: HYPPO | O3: KABAKO | P3: SPHNIX | Q3: REVANCHE | R3: DIRECTRICE | S3: MOUSSO TV | T3: HYPPO | U3: KABAKO | V3: SPHNIX | W3: REVANCHE | X3: DIRECTRICE | Y3: MOUSSO TV
B4: Hyppo | C4: =IF(B4="","",SUMIFS(JOURNAL!$I:$I,JOURNAL!$K:$K,B4,JOURNAL!$D:$D,$C$3)) -> 17680000 | D4: =IF(C4="","",SUMIFS(JOURNAL!$J:$J,JOURNAL!$K:$K,B4,JOURNAL!$D:$D,$D$3)) -> 17038000 | E4: =+C4-D4 -> 642000 | G4: Janvier | H4: =SUMIFS(JOURNAL!$I:$I,JOURNAL!$K:$K,GLOBALE!$H$3,JOURNAL!$B:$B,GLOBALE!G4) -> 10950000 | I4: =SUMIFS(JOURNAL!$I:$I,JOURNAL!$K:$K,GLOBALE!$I$3,JOURNAL!$B:$B,GLOBALE!G4) -> 179470 | J4: =SUMIFS(JOURNAL!$I:$I,JOURNAL!$K:$K,GLOBALE!$J$3,JOURNAL!$B:$B,GLOBALE!G4) -> 220000 | K4: =SUMIFS(JOURNAL!$I:$I,JOURNAL!$K:$K,GLOBALE!$K$3,JOURNAL!$B:$B,GLOBALE!G4) -> 125400 | L4: =SUMIFS(JOURNAL!$I:$I,JOURNAL!$L:$L,GLOBALE!$L$3,JOURNAL!$B:$B,GLOBALE!G4) -> 0 | M4: =SUMIFS(JOURNAL!$I:$I,JOURNAL!$L:$L,GLOBALE!$M$3,JOURNAL!$B:$B,GLOBALE!G4) -> 0 | N4: =SUMIFS(JOURNAL!$J:$J,JOURNAL!$K:$K,GLOBALE!$N$3,JOURNAL!$B:$B,GLOBALE!G4) -> 7288600 | O4: =SUMIFS(JOURNAL!$J:$J,JOURNAL!$K:$K,GLOBALE!$O$3,JOURNAL!$B:$B,GLOBALE!G4) -> 80000 | P4: =SUMIFS(JOURNAL!$J:$J,JOURNAL!$K:$K,GLOBALE!$P$3,JOURNAL!$B:$B,GLOBALE!G4) -> 56000 | Q4: =SUMIFS(JOURNAL!$J:$J,JOURNAL!$K:$K,GLOBALE!$Q$3,JOURNAL!$B:$B,GLOBALE!G4) -> 73000 | R4: =SUMIFS(JOURNAL!$J:$J,JOURNAL!$L:$L,GLOBALE!$R$3,JOURNAL!$B:$B,GLOBALE!G4) -> 2894350 | S4: =SUMIFS(JOURNAL!$J:$J,JOURNAL!$L:$L,GLOBALE!$S$3,JOURNAL!$B:$B,GLOBALE!G4) -> 120000 | T4: =H4-N4 -> 3661400 | U4: =I4-O4 -> 99470 | V4: =J4-P4 -> 164000 | W4: =K4-Q4 -> 52400 | X4: =L4-R4 -> -2894350 | Y4: =M4-S4 -> -120000
B5: Directrice | C5: =IF(B5="","",SUMIFS(JOURNAL!$I:$I,JOURNAL!$K:$K,B5,JOURNAL!$D:$D,$C$3)) -> 0 | D5: =IF(C5="","",SUMIFS(JOURNAL!$J:$J,JOURNAL!$L:$L,B5,JOURNAL!$D:$D,$D$3)) -> 5301150 | E5: =+C5-D5 -> -5301150 | G5: Fevrier | H5: =SUMIFS(JOURNAL!$I:$I,JOURNAL!$K:$K,GLOBALE!$H$3,JOURNAL!$B:$B,GLOBALE!G5) -> 6730000 | I5: =SUMIFS(JOURNAL!$I:$I,JOURNAL!$K:$K,GLOBALE!$I$3,JOURNAL!$B:$B,GLOBALE!G5) -> 71760 | J5: =SUMIFS(JOURNAL!$I:$I,JOURNAL!$K:$K,GLOBALE!$J$3,JOURNAL!$B:$B,GLOBALE!G5) -> 50000 | K5: =SUMIFS(JOURNAL!$I:$I,JOURNAL!$K:$K,GLOBALE!$K$3,JOURNAL!$B:$B,GLOBALE!G5) -> 0 | L5: =SUMIFS(JOURNAL!$I:$I,JOURNAL!$L:$L,GLOBALE!$L$3,JOURNAL!$B:$B,GLOBALE!G5) -> 0 | M5: =SUMIFS(JOURNAL!$I:$I,JOURNAL!$L:$L,GLOBALE!$M$3,JOURNAL!$B:$B,GLOBALE!G5) -> 0 | N5: =SUMIFS(JOURNAL!$J:$J,JOURNAL!$K:$K,GLOBALE!$N$3,JOURNAL!$B:$B,GLOBALE!G5) -> 9749400 | O5: =SUMIFS(JOURNAL!$J:$J,JOURNAL!$K:$K,GLOBALE!$O$3,JOURNAL!$B:$B,GLOBALE!G5) -> 69000 | P5: =SUMIFS(JOURNAL!$J:$J,JOURNAL!$K:$K,GLOBALE!$P$3,JOURNAL!$B:$B,GLOBALE!G5) -> 28000 | Q5: =SUMIFS(JOURNAL!$J:$J,JOURNAL!$K:$K,GLOBALE!$Q$3,JOURNAL!$B:$B,GLOBALE!G5) -> 0 | R5: =SUMIFS(JOURNAL!$J:$J,JOURNAL!$L:$L,GLOBALE!$R$3,JOURNAL!$B:$B,GLOBALE!G5) -> 2406800 | S5: =SUMIFS(JOURNAL!$J:$J,JOURNAL!$L:$L,GLOBALE!$S$3,JOURNAL!$B:$B,GLOBALE!G5) -> 806500 | T5: =H5-N5 -> -3019400 | U5: =I5-O5 -> 2760 | V5: =J5-P5 -> 22000 | W5: =K5-Q5 -> 0 | X5: =L5-R5 -> -2406800 | Y5: =M5-S5 -> -806500
B6: Kabako | C6: =IF(B6="","",SUMIFS(JOURNAL!$I:$I,JOURNAL!$K:$K,B6,JOURNAL!$D:$D,$C$3)) -> 251230 | D6: =IF(C6="","",SUMIFS(JOURNAL!$J:$J,JOURNAL!$K:$K,B6,JOURNAL!$D:$D,$D$3)) -> 149000 | E6: =+C6-D6 -> 102230 | G6: Mars | H6: =SUMIFS(JOURNAL!$I:$I,JOURNAL!$K:$K,GLOBALE!$H$3,JOURNAL!$B:$B,GLOBALE!G6) -> 0 | I6: =SUMIFS(JOURNAL!$I:$I,JOURNAL!$K:$K,GLOBALE!$I$3,JOURNAL!$B:$B,GLOBALE!G6) -> 0 | J6: =SUMIFS(JOURNAL!$I:$I,JOURNAL!$K:$K,GLOBALE!$J$3,JOURNAL!$B:$B,GLOBALE!G6) -> 0 | K6: =SUMIFS(JOURNAL!$I:$I,JOURNAL!$K:$K,GLOBALE!$K$3,JOURNAL!$B:$B,GLOBALE!G6) -> 0 | L6: =SUMIFS(JOURNAL!$I:$I,JOURNAL!$L:$L,GLOBALE!$L$3,JOURNAL!$B:$B,GLOBALE!G6) -> 0 | M6: =SUMIFS(JOURNAL!$I:$I,JOURNAL!$L:$L,GLOBALE!$M$3,JOURNAL!$B:$B,GLOBALE!G6) -> 0 | N6: =SUMIFS(JOURNAL!$J:$J,JOURNAL!$K:$K,GLOBALE!$N$3,JOURNAL!$B:$B,GLOBALE!G6) -> 0 | O6: =SUMIFS(JOURNAL!$J:$J,JOURNAL!$K:$K,GLOBALE!$O$3,JOURNAL!$B:$B,GLOBALE!G6) -> 0 | P6: =SUMIFS(JOURNAL!$J:$J,JOURNAL!$K:$K,GLOBALE!$P$3,JOURNAL!$B:$B,GLOBALE!G6) -> 0 | Q6: =SUMIFS(JOURNAL!$J:$J,JOURNAL!$K:$K,GLOBALE!$Q$3,JOURNAL!$B:$B,GLOBALE!G6) -> 0 | R6: =SUMIFS(JOURNAL!$J:$J,JOURNAL!$L:$L,GLOBALE!$R$3,JOURNAL!$B:$B,GLOBALE!G6) -> 0 | S6: =SUMIFS(JOURNAL!$J:$J,JOURNAL!$L:$L,GLOBALE!$S$3,JOURNAL!$B:$B,GLOBALE!G6) -> 0 | T6: =H6-N6 -> 0 | U6: =I6-O6 -> 0 | V6: =J6-P6 -> 0 | W6: =K6-Q6 -> 0 | X6: =L6-R6 -> 0 | Y6: =M6-S6 -> 0
B7: Sphnix | C7: =IF(B7="","",SUMIFS(JOURNAL!$I:$I,JOURNAL!$K:$K,B7,JOURNAL!$D:$D,$C$3)) -> 270000 | D7: =IF(C7="","",SUMIFS(JOURNAL!$J:$J,JOURNAL!$K:$K,B7,JOURNAL!$D:$D,$D$3)) -> 84000 | E7: =+C7-D7 -> 186000 | G7: Avril | H7: =SUMIFS(JOURNAL!$I:$I,JOURNAL!$K:$K,GLOBALE!$H$3,JOURNAL!$B:$B,GLOBALE!G7) -> 0 | I7: =SUMIFS(JOURNAL!$I:$I,JOURNAL!$K:$K,GLOBALE!$I$3,JOURNAL!$B:$B,GLOBALE!G7) -> 0 | J7: =SUMIFS(JOURNAL!$I:$I,JOURNAL!$K:$K,GLOBALE!$J$3,JOURNAL!$B:$B,GLOBALE!G7) -> 0 | K7: =SUMIFS(JOURNAL!$I:$I,JOURNAL!$K:$K,GLOBALE!$K$3,JOURNAL!$B:$B,GLOBALE!G7) -> 0 | L7: =SUMIFS(JOURNAL!$I:$I,JOURNAL!$L:$L,GLOBALE!$L$3,JOURNAL!$B:$B,GLOBALE!G7) -> 0 | M7: =SUMIFS(JOURNAL!$I:$I,JOURNAL!$L:$L,GLOBALE!$M$3,JOURNAL!$B:$B,GLOBALE!G7) -> 0 | N7: =SUMIFS(JOURNAL!$J:$J,JOURNAL!$K:$K,GLOBALE!$N$3,JOURNAL!$B:$B,GLOBALE!G7) -> 0 | O7: =SUMIFS(JOURNAL!$J:$J,JOURNAL!$K:$K,GLOBALE!$O$3,JOURNAL!$B:$B,GLOBALE!G7) -> 0 | P7: =SUMIFS(JOURNAL!$J:$J,JOURNAL!$K:$K,GLOBALE!$P$3,JOURNAL!$B:$B,GLOBALE!G7) -> 0 | Q7: =SUMIFS(JOURNAL!$J:$J,JOURNAL!$K:$K,GLOBALE!$Q$3,JOURNAL!$B:$B,GLOBALE!G7) -> 0 | R7: =SUMIFS(JOURNAL!$J:$J,JOURNAL!$L:$L,GLOBALE!$R$3,JOURNAL!$B:$B,GLOBALE!G7) -> 0 | S7: =SUMIFS(JOURNAL!$J:$J,JOURNAL!$L:$L,GLOBALE!$S$3,JOURNAL!$B:$B,GLOBALE!G7) -> 0 | T7: =H7-N7 -> 0 | U7: =I7-O7 -> 0 | V7: =J7-P7 -> 0 | W7: =K7-Q7 -> 0 | X7: =L7-R7 -> 0 | Y7: =M7-S7 -> 0
B8: Revanche | C8: =IF(B8="","",SUMIFS(JOURNAL!$I:$I,JOURNAL!$K:$K,B8,JOURNAL!$D:$D,$C$3)) -> 125400 | D8: =IF(C8="","",SUMIFS(JOURNAL!$J:$J,JOURNAL!$K:$K,B8,JOURNAL!$D:$D,$D$3)) -> 73000 | E8: =+C8-D8 -> 52400 | G8: Mai | H8: =SUMIFS(JOURNAL!$I:$I,JOURNAL!$K:$K,GLOBALE!$H$3,JOURNAL!$B:$B,GLOBALE!G8) -> 0 | I8: =SUMIFS(JOURNAL!$I:$I,JOURNAL!$K:$K,GLOBALE!$I$3,JOURNAL!$B:$B,GLOBALE!G8) -> 0 | J8: =SUMIFS(JOURNAL!$I:$I,JOURNAL!$K:$K,GLOBALE!$J$3,JOURNAL!$B:$B,GLOBALE!G8) -> 0 | K8: =SUMIFS(JOURNAL!$I:$I,JOURNAL!$K:$K,GLOBALE!$K$3,JOURNAL!$B:$B,GLOBALE!G8) -> 0 | L8: =SUMIFS(JOURNAL!$I:$I,JOURNAL!$L:$L,GLOBALE!$L$3,JOURNAL!$B:$B,GLOBALE!G8) -> 0 | M8: =SUMIFS(JOURNAL!$I:$I,JOURNAL!$L:$L,GLOBALE!$M$3,JOURNAL!$B:$B,GLOBALE!G8) -> 0 | N8: =SUMIFS(JOURNAL!$J:$J,JOURNAL!$K:$K,GLOBALE!$N$3,JOURNAL!$B:$B,GLOBALE!G8) -> 0 | O8: =SUMIFS(JOURNAL!$J:$J,JOURNAL!$K:$K,GLOBALE!$O$3,JOURNAL!$B:$B,GLOBALE!G8) -> 0 | P8: =SUMIFS(JOURNAL!$J:$J,JOURNAL!$K:$K,GLOBALE!$P$3,JOURNAL!$B:$B,GLOBALE!G8) -> 0 | Q8: =SUMIFS(JOURNAL!$J:$J,JOURNAL!$K:$K,GLOBALE!$Q$3,JOURNAL!$B:$B,GLOBALE!G8) -> 0 | R8: =SUMIFS(JOURNAL!$J:$J,JOURNAL!$L:$L,GLOBALE!$R$3,JOURNAL!$B:$B,GLOBALE!G8) -> 0 | S8: =SUMIFS(JOURNAL!$J:$J,JOURNAL!$L:$L,GLOBALE!$S$3,JOURNAL!$B:$B,GLOBALE!G8) -> 0 | T8: =H8-N8 -> 0 | U8: =I8-O8 -> 0 | V8: =J8-P8 -> 0 | W8: =K8-Q8 -> 0 | X8: =L8-R8 -> 0 | Y8: =M8-S8 -> 0
B9: Mousso TV | C9: =IF(B9="","",SUMIFS(JOURNAL!$I:$I,JOURNAL!$K:$K,B9,JOURNAL!$D:$D,$C$3)) -> 0 | D9: =IF(C9="","",SUMIFS(JOURNAL!$J:$J,JOURNAL!$L:$L,B9,JOURNAL!$D:$D,$D$3)) -> 926500 | E9: =+C9-D9 -> -926500 | G9: Juin | H9: =SUMIFS(JOURNAL!$I:$I,JOURNAL!$K:$K,GLOBALE!$H$3,JOURNAL!$B:$B,GLOBALE!G9) -> 0 | I9: =SUMIFS(JOURNAL!$I:$I,JOURNAL!$K:$K,GLOBALE!$I$3,JOURNAL!$B:$B,GLOBALE!G9) -> 0 | J9: =SUMIFS(JOURNAL!$I:$I,JOURNAL!$K:$K,GLOBALE!$J$3,JOURNAL!$B:$B,GLOBALE!G9) -> 0 | K9: =SUMIFS(JOURNAL!$I:$I,JOURNAL!$K:$K,GLOBALE!$K$3,JOURNAL!$B:$B,GLOBALE!G9) -> 0 | L9: =SUMIFS(JOURNAL!$I:$I,JOURNAL!$L:$L,GLOBALE!$L$3,JOURNAL!$B:$B,GLOBALE!G9) -> 0 | M9: =SUMIFS(JOURNAL!$I:$I,JOURNAL!$L:$L,GLOBALE!$M$3,JOURNAL!$B:$B,GLOBALE!G9) -> 0 | N9: =SUMIFS(JOURNAL!$J:$J,JOURNAL!$K:$K,GLOBALE!$N$3,JOURNAL!$B:$B,GLOBALE!G9) -> 0 | O9: =SUMIFS(JOURNAL!$J:$J,JOURNAL!$K:$K,GLOBALE!$O$3,JOURNAL!$B:$B,GLOBALE!G9) -> 0 | P9: =SUMIFS(JOURNAL!$J:$J,JOURNAL!$K:$K,GLOBALE!$P$3,JOURNAL!$B:$B,GLOBALE!G9) -> 0 | Q9: =SUMIFS(JOURNAL!$J:$J,JOURNAL!$K:$K,GLOBALE!$Q$3,JOURNAL!$B:$B,GLOBALE!G9) -> 0 | R9: =SUMIFS(JOURNAL!$J:$J,JOURNAL!$L:$L,GLOBALE!$R$3,JOURNAL!$B:$B,GLOBALE!G9) -> 0 | S9: =SUMIFS(JOURNAL!$J:$J,JOURNAL!$L:$L,GLOBALE!$S$3,JOURNAL!$B:$B,GLOBALE!G9) -> 0 | T9: =H9-N9 -> 0 | U9: =I9-O9 -> 0 | V9: =J9-P9 -> 0 | W9: =K9-Q9 -> 0 | X9: =L9-R9 -> 0 | Y9: =M9-S9 -> 0
B10: TOTAL | C10: =SUM(C4:C9) -> 18326630 | D10: =SUM(D4:D9) -> 23571650 | G10: Juillet | H10: =SUMIFS(JOURNAL!$I:$I,JOURNAL!$K:$K,GLOBALE!$H$3,JOURNAL!$B:$B,GLOBALE!G10) -> 0 | I10: =SUMIFS(JOURNAL!$I:$I,JOURNAL!$K:$K,GLOBALE!$I$3,JOURNAL!$B:$B,GLOBALE!G10) -> 0 | J10: =SUMIFS(JOURNAL!$I:$I,JOURNAL!$K:$K,GLOBALE!$J$3,JOURNAL!$B:$B,GLOBALE!G10) -> 0 | K10: =SUMIFS(JOURNAL!$I:$I,JOURNAL!$K:$K,GLOBALE!$K$3,JOURNAL!$B:$B,GLOBALE!G10) -> 0 | L10: =SUMIFS(JOURNAL!$I:$I,JOURNAL!$L:$L,GLOBALE!$L$3,JOURNAL!$B:$B,GLOBALE!G10) -> 0 | M10: =SUMIFS(JOURNAL!$I:$I,JOURNAL!$L:$L,GLOBALE!$M$3,JOURNAL!$B:$B,GLOBALE!G10) -> 0 | N10: =SUMIFS(JOURNAL!$J:$J,JOURNAL!$K:$K,GLOBALE!$N$3,JOURNAL!$B:$B,GLOBALE!G10) -> 0 | O10: =SUMIFS(JOURNAL!$J:$J,JOURNAL!$K:$K,GLOBALE!$O$3,JOURNAL!$B:$B,GLOBALE!G10) -> 0 | P10: =SUMIFS(JOURNAL!$J:$J,JOURNAL!$K:$K,GLOBALE!$P$3,JOURNAL!$B:$B,GLOBALE!G10) -> 0 | Q10: =SUMIFS(JOURNAL!$J:$J,JOURNAL!$K:$K,GLOBALE!$Q$3,JOURNAL!$B:$B,GLOBALE!G10) -> 0 | R10: =SUMIFS(JOURNAL!$J:$J,JOURNAL!$L:$L,GLOBALE!$R$3,JOURNAL!$B:$B,GLOBALE!G10) -> 0 | S10: =SUMIFS(JOURNAL!$J:$J,JOURNAL!$L:$L,GLOBALE!$S$3,JOURNAL!$B:$B,GLOBALE!G10) -> 0 | T10: =H10-N10 -> 0 | U10: =I10-O10 -> 0 | V10: =J10-P10 -> 0 | W10: =K10-Q10 -> 0 | X10: =L10-R10 -> 0 | Y10: =M10-S10 -> 0
G11: Août | H11: =SUMIFS(JOURNAL!$I:$I,JOURNAL!$K:$K,GLOBALE!$H$3,JOURNAL!$B:$B,GLOBALE!G11) -> 0 | I11: =SUMIFS(JOURNAL!$I:$I,JOURNAL!$K:$K,GLOBALE!$I$3,JOURNAL!$B:$B,GLOBALE!G11) -> 0 | J11: =SUMIFS(JOURNAL!$I:$I,JOURNAL!$K:$K,GLOBALE!$J$3,JOURNAL!$B:$B,GLOBALE!G11) -> 0 | K11: =SUMIFS(JOURNAL!$I:$I,JOURNAL!$K:$K,GLOBALE!$K$3,JOURNAL!$B:$B,GLOBALE!G11) -> 0 | L11: =SUMIFS(JOURNAL!$I:$I,JOURNAL!$L:$L,GLOBALE!$L$3,JOURNAL!$B:$B,GLOBALE!G11) -> 0 | M11: =SUMIFS(JOURNAL!$I:$I,JOURNAL!$L:$L,GLOBALE!$M$3,JOURNAL!$B:$B,GLOBALE!G11) -> 0 | N11: =SUMIFS(JOURNAL!$J:$J,JOURNAL!$K:$K,GLOBALE!$N$3,JOURNAL!$B:$B,GLOBALE!G11) -> 0 | O11: =SUMIFS(JOURNAL!$J:$J,JOURNAL!$K:$K,GLOBALE!$O$3,JOURNAL!$B:$B,GLOBALE!G11) -> 0 | P11: =SUMIFS(JOURNAL!$J:$J,JOURNAL!$K:$K,GLOBALE!$P$3,JOURNAL!$B:$B,GLOBALE!G11) -> 0 | Q11: =SUMIFS(JOURNAL!$J:$J,JOURNAL!$K:$K,GLOBALE!$Q$3,JOURNAL!$B:$B,GLOBALE!G11) -> 0 | R11: =SUMIFS(JOURNAL!$J:$J,JOURNAL!$L:$L,GLOBALE!$R$3,JOURNAL!$B:$B,GLOBALE!G11) -> 0 | S11: =SUMIFS(JOURNAL!$J:$J,JOURNAL!$L:$L,GLOBALE!$S$3,JOURNAL!$B:$B,GLOBALE!G11) -> 0 | T11: =H11-N11 -> 0 | U11: =I11-O11 -> 0 | V11: =J11-P11 -> 0 | W11: =K11-Q11 -> 0 | X11: =L11-R11 -> 0 | Y11: =M11-S11 -> 0
B12: CAISSE | C12: =+C10 -> 18326630 | D12: =+D4+D6+D7+D8 -> 17344000 | E12: =+C12-D12 -> 982630 | G12: Septembre | H12: =SUMIFS(JOURNAL!$I:$I,JOURNAL!$K:$K,GLOBALE!$H$3,JOURNAL!$B:$B,GLOBALE!G12) -> 0 | I12: =SUMIFS(JOURNAL!$I:$I,JOURNAL!$K:$K,GLOBALE!$I$3,JOURNAL!$B:$B,GLOBALE!G12) -> 0 | J12: =SUMIFS(JOURNAL!$I:$I,JOURNAL!$K:$K,GLOBALE!$J$3,JOURNAL!$B:$B,GLOBALE!G12) -> 0 | K12: =SUMIFS(JOURNAL!$I:$I,JOURNAL!$K:$K,GLOBALE!$K$3,JOURNAL!$B:$B,GLOBALE!G12) -> 0 | L12: =SUMIFS(JOURNAL!$I:$I,JOURNAL!$L:$L,GLOBALE!$L$3,JOURNAL!$B:$B,GLOBALE!G12) -> 0 | M12: =SUMIFS(JOURNAL!$I:$I,JOURNAL!$L:$L,GLOBALE!$M$3,JOURNAL!$B:$B,GLOBALE!G12) -> 0 | N12: =SUMIFS(JOURNAL!$J:$J,JOURNAL!$K:$K,GLOBALE!$N$3,JOURNAL!$B:$B,GLOBALE!G12) -> 0 | O12: =SUMIFS(JOURNAL!$J:$J,JOURNAL!$K:$K,GLOBALE!$O$3,JOURNAL!$B:$B,GLOBALE!G12) -> 0 | P12: =SUMIFS(JOURNAL!$J:$J,JOURNAL!$K:$K,GLOBALE!$P$3,JOURNAL!$B:$B,GLOBALE!G12) -> 0 | Q12: =SUMIFS(JOURNAL!$J:$J,JOURNAL!$K:$K,GLOBALE!$Q$3,JOURNAL!$B:$B,GLOBALE!G12) -> 0 | R12: =SUMIFS(JOURNAL!$J:$J,JOURNAL!$L:$L,GLOBALE!$R$3,JOURNAL!$B:$B,GLOBALE!G12) -> 0 | S12: =SUMIFS(JOURNAL!$J:$J,JOURNAL!$L:$L,GLOBALE!$S$3,JOURNAL!$B:$B,GLOBALE!G12) -> 0 | T12: =H12-N12 -> 0 | U12: =I12-O12 -> 0 | V12: =J12-P12 -> 0 | W12: =K12-Q12 -> 0 | X12: =L12-R12 -> 0 | Y12: =M12-S12 -> 0
G13: Octobre | H13: =SUMIFS(JOURNAL!$I:$I,JOURNAL!$K:$K,GLOBALE!$H$3,JOURNAL!$B:$B,GLOBALE!G13) -> 0 | I13: =SUMIFS(JOURNAL!$I:$I,JOURNAL!$K:$K,GLOBALE!$I$3,JOURNAL!$B:$B,GLOBALE!G13) -> 0 | J13: =SUMIFS(JOURNAL!$I:$I,JOURNAL!$K:$K,GLOBALE!$J$3,JOURNAL!$B:$B,GLOBALE!G13) -> 0 | K13: =SUMIFS(JOURNAL!$I:$I,JOURNAL!$K:$K,GLOBALE!$K$3,JOURNAL!$B:$B,GLOBALE!G13) -> 0 | L13: =SUMIFS(JOURNAL!$I:$I,JOURNAL!$L:$L,GLOBALE!$L$3,JOURNAL!$B:$B,GLOBALE!G13) -> 0 | M13: =SUMIFS(JOURNAL!$I:$I,JOURNAL!$L:$L,GLOBALE!$M$3,JOURNAL!$B:$B,GLOBALE!G13) -> 0 | N13: =SUMIFS(JOURNAL!$J:$J,JOURNAL!$K:$K,GLOBALE!$N$3,JOURNAL!$B:$B,GLOBALE!G13) -> 0 | O13: =SUMIFS(JOURNAL!$J:$J,JOURNAL!$K:$K,GLOBALE!$O$3,JOURNAL!$B:$B,GLOBALE!G13) -> 0 | P13: =SUMIFS(JOURNAL!$J:$J,JOURNAL!$K:$K,GLOBALE!$P$3,JOURNAL!$B:$B,GLOBALE!G13) -> 0 | Q13: =SUMIFS(JOURNAL!$J:$J,JOURNAL!$K:$K,GLOBALE!$Q$3,JOURNAL!$B:$B,GLOBALE!G13) -> 0 | R13: =SUMIFS(JOURNAL!$J:$J,JOURNAL!$L:$L,GLOBALE!$R$3,JOURNAL!$B:$B,GLOBALE!G13) -> 0 | S13: =SUMIFS(JOURNAL!$J:$J,JOURNAL!$L:$L,GLOBALE!$S$3,JOURNAL!$B:$B,GLOBALE!G13) -> 0 | T13: =H13-N13 -> 0 | U13: =I13-O13 -> 0 | V13: =J13-P13 -> 0 | W13: =K13-Q13 -> 0 | X13: =L13-R13 -> 0 | Y13: =M13-S13 -> 0
G14: Novembre | H14: =SUMIFS(JOURNAL!$I:$I,JOURNAL!$K:$K,GLOBALE!$H$3,JOURNAL!$B:$B,GLOBALE!G14) -> 0 | I14: =SUMIFS(JOURNAL!$I:$I,JOURNAL!$K:$K,GLOBALE!$I$3,JOURNAL!$B:$B,GLOBALE!G14) -> 0 | J14: =SUMIFS(JOURNAL!$I:$I,JOURNAL!$K:$K,GLOBALE!$J$3,JOURNAL!$B:$B,GLOBALE!G14) -> 0 | K14: =SUMIFS(JOURNAL!$I:$I,JOURNAL!$K:$K,GLOBALE!$K$3,JOURNAL!$B:$B,GLOBALE!G14) -> 0 | L14: =SUMIFS(JOURNAL!$I:$I,JOURNAL!$L:$L,GLOBALE!$L$3,JOURNAL!$B:$B,GLOBALE!G14) -> 0 | M14: =SUMIFS(JOURNAL!$I:$I,JOURNAL!$L:$L,GLOBALE!$M$3,JOURNAL!$B:$B,GLOBALE!G14) -> 0 | N14: =SUMIFS(JOURNAL!$J:$J,JOURNAL!$K:$K,GLOBALE!$N$3,JOURNAL!$B:$B,GLOBALE!G14) -> 0 | O14: =SUMIFS(JOURNAL!$J:$J,JOURNAL!$K:$K,GLOBALE!$O$3,JOURNAL!$B:$B,GLOBALE!G14) -> 0 | P14: =SUMIFS(JOURNAL!$J:$J,JOURNAL!$K:$K,GLOBALE!$P$3,JOURNAL!$B:$B,GLOBALE!G14) -> 0 | Q14: =SUMIFS(JOURNAL!$J:$J,JOURNAL!$K:$K,GLOBALE!$Q$3,JOURNAL!$B:$B,GLOBALE!G14) -> 0 | R14: =SUMIFS(JOURNAL!$J:$J,JOURNAL!$L:$L,GLOBALE!$R$3,JOURNAL!$B:$B,GLOBALE!G14) -> 0 | S14: =SUMIFS(JOURNAL!$J:$J,JOURNAL!$L:$L,GLOBALE!$S$3,JOURNAL!$B:$B,GLOBALE!G14) -> 0 | T14: =H14-N14 -> 0 | U14: =I14-O14 -> 0 | V14: =J14-P14 -> 0 | W14: =K14-Q14 -> 0 | X14: =L14-R14 -> 0 | Y14: =M14-S14 -> 0
G15: Décembre | H15: =SUMIFS(JOURNAL!$I:$I,JOURNAL!$K:$K,GLOBALE!$H$3,JOURNAL!$B:$B,GLOBALE!G15) -> 0 | I15: =SUMIFS(JOURNAL!$I:$I,JOURNAL!$K:$K,GLOBALE!$I$3,JOURNAL!$B:$B,GLOBALE!G15) -> 0 | J15: =SUMIFS(JOURNAL!$I:$I,JOURNAL!$K:$K,GLOBALE!$J$3,JOURNAL!$B:$B,GLOBALE!G15) -> 0 | K15: =SUMIFS(JOURNAL!$I:$I,JOURNAL!$K:$K,GLOBALE!$K$3,JOURNAL!$B:$B,GLOBALE!G15) -> 0 | L15: =SUMIFS(JOURNAL!$I:$I,JOURNAL!$L:$L,GLOBALE!$L$3,JOURNAL!$B:$B,GLOBALE!G15) -> 0 | M15: =SUMIFS(JOURNAL!$I:$I,JOURNAL!$L:$L,GLOBALE!$M$3,JOURNAL!$B:$B,GLOBALE!G15) -> 0 | N15: =SUMIFS(JOURNAL!$J:$J,JOURNAL!$K:$K,GLOBALE!$N$3,JOURNAL!$B:$B,GLOBALE!G15) -> 0 | O15: =SUMIFS(JOURNAL!$J:$J,JOURNAL!$K:$K,GLOBALE!$O$3,JOURNAL!$B:$B,GLOBALE!G15) -> 0 | P15: =SUMIFS(JOURNAL!$J:$J,JOURNAL!$K:$K,GLOBALE!$P$3,JOURNAL!$B:$B,GLOBALE!G15) -> 0 | Q15: =SUMIFS(JOURNAL!$J:$J,JOURNAL!$K:$K,GLOBALE!$Q$3,JOURNAL!$B:$B,GLOBALE!G15) -> 0 | R15: =SUMIFS(JOURNAL!$J:$J,JOURNAL!$L:$L,GLOBALE!$R$3,JOURNAL!$B:$B,GLOBALE!G15) -> 0 | S15: =SUMIFS(JOURNAL!$J:$J,JOURNAL!$L:$L,GLOBALE!$S$3,JOURNAL!$B:$B,GLOBALE!G15) -> 0 | T15: =H15-N15 -> 0 | U15: =I15-O15 -> 0 | V15: =J15-P15 -> 0 | W15: =K15-Q15 -> 0 | X15: =L15-R15 -> 0 | Y15: =M15-S15 -> 0
G16: TOTAUX | H16: =SUM(H4:H15) -> 17680000 | I16: =SUM(I4:I15) -> 251230 | J16: =SUM(J4:J15) -> 270000 | K16: =SUM(K4:K15) -> 125400 | L16: =SUM(L4:L15) -> 0 | M16: =SUM(M4:M15) -> 0 | N16: =SUM(N4:N15) -> 17038000 | O16: =SUM(O4:O15) -> 149000 | ... Y16: =SUM(Y4:Y15) -> -926500

Sheet JOURNAL
B3: RECETTES ET DEPENSES
B4: MOIS | C4: DATE | D4: MVT | E4: N°PIECE | F4: RÉF.PIÈCE | G4: CLIENTS/FOURNISSEURS | H4: DÉSIGNATION | I4: MONTANT Encaissé | J4: MONTANT Decaissé | K4: TYPE DE DEPENSE | L4: DEP PERSO | M4: NATURE
B5: =IF(C5="","",VLOOKUP(MONTH(C5),BASE!$Q$6:$R$17,2,FALSE)) -> Janvier | C5: 43852 | D5: ENC | H5: SOLDE AU 23/01/2020 | I5: 5000000 | K5: Hyppo | L5: Hyppo
B6: =IF(C6="","",VLOOKUP(MONTH(C6),BASE!$Q$6:$R$17,2,FALSE)) -> Janvier | C6: 43852 | D6: ENC | H6: SITUATION ACTUELLE | I6: 26110 | K6: Kabako | L6: Kabako
B7: =IF(C7="","",VLOOKUP(MONTH(C7),BASE!$Q$6:$R$17,2,FALSE)) -> Janvier | C7: 43852 | D7: ENC | H7: RELIQUAT DU 16/01/20 | I7: 20000 | K7: Sphnix | L7: Sphnix
B8: =IF(C8="","",VLOOKUP(MONTH(C8),BASE!$Q$6:$R$17,2,FALSE)) -> Janvier | C8: 43852 | D8: ENC | H8: SOLDE | I8: 125400 | K8: Revanche | L8: Revanche | M8: SOLDE
B9: =IF(C9="","",VLOOKUP(MONTH(C9),BASE!$Q$6:$R$17,2,FALSE)) -> Janvier | C9: 43853 | D9: DEC | H9: Recuperer par TANTI | J9: 2000000 | K9: Hyppo | L9: Directrice
B10: =IF(C10="","",VLOOKUP(MONTH(C10),BASE!$Q$6:$R$17,2,FALSE)) -> Janvier | C10: 43853 | D10: ENC | H10: AVANCES /VENTES JOURNAL SPHINX | I10: 50000 | K10: Sphnix | L10: Sphnix
B11: =IF(C11="","",VLOOKUP(MONTH(C11),BASE!$Q$6:$R$17,2,FALSE)) -> Janvier | C11: 43853 | D11: DEC | H11: ACHATS PAPIER JOURNAL (2 RAM) | J11: 28000 | K11: Sphnix | L11: Sphnix
B12: =IF(C12="","",VLOOKUP(MONTH(C12),BASE!$Q$6:$R$17,2,FALSE)) -> Janvier | C12: 43853 | D12: DEC | H12: CREDIT COMPTEUR MOUSSO TV | J12: 20000 | K12: Revanche | L12: Revanche | M12: ACHATS
B13: =IF(C13="","",VLOOKUP(MONTH(C13),BASE!$Q$6:$R$17,2,FALSE)) -> Janvier | C13: 43853 | D13: DEC | H13: HYPPO IMPRESSION/ACHATS PAPIER COUCHE 2 RAM 250G | J13: 40000 | K13: Revanche | L13: Revanche | M13: ACHATS
B14: =IF(C14="","",VLOOKUP(MONTH(C14),BASE!$Q$6:$R$17,2,FALSE)) -> Janvier | C14: 43853 | D14: DEC | H14: ACHAT 1 BOITE ENCRE BLEU | J14: 4000 | K14: Revanche | L14: Revanche | M14: ACHATS
B15: =IF(C15="","",VLOOKUP(MONTH(C15),BASE!$Q$6:$R$17,2,FALSE)) -> Janvier | C15: 43853 | D15: DEC | H15: ACHAT 5 BLON 13 POUR MACHICOTHE (5x200) | J15: 1000 | K15: Revanche | L15: Revanche | M15: ACHATS
B16: =IF(C16="","",VLOOKUP(MONTH(C16),BASE!$Q$6:$R$17,2,FALSE)) -> Janvier | C16: 43853 | D16: DEC | H16: ACHAT 8 BALLES AGRAPHES (8x250) | J16: 2000 | K16: Revanche | L16: Revanche | M16: ACHATS
B17: =IF(C17="","",VLOOKUP(MONTH(C17),BASE!$Q$6:$R$17,2,FALSE)) -> Janvier | C17: 43853 | D17: DEC | H17: ACHAT DE 2 SACS POUR CASQUETTES ET T-SHIRT CNIECS | J17: 1000 | K17: Revanche | L17: Revanche | M17: ACHATS
B18: =IF(C18="","",VLOOKUP(MONTH(C18),BASE!$Q$6:$R$17,2,FALSE)) -> Janvier | C18: 43853 | D18: DEC | H18: achat essence pour les tirage | J18: 5000 | K18: Revanche | L18: Revanche | M18: ACHATS
B19: =IF(C19="","",VLOOKUP(MONTH(C19),BASE!$Q$6:$R$17,2,FALSE)) -> Janvier | C19: 43854 | D19: DEC | H19: Paiement cissé pour les calendriers | J19: 2000000 | K19: Hyppo | L19: Hyppo
B20: =IF(C20="","",VLOOKUP(MONTH(C20),BASE!$Q$6:$R$17,2,FALSE)) -> Janvier | C20: 43854 | D20: DEC | H20: REGLEMENT facture EDM | J20: 291500 | K20: Hyppo | L20: Hyppo
B21: =IF(C21="","",VLOOKUP(MONTH(C21),BASE!$Q$6:$R$17,2,FALSE)) -> Janvier | C21: 43854 | D21: DEC | H21: BA.N0302 Frais de livraison casquette (sotrama) | J21: 10000 | K21: Hyppo | L21: Hyppo
B22: =IF(C22="","",VLOOKUP(MONTH(C22),BASE!$Q$6:$R$17,2,FALSE)) -> Janvier | C22: 43854 | D22: DEC | H22: BA.N°0302_cheick achat (tacoula 25 000+ malilait 15 000) | J22: 40000 | K22: Hyppo | L22: Directrice
B23: =IF(C23="","",VLOOKUP(MONTH(C23),BASE!$Q$6:$R$17,2,FALSE)) -> Janvier | C23: 43854 | D23: DEC | H23: BC.N°1051 Abdoul Karim (la directrice) | J23: 10000 | K23: Hyppo | L23: Directrice
B24: =IF(C24="","",VLOOKUP(MONTH(C24),BASE!$Q$6:$R$17,2,FALSE)) -> Janvier | C24: 43854 | D24: DEC | H24: BC.N°1052 IMPRESSION KAKEMONOS V.I.P | J24: 70000 | K24: Hyppo | L24: Hyppo
B25: =IF(C25="","",VLOOKUP(MONTH(C25),BASE!$Q$6:$R$17,2,FALSE)) -> Janvier | C25: 43854 | D25: DEC | H25: BA.N°0303 ACHAT DE CARTONS (100x225) | J25: 22500 | K25: Hyppo | L25: Hyppo
B26: =IF(C26="","",VLOOKUP(MONTH(C26),BASE!$Q$6:$R$17,2,FALSE)) -> Janvier | C26: 43854 | D26: DEC | H26: BC.N°1052 RABA (La directrice) | J26: 10000 | K26: Hyppo | L26: Directrice
B27: =IF(C27="","",VLOOKUP(MONTH(C27),BASE!$Q$6:$R$17,2,FALSE)) -> Janvier | C27: 43854 | D27: DEC | H27: BC.N1053 OUMAR KONARE peintre (La directrice) | J27: 25000 | K27: Hyppo | L27: Directrice
B28: =IF(C28="","",VLOOKUP(MONTH(C28),BASE!$Q$6:$R$17,2,FALSE)) -> Janvier | C28: 43854 | D28: DEC | H28: BC.N°1053 BABA_REVENDEUR JOURNAL KABAKO (La directrice) | J28: 15000 | K28: Hyppo | L28: Directrice
B29: =IF(C29="","",VLOOKUP(MONTH(C29),BASE!$Q$6:$R$17,2,FALSE)) -> Janvier | C29: 43854 | D29: ENC | H29: VENTES JOURNAL KABAKO N°905 | I29: 75600 | K29: Kabako | L29: Kabako
B30: =IF(C30="","",VLOOKUP(MONTH(C30),BASE!$Q$6:$R$17,2,FALSE)) -> Janvier | C30: 43854 | D30: DEC | H30: REVENDEURS | J30: 11000 | K30: Kabako | L30: Kabako
B31: =IF(C31="","",VLOOKUP(MONTH(C31),BASE!$Q$6:$R$17,2,FALSE)) -> Janvier | C31: 43855 | D31: DEC | H31: ACHAT 2 BOITES ENCRE NOIR (4250x2) | J31: 8500 | K31: Hyppo | L31: Hyppo
B32: =IF(C32="","",VLOOKUP(MONTH(C32),BASE!$Q$6:$R$17,2,FALSE)) -> Janvier | C32: 43855 | D32: DEC | H32: ACHAT COLLE BLANCHE SEAU DE 20KGS | J32: 24000 | K32: Hyppo | L32: Hyppo
B33: =IF(C33="","",VLOOKUP(MONTH(C33),BASE!$Q$6:$R$17,2,FALSE)) -> Janvier | C33: 43855 | D33: DEC | H33: FRAIS CREDIT POUR LE COMPTEUR MOUSSO TV | J33: 20000 | K33: Hyppo | L33: Mousso TV
B34: =IF(C34="","",VLOOKUP(MONTH(C34),BASE!$Q$6:$R$17,2,FALSE)) -> Janvier | C34: 43855 | D34: DEC | H34: FRAIS GAZ-OIL POUR LA GROUPE MOUSSO TV | J34: 5000 | K34: Hyppo | L34: Mousso TV
B35: =IF(C35="","",VLOOKUP(MONTH(C35),BASE!$Q$6:$R$17,2,FALSE)) -> Janvier | C35: 43855 | D35: DEC | H35: FRAIS ACHAT 1 ROULEAUX AGRAFE | J35: 10000 | K35: Hyppo | L35: Hyppo
B36: =IF(C36="","",VLOOKUP(MONTH(C36),BASE!$Q$6:$R$17,2,FALSE)) -> Janvier | C36: 43857 | D36: DEC | H36: MOUSSO TV (CREDIT EDM + GAZOIL Du GROUPE) | J36: 30000 | K36: Hyppo | L36: Mousso TV
B37: =IF(C37="","",VLOOKUP(MONTH(C37),BASE!$Q$6:$R$17,2,FALSE)) -> Janvier | C37: 43857 | D37: DEC | H37: frais timbre pour les lettres de partenariat (250x8) | J37: 2000 | K37: Hyppo | L37: Hyppo
B38: =IF(C38="","",VLOOKUP(MONTH(C38),BASE!$Q$6:$R$17,2,FALSE)) -> Janvier | C38: 43857 | D38: DEC | H38: DAOUDA(2t ciment92500x2 +frais poisson36250+10 000daouda) | J38: 231250 | K38: Hyppo | L38: Directrice
B39: =IF(C39="","",VLOOKUP(MONTH(C39),BASE!$Q$6:$R$17,2,FALSE)) -> Janvier | C39: 43857 | D39: DEC | H39: POUR HASSIME LE MACHICOTTE | J39: 15000 | K39: Hyppo | L39: Hyppo
B40: =IF(C40="","",VLOOKUP(MONTH(C40),BASE!$Q$6:$R$17,2,FALSE)) -> Janvier | C40: 43857 | D40: DEC | H40: LE COMPLEMENTDE (25 000F) POUR DANSSOGO | J40: 5000 | K40: Hyppo | L40: Hyppo
B41: =IF(C41="","",VLOOKUP(MONTH(C41),BASE!$Q$6:$R$17,2,FALSE)) -> Janvier | C41: 43857 | D41: ENC | H41: RELIQUAT /VENTES DU 23/01/2020 | I41: 50000 | K41: Sphnix | L41: Sphnix
B42: =IF(C42="","",VLOOKUP(MONTH(C42),BASE!$Q$6:$R$17,2,FALSE)) -> Janvier | C42: 43858 | D42: ENC | H42: AVANCE SUR COMMANDE BC.N°002 MOUMINE SYLLA | I42: 600000 | K42: Hyppo | L42: Hyppo
...

Sheet HYPPO
H2: Bamako, le
B3: HYPPO-IMPRESSION
B4: SOLDE DU 06/02/2020
B5: MONTANT ENCAISSÉ | H5: =+H27 -> 0
B6: MONTANT DECAISSÉ | H6: =+I27 -> 0
B7: SOLDE AU 07/02/2020 | H7: =+H4+H5-H6 -> 0
B9: DATE | C9: MOUVEMENT | D9: N°PIECE | E9: RÉF.PIÈCE | F9: Tiers Concerné | G9: MOTIF | H9: Montant Encaissé | I9: Montant Decaissé
B27: TOTAL | H27: =SUM(H10:H26) -> 0 | I27: =SUM(I10:I26) -> 0
B29: Le Comptable | I29: La Directrice

Sheet KABAKO
H1: Bamako, le
B2: JOURNAL KABAKO
B3: SOLDE DU 06/02/2020
B4: MONTANT ENCAISSÉ | H4: =+H17 -> 0
B5: MONTANT DECAISSÉ | H5: =+I17 -> 0
B6: SOLDE AU 07/02/2020 | H6: =+H3+H4-H5 -> 0
B8: DATE | C8: MOUVEMENT | D8: N°PIECE | E8: RÉF.PIÈCE | F8: Tiers Concerné | G8: MOTIF | H8: Montant Encaissé | I8: Montant Decaissé
B17: TOTAL | H17: =SUM(H9:H16) -> 0 | I17: =SUM(I9:I16) -> 0
B19: Le Comptable | I19: La Directrice

Sheet SPHNIX
H1: Bamako, le
B2: JOURNAL SPHNIX
B3: SOLDE DU 06/02/2020
B4: MONTANT ENCAISSÉ | H4: =+H17 -> 0
B5: MONTANT DECAISSÉ | H5: =+I17 -> 0
B6: SOLDE AU 07/02/2020 | H6: =+H3+H4-H5 -> 0
B8: DATE | C8: MOUVEMENT | D8: N°PIECE | E8: RÉF.PIÈCE | F8: Tiers Concerné | G8: MOTIF | H8: Montant Encaissé | I8: Montant Decaissé
B17: TOTAL | H17: =SUM(H9:H16) -> 0 | I17: =SUM(I9:I16) -> 0
B19: Le Comptable | I19: La Directrice

Sheet REVANCHE
H1: Bamako, le
B2: JOURNAL REVANCHE
B3: SOLDE DU 06/02/2020
B4: MONTANT ENCAISSÉ | H4: =+H17 -> 0
B5: MONTANT DECAISSÉ | H5: =+I17 -> 0
B6: SOLDE AU 07/02/2020 | H6: =+H3+H4-H5 -> 0
B8: DATE | C8: MOUVEMENT | D8: N°PIECE | E8: RÉF.PIÈCE | F8: Tiers Concerné | G8: MOTIF | H8: Montant Encaissé | I8: Montant Decaissé
B17: TOTAL | H17: =SUM(H9:H16) -> 0 | I17: =SUM(I9:I16) -> 0
B19: Le Comptable | I19: La Directrice

Sheet DIRECTRICE
C3: DEPENSES
B6: DATE | C6: DEPENSES | D6: MONTANT
B8: 43853 | C8: Recuperer par TANTI | D8: 2000000
B9: 43854 | C9: BA.N°0302_cheick achat (tacoula 25 000+ malilait 15 000) | D9: 40000
B10: 43854 | C10: BC.N°1051 Abdoul Karim (la directrice) | D10: 10000
B11: 43854 | C11: BC.N°1052 RABA (La directrice) | D11: 10000
B12: 43854 | C12: BC.N1053 OUMAR KONARE peintre (La directrice) | D12: 25000
B13: 43854 | C13: BC.N°1053 BABA_REVENDEUR JOURNAL KABAKO (La directrice) | D13: 15000
B14: 43857 | C14: DAOUDA(2t ciment92500x2 +frais poisson36250+10 000daouda) | D14: 231250
B15: 43858 | C15: COMPLEMENT KARAMBE POUR ENCATEURS (la directrice) | D15: 5000
B16: 43860 | C16: la directrice (frais transport pour aller au champ) M. X | D16: 12500
B17: 43860 | C17: RETRAIT PAR LA DIRECTRICE | D17: 200000
B18: 43860 | C18: ACHAT ENVELOPPE 1 PAQUET | D18: 600
B19: 43861 | C19: RETRAIT PAR LA DIRECTRICE | D19: 200000
... B39: 43868 | C39: ACHAT LES CONDIMENT POUR TANTI (CHEICK) | D39: 15300

Sheet MOUSSO TV
B3: MOUSSO TV
D4: Bamako, le 29/01/2020
B5: DATE | C5: DEPENSES | D5: MONTANT
A6: mois
A7: =IF(B7="","",VLOOKUP(MONTH(B7),BASE!$Q$6:$R$17,2,FALSE)) -> Janvier | B7: 43853 | C7: ACHAT CREDIT COMPTEUR | D7: 20000 | F7: JANVIER | G7: =SUMIFS($D:$D,$A:$A,F7) -> 100000
A8: =IF(B8="","",VLOOKUP(MONTH(B8),BASE!$Q$6:$R$17,2,FALSE)) -> Janvier | B8: 43855 | C8: ACHAT CREDIT COMPTEUR EDM | D8: 20000
A9: =IF(B9="","",VLOOKUP(MONTH(B9),BASE!$Q$6:$R$17,2,FALSE)) -> Janvier | B9: 43855 | C9: ACHAT GAZ-OIL | D9: 5000 | F9: DEPENSES DU 23/01/20 | G9: =SUMIF(B7:B26,"23/01/2020",D7:D26) -> 20000
A10: =IF(B10="","",VLOOKUP(MONTH(B10),BASE!$Q$6:$R$17,2,FALSE)) -> Janvier | B10: 43857 | C10: ACHAT CREDIT COMPTEUR EDM | D10: 25000 | F10: DEPENSES DU 25/01/20 | G10: =SUMIF($B:$B,"25/01/2020",$D:$D) -> 25000
A11: =IF(B11="","",VLOOKUP(MONTH(B11),BASE!$Q$6:$R$17,2,FALSE)) -> Janvier | B11: 43857 | C11: ACHAT GAZ-OIL | D11: 5000 | F11: DEPENSES DU 27/01/20 | G11: =SUMIF($B:$B,"27/01/2020",$D:$D) -> 30000
A12: =IF(B12="","",VLOOKUP(MONTH(B12),BASE!$Q$6:$R$17,2,FALSE)) -> Janvier | B12: 43859 | C12: ACHAT CREDIT COMPTEUR EDM | D12: 20000 | F12: DEPENSES DU 29/01/21 | G12: =SUMIF($B:$B,"29/01/2020",$D:$D) -> 25000
A13: =IF(B13="","",VLOOKUP(MONTH(B13),BASE!$Q$6:$R$17,2,FALSE)) -> Janvier | B13: 43859 | C13: ACHAT GAZ-OIL | D13: 5000
