Workbook
Name bdd: 'Requête 052'!$A$1:$G$1

Sheet Outils de comparaison
C1: Taïs | I1: Exutoire | M1: Ecart Pesée | N1: Ecart Exutoire | O1: Ecart Mat réalisée | P1: Ecart tonnage | Q1: Ecart global
A2: Code exutoire | B2: Exutoire réalisé | C2: date vidage | D2: matière prévue | E2: matière réalisée | F2: tonnage | G2: Code exutoire | H2: Exutoire | I2: date vidage | J2: matière prévue | K2: matière réalisée | L2: tonnage | N2: Ecart Exutoire | O2: Ecart Matière réalisée | P2: Ecart pesée | Q2: Ecart global
A3: =IFERROR(VLOOKUP('Requête 052'!$A2,'Requête 052'!$A$1:$F$2000,1,FALSE),"") -> 640 | B3: =IFERROR(VLOOKUP('Requête 052'!$A2,'Requête 052'!$A$1:$F$2000,2,FALSE),"") -> CGECP ST OUEN L AUMONE TDI | C3: =IFERROR(VLOOKUP('Requête 052'!$A2,'Requête 052'!$A$1:$F$2000,3,FALSE),"") -> 43818 | D3: =IFERROR(VLOOKUP('Requête 052'!$A2,'Requête 052'!$A$1:$F$2000,4,FALSE),"") -> PAPIERS | E3: =IFERROR(VLOOKUP('Requête 052'!$A2,'Requête 052'!$A$1:$F$2000,5,FALSE),"") -> DECHETS INDUSTRIELS BANALS | F3: =IFERROR(VLOOKUP('Requête 052'!$A2,'Requête 052'!$A$1:$F$2000,6,FALSE),"") -> 2.56 | G3: =IFERROR(VLOOKUP(A3,'Fichier source CGECP'!$A$1:$F$1259,1,FALSE),"") | H3: =IFERROR(VLOOKUP(A3,'Fichier source CGECP'!$A$1:$F$1259,2,FALSE),"") | I3: =IFERROR(VLOOKUP(A3,'Fichier source CGECP'!$A$1:$F$1259,3,FALSE),"") | J3: =IFERROR(VLOOKUP(A3,'Fichier source CGECP'!$A$1:$F$1259,4,FALSE),"") | K3: =IFERROR(VLOOKUP(A3,'Fichier source CGECP'!$A$1:$F$1259,5,FALSE),"") | L3: =IFERROR(IF(COUNTIFS($A2:$A$3,$A3,$B2:$B$3,$B3,$C2:$C$3,$C3,$D2:$D$3,$D3,$E2:$E$3,$E3,$F2:$F$3,$F3)>0,"",VLOOKUP(A3,'Fichier source CGECP'!$A$1:$F$1259,6,FALSE)),"") | M3: =IFERROR(F3-L3,"") | N3: =IFERROR(IF(SEARCH(H3,B3,1),"Ok","Ecart"),"") -> Ok | O3: =IFERROR(IF(E3=K3,"Ok","Ecart"),"") -> Ecart | P3: =IFERROR(IF(M3>=0,"Ok","Ecart"),"") -> Ok | Q3: =IFERROR(IF(OR(P3="Ecart",O3="Ecart",N3="Ecart"),"Ecart","Ok"),"") -> Ecart
A4: =IFERROR(VLOOKUP('Requête 052'!$A2,'Requête 052'!$A$1:$F$2000,1,FALSE),"") -> 640 | B4: =IFERROR(VLOOKUP('Requête 052'!$A2,'Requête 052'!$A$1:$F$2000,2,FALSE),"") -> CGECP ST OUEN L AUMONE TDI | C4: =IFERROR(VLOOKUP('Requête 052'!$A2,'Requête 052'!$A$1:$F$2000,3,FALSE),"") -> 43818 | D4: =IFERROR(VLOOKUP('Requête 052'!$A2,'Requête 052'!$A$1:$F$2000,4,FALSE),"") -> PAPIERS | E4: =IFERROR(VLOOKUP('Requête 052'!$A2,'Requête 052'!$A$1:$F$2000,5,FALSE),"") -> DECHETS INDUSTRIELS BANALS | F4: =IFERROR(VLOOKUP('Requête 052'!$A2,'Requête 052'!$A$1:$F$2000,6,FALSE),"") -> 2.56 | G4: =IFERROR(VLOOKUP(A4,'Fichier source CGECP'!$A$1:$F$1259,1,FALSE),"") | H4: =IFERROR(VLOOKUP(A4,'Fichier source CGECP'!$A$1:$F$1259,2,FALSE),"") | I4: =IFERROR(VLOOKUP(A4,'Fichier source CGECP'!$A$1:$F$1259,3,FALSE),"") | J4: =IFERROR(VLOOKUP(A4,'Fichier source CGECP'!$A$1:$F$1259,4,FALSE),"") | K4: =IFERROR(VLOOKUP(A4,'Fichier source CGECP'!$A$1:$F$1259,5,FALSE),"") | L4: =IFERROR(IF(COUNTIFS($A3:$A$3,$A4,$B3:$B$3,$B4,$C3:$C$3,$C4,$D3:$D$3,$D4,$E3:$E$3,$E4,$F3:$F$3,$F4)>0,"",VLOOKUP(A4,'Fichier source CGECP'!$A$1:$F$1259,6,FALSE)),"") | M4: =IFERROR(F4-L4,"") | N4: =IFERROR(IF(SEARCH(H4,B4,1),"Ok","Ecart"),"") -> Ok | O4: =IFERROR(IF(E4=K4,"Ok","Ecart"),"") -> Ecart | P4: =IFERROR(IF(M4>=0,"Ok","Ecart"),"") -> Ok | Q4: =IFERROR(IF(OR(P4="Ecart",O4="Ecart",N4="Ecart"),"Ecart","Ok"),"") -> Ecart
A5: =IFERROR(VLOOKUP('Requête 052'!$A3,'Requête 052'!$A$1:$F$2000,1,FALSE),"") -> 3511 | B5: =IFERROR(VLOOKUP('Requête 052'!$A3,'Requête 052'!$A$1:$F$2000,2,FALSE),"") -> CGECP ST OUEN L AUMONE DVBIODIV | C5: =IFERROR(VLOOKUP('Requête 052'!$A3,'Requête 052'!$A$1:$F$2000,3,FALSE),"") -> 43800 | D5: =IFERROR(VLOOKUP('Requête 052'!$A3,'Requête 052'!$A$1:$F$2000,4,FALSE),"") -> DECHETS VERTS EN MELANGE | E5: =IFERROR(VLOOKUP('Requête 052'!$A3,'Requête 052'!$A$1:$F$2000,5,FALSE),"") -> DECHETS VERTS EN MELANGE | F5: =IFERROR(VLOOKUP('Requête 052'!$A3,'Requête 052'!$A$1:$F$2000,6,FALSE),"") -> 0.24 | G5: =IFERROR(VLOOKUP(A5,'Fichier source CGECP'!$A$1:$F$1259,1,FALSE),"") | H5: =IFERROR(VLOOKUP(A5,'Fichier source CGECP'!$A$1:$F$1259,2,FALSE),"") | I5: =IFERROR(VLOOKUP(A5,'Fichier source CGECP'!$A$1:$F$1259,3,FALSE),"") | J5: =IFERROR(VLOOKUP(A5,'Fichier source CGECP'!$A$1:$F$1259,4,FALSE),"") | K5: =IFERROR(VLOOKUP(A5,'Fichier source CGECP'!$A$1:$F$1259,5,FALSE),"") | L5: =IFERROR(IF(COUNTIFS($A$3:$A4,$A5,$B$3:$B4,$B5,$C$3:$C4,$C5,$D$3:$D4,$D5,$E$3:$E4,$E5,$F$3:$F4,$F5)>0,"",VLOOKUP(A5,'Fichier source CGECP'!$A$1:$F$1259,6,FALSE)),"") | M5: =IFERROR(F5-L5,"") | N5: =IFERROR(IF(SEARCH(H5,B5,1),"Ok","Ecart"),"") -> Ok | O5: =IFERROR(IF(E5=K5,"Ok","Ecart"),"") -> Ecart | P5: =IFERROR(IF(M5>=0,"Ok","Ecart"),"") -> Ok | Q5: =IFERROR(IF(OR(P5="Ecart",O5="Ecart",N5="Ecart"),"Ecart","Ok"),"") -> Ecart
A6: =IFERROR(VLOOKUP('Requête 052'!$A5,'Requête 052'!$A$1:$F$2000,1,FALSE),"") -> 3515 | B6: =IFERROR(VLOOKUP('Requête 052'!$A5,'Requête 052'!$A$1:$F$2000,2,FALSE),"") -> CGECP ST OUEN L AUMONE TDI | C6: =IFERROR(VLOOKUP('Requête 052'!$A5,'Requête 052'!$A$1:$F$2000,3,FALSE),"") -> 43800 | D6: =IFERROR(VLOOKUP('Requête 052'!$A5,'Requête 052'!$A$1:$F$2000,4,FALSE),"") -> GRAVATS | E6: =IFERROR(VLOOKUP('Requête 052'!$A5,'Requête 052'!$A$1:$F$2000,5,FALSE),"") -> GRAVATS | F6: =IFERROR(VLOOKUP('Requête 052'!$A5,'Requête 052'!$A$1:$F$2000,6,FALSE),"") -> 1.76 | G6: =IFERROR(VLOOKUP(A6,'Fichier source CGECP'!$A$1:$F$1259,1,FALSE),"") | H6: =IFERROR(VLOOKUP(A6,'Fichier source CGECP'!$A$1:$F$1259,2,FALSE),"") | I6: =IFERROR(VLOOKUP(A6,'Fichier source CGECP'!$A$1:$F$1259,3,FALSE),"") | J6: =IFERROR(VLOOKUP(A6,'Fichier source CGECP'!$A$1:$F$1259,4,FALSE),"") | K6: =IFERROR(VLOOKUP(A6,'Fichier source CGECP'!$A$1:$F$1259,5,FALSE),"") | L6: =IFERROR(IF(COUNTIFS($A$3:$A5,$A6,$B$3:$B5,$B6,$C$3:$C5,$C6,$D$3:$D5,$D6,$E$3:$E5,$E6,$F$3:$F5,$F6)>0,"",VLOOKUP(A6,'Fichier source CGECP'!$A$1:$F$1259,6,FALSE)),"") | M6: =IFERROR(F6-L6,"") | N6: =IFERROR(IF(SEARCH(H6,B6,1),"Ok","Ecart"),"") -> Ok | O6: =IFERROR(IF(E6=K6,"Ok","Ecart"),"") -> Ecart | P6: =IFERROR(IF(M6>=0,"Ok","Ecart"),"") -> Ok | Q6: =IFERROR(IF(OR(P6="Ecart",O6="Ecart",N6="Ecart"),"Ecart","Ok"),"") -> Ecart
A7: =IFERROR(VLOOKUP('Requête 052'!$A6,'Requête 052'!$A$1:$F$2000,1,FALSE),"") -> 3519 | B7: =IFERROR(VLOOKUP('Requête 052'!$A6,'Requête 052'!$A$1:$F$2000,2,FALSE),"") -> CGECP ST OUEN L AUMONE TDI | C7: =IFERROR(VLOOKUP('Requête 052'!$A6,'Requête 052'!$A$1:$F$2000,3,FALSE),"") -> 43800 | D7: =IFERROR(VLOOKUP('Requête 052'!$A6,'Requête 052'!$A$1:$F$2000,4,FALSE),"") -> ENCOMBRANTS | E7: =IFERROR(VLOOKUP('Requête 052'!$A6,'Requête 052'!$A$1:$F$2000,5,FALSE),"") -> ENCOMBRANTS | F7: =IFERROR(VLOOKUP('Requête 052'!$A6,'Requête 052'!$A$1:$F$2000,6,FALSE),"") -> 3.44 | G7: =IFERROR(VLOOKUP(A7,'Fichier source CGECP'!$A$1:$F$1259,1,FALSE),"") | H7: =IFERROR(VLOOKUP(A7,'Fichier source CGECP'!$A$1:$F$1259,2,FALSE),"") | I7: =IFERROR(VLOOKUP(A7,'Fichier source CGECP'!$A$1:$F$1259,3,FALSE),"") | J7: =IFERROR(VLOOKUP(A7,'Fichier source CGECP'!$A$1:$F$1259,4,FALSE),"") | K7: =IFERROR(VLOOKUP(A7,'Fichier source CGECP'!$A$1:$F$1259,5,FALSE),"") | L7: =IFERROR(IF(COUNTIFS($A$3:$A6,$A7,$B$3:$B6,$B7,$C$3:$C6,$C7,$D$3:$D6,$D7,$E$3:$E6,$E7,$F$3:$F6,$F7)>0,"",VLOOKUP(A7,'Fichier source CGECP'!$A$1:$F$1259,6,FALSE)),"") | M7: =IFERROR(F7-L7,"") | N7: =IFERROR(IF(SEARCH(H7,B7,1),"Ok","Ecart"),"") -> Ok | O7: =IFERROR(IF(E7=K7,"Ok","Ecart"),"") -> Ecart | P7: =IFERROR(IF(M7>=0,"Ok","Ecart"),"") -> Ok | Q7: =IFERROR(IF(OR(P7="Ecart",O7="Ecart",N7="Ecart"),"Ecart","Ok"),"") -> Ecart
A8: =IFERROR(VLOOKUP('Requête 052'!$A7,'Requête 052'!$A$1:$F$2000,1,FALSE),"") -> 3521 | B8: =IFERROR(VLOOKUP('Requête 052'!$A7,'Requête 052'!$A$1:$F$2000,2,FALSE),"") -> CGECP ST OUEN L AUMONE TDI | C8: =IFERROR(VLOOKUP('Requête 052'!$A7,'Requête 052'!$A$1:$F$2000,3,FALSE),"") -> 43800 | D8: =IFERROR(VLOOKUP('Requête 052'!$A7,'Requête 052'!$A$1:$F$2000,4,FALSE),"") -> ENCOMBRANTS | E8: =IFERROR(VLOOKUP('Requête 052'!$A7,'Requête 052'!$A$1:$F$2000,5,FALSE),"") -> ENCOMBRANTS | F8: =IFERROR(VLOOKUP('Requête 052'!$A7,'Requête 052'!$A$1:$F$2000,6,FALSE),"") -> 5.32 | G8: =IFERROR(VLOOKUP(A8,'Fichier source CGECP'!$A$1:$F$1259,1,FALSE),"") | H8: =IFERROR(VLOOKUP(A8,'Fichier source CGECP'!$A$1:$F$1259,2,FALSE),"") | I8: =IFERROR(VLOOKUP(A8,'Fichier source CGECP'!$A$1:$F$1259,3,FALSE),"") | J8: =IFERROR(VLOOKUP(A8,'Fichier source CGECP'!$A$1:$F$1259,4,FALSE),"") | K8: =IFERROR(VLOOKUP(A8,'Fichier source CGECP'!$A$1:$F$1259,5,FALSE),"") | L8: =IFERROR(IF(COUNTIFS($A$3:$A7,$A8,$B$3:$B7,$B8,$C$3:$C7,$C8,$D$3:$D7,$D8,$E$3:$E7,$E8,$F$3:$F7,$F8)>0,"",VLOOKUP(A8,'Fichier source CGECP'!$A$1:$F$1259,6,FALSE)),"") | M8: =IFERROR(F8-L8,"") | N8: =IFERROR(IF(SEARCH(H8,B8,1),"Ok","Ecart"),"") -> Ok | O8: =IFERROR(IF(E8=K8,"Ok","Ecart"),"") -> Ecart | P8: =IFERROR(IF(M8>=0,"Ok","Ecart"),"") -> Ok | Q8: =IFERROR(IF(OR(P8="Ecart",O8="Ecart",N8="Ecart"),"Ecart","Ok"),"") -> Ecart
A9: =IFERROR(VLOOKUP('Requête 052'!$A8,'Requête 052'!$A$1:$F$2000,1,FALSE),"") -> 3523 | B9: =IFERROR(VLOOKUP('Requête 052'!$A8,'Requête 052'!$A$1:$F$2000,2,FALSE),"") -> CGECP ST OUEN L AUMONE TDI | C9: =IFERROR(VLOOKUP('Requête 052'!$A8,'Requête 052'!$A$1:$F$2000,3,FALSE),"") -> 43800 | D9: =IFERROR(VLOOKUP('Requête 052'!$A8,'Requête 052'!$A$1:$F$2000,4,FALSE),"") -> ENCOMBRANTS | E9: =IFERROR(VLOOKUP('Requête 052'!$A8,'Requête 052'!$A$1:$F$2000,5,FALSE),"") -> ENCOMBRANTS | F9: =IFERROR(VLOOKUP('Requête 052'!$A8,'Requête 052'!$A$1:$F$2000,6,FALSE),"") -> 2.82 | G9: =IFERROR(VLOOKUP(A9,'Fichier source CGECP'!$A$1:$F$1259,1,FALSE),"") | H9: =IFERROR(VLOOKUP(A9,'Fichier source CGECP'!$A$1:$F$1259,2,FALSE),"") | I9: =IFERROR(VLOOKUP(A9,'Fichier source CGECP'!$A$1:$F$1259,3,FALSE),"") | J9: =IFERROR(VLOOKUP(A9,'Fichier source CGECP'!$A$1:$F$1259,4,FALSE),"") | K9: =IFERROR(VLOOKUP(A9,'Fichier source CGECP'!$A$1:$F$1259,5,FALSE),"") | L9: =IFERROR(IF(COUNTIFS($A$3:$A8,$A9,$B$3:$B8,$B9,$C$3:$C8,$C9,$D$3:$D8,$D9,$E$3:$E8,$E9,$F$3:$F8,$F9)>0,"",VLOOKUP(A9,'Fichier source CGECP'!$A$1:$F$1259,6,FALSE)),"") | M9: =IFERROR(F9-L9,"") | N9: =IFERROR(IF(SEARCH(H9,B9,1),"Ok","Ecart"),"") -> Ok | O9: =IFERROR(IF(E9=K9,"Ok","Ecart"),"") -> Ecart | P9: =IFERROR(IF(M9>=0,"Ok","Ecart"),"") -> Ok | Q9: =IFERROR(IF(OR(P9="Ecart",O9="Ecart",N9="Ecart"),"Ecart","Ok"),"") -> Ecart
A10: =IFERROR(VLOOKUP('Requête 052'!$A9,'Requête 052'!$A$1:$F$2000,1,FALSE),"") -> 3525 | B10: =IFERROR(VLOOKUP('Requête 052'!$A9,'Requête 052'!$A$1:$F$2000,2,FALSE),"") -> CGECP ST OUEN L AUMONE TDI | C10: =IFERROR(VLOOKUP('Requête 052'!$A9,'Requête 052'!$A$1:$F$2000,3,FALSE),"") -> 43800 | D10: =IFERROR(VLOOKUP('Requête 052'!$A9,'Requête 052'!$A$1:$F$2000,4,FALSE),"") -> ENCOMBRANTS | E10: =IFERROR(VLOOKUP('Requête 052'!$A9,'Requête 052'!$A$1:$F$2000,5,FALSE),"") -> ENCOMBRANTS | F10: =IFERROR(VLOOKUP('Requête 052'!$A9,'Requête 052'!$A$1:$F$2000,6,FALSE),"") -> 3.14 | G10: =IFERROR(VLOOKUP(A10,'Fichier source CGECP'!$A$1:$F$1259,1,FALSE),"") | H10: =IFERROR(VLOOKUP(A10,'Fichier source CGECP'!$A$1:$F$1259,2,FALSE),"") | I10: =IFERROR(VLOOKUP(A10,'Fichier source CGECP'!$A$1:$F$1259,3,FALSE),"") | J10: =IFERROR(VLOOKUP(A10,'Fichier source CGECP'!$A$1:$F$1259,4,FALSE),"") | K10: =IFERROR(VLOOKUP(A10,'Fichier source CGECP'!$A$1:$F$1259,5,FALSE),"") | L10: =IFERROR(IF(COUNTIFS($A$3:$A9,$A10,$B$3:$B9,$B10,$C$3:$C9,$C10,$D$3:$D9,$D10,$E$3:$E9,$E10,$F$3:$F9,$F10)>0,"",VLOOKUP(A10,'Fichier source CGECP'!$A$1:$F$1259,6,FALSE)),"") | M10: =IFERROR(F10-L10,"") | N10: =IFERROR(IF(SEARCH(H10,B10,1),"Ok","Ecart"),"") -> Ok | O10: =IFERROR(IF(E10=K10,"Ok","Ecart"),"") -> Ecart | P10: =IFERROR(IF(M10>=0,"Ok","Ecart"),"") -> Ok | Q10: =IFERROR(IF(OR(P10="Ecart",O10="Ecart",N10="Ecart"),"Ecart","Ok"),"") -> Ecart
A11: =IFERROR(VLOOKUP('Requête 052'!$A10,'Requête 052'!$A$1:$F$2000,1,FALSE),"") -> 3526 | B11: =IFERROR(VLOOKUP('Requête 052'!$A10,'Requête 052'!$A$1:$F$2000,2,FALSE),"") -> CGECP ST OUEN L AUMONE TDI | C11: =IFERROR(VLOOKUP('Requête 052'!$A10,'Requête 052'!$A$1:$F$2000,3,FALSE),"") -> 43800 | D11: =IFERROR(VLOOKUP('Requête 052'!$A10,'Requête 052'!$A$1:$F$2000,4,FALSE),"") -> GRAVATS EN MELANGE | E11: =IFERROR(VLOOKUP('Requête 052'!$A10,'Requête 052'!$A$1:$F$2000,5,FALSE),"") -> GRAVATS EN MELANGE | F11: =IFERROR(VLOOKUP('Requête 052'!$A10,'Requête 052'!$A$1:$F$2000,6,FALSE),"") -> 2.48 | G11: =IFERROR(VLOOKUP(A11,'Fichier source CGECP'!$A$1:$F$1259,1,FALSE),"") | H11: =IFERROR(VLOOKUP(A11,'Fichier source CGECP'!$A$1:$F$1259,2,FALSE),"") | I11: =IFERROR(VLOOKUP(A11,'Fichier source CGECP'!$A$1:$F$1259,3,FALSE),"") | J11: =IFERROR(VLOOKUP(A11,'Fichier source CGECP'!$A$1:$F$1259,4,FALSE),"") | K11: =IFERROR(VLOOKUP(A11,'Fichier source CGECP'!$A$1:$F$1259,5,FALSE),"") | L11: =IFERROR(IF(COUNTIFS($A$3:$A10,$A11,$B$3:$B10,$B11,$C$3:$C10,$C11,$D$3:$D10,$D11,$E$3:$E10,$E11,$F$3:$F10,$F11)>0,"",VLOOKUP(A11,'Fichier source CGECP'!$A$1:$F$1259,6,FALSE)),"") | M11: =IFERROR(F11-L11,"") | N11: =IFERROR(IF(SEARCH(H11,B11,1),"Ok","Ecart"),"") -> Ok | O11: =IFERROR(IF(E11=K11,"Ok","Ecart"),"") -> Ecart | P11: =IFERROR(IF(M11>=0,"Ok","Ecart"),"") -> Ok | Q11: =IFERROR(IF(OR(P11="Ecart",O11="Ecart",N11="Ecart"),"Ecart","Ok"),"") -> Ecart
A12: =IFERROR(VLOOKUP('Requête 052'!$A11,'Requête 052'!$A$1:$F$2000,1,FALSE),"") -> 3528 | B12: =IFERROR(VLOOKUP('Requête 052'!$A11,'Requête 052'!$A$1:$F$2000,2,FALSE),"") -> CGECP ST OUEN L AUMONE TDI | C12: =IFERROR(VLOOKUP('Requête 052'!$A11,'Requête 052'!$A$1:$F$2000,3,FALSE),"") -> 43800 | D12: =IFERROR(VLOOKUP('Requête 052'!$A11,'Requête 052'!$A$1:$F$2000,4,FALSE),"") -> ENCOMBRANTS | E12: =IFERROR(VLOOKUP('Requête 052'!$A11,'Requête 052'!$A$1:$F$2000,5,FALSE),"") -> ENCOMBRANTS | F12: =IFERROR(VLOOKUP('Requête 052'!$A11,'Requête 052'!$A$1:$F$2000,6,FALSE),"") -> 6.74 | G12: =IFERROR(VLOOKUP(A12,'Fichier source CGECP'!$A$1:$F$1259,1,FALSE),"") | H12: =IFERROR(VLOOKUP(A12,'Fichier source CGECP'!$A$1:$F$1259,2,FALSE),"") | I12: =IFERROR(VLOOKUP(A12,'Fichier source CGECP'!$A$1:$F$1259,3,FALSE),"") | J12: =IFERROR(VLOOKUP(A12,'Fichier source CGECP'!$A$1:$F$1259,4,FALSE),"") | K12: =IFERROR(VLOOKUP(A12,'Fichier source CGECP'!$A$1:$F$1259,5,FALSE),"") | L12: =IFERROR(IF(COUNTIFS($A$3:$A11,$A12,$B$3:$B11,$B12,$C$3:$C11,$C12,$D$3:$D11,$D12,$E$3:$E11,$E12,$F$3:$F11,$F12)>0,"",VLOOKUP(A12,'Fichier source CGECP'!$A$1:$F$1259,6,FALSE)),"") | M12: =IFERROR(F12-L12,"") | N12: =IFERROR(IF(SEARCH(H12,B12,1),"Ok","Ecart"),"") -> Ok | O12: =IFERROR(IF(E12=K12,"Ok","Ecart"),"") -> Ecart | P12: =IFERROR(IF(M12>=0,"Ok","Ecart"),"") -> Ok | Q12: =IFERROR(IF(OR(P12="Ecart",O12="Ecart",N12="Ecart"),"Ecart","Ok"),"") -> Ecart
A13: =IFERROR(VLOOKUP('Requête 052'!$A12,'Requête 052'!$A$1:$F$2000,1,FALSE),"") -> 3529 | B13: =IFERROR(VLOOKUP('Requête 052'!$A12,'Requête 052'!$A$1:$F$2000,2,FALSE),"") -> CGECP ST OUEN L AUMONE DVBIODIV | C13: =IFERROR(VLOOKUP('Requête 052'!$A12,'Requête 052'!$A$1:$F$2000,3,FALSE),"") -> 43800 | D13: =IFERROR(VLOOKUP('Requête 052'!$A12,'Requête 052'!$A$1:$F$2000,4,FALSE),"") -> DECHETS VERTS EN MELANGE | E13: =IFERROR(VLOOKUP('Requête 052'!$A12,'Requête 052'!$A$1:$F$2000,5,FALSE),"") -> DECHETS VERTS EN MELANGE | F13: =IFERROR(VLOOKUP('Requête 052'!$A12,'Requête 052'!$A$1:$F$2000,6,FALSE),"") -> 7.86 | G13: =IFERROR(VLOOKUP(A13,'Fichier source CGECP'!$A$1:$F$1259,1,FALSE),"") | H13: =IFERROR(VLOOKUP(A13,'Fichier source CGECP'!$A$1:$F$1259,2,FALSE),"") | I13: =IFERROR(VLOOKUP(A13,'Fichier source CGECP'!$A$1:$F$1259,3,FALSE),"") | J13: =IFERROR(VLOOKUP(A13,'Fichier source CGECP'!$A$1:$F$1259,4,FALSE),"") | K13: =IFERROR(VLOOKUP(A13,'Fichier source CGECP'!$A$1:$F$1259,5,FALSE),"") | L13: =IFERROR(IF(COUNTIFS($A$3:$A12,$A13,$B$3:$B12,$B13,$C$3:$C12,$C13,$D$3:$D12,$D13,$E$3:$E12,$E13,$F$3:$F12,$F13)>0,"",VLOOKUP(A13,'Fichier source CGECP'!$A$1:$F$1259,6,FALSE)),"") | M13: =IFERROR(F13-L13,"") | N13: =IFERROR(IF(SEARCH(H13,B13,1),"Ok","Ecart"),"") -> Ok | O13: =IFERROR(IF(E13=K13,"Ok","Ecart"),"") -> Ecart | P13: =IFERROR(IF(M13>=0,"Ok","Ecart"),"") -> Ok | Q13: =IFERROR(IF(OR(P13="Ecart",O13="Ecart",N13="Ecart"),"Ecart","Ok"),"") -> Ecart
A14: =IFERROR(VLOOKUP('Requête 052'!$A13,'Requête 052'!$A$1:$F$2000,1,FALSE),"") -> 3530 | B14: =IFERROR(VLOOKUP('Requête 052'!$A13,'Requête 052'!$A$1:$F$2000,2,FALSE),"") -> CGECP ST OUEN L AUMONE TDI | C14: =IFERROR(VLOOKUP('Requête 052'!$A13,'Requête 052'!$A$1:$F$2000,3,FALSE),"") -> 43800 | D14: =IFERROR(VLOOKUP('Requête 052'!$A13,'Requête 052'!$A$1:$F$2000,4,FALSE),"") -> ENCOMBRANTS | E14: =IFERROR(VLOOKUP('Requête 052'!$A13,'Requête 052'!$A$1:$F$2000,5,FALSE),"") -> ENCOMBRANTS | F14: =IFERROR(VLOOKUP('Requête 052'!$A13,'Requête 052'!$A$1:$F$2000,6,FALSE),"") -> 3.12 | G14: =IFERROR(VLOOKUP(A14,'Fichier source CGECP'!$A$1:$F$1259,1,FALSE),"") | H14: =IFERROR(VLOOKUP(A14,'Fichier source CGECP'!$A$1:$F$1259,2,FALSE),"") | I14: =IFERROR(VLOOKUP(A14,'Fichier source CGECP'!$A$1:$F$1259,3,FALSE),"") | J14: =IFERROR(VLOOKUP(A14,'Fichier source CGECP'!$A$1:$F$1259,4,FALSE),"") | K14: =IFERROR(VLOOKUP(A14,'Fichier source CGECP'!$A$1:$F$1259,5,FALSE),"") | L14: =IFERROR(IF(COUNTIFS($A$3:$A13,$A14,$B$3:$B13,$B14,$C$3:$C13,$C14,$D$3:$D13,$D14,$E$3:$E13,$E14,$F$3:$F13,$F14)>0,"",VLOOKUP(A14,'Fichier source CGECP'!$A$1:$F$1259,6,FALSE)),"") | M14: =IFERROR(F14-L14,"") | N14: =IFERROR(IF(SEARCH(H14,B14,1),"Ok","Ecart"),"") -> Ok | O14: =IFERROR(IF(E14=K14,"Ok","Ecart"),"") -> Ecart | P14: =IFERROR(IF(M14>=0,"Ok","Ecart"),"") -> Ok | Q14: =IFERROR(IF(OR(P14="Ecart",O14="Ecart",N14="Ecart"),"Ecart","Ok"),"") -> Ecart
A15: =IFERROR(VLOOKUP('Requête 052'!$A14,'Requête 052'!$A$1:$F$2000,1,FALSE),"") -> 3533 | B15: =IFERROR(VLOOKUP('Requête 052'!$A14,'Requête 052'!$A$1:$F$2000,2,FALSE),"") -> CGECP ST OUEN L AUMONE TDI | C15: =IFERROR(VLOOKUP('Requête 052'!$A14,'Requête 052'!$A$1:$F$2000,3,FALSE),"") -> 43800 | D15: =IFERROR(VLOOKUP('Requête 052'!$A14,'Requête 052'!$A$1:$F$2000,4,FALSE),"") -> ENCOMBRANTS | E15: =IFERROR(VLOOKUP('Requête 052'!$A14,'Requête 052'!$A$1:$F$2000,5,FALSE),"") -> DECHETS VERTS EN MELANGE | F15: =IFERROR(VLOOKUP('Requête 052'!$A14,'Requête 052'!$A$1:$F$2000,6,FALSE),"") -> 2.24 | G15: =IFERROR(VLOOKUP(A15,'Fichier source CGECP'!$A$1:$F$1259,1,FALSE),"") | H15: =IFERROR(VLOOKUP(A15,'Fichier source CGECP'!$A$1:$F$1259,2,FALSE),"") | I15: =IFERROR(VLOOKUP(A15,'Fichier source CGECP'!$A$1:$F$1259,3,FALSE),"") | J15: =IFERROR(VLOOKUP(A15,'Fichier source CGECP'!$A$1:$F$1259,4,FALSE),"") | K15: =IFERROR(VLOOKUP(A15,'Fichier source CGECP'!$A$1:$F$1259,5,FALSE),"") | L15: =IFERROR(IF(COUNTIFS($A$3:$A14,$A15,$B$3:$B14,$B15,$C$3:$C14,$C15,$D$3:$D14,$D15,$E$3:$E14,$E15,$F$3:$F14,$F15)>0,"",VLOOKUP(A15,'Fichier source CGECP'!$A$1:$F$1259,6,FALSE)),"") | M15: =IFERROR(F15-L15,"") | N15: =IFERROR(IF(SEARCH(H15,B15,1),"Ok","Ecart"),"") -> Ok | O15: =IFERROR(IF(E15=K15,"Ok","Ecart"),"") -> Ecart | P15: =IFERROR(IF(M15>=0,"Ok","Ecart"),"") -> Ok | Q15: =IFERROR(IF(OR(P15="Ecart",O15="Ecart",N15="Ecart"),"Ecart","Ok"),"") -> Ecart
A16: =IFERROR(VLOOKUP('Requête 052'!$A15,'Requête 052'!$A$1:$F$2000,1,FALSE),"") -> 3534 | B16: =IFERROR(VLOOKUP('Requête 052'!$A15,'Requête 052'!$A$1:$F$2000,2,FALSE),"") -> CGECP ST OUEN L AUMONE TDI | C16: =IFERROR(VLOOKUP('Requête 052'!$A15,'Requête 052'!$A$1:$F$2000,3,FALSE),"") -> 43800 | D16: =IFERROR(VLOOKUP('Requête 052'!$A15,'Requête 052'!$A$1:$F$2000,4,FALSE),"") -> ENCOMBRANTS | E16: =IFERROR(VLOOKUP('Requête 052'!$A15,'Requête 052'!$A$1:$F$2000,5,FALSE),"") -> ENCOMBRANTS | F16: =IFERROR(VLOOKUP('Requête 052'!$A15,'Requête 052'!$A$1:$F$2000,6,FALSE),"") -> 3.66 | G16: =IFERROR(VLOOKUP(A16,'Fichier source CGECP'!$A$1:$F$1259,1,FALSE),"") | H16: =IFERROR(VLOOKUP(A16,'Fichier source CGECP'!$A$1:$F$1259,2,FALSE),"") | I16: =IFERROR(VLOOKUP(A16,'Fichier source CGECP'!$A$1:$F$1259,3,FALSE),"") | J16: =IFERROR(VLOOKUP(A16,'Fichier source CGECP'!$A$1:$F$1259,4,FALSE),"") | K16: =IFERROR(VLOOKUP(A16,'Fichier source CGECP'!$A$1:$F$1259,5,FALSE),"") | L16: =IFERROR(IF(COUNTIFS($A$3:$A15,$A16,$B$3:$B15,$B16,$C$3:$C15,$C16,$D$3:$D15,$D16,$E$3:$E15,$E16,$F$3:$F15,$F16)>0,"",VLOOKUP(A16,'Fichier source CGECP'!$A$1:$F$1259,6,FALSE)),"") | M16: =IFERROR(F16-L16,"") | N16: =IFERROR(IF(SEARCH(H16,B16,1),"Ok","Ecart"),"") -> Ok | O16: =IFERROR(IF(E16=K16,"Ok","Ecart"),"") -> Ecart | P16: =IFERROR(IF(M16>=0,"Ok","Ecart"),"") -> Ok | Q16: =IFERROR(IF(OR(P16="Ecart",O16="Ecart",N16="Ecart"),"Ecart","Ok"),"") -> Ecart
A17: =IFERROR(VLOOKUP('Requête 052'!$A16,'Requête 052'!$A$1:$F$2000,1,FALSE),"") -> 3535 | B17: =IFERROR(VLOOKUP('Requête 052'!$A16,'Requête 052'!$A$1:$F$2000,2,FALSE),"") -> CGECP ST OUEN L AUMONE TDI | C17: =IFERROR(VLOOKUP('Requête 052'!$A16,'Requête 052'!$A$1:$F$2000,3,FALSE),"") -> 43801 | D17: =IFERROR(VLOOKUP('Requête 052'!$A16,'Requête 052'!$A$1:$F$2000,4,FALSE),"") -> ORDURES MENAGERES | E17: =IFERROR(VLOOKUP('Requête 052'!$A16,'Requête 052'!$A$1:$F$2000,5,FALSE),"") -> ORDURES MENAGERES | F17: =IFERROR(VLOOKUP('Requête 052'!$A16,'Requête 052'!$A$1:$F$2000,6,FALSE),"") -> 3.04 | G17: =IFERROR(VLOOKUP(A17,'Fichier source CGECP'!$A$1:$F$1259,1,FALSE),"") -> 3535 | H17: =IFERROR(VLOOKUP(A17,'Fichier source CGECP'!$A$1:$F$1259,2,FALSE),"") -> CGECP | I17: =IFERROR(VLOOKUP(A17,'Fichier source CGECP'!$A$1:$F$1259,3,FALSE),"") -> 43801 | J17: =IFERROR(VLOOKUP(A17,'Fichier source CGECP'!$A$1:$F$1259,4,FALSE),"") -> 0 | K17: =IFERROR(VLOOKUP(A17,'Fichier source CGECP'!$A$1:$F$1259,5,FALSE),"") -> ORDURES MENAGERES | L17: =IFERROR(IF(COUNTIFS($A$3:$A16,$A17,$B$3:$B16,$B17,$C$3:$C16,$C17,$D$3:$D16,$D17,$E$3:$E16,$E17,$F$3:$F16,$F17)>0,"",VLOOKUP(A17,'Fichier source CGECP'!$A$1:$F$1259,6,FALSE)),"") -> 6.74 | M17: =IFERROR(F17-L17,"") -> -3.7 | N17: =IFERROR(IF(SEARCH(H17,B17,1),"Ok","Ecart"),"") -> Ok | O17: =IFERROR(IF(E17=K17,"Ok","Ecart"),"") -> Ok | P17: =IFERROR(IF(M17>=0,"Ok","Ecart"),"") -> Ecart | Q17: =IFERROR(IF(OR(P17="Ecart",O17="Ecart",N17="Ecart"),"Ecart","Ok"),"") -> Ecart
... A22: =IFERROR(VLOOKUP('Requête 052'!$A21,'Requête 052'!$A$1:$F$2000,1,FALSE),"") -> 3539 | B22: =IFERROR(VLOOKUP('Requête 052'!$A21,'Requête 052'!$A$1:$F$2000,2,FALSE),"") -> CGECP ST OUEN L AUMONE UVEND | C22: =IFERROR(VLOOKUP('Requête 052'!$A21,'Requête 052'!$A$1:$F$2000,3,FALSE),"") -> 43801 | D22: =IFERROR(VLOOKUP('Requête 052'!$A21,'Requête 052'!$A$1:$F$2000,4,FALSE),"") -> ORDURES MENAGERES | E22: =IFERROR(VLOOKUP('Requête 052'!$A21,'Requête 052'!$A$1:$F$2000,5,FALSE),"") -> ORDURES MENAGERES | F22: =IFERROR(VLOOKUP('Requête 052'!$A21,'Requête 052'!$A$1:$F$2000,6,FALSE),"") -> 5.6 | G22: =IFERROR(VLOOKUP(A22,'Fichier source CGECP'!$A$1:$F$1259,1,FALSE),"") -> 3539 | H22: =IFERROR(VLOOKUP(A22,'Fichier source CGECP'!$A$1:$F$1259,2,FALSE),"") -> CGECP | I22: =IFERROR(VLOOKUP(A22,'Fichier source CGECP'!$A$1:$F$1259,3,FALSE),"") -> 43801 | J22: =IFERROR(VLOOKUP(A22,'Fichier source CGECP'!$A$1:$F$1259,4,FALSE),"") -> MATIERE VALO EN MELANGE | K22: =IFERROR(VLOOKUP(A22,'Fichier source CGECP'!$A$1:$F$1259,5,FALSE),"") -> MATIERE VALO EN MELANGE | L22: =IFERROR(IF(COUNTIFS($A$3:$A21,$A22,$B$3:$B21,$B22,$C$3:$C21,$C22,$D$3:$D21,$D22,$E$3:$E21,$E22,$F$3:$F21,$F22)>0,"",VLOOKUP(A22,'Fichier source CGECP'!$A$1:$F$1259,6,FALSE)),"") -> 0.182 | M22: =IFERROR(F22-L22,"") -> 5.418 | N22: =IFERROR(IF(SEARCH(H22,B22,1),"Ok","Ecart"),"") -> Ok | O22: =IFERROR(IF(E22=K22,"Ok","Ecart"),"") -> Ecart | P22: =IFERROR(IF(M22>=0,"Ok","Ecart"),"") -> Ok | Q22: =IFERROR(IF(OR(P22="Ecart",O22="Ecart",N22="Ecart"),"Ecart","Ok"),"") -> Ecart
A23: =IFERROR(VLOOKUP('Requête 052'!$A21,'Requête 052'!$A$1:$F$2000,1,FALSE),"") -> 3539 | B23: =IFERROR(VLOOKUP('Requête 052'!$A21,'Requête 052'!$A$1:$F$2000,2,FALSE),"") -> CGECP ST OUEN L AUMONE UVEND | C23: =IFERROR(VLOOKUP('Requête 052'!$A21,'Requête 052'!$A$1:$F$2000,3,FALSE),"") -> 43801 | D23: =IFERROR(VLOOKUP('Requête 052'!$A21,'Requête 052'!$A$1:$F$2000,4,FALSE),"") -> ORDURES MENAGERES | E23: =IFERROR(VLOOKUP('Requête 052'!$A21,'Requête 052'!$A$1:$F$2000,5,FALSE),"") -> ORDURES MENAGERES | F23: =IFERROR(VLOOKUP('Requête 052'!$A21,'Requête 052'!$A$1:$F$2000,6,FALSE),"") -> 5.6 | G23: =IFERROR(VLOOKUP(A23,'Fichier source CGECP'!$A$1:$F$1259,1,FALSE),"") -> 3539 | H23: =IFERROR(VLOOKUP(A23,'Fichier source CGECP'!$A$1:$F$1259,2,FALSE),"") -> CGECP | I23: =IFERROR(VLOOKUP(A23,'Fichier source CGECP'!$A$1:$F$1259,3,FALSE),"") -> 43801 | J23: =IFERROR(VLOOKUP(A23,'Fichier source CGECP'!$A$1:$F$1259,4,FALSE),"") -> MATIERE VALO EN MELANGE | K23: =IFERROR(VLOOKUP(A23,'Fichier source CGECP'!$A$1:$F$1259,5,FALSE),"") -> MATIERE VALO EN MELANGE | L23: =IFERROR(IF(COUNTIFS($A$3:$A22,$A23,$B$3:$B22,$B23,$C$3:$C22,$C23,$D$3:$D22,$D23,$E$3:$E22,$E23,$F$3:$F22,$F23)>0,"",VLOOKUP(A23,'Fichier source CGECP'!$A$1:$F$1259,6,FALSE)),"") | M23: =IFERROR(F23-L23,"") | N23: =IFERROR(IF(SEARCH(H23,B23,1),"Ok","Ecart"),"") -> Ok | O23: =IFERROR(IF(E23=K23,"Ok","Ecart"),"") -> Ecart | P23: =IFERROR(IF(M23>=0,"Ok","Ecart"),"") -> Ok | Q23: =IFERROR(IF(OR(P23="Ecart",O23="Ecart",N23="Ecart"),"Ecart","Ok"),"") -> Ecart
A24: =IFERROR(VLOOKUP('Requête 052'!$A23,'Requête 052'!$A$1:$F$2000,1,FALSE),"") -> 3547 | B24: =IFERROR(VLOOKUP('Requête 052'!$A23,'Requête 052'!$A$1:$F$2000,2,FALSE),"") -> CGECP ST OUEN L AUMONE TDI | C24: =IFERROR(VLOOKUP('Requête 052'!$A23,'Requête 052'!$A$1:$F$2000,3,FALSE),"") -> 43801 | D24: =IFERROR(VLOOKUP('Requête 052'!$A23,'Requête 052'!$A$1:$F$2000,4,FALSE),"") -> ENCOMBRANTS | E24: =IFERROR(VLOOKUP('Requête 052'!$A23,'Requête 052'!$A$1:$F$2000,5,FALSE),"") -> ENCOMBRANTS | F24: =IFERROR(VLOOKUP('Requête 052'!$A23,'Requête 052'!$A$1:$F$2000,6,FALSE),"") -> 1.44 | G24: =IFERROR(VLOOKUP(A24,'Fichier source CGECP'!$A$1:$F$1259,1,FALSE),"") -> 3547 | H24: =IFERROR(VLOOKUP(A24,'Fichier source CGECP'!$A$1:$F$1259,2,FALSE),"") -> CGECP | I24: =IFERROR(VLOOKUP(A24,'Fichier source CGECP'!$A$1:$F$1259,3,FALSE),"") -> 43801 | J24: =IFERROR(VLOOKUP(A24,'Fichier source CGECP'!$A$1:$F$1259,4,FALSE),"") -> PE GRANDE SURFACE 90/10-PEGS 90/10 | K24: =IFERROR(VLOOKUP(A24,'Fichier source CGECP'!$A$1:$F$1259,5,FALSE),"") -> PE GRANDE SURFACE-PEGS | L24: =IFERROR(IF(COUNTIFS($A$3:$A23,$A24,$B$3:$B23,$B24,$C$3:$C23,$C24,$D$3:$D23,$D24,$E$3:$E23,$E24,$F$3:$F23,$F24)>0,"",VLOOKUP(A24,'Fichier source CGECP'!$A$1:$F$1259,6,FALSE)),"") -> 2.68 | M24: =IFERROR(F24-L24,"") -> -1.24 | N24: =IFERROR(IF(SEARCH(H24,B24,1),"Ok","Ecart"),"") -> Ok | O24: =IFERROR(IF(E24=K24,"Ok","Ecart"),"") -> Ecart | P24: =IFERROR(IF(M24>=0,"Ok","Ecart"),"") -> Ecart | Q24: =IFERROR(IF(OR(P24="Ecart",O24="Ecart",N24="Ecart"),"Ecart","Ok"),"") -> Ecart
A25: =IFERROR(VLOOKUP('Requête 052'!$A24,'Requête 052'!$A$1:$F$2000,1,FALSE),"") -> 3550 | B25: =IFERROR(VLOOKUP('Requête 052'!$A24,'Requête 052'!$A$1:$F$2000,2,FALSE),"") -> CGECP ST OUEN L AUMONE TDI | C25: =IFERROR(VLOOKUP('Requête 052'!$A24,'Requête 052'!$A$1:$F$2000,3,FALSE),"") -> 43801 | D25: =IFERROR(VLOOKUP('Requête 052'!$A24,'Requête 052'!$A$1:$F$2000,4,FALSE),"") -> CARTONS DE DECHETTERIE - 1.04.00 | E25: =IFERROR(VLOOKUP('Requête 052'!$A24,'Requête 052'!$A$1:$F$2000,5,FALSE),"") -> MATIERE VALO EN MELANGE | F25: =IFERROR(VLOOKUP('Requête 052'!$A24,'Requête 052'!$A$1:$F$2000,6,FALSE),"") -> 2.14 | G25: =IFERROR(VLOOKUP(A25,'Fichier source CGECP'!$A$1:$F$1259,1,FALSE),"") | H25: =IFERROR(VLOOKUP(A25,'Fichier source CGECP'!$A$1:$F$1259,2,FALSE),"") | I25: =IFERROR(VLOOKUP(A25,'Fichier source CGECP'!$A$1:$F$1259,3,FALSE),"") | J25: =IFERROR(VLOOKUP(A25,'Fichier source CGECP'!$A$1:$F$1259,4,FALSE),"") | K25: =IFERROR(VLOOKUP(A25,'Fichier source CGECP'!$A$1:$F$1259,5,FALSE),"") | L25: =IFERROR(IF(COUNTIFS($A$3:$A24,$A25,$B$3:$B24,$B25,$C$3:$C24,$C25,$D$3:$D24,$D25,$E$3:$E24,$E25,$F$3:$F24,$F25)>0,"",VLOOKUP(A25,'Fichier source CGECP'!$A$1:$F$1259,6,FALSE)),"") | M25: =IFERROR(F25-L25,"") | N25: =IFERROR(IF(SEARCH(H25,B25,1),"Ok","Ecart"),"") -> Ok | O25: =IFERROR(IF(E25=K25,"Ok","Ecart"),"") -> Ecart | P25: =IFERROR(IF(M25>=0,"Ok","Ecart"),"") -> Ok | Q25: =IFERROR(IF(OR(P25="Ecart",O25="Ecart",N25="Ecart"),"Ecart","Ok"),"") -> Ecart
A26: =IFERROR(VLOOKUP('Requête 052'!$A24,'Requête 052'!$A$1:$F$2000,1,FALSE),"") -> 3550 | B26: =IFERROR(VLOOKUP('Requête 052'!$A24,'Requête 052'!$A$1:$F$2000,2,FALSE),"") -> CGECP ST OUEN L AUMONE TDI | C26: =IFERROR(VLOOKUP('Requête 052'!$A24,'Requête 052'!$A$1:$F$2000,3,FALSE),"") -> 43801 | D26: =IFERROR(VLOOKUP('Requête 052'!$A24,'Requête 052'!$A$1:$F$2000,4,FALSE),"") -> CARTONS DE DECHETTERIE - 1.04.00 | E26: =IFERROR(VLOOKUP('Requête 052'!$A24,'Requête 052'!$A$1:$F$2000,5,FALSE),"") -> MATIERE VALO EN MELANGE | F26: =IFERROR(VLOOKUP('Requête 052'!$A24,'Requête 052'!$A$1:$F$2000,6,FALSE),"") -> 2.14 | G26: =IFERROR(VLOOKUP(A26,'Fichier source CGECP'!$A$1:$F$1259,1,FALSE),"") | H26: =IFERROR(VLOOKUP(A26,'Fichier source CGECP'!$A$1:$F$1259,2,FALSE),"") | I26: =IFERROR(VLOOKUP(A26,'Fichier source CGECP'!$A$1:$F$1259,3,FALSE),"") | J26: =IFERROR(VLOOKUP(A26,'Fichier source CGECP'!$A$1:$F$1259,4,FALSE),"") | K26: =IFERROR(VLOOKUP(A26,'Fichier source CGECP'!$A$1:$F$1259,5,FALSE),"") | L26: =IFERROR(IF(COUNTIFS($A$3:$A25,$A26,$B$3:$B25,$B26,$C$3:$C25,$C26,$D$3:$D25,$D26,$E$3:$E25,$E26,$F$3:$F25,$F26)>0,"",VLOOKUP(A26,'Fichier source CGECP'!$A$1:$F$1259,6,FALSE)),"") | M26: =IFERROR(F26-L26,"") | N26: =IFERROR(IF(SEARCH(H26,B26,1),"Ok","Ecart"),"") -> Ok | O26: =IFERROR(IF(E26=K26,"Ok","Ecart"),"") -> Ecart | P26: =IFERROR(IF(M26>=0,"Ok","Ecart"),"") -> Ok | Q26: =IFERROR(IF(OR(P26="Ecart",O26="Ecart",N26="Ecart"),"Ecart","Ok"),"") -> Ecart
A27: =IFERROR(VLOOKUP('Requête 052'!$A26,'Requête 052'!$A$1:$F$2000,1,FALSE),"") -> 3561 | B27: =IFERROR(VLOOKUP('Requête 052'!$A26,'Requête 052'!$A$1:$F$2000,2,FALSE),"") -> CGECP ST OUEN L AUMONE UVEND | C27: =IFERROR(VLOOKUP('Requête 052'!$A26,'Requête 052'!$A$1:$F$2000,3,FALSE),"") -> 43801 | D27: =IFERROR(VLOOKUP('Requête 052'!$A26,'Requête 052'!$A$1:$F$2000,4,FALSE),"") -> REFUS DE TRI | E27: =IFERROR(VLOOKUP('Requête 052'!$A26,'Requête 052'!$A$1:$F$2000,5,FALSE),"") -> REFUS DE TRI | F27: =IFERROR(VLOOKUP('Requête 052'!$A26,'Requête 052'!$A$1:$F$2000,6,FALSE),"") -> 2.08 | G27: =IFERROR(VLOOKUP(A27,'Fichier source CGECP'!$A$1:$F$1259,1,FALSE),"") | H27: =IFERROR(VLOOKUP(A27,'Fichier source CGECP'!$A$1:$F$1259,2,FALSE),"") | I27: =IFERROR(VLOOKUP(A27,'Fichier source CGECP'!$A$1:$F$1259,3,FALSE),"") | J27: =IFERROR(VLOOKUP(A27,'Fichier source CGECP'!$A$1:$F$1259,4,FALSE),"") | K27: =IFERROR(VLOOKUP(A27,'Fichier source CGECP'!$A$1:$F$1259,5,FALSE),"") | L27: =IFERROR(IF(COUNTIFS($A$3:$A26,$A27,$B$3:$B26,$B27,$C$3:$C26,$C27,$D$3:$D26,$D27,$E$3:$E26,$E27,$F$3:$F26,$F27)>0,"",VLOOKUP(A27,'Fichier source CGECP'!$A$1:$F$1259,6,FALSE)),"") | M27: =IFERROR(F27-L27,"") | N27: =IFERROR(IF(SEARCH(H27,B27,1),"Ok","Ecart"),"") -> Ok | O27: =IFERROR(IF(E27=K27,"Ok","Ecart"),"") -> Ecart | P27: =IFERROR(IF(M27>=0,"Ok","Ecart"),"") -> Ok | Q27: =IFERROR(IF(OR(P27="Ecart",O27="Ecart",N27="Ecart"),"Ecart","Ok"),"") -> Ecart
A28: =IFERROR(VLOOKUP('Requête 052'!$A27,'Requête 052'!$A$1:$F$2000,1,FALSE),"") -> 3568 | B28: =IFERROR(VLOOKUP('Requête 052'!$A27,'Requête 052'!$A$1:$F$2000,2,FALSE),"") -> CGECP ST OUEN L AUMONE TDI | C28: =IFERROR(VLOOKUP('Requête 052'!$A27,'Requête 052'!$A$1:$F$2000,3,FALSE),"") -> 43801 | D28: =IFERROR(VLOOKUP('Requête 052'!$A27,'Requête 052'!$A$1:$F$2000,4,FALSE),"") -> ENCOMBRANTS | E28: =IFERROR(VLOOKUP('Requête 052'!$A27,'Requête 052'!$A$1:$F$2000,5,FALSE),"") -> ENCOMBRANTS | F28: =IFERROR(VLOOKUP('Requête 052'!$A27,'Requête 052'!$A$1:$F$2000,6,FALSE),"") -> 1.44 | G28: =IFERROR(VLOOKUP(A28,'Fichier source CGECP'!$A$1:$F$1259,1,FALSE),"") -> 3568 | H28: =IFERROR(VLOOKUP(A28,'Fichier source CGECP'!$A$1:$F$1259,2,FALSE),"") -> CGECP | I28: =IFERROR(VLOOKUP(A28,'Fichier source CGECP'!$A$1:$F$1259,3,FALSE),"") -> 43801 | J28: =IFERROR(VLOOKUP(A28,'Fichier source CGECP'!$A$1:$F$1259,4,FALSE),"") -> ONDULES RECUPERES - 1.05.00 | K28: =IFERROR(VLOOKUP(A28,'Fichier source CGECP'!$A$1:$F$1259,5,FALSE),"") -> ONDULE RECUPERE VRAC - BALLE<320 KG | L28: =IFERROR(IF(COUNTIFS($A$3:$A27,$A28,$B$3:$B27,$B28,$C$3:$C27,$C28,$D$3:$D27,$D28,$E$3:$E27,$E28,$F$3:$F27,$F28)>0,"",VLOOKUP(A28,'Fichier source CGECP'!$A$1:$F$1259,6,FALSE)),"") -> 11.32 | M28: =IFERROR(F28-L28,"") -> -9.88 | N28: =IFERROR(IF(SEARCH(H28,B28,1),"Ok","Ecart"),"") -> Ok | O28: =IFERROR(IF(E28=K28,"Ok","Ecart"),"") -> Ecart | P28: =IFERROR(IF(M28>=0,"Ok","Ecart"),"") -> Ecart | Q28: =IFERROR(IF(OR(P28="Ecart",O28="Ecart",N28="Ecart"),"Ecart","Ok"),"") -> Ecart
A29: =IFERROR(VLOOKUP('Requête 052'!$A28,'Requête 052'!$A$1:$F$2000,1,FALSE),"") -> 3570 | B29: =IFERROR(VLOOKUP('Requête 052'!$A28,'Requête 052'!$A$1:$F$2000,2,FALSE),"") -> CGECP ST OUEN L AUMONE UVEND | C29: =IFERROR(VLOOKUP('Requête 052'!$A28,'Requête 052'!$A$1:$F$2000,3,FALSE),"") -> 43801 | D29: =IFERROR(VLOOKUP('Requête 052'!$A28,'Requête 052'!$A$1:$F$2000,4,FALSE),"") -> ORDURES MENAGERES | E29: =IFERROR(VLOOKUP('Requête 052'!$A28,'Requête 052'!$A$1:$F$2000,5,FALSE),"") -> ORDURES MENAGERES | F29: =IFERROR(VLOOKUP('Requête 052'!$A28,'Requête 052'!$A$1:$F$2000,6,FALSE),"") -> 15.72 | G29: =IFERROR(VLOOKUP(A29,'Fichier source CGECP'!$A$1:$F$1259,1,FALSE),"") -> 3570 | H29: =IFERROR(VLOOKUP(A29,'Fichier source CGECP'!$A$1:$F$1259,2,FALSE),"") -> CGECP | I29: =IFERROR(VLOOKUP(A29,'Fichier source CGECP'!$A$1:$F$1259,3,FALSE),"") -> 43801 | J29: =IFERROR(VLOOKUP(A29,'Fichier source CGECP'!$A$1:$F$1259,4,FALSE),"") -> 0 | K29: =IFERROR(VLOOKUP(A29,'Fichier source CGECP'!$A$1:$F$1259,5,FALSE),"") -> ORDURES MENAGERES | L29: =IFERROR(IF(COUNTIFS($A$3:$A28,$A29,$B$3:$B28,$B29,$C$3:$C28,$C29,$D$3:$D28,$D29,$E$3:$E28,$E29,$F$3:$F28,$F29)>0,"",VLOOKUP(A29,'Fichier source CGECP'!$A$1:$F$1259,6,FALSE)),"") -> 2.96 | M29: =IFERROR(F29-L29,"") -> 12.76 | N29: =IFERROR(IF(SEARCH(H29,B29,1),"Ok","Ecart"),"") -> Ok | O29: =IFERROR(IF(E29=K29,"Ok","Ecart"),"") -> Ok | P29: =IFERROR(IF(M29>=0,"Ok","Ecart"),"") -> Ok | Q29: =IFERROR(IF(OR(P29="Ecart",O29="Ecart",N29="Ecart"),"Ecart","Ok"),"") -> Ok
A30: =IFERROR(VLOOKUP('Requête 052'!$A29,'Requête 052'!$A$1:$F$2000,1,FALSE),"") -> 3571 | B30: =IFERROR(VLOOKUP('Requête 052'!$A29,'Requête 052'!$A$1:$F$2000,2,FALSE),"") -> CGECP ST OUEN L AUMONE TDI | C30: =IFERROR(VLOOKUP('Requête 052'!$A29,'Requête 052'!$A$1:$F$2000,3,FALSE),"") -> 43801 | D30: =IFERROR(VLOOKUP('Requête 052'!$A29,'Requête 052'!$A$1:$F$2000,4,FALSE),"") -> PS ALUMINISE | E30: =IFERROR(VLOOKUP('Requête 052'!$A29,'Requête 052'!$A$1:$F$2000,5,FALSE),"") -> DECHETS INDUSTRIELS BANALS | F30: =IFERROR(VLOOKUP('Requête 052'!$A29,'Requête 052'!$A$1:$F$2000,6,FALSE),"") -> 3.56 | G30: =IFERROR(VLOOKUP(A30,'Fichier source CGECP'!$A$1:$F$1259,1,FALSE),"") -> 3571 | H30: =IFERROR(VLOOKUP(A30,'Fichier source CGECP'!$A$1:$F$1259,2,FALSE),"") -> CGECP | I30: =IFERROR(VLOOKUP(A30,'Fichier source CGECP'!$A$1:$F$1259,3,FALSE),"") -> 43801 | J30: =IFERROR(VLOOKUP(A30,'Fichier source CGECP'!$A$1:$F$1259,4,FALSE),"") -> DECHETS INDUSTRIELS BANALS | K30: =IFERROR(VLOOKUP(A30,'Fichier source CGECP'!$A$1:$F$1259,5,FALSE),"") -> DECHETS INDUSTRIELS BANALS | L30: =IFERROR(IF(COUNTIFS($A$3:$A29,$A30,$B$3:$B29,$B30,$C$3:$C29,$C30,$D$3:$D29,$D30,$E$3:$E29,$E30,$F$3:$F29,$F30)>0,"",VLOOKUP(A30,'Fichier source CGECP'!$A$1:$F$1259,6,FALSE)),"") -> 0.88 | M30: =IFERROR(F30-L30,"") -> 2.68 | N30: =IFERROR(IF(SEARCH(H30,B30,1),"Ok","Ecart"),"") -> Ok | O30: =IFERROR(IF(E30=K30,"Ok","Ecart"),"") -> Ok | P30: =IFERROR(IF(M30>=0,"Ok","Ecart"),"") -> Ok | Q30: =IFERROR(IF(OR(P30="Ecart",O30="Ecart",N30="Ecart"),"Ecart","Ok"),"") -> Ok
A31: =IFERROR(VLOOKUP('Requête 052'!$A30,'Requête 052'!$A$1:$F$2000,1,FALSE),"") -> 3574 | B31: =IFERROR(VLOOKUP('Requête 052'!$A30,'Requête 052'!$A$1:$F$2000,2,FALSE),"") -> CGECP ST OUEN L AUMONE TDI | C31: =IFERROR(VLOOKUP('Requête 052'!$A30,'Requête 052'!$A$1:$F$2000,3,FALSE),"") -> 43801 | D31: =IFERROR(VLOOKUP('Requête 052'!$A30,'Requête 052'!$A$1:$F$2000,4,FALSE),"") -> GRAVATS EN MELANGE | E31: =IFERROR(VLOOKUP('Requête 052'!$A30,'Requête 052'!$A$1:$F$2000,5,FALSE),"") -> GRAVATS EN MELANGE | F31: =IFERROR(VLOOKUP('Requête 052'!$A30,'Requête 052'!$A$1:$F$2000,6,FALSE),"") -> 0.432 | G31: =IFERROR(VLOOKUP(A31,'Fichier source CGECP'!$A$1:$F$1259,1,FALSE),"") | H31: =IFERROR(VLOOKUP(A31,'Fichier source CGECP'!$A$1:$F$1259,2,FALSE),"") | I31: =IFERROR(VLOOKUP(A31,'Fichier source CGECP'!$A$1:$F$1259,3,FALSE),"") | J31: =IFERROR(VLOOKUP(A31,'Fichier source CGECP'!$A$1:$F$1259,4,FALSE),"") | K31: =IFERROR(VLOOKUP(A31,'Fichier source CGECP'!$A$1:$F$1259,5,FALSE),"") | L31: =IFERROR(IF(COUNTIFS($A$3:$A30,$A31,$B$3:$B30,$B31,$C$3:$C30,$C31,$D$3:$D30,$D31,$E$3:$E30,$E31,$F$3:$F30,$F31)>0,"",VLOOKUP(A31,'Fichier source CGECP'!$A$1:$F$1259,6,FALSE)),"") | M31: =IFERROR(F31-L31,"") | N31: =IFERROR(IF(SEARCH(H31,B31,1),"Ok","Ecart"),"") -> Ok | O31: =IFERROR(IF(E31=K31,"Ok","Ecart"),"") -> Ecart | P31: =IFERROR(IF(M31>=0,"Ok","Ecart"),"") -> Ok | Q31: =IFERROR(IF(OR(P31="Ecart",O31="Ecart",N31="Ecart"),"Ecart","Ok"),"") -> Ecart
A32: =IFERROR(VLOOKUP('Requête 052'!$A31,'Requête 052'!$A$1:$F$2000,1,FALSE),"") -> 3588 | B32: =IFERROR(VLOOKUP('Requête 052'!$A31,'Requête 052'!$A$1:$F$2000,2,FALSE),"") -> CGECP ST OUEN L AUMONE TDI | C32: =IFERROR(VLOOKUP('Requête 052'!$A31,'Requête 052'!$A$1:$F$2000,3,FALSE),"") -> 43801 | D32: =IFERROR(VLOOKUP('Requête 052'!$A31,'Requête 052'!$A$1:$F$2000,4,FALSE),"") -> ENCOMBRANTS | E32: =IFERROR(VLOOKUP('Requête 052'!$A31,'Requête 052'!$A$1:$F$2000,5,FALSE),"") -> ENCOMBRANTS | F32: =IFERROR(VLOOKUP('Requête 052'!$A31,'Requête 052'!$A$1:$F$2000,6,FALSE),"") -> 1.7 | G32: =IFERROR(VLOOKUP(A32,'Fichier source CGECP'!$A$1:$F$1259,1,FALSE),"") | H32: =IFERROR(VLOOKUP(A32,'Fichier source CGECP'!$A$1:$F$1259,2,FALSE),"") | I32: =IFERROR(VLOOKUP(A32,'Fichier source CGECP'!$A$1:$F$1259,3,FALSE),"") | J32: =IFERROR(VLOOKUP(A32,'Fichier source CGECP'!$A$1:$F$1259,4,FALSE),"") | K32: =IFERROR(VLOOKUP(A32,'Fichier source CGECP'!$A$1:$F$1259,5,FALSE),"") | L32: =IFERROR(IF(COUNTIFS($A$3:$A31,$A32,$B$3:$B31,$B32,$C$3:$C31,$C32,$D$3:$D31,$D32,$E$3:$E31,$E32,$F$3:$F31,$F32)>0,"",VLOOKUP(A32,'Fichier source CGECP'!$A$1:$F$1259,6,FALSE)),"") | M32: =IFERROR(F32-L32,"") | N32: =IFERROR(IF(SEARCH(H32,B32,1),"Ok","Ecart"),"") -> Ok | O32: =IFERROR(IF(E32=K32,"Ok","Ecart"),"") -> Ecart | P32: =IFERROR(IF(M32>=0,"Ok","Ecart"),"") -> Ok | Q32: =IFERROR(IF(OR(P32="Ecart",O32="Ecart",N32="Ecart"),"Ecart","Ok"),"") -> Ecart
A33: =IFERROR(VLOOKUP('Requête 052'!$A32,'Requête 052'!$A$1:$F$2000,1,FALSE),"") -> 3595 | B33: =IFERROR(VLOOKUP('Requête 052'!$A32,'Requête 052'!$A$1:$F$2000,2,FALSE),"") -> CGECP ST OUEN L AUMONE UVEND | C33: =IFERROR(VLOOKUP('Requête 052'!$A32,'Requête 052'!$A$1:$F$2000,3,FALSE),"") -> 43801 | D33: =IFERROR(VLOOKUP('Requête 052'!$A32,'Requête 052'!$A$1:$F$2000,4,FALSE),"") -> DECHET A INCINERER | E33: =IFERROR(VLOOKUP('Requête 052'!$A32,'Requête 052'!$A$1:$F$2000,5,FALSE),"") -> DECHET A INCINERER | F33: =IFERROR(VLOOKUP('Requête 052'!$A32,'Requête 052'!$A$1:$F$2000,6,FALSE),"") -> 1.78 | G33: =IFERROR(VLOOKUP(A33,'Fichier source CGECP'!$A$1:$F$1259,1,FALSE),"") -> 3595 | H33: =IFERROR(VLOOKUP(A33,'Fichier source CGECP'!$A$1:$F$1259,2,FALSE),"") -> CGECP | I33: =IFERROR(VLOOKUP(A33,'Fichier source CGECP'!$A$1:$F$1259,3,FALSE),"") -> 43801 | J33: =IFERROR(VLOOKUP(A33,'Fichier source CGECP'!$A$1:$F$1259,4,FALSE),"") -> DECHET A INCINERER TRI | K33: =IFERROR(VLOOKUP(A33,'Fichier source CGECP'!$A$1:$F$1259,5,FALSE),"") -> DECHET A INCINERER TRI | L33: =IFERROR(IF(COUNTIFS($A$3:$A32,$A33,$B$3:$B32,$B33,$C$3:$C32,$C33,$D$3:$D32,$D33,$E$3:$E32,$E33,$F$3:$F32,$F33)>0,"",VLOOKUP(A33,'Fichier source CGECP'!$A$1:$F$1259,6,FALSE)),"") -> 2.8 | M33: =IFERROR(F33-L33,"") -> -1.02 | N33: =IFERROR(IF(SEARCH(H33,B33,1),"Ok","Ecart"),"") -> Ok | O33: =IFERROR(IF(E33=K33,"Ok","Ecart"),"") -> Ecart | P33: =IFERROR(IF(M33>=0,"Ok","Ecart"),"") -> Ecart | Q33: =IFERROR(IF(OR(P33="Ecart",O33="Ecart",N33="Ecart"),"Ecart","Ok"),"") -> Ecart
A34: =IFERROR(VLOOKUP('Requête 052'!$A33,'Requête 052'!$A$1:$F$2000,1,FALSE),"") -> 3605 | B34: =IFERROR(VLOOKUP('Requête 052'!$A33,'Requête 052'!$A$1:$F$2000,2,FALSE),"") -> CGECP ST OUEN L AUMONE DVBIODIV | C34: =IFERROR(VLOOKUP('Requête 052'!$A33,'Requête 052'!$A$1:$F$2000,3,FALSE),"") -> 43801 | D34: =IFERROR(VLOOKUP('Requête 052'!$A33,'Requête 052'!$A$1:$F$2000,4,FALSE),"") -> DECHETS VERTS EN MELANGE | E34: =IFERROR(VLOOKUP('Requête 052'!$A33,'Requête 052'!$A$1:$F$2000,5,FALSE),"") -> DECHETS VERTS EN MELANGE | F34: =IFERROR(VLOOKUP('Requête 052'!$A33,'Requête 052'!$A$1:$F$2000,6,FALSE),"") -> 5.18 | G34: =IFERROR(VLOOKUP(A34,'Fichier source CGECP'!$A$1:$F$1259,1,FALSE),"") | H34: =IFERROR(VLOOKUP(A34,'Fichier source CGECP'!$A$1:$F$1259,2,FALSE),"") | I34: =IFERROR(VLOOKUP(A34,'Fichier source CGECP'!$A$1:$F$1259,3,FALSE),"") | J34: =IFERROR(VLOOKUP(A34,'Fichier source CGECP'!$A$1:$F$1259,4,FALSE),"") | K34: =IFERROR(VLOOKUP(A34,'Fichier source CGECP'!$A$1:$F$1259,5,FALSE),"") | L34: =IFERROR(IF(COUNTIFS($A$3:$A33,$A34,$B$3:$B33,$B34,$C$3:$C33,$C34,$D$3:$D33,$D34,$E$3:$E33,$E34,$F$3:$F33,$F34)>0,"",VLOOKUP(A34,'Fichier source CGECP'!$A$1:$F$1259,6,FALSE)),"") | M34: =IFERROR(F34-L34,"") | N34: =IFERROR(IF(SEARCH(H34,B34,1),"Ok","Ecart"),"") -> Ok | O34: =IFERROR(IF(E34=K34,"Ok","Ecart"),"") -> Ecart | P34: =IFERROR(IF(M34>=0,"Ok","Ecart"),"") -> Ok | Q34: =IFERROR(IF(OR(P34="Ecart",O34="Ecart",N34="Ecart"),"Ecart","Ok"),"") -> Ecart
A35: =IFERROR(VLOOKUP('Requête 052'!$A33,'Requête 052'!$A$1:$F$2000,1,FALSE),"") -> 3605 | B35: =IFERROR(VLOOKUP('Requête 052'!$A33,'Requête 052'!$A$1:$F$2000,2,FALSE),"") -> CGECP ST OUEN L AUMONE DVBIODIV | C35: =IFERROR(VLOOKUP('Requête 052'!$A33,'Requête 052'!$A$1:$F$2000,3,FALSE),"") -> 43801 | D35: =IFERROR(VLOOKUP('Requête 052'!$A33,'Requête 052'!$A$1:$F$2000,4,FALSE),"") -> DECHETS VERTS EN MELANGE | E35: =IFERROR(VLOOKUP('Requête 052'!$A33,'Requête 052'!$A$1:$F$2000,5,FALSE),"") -> DECHETS VERTS EN MELANGE | F35: =IFERROR(VLOOKUP('Requête 052'!$A33,'Requête 052'!$A$1:$F$2000,6,FALSE),"") -> 5.18 | G35: =IFERROR(VLOOKUP(A35,'Fichier source CGECP'!$A$1:$F$1259,1,FALSE),"") | H35: =IFERROR(VLOOKUP(A35,'Fichier source CGECP'!$A$1:$F$1259,2,FALSE),"") | I35: =IFERROR(VLOOKUP(A35,'Fichier source CGECP'!$A$1:$F$1259,3,FALSE),"") | J35: =IFERROR(VLOOKUP(A35,'Fichier source CGECP'!$A$1:$F$1259,4,FALSE),"") | K35: =IFERROR(VLOOKUP(A35,'Fichier source CGECP'!$A$1:$F$1259,5,FALSE),"") | L35: =IFERROR(IF(COUNTIFS($A$3:$A34,$A35,$B$3:$B34,$B35,$C$3:$C34,$C35,$D$3:$D34,$D35,$E$3:$E34,$E35,$F$3:$F34,$F35)>0,"",VLOOKUP(A35,'Fichier source CGECP'!$A$1:$F$1259,6,FALSE)),"") | M35: =IFERROR(F35-L35,"") | N35: =IFERROR(IF(SEARCH(H35,B35,1),"Ok","Ecart"),"") -> Ok | O35: =IFERROR(IF(E35=K35,"Ok","Ecart"),"") -> Ecart | P35: =IFERROR(IF(M35>=0,"Ok","Ecart"),"") -> Ok | Q35: =IFERROR(IF(OR(P35="Ecart",O35="Ecart",N35="Ecart"),"Ecart","Ok"),"") -> Ecart
A36: =IFERROR(VLOOKUP('Requête 052'!$A34,'Requête 052'!$A$1:$F$2000,1,FALSE),"") -> 3607 | B36: =IFERROR(VLOOKUP('Requête 052'!$A34,'Requête 052'!$A$1:$F$2000,2,FALSE),"") -> CGECP ST OUEN L AUMONE TDI | C36: =IFERROR(VLOOKUP('Requête 052'!$A34,'Requête 052'!$A$1:$F$2000,3,FALSE),"") -> 43801 | D36: =IFERROR(VLOOKUP('Requête 052'!$A34,'Requête 052'!$A$1:$F$2000,4,FALSE),"") -> CARTONS ET SACHES PLAST - 1.04.00 | E36: =IFERROR(VLOOKUP('Requête 052'!$A34,'Requête 052'!$A$1:$F$2000,5,FALSE),"") -> PE GRANDE SURFACE-PEGS | F36: =IFERROR(VLOOKUP('Requête 052'!$A34,'Requête 052'!$A$1:$F$2000,6,FALSE),"") -> 5.74 | G36: =IFERROR(VLOOKUP(A36,'Fichier source CGECP'!$A$1:$F$1259,1,FALSE),"") -> 3607 | H36: =IFERROR(VLOOKUP(A36,'Fichier source CGECP'!$A$1:$F$1259,2,FALSE),"") -> CGECP | I36: =IFERROR(VLOOKUP(A36,'Fichier source CGECP'!$A$1:$F$1259,3,FALSE),"") -> 43801 | J36: =IFERROR(VLOOKUP(A36,'Fichier source CGECP'!$A$1:$F$1259,4,FALSE),"") -> 0 | K36: =IFERROR(VLOOKUP(A36,'Fichier source CGECP'!$A$1:$F$1259,5,FALSE),"") -> CARTONS | L36: =IFERROR(IF(COUNTIFS($A$3:$A35,$A36,$B$3:$B35,$B36,$C$3:$C35,$C36,$D$3:$D35,$D36,$E$3:$E35,$E36,$F$3:$F35,$F36)>0,"",VLOOKUP(A36,'Fichier source CGECP'!$A$1:$F$1259,6,FALSE)),"") -> 0.24 | M36: =IFERROR(F36-L36,"") -> 5.5 | N36: =IFERROR(IF(SEARCH(H36,B36,1),"Ok","Ecart"),"") -> Ok | O36: =IFERROR(IF(E36=K36,"Ok","Ecart"),"") -> Ecart | P36: =IFERROR(IF(M36>=0,"Ok","Ecart"),"") -> Ok | Q36: =IFERROR(IF(OR(P36="Ecart",O36="Ecart",N36="Ecart"),"Ecart","Ok"),"") -> Ecart
A37: =IFERROR(VLOOKUP('Requête 052'!$A35,'Requête 052'!$A$1:$F$2000,1,FALSE),"") -> 3607 | B37: =IFERROR(VLOOKUP('Requête 052'!$A35,'Requête 052'!$A$1:$F$2000,2,FALSE),"") -> CGECP ST OUEN L AUMONE TDI | C37: =IFERROR(VLOOKUP('Requête 052'!$A35,'Requête 052'!$A$1:$F$2000,3,FALSE),"") -> 43801 | D37: =IFERROR(VLOOKUP('Requête 052'!$A35,'Requête 052'!$A$1:$F$2000,4,FALSE),"") -> CARTONS ET SACHES PLAST - 1.04.00 | E37: =IFERROR(VLOOKUP('Requête 052'!$A35,'Requête 052'!$A$1:$F$2000,5,FALSE),"") -> PE GRANDE SURFACE-PEGS | F37: =IFERROR(VLOOKUP('Requête 052'!$A35,'Requête 052'!$A$1:$F$2000,6,FALSE),"") -> 5.74 | G37: =IFERROR(VLOOKUP(A37,'Fichier source CGECP'!$A$1:$F$1259,1,FALSE),"") -> 3607 | H37: =IFERROR(VLOOKUP(A37,'Fichier source CGECP'!$A$1:$F$1259,2,FALSE),"") -> CGECP | I37: =IFERROR(VLOOKUP(A37,'Fichier source CGECP'!$A$1:$F$1259,3,FALSE),"") -> 43801 | J37: =IFERROR(VLOOKUP(A37,'Fichier source CGECP'!$A$1:$F$1259,4,FALSE),"") -> 0 | K37: =IFERROR(VLOOKUP(A37,'Fichier source CGECP'!$A$1:$F$1259,5,FALSE),"") -> CARTONS | L37: =IFERROR(IF(COUNTIFS($A$3:$A36,$A37,$B$3:$B36,$B37,$C$3:$C36,$C37,$D$3:$D36,$D37,$E$3:$E36,$E37,$F$3:$F36,$F37)>0,"",VLOOKUP(A37,'Fichier source CGECP'!$A$1:$F$1259,6,FALSE)),"") | M37: =IFERROR(F37-L37,"") | N37: =IFERROR(IF(SEARCH(H37,B37,1),"Ok","Ecart"),"") -> Ok | O37: =IFERROR(IF(E37=K37,"Ok","Ecart"),"") -> Ecart | P37: =IFERROR(IF(M37>=0,"Ok","Ecart"),"") -> Ok | Q37: =IFERROR(IF(OR(P37="Ecart",O37="Ecart",N37="Ecart"),"Ecart","Ok"),"") -> Ecart
A38: =IFERROR(VLOOKUP('Requête 052'!$A36,'Requête 052'!$A$1:$F$2000,1,FALSE),"") -> 3607 | B38: =IFERROR(VLOOKUP('Requête 052'!$A36,'Requête 052'!$A$1:$F$2000,2,FALSE),"") -> CGECP ST OUEN L AUMONE TDI | C38: =IFERROR(VLOOKUP('Requête 052'!$A36,'Requête 052'!$A$1:$F$2000,3,FALSE),"") -> 43801 | D38: =IFERROR(VLOOKUP('Requête 052'!$A36,'Requête 052'!$A$1:$F$2000,4,FALSE),"") -> CARTONS ET SACHES PLAST - 1.04.00 | E38: =IFERROR(VLOOKUP('Requête 052'!$A36,'Requête 052'!$A$1:$F$2000,5,FALSE),"") -> PE GRANDE SURFACE-PEGS | F38: =IFERROR(VLOOKUP('Requête 052'!$A36,'Requête 052'!$A$1:$F$2000,6,FALSE),"") -> 5.74 | G38: =IFERROR(VLOOKUP(A38,'Fichier source CGECP'!$A$1:$F$1259,1,FALSE),"") -> 3607 | H38: =IFERROR(VLOOKUP(A38,'Fichier source CGECP'!$A$1:$F$1259,2,FALSE),"") -> CGECP | I38: =IFERROR(VLOOKUP(A38,'Fichier source CGECP'!$A$1:$F$1259,3,FALSE),"") -> 43801 | J38: =IFERROR(VLOOKUP(A38,'Fichier source CGECP'!$A$1:$F$1259,4,FALSE),"") -> 0 | K38: =IFERROR(VLOOKUP(A38,'Fichier source CGECP'!$A$1:$F$1259,5,FALSE),"") -> CARTONS | L38: =IFERROR(IF(COUNTIFS($A$3:$A37,$A38,$B$3:$B37,$B38,$C$3:$C37,$C38,$D$3:$D37,$D38,$E$3:$E37,$E38,$F$3:$F37,$F38)>0,"",VLOOKUP(A38,'Fichier source CGECP'!$A$1:$F$1259,6,FALSE)),"") | M38: =IFERROR(F38-L38,"") | N38: =IFERROR(IF(SEARCH(H38,B38,1),"Ok","Ecart"),"") -> Ok | O38: =IFERROR(IF(E38=K38,"Ok","Ecart"),"") -> Ecart | P38: =IFERROR(IF(M38>=0,"Ok","Ecart"),"") -> Ok | Q38: =IFERROR(IF(OR(P38="Ecart",O38="Ecart",N38="Ecart"),"Ecart","Ok"),"") -> Ecart
A39: =IFERROR(VLOOKUP('Requête 052'!$A37,'Requête 052'!$A$1:$F$2000,1,FALSE),"") -> 3610 | B39: =IFERROR(VLOOKUP('Requête 052'!$A37,'Requête 052'!$A$1:$F$2000,2,FALSE),"") -> CGECP ST OUEN L AUMONE TDI | C39: =IFERROR(VLOOKUP('Requête 052'!$A37,'Requête 052'!$A$1:$F$2000,3,FALSE),"") -> 43801 | D39: =IFERROR(VLOOKUP('Requête 052'!$A37,'Requête 052'!$A$1:$F$2000,4,FALSE),"") -> DECHETS INDUSTRIELS BANALS | E39: =IFERROR(VLOOKUP('Requête 052'!$A37,'Requête 052'!$A$1:$F$2000,5,FALSE),"") -> DECHETS INDUSTRIELS BANALS | F39: =IFERROR(VLOOKUP('Requête 052'!$A37,'Requête 052'!$A$1:$F$2000,6,FALSE),"") -> 4.9 | G39: =IFERROR(VLOOKUP(A39,'Fichier source CGECP'!$A$1:$F$1259,1,FALSE),"") -> 3610 | H39: =IFERROR(VLOOKUP(A39,'Fichier source CGECP'!$A$1:$F$1259,2,FALSE),"") -> CGECP | I39: =IFERROR(VLOOKUP(A39,'Fichier source CGECP'!$A$1:$F$1259,3,FALSE),"") -> 43801 | J39: =IFERROR(VLOOKUP(A39,'Fichier source CGECP'!$A$1:$F$1259,4,FALSE),"") -> DECHETS INDUSTRIELS BANALS | K39: =IFERROR(VLOOKUP(A39,'Fichier source CGECP'!$A$1:$F$1259,5,FALSE),"") -> DECHETS INDUSTRIELS BANALS | L39: =IFERROR(IF(COUNTIFS($A$3:$A38,$A39,$B$3:$B38,$B39,$C$3:$C38,$C39,$D$3:$D38,$D39,$E$3:$E38,$E39,$F$3:$F38,$F39)>0,"",VLOOKUP(A39,'Fichier source CGECP'!$A$1:$F$1259,6,FALSE)),"") -> 1.7 | M39: =IFERROR(F39-L39,"") -> 3.2 | N39: =IFERROR(IF(SEARCH(H39,B39,1),"Ok","Ecart"),"") -> Ok | O39: =IFERROR(IF(E39=K39,"Ok","Ecart"),"") -> Ok | P39: =IFERROR(IF(M39>=0,"Ok","Ecart"),"") -> Ok | Q39: =IFERROR(IF(OR(P39="Ecart",O39="Ecart",N39="Ecart"),"Ecart","Ok"),"") -> Ok
A40: =IFERROR(VLOOKUP('Requête 052'!$A38,'Requête 052'!$A$1:$F$2000,1,FALSE),"") -> 3618 | B40: =IFERROR(VLOOKUP('Requête 052'!$A38,'Requête 052'!$A$1:$F$2000,2,FALSE),"") -> CGECP ST OUEN L AUMONE TDI | C40: =IFERROR(VLOOKUP('Requête 052'!$A38,'Requête 052'!$A$1:$F$2000,3,FALSE),"") -> 43801 | D40: =IFERROR(VLOOKUP('Requête 052'!$A38,'Requête 052'!$A$1:$F$2000,4,FALSE),"") -> BOIS D'EMBALLAGES BRUTS | E40: =IFERROR(VLOOKUP('Requête 052'!$A38,'Requête 052'!$A$1:$F$2000,5,FALSE),"") -> BOIS D'EMBALLAGES BRUTS | F40: =IFERROR(VLOOKUP('Requête 052'!$A38,'Requête 052'!$A$1:$F$2000,6,FALSE),"") -> 2.86 | G40: =IFERROR(VLOOKUP(A40,'Fichier source CGECP'!$A$1:$F$1259,1,FALSE),"") -> 3618 | H40: =IFERROR(VLOOKUP(A40,'Fichier source CGECP'!$A$1:$F$1259,2,FALSE),"") -> CGECP | I40: =IFERROR(VLOOKUP(A40,'Fichier source CGECP'!$A$1:$F$1259,3,FALSE),"") -> 43801 | J40: =IFERROR(VLOOKUP(A40,'Fichier source CGECP'!$A$1:$F$1259,4,FALSE),"") -> DECHETS INDUSTRIELS BANALS | K40: =IFERROR(VLOOKUP(A40,'Fichier source CGECP'!$A$1:$F$1259,5,FALSE),"") -> DECHETS INDUSTRIELS BANALS | L40: =IFERROR(IF(COUNTIFS($A$3:$A39,$A40,$B$3:$B39,$B40,$C$3:$C39,$C40,$D$3:$D39,$D40,$E$3:$E39,$E40,$F$3:$F39,$F40)>0,"",VLOOKUP(A40,'Fichier source CGECP'!$A$1:$F$1259,6,FALSE)),"") -> 0.32 | M40: =IFERROR(F40-L40,"") -> 2.54 | N40: =IFERROR(IF(SEARCH(H40,B40,1),"Ok","Ecart"),"") -> Ok | O40: =IFERROR(IF(E40=K40,"Ok","Ecart"),"") -> Ecart | P40: =IFERROR(IF(M40>=0,"Ok","Ecart"),"") -> Ok | Q40: =IFERROR(IF(OR(P40="Ecart",O40="Ecart",N40="Ecart"),"Ecart","Ok"),"") -> Ecart
A41: =IFERROR(VLOOKUP('Requête 052'!$A40,'Requête 052'!$A$1:$F$2000,1,FALSE),"") -> 3624 | B41: =IFERROR(VLOOKUP('Requête 052'!$A40,'Requête 052'!$A$1:$F$2000,2,FALSE),"") -> CGECP ST OUEN L AUMONE TDI | C41: =IFERROR(VLOOKUP('Requête 052'!$A40,'Requête 052'!$A$1:$F$2000,3,FALSE),"") -> 43801 | D41: =IFERROR(VLOOKUP('Requête 052'!$A40,'Requête 052'!$A$1:$F$2000,4,FALSE),"") -> DECHETS INDUSTRIELS BANALS | E41: =IFERROR(VLOOKUP('Requête 052'!$A40,'Requête 052'!$A$1:$F$2000,5,FALSE),"") -> DECHETS INDUSTRIELS BANALS | F41: =IFERROR(VLOOKUP('Requête 052'!$A40,'Requête 052'!$A$1:$F$2000,6,FALSE),"") -> 3.3 | G41: =IFERROR(VLOOKUP(A41,'Fichier source CGECP'!$A$1:$F$1259,1,FALSE),"") -> 3624 | H41: =IFERROR(VLOOKUP(A41,'Fichier source CGECP'!$A$1:$F$1259,2,FALSE),"") -> CGECP | I41: =IFERROR(VLOOKUP(A41,'Fichier source CGECP'!$A$1:$F$1259,3,FALSE),"") -> 43801 | J41: =IFERROR(VLOOKUP(A41,'Fichier source CGECP'!$A$1:$F$1259,4,FALSE),"") -> BOIS D'EMBALLAGES BRUTS | K41: =IFERROR(VLOOKUP(A41,'Fichier source CGECP'!$A$1:$F$1259,5,FALSE),"") -> BOIS D'EMBALLAGES BRUTS | L41: =IFERROR(IF(COUNTIFS($A$3:$A40,$A41,$B$3:$B40,$B41,$C$3:$C40,$C41,$D$3:$D40,$D41,$E$3:$E40,$E41,$F$3:$F40,$F41)>0,"",VLOOKUP(A41,'Fichier source CGECP'!$A$1:$F$1259,6,FALSE)),"") -> 0.93 | M41: =IFERROR(F41-L41,"") -> 2.37 | N41: =IFERROR(IF(SEARCH(H41,B41,1),"Ok","Ecart"),"") -> Ok | O41: =IFERROR(IF(E41=K41,"Ok","Ecart"),"") -> Ecart | P41: =IFERROR(IF(M41>=0,"Ok","Ecart"),"") -> Ok | Q41: =IFERROR(IF(OR(P41="Ecart",O41="Ecart",N41="Ecart"),"Ecart","Ok"),"") -> Ecart
A42: =IFERROR(VLOOKUP('Requête 052'!$A40,'Requête 052'!$A$1:$F$2000,1,FALSE),"") -> 3624 | B42: =IFERROR(VLOOKUP('Requête 052'!$A40,'Requête 052'!$A$1:$F$2000,2,FALSE),"") -> CGECP ST OUEN L AUMONE TDI | C42: =IFERROR(VLOOKUP('Requête 052'!$A40,'Requête 052'!$A$1:$F$2000,3,FALSE),"") -> 43801 | D42: =IFERROR(VLOOKUP('Requête 052'!$A40,'Requête 052'!$A$1:$F$2000,4,FALSE),"") -> DECHETS INDUSTRIELS BANALS | E42: =IFERROR(VLOOKUP('Requête 052'!$A40,'Requête 052'!$A$1:$F$2000,5,FALSE),"") -> DECHETS INDUSTRIELS BANALS | F42: =IFERROR(VLOOKUP('Requête 052'!$A40,'Requête 052'!$A$1:$F$2000,6,FALSE),"") -> 3.3 | G42: =IFERROR(VLOOKUP(A42,'Fichier source CGECP'!$A$1:$F$1259,1,FALSE),"") -> 3624 | H42: =IFERROR(VLOOKUP(A42,'Fichier source CGECP'!$A$1:$F$1259,2,FALSE),"") -> CGECP | I42: =IFERROR(VLOOKUP(A42,'Fichier source CGECP'!$A$1:$F$1259,3,FALSE),"") -> 43801 | J42: =IFERROR(VLOOKUP(A42,'Fichier source CGECP'!$A$1:$F$1259,4,FALSE),"") -> BOIS D'EMBALLAGES BRUTS | K42: =IFERROR(VLOOKUP(A42,'Fichier source CGECP'!$A$1:$F$1259,5,FALSE),"") -> BOIS D'EMBALLAGES BRUTS | L42: =IFERROR(IF(COUNTIFS($A$3:$A41,$A42,$B$3:$B41,$B42,$C$3:$C41,$C42,$D$3:$D41,$D42,$E$3:$E41,$E42,$F$3:$F41,$F42)>0,"",VLOOKUP(A42,'Fichier source CGECP'!$A$1:$F$1259,6,FALSE)),"") | M42: =IFERROR(F42-L42,"") | N42: =IFERROR(IF(SEARCH(H42,B42,1),"Ok","Ecart"),"") -> Ok | O42: =IFERROR(IF(E42=K42,"Ok","Ecart"),"") -> Ecart | P42: =IFERROR(IF(M42>=0,"Ok","Ecart"),"") -> Ok | Q42: =IFERROR(IF(OR(P42="Ecart",O42="Ecart",N42="Ecart"),"Ecart","Ok"),"") -> Ecart
A43: =IFERROR(VLOOKUP('Requête 052'!$A41,'Requête 052'!$A$1:$F$2000,1,FALSE),"") -> 3627 | B43: =IFERROR(VLOOKUP('Requête 052'!$A41,'Requête 052'!$A$1:$F$2000,2,FALSE),"") -> CGECP ST OUEN L AUMONE TDI | C43: =IFERROR(VLOOKUP('Requête 052'!$A41,'Requête 052'!$A$1:$F$2000,3,FALSE),"") -> 43801 | D43: =IFERROR(VLOOKUP('Requête 052'!$A41,'Requête 052'!$A$1:$F$2000,4,FALSE),"") -> BOIS D'EMBALLAGES BRUTS | E43: =IFERROR(VLOOKUP('Requête 052'!$A41,'Requête 052'!$A$1:$F$2000,5,FALSE),"") -> DECHETS INDUSTRIELS BANALS | F43: =IFERROR(VLOOKUP('Requête 052'!$A41,'Requête 052'!$A$1:$F$2000,6,FALSE),"") -> 4.42 | G43: =IFERROR(VLOOKUP(A43,'Fichier source CGECP'!$A$1:$F$1259,1,FALSE),"") -> 3627 | H43: =IFERROR(VLOOKUP(A43,'Fichier source CGECP'!$A$1:$F$1259,2,FALSE),"") -> CGECP | I43: =IFERROR(VLOOKUP(A43,'Fichier source CGECP'!$A$1:$F$1259,3,FALSE),"") -> 43801 | J43: =IFERROR(VLOOKUP(A43,'Fichier source CGECP'!$A$1:$F$1259,4,FALSE),"") -> 0 | K43: =IFERROR(VLOOKUP(A43,'Fichier source CGECP'!$A$1:$F$1259,5,FALSE),"") -> DECHETS INDUSTRIELS BANALS | L43: =IFERROR(IF(COUNTIFS($A$3:$A42,$A43,$B$3:$B42,$B43,$C$3:$C42,$C43,$D$3:$D42,$D43,$E$3:$E42,$E43,$F$3:$F42,$F43)>0,"",VLOOKUP(A43,'Fichier source CGECP'!$A$1:$F$1259,6,FALSE)),"") -> 1.4 | M43: =IFERROR(F43-L43,"") -> 3.02 | N43: =IFERROR(IF(SEARCH(H43,B43,1),"Ok","Ecart"),"") -> Ok | O43: =IFERROR(IF(E43=K43,"Ok","Ecart"),"") -> Ok | P43: =IFERROR(IF(M43>=0,"Ok","Ecart"),"") -> Ok | Q43: =IFERROR(IF(OR(P43="Ecart",O43="Ecart",N43="Ecart"),"Ecart","Ok"),"") -> Ok
A44: =IFERROR(VLOOKUP('Requête 052'!$A43,'Requête 052'!$A$1:$F$2000,1,FALSE),"") -> 3646 | B44: =IFERROR(VLOOKUP('Requête 052'!$A43,'Requête 052'!$A$1:$F$2000,2,FALSE),"") -> CGECP ST OUEN L AUMONE TDI | C44: =IFERROR(VLOOKUP('Requête 052'!$A43,'Requête 052'!$A$1:$F$2000,3,FALSE),"") -> 43801 | D44: =IFERROR(VLOOKUP('Requête 052'!$A43,'Requête 052'!$A$1:$F$2000,4,FALSE),"") -> BOIS B BRUT | E44: =IFERROR(VLOOKUP('Requête 052'!$A43,'Requête 052'!$A$1:$F$2000,5,FALSE),"") -> BOIS B BRUT | F44: =IFERROR(VLOOKUP('Requête 052'!$A43,'Requête 052'!$A$1:$F$2000,6,FALSE),"") -> 1.7 | G44: =IFERROR(VLOOKUP(A44,'Fichier source CGECP'!$A$1:$F$1259,1,FALSE),"") -> 3646 | H44: =IFERROR(VLOOKUP(A44,'Fichier source CGECP'!$A$1:$F$1259,2,FALSE),"") -> CGECP | I44: =IFERROR(VLOOKUP(A44,'Fichier source CGECP'!$A$1:$F$1259,3,FALSE),"") -> 43801 | J44: =IFERROR(VLOOKUP(A44,'Fichier source CGECP'!$A$1:$F$1259,4,FALSE),"") -> BOIS B BRUT | K44: =IFERROR(VLOOKUP(A44,'Fichier source CGECP'!$A$1:$F$1259,5,FALSE),"") -> BOIS B BRUT | L44: =IFERROR(IF(COUNTIFS($A$3:$A43,$A44,$B$3:$B43,$B44,$C$3:$C43,$C44,$D$3:$D43,$D44,$E$3:$E43,$E44,$F$3:$F43,$F44)>0,"",VLOOKUP(A44,'Fichier source CGECP'!$A$1:$F$1259,6,FALSE)),"") -> 1.14 | M44: =IFERROR(F44-L44,"") -> 0.56 | N44: =IFERROR(IF(SEARCH(H44,B44,1),"Ok","Ecart"),"") -> Ok | O44: =IFERROR(IF(E44=K44,"Ok","Ecart"),"") -> Ok | P44: =IFERROR(IF(M44>=0,"Ok","Ecart"),"") -> Ok | Q44: =IFERROR(IF(OR(P44="Ecart",O44="Ecart",N44="Ecart"),"Ecart","Ok"),"") -> Ok
...

Sheet Requête 052
A1: Code exutoire | B1: Exutoire réalisé | C1: Date vidage | D1: Matière prévue | E1: Matière réalisée | F1: V_tonnageVidageExutoire | G1: Famille matière du service | H1: Centre analytique IDF | I1: v_Eotp | J1: V_code Eotp | K1: V_Eotp Valeur 1 | L1: V_Eotp Valeur 2 | M1: Jour | N1: N° de tournée | O1: Nom de la tournée prévisionnelle | P1: Code mouvement | Q1: N° bon client | R1: Code client DIVA | S1: Nom client | T1: Compte facturation | U1: Code client facturé | V1: Lieu exploitation | W1: Ville lieu d'exploitation | X1: Nom commercial contrat | Y1: Code service | Z1: Matériel | AA1: Quantité facturée
A2: 640 | B2: CGECP ST OUEN L AUMONE TDI | C2: 43818 | D2: PAPIERS | E2: DECHETS INDUSTRIELS BANALS | F2: 2.56
A3: 3511 | B3: CGECP ST OUEN L AUMONE DVBIODIV | C3: 43800 | D3: DECHETS VERTS EN MELANGE | E3: DECHETS VERTS EN MELANGE | F3: 0.24
A4: 3512 | B4: CGECP ST OUEN L AUMONE DVBIODIV | C4: 43800 | D4: DECHETS VERTS EN MELANGE | E4: DECHETS VERTS EN MELANGE | F4: 4.04
A5: 3515 | B5: CGECP ST OUEN L AUMONE TDI | C5: 43800 | D5: GRAVATS | E5: GRAVATS | F5: 1.76
A6: 3519 | B6: CGECP ST OUEN L AUMONE TDI | C6: 43800 | D6: ENCOMBRANTS | E6: ENCOMBRANTS | F6: 3.44
A7: 3521 | B7: CGECP ST OUEN L AUMONE TDI | C7: 43800 | D7: ENCOMBRANTS | E7: ENCOMBRANTS | F7: 5.32
A8: 3523 | B8: CGECP ST OUEN L AUMONE TDI | C8: 43800 | D8: ENCOMBRANTS | E8: ENCOMBRANTS | F8: 2.82
A9: 3525 | B9: CGECP ST OUEN L AUMONE TDI | C9: 43800 | D9: ENCOMBRANTS | E9: ENCOMBRANTS | F9: 3.14
A10: 3526 | B10: CGECP ST OUEN L AUMONE TDI | C10: 43800 | D10: GRAVATS EN MELANGE | E10: GRAVATS EN MELANGE | F10: 2.48
A11: 3528 | B11: CGECP ST OUEN L AUMONE TDI | C11: 43800 | D11: ENCOMBRANTS | E11: ENCOMBRANTS | F11: 6.74
A12: 3529 | B12: CGECP ST OUEN L AUMONE DVBIODIV | C12: 43800 | D12: DECHETS VERTS EN MELANGE | E12: DECHETS VERTS EN MELANGE | F12: 7.86
A13: 3530 | B13: CGECP ST OUEN L AUMONE TDI | C13: 43800 | D13: ENCOMBRANTS | E13: ENCOMBRANTS | F13: 3.12
... A1192: 3543 | B1192: CGECP ST OUEN L AUMONE UVEND | C1192: 43801 | D1192: REFUS DE TRI | E1192: REFUS DE TRI | F1192: 6.52
A1193: BM | B1193: CGECP ST OUEN L AUMONE UVEND | C1193: 43820 | D1193: ORDURES MENAGERES | E1193: ORDURES MENAGERES | F1193: 2.3
A1194: BM | B1194: CGECP ST OUEN L AUMONE UVEND | C1194: 43827 | D1194: ORDURES MENAGERES | E1194: CARTONS | F1194: 2.68
A1195: BM | B1195: CGECP ST OUEN L AUMONE TDI | C1195: 43827 | D1195: CARTONS DE DECHETTERIE - 1.04.00 | E1195: DECHETS INDUSTRIELS BANALS | F1195: 6.3
A1196: BM | B1196: CGECP ST OUEN L AUMONE UVEND | C1196: 43826 | D1196: REFUS DE TRI | E1196: REFUS DE TRI | F1196: 6.22
A1197: BM | B1197: CGECP ST OUEN L AUMONE UVEND | C1197: 43820 | D1197: REFUS DE TRI | E1197: REFUS DE TRI | F1197: 2.66
A1198: BM | B1198: CGECP ST OUEN L AUMONE UVEND | C1198: 43820 | D1198: REFUS DE TRI | E1198: REFUS DE TRI | F1198: 4.18
A1199: BM | B1199: CGECP ST OUEN L AUMONE UVEND | C1199: 43820 | D1199: REFUS DE TRI | E1199: REFUS DE TRI | F1199: 3.76
A1200: BM | B1200: CGECP ST OUEN L AUMONE UVEND | C1200: 43820 | D1200: REFUS DE TRI | E1200: REFUS DE TRI | F1200: 2.8
A1201: BM1 | B1201: CGECP ST OUEN L AUMONE UVEND | C1201: 43806 | D1201: REFUS DE TRI | E1201: REFUS DE TRI | F1201: 3.74
A1202: BM1 | B1202: CGECP ST OUEN L AUMONE UVEND | C1202: 43821 | D1202: ORDURES MENAGERES | E1202: DECHETS INDUSTRIELS BANALS | F1202: 4.92
