Workbook
Name bdd: 'Requête 052'!$A$1:$G$1

Sheet Outils de comparaison
C1: Taïs | I1: Exutoire | M1: Ecart Pesée | N1: Ecart Exutoire | O1: Ecart Mat réalisée | P1: Ecart tonnage | Q1: Ecart global
A2: Code exutoire | B2: Exutoire réalisé | C2: date vidage | D2: matière prévue | E2: matière réalisée | F2: tonnage | G2: Code exutoire | H2: Exutoire | I2: date vidage | J2: matière prévue | K2: matière réalisée | L2: tonnage | N2: Ecart Exutoire | O2: Ecart Matière réalisée | P2: Ecart pesée | Q2: Ecart global
A3: =IFERROR(VLOOKUP('Requête 052'!$A2,'Requête 052'!$A$1:$F$2000,1,FALSE),"") -> 640 | B3: =IFERROR(VLOOKUP('Requête 052'!$A2,'Requête 052'!$A$1:$F$2000,2,FALSE),"") -> CGECP ST OUEN L AUMONE TDI | C3: =IFERROR(VLOOKUP('Requête 052'!$A2,'Requête 052'!$A$1:$F$2000,3,FALSE),"") -> 43818 | D3: =IFERROR(VLOOKUP('Requête 052'!$A2,'Requête 052'!$A$1:$F$2000,4,FALSE),"") -> PAPIERS | E3: =IFERROR(VLOOKUP('Requête 052'!$A2,'Requête 052'!$A$1:$F$2000,5,FALSE),"") -> DECHETS INDUSTRIELS BANALS | F3: =IFERROR(VLOOKUP('Requête 052'!$A2,'Requête 052'!$A$1:$F$2000,6,FALSE),"") -> 2.56 | G3: =IFERROR(VLOOKUP(A3,'Fichier source CGECP'!$A$1:$F$1259,1,FALSE),"") | H3: =IFERROR(VLOOKUP(A3,'Fichier source CGECP'!$A$1:$F$1259,2,FALSE),"") | I3: =IFERROR(VLOOKUP(A3,'Fichier source CGECP'!$A$1:$F$1259,3,FALSE),"") | J3: =IFERROR(VLOOKUP(A3,'Fichier source CGECP'!$A$1:$F$1259,4,FALSE),"") | K3: =IFERROR(VLOOKUP(A3,'Fichier source CGECP'!$A$1:$F$1259,5,FALSE),"") | L3: =IFERROR(IF(COUNTIFS($A2:$A$3,$A3,$B2:$B$3,$B3,$C2:$C$3,$C3,$D2:$D$3,$D3,$E2:$E$3,$E3,$F2:$F$3,$F3)>0,"",VLOOKUP(A3,'Fichier source CGECP'!$A$1:$F$1259,6,FALSE)),"") | M3: =IFERROR(F3-L3,"") | N3: =IFERROR(IF(SEARCH(H3,B3,1),"Ok","Ecart"),"") -> Ok | O3: =IFERROR(IF(E3=K3,"Ok","Ecart"),"") -> Ecart | P3: =IFERROR(IF(M3>=0,"Ok","Ecart"),"") -> Ok | Q3: =IFERROR(IF(OR(P3="Ecart",O3="Ecart",N3="Ecart"),"Ecart","Ok"),"") -> Ecart
A4: =IFERROR(VLOOKUP('Requête 052'!$A2,'Requête 052'!$A$1:$F$2000,1,FALSE),"") -> 640 | B4: =IFERROR(VLOOKUP('Requête 052'!$A2,'Requête 052'!$A$1:$F$2000,2,FALSE),"") -> CGECP ST OUEN L AUMONE TDI | C4: =IFERROR(VLOOKUP('Requête 052'!$A2,'Requête 052'!$A$1:$F$2000,3,FALSE),"") -> 43818 | D4: =IFERROR(VLOOKUP('Requête 052'!$A2,'Requête 052'!$A$1:$F$2000,4,FALSE),"") -> PAPIERS | E4: =IFERROR(VLOOKUP('Requête 052'!$A2,'Requête 052'!$A$1:$F$2000,5,FALSE),"") -> DECHETS INDUSTRIELS BANALS | F4: =IFERROR(VLOOKUP('Requête 052'!$A2,'Requête 052'!$A$1:$F$2000,6,FALSE),"") -> 2.56 | G4: =IFERROR(VLOOKUP(A4,'Fichier source CGECP'!$A$1:$F$1259,1,FALSE),"") | H4: =IFERROR(VLOOKUP(A4,'Fichier source CGECP'!$A$1:$F$1259,2,FALSE),"") | I4: =IFERROR(VLOOKUP(A4,'Fichier source CGECP'!$A$1:$F$1259,3,FALSE),"") | J4: =IFERROR(VLOOKUP(A4,'Fichier source CGECP'!$A$1:$F$1259,4,FALSE),"") | K4: =IFERROR(VLOOKUP(A4,'Fichier source CGECP'!$A$1:$F$1259,5,FALSE),"") | L4: =IFERROR(IF(COUNTIFS($A3:$A$3,$A4,$B3:$B$3,$B4,$C3:$C$3,$C4,$D3:$D$3,$D4,$E3:$E$3,$E4,$F3:$F$3,$F4)>0,"",VLOOKUP(A4,'Fichier source CGECP'!$A$1:$F$1259,6,FALSE)),"") | M4: =IFERROR(F4-L4,"") | N4: =IFERROR(IF(SEARCH(H4,B4,1),"Ok","Ecart"),"") -> Ok | O4: =IFERROR(IF(E4=K4,"Ok","Ecart"),"") -> Ecart | P4: =IFERROR(IF(M4>=0,"Ok","Ecart"),"") -> Ok | Q4: =IFERROR(IF(OR(P4="Ecart",O4="Ecart",N4="Ecart"),"Ecart","Ok"),"") -> Ecart
A5: =IFERROR(VLOOKUP('Requête 052'!$A3,'Requête 052'!$A$1:$F$2000,1,FALSE),"") -> 3511 | B5: =IFERROR(VLOOKUP('Requête 052'!$A3,'Requête 052'!$A$1:$F$2000,2,FALSE),"") -> CGECP ST OUEN L AUMONE DVBIODIV | C5: =IFERROR(VLOOKUP('Requête 052'!$A3,'Requête 052'!$A$1:$F$2000,3,FALSE),"") -> 43800 | D5: =IFERROR(VLOOKUP('Requête 052'!$A3,'Requête 052'!$A$1:$F$2000,4,FALSE),"") -> DECHETS VERTS EN MELANGE | E5: =IFERROR(VLOOKUP('Requête 052'!$A3,'Requête 052'!$A$1:$F$2000,5,FALSE),"") -> DECHETS VERTS EN MELANGE | F5: =IFERROR(VLOOKUP('Requête 052'!$A3,'Requête 052'!$A$1:$F$2000,6,FALSE),"") -> 0.24 | G5: =IFERROR(VLOOKUP(A5,'Fichier source CGECP'!$A$1:$F$1259,1,FALSE),"") | H5: =IFERROR(VLOOKUP(A5,'Fichier source CGECP'!$A$1:$F$1259,2,FALSE),"") | I5: =IFERROR(VLOOKUP(A5,'Fichier source CGECP'!$A$1:$F$1259,3,FALSE),"") | J5: =IFERROR(VLOOKUP(A5,'Fichier source CGECP'!$A$1:$F$1259,4,FALSE),"") | K5: =IFERROR(VLOOKUP(A5,'Fichier source CGECP'!$A$1:$F$1259,5,FALSE),"") | L5: =IFERROR(IF(COUNTIFS($A$3:$A4,$A5,$B$3:$B4,$B5,$C$3:$C4,$C5,$D$3:$D4,$D5,$E$3:$E4,$E5,$F$3:$F4,$F5)>0,"",VLOOKUP(A5,'Fichier source CGECP'!$A$1:$F$1259,6,FALSE)),"") | M5: =IFERROR(F5-L5,"") | N5: =IFERROR(IF(SEARCH(H5,B5,1),"Ok","Ecart"),"") -> Ok | O5: =IFERROR(IF(E5=K5,"Ok","Ecart"),"") -> Ecart | P5: =IFERROR(IF(M5>=0,"Ok","Ecart"),"") -> Ok | Q5: =IFERROR(IF(OR(P5="Ecart",O5="Ecart",N5="Ecart"),"Ecart","Ok"),"") -> Ecart
A6: =IFERROR(VLOOKUP('Requête 052'!$A5,'Requête 052'!$A$1:$F$2000,1,FALSE),"") -> 3515 | B6: =IFERROR(VLOOKUP('Requête 052'!$A5,'Requête 052'!$A$1:$F$2000,2,FALSE),"") -> CGECP ST OUEN L AUMONE TDI | C6: =IFERROR(VLOOKUP('Requête 052'!$A5,'Requête 052'!$A$1:$F$2000,3,FALSE),"") -> 43800 | D6: =IFERROR(VLOOKUP('Requête 052'!$A5,'Requête 052'!$A$1:$F$2000,4,FALSE),"") -> GRAVATS | E6: =IFERROR(VLOOKUP('Requête 052'!$A5,'Requête 052'!$A$1:$F$2000,5,FALSE),"") -> GRAVATS | F6: =IFERROR(VLOOKUP('Requête 052'!$A5,'Requête 052'!$A$1:$F$2000,6,FALSE),"") -> 1.76 | G6: =IFERROR(VLOOKUP(A6,'Fichier source CGECP'!$A$1:$F$1259,1,FALSE),"") | H6: =IFERROR(VLOOKUP(A6,'Fichier source CGECP'!$A$1:$F$1259,2,FALSE),"") | I6: =IFERROR(VLOOKUP(A6,'Fichier source CGECP'!$A$1:$F$1259,3,FALSE),"") | J6: =IFERROR(VLOOKUP(A6,'Fichier source CGECP'!$A$1:$F$1259,4,FALSE),"") | K6: =IFERROR(VLOOKUP(A6,'Fichier source CGECP'!$A$1:$F$1259,5,FALSE),"") | L6: =IFERROR(IF(COUNTIFS($A$3:$A5,$A6,$B$3:$B5,$B6,$C$3:$C5,$C6,$D$3:$D5,$D6,$E$3:$E5,$E6,$F$3:$F5,$F6)>0,"",VLOOKUP(A6,'Fichier source CGECP'!$A$1:$F$1259,6,FALSE)),"") | M6: =IFERROR(F6-L6,"") | N6: =IFERROR(IF(SEARCH(H6,B6,1),"Ok","Ecart"),"") -> Ok | O6: =IFERROR(IF(E6=K6,"Ok","Ecart"),"") -> Ecart | P6: =IFERROR(IF(M6>=0,"Ok","Ecart"),"") -> Ok | Q6: =IFERROR(IF(OR(P6="Ecart",O6="Ecart",N6="Ecart"),"Ecart","Ok"),"") -> Ecart
A7: =IFERROR(VLOOKUP('Requête 052'!$A6,'Requête 052'!$A$1:$F$2000,1,FALSE),"") -> 3519 | B7: =IFERROR(VLOOKUP('Requête 052'!$A6,'Requête 052'!$A$1:$F$2000,2,FALSE),"") -> CGECP ST OUEN L AUMONE TDI | C7: =IFERROR(VLOOKUP('Requête 052'!$A6,'Requête 052'!$A$1:$F$2000,3,FALSE),"") -> 43800 | D7: =IFERROR(VLOOKUP('Requête 052'!$A6,'Requête 052'!$A$1:$F$2000,4,FALSE),"") -> ENCOMBRANTS | E7: =IFERROR(VLOOKUP('Requête 052'!$A6,'Requête 052'!$A$1:$F$2000,5,FALSE),"") -> ENCOMBRANTS | F7: =IFERROR(VLOOKUP('Requête 052'!$A6,'Requête 052'!$A$1:$F$2000,6,FALSE),"") -> 3.44 | G7: =IFERROR(VLOOKUP(A7,'Fichier source CGECP'!$A$1:$F$1259,1,FALSE),"") | H7: =IFERROR(VLOOKUP(A7,'Fichier source CGECP'!$A$1:$F$1259,2,FALSE),"") | I7: =IFERROR(VLOOKUP(A7,'Fichier source CGECP'!$A$1:$F$1259,3,FALSE),"") | J7: =IFERROR(VLOOKUP(A7,'Fichier source CGECP'!$A$1:$F$1259,4,FALSE),"") | K7: =IFERROR(VLOOKUP(A7,'Fichier source CGECP'!$A$1:$F$1259,5,FALSE),"") | L7: =IFERROR(IF(COUNTIFS($A$3:$A6,$A7,$B$3:$B6,$B7,$C$3:$C6,$C7,$D$3:$D6,$D7,$E$3:$E6,$E7,$F$3:$F6,$F7)>0,"",VLOOKUP(A7,'Fichier source CGECP'!$A$1:$F$1259,6,FALSE)),"") | M7: =IFERROR(F7-L7,"") | N7: =IFERROR(IF(SEARCH(H7,B7,1),"Ok","Ecart"),"") -> Ok | O7: =IFERROR(IF(E7=K7,"Ok","Ecart"),"") -> Ecart | P7: =IFERROR(IF(M7>=0,"Ok","Ecart"),"") -> Ok | Q7: =IFERROR(IF(OR(P7="Ecart",O7="Ecart",N7="Ecart"),"Ecart","Ok"),"") -> Ecart
A8: =IFERROR(VLOOKUP('Requête 052'!$A7,'Requête 052'!$A$1:$F$2000,1,FALSE),"") -> 3521 | B8: =IFERROR(VLOOKUP('Requête 052'!$A7,'Requête 052'!$A$1:$F$2000,2,FALSE),"") -> CGECP ST OUEN L AUMONE TDI | C8: =IFERROR(VLOOKUP('Requête 052'!$A7,'Requête 052'!$A$1:$F$2000,3,FALSE),"") -> 43800 | D8: =IFERROR(VLOOKUP('Requête 052'!$A7,'Requête 052'!$A$1:$F$2000,4,FALSE),"") -> ENCOMBRANTS | E8: =IFERROR(VLOOKUP('Requête 052'!$A7,'Requête 052'!$A$1:$F$2000,5,FALSE),"") -> ENCOMBRANTS | F8: =IFERROR(VLOOKUP('Requête 052'!$A7,'Requête 052'!$A$1:$F$2000,6,FALSE),"") -> 5.32 | G8: =IFERROR(VLOOKUP(A8,'Fichier source CGECP'!$A$1:$F$1259,1,FALSE),"") | H8: =IFERROR(VLOOKUP(A8,'Fichier source CGECP'!$A$1:$F$1259,2,FALSE),"") | I8: =IFERROR(VLOOKUP(A8,'Fichier source CGECP'!$A$1:$F$1259,3,FALSE),"") | J8: =IFERROR(VLOOKUP(A8,'Fichier source CGECP'!$A$1:$F$1259,4,FALSE),"") | K8: =IFERROR(VLOOKUP(A8,'Fichier source CGECP'!$A$1:$F$1259,5,FALSE),"") | L8: =IFERROR(IF(COUNTIFS($A$3:$A7,$A8,$B$3:$B7,$B8,$C$3:$C7,$C8,$D$3:$D7,$D8,$E$3:$E7,$E8,$F$3:$F7,$F8)>0,"",VLOOKUP(A8,'Fichier source CGECP'!$A$1:$F$1259,6,FALSE)),"") | M8: =IFERROR(F8-L8,"") | N8: =IFERROR(IF(SEARCH(H8,B8,1),"Ok","Ecart"),"") -> Ok | O8: =IFERROR(IF(E8=K8,"Ok","Ecart"),"") -> Ecart | P8: =IFERROR(IF(M8>=0,"Ok","Ecart"),"") -> Ok | Q8: =IFERROR(IF(OR(P8="Ecart",O8="Ecart",N8="Ecart"),"Ecart","Ok"),"") -> Ecart
A9: =IFERROR(VLOOKUP('Requête 052'!$A8,'Requête 052'!$A$1:$F$2000,1,FALSE),"") -> 3523 | B9: =IFERROR(VLOOKUP('Requête 052'!$A8,'Requête 052'!$A$1:$F$2000,2,FALSE),"") -> CGECP ST OUEN L AUMONE TDI | C9: =IFERROR(VLOOKUP('Requête 052'!$A8,'Requête 052'!$A$1:$F$2000,3,FALSE),"") -> 43800 | D9: =IFERROR(VLOOKUP('Requête 052'!$A8,'Requête 052'!$A$1:$F$2000,4,FALSE),"") -> ENCOMBRANTS | E9: =IFERROR(VLOOKUP('Requête 052'!$A8,'Requête 052'!$A$1:$F$2000,5,FALSE),"") -> ENCOMBRANTS | F9: =IFERROR(VLOOKUP('Requête 052'!$A8,'Requête 052'!$A$1:$F$2000,6,FALSE),"") -> 2.82 | G9: =IFERROR(VLOOKUP(A9,'Fichier source CGECP'!$A$1:$F$1259,1,FALSE),"") | H9: =IFERROR(VLOOKUP(A9,'Fichier source CGECP'!$A$1:$F$1259,2,FALSE),"") | I9: =IFERROR(VLOOKUP(A9,'Fichier source CGECP'!$A$1:$F$1259,3,FALSE),"") | J9: =IFERROR(VLOOKUP(A9,'Fichier source CGECP'!$A$1:$F$1259,4,FALSE),"") | K9: =IFERROR(VLOOKUP(A9,'Fichier source CGECP'!$A$1:$F$1259,5,FALSE),"") | L9: =IFERROR(IF(COUNTIFS($A$3:$A8,$A9,$B$3:$B8,$B9,$C$3:$C8,$C9,$D$3:$D8,$D9,$E$3:$E8,$E9,$F$3:$F8,$F9)>0,"",VLOOKUP(A9,'Fichier source CGECP'!$A$1:$F$1259,6,FALSE)),"") | M9: =IFERROR(F9-L9,"") | N9: =IFERROR(IF(SEARCH(H9,B9,1),"Ok","Ecart"),"") -> Ok | O9: =IFERROR(IF(E9=K9,"Ok","Ecart"),"") -> Ecart | P9: =IFERROR(IF(M9>=0,"Ok","Ecart"),"") -> Ok | Q9: =IFERROR(IF(OR(P9="Ecart",O9="Ecart",N9="Ecart"),"Ecart","Ok"),"") -> Ecart
A10: =IFERROR(VLOOKUP('Requête 052'!$A9,'Requête 052'!$A$1:$F$2000,1,FALSE),"") -> 3525 | B10: =IFERROR(VLOOKUP('Requête 052'!$A9,'Requête 052'!$A$1:$F$2000,2,FALSE),"") -> CGECP ST OUEN L AUMONE TDI | C10: =IFERROR(VLOOKUP('Requête 052'!$A9,'Requête 052'!$A$1:$F$2000,3,FALSE),"") -> 43800 | D10: =IFERROR(VLOOKUP('Requête 052'!$A9,'Requête 052'!$A$1:$F$2000,4,FALSE),"") -> ENCOMBRANTS | E10: =IFERROR(VLOOKUP('Requête 052'!$A9,'Requête 052'!$A$1:$F$2000,5,FALSE),"") -> ENCOMBRANTS | F10: =IFERROR(VLOOKUP('Requête 052'!$A9,'Requête 052'!$A$1:$F$2000,6,FALSE),"") -> 3.14 | G10: =IFERROR(VLOOKUP(A10,'Fichier source CGECP'!$A$1:$F$1259,1,FALSE),"") | H10: =IFERROR(VLOOKUP(A10,'Fichier source CGECP'!$A$1:$F$1259,2,FALSE),"") | I10: =IFERROR(VLOOKUP(A10,'Fichier source CGECP'!$A$1:$F$1259,3,FALSE),"") | J10: =IFERROR(VLOOKUP(A10,'Fichier source CGECP'!$A$1:$F$1259,4,FALSE),"") | K10: =IFERROR(VLOOKUP(A10,'Fichier source CGECP'!$A$1:$F$1259,5,FALSE),"") | L10: =IFERROR(IF(COUNTIFS($A$3:$A9,$A10,$B$3:$B9,$B10,$C$3:$C9,$C10,$D$3:$D9,$D10,$E$3:$E9,$E10,$F$3:$F9,$F10)>0,"",VLOOKUP(A10,'Fichier source CGECP'!$A$1:$F$1259,6,FALSE)),"") | M10: =IFERROR(F10-L10,"") | N10: =IFERROR(IF(SEARCH(H10,B10,1),"Ok","Ecart"),"") -> Ok | O10: =IFERROR(IF(E10=K10,"Ok","Ecart"),"") -> Ecart | P10: =IFERROR(IF(M10>=0,"Ok","Ecart"),"") -> Ok | Q10: =IFERROR(IF(OR(P10="Ecart",O10="Ecart",N10="Ecart"),"Ecart","Ok"),"") -> Ecart
A11: =IFERROR(VLOOKUP('Requête 052'!$A10,'Requête 052'!$A$1:$F$2000,1,FALSE),"") -> 3526 | B11: =IFERROR(VLOOKUP('Requête 052'!$A10,'Requête 052'!$A$1:$F$2000,2,FALSE),"") -> CGECP ST OUEN L AUMONE TDI | C11: =IFERROR(VLOOKUP('Requête 052'!$A10,'Requête 052'!$A$1:$F$2000,3,FALSE),"") -> 43800 | D11: =IFERROR(VLOOKUP('Requête 052'!$A10,'Requête 052'!$A$1:$F$2000,4,FALSE),"") -> GRAVATS EN MELANGE | E11: =IFERROR(VLOOKUP('Requête 052'!$A10,'Requête 052'!$A$1:$F$2000,5,FALSE),"") -> GRAVATS EN MELANGE | F11: =IFERROR(VLOOKUP('Requête 052'!$A10,'Requête 052'!$A$1:$F$2000,6,FALSE),"") -> 2.48 | G11: =IFERROR(VLOOKUP(A11,'Fichier source CGECP'!$A$1:$F$1259,1,FALSE),"") | H11: =IFERROR(VLOOKUP(A11,'Fichier source CGECP'!$A$1:$F$1259,2,FALSE),"") | I11: =IFERROR(VLOOKUP(A11,'Fichier source CGECP'!$A$1:$F$1259,3,FALSE),"") | J11: =IFERROR(VLOOKUP(A11,'Fichier source CGECP'!$A$1:$F$1259,4,FALSE),"") | K11: =IFERROR(VLOOKUP(A11,'Fichier source CGECP'!$A$1:$F$1259,5,FALSE),"") | L11: =IFERROR(IF(COUNTIFS($A$3:$A10,$A11,$B$3:$B10,$B11,$C$3:$C10,$C11,$D$3:$D10,$D11,$E$3:$E10,$E11,$F$3:$F10,$F11)>0,"",VLOOKUP(A11,'Fichier source CGECP'!$A$1:$F$1259,6,FALSE)),"") | M11: =IFERROR(F11-L11,"") | N11: =IFERROR(IF(SEARCH(H11,B11,1),"Ok","Ecart"),"") -> Ok | O11: =IFERROR(IF(E11=K11,"Ok","Ecart"),"") -> Ecart | P11: =IFERROR(IF(M11>=0,"Ok","Ecart"),"") -> Ok | Q11: =IFERROR(IF(OR(P11="Ecart",O11="Ecart",N11="Ecart"),"Ecart","Ok"),"") -> Ecart
A12: =IFERROR(VLOOKUP('Requête 052'!$A11,'Requête 052'!$A$1:$F$2000,1,FALSE),"") -> 3528 | B12: =IFERROR(VLOOKUP('Requête 052'!$A11,'Requête 052'!$A$1:$F$2000,2,FALSE),"") -> CGECP ST OUEN L AUMONE TDI | C12: =IFERROR(VLOOKUP('Requête 052'!$A11,'Requête 052'!$A$1:$F$2000,3,FALSE),"") -> 43800 | D12: =IFERROR(VLOOKUP('Requête 052'!$A11,'Requête 052'!$A$1:$F$2000,4,FALSE),"") -> ENCOMBRANTS | E12: =IFERROR(VLOOKUP('Requête 052'!$A11,'Requête 052'!$A$1:$F$2000,5,FALSE),"") -> ENCOMBRANTS | F12: =IFERROR(VLOOKUP('Requête 052'!$A11,'Requête 052'!$A$1:$F$2000,6,FALSE),"") -> 6.74 | G12: =IFERROR(VLOOKUP(A12,'Fichier source CGECP'!$A$1:$F$1259,1,FALSE),"") | H12: =IFERROR(VLOOKUP(A12,'Fichier source CGECP'!$A$1:$F$1259,2,FALSE),"") | I12: =IFERROR(VLOOKUP(A12,'Fichier source CGECP'!$A$1:$F$1259,3,FALSE),"") | J12: =IFERROR(VLOOKUP(A12,'Fichier source CGECP'!$A$1:$F$1259,4,FALSE),"") | K12: =IFERROR(VLOOKUP(A12,'Fichier source CGECP'!$A$1:$F$1259,5,FALSE),"") | L12: =IFERROR(IF(COUNTIFS($A$3:$A11,$A12,$B$3:$B11,$B12,$C$3:$C11,$C12,$D$3:$D11,$D12,$E$3:$E11,$E12,$F$3:$F11,$F12)>0,"",VLOOKUP(A12,'Fichier source CGECP'!$A$1:$F$1259,6,FALSE)),"") | M12: =IFERROR(F12-L12,"") | N12: =IFERROR(IF(SEARCH(H12,B12,1),"Ok","Ecart"),"") -> Ok | O12: =IFERROR(IF(E12=K12,"Ok","Ecart"),"") -> Ecart | P12: =IFERROR(IF(M12>=0,"Ok","Ecart"),"") -> Ok | Q12: =IFERROR(IF(OR(P12="Ecart",O12="Ecart",N12="Ecart"),"Ecart","Ok"),"") -> Ecart
A13: =IFERROR(VLOOKUP('Requête 052'!$A12,'Requête 052'!$A$1:$F$2000,1,FALSE),"") -> 3529 | B13: =IFERROR(VLOOKUP('Requête 052'!$A12,'Requête 052'!$A$1:$F$2000,2,FALSE),"") -> CGECP ST OUEN L AUMONE DVBIODIV | C13: =IFERROR(VLOOKUP('Requête 052'!$A12,'Requête 052'!$A$1:$F$2000,3,FALSE),"") -> 43800 | D13: =IFERROR(VLOOKUP('Requête 052'!$A12,'Requête 052'!$A$1:$F$2000,4,FALSE),"") -> DECHETS VERTS EN MELANGE | E13: =IFERROR(VLOOKUP('Requête 052'!$A12,'Requête 052'!$A$1:$F$2000,5,FALSE),"") -> DECHETS VERTS EN MELANGE | F13: =IFERROR(VLOOKUP('Requête 052'!$A12,'Requête 052'!$A$1:$F$2000,6,FALSE),"") -> 7.86 | G13: =IFERROR(VLOOKUP(A13,'Fichier source CGECP'!$A$1:$F$1259,1,FALSE),"") | H13: =IFERROR(VLOOKUP(A13,'Fichier source CGECP'!$A$1:$F$1259,2,FALSE),"") | I13: =IFERROR(VLOOKUP(A13,'Fichier source CGECP'!$A$1:$F$1259,3,FALSE),"") | J13: =IFERROR(VLOOKUP(A13,'Fichier source CGECP'!$A$1:$F$1259,4,FALSE),"") | K13: =IFERROR(VLOOKUP(A13,'Fichier source CGECP'!$A$1:$F$1259,5,FALSE),"") | L13: =IFERROR(IF(COUNTIFS($A$3:$A12,$A13,$B$3:$B12,$B13,$C$3:$C12,$C13,$D$3:$D12,$D13,$E$3:$E12,$E13,$F$3:$F12,$F13)>0,"",VLOOKUP(A13,'Fichier source CGECP'!$A$1:$F$1259,6,FALSE)),"") | M13: =IFERROR(F13-L13,"") | N13: =IFERROR(IF(SEARCH(H13,B13,1),"Ok","Ecart"),"") -> Ok | O13: =IFERROR(IF(E13=K13,"Ok","Ecart"),"") -> Ecart | P13: =IFERROR(IF(M13>=0,"Ok","Ecart"),"") -> Ok | Q13: =IFERROR(IF(OR(P13="Ecart",O13="Ecart",N13="Ecart"),"Ecart","Ok"),"") -> Ecart
A14: =IFERROR(VLOOKUP('Requête 052'!$A13,'Requête 052'!$A$1:$F$2000,1,FALSE),"") -> 3530 | B14: =IFERROR(VLOOKUP('Requête 052'!$A13,'Requête 052'!$A$1:$F$2000,2,FALSE),"") -> CGECP ST OUEN L AUMONE TDI | C14: =IFERROR(VLOOKUP('Requête 052'!$A13,'Requête 052'!$A$1:$F$2000,3,FALSE),"") -> 43800 | D14: =IFERROR(VLOOKUP('Requête 052'!$A13,'Requête 052'!$A$1:$F$2000,4,FALSE),"") -> ENCOMBRANTS | E14: =IFERROR(VLOOKUP('Requête 052'!$A13,'Requête 052'!$A$1:$F$2000,5,FALSE),"") -> ENCOMBRANTS | F14: =IFERROR(VLOOKUP('Requête 052'!$A13,'Requête 052'!$A$1:$F$2000,6,FALSE),"") -> 3.12 | G14: =IFERROR(VLOOKUP(A14,'Fichier source CGECP'!$A$1:$F$1259,1,FALSE),"") | H14: =IFERROR(VLOOKUP(A14,'Fichier source CGECP'!$A$1:$F$1259,2,FALSE),"") | I14: =IFERROR(VLOOKUP(A14,'Fichier source CGECP'!$A$1:$F$1259,3,FALSE),"") | J14: =IFERROR(VLOOKUP(A14,'Fichier source CGECP'!$A$1:$F$1259,4,FALSE),"") | K14: =IFERROR(VLOOKUP(A14,'Fichier source CGECP'!$A$1:$F$1259,5,FALSE),"") | L14: =IFERROR(IF(COUNTIFS($A$3:$A13,$A14,$B$3:$B13,$B14,$C$3:$C13,$C14,$D$3:$D13,$D14,$E$3:$E13,$E14,$F$3:$F13,$F14)>0,"",VLOOKUP(A14,'Fichier source CGECP'!$A$1:$F$1259,6,FALSE)),"") | M14: =IFERROR(F14-L14,"") | N14: =IFERROR(IF(SEARCH(H14,B14,1),"Ok","Ecart"),"") -> Ok | O14: =IFERROR(IF(E14=K14,"Ok","Ecart"),"") -> Ecart | P14: =IFERROR(IF(M14>=0,"Ok","Ecart"),"") -> Ok | Q14: =IFERROR(IF(OR(P14="Ecart",O14="Ecart",N14="Ecart"),"Ecart","Ok"),"") -> Ecart
A15: =IFERROR(VLOOKUP('Requête 052'!$A14,'Requête 052'!$A$1:$F$2000,1,FALSE),"") -> 3533 | B15: =IFERROR(VLOOKUP('Requête 052'!$A14,'Requête 052'!$A$1:$F$2000,2,FALSE),"") -> CGECP ST OUEN L AUMONE TDI | C15: =IFERROR(VLOOKUP('Requête 052'!$A14,'Requête 052'!$A$1:$F$2000,3,FALSE),"") -> 43800 | D15: =IFERROR(VLOOKUP('Requête 052'!$A14,'Requête 052'!$A$1:$F$2000,4,FALSE),"") -> ENCOMBRANTS | E15: =IFERROR(VLOOKUP('Requête 052'!$A14,'Requête 052'!$A$1:$F$2000,5,FALSE),"") -> DECHETS VERTS EN MELANGE | F15: =IFERROR(VLOOKUP('Requête 052'!$A14,'Requête 052'!$A$1:$F$2000,6,FALSE),"") -> 2.24 | G15: =IFERROR(VLOOKUP(A15,'Fichier source CGECP'!$A$1:$F$1259,1,FALSE),"") | H15: =IFERROR(VLOOKUP(A15,'Fichier source CGECP'!$A$1:$F$1259,2,FALSE),"") | I15: =IFERROR(VLOOKUP(A15,'Fichier source CGECP'!$A$1:$F$1259,3,FALSE),"") | J15: =IFERROR(VLOOKUP(A15,'Fichier source CGECP'!$A$1:$F$1259,4,FALSE),"") | K15: =IFERROR(VLOOKUP(A15,'Fichier source CGECP'!$A$1:$F$1259,5,FALSE),"") | L15: =IFERROR(IF(COUNTIFS($A$3:$A14,$A15,$B$3:$B14,$B15,$C$3:$C14,$C15,$D$3:$D14,$D15,$E$3:$E14,$E15,$F$3:$F14,$F15)>0,"",VLOOKUP(A15,'Fichier source CGECP'!$A$1:$F$1259,6,FALSE)),"") | M15: =IFERROR(F15-L15,"") | N15: =IFERROR(IF(SEARCH(H15,B15,1),"Ok","Ecart"),"") -> Ok | O15: =IFERROR(IF(E15=K15,"Ok","Ecart"),"") -> Ecart | P15: =IFERROR(IF(M15>=0,"Ok","Ecart"),"") -> Ok | Q15: =IFERROR(IF(OR(P15="Ecart",O15="Ecart",N15="Ecart"),"Ecart","Ok"),"") -> Ecart
A16: =IFERROR(VLOOKUP('Requête 052'!$A15,'Requête 052'!$A$1:$F$2000,1,FALSE),"") -> 3534 | B16: =IFERROR(VLOOKUP('Requête 052'!$A15,'Requête 052'!$A$1:$F$2000,2,FALSE),"") -> CGECP ST OUEN L AUMONE TDI | C16: =IFERROR(VLOOKUP('Requête 052'!$A15,'Requête 052'!$A$1:$F$2000,3,FALSE),"") -> 43800 | D16: =IFERROR(VLOOKUP('Requête 052'!$A15,'Requête 052'!$A$1:$F$2000,4,FALSE),"") -> ENCOMBRANTS | E16: =IFERROR(VLOOKUP('Requête 052'!$A15,'Requête 052'!$A$1:$F$2000,5,FALSE),"") -> ENCOMBRANTS | F16: =IFERROR(VLOOKUP('Requête 052'!$A15,'Requête 052'!$A$1:$F$2000,6,FALSE),"") -> 3.66 | G16: =IFERROR(VLOOKUP(A16,'Fichier source CGECP'!$A$1:$F$1259,1,FALSE),"") | H16: =IFERROR(VLOOKUP(A16,'Fichier source CGECP'!$A$1:$F$1259,2,FALSE),"") | I16: =IFERROR(VLOOKUP(A16,'Fichier source CGECP'!$A$1:$F$1259,3,FALSE),"") | J16: =IFERROR(VLOOKUP(A16,'Fichier source CGECP'!$A$1:$F$1259,4,FALSE),"") | K16: =IFERROR(VLOOKUP(A16,'Fichier source CGECP'!$A$1:$F$1259,5,FALSE),"") | L16: =IFERROR(IF(COUNTIFS($A$3:$A15,$A16,$B$3:$B15,$B16,$C$3:$C15,$C16,$D$3:$D15,$D16,$E$3:$E15,$E16,$F$3:$F15,$F16)>0,"",VLOOKUP(A16,'Fichier source CGECP'!$A$1:$F$1259,6,FALSE)),"") | M16: =IFERROR(F16-L16,"") | N16: =IFERROR(IF(SEARCH(H16,B16,1),"Ok","Ecart"),"") -> Ok | O16: =IFERROR(IF(E16=K16,"Ok","Ecart"),"") -> Ecart | P16: =IFERROR(IF(M16>=0,"Ok","Ecart"),"") -> Ok | Q16: =IFERROR(IF(OR(P16="Ecart",O16="Ecart",N16="Ecart"),"Ecart","Ok"),"") -> Ecart
A17: =IFERROR(VLOOKUP('Requête 052'!$A16,'Requête 052'!$A$1:$F$2000,1,FALSE),"") -> 3535 | B17: =IFERROR(VLOOKUP('Requête 052'!$A16,'Requête 052'!$A$1:$F$2000,2,FALSE),"") -> CGECP ST OUEN L AUMONE TDI | C17: =IFERROR(VLOOKUP('Requête 052'!$A16,'Requête 052'!$A$1:$F$2000,3,FALSE),"") -> 43801 | D17: =IFERROR(VLOOKUP('Requête 052'!$A16,'Requête 052'!$A$1:$F$2000,4,FALSE),"") -> ORDURES MENAGERES | E17: =IFERROR(VLOOKUP('Requête 052'!$A16,'Requête 052'!$A$1:$F$2000,5,FALSE),"") -> ORDURES MENAGERES | F17: =IFERROR(VLOOKUP('Requête 052'!$A16,'Requête 052'!$A$1:$F$2000,6,FALSE),"") -> 3.04 | G17: =IFERROR(VLOOKUP(A17,'Fichier source CGECP'!$A$1:$F$1259,1,FALSE),"") -> 3535 | H17: =IFERROR(VLOOKUP(A17,'Fichier source CGECP'!$A$1:$F$1259,2,FALSE),"") -> CGECP | I17: =IFERROR(VLOOKUP(A17,'Fichier source CGECP'!$A$1:$F$1259,3,FALSE),"") -> 43801 | J17: =IFERROR(VLOOKUP(A17,'Fichier source CGECP'!$A$1:$F$1259,4,FALSE),"") -> 0 | K17: =IFERROR(VLOOKUP(A17,'Fichier source CGECP'!$A$1:$F$1259,5,FALSE),"") -> ORDURES MENAGERES | L17: =IFERROR(IF(COUNTIFS($A$3:$A16,$A17,$B$3:$B16,$B17,$C$3:$C16,$C17,$D$3:$D16,$D17,$E$3:$E16,$E17,$F$3:$F16,$F17)>0,"",VLOOKUP(A17,'Fichier source CGECP'!$A$1:$F$1259,6,FALSE)),"") -> 6.74 | M17: =IFERROR(F17-L17,"") -> -3.7 | N17: =IFERROR(IF(SEARCH(H17,B17,1),"Ok","Ecart"),"") -> Ok | O17: =IFERROR(IF(E17=K17,"Ok","Ecart"),"") -> Ok | P17: =IFERROR(IF(M17>=0,"Ok","Ecart"),"") -> Ecart | Q17: =IFERROR(IF(OR(P17="Ecart",O17="Ecart",N17="Ecart"),"Ecart","Ok"),"") -> Ecart
... A22: =IFERROR(VLOOKUP('Requête 052'!$A21,'Requête 052'!$A$1:$F$2000,1,FALSE),"") -> 3539 | B22: =IFERROR(VLOOKUP('Requête 052'!$A21,'Requête 052'!$A$1:$F$2000,2,FALSE),"") -> CGECP ST OUEN L AUMONE UVEND | C22: =IFERROR(VLOOKUP('Requête 052'!$A21,'Requête 052'!$A$1:$F$2000,3,FALSE),"") -> 43801 | D22: =IFERROR(VLOOKUP('Requête 052'!$A21,'Requête 052'!$A$1:$F$2000,4,FALSE),"") -> ORDURES MENAGERES | E22: =IFERROR(VLOOKUP('Requête 052'!$A21,'Requête 052'!$A$1:$F$2000,5,FALSE),"") -> ORDURES MENAGERES | F22: =IFERROR(VLOOKUP('Requête 052'!$A21,'Requête 052'!$A$1:$F$2000,6,FALSE),"") -> 5.6 | G22: =IFERROR(VLOOKUP(A22,'Fichier source CGECP'!$A$1:$F$1259,1,FALSE),"") -> 3539 | H22: =IFERROR(VLOOKUP(A22,'Fichier source CGECP'!$A$1:$F$1259,2,FALSE),"") -> CGECP | I22: =IFERROR(VLOOKUP(A22,'Fichier source CGECP'!$A$1:$F$1259,3,FALSE),"") -> 43801 | J22: =IFERROR(VLOOKUP(A22,'Fichier source CGECP'!$A$1:$F$1259,4,FALSE),"") -> MATIERE VALO EN MELANGE | K22: =IFERROR(VLOOKUP(A22,'Fichier source CGECP'!$A$1:$F$1259,5,FALSE),"") -> MATIERE VALO EN MELANGE | L22: =IFERROR(IF(COUNTIFS($A$3:$A21,$A22,$B$3:$B21,$B22,$C$3:$C21,$C22,$D$3:$D21,$D22,$E$3:$E21,$E22,$F$3:$F21,$F22)>0,"",VLOOKUP(A22,'Fichier source CGECP'!$A$1:$F$1259,6,FALSE)),"") -> 0.182 | M22: =IFERROR(F22-L22,"") -> 5.418 | N22: =IFERROR(IF(SEARCH(H22,B22,1),"Ok","Ecart"),"") -> Ok | O22: =IFERROR(IF(E22=K22,"Ok","Ecart"),"") -> Ecart | P22: =IFERROR(IF(M22>=0,"Ok","Ecart"),"") -> Ok | Q22: =IFERROR(IF(OR(P22="Ecart",O22="Ecart",N22="Ecart"),"Ecart","Ok"),"") -> Ecart
A23: =IFERROR(VLOOKUP('Requête 052'!$A21,'Requête 052'!$A$1:$F$2000,1,FALSE),"") -> 3539 | B23: =IFERROR(VLOOKUP('Requête 052'!$A21,'Requête 052'!$A$1:$F$2000,2,FALSE),"") -> CGECP ST OUEN L AUMONE UVEND | C23: =IFERROR(VLOOKUP('Requête 052'!$A21,'Requête 052'!$A$1:$F$2000,3,FALSE),"") -> 43801 | D23: =IFERROR(VLOOKUP('Requête 052'!$A21,'Requête 052'!$A$1:$F$2000,4,FALSE),"") -> ORDURES MENAGERES | E23: =IFERROR(VLOOKUP('Requête 052'!$A21,'Requête 052'!$A$1:$F$2000,5,FALSE),"") -> ORDURES MENAGERES | F23: =IFERROR(VLOOKUP('Requête 052'!$A21,'Requête 052'!$A$1:$F$2000,6,FALSE),"") -> 5.6 | G23: =IFERROR(VLOOKUP(A23,'Fichier source CGECP'!$A$1:$F$1259,1,FALSE),"") -> 3539 | H23: =IFERROR(VLOOKUP(A23,'Fichier source CGECP'!$A$1:$F$1259,2,FALSE),"") -> CGECP | I23: =IFERROR(VLOOKUP(A23,'Fichier source CGECP'!$A$1:$F$1259,3,FALSE),"") -> 43801 | J23: =IFERROR(VLOOKUP(A23,'Fichier source CGECP'!$A$1:$F$1259,4,FALSE),"") -> MATIERE VALO EN MELANGE | K23: =IFERROR(VLOOKUP(A23,'Fichier source CGECP'!$A$1:$F$1259,5,FALSE),"") -> MATIERE VALO EN MELANGE | L23: =IFERROR(IF(COUNTIFS($A$3:$A22,$A23,$B$3:$B22,$B23,$C$3:$C22,$C23,$D$3:$D22,$D23,$E$3:$E22,$E23,$F$3:$F22,$F23)>0,"",VLOOKUP(A23,'Fichier source CGECP'!$A$1:$F$1259,6,FALSE)),"") | M23: =IFERROR(F23-L23,"") | N23: =IFERROR(IF(SEARCH(H23,B23,1),"Ok","Ecart"),"") -> Ok | O23: =IFERROR(IF(E23=K23,"Ok","Ecart"),"") -> Ecart | P23: =IFERROR(IF(M23>=0,"Ok","Ecart"),"") -> Ok | Q23: =IFERROR(IF(OR(P23="Ecart",O23="Ecart",N23="Ecart"),"Ecart","Ok"),"") -> Ecart
A24: =IFERROR(VLOOKUP('Requête 052'!$A23,'Requête 052'!$A$1:$F$2000,1,FALSE),"") -> 3547 | B24: =IFERROR(VLOOKUP('Requête 052'!$A23,'Requête 052'!$A$1:$F$2000,2,FALSE),"") -> CGECP ST OUEN L AUMONE TDI | C24: =IFERROR(VLOOKUP('Requête 052'!$A23,'Requête 052'!$A$1:$F$2000,3,FALSE),"") -> 43801 | D24: =IFERROR(VLOOKUP('Requête 052'!$A23,'Requête 052'!$A$1:$F$2000,4,FALSE),"") -> ENCOMBRANTS | E24: =IFERROR(VLOOKUP('Requête 052'!$A23,'Requête 052'!$A$1:$F$2000,5,FALSE),"") -> ENCOMBRANTS | F24: =IFERROR(VLOOKUP('Requête 052'!$A23,'Requête 052'!$A$1:$F$2000,6,FALSE),"") -> 1.44 | G24: =IFERROR(VLOOKUP(A24,'Fichier source CGECP'!$A$1:$F$1259,1,FALSE),"") -> 3547 | H24: =IFERROR(VLOOKUP(A24,'Fichier source CGECP'!$A$1:$F$1259,2,FALSE),"") -> CGECP | I24: =IFERROR(VLOOKUP(A24,'Fichier source CGECP'!$A$1:$F$1259,3,FALSE),"") -> 43801 | J24: =IFERROR(VLOOKUP(A24,'Fichier source CGECP'!$A$1:$F$1259,4,FALSE),"") -> PE GRANDE SURFACE 90/10-PEGS 90/10 | K24: =IFERROR(VLOOKUP(A24,'Fichier source CGECP'!$A$1:$F$1259,5,FALSE),"") -> PE GRANDE SURFACE-PEGS | L24: =IFERROR(IF(COUNTIFS($A$3:$A23,$A24,$B$3:$B23,$B24,$C$3:$C23,$C24,$D$3:$D23,$D24,$E$3:$E23,$E24,$F$3:$F23,$F24)>0,"",VLOOKUP(A24,'Fichier source CGECP'!$A$1:$F$1259,6,FALSE)),"") -> 2.68 | M24: =IFERROR(F24-L24,"") -> -1.24 | N24: =IFERROR(IF(SEARCH(H24,B24,1),"Ok","Ecart"),"") -> Ok | O24: =IFERROR(IF(E24=K24,"Ok","Ecart"),"") -> Ecart | P24: =IFERROR(IF(M24>=0,"Ok","Ecart"),"") -> Ecart | Q24: =IFERROR(IF(OR(P24="Ecart",O24="Ecart",N24="Ecart"),"Ecart","Ok"),"") -> Ecart
A25: =IFERROR(VLOOKUP('Requête 052'!$A24,'Requête 052'!$A$1:$F$2000,1,FALSE),"") -> 3550 | B25: =IFERROR(VLOOKUP('Requête 052'!$A24,'Requête 052'!$A$1:$F$2000,2,FALSE),"") -> CGECP ST OUEN L AUMONE TDI | C25: =IFERROR(VLOOKUP('Requête 052'!$A24,'Requête 052'!$A$1:$F$2000,3,FALSE),"") -> 43801 | D25: =IFERROR(VLOOKUP('Requête 052'!$A24,'Requête 052'!$A$1:$F$2000,4,FALSE),"") -> CARTONS DE DECHETTERIE - 1.04.00 | E25: =IFERROR(VLOOKUP('Requête 052'!$A24,'Requête 052'!$A$1:$F$2000,5,FALSE),"") -> MATIERE VALO EN MELANGE | F25: =IFERROR(VLOOKUP('Requête 052'!$A24,'Requête 052'!$A$1:$F$2000,6,FALSE),"") -> 2.14 | G25: =IFERROR(VLOOKUP(A25,'Fichier source CGECP'!$A$1:$F$1259,1,FALSE),"") | H25: =IFERROR(VLOOKUP(A25,'Fichier source CGECP'!$A$1:$F$1259,2,FALSE),"") | I25: =IFERROR(VLOOKUP(A25,'Fichier source CGECP'!$A$1:$F$1259,3,FALSE),"") | J25: =IFERROR(VLOOKUP(A25,'Fichier source CGECP'!$A$1:$F$1259,4,FALSE),"") | K25: =IFERROR(VLOOKUP(A25,'Fichier source CGECP'!$A$1:$F$1259,5,FALSE),"") | L25: =IFERROR(IF(COUNTIFS($A$3:$A24,$A25,$B$3:$B24,$B25,$C$3:$C24,$C25,$D$3:$D24,$D25,$E$3:$E24,$E25,$F$3:$F24,$F25)>0,"",VLOOKUP(A25,'Fichier source CGECP'!$A$1:$F$1259,6,FALSE)),"") | M25: =IFERROR(F25-L25,"") | N25: =IFERROR(IF(SEARCH(H25,B25,1),"Ok","Ecart"),"") -> Ok | O25: =IFERROR(IF(E25=K25,"Ok","Ecart"),"") -> Ecart | P25: =IFERROR(IF(M25>=0,"Ok","Ecart"),"") -> Ok | Q25: =IFERROR(IF(OR(P25="Ecart",O25="Ecart",N25="Ecart"),"Ecart","Ok"),"") -> Ecart
A26: =IFERROR(VLOOKUP('Requête 052'!$A24,'Requête 052'!$A$1:$F$2000,1,FALSE),"") -> 3550 | B26: =IFERROR(VLOOKUP('Requête 052'!$A24,'Requête 052'!$A$1:$F$2000,2,FALSE),"") -> CGECP ST OUEN L AUMONE TDI | C26: =IFERROR(VLOOKUP('Requête 052'!$A24,'Requête 052'!$A$1:$F$2000,3,FALSE),"") -> 43801 | D26: =IFERROR(VLOOKUP('Requête 052'!$A24,'Requête 052'!$A$1:$F$2000,4,FALSE),"") -> CARTONS DE DECHETTERIE - 1.04.00 | E26: =IFERROR(VLOOKUP('Requête 052'!$A24,'Requête 052'!$A$1:$F$2000,5,FALSE),"") -> MATIERE VALO EN MELANGE | F26: =IFERROR(VLOOKUP('Requête 052'!$A24,'Requête 052'!$A$1:$F$2000,6,FALSE),"") -> 2.14 | G26: =IFERROR(VLOOKUP(A26,'Fichier source CGECP'!$A$1:$F$1259,1,FALSE),"") | H26: =IFERROR(VLOOKUP(A26,'Fichier source CGECP'!$A$1:$F$1259,2,FALSE),"") | I26: =IFERROR(VLOOKUP(A26,'Fichier source CGECP'!$A$1:$F$1259,3,FALSE),"") | J26: =IFERROR(VLOOKUP(A26,'Fichier source CGECP'!$A$1:$F$1259,4,FALSE),"") | K26: =IFERROR(VLOOKUP(A26,'Fichier source CGECP'!$A$1:$F$1259,5,FALSE),"") | L26: =IFERROR(IF(COUNTIFS($A$3:$A25,$A26,$B$3:$B25,$B26,$C$3:$C25,$C26,$D$3:$D25,$D26,$E$3:$E25,$E26,$F$3:$F25,$F26)>0,"",VLOOKUP(A26,'Fichier source CGECP'!$A$1:$F$1259,6,FALSE)),"") | M26: =IFERROR(F26-L26,"") | N26: =IFERROR(IF(SEARCH(H26,B26,1),"Ok","Ecart"),"") -> Ok | O26: =IFERROR(IF(E26=K26,"Ok","Ecart"),"") -> Ecart | P26: =IFERROR(IF(M26>=0,"Ok","Ecart"),"") -> Ok | Q26: =IFERROR(IF(OR(P26="Ecart",O26="Ecart",N26="Ecart"),"Ecart","Ok"),"") -> Ecart
A27: =IFERROR(VLOOKUP('Requête 052'!$A26,'Requête 052'!$A$1:$F$2000,1,FALSE),"") -> 3561 | B27: =IFERROR(VLOOKUP('Requête 052'!$A26,'Requête 052'!$A$1:$F$2000,2,FALSE),"") -> CGECP ST OUEN L AUMONE UVEND | C27: =IFERROR(VLOOKUP('Requête 052'!$A26,'Requête 052'!$A$1:$F$2000,3,FALSE),"") -> 43801 | D27: =IFERROR(VLOOKUP('Requête 052'!$A26,'Requête 052'!$A$1:$F$2000,4,FALSE),"") -> REFUS DE TRI | E27: =IFERROR(VLOOKUP('Requête 052'!$A26,'Requête 052'!$A$1:$F$2000,5,FALSE),"") -> REFUS DE TRI | F27: =IFERROR(VLOOKUP('Requête 052'!$A26,'Requête 052'!$A$1:$F$2000,6,FALSE),"") -> 2.08 | G27: =IFERROR(VLOOKUP(A27,'Fichier source CGECP'!$A$1:$F$1259,1,FALSE),"") | H27: =IFERROR(VLOOKUP(A27,'Fichier source CGECP'!$A$1:$F$1259,2,FALSE),"") | I27: =IFERROR(VLOOKUP(A27,'Fichier source CGECP'!$A$1:$F$1259,3,FALSE),"") | J27: =IFERROR(VLOOKUP(A27,'Fichier source CGECP'!$A$1:$F$1259,4,FALSE),"") | K27: =IFERROR(VLOOKUP(A27,'Fichier source CGECP'!$A$1:$F$1259,5,FALSE),"") | L27: =IFERROR(IF(COUNTIFS($A$3:$A26,$A27,$B$3:$B26,$B27,$C$3:$C26,$C27,$D$3:$D26,$D27,$E$3:$E26,$E27,$F$3:$F26,$F27)>0,"",VLOOKUP(A27,'Fichier source CGECP'!$A$1:$F$1259,6,FALSE)),"") | M27: =IFERROR(F27-L27,"") | N27: =IFERROR(IF(SEARCH(H27,B27,1),"Ok","Ecart"),"") -> Ok | O27: =IFERROR(IF(E27=K27,"Ok","Ecart"),"") -> Ecart | P27: =IFERROR(IF(M27>=0,"Ok","Ecart"),"") -> Ok | Q27: =IFERROR(IF(OR(P27="Ecart",O27="Ecart",N27="Ecart"),"Ecart","Ok"),"") -> Ecart
A28: =IFERROR(VLOOKUP('Requête 052'!$A27,'Requête 052'!$A$1:$F$2000,1,FALSE),"") -> 3568 | B28: =IFERROR(VLOOKUP('Requête 052'!$A27,'Requête 052'!$A$1:$F$2000,2,FALSE),"") -> CGECP ST OUEN L AUMONE TDI | C28: =IFERROR(VLOOKUP('Requête 052'!$A27,'Requête 052'!$A$1:$F$2000,3,FALSE),"") -> 43801 | D28: =IFERROR(VLOOKUP('Requête 052'!$A27,'Requête 052'!$A$1:$F$2000,4,FALSE),"") -> ENCOMBRANTS | E28: =IFERROR(VLOOKUP('Requête 052'!$A27,'Requête 052'!$A$1:$F$2000,5,FALSE),"") -> ENCOMBRANTS | F28: =IFERROR(VLOOKUP('Requête 052'!$A27,'Requête 052'!$A$1:$F$2000,6,FALSE),"") -> 1.44 | G28: =IFERROR(VLOOKUP(A28,'Fichier source CGECP'!$A$1:$F$1259,1,FALSE),"") -> 3568 | H28: =IFERROR(VLOOKUP(A28,'Fichier source CGECP'!$A$1:$F$1259,2,FALSE),"") -> CGECP | I28: =IFERROR(VLOOKUP(A28,'Fichier source CGECP'!$A$1:$F$1259,3,FALSE),"") -> 43801 | J28: =IFERROR(VLOOKUP(A28,'Fichier source CGECP'!$A$1:$F$1259,4,FALSE),"") -> ONDULES RECUPERES - 1.05.00 | K28: =IFERROR(VLOOKUP(A28,'Fichier source CGECP'!$A$1:$F$1259,5,FALSE),"") -> ONDULE RECUPERE VRAC - BALLE<320 KG | L28: =IFERROR(IF(COUNTIFS($A$3:$A27,$A28,$B$3:$B27,$B28,$C$3:$C27,$C28,$D$3:$D27,$D28,$E$3:$E27,$E28,$F$3:$F27,$F28)>0,"",VLOOKUP(A28,'Fichier source CGECP'!$A$1:$F$1259,6,FALSE)),"") -> 11.32 | M28: =IFERROR(F28-L28,"") -> -9.88 | N28: =IFERROR(IF(SEARCH(H28,B28,1),"Ok","Ecart"),"") -> Ok | O28: =IFERROR(IF(E28=K28,"Ok","Ecart"),"") -> Ecart | P28: =IFERROR(IF(M28>=0,"Ok","Ecart"),"") -> Ecart | Q28: =IFERROR(IF(OR(P28="Ecart",O28="Ecart",N28="Ecart"),"Ecart","Ok"),"") -> Ecart
A29: =IFERROR(VLOOKUP('Requête 052'!$A28,'Requête 052'!$A$1:$F$2000,1,FALSE),"") -> 3570 | B29: =IFERROR(VLOOKUP('Requête 052'!$A28,'Requête 052'!$A$1:$F$2000,2,FALSE),"") -> CGECP ST OUEN L AUMONE UVEND | C29: =IFERROR(VLOOKUP('Requête 052'!$A28,'Requête 052'!$A$1:$F$2000,3,FALSE),"") -> 43801 | D29: =IFERROR(VLOOKUP('Requête 052'!$A28,'Requête 052'!$A$1:$F$2000,4,FALSE),"") -> ORDURES MENAGERES | E29: =IFERROR(VLOOKUP('Requête 052'!$A28,'Requête 052'!$A$1:$F$2000,5,FALSE),"") -> ORDURES MENAGERES | F29: =IFERROR(VLOOKUP('Requête 052'!$A28,'Requête 052'!$A$1:$F$2000,6,FALSE),"") -> 15.72 | G29: =IFERROR(VLOOKUP(A29,'Fichier source CGECP'!$A$1:$F$1259,1,FALSE),"") -> 3570 | H29: =IFERROR(VLOOKUP(A29,'Fichier source CGECP'!$A$1:$F$1259,2,FALSE),"") -> CGECP | I29: =IFERROR(VLOOKUP(A29,'Fichier source CGECP'!$A$1:$F$1259,3,FALSE),"") -> 43801 | J29: =IFERROR(VLOOKUP(A29,'Fichier source CGECP'!$A$1:$F$1259,4,FALSE),"") -> 0 | K29: =IFERROR(VLOOKUP(A29,'Fichier source CGECP'!$A$1:$F$1259,5,FALSE),"") -> ORDURES MENAGERES | L29: =IFERROR(IF(COUNTIFS($A$3:$A28,$A29,$B$3:$B28,$B29,$C$3:$C28,$C29,$D$3:$D28,$D29,$E$3:$E28,$E29,$F$3:$F28,$F29)>0,"",VLOOKUP(A29,'Fichier source CGECP'!$A$1:$F$1259,6,FALSE)),"") -> 2.96 | M29: =IFERROR(F29-L29,"") -> 12.76 | N29: =IFERROR(IF(SEARCH(H29,B29,1),"Ok","Ecart"),"") -> Ok | O29: =IFERROR(IF(E29=K29,"Ok","Ecart"),"") -> Ok | P29: =IFERROR(IF(M29>=0,"Ok","Ecart"),"") -> Ok | Q29: =IFERROR(IF(OR(P29="Ecart",O29="Ecart",N29="Ecart"),"Ecart","Ok"),"") -> Ok
A30: =IFERROR(VLOOKUP('Requête 052'!$A29,'Requête 052'!$A$1:$F$2000,1,FALSE),"") -> 3571 | B30: =IFERROR(VLOOKUP('Requête 052'!$A29,'Requête 052'!$A$1:$F$2000,2,FALSE),"") -> CGECP ST OUEN L AUMONE TDI | C30: =IFERROR(VLOOKUP('Requête 052'!$A29,'Requête 052'!$A$1:$F$2000,3,FALSE),"") -> 43801 | D30: =IFERROR(VLOOKUP('Requête 052'!$A29,'Requête 052'!$A$1:$F$2000,4,FALSE),"") -> PS ALUMINISE | E30: =IFERROR(VLOOKUP('Requête 052'!$A29,'Requête 052'!$A$1:$F$2000,5,FALSE),"") -> DECHETS INDUSTRIELS BANALS | F30: =IFERROR(VLOOKUP('Requête 052'!$A29,'Requête 052'!$A$1:$F$2000,6,FALSE),"") -> 3.56 | G30: =IFERROR(VLOOKUP(A30,'Fichier source CGECP'!$A$1:$F$1259,1,FALSE),"") -> 3571 | H30: =IFERROR(VLOOKUP(A30,'Fichier source CGECP'!$A$1:$F$1259,2,FALSE),"") -> CGECP | I30: =IFERROR(VLOOKUP(A30,'Fichier source CGECP'!$A$1:$F$1259,3,FALSE),"") -> 43801 | J30: =IFERROR(VLOOKUP(A30,'Fichier source CGECP'!$A$1:$F$1259,4,FALSE),"") -> DECHETS INDUSTRIELS BANALS | K30: =IFERROR(VLOOKUP(A30,'Fichier source CGECP'!$A$1:$F$1259,5,FALSE),"") -> DECHETS INDUSTRIELS BANALS | L30: =IFERROR(IF(COUNTIFS($A$3:$A29,$A30,$B$3:$B29,$B30,$C$3:$C29,$C30,$D$3:$D29,$D30,$E$3:$E29,$E30,$F$3:$F29,$F30)>0,"",VLOOKUP(A30,'Fichier source CGECP'!$A$1:$F$1259,6,FALSE)),"") -> 0.88 | M30: =IFERROR(F30-L30,"") -> 2.68 | N30: =IFERROR(IF(SEARCH(H30,B30,1),"Ok","Ecart"),"") -> Ok | O30: =IFERROR(IF(E30=K30,"Ok","Ecart"),"") -> Ok | P30: =IFERROR(IF(M30>=0,"Ok","Ecart"),"") -> Ok | Q30: =IFERROR(IF(OR(P30="Ecart",O30="Ecart",N30="Ecart"),"Ecart","Ok"),"") -> Ok
A31: =IFERROR(VLOOKUP('Requête 052'!$A30,'Requête 052'!$A$1:$F$2000,1,FALSE),"") -> 3574 | B31: =IFERROR(VLOOKUP('Requête 052'!$A30,'Requête 052'!$A$1:$F$2000,2,FALSE),"") -> CGECP ST OUEN L AUMONE TDI | C31: =IFERROR(VLOOKUP('Requête 052'!$A30,'Requête 052'!$A$1:$F$2000,3,FALSE),"") -> 43801 | D31: =IFERROR(VLOOKUP('Requête 052'!$A30,'Requête 052'!$A$1:$F$2000,4,FALSE),"") -> GRAVATS EN MELANGE | E31: =IFERROR(VLOOKUP('Requête 052'!$A30,'Requête 052'!$A$1:$F$2000,5,FALSE),"") -> GRAVATS EN MELANGE | F31: =IFERROR(VLOOKUP('Requête 052'!$A30,'Requête 052'!$A$1:$F$2000,6,FALSE),"") -> 0.432 | G31: =IFERROR(VLOOKUP(A31,'Fichier source CGECP'!$A$1:$F$1259,1,FALSE),"") | H31: =IFERROR(VLOOKUP(A31,'Fichier source CGECP'!$A$1:$F$1259,2,FALSE),"") | I31: =IFERROR(VLOOKUP(A31,'Fichier source CGECP'!$A$1:$F$1259,3,FALSE),"") | J31: =IFERROR(VLOOKUP(A31,'Fichier source CGECP'!$A$1:$F$1259,4,FALSE),"") | K31: =IFERROR(VLOOKUP(A31,'Fichier source CGECP'!$A$1:$F$1259,5,FALSE),"") | L31: =IFERROR(IF(COUNTIFS($A$3:$A30,$A31,$B$3:$B30,$B31,$C$3:$C30,$C31,$D$3:$D30,$D31,$E$3:$E30,$E31,$F$3:$F30,$F31)>0,"",VLOOKUP(A31,'Fichier source CGECP'!$A$1:$F$1259,6,FALSE)),"") | M31: =IFERROR(F31-L31,"") | N31: =IFERROR(IF(SEARCH(H31,B31,1),"Ok","Ecart"),"") -> Ok | O31: =IFERROR(IF(E31=K31,"Ok","Ecart"),"") -> Ecart | P31: =IFERROR(IF(M31>=0,"Ok","Ecart"),"") -> Ok | Q31: =IFERROR(IF(OR(P31="Ecart",O31="Ecart",N31="Ecart"),"Ecart","Ok"),"") -> Ecart
A32: =IFERROR(VLOOKUP('Requête 052'!$A31,'Requête 052'!$A$1:$F$2000,1,FALSE),"") -> 3588 | B32: =IFERROR(VLOOKUP('Requête 052'!$A31,'Requête 052'!$A$1:$F$2000,2,FALSE),"") -> CGECP ST OUEN L AUMONE TDI | C32: =IFERROR(VLOOKUP('Requête 052'!$A31,'Requête 052'!$A$1:$F$2000,3,FALSE),"") -> 43801 | D32: =IFERROR(VLOOKUP('Requête 052'!$A31,'Requête 052'!$A$1:$F$2000,4,FALSE),"") -> ENCOMBRANTS | E32: =IFERROR(VLOOKUP('Requête 052'!$A31,'Requête 052'!$A$1:$F$2000,5,FALSE),"") -> ENCOMBRANTS | F32: =IFERROR(VLOOKUP('Requête 052'!$A31,'Requête 052'!$A$1:$F$2000,6,FALSE),"") -> 1.7 | G32: =IFERROR(VLOOKUP(A32,'Fichier source CGECP'!$A$1:$F$1259,1,FALSE),"") | H32: =IFERROR(VLOOKUP(A32,'Fichier source CGECP'!$A$1:$F$1259,2,FALSE),"") | I32: =IFERROR(VLOOKUP(A32,'Fichier source CGECP'!$A$1:$F$1259,3,FALSE),"") | J32: =IFERROR(VLOOKUP(A32,'Fichier source CGECP'!$A$1:$F$1259,4,FALSE),"") | K32: =IFERROR(VLOOKUP(A32,'Fichier source CGECP'!$A$1:$F$1259,5,FALSE),"") | L32: =IFERROR(IF(COUNTIFS($A$3:$A31,$A32,$B$3:$B31,$B32,$C$3:$C31,$C32,$D$3:$D31,$D32,$E$3:$E31,$E32,$F$3:$F31,$F32)>0,"",VLOOKUP(A32,'Fichier source CGECP'!$A$1:$F$1259,6,FALSE)),"") | M32: =IFERROR(F32-L32,"") | N32: =IFERROR(IF(SEARCH(H32,B32,1),"Ok","Ecart"),"") -> Ok | O32: =IFERROR(IF(E32=K32,"Ok","Ecart"),"") -> Ecart | P32: =IFERROR(IF(M32>=0,"Ok","Ecart"),"") -> Ok | Q32: =IFERROR(IF(OR(P32="Ecart",O32="Ecart",N32="Ecart"),"Ecart","Ok"),"") -> Ecart
A33: =IFERROR(VLOOKUP('Requête 052'!$A32,'Requête 052'!$A$1:$F$2000,1,FALSE),"") -> 3595 | B33: =IFERROR(VLOOKUP('Requête 052'!$A32,'Requête 052'!$A$1:$F$2000,2,FALSE),"") -> CGECP ST OUEN L AUMONE UVEND | C33: =IFERROR(VLOOKUP('Requête 052'!$A32,'Requête 052'!$A$1:$F$2000,3,FALSE),"") -> 43801 | D33: =IFERROR(VLOOKUP('Requête 052'!$A32,'Requête 052'!$A$1:$F$2000,4,FALSE),"") -> DECHET A INCINERER | E33: =IFERROR(VLOOKUP('Requête 052'!$A32,'Requête 052'!$A$1:$F$2000,5,FALSE),"") -> DECHET A INCINERER | F33: =IFERROR(VLOOKUP('Requête 052'!$A32,'Requête 052'!$A$1:$F$2000,6,FALSE),"") -> 1.78 | G33: =IFERROR(VLOOKUP(A33,'Fichier source CGECP'!$A$1:$F$1259,1,FALSE),"") -> 3595 | H33: =IFERROR(VLOOKUP(A33,'Fichier source CGECP'!$A$1:$F$1259,2,FALSE),"") -> CGECP | I33: =IFERROR(VLOOKUP(A33,'Fichier source CGECP'!$A$1:$F$1259,3,FALSE),"") -> 43801 | J33: =IFERROR(VLOOKUP(A33,'Fichier source CGECP'!$A$1:$F$1259,4,FALSE),"") -> DECHET A INCINERER TRI | K33: =IFERROR(VLOOKUP(A33,'Fichier source CGECP'!$A$1:$F$1259,5,FALSE),"") -> DECHET A INCINERER TRI | L33: =IFERROR(IF(COUNTIFS($A$3:$A32,$A33,$B$3:$B32,$B33,$C$3:$C32,$C33,$D$3:$D32,$D33,$E$3:$E32,$E33,$F$3:$F32,$F33)>0,"",VLOOKUP(A33,'Fichier source CGECP'!$A$1:$F$1259,6,FALSE)),"") -> 2.8 | M33: =IFERROR(F33-L33,"") -> -1.02 | N33: =IFERROR(IF(SEARCH(H33,B33,1),"Ok","Ecart"),"") -> Ok | O33: =IFERROR(IF(E33=K33,"Ok","Ecart"),"") -> Ecart | P33: =IFERROR(IF(M33>=0,"Ok","Ecart"),"") -> Ecart | Q33: =IFERROR(IF(OR(P33="Ecart",O33="Ecart",N33="Ecart"),"Ecart","Ok"),"") -> Ecart
A34: =IFERROR(VLOOKUP('Requête 052'!$A33,'Requête 052'!$A$1:$F$2000,1,FALSE),"") -> 3605 | B34: =IFERROR(VLOOKUP('Requête 052'!$A33,'Requête 052'!$A$1:$F$2000,2,FALSE),"") -> CGECP ST OUEN L AUMONE DVBIODIV | C34: =IFERROR(VLOOKUP('Requête 052'!$A33,'Requête 052'!$A$1:$F$2000,3,FALSE),"") -> 43801 | D34: =IFERROR(VLOOKUP('Requête 052'!$A33,'Requête 052'!$A$1:$F$2000,4,FALSE),"") -> DECHETS VERTS EN MELANGE | E34: =IFERROR(VLOOKUP('Requête 052'!$A33,'Requête 052'!$A$1:$F$2000,5,FALSE),"") -> DECHETS VERTS EN MELANGE | F34: =IFERROR(VLOOKUP('Requête 052'!$A33,'Requête 052'!$A$1:$F$2000,6,FALSE),"") -> 5.18 | G34: =IFERROR(VLOOKUP(A34,'Fichier source CGECP'!$A$1:$F$1259,1,FALSE),"") | H34: =IFERROR(VLOOKUP(A34,'Fichier source CGECP'!$A$1:$F$1259,2,FALSE),"") | I34: =IFERROR(VLOOKUP(A34,'Fichier source CGECP'!$A$1:$F$1259,3,FALSE),"") | J34: =IFERROR(VLOOKUP(A34,'Fichier source CGECP'!$A$1:$F$1259,4,FALSE),"") | K34: =IFERROR(VLOOKUP(A34,'Fichier source CGECP'!$A$1:$F$1259,5,FALSE),"") | L34: =IFERROR(IF(COUNTIFS($A$3:$A33,$A34,$B$3:$B33,$B34,$C$3:$C33,$C34,$D$3:$D33,$D34,$E$3:$E33,$E34,$F$3:$F33,$F34)>0,"",VLOOKUP(A34,'Fichier source CGECP'!$A$1:$F$1259,6,FALSE)),"") | M34: =IFERROR(F34-L34,"") | N34: =IFERROR(IF(SEARCH(H34,B34,1),"Ok","Ecart"),"") -> Ok | O34: =IFERROR(IF(E34=K34,"Ok","Ecart"),"") -> Ecart | P34: =IFERROR(IF(M34>=0,"Ok","Ecart"),"") -> Ok | Q34: =IFERROR(IF(OR(P34="Ecart",O34="Ecart",N34="Ecart"),"Ecart","Ok"),"") -> Ecart
A35: =IFERROR(VLOOKUP('Requête 052'!$A33,'Requête 052'!$A$1:$F$2000,1,FALSE),"") -> 3605 | B35: =IFERROR(VLOOKUP('Requête 052'!$A33,'Requête 052'!$A$1:$F$2000,2,FALSE),"") -> CGECP ST OUEN L AUMONE DVBIODIV | C35: =IFERROR(VLOOKUP('Requête 052'!$A33,'Requête 052'!$A$1:$F$2000,3,FALSE),"") -> 43801 | D35: =IFERROR(VLOOKUP('Requête 052'!$A33,'Requête 052'!$A$1:$F$2000,4,FALSE),"") -> DECHETS VERTS EN MELANGE | E35: =IFERROR(VLOOKUP('Requête 052'!$A33,'Requête 052'!$A$1:$F$2000,5,FALSE),"") -> DECHETS VERTS EN MELANGE | F35: =IFERROR(VLOOKUP('Requête 052'!$A33,'Requête 052'!$A$1:$F$2000,6,FALSE),"") -> 5.18 | G35: =IFERROR(VLOOKUP(A35,'Fichier source CGECP'!$A$1:$F$1259,1,FALSE),"") | H35: =IFERROR(VLOOKUP(A35,'Fichier source CGECP'!$A$1:$F$1259,2,FALSE),"") | I35: =IFERROR(VLOOKUP(A35,'Fichier source CGECP'!$A$1:$F$1259,3,FALSE),"") | J35: =IFERROR(VLOOKUP(A35,'Fichier source CGECP'!$A$1:$F$1259,4,FALSE),"") | K35: =IFERROR(VLOOKUP(A35,'Fichier source CGECP'!$A$1:$F$1259,5,FALSE),"") | L35: =IFERROR(IF(COUNTIFS($A$3:$A34,$A35,$B$3:$B34,$B35,$C$3:$C34,$C35,$D$3:$D34,$D35,$E$3:$E34,$E35,$F$3:$F34,$F35)>0,"",VLOOKUP(A35,'Fichier source CGECP'!$A$1:$F$1259,6,FALSE)),"") | M35: =IFERROR(F35-L35,"") | N35: =IFERROR(IF(SEARCH(H35,B35,1),"Ok","Ecart"),"") -> Ok | O35: =IFERROR(IF(E35=K35,"Ok","Ecart"),"") -> Ecart | P35: =IFERROR(IF(M35>=0,"Ok","Ecart"),"") -> Ok | Q35: =IFERROR(IF(OR(P35="Ecart",O35="Ecart",N35="Ecart"),"Ecart","Ok"),"") -> Ecart
A36: =IFERROR(VLOOKUP('Requête 052'!$A34,'Requête 052'!$A$1:$F$2000,1,FALSE),"") -> 3607 | B36: =IFERROR(VLOOKUP('Requête 052'!$A34,'Requête 052'!$A$1:$F$2000,2,FALSE),"") -> CGECP ST OUEN L AUMONE TDI | C36: =IFERROR(VLOOKUP('Requête 052'!$A34,'Requête 052'!$A$1:$F$2000,3,FALSE),"") -> 43801 | D36: =IFERROR(VLOOKUP('Requête 052'!$A34,'Requête 052'!$A$1:$F$2000,4,FALSE),"") -> CARTONS ET SACHES PLAST - 1.04.00 | E36: =IFERROR(VLOOKUP('Requête 052'!$A34,'Requête 052'!$A$1:$F$2000,5,FALSE),"") -> PE GRANDE SURFACE-PEGS | F36: =IFERROR(VLOOKUP('Requête 052'!$A34,'Requête 052'!$A$1:$F$2000,6,FALSE),"") -> 5.74 | G36: =IFERROR(VLOOKUP(A36,'Fichier source CGECP'!$A$1:$F$1259,1,FALSE),"") -> 3607 | H36: =IFERROR(VLOOKUP(A36,'Fichier source CGECP'!$A$1:$F$1259,2,FALSE),"") -> CGECP | I36: =IFERROR(VLOOKUP(A36,'Fichier source CGECP'!$A$1:$F$1259,3,FALSE),"") -> 43801 | J36: =IFERROR(VLOOKUP(A36,'Fichier source CGECP'!$A$1:$F$1259,4,FALSE),"") -> 0 | K36: =IFERROR(VLOOKUP(A36,'Fichier source CGECP'!$A$1:$F$1259,5,FALSE),"") -> CARTONS | L36: =IFERROR(IF(COUNTIFS($A$3:$A35,$A36,$B$3:$B35,$B36,$C$3:$C35,$C36,$D$3:$D35,$D36,$E$3:$E35,$E36,$F$3:$F35,$F36)>0,"",VLOOKUP(A36,'Fichier source CGECP'!$A$1:$F$1259,6,FALSE)),"") -> 0.24 | M36: =IFERROR(F36-L36,"") -> 5.5 | N36: =IFERROR(IF(SEARCH(H36,B36,1),"Ok","Ecart"),"") -> Ok | O36: =IFERROR(IF(E36=K36,"Ok","Ecart"),"") -> Ecart | P36: =IFERROR(IF(M36>=0,"Ok","Ecart"),"") -> Ok | Q36: =IFERROR(IF(OR(P36="Ecart",O36="Ecart",N36="Ecart"),"Ecart","Ok"),"") -> Ecart
A37: =IFERROR(VLOOKUP('Requête 052'!$A35,'Requête 052'!$A$1:$F$2000,1,FALSE),"") -> 3607 | B37: =IFERROR(VLOOKUP('Requête 052'!$A35,'Requête 052'!$A$1:$F$2000,2,FALSE),"") -> CGECP ST OUEN L AUMONE TDI | C37: =IFERROR(VLOOKUP('Requête 052'!$A35,'Requête 052'!$A$1:$F$2000,3,FALSE),"") -> 43801 | D37: =IFERROR(VLOOKUP('Requête 052'!$A35,'Requête 052'!$A$1:$F$2000,4,FALSE),"") -> CARTONS ET SACHES PLAST - 1.04.00 | E37: =IFERROR(VLOOKUP('Requête 052'!$A35,'Requête 052'!$A$1:$F$2000,5,FALSE),"") -> PE GRANDE SURFACE-PEGS | F37: =IFERROR(VLOOKUP('Requête 052'!$A35,'Requête 052'!$A$1:$F$2000,6,FALSE),"") -> 5.74 | G37: =IFERROR(VLOOKUP(A37,'Fichier source CGECP'!$A$1:$F$1259,1,FALSE),"") -> 3607 | H37: =IFERROR(VLOOKUP(A37,'Fichier source CGECP'!$A$1:$F$1259,2,FALSE),"") -> CGECP | I37: =IFERROR(VLOOKUP(A37,'Fichier source CGECP'!$A$1:$F$1259,3,FALSE),"") -> 43801 | J37: =IFERROR(VLOOKUP(A37,'Fichier source CGECP'!$A$1:$F$1259,4,FALSE),"") -> 0 | K37: =IFERROR(VLOOKUP(A37,'Fichier source CGECP'!$A$1:$F$1259,5,FALSE),"") -> CARTONS | L37: =IFERROR(IF(COUNTIFS($A$3:$A36,$A37,$B$3:$B36,$B37,$C$3:$C36,$C37,$D$3:$D36,$D37,$E$3:$E36,$E37,$F$3:$F36,$F37)>0,"",VLOOKUP(A37,'Fichier source CGECP'!$A$1:$F$1259,6,FALSE)),"") | M37: =IFERROR(F37-L37,"") | N37: =IFERROR(IF(SEARCH(H37,B37,1),"Ok","Ecart"),"") -> Ok | O37: =IFERROR(IF(E37=K37,"Ok","Ecart"),"") -> Ecart | P37: =IFERROR(IF(M37>=0,"Ok","Ecart"),"") -> Ok | Q37: =IFERROR(IF(OR(P37="Ecart",O37="Ecart",N37="Ecart"),"Ecart","Ok"),"") -> Ecart
A38: =IFERROR(VLOOKUP('Requête 052'!$A36,'Requête 052'!$A$1:$F$2000,1,FALSE),"") -> 3607 | B38: =IFERROR(VLOOKUP('Requête 052'!$A36,'Requête 052'!$A$1:$F$2000,2,FALSE),"") -> CGECP ST OUEN L AUMONE TDI | C38: =IFERROR(VLOOKUP('Requête 052'!$A36,'Requête 052'!$A$1:$F$2000,3,FALSE),"") -> 43801 | D38: =IFERROR(VLOOKUP('Requête 052'!$A36,'Requête 052'!$A$1:$F$2000,4,FALSE),"") -> CARTONS ET SACHES PLAST - 1.04.00 | E38: =IFERROR(VLOOKUP('Requête 052'!$A36,'Requête 052'!$A$1:$F$2000,5,FALSE),"") -> PE GRANDE SURFACE-PEGS | F38: =IFERROR(VLOOKUP('Requête 052'!$A36,'Requête 052'!$A$1:$F$2000,6,FALSE),"") -> 5.74 | G38: =IFERROR(VLOOKUP(A38,'Fichier source CGECP'!$A$1:$F$1259,1,FALSE),"") -> 3607 | H38: =IFERROR(VLOOKUP(A38,'Fichier source CGECP'!$A$1:$F$1259,2,FALSE),"") -> CGECP | I38: =IFERROR(VLOOKUP(A38,'Fichier source CGECP'!$A$1:$F$1259,3,FALSE),"") -> 43801 | J38: =IFERROR(VLOOKUP(A38,'Fichier source CGECP'!$A$1:$F$1259,4,FALSE),"") -> 0 | K38: =IFERROR(VLOOKUP(A38,'Fichier source CGECP'!$A$1:$F$1259,5,FALSE),"") -> CARTONS | L38: =IFERROR(IF(COUNTIFS($A$3:$A37,$A38,$B$3:$B37,$B38,$C$3:$C37,$C38,$D$3:$D37,$D38,$E$3:$E37,$E38,$F$3:$F37,$F38)>0,"",VLOOKUP(A38,'Fichier source CGECP'!$A$1:$F$1259,6,FALSE)),"") | M38: =IFERROR(F38-L38,"") | N38: =IFERROR(IF(SEARCH(H38,B38,1),"Ok","Ecart"),"") -> Ok | O38: =IFERROR(IF(E38=K38,"Ok","Ecart"),"") -> Ecart | P38: =IFERROR(IF(M38>=0,"Ok","Ecart"),"") -> Ok | Q38: =IFERROR(IF(OR(P38="Ecart",O38="Ecart",N38="Ecart"),"Ecart","Ok"),"") -> Ecart
A39: =IFERROR(VLOOKUP('Requête 052'!$A37,'Requête 052'!$A$1:$F$2000,1,FALSE),"") -> 3610 | B39: =IFERROR(VLOOKUP('Requête 052'!$A37,'Requête 052'!$A$1:$F$2000,2,FALSE),"") -> CGECP ST OUEN L AUMONE TDI | C39: =IFERROR(VLOOKUP('Requête 052'!$A37,'Requête 052'!$A$1:$F$2000,3,FALSE),"") -> 43801 | D39: =IFERROR(VLOOKUP('Requête 052'!$A37,'Requête 052'!$A$1:$F$2000,4,FALSE),"") -> DECHETS INDUSTRIELS BANALS | E39: =IFERROR(VLOOKUP('Requête 052'!$A37,'Requête 052'!$A$1:$F$2000,5,FALSE),"") -> DECHETS INDUSTRIELS BANALS | F39: =IFERROR(VLOOKUP('Requête 052'!$A37,'Requête 052'!$A$1:$F$2000,6,FALSE),"") -> 4.9 | G39: =IFERROR(VLOOKUP(A39,'Fichier source CGECP'!$A$1:$F$1259,1,FALSE),"") -> 3610 | H39: =IFERROR(VLOOKUP(A39,'Fichier source CGECP'!$A$1:$F$1259,2,FALSE),"") -> CGECP | I39: =IFERROR(VLOOKUP(A39,'Fichier source CGECP'!$A$1:$F$1259,3,FALSE),"") -> 43801 | J39: =IFERROR(VLOOKUP(A39,'Fichier source CGECP'!$A$1:$F$1259,4,FALSE),"") -> DECHETS INDUSTRIELS BANALS | K39: =IFERROR(VLOOKUP(A39,'Fichier source CGECP'!$A$1:$F$1259,5,FALSE),"") -> DECHETS INDUSTRIELS BANALS | L39: =IFERROR(IF(COUNTIFS($A$3:$A38,$A39,$B$3:$B38,$B39,$C$3:$C38,$C39,$D$3:$D38,$D39,$E$3:$E38,$E39,$F$3:$F38,$F39)>0,"",VLOOKUP(A39,'Fichier source CGECP'!$A$1:$F$1259,6,FALSE)),"") -> 1.7 | M39: =IFERROR(F39-L39,"") -> 3.2 | N39: =IFERROR(IF(SEARCH(H39,B39,1),"Ok","Ecart"),"") -> Ok | O39: =IFERROR(IF(E39=K39,"Ok","Ecart"),"") -> Ok | P39: =IFERROR(IF(M39>=0,"Ok","Ecart"),"") -> Ok | Q39: =IFERROR(IF(OR(P39="Ecart",O39="Ecart",N39="Ecart"),"Ecart","Ok"),"") -> Ok
A40: =IFERROR(VLOOKUP('Requête 052'!$A38,'Requête 052'!$A$1:$F$2000,1,FALSE),"") -> 3618 | B40: =IFERROR(VLOOKUP('Requête 052'!$A38,'Requête 052'!$A$1:$F$2000,2,FALSE),"") -> CGECP ST OUEN L AUMONE TDI | C40: =IFERROR(VLOOKUP('Requête 052'!$A38,'Requête 052'!$A$1:$F$2000,3,FALSE),"") -> 43801 | D40: =IFERROR(VLOOKUP('Requête 052'!$A38,'Requête 052'!$A$1:$F$2000,4,FALSE),"") -> BOIS D'EMBALLAGES BRUTS | E40: =IFERROR(VLOOKUP('Requête 052'!$A38,'Requête 052'!$A$1:$F$2000,5,FALSE),"") -> BOIS D'EMBALLAGES BRUTS | F40: =IFERROR(VLOOKUP('Requête 052'!$A38,'Requête 052'!$A$1:$F$2000,6,FALSE),"") -> 2.86 | G40: =IFERROR(VLOOKUP(A40,'Fichier source CGECP'!$A$1:$F$1259,1,FALSE),"") -> 3618 | H40: =IFERROR(VLOOKUP(A40,'Fichier source CGECP'!$A$1:$F$1259,2,FALSE),"") -> CGECP | I40: =IFERROR(VLOOKUP(A40,'Fichier source CGECP'!$A$1:$F$1259,3,FALSE),"") -> 43801 | J40: =IFERROR(VLOOKUP(A40,'Fichier source CGECP'!$A$1:$F$1259,4,FALSE),"") -> DECHETS INDUSTRIELS BANALS | K40: =IFERROR(VLOOKUP(A40,'Fichier source CGECP'!$A$1:$F$1259,5,FALSE),"") -> DECHETS INDUSTRIELS BANALS | L40: =IFERROR(IF(COUNTIFS($A$3:$A39,$A40,$B$3:$B39,$B40,$C$3:$C39,$C40,$D$3:$D39,$D40,$E$3:$E39,$E40,$F$3:$F39,$F40)>0,"",VLOOKUP(A40,'Fichier source CGECP'!$A$1:$F$1259,6,FALSE)),"") -> 0.32 | M40: =IFERROR(F40-L40,"") -> 2.54 | N40: =IFERROR(IF(SEARCH(H40,B40,1),"Ok","Ecart"),"") -> Ok | O40: =IFERROR(IF(E40=K40,"Ok","Ecart"),"") -> Ecart | P40: =IFERROR(IF(M40>=0,"Ok","Ecart"),"") -> Ok | Q40: =IFERROR(IF(OR(P40="Ecart",O40="Ecart",N40="Ecart"),"Ecart","Ok"),"") -> Ecart
A41: =IFERROR(VLOOKUP('Requête 052'!$A40,'Requête 052'!$A$1:$F$2000,1,FALSE),"") -> 3624 | B41: =IFERROR(VLOOKUP('Requête 052'!$A40,'Requête 052'!$A$1:$F$2000,2,FALSE),"") -> CGECP ST OUEN L AUMONE TDI | C41: =IFERROR(VLOOKUP('Requête 052'!$A40,'Requête 052'!$A$1:$F$2000,3,FALSE),"") -> 43801 | D41: =IFERROR(VLOOKUP('Requête 052'!$A40,'Requête 052'!$A$1:$F$2000,4,FALSE),"") -> DECHETS INDUSTRIELS BANALS | E41: =IFERROR(VLOOKUP('Requête 052'!$A40,'Requête 052'!$A$1:$F$2000,5,FALSE),"") -> DECHETS INDUSTRIELS BANALS | F41: =IFERROR(VLOOKUP('Requête 052'!$A40,'Requête 052'!$A$1:$F$2000,6,FALSE),"") -> 3.3 | G41: =IFERROR(VLOOKUP(A41,'Fichier source CGECP'!$A$1:$F$1259,1,FALSE),"") -> 3624 | H41: =IFERROR(VLOOKUP(A41,'Fichier source CGECP'!$A$1:$F$1259,2,FALSE),"") -> CGECP | I41: =IFERROR(VLOOKUP(A41,'Fichier source CGECP'!$A$1:$F$1259,3,FALSE),"") -> 43801 | J41: =IFERROR(VLOOKUP(A41,'Fichier source CGECP'!$A$1:$F$1259,4,FALSE),"") -> BOIS D'EMBALLAGES BRUTS | K41: =IFERROR(VLOOKUP(A41,'Fichier source CGECP'!$A$1:$F$1259,5,FALSE),"") -> BOIS D'EMBALLAGES BRUTS | L41: =IFERROR(IF(COUNTIFS($A$3:$A40,$A41,$B$3:$B40,$B41,$C$3:$C40,$C41,$D$3:$D40,$D41,$E$3:$E40,$E41,$F$3:$F40,$F41)>0,"",VLOOKUP(A41,'Fichier source CGECP'!$A$1:$F$1259,6,FALSE)),"") -> 0.93 | M41: =IFERROR(F41-L41,"") -> 2.37 | N41: =IFERROR(IF(SEARCH(H41,B41,1),"Ok","Ecart"),"") -> Ok | O41: =IFERROR(IF(E41=K41,"Ok","Ecart"),"") -> Ecart | P41: =IFERROR(IF(M41>=0,"Ok","Ecart"),"") -> Ok | Q41: =IFERROR(IF(OR(P41="Ecart",O41="Ecart",N41="Ecart"),"Ecart","Ok"),"") -> Ecart
A42: =IFERROR(VLOOKUP('Requête 052'!$A40,'Requête 052'!$A$1:$F$2000,1,FALSE),"") -> 3624 | B42: =IFERROR(VLOOKUP('Requête 052'!$A40,'Requête 052'!$A$1:$F$2000,2,FALSE),"") -> CGECP ST OUEN L AUMONE TDI | C42: =IFERROR(VLOOKUP('Requête 052'!$A40,'Requête 052'!$A$1:$F$2000,3,FALSE),"") -> 43801 | D42: =IFERROR(VLOOKUP('Requête 052'!$A40,'Requête 052'!$A$1:$F$2000,4,FALSE),"") -> DECHETS INDUSTRIELS BANALS | E42: =IFERROR(VLOOKUP('Requête 052'!$A40,'Requête 052'!$A$1:$F$2000,5,FALSE),"") -> DECHETS INDUSTRIELS BANALS | F42: =IFERROR(VLOOKUP('Requête 052'!$A40,'Requête 052'!$A$1:$F$2000,6,FALSE),"") -> 3.3 | G42: =IFERROR(VLOOKUP(A42,'Fichier source CGECP'!$A$1:$F$1259,1,FALSE),"") -> 3624 | H42: =IFERROR(VLOOKUP(A42,'Fichier source CGECP'!$A$1:$F$1259,2,FALSE),"") -> CGECP | I42: =IFERROR(VLOOKUP(A42,'Fichier source CGECP'!$A$1:$F$1259,3,FALSE),"") -> 43801 | J42: =IFERROR(VLOOKUP(A42,'Fichier source CGECP'!$A$1:$F$1259,4,FALSE),"") -> BOIS D'EMBALLAGES BRUTS | K42: =IFERROR(VLOOKUP(A42,'Fichier source CGECP'!$A$1:$F$1259,5,FALSE),"") -> BOIS D'EMBALLAGES BRUTS | L42: =IFERROR(IF(COUNTIFS($A$3:$A41,$A42,$B$3:$B41,$B42,$C$3:$C41,$C42,$D$3:$D41,$D42,$E$3:$E41,$E42,$F$3:$F41,$F42)>0,"",VLOOKUP(A42,'Fichier source CGECP'!$A$1:$F$1259,6,FALSE)),"") | M42: =IFERROR(F42-L42,"") | N42: =IFERROR(IF(SEARCH(H42,B42,1),"Ok","Ecart"),"") -> Ok | O42: =IFERROR(IF(E42=K42,"Ok","Ecart"),"") -> Ecart | P42: =IFERROR(IF(M42>=0,"Ok","Ecart"),"") -> Ok | Q42: =IFERROR(IF(OR(P42="Ecart",O42="Ecart",N42="Ecart"),"Ecart","Ok"),"") -> Ecart
A43: =IFERROR(VLOOKUP('Requête 052'!$A41,'Requête 052'!$A$1:$F$2000,1,FALSE),"") -> 3627 | B43: =IFERROR(VLOOKUP('Requête 052'!$A41,'Requête 052'!$A$1:$F$2000,2,FALSE),"") -> CGECP ST OUEN L AUMONE TDI | C43: =IFERROR(VLOOKUP('Requête 052'!$A41,'Requête 052'!$A$1:$F$2000,3,FALSE),"") -> 43801 | D43: =IFERROR(VLOOKUP('Requête 052'!$A41,'Requête 052'!$A$1:$F$2000,4,FALSE),"") -> BOIS D'EMBALLAGES BRUTS | E43: =IFERROR(VLOOKUP('Requête 052'!$A41,'Requête 052'!$A$1:$F$2000,5,FALSE),"") -> DECHETS INDUSTRIELS BANALS | F43: =IFERROR(VLOOKUP('Requête 052'!$A41,'Requête 052'!$A$1:$F$2000,6,FALSE),"") -> 4.42 | G43: =IFERROR(VLOOKUP(A43,'Fichier source CGECP'!$A$1:$F$1259,1,FALSE),"") -> 3627 | H43: =IFERROR(VLOOKUP(A43,'Fichier source CGECP'!$A$1:$F$1259,2,FALSE),"") -> CGECP | I43: =IFERROR(VLOOKUP(A43,'Fichier source CGECP'!$A$1:$F$1259,3,FALSE),"") -> 43801 | J43: =IFERROR(VLOOKUP(A43,'Fichier source CGECP'!$A$1:$F$1259,4,FALSE),"") -> 0 | K43: =IFERROR(VLOOKUP(A43,'Fichier source CGECP'!$A$1:$F$1259,5,FALSE),"") -> DECHETS INDUSTRIELS BANALS | L43: =IFERROR(IF(COUNTIFS($A$3:$A42,$A43,$B$3:$B42,$B43,$C$3:$C42,$C43,$D$3:$D42,$D43,$E$3:$E42,$E43,$F$3:$F42,$F43)>0,"",VLOOKUP(A43,'Fichier source CGECP'!$A$1:$F$1259,6,FALSE)),"") -> 1.4 | M43: =IFERROR(F43-L43,"") -> 3.02 | N43: =IFERROR(IF(SEARCH(H43,B43,1),"Ok","Ecart"),"") -> Ok | O43: =IFERROR(IF(E43=K43,"Ok","Ecart"),"") -> Ok | P43: =IFERROR(IF(M43>=0,"Ok","Ecart"),"") -> Ok | Q43: =IFERROR(IF(OR(P43="Ecart",O43="Ecart",N43="Ecart"),"Ecart","Ok"),"") -> Ok
A44: =IFERROR(VLOOKUP('Requête 052'!$A43,'Requête 052'!$A$1:$F$2000,1,FALSE),"") -> 3646 | B44: =IFERROR(VLOOKUP('Requête 052'!$A43,'Requête 052'!$A$1:$F$2000,2,FALSE),"") -> CGECP ST OUEN L AUMONE TDI | C44: =IFERROR(VLOOKUP('Requête 052'!$A43,'Requête 052'!$A$1:$F$2000,3,FALSE),"") -> 43801 | D44: =IFERROR(VLOOKUP('Requête 052'!$A43,'Requête 052'!$A$1:$F$2000,4,FALSE),"") -> BOIS B BRUT | E44: =IFERROR(VLOOKUP('Requête 052'!$A43,'Requête 052'!$A$1:$F$2000,5,FALSE),"") -> BOIS B BRUT | F44: =IFERROR(VLOOKUP('Requête 052'!$A43,'Requête 052'!$A$1:$F$2000,6,FALSE),"") -> 1.7 | G44: =IFERROR(VLOOKUP(A44,'Fichier source CGECP'!$A$1:$F$1259,1,FALSE),"") -> 3646 | H44: =IFERROR(VLOOKUP(A44,'Fichier source CGECP'!$A$1:$F$1259,2,FALSE),"") -> CGECP | I44: =IFERROR(VLOOKUP(A44,'Fichier source CGECP'!$A$1:$F$1259,3,FALSE),"") -> 43801 | J44: =IFERROR(VLOOKUP(A44,'Fichier source CGECP'!$A$1:$F$1259,4,FALSE),"") -> BOIS B BRUT | K44: =IFERROR(VLOOKUP(A44,'Fichier source CGECP'!$A$1:$F$1259,5,FALSE),"") -> BOIS B BRUT | L44: =IFERROR(IF(COUNTIFS($A$3:$A43,$A44,$B$3:$B43,$B44,$C$3:$C43,$C44,$D$3:$D43,$D44,$E$3:$E43,$E44,$F$3:$F43,$F44)>0,"",VLOOKUP(A44,'Fichier source CGECP'!$A$1:$F$1259,6,FALSE)),"") -> 1.14 | M44: =IFERROR(F44-L44,"") -> 0.56 | N44: =IFERROR(IF(SEARCH(H44,B44,1),"Ok","Ecart"),"") -> Ok | O44: =IFERROR(IF(E44=K44,"Ok","Ecart"),"") -> Ok | P44: =IFERROR(IF(M44>=0,"Ok","Ecart"),"") -> Ok | Q44: =IFERROR(IF(OR(P44="Ecart",O44="Ecart",N44="Ecart"),"Ecart","Ok"),"") -> Ok
A45: =IFERROR(VLOOKUP('Requête 052'!$A43,'Requête 052'!$A$1:$F$2000,1,FALSE),"") -> 3646 | B45: =IFERROR(VLOOKUP('Requête 052'!$A43,'Requête 052'!$A$1:$F$2000,2,FALSE),"") -> CGECP ST OUEN L AUMONE TDI | C45: =IFERROR(VLOOKUP('Requête 052'!$A43,'Requête 052'!$A$1:$F$2000,3,FALSE),"") -> 43801 | D45: =IFERROR(VLOOKUP('Requête 052'!$A43,'Requête 052'!$A$1:$F$2000,4,FALSE),"") -> BOIS B BRUT | E45: =IFERROR(VLOOKUP('Requête 052'!$A43,'Requête 052'!$A$1:$F$2000,5,FALSE),"") -> BOIS B BRUT | F45: =IFERROR(VLOOKUP('Requête 052'!$A43,'Requête 052'!$A$1:$F$2000,6,FALSE),"") -> 1.7 | G45: =IFERROR(VLOOKUP(A45,'Fichier source CGECP'!$A$1:$F$1259,1,FALSE),"") -> 3646 | H45: =IFERROR(VLOOKUP(A45,'Fichier source CGECP'!$A$1:$F$1259,2,FALSE),"") -> CGECP | I45: =IFERROR(VLOOKUP(A45,'Fichier source CGECP'!$A$1:$F$1259,3,FALSE),"") -> 43801 | J45: =IFERROR(VLOOKUP(A45,'Fichier source CGECP'!$A$1:$F$1259,4,FALSE),"") -> BOIS B BRUT | K45: =IFERROR(VLOOKUP(A45,'Fichier source CGECP'!$A$1:$F$1259,5,FALSE),"") -> BOIS B BRUT | L45: =IFERROR(IF(COUNTIFS($A$3:$A44,$A45,$B$3:$B44,$B45,$C$3:$C44,$C45,$D$3:$D44,$D45,$E$3:$E44,$E45,$F$3:$F44,$F45)>0,"",VLOOKUP(A45,'Fichier source CGECP'!$A$1:$F$1259,6,FALSE)),"") | M45: =IFERROR(F45-L45,"") | N45: =IFERROR(IF(SEARCH(H45,B45,1),"Ok","Ecart"),"") -> Ok | O45: =IFERROR(IF(E45=K45,"Ok","Ecart"),"") -> Ok | P45: =IFERROR(IF(M45>=0,"Ok","Ecart"),"") -> Ok | Q45: =IFERROR(IF(OR(P45="Ecart",O45="Ecart",N45="Ecart"),"Ecart","Ok"),"") -> Ok
A46: =IFERROR(VLOOKUP('Requête 052'!$A45,'Requête 052'!$A$1:$F$2000,1,FALSE),"") -> 3648 | B46: =IFERROR(VLOOKUP('Requête 052'!$A45,'Requête 052'!$A$1:$F$2000,2,FALSE),"") -> CGECP ST OUEN L AUMONE TDI | C46: =IFERROR(VLOOKUP('Requête 052'!$A45,'Requête 052'!$A$1:$F$2000,3,FALSE),"") -> 43801 | D46: =IFERROR(VLOOKUP('Requête 052'!$A45,'Requête 052'!$A$1:$F$2000,4,FALSE),"") -> CARTONS | E46: =IFERROR(VLOOKUP('Requête 052'!$A45,'Requête 052'!$A$1:$F$2000,5,FALSE),"") -> HUMIDITE | F46: =IFERROR(VLOOKUP('Requête 052'!$A45,'Requête 052'!$A$1:$F$2000,6,FALSE),"") -> 2.8 | G46: =IFERROR(VLOOKUP(A46,'Fichier source CGECP'!$A$1:$F$1259,1,FALSE),"") -> 3648 | H46: =IFERROR(VLOOKUP(A46,'Fichier source CGECP'!$A$1:$F$1259,2,FALSE),"") -> CGECP | I46: =IFERROR(VLOOKUP(A46,'Fichier source CGECP'!$A$1:$F$1259,3,FALSE),"") -> 43801 | J46: =IFERROR(VLOOKUP(A46,'Fichier source CGECP'!$A$1:$F$1259,4,FALSE),"") -> ONDULES RECUPERES - 1.05.00 | K46: =IFERROR(VLOOKUP(A46,'Fichier source CGECP'!$A$1:$F$1259,5,FALSE),"") -> ONDULE RECUPERE VRAC - BALLE<320 KG | L46: =IFERROR(IF(COUNTIFS($A$3:$A45,$A46,$B$3:$B45,$B46,$C$3:$C45,$C46,$D$3:$D45,$D46,$E$3:$E45,$E46,$F$3:$F45,$F46)>0,"",VLOOKUP(A46,'Fichier source CGECP'!$A$1:$F$1259,6,FALSE)),"") -> 0.882 | M46: =IFERROR(F46-L46,"") -> 1.918 | N46: =IFERROR(IF(SEARCH(H46,B46,1),"Ok","Ecart"),"") -> Ok | O46: =IFERROR(IF(E46=K46,"Ok","Ecart"),"") -> Ecart | P46: =IFERROR(IF(M46>=0,"Ok","Ecart"),"") -> Ok | Q46: =IFERROR(IF(OR(P46="Ecart",O46="Ecart",N46="Ecart"),"Ecart","Ok"),"") -> Ecart
A47: =IFERROR(VLOOKUP('Requête 052'!$A46,'Requête 052'!$A$1:$F$2000,1,FALSE),"") -> 3648 | B47: =IFERROR(VLOOKUP('Requête 052'!$A46,'Requête 052'!$A$1:$F$2000,2,FALSE),"") -> CGECP ST OUEN L AUMONE TDI | C47: =IFERROR(VLOOKUP('Requête 052'!$A46,'Requête 052'!$A$1:$F$2000,3,FALSE),"") -> 43801 | D47: =IFERROR(VLOOKUP('Requête 052'!$A46,'Requête 052'!$A$1:$F$2000,4,FALSE),"") -> CARTONS | E47: =IFERROR(VLOOKUP('Requête 052'!$A46,'Requête 052'!$A$1:$F$2000,5,FALSE),"") -> HUMIDITE | F47: =IFERROR(VLOOKUP('Requête 052'!$A46,'Requête 052'!$A$1:$F$2000,6,FALSE),"") -> 2.8 | G47: =IFERROR(VLOOKUP(A47,'Fichier source CGECP'!$A$1:$F$1259,1,FALSE),"") -> 3648 | H47: =IFERROR(VLOOKUP(A47,'Fichier source CGECP'!$A$1:$F$1259,2,FALSE),"") -> CGECP | I47: =IFERROR(VLOOKUP(A47,'Fichier source CGECP'!$A$1:$F$1259,3,FALSE),"") -> 43801 | J47: =IFERROR(VLOOKUP(A47,'Fichier source CGECP'!$A$1:$F$1259,4,FALSE),"") -> ONDULES RECUPERES - 1.05.00 | K47: =IFERROR(VLOOKUP(A47,'Fichier source CGECP'!$A$1:$F$1259,5,FALSE),"") -> ONDULE RECUPERE VRAC - BALLE<320 KG | L47: =IFERROR(IF(COUNTIFS($A$3:$A46,$A47,$B$3:$B46,$B47,$C$3:$C46,$C47,$D$3:$D46,$D47,$E$3:$E46,$E47,$F$3:$F46,$F47)>0,"",VLOOKUP(A47,'Fichier source CGECP'!$A$1:$F$1259,6,FALSE)),"") | M47: =IFERROR(F47-L47,"") | N47: =IFERROR(IF(SEARCH(H47,B47,1),"Ok","Ecart"),"") -> Ok | O47: =IFERROR(IF(E47=K47,"Ok","Ecart"),"") -> Ecart | P47: =IFERROR(IF(M47>=0,"Ok","Ecart"),"") -> Ok | Q47: =IFERROR(IF(OR(P47="Ecart",O47="Ecart",N47="Ecart"),"Ecart","Ok"),"") -> Ecart
A48: =IFERROR(VLOOKUP('Requête 052'!$A47,'Requête 052'!$A$1:$F$2000,1,FALSE),"") -> 3660 | B48: =IFERROR(VLOOKUP('Requête 052'!$A47,'Requête 052'!$A$1:$F$2000,2,FALSE),"") -> CGECP ST OUEN L AUMONE TDI | C48: =IFERROR(VLOOKUP('Requête 052'!$A47,'Requête 052'!$A$1:$F$2000,3,FALSE),"") -> 43801 | D48: =IFERROR(VLOOKUP('Requête 052'!$A47,'Requête 052'!$A$1:$F$2000,4,FALSE),"") -> GRAVATS EN MELANGE | E48: =IFERROR(VLOOKUP('Requête 052'!$A47,'Requête 052'!$A$1:$F$2000,5,FALSE),"") -> GRAVATS EN MELANGE | F48: =IFERROR(VLOOKUP('Requête 052'!$A47,'Requête 052'!$A$1:$F$2000,6,FALSE),"") -> 0.432 | G48: =IFERROR(VLOOKUP(A48,'Fichier source CGECP'!$A$1:$F$1259,1,FALSE),"") | H48: =IFERROR(VLOOKUP(A48,'Fichier source CGECP'!$A$1:$F$1259,2,FALSE),"") | I48: =IFERROR(VLOOKUP(A48,'Fichier source CGECP'!$A$1:$F$1259,3,FALSE),"") | J48: =IFERROR(VLOOKUP(A48,'Fichier source CGECP'!$A$1:$F$1259,4,FALSE),"") | K48: =IFERROR(VLOOKUP(A48,'Fichier source CGECP'!$A$1:$F$1259,5,FALSE),"") | L48: =IFERROR(IF(COUNTIFS($A$3:$A47,$A48,$B$3:$B47,$B48,$C$3:$C47,$C48,$D$3:$D47,$D48,$E$3:$E47,$E48,$F$3:$F47,$F48)>0,"",VLOOKUP(A48,'Fichier source CGECP'!$A$1:$F$1259,6,FALSE)),"") | M48: =IFERROR(F48-L48,"") | N48: =IFERROR(IF(SEARCH(H48,B48,1),"Ok","Ecart"),"") -> Ok | O48: =IFERROR(IF(E48=K48,"Ok","Ecart"),"") -> Ecart | P48: =IFERROR(IF(M48>=0,"Ok","Ecart"),"") -> Ok | Q48: =IFERROR(IF(OR(P48="Ecart",O48="Ecart",N48="Ecart"),"Ecart","Ok"),"") -> Ecart
A49: =IFERROR(VLOOKUP('Requête 052'!$A47,'Requête 052'!$A$1:$F$2000,1,FALSE),"") -> 3660 | B49: =IFERROR(VLOOKUP('Requête 052'!$A47,'Requête 052'!$A$1:$F$2000,2,FALSE),"") -> CGECP ST OUEN L AUMONE TDI | C49: =IFERROR(VLOOKUP('Requête 052'!$A47,'Requête 052'!$A$1:$F$2000,3,FALSE),"") -> 43801 | D49: =IFERROR(VLOOKUP('Requête 052'!$A47,'Requête 052'!$A$1:$F$2000,4,FALSE),"") -> GRAVATS EN MELANGE | E49: =IFERROR(VLOOKUP('Requête 052'!$A47,'Requête 052'!$A$1:$F$2000,5,FALSE),"") -> GRAVATS EN MELANGE | F49: =IFERROR(VLOOKUP('Requête 052'!$A47,'Requête 052'!$A$1:$F$2000,6,FALSE),"") -> 0.432 | G49: =IFERROR(VLOOKUP(A49,'Fichier source CGECP'!$A$1:$F$1259,1,FALSE),"") | H49: =IFERROR(VLOOKUP(A49,'Fichier source CGECP'!$A$1:$F$1259,2,FALSE),"") | I49: =IFERROR(VLOOKUP(A49,'Fichier source CGECP'!$A$1:$F$1259,3,FALSE),"") | J49: =IFERROR(VLOOKUP(A49,'Fichier source CGECP'!$A$1:$F$1259,4,FALSE),"") | K49: =IFERROR(VLOOKUP(A49,'Fichier source CGECP'!$A$1:$F$1259,5,FALSE),"") | L49: =IFERROR(IF(COUNTIFS($A$3:$A48,$A49,$B$3:$B48,$B49,$C$3:$C48,$C49,$D$3:$D48,$D49,$E$3:$E48,$E49,$F$3:$F48,$F49)>0,"",VLOOKUP(A49,'Fichier source CGECP'!$A$1:$F$1259,6,FALSE)),"") | M49: =IFERROR(F49-L49,"") | N49: =IFERROR(IF(SEARCH(H49,B49,1),"Ok","Ecart"),"") -> Ok | O49: =IFERROR(IF(E49=K49,"Ok","Ecart"),"") -> Ecart | P49: =IFERROR(IF(M49>=0,"Ok","Ecart"),"") -> Ok | Q49: =IFERROR(IF(OR(P49="Ecart",O49="Ecart",N49="Ecart"),"Ecart","Ok"),"") -> Ecart
A50: =IFERROR(VLOOKUP('Requête 052'!$A48,'Requête 052'!$A$1:$F$2000,1,FALSE),"") -> 3666 | B50: =IFERROR(VLOOKUP('Requête 052'!$A48,'Requête 052'!$A$1:$F$2000,2,FALSE),"") -> CGECP ST OUEN L AUMONE TDI | C50: =IFERROR(VLOOKUP('Requête 052'!$A48,'Requête 052'!$A$1:$F$2000,3,FALSE),"") -> 43801 | D50: =IFERROR(VLOOKUP('Requête 052'!$A48,'Requête 052'!$A$1:$F$2000,4,FALSE),"") -> MATIERE VALO EN MELANGE | E50: =IFERROR(VLOOKUP('Requête 052'!$A48,'Requête 052'!$A$1:$F$2000,5,FALSE),"") -> MATIERE VALO EN MELANGE | F50: =IFERROR(VLOOKUP('Requête 052'!$A48,'Requête 052'!$A$1:$F$2000,6,FALSE),"") -> 0.2 | G50: =IFERROR(VLOOKUP(A50,'Fichier source CGECP'!$A$1:$F$1259,1,FALSE),"") -> 3666 | H50: =IFERROR(VLOOKUP(A50,'Fichier source CGECP'!$A$1:$F$1259,2,FALSE),"") -> CGECP | I50: =IFERROR(VLOOKUP(A50,'Fichier source CGECP'!$A$1:$F$1259,3,FALSE),"") -> 43801 | J50: =IFERROR(VLOOKUP(A50,'Fichier source CGECP'!$A$1:$F$1259,4,FALSE),"") -> 0 | K50: =IFERROR(VLOOKUP(A50,'Fichier source CGECP'!$A$1:$F$1259,5,FALSE),"") -> ORDURES MENAGERES | L50: =IFERROR(IF(COUNTIFS($A$3:$A49,$A50,$B$3:$B49,$B50,$C$3:$C49,$C50,$D$3:$D49,$D50,$E$3:$E49,$E50,$F$3:$F49,$F50)>0,"",VLOOKUP(A50,'Fichier source CGECP'!$A$1:$F$1259,6,FALSE)),"") -> 2.04 | M50: =IFERROR(F50-L50,"") -> -1.84 | N50: =IFERROR(IF(SEARCH(H50,B50,1),"Ok","Ecart"),"") -> Ok | O50: =IFERROR(IF(E50=K50,"Ok","Ecart"),"") -> Ecart | P50: =IFERROR(IF(M50>=0,"Ok","Ecart"),"") -> Ecart | Q50: =IFERROR(IF(OR(P50="Ecart",O50="Ecart",N50="Ecart"),"Ecart","Ok"),"") -> Ecart
A51: =IFERROR(VLOOKUP('Requête 052'!$A49,'Requête 052'!$A$1:$F$2000,1,FALSE),"") -> 3667 | B51: =IFERROR(VLOOKUP('Requête 052'!$A49,'Requête 052'!$A$1:$F$2000,2,FALSE),"") -> CGECP ST OUEN L AUMONE TDI | C51: =IFERROR(VLOOKUP('Requête 052'!$A49,'Requête 052'!$A$1:$F$2000,3,FALSE),"") -> 43801 | D51: =IFERROR(VLOOKUP('Requête 052'!$A49,'Requête 052'!$A$1:$F$2000,4,FALSE),"") -> DECHETS INDUSTRIELS BANALS | E51: =IFERROR(VLOOKUP('Requête 052'!$A49,'Requête 052'!$A$1:$F$2000,5,FALSE),"") -> DECHETS INDUSTRIELS BANALS | F51: =IFERROR(VLOOKUP('Requête 052'!$A49,'Requête 052'!$A$1:$F$2000,6,FALSE),"") -> 2.52 | G51: =IFERROR(VLOOKUP(A51,'Fichier source CGECP'!$A$1:$F$1259,1,FALSE),"") -> 3667 | H51: =IFERROR(VLOOKUP(A51,'Fichier source CGECP'!$A$1:$F$1259,2,FALSE),"") -> CGECP | I51: =IFERROR(VLOOKUP(A51,'Fichier source CGECP'!$A$1:$F$1259,3,FALSE),"") -> 43801 | J51: =IFERROR(VLOOKUP(A51,'Fichier source CGECP'!$A$1:$F$1259,4,FALSE),"") -> DECHETS INDUSTRIELS BANALS | K51: =IFERROR(VLOOKUP(A51,'Fichier source CGECP'!$A$1:$F$1259,5,FALSE),"") -> DECHETS INDUSTRIELS BANALS | L51: =IFERROR(IF(COUNTIFS($A$3:$A50,$A51,$B$3:$B50,$B51,$C$3:$C50,$C51,$D$3:$D50,$D51,$E$3:$E50,$E51,$F$3:$F50,$F51)>0,"",VLOOKUP(A51,'Fichier source CGECP'!$A$1:$F$1259,6,FALSE)),"") -> 0.9 | M51: =IFERROR(F51-L51,"") -> 1.62 | N51: =IFERROR(IF(SEARCH(H51,B51,1),"Ok","Ecart"),"") -> Ok | O51: =IFERROR(IF(E51=K51,"Ok","Ecart"),"") -> Ok | P51: =IFERROR(IF(M51>=0,"Ok","Ecart"),"") -> Ok | Q51: =IFERROR(IF(OR(P51="Ecart",O51="Ecart",N51="Ecart"),"Ecart","Ok"),"") -> Ok
A52: =IFERROR(VLOOKUP('Requête 052'!$A51,'Requête 052'!$A$1:$F$2000,1,FALSE),"") -> 3671 | B52: =IFERROR(VLOOKUP('Requête 052'!$A51,'Requête 052'!$A$1:$F$2000,2,FALSE),"") -> CGECP ST OUEN L AUMONE TPCPR | C52: =IFERROR(VLOOKUP('Requête 052'!$A51,'Requête 052'!$A$1:$F$2000,3,FALSE),"") -> 43801 | D52: =IFERROR(VLOOKUP('Requête 052'!$A51,'Requête 052'!$A$1:$F$2000,4,FALSE),"") -> CARTONS ET SACHES PLAST - 1.04.00 | E52: =IFERROR(VLOOKUP('Requête 052'!$A51,'Requête 052'!$A$1:$F$2000,5,FALSE),"") -> REFUS DE TRI TPCPR | F52: =IFERROR(VLOOKUP('Requête 052'!$A51,'Requête 052'!$A$1:$F$2000,6,FALSE),"") -> 3.66 | G52: =IFERROR(VLOOKUP(A52,'Fichier source CGECP'!$A$1:$F$1259,1,FALSE),"") -> 3671 | H52: =IFERROR(VLOOKUP(A52,'Fichier source CGECP'!$A$1:$F$1259,2,FALSE),"") -> CGECP | I52: =IFERROR(VLOOKUP(A52,'Fichier source CGECP'!$A$1:$F$1259,3,FALSE),"") -> 43801 | J52: =IFERROR(VLOOKUP(A52,'Fichier source CGECP'!$A$1:$F$1259,4,FALSE),"") -> CARTONS ET SACHES PLAST - 1.04.00 | K52: =IFERROR(VLOOKUP(A52,'Fichier source CGECP'!$A$1:$F$1259,5,FALSE),"") -> CARTONS ET SACHES PLAST - 1.04.00 | L52: =IFERROR(IF(COUNTIFS($A$3:$A51,$A52,$B$3:$B51,$B52,$C$3:$C51,$C52,$D$3:$D51,$D52,$E$3:$E51,$E52,$F$3:$F51,$F52)>0,"",VLOOKUP(A52,'Fichier source CGECP'!$A$1:$F$1259,6,FALSE)),"") -> 0.84 | M52: =IFERROR(F52-L52,"") -> 2.82 | N52: =IFERROR(IF(SEARCH(H52,B52,1),"Ok","Ecart"),"") -> Ok | O52: =IFERROR(IF(E52=K52,"Ok","Ecart"),"") -> Ecart | P52: =IFERROR(IF(M52>=0,"Ok","Ecart"),"") -> Ok | Q52: =IFERROR(IF(OR(P52="Ecart",O52="Ecart",N52="Ecart"),"Ecart","Ok"),"") -> Ecart
A53: =IFERROR(VLOOKUP('Requête 052'!$A52,'Requête 052'!$A$1:$F$2000,1,FALSE),"") -> 3672 | B53: =IFERROR(VLOOKUP('Requête 052'!$A52,'Requête 052'!$A$1:$F$2000,2,FALSE),"") -> CGECP ST OUEN L AUMONE TDI | C53: =IFERROR(VLOOKUP('Requête 052'!$A52,'Requête 052'!$A$1:$F$2000,3,FALSE),"") -> 43801 | D53: =IFERROR(VLOOKUP('Requête 052'!$A52,'Requête 052'!$A$1:$F$2000,4,FALSE),"") -> ENCOMBRANTS | E53: =IFERROR(VLOOKUP('Requête 052'!$A52,'Requête 052'!$A$1:$F$2000,5,FALSE),"") -> ENCOMBRANTS | F53: =IFERROR(VLOOKUP('Requête 052'!$A52,'Requête 052'!$A$1:$F$2000,6,FALSE),"") -> 2.17 | G53: =IFERROR(VLOOKUP(A53,'Fichier source CGECP'!$A$1:$F$1259,1,FALSE),"") | H53: =IFERROR(VLOOKUP(A53,'Fichier source CGECP'!$A$1:$F$1259,2,FALSE),"") | I53: =IFERROR(VLOOKUP(A53,'Fichier source CGECP'!$A$1:$F$1259,3,FALSE),"") | J53: =IFERROR(VLOOKUP(A53,'Fichier source CGECP'!$A$1:$F$1259,4,FALSE),"") | K53: =IFERROR(VLOOKUP(A53,'Fichier source CGECP'!$A$1:$F$1259,5,FALSE),"") | L53: =IFERROR(IF(COUNTIFS($A$3:$A52,$A53,$B$3:$B52,$B53,$C$3:$C52,$C53,$D$3:$D52,$D53,$E$3:$E52,$E53,$F$3:$F52,$F53)>0,"",VLOOKUP(A53,'Fichier source CGECP'!$A$1:$F$1259,6,FALSE)),"") | M53: =IFERROR(F53-L53,"") | N53: =IFERROR(IF(SEARCH(H53,B53,1),"Ok","Ecart"),"") -> Ok | O53: =IFERROR(IF(E53=K53,"Ok","Ecart"),"") -> Ecart | P53: =IFERROR(IF(M53>=0,"Ok","Ecart"),"") -> Ok | Q53: =IFERROR(IF(OR(P53="Ecart",O53="Ecart",N53="Ecart"),"Ecart","Ok"),"") -> Ecart
A54: =IFERROR(VLOOKUP('Requête 052'!$A52,'Requête 052'!$A$1:$F$2000,1,FALSE),"") -> 3672 | B54: =IFERROR(VLOOKUP('Requête 052'!$A52,'Requête 052'!$A$1:$F$2000,2,FALSE),"") -> CGECP ST OUEN L AUMONE TDI | C54: =IFERROR(VLOOKUP('Requête 052'!$A52,'Requête 052'!$A$1:$F$2000,3,FALSE),"") -> 43801 | D54: =IFERROR(VLOOKUP('Requête 052'!$A52,'Requête 052'!$A$1:$F$2000,4,FALSE),"") -> ENCOMBRANTS | E54: =IFERROR(VLOOKUP('Requête 052'!$A52,'Requête 052'!$A$1:$F$2000,5,FALSE),"") -> ENCOMBRANTS | F54: =IFERROR(VLOOKUP('Requête 052'!$A52,'Requête 052'!$A$1:$F$2000,6,FALSE),"") -> 2.17 | G54: =IFERROR(VLOOKUP(A54,'Fichier source CGECP'!$A$1:$F$1259,1,FALSE),"") | H54: =IFERROR(VLOOKUP(A54,'Fichier source CGECP'!$A$1:$F$1259,2,FALSE),"") | I54: =IFERROR(VLOOKUP(A54,'Fichier source CGECP'!$A$1:$F$1259,3,FALSE),"") | J54: =IFERROR(VLOOKUP(A54,'Fichier source CGECP'!$A$1:$F$1259,4,FALSE),"") | K54: =IFERROR(VLOOKUP(A54,'Fichier source CGECP'!$A$1:$F$1259,5,FALSE),"") | L54: =IFERROR(IF(COUNTIFS($A$3:$A53,$A54,$B$3:$B53,$B54,$C$3:$C53,$C54,$D$3:$D53,$D54,$E$3:$E53,$E54,$F$3:$F53,$F54)>0,"",VLOOKUP(A54,'Fichier source CGECP'!$A$1:$F$1259,6,FALSE)),"") | M54: =IFERROR(F54-L54,"") | N54: =IFERROR(IF(SEARCH(H54,B54,1),"Ok","Ecart"),"") -> Ok | O54: =IFERROR(IF(E54=K54,"Ok","Ecart"),"") -> Ecart | P54: =IFERROR(IF(M54>=0,"Ok","Ecart"),"") -> Ok | Q54: =IFERROR(IF(OR(P54="Ecart",O54="Ecart",N54="Ecart"),"Ecart","Ok"),"") -> Ecart
A55: =IFERROR(VLOOKUP('Requête 052'!$A54,'Requête 052'!$A$1:$F$2000,1,FALSE),"") -> 3678 | B55: =IFERROR(VLOOKUP('Requête 052'!$A54,'Requête 052'!$A$1:$F$2000,2,FALSE),"") -> CGECP ST OUEN L AUMONE UVEND | C55: =IFERROR(VLOOKUP('Requête 052'!$A54,'Requête 052'!$A$1:$F$2000,3,FALSE),"") -> 43801 | D55: =IFERROR(VLOOKUP('Requête 052'!$A54,'Requête 052'!$A$1:$F$2000,4,FALSE),"") -> DECHETS INDUSTRIELS BANALS | E55: =IFERROR(VLOOKUP('Requête 052'!$A54,'Requête 052'!$A$1:$F$2000,5,FALSE),"") -> DECHETS INDUSTRIELS BANALS | F55: =IFERROR(VLOOKUP('Requête 052'!$A54,'Requête 052'!$A$1:$F$2000,6,FALSE),"") -> 1.968 | G55: =IFERROR(VLOOKUP(A55,'Fichier source CGECP'!$A$1:$F$1259,1,FALSE),"") -> 3678 | H55: =IFERROR(VLOOKUP(A55,'Fichier source CGECP'!$A$1:$F$1259,2,FALSE),"") -> CGECP | I55: =IFERROR(VLOOKUP(A55,'Fichier source CGECP'!$A$1:$F$1259,3,FALSE),"") -> 43801 | J55: =IFERROR(VLOOKUP(A55,'Fichier source CGECP'!$A$1:$F$1259,4,FALSE),"") -> DECHETS INDUSTRIELS BANALS | K55: =IFERROR(VLOOKUP(A55,'Fichier source CGECP'!$A$1:$F$1259,5,FALSE),"") -> DECHETS INDUSTRIELS BANALS | L55: =IFERROR(IF(COUNTIFS($A$3:$A54,$A55,$B$3:$B54,$B55,$C$3:$C54,$C55,$D$3:$D54,$D55,$E$3:$E54,$E55,$F$3:$F54,$F55)>0,"",VLOOKUP(A55,'Fichier source CGECP'!$A$1:$F$1259,6,FALSE)),"") -> 3.28 | M55: =IFERROR(F55-L55,"") -> -1.312 | N55: =IFERROR(IF(SEARCH(H55,B55,1),"Ok","Ecart"),"") -> Ok | O55: =IFERROR(IF(E55=K55,"Ok","Ecart"),"") -> Ok | P55: =IFERROR(IF(M55>=0,"Ok","Ecart"),"") -> Ecart | Q55: =IFERROR(IF(OR(P55="Ecart",O55="Ecart",N55="Ecart"),"Ecart","Ok"),"") -> Ecart
A56: =IFERROR(VLOOKUP('Requête 052'!$A55,'Requête 052'!$A$1:$F$2000,1,FALSE),"") -> 3689 | B56: =IFERROR(VLOOKUP('Requête 052'!$A55,'Requête 052'!$A$1:$F$2000,2,FALSE),"") -> CGECP ST OUEN L AUMONE DVBIODIV | C56: =IFERROR(VLOOKUP('Requête 052'!$A55,'Requête 052'!$A$1:$F$2000,3,FALSE),"") -> 43801 | D56: =IFERROR(VLOOKUP('Requête 052'!$A55,'Requête 052'!$A$1:$F$2000,4,FALSE),"") -> DECHETS VERTS EN MELANGE | E56: =IFERROR(VLOOKUP('Requête 052'!$A55,'Requête 052'!$A$1:$F$2000,5,FALSE),"") -> DECHETS VERTS EN MELANGE | F56: =IFERROR(VLOOKUP('Requête 052'!$A55,'Requête 052'!$A$1:$F$2000,6,FALSE),"") -> 3.78 | G56: =IFERROR(VLOOKUP(A56,'Fichier source CGECP'!$A$1:$F$1259,1,FALSE),"") | H56: =IFERROR(VLOOKUP(A56,'Fichier source CGECP'!$A$1:$F$1259,2,FALSE),"") | I56: =IFERROR(VLOOKUP(A56,'Fichier source CGECP'!$A$1:$F$1259,3,FALSE),"") | J56: =IFERROR(VLOOKUP(A56,'Fichier source CGECP'!$A$1:$F$1259,4,FALSE),"") | K56: =IFERROR(VLOOKUP(A56,'Fichier source CGECP'!$A$1:$F$1259,5,FALSE),"") | L56: =IFERROR(IF(COUNTIFS($A$3:$A55,$A56,$B$3:$B55,$B56,$C$3:$C55,$C56,$D$3:$D55,$D56,$E$3:$E55,$E56,$F$3:$F55,$F56)>0,"",VLOOKUP(A56,'Fichier source CGECP'!$A$1:$F$1259,6,FALSE)),"") | M56: =IFERROR(F56-L56,"") | N56: =IFERROR(IF(SEARCH(H56,B56,1),"Ok","Ecart"),"") -> Ok | O56: =IFERROR(IF(E56=K56,"Ok","Ecart"),"") -> Ecart | P56: =IFERROR(IF(M56>=0,"Ok","Ecart"),"") -> Ok | Q56: =IFERROR(IF(OR(P56="Ecart",O56="Ecart",N56="Ecart"),"Ecart","Ok"),"") -> Ecart
A57: =IFERROR(VLOOKUP('Requête 052'!$A56,'Requête 052'!$A$1:$F$2000,1,FALSE),"") -> 3690 | B57: =IFERROR(VLOOKUP('Requête 052'!$A56,'Requête 052'!$A$1:$F$2000,2,FALSE),"") -> CGECP ST OUEN L AUMONE TDI | C57: =IFERROR(VLOOKUP('Requête 052'!$A56,'Requête 052'!$A$1:$F$2000,3,FALSE),"") -> 43801 | D57: =IFERROR(VLOOKUP('Requête 052'!$A56,'Requête 052'!$A$1:$F$2000,4,FALSE),"") -> DECHETS INDUSTRIELS BANALS | E57: =IFERROR(VLOOKUP('Requête 052'!$A56,'Requête 052'!$A$1:$F$2000,5,FALSE),"") -> ENCOMBRANTS | F57: =IFERROR(VLOOKUP('Requête 052'!$A56,'Requête 052'!$A$1:$F$2000,6,FALSE),"") -> 1.12 | G57: =IFERROR(VLOOKUP(A57,'Fichier source CGECP'!$A$1:$F$1259,1,FALSE),"") -> 3690 | H57: =IFERROR(VLOOKUP(A57,'Fichier source CGECP'!$A$1:$F$1259,2,FALSE),"") -> CGECP | I57: =IFERROR(VLOOKUP(A57,'Fichier source CGECP'!$A$1:$F$1259,3,FALSE),"") -> 43801 | J57: =IFERROR(VLOOKUP(A57,'Fichier source CGECP'!$A$1:$F$1259,4,FALSE),"") -> 0 | K57: =IFERROR(VLOOKUP(A57,'Fichier source CGECP'!$A$1:$F$1259,5,FALSE),"") -> ENCOMBRANTS | L57: =IFERROR(IF(COUNTIFS($A$3:$A56,$A57,$B$3:$B56,$B57,$C$3:$C56,$C57,$D$3:$D56,$D57,$E$3:$E56,$E57,$F$3:$F56,$F57)>0,"",VLOOKUP(A57,'Fichier source CGECP'!$A$1:$F$1259,6,FALSE)),"") -> 3.78 | M57: =IFERROR(F57-L57,"") -> -2.66 | N57: =IFERROR(IF(SEARCH(H57,B57,1),"Ok","Ecart"),"") -> Ok | O57: =IFERROR(IF(E57=K57,"Ok","Ecart"),"") -> Ok | P57: =IFERROR(IF(M57>=0,"Ok","Ecart"),"") -> Ecart | Q57: =IFERROR(IF(OR(P57="Ecart",O57="Ecart",N57="Ecart"),"Ecart","Ok"),"") -> Ecart
A58: =IFERROR(VLOOKUP('Requête 052'!$A57,'Requête 052'!$A$1:$F$2000,1,FALSE),"") -> 3697 | B58: =IFERROR(VLOOKUP('Requête 052'!$A57,'Requête 052'!$A$1:$F$2000,2,FALSE),"") -> CGECP ST OUEN L AUMONE TDI | C58: =IFERROR(VLOOKUP('Requête 052'!$A57,'Requête 052'!$A$1:$F$2000,3,FALSE),"") -> 43801 | D58: =IFERROR(VLOOKUP('Requête 052'!$A57,'Requête 052'!$A$1:$F$2000,4,FALSE),"") -> MATIERE VALO EN MELANGE | E58: =IFERROR(VLOOKUP('Requête 052'!$A57,'Requête 052'!$A$1:$F$2000,5,FALSE),"") -> MATIERE VALO EN MELANGE | F58: =IFERROR(VLOOKUP('Requête 052'!$A57,'Requête 052'!$A$1:$F$2000,6,FALSE),"") -> 1.36 | G58: =IFERROR(VLOOKUP(A58,'Fichier source CGECP'!$A$1:$F$1259,1,FALSE),"") -> 3697 | H58: =IFERROR(VLOOKUP(A58,'Fichier source CGECP'!$A$1:$F$1259,2,FALSE),"") -> CGECP | I58: =IFERROR(VLOOKUP(A58,'Fichier source CGECP'!$A$1:$F$1259,3,FALSE),"") -> 43801 | J58: =IFERROR(VLOOKUP(A58,'Fichier source CGECP'!$A$1:$F$1259,4,FALSE),"") -> MATIERE VALO EN MELANGE | K58: =IFERROR(VLOOKUP(A58,'Fichier source CGECP'!$A$1:$F$1259,5,FALSE),"") -> MATIERE VALO EN MELANGE | L58: =IFERROR(IF(COUNTIFS($A$3:$A57,$A58,$B$3:$B57,$B58,$C$3:$C57,$C58,$D$3:$D57,$D58,$E$3:$E57,$E58,$F$3:$F57,$F58)>0,"",VLOOKUP(A58,'Fichier source CGECP'!$A$1:$F$1259,6,FALSE)),"") -> 2.096 | M58: =IFERROR(F58-L58,"") -> -0.736 | N58: =IFERROR(IF(SEARCH(H58,B58,1),"Ok","Ecart"),"") -> Ok | O58: =IFERROR(IF(E58=K58,"Ok","Ecart"),"") -> Ok | P58: =IFERROR(IF(M58>=0,"Ok","Ecart"),"") -> Ecart | Q58: =IFERROR(IF(OR(P58="Ecart",O58="Ecart",N58="Ecart"),"Ecart","Ok"),"") -> Ecart
A59: =IFERROR(VLOOKUP('Requête 052'!$A58,'Requête 052'!$A$1:$F$2000,1,FALSE),"") -> 3697 | B59: =IFERROR(VLOOKUP('Requête 052'!$A58,'Requête 052'!$A$1:$F$2000,2,FALSE),"") -> CGECP ST OUEN L AUMONE TDI | C59: =IFERROR(VLOOKUP('Requête 052'!$A58,'Requête 052'!$A$1:$F$2000,3,FALSE),"") -> 43801 | D59: =IFERROR(VLOOKUP('Requête 052'!$A58,'Requête 052'!$A$1:$F$2000,4,FALSE),"") -> MATIERE VALO EN MELANGE | E59: =IFERROR(VLOOKUP('Requête 052'!$A58,'Requête 052'!$A$1:$F$2000,5,FALSE),"") -> MATIERE VALO EN MELANGE | F59: =IFERROR(VLOOKUP('Requête 052'!$A58,'Requête 052'!$A$1:$F$2000,6,FALSE),"") -> 1.36 | G59: =IFERROR(VLOOKUP(A59,'Fichier source CGECP'!$A$1:$F$1259,1,FALSE),"") -> 3697 | H59: =IFERROR(VLOOKUP(A59,'Fichier source CGECP'!$A$1:$F$1259,2,FALSE),"") -> CGECP | I59: =IFERROR(VLOOKUP(A59,'Fichier source CGECP'!$A$1:$F$1259,3,FALSE),"") -> 43801 | J59: =IFERROR(VLOOKUP(A59,'Fichier source CGECP'!$A$1:$F$1259,4,FALSE),"") -> MATIERE VALO EN MELANGE | K59: =IFERROR(VLOOKUP(A59,'Fichier source CGECP'!$A$1:$F$1259,5,FALSE),"") -> MATIERE VALO EN MELANGE | L59: =IFERROR(IF(COUNTIFS($A$3:$A58,$A59,$B$3:$B58,$B59,$C$3:$C58,$C59,$D$3:$D58,$D59,$E$3:$E58,$E59,$F$3:$F58,$F59)>0,"",VLOOKUP(A59,'Fichier source CGECP'!$A$1:$F$1259,6,FALSE)),"") | M59: =IFERROR(F59-L59,"") | N59: =IFERROR(IF(SEARCH(H59,B59,1),"Ok","Ecart"),"") -> Ok | O59: =IFERROR(IF(E59=K59,"Ok","Ecart"),"") -> Ok | P59: =IFERROR(IF(M59>=0,"Ok","Ecart"),"") -> Ok | Q59: =IFERROR(IF(OR(P59="Ecart",O59="Ecart",N59="Ecart"),"Ecart","Ok"),"") -> Ok
A60: =IFERROR(VLOOKUP('Requête 052'!$A59,'Requête 052'!$A$1:$F$2000,1,FALSE),"") -> 3698 | B60: =IFERROR(VLOOKUP('Requête 052'!$A59,'Requête 052'!$A$1:$F$2000,2,FALSE),"") -> CGECP ST OUEN L AUMONE TDI | C60: =IFERROR(VLOOKUP('Requête 052'!$A59,'Requête 052'!$A$1:$F$2000,3,FALSE),"") -> 43801 | D60: =IFERROR(VLOOKUP('Requête 052'!$A59,'Requête 052'!$A$1:$F$2000,4,FALSE),"") -> ENCOMBRANTS | E60: =IFERROR(VLOOKUP('Requête 052'!$A59,'Requête 052'!$A$1:$F$2000,5,FALSE),"") -> ENCOMBRANTS | F60: =IFERROR(VLOOKUP('Requête 052'!$A59,'Requête 052'!$A$1:$F$2000,6,FALSE),"") -> 0.93 | G60: =IFERROR(VLOOKUP(A60,'Fichier source CGECP'!$A$1:$F$1259,1,FALSE),"") | H60: =IFERROR(VLOOKUP(A60,'Fichier source CGECP'!$A$1:$F$1259,2,FALSE),"") | I60: =IFERROR(VLOOKUP(A60,'Fichier source CGECP'!$A$1:$F$1259,3,FALSE),"") | J60: =IFERROR(VLOOKUP(A60,'Fichier source CGECP'!$A$1:$F$1259,4,FALSE),"") | K60: =IFERROR(VLOOKUP(A60,'Fichier source CGECP'!$A$1:$F$1259,5,FALSE),"") | L60: =IFERROR(IF(COUNTIFS($A$3:$A59,$A60,$B$3:$B59,$B60,$C$3:$C59,$C60,$D$3:$D59,$D60,$E$3:$E59,$E60,$F$3:$F59,$F60)>0,"",VLOOKUP(A60,'Fichier source CGECP'!$A$1:$F$1259,6,FALSE)),"") | M60: =IFERROR(F60-L60,"") | N60: =IFERROR(IF(SEARCH(H60,B60,1),"Ok","Ecart"),"") -> Ok | O60: =IFERROR(IF(E60=K60,"Ok","Ecart"),"") -> Ecart | P60: =IFERROR(IF(M60>=0,"Ok","Ecart"),"") -> Ok | Q60: =IFERROR(IF(OR(P60="Ecart",O60="Ecart",N60="Ecart"),"Ecart","Ok"),"") -> Ecart
A61: =IFERROR(VLOOKUP('Requête 052'!$A60,'Requête 052'!$A$1:$F$2000,1,FALSE),"") -> 3708 | B61: =IFERROR(VLOOKUP('Requête 052'!$A60,'Requête 052'!$A$1:$F$2000,2,FALSE),"") -> CGECP ST OUEN L AUMONE UVEND | C61: =IFERROR(VLOOKUP('Requête 052'!$A60,'Requête 052'!$A$1:$F$2000,3,FALSE),"") -> 43802 | D61: =IFERROR(VLOOKUP('Requête 052'!$A60,'Requête 052'!$A$1:$F$2000,4,FALSE),"") -> DECHET A INCINERER TRI | E61: =IFERROR(VLOOKUP('Requête 052'!$A60,'Requête 052'!$A$1:$F$2000,5,FALSE),"") -> DECHET A INCINERER TRI | F61: =IFERROR(VLOOKUP('Requête 052'!$A60,'Requête 052'!$A$1:$F$2000,6,FALSE),"") -> 3.3 | G61: =IFERROR(VLOOKUP(A61,'Fichier source CGECP'!$A$1:$F$1259,1,FALSE),"") -> 3708 | H61: =IFERROR(VLOOKUP(A61,'Fichier source CGECP'!$A$1:$F$1259,2,FALSE),"") -> CGECP | I61: =IFERROR(VLOOKUP(A61,'Fichier source CGECP'!$A$1:$F$1259,3,FALSE),"") -> 43801 | J61: =IFERROR(VLOOKUP(A61,'Fichier source CGECP'!$A$1:$F$1259,4,FALSE),"") -> CARTONS | K61: =IFERROR(VLOOKUP(A61,'Fichier source CGECP'!$A$1:$F$1259,5,FALSE),"") -> CARTONS | L61: =IFERROR(IF(COUNTIFS($A$3:$A60,$A61,$B$3:$B60,$B61,$C$3:$C60,$C61,$D$3:$D60,$D61,$E$3:$E60,$E61,$F$3:$F60,$F61)>0,"",VLOOKUP(A61,'Fichier source CGECP'!$A$1:$F$1259,6,FALSE)),"") -> 1.819 | M61: =IFERROR(F61-L61,"") -> 1.481 | N61: =IFERROR(IF(SEARCH(H61,B61,1),"Ok","Ecart"),"") -> Ok | O61: =IFERROR(IF(E61=K61,"Ok","Ecart"),"") -> Ecart | P61: =IFERROR(IF(M61>=0,"Ok","Ecart"),"") -> Ok | Q61: =IFERROR(IF(OR(P61="Ecart",O61="Ecart",N61="Ecart"),"Ecart","Ok"),"") -> Ecart
A62: =IFERROR(VLOOKUP('Requête 052'!$A61,'Requête 052'!$A$1:$F$2000,1,FALSE),"") -> 3719 | B62: =IFERROR(VLOOKUP('Requête 052'!$A61,'Requête 052'!$A$1:$F$2000,2,FALSE),"") -> CGECP ST OUEN L AUMONE TDI | C62: =IFERROR(VLOOKUP('Requête 052'!$A61,'Requête 052'!$A$1:$F$2000,3,FALSE),"") -> 43801 | D62: =IFERROR(VLOOKUP('Requête 052'!$A61,'Requête 052'!$A$1:$F$2000,4,FALSE),"") -> FERRAILLES A BROYER (FAB) | E62: =IFERROR(VLOOKUP('Requête 052'!$A61,'Requête 052'!$A$1:$F$2000,5,FALSE),"") -> FERRAILLES A BROYER (FAB) | F62: =IFERROR(VLOOKUP('Requête 052'!$A61,'Requête 052'!$A$1:$F$2000,6,FALSE),"") -> 0.216 | G62: =IFERROR(VLOOKUP(A62,'Fichier source CGECP'!$A$1:$F$1259,1,FALSE),"") | H62: =IFERROR(VLOOKUP(A62,'Fichier source CGECP'!$A$1:$F$1259,2,FALSE),"") | I62: =IFERROR(VLOOKUP(A62,'Fichier source CGECP'!$A$1:$F$1259,3,FALSE),"") | J62: =IFERROR(VLOOKUP(A62,'Fichier source CGECP'!$A$1:$F$1259,4,FALSE),"") | K62: =IFERROR(VLOOKUP(A62,'Fichier source CGECP'!$A$1:$F$1259,5,FALSE),"") | L62: =IFERROR(IF(COUNTIFS($A$3:$A61,$A62,$B$3:$B61,$B62,$C$3:$C61,$C62,$D$3:$D61,$D62,$E$3:$E61,$E62,$F$3:$F61,$F62)>0,"",VLOOKUP(A62,'Fichier source CGECP'!$A$1:$F$1259,6,FALSE)),"") | M62: =IFERROR(F62-L62,"") | N62: =IFERROR(IF(SEARCH(H62,B62,1),"Ok","Ecart"),"") -> Ok | O62: =IFERROR(IF(E62=K62,"Ok","Ecart"),"") -> Ecart | P62: =IFERROR(IF(M62>=0,"Ok","Ecart"),"") -> Ok | Q62: =IFERROR(IF(OR(P62="Ecart",O62="Ecart",N62="Ecart"),"Ecart","Ok"),"") -> Ecart
A63: =IFERROR(VLOOKUP('Requête 052'!$A62,'Requête 052'!$A$1:$F$2000,1,FALSE),"") -> 3741 | B63: =IFERROR(VLOOKUP('Requête 052'!$A62,'Requête 052'!$A$1:$F$2000,2,FALSE),"") -> CGECP ST OUEN L AUMONE TDI | C63: =IFERROR(VLOOKUP('Requête 052'!$A62,'Requête 052'!$A$1:$F$2000,3,FALSE),"") -> 43801 | D63: =IFERROR(VLOOKUP('Requête 052'!$A62,'Requête 052'!$A$1:$F$2000,4,FALSE),"") -> BOIS D'EMBALLAGES BRUTS | E63: =IFERROR(VLOOKUP('Requête 052'!$A62,'Requête 052'!$A$1:$F$2000,5,FALSE),"") -> DECHETS INDUSTRIELS BANALS | F63: =IFERROR(VLOOKUP('Requête 052'!$A62,'Requête 052'!$A$1:$F$2000,6,FALSE),"") -> 2.203 | G63: =IFERROR(VLOOKUP(A63,'Fichier source CGECP'!$A$1:$F$1259,1,FALSE),"") -> 3741 | H63: =IFERROR(VLOOKUP(A63,'Fichier source CGECP'!$A$1:$F$1259,2,FALSE),"") -> CGECP | I63: =IFERROR(VLOOKUP(A63,'Fichier source CGECP'!$A$1:$F$1259,3,FALSE),"") -> 43801 | J63: =IFERROR(VLOOKUP(A63,'Fichier source CGECP'!$A$1:$F$1259,4,FALSE),"") -> BOIS D'EMBALLAGES BRUTS | K63: =IFERROR(VLOOKUP(A63,'Fichier source CGECP'!$A$1:$F$1259,5,FALSE),"") -> DECHETS INDUSTRIELS BANALS | L63: =IFERROR(IF(COUNTIFS($A$3:$A62,$A63,$B$3:$B62,$B63,$C$3:$C62,$C63,$D$3:$D62,$D63,$E$3:$E62,$E63,$F$3:$F62,$F63)>0,"",VLOOKUP(A63,'Fichier source CGECP'!$A$1:$F$1259,6,FALSE)),"") -> 4.18 | M63: =IFERROR(F63-L63,"") -> -1.977 | N63: =IFERROR(IF(SEARCH(H63,B63,1),"Ok","Ecart"),"") -> Ok | O63: =IFERROR(IF(E63=K63,"Ok","Ecart"),"") -> Ok | P63: =IFERROR(IF(M63>=0,"Ok","Ecart"),"") -> Ecart | Q63: =IFERROR(IF(OR(P63="Ecart",O63="Ecart",N63="Ecart"),"Ecart","Ok"),"") -> Ecart
A64: =IFERROR(VLOOKUP('Requête 052'!$A63,'Requête 052'!$A$1:$F$2000,1,FALSE),"") -> 3819 | B64: =IFERROR(VLOOKUP('Requête 052'!$A63,'Requête 052'!$A$1:$F$2000,2,FALSE),"") -> CGECP ST OUEN L AUMONE DVBIODIV | C64: =IFERROR(VLOOKUP('Requête 052'!$A63,'Requête 052'!$A$1:$F$2000,3,FALSE),"") -> 43802 | D64: =IFERROR(VLOOKUP('Requête 052'!$A63,'Requête 052'!$A$1:$F$2000,4,FALSE),"") -> DECHETS VERTS EN MELANGE | E64: =IFERROR(VLOOKUP('Requête 052'!$A63,'Requête 052'!$A$1:$F$2000,5,FALSE),"") -> DECHETS VERTS EN MELANGE | F64: =IFERROR(VLOOKUP('Requête 052'!$A63,'Requête 052'!$A$1:$F$2000,6,FALSE),"") -> 4.92 | G64: =IFERROR(VLOOKUP(A64,'Fichier source CGECP'!$A$1:$F$1259,1,FALSE),"") | H64: =IFERROR(VLOOKUP(A64,'Fichier source CGECP'!$A$1:$F$1259,2,FALSE),"") | I64: =IFERROR(VLOOKUP(A64,'Fichier source CGECP'!$A$1:$F$1259,3,FALSE),"") | J64: =IFERROR(VLOOKUP(A64,'Fichier source CGECP'!$A$1:$F$1259,4,FALSE),"") | K64: =IFERROR(VLOOKUP(A64,'Fichier source CGECP'!$A$1:$F$1259,5,FALSE),"") | L64: =IFERROR(IF(COUNTIFS($A$3:$A63,$A64,$B$3:$B63,$B64,$C$3:$C63,$C64,$D$3:$D63,$D64,$E$3:$E63,$E64,$F$3:$F63,$F64)>0,"",VLOOKUP(A64,'Fichier source CGECP'!$A$1:$F$1259,6,FALSE)),"") | M64: =IFERROR(F64-L64,"") | N64: =IFERROR(IF(SEARCH(H64,B64,1),"Ok","Ecart"),"") -> Ok | O64: =IFERROR(IF(E64=K64,"Ok","Ecart"),"") -> Ecart | P64: =IFERROR(IF(M64>=0,"Ok","Ecart"),"") -> Ok | Q64: =IFERROR(IF(OR(P64="Ecart",O64="Ecart",N64="Ecart"),"Ecart","Ok"),"") -> Ecart
A65: =IFERROR(VLOOKUP('Requête 052'!$A64,'Requête 052'!$A$1:$F$2000,1,FALSE),"") -> 3820 | B65: =IFERROR(VLOOKUP('Requête 052'!$A64,'Requête 052'!$A$1:$F$2000,2,FALSE),"") -> CGECP ST OUEN L AUMONE DVBIODIV | C65: =IFERROR(VLOOKUP('Requête 052'!$A64,'Requête 052'!$A$1:$F$2000,3,FALSE),"") -> 43802 | D65: =IFERROR(VLOOKUP('Requête 052'!$A64,'Requête 052'!$A$1:$F$2000,4,FALSE),"") -> DECHETS VERTS EN MELANGE | E65: =IFERROR(VLOOKUP('Requête 052'!$A64,'Requête 052'!$A$1:$F$2000,5,FALSE),"") -> DECHETS VERTS EN MELANGE | F65: =IFERROR(VLOOKUP('Requête 052'!$A64,'Requête 052'!$A$1:$F$2000,6,FALSE),"") -> 1.62 | G65: =IFERROR(VLOOKUP(A65,'Fichier source CGECP'!$A$1:$F$1259,1,FALSE),"") | H65: =IFERROR(VLOOKUP(A65,'Fichier source CGECP'!$A$1:$F$1259,2,FALSE),"") | I65: =IFERROR(VLOOKUP(A65,'Fichier source CGECP'!$A$1:$F$1259,3,FALSE),"") | J65: =IFERROR(VLOOKUP(A65,'Fichier source CGECP'!$A$1:$F$1259,4,FALSE),"") | K65: =IFERROR(VLOOKUP(A65,'Fichier source CGECP'!$A$1:$F$1259,5,FALSE),"") | L65: =IFERROR(IF(COUNTIFS($A$3:$A64,$A65,$B$3:$B64,$B65,$C$3:$C64,$C65,$D$3:$D64,$D65,$E$3:$E64,$E65,$F$3:$F64,$F65)>0,"",VLOOKUP(A65,'Fichier source CGECP'!$A$1:$F$1259,6,FALSE)),"") | M65: =IFERROR(F65-L65,"") | N65: =IFERROR(IF(SEARCH(H65,B65,1),"Ok","Ecart"),"") -> Ok | O65: =IFERROR(IF(E65=K65,"Ok","Ecart"),"") -> Ecart | P65: =IFERROR(IF(M65>=0,"Ok","Ecart"),"") -> Ok | Q65: =IFERROR(IF(OR(P65="Ecart",O65="Ecart",N65="Ecart"),"Ecart","Ok"),"") -> Ecart
A66: =IFERROR(VLOOKUP('Requête 052'!$A65,'Requête 052'!$A$1:$F$2000,1,FALSE),"") -> 3821 | B66: =IFERROR(VLOOKUP('Requête 052'!$A65,'Requête 052'!$A$1:$F$2000,2,FALSE),"") -> CGECP ST OUEN L AUMONE UVEND | C66: =IFERROR(VLOOKUP('Requête 052'!$A65,'Requête 052'!$A$1:$F$2000,3,FALSE),"") -> 43802 | D66: =IFERROR(VLOOKUP('Requête 052'!$A65,'Requête 052'!$A$1:$F$2000,4,FALSE),"") -> ORDURES MENAGERES | E66: =IFERROR(VLOOKUP('Requête 052'!$A65,'Requête 052'!$A$1:$F$2000,5,FALSE),"") -> ORDURES MENAGERES | F66: =IFERROR(VLOOKUP('Requête 052'!$A65,'Requête 052'!$A$1:$F$2000,6,FALSE),"") -> 0.768 | G66: =IFERROR(VLOOKUP(A66,'Fichier source CGECP'!$A$1:$F$1259,1,FALSE),"") -> 3821 | H66: =IFERROR(VLOOKUP(A66,'Fichier source CGECP'!$A$1:$F$1259,2,FALSE),"") -> CGECP | I66: =IFERROR(VLOOKUP(A66,'Fichier source CGECP'!$A$1:$F$1259,3,FALSE),"") -> 43802 | J66: =IFERROR(VLOOKUP(A66,'Fichier source CGECP'!$A$1:$F$1259,4,FALSE),"") -> ORDURES MENAGERES | K66: =IFERROR(VLOOKUP(A66,'Fichier source CGECP'!$A$1:$F$1259,5,FALSE),"") -> ORDURES MENAGERES | L66: =IFERROR(IF(COUNTIFS($A$3:$A65,$A66,$B$3:$B65,$B66,$C$3:$C65,$C66,$D$3:$D65,$D66,$E$3:$E65,$E66,$F$3:$F65,$F66)>0,"",VLOOKUP(A66,'Fichier source CGECP'!$A$1:$F$1259,6,FALSE)),"") -> 2.32 | M66: =IFERROR(F66-L66,"") -> -1.552 | N66: =IFERROR(IF(SEARCH(H66,B66,1),"Ok","Ecart"),"") -> Ok | O66: =IFERROR(IF(E66=K66,"Ok","Ecart"),"") -> Ok | P66: =IFERROR(IF(M66>=0,"Ok","Ecart"),"") -> Ecart | Q66: =IFERROR(IF(OR(P66="Ecart",O66="Ecart",N66="Ecart"),"Ecart","Ok"),"") -> Ecart
A67: =IFERROR(VLOOKUP('Requête 052'!$A65,'Requête 052'!$A$1:$F$2000,1,FALSE),"") -> 3821 | B67: =IFERROR(VLOOKUP('Requête 052'!$A65,'Requête 052'!$A$1:$F$2000,2,FALSE),"") -> CGECP ST OUEN L AUMONE UVEND | C67: =IFERROR(VLOOKUP('Requête 052'!$A65,'Requête 052'!$A$1:$F$2000,3,FALSE),"") -> 43802 | D67: =IFERROR(VLOOKUP('Requête 052'!$A65,'Requête 052'!$A$1:$F$2000,4,FALSE),"") -> ORDURES MENAGERES | E67: =IFERROR(VLOOKUP('Requête 052'!$A65,'Requête 052'!$A$1:$F$2000,5,FALSE),"") -> ORDURES MENAGERES | F67: =IFERROR(VLOOKUP('Requête 052'!$A65,'Requête 052'!$A$1:$F$2000,6,FALSE),"") -> 0.768 | G67: =IFERROR(VLOOKUP(A67,'Fichier source CGECP'!$A$1:$F$1259,1,FALSE),"") -> 3821 | H67: =IFERROR(VLOOKUP(A67,'Fichier source CGECP'!$A$1:$F$1259,2,FALSE),"") -> CGECP | I67: =IFERROR(VLOOKUP(A67,'Fichier source CGECP'!$A$1:$F$1259,3,FALSE),"") -> 43802 | J67: =IFERROR(VLOOKUP(A67,'Fichier source CGECP'!$A$1:$F$1259,4,FALSE),"") -> ORDURES MENAGERES | K67: =IFERROR(VLOOKUP(A67,'Fichier source CGECP'!$A$1:$F$1259,5,FALSE),"") -> ORDURES MENAGERES | L67: =IFERROR(IF(COUNTIFS($A$3:$A66,$A67,$B$3:$B66,$B67,$C$3:$C66,$C67,$D$3:$D66,$D67,$E$3:$E66,$E67,$F$3:$F66,$F67)>0,"",VLOOKUP(A67,'Fichier source CGECP'!$A$1:$F$1259,6,FALSE)),"") | M67: =IFERROR(F67-L67,"") | N67: =IFERROR(IF(SEARCH(H67,B67,1),"Ok","Ecart"),"") -> Ok | O67: =IFERROR(IF(E67=K67,"Ok","Ecart"),"") -> Ok | P67: =IFERROR(IF(M67>=0,"Ok","Ecart"),"") -> Ok | Q67: =IFERROR(IF(OR(P67="Ecart",O67="Ecart",N67="Ecart"),"Ecart","Ok"),"") -> Ok
A68: =IFERROR(VLOOKUP('Requête 052'!$A66,'Requête 052'!$A$1:$F$2000,1,FALSE),"") -> 3822 | B68: =IFERROR(VLOOKUP('Requête 052'!$A66,'Requête 052'!$A$1:$F$2000,2,FALSE),"") -> CGECP ST OUEN L AUMONE UVEND | C68: =IFERROR(VLOOKUP('Requête 052'!$A66,'Requête 052'!$A$1:$F$2000,3,FALSE),"") -> 43802 | D68: =IFERROR(VLOOKUP('Requête 052'!$A66,'Requête 052'!$A$1:$F$2000,4,FALSE),"") -> REFUS DE TRI | E68: =IFERROR(VLOOKUP('Requête 052'!$A66,'Requête 052'!$A$1:$F$2000,5,FALSE),"") -> REFUS DE TRI | F68: =IFERROR(VLOOKUP('Requête 052'!$A66,'Requête 052'!$A$1:$F$2000,6,FALSE),"") -> 3.06 | G68: =IFERROR(VLOOKUP(A68,'Fichier source CGECP'!$A$1:$F$1259,1,FALSE),"") | H68: =IFERROR(VLOOKUP(A68,'Fichier source CGECP'!$A$1:$F$1259,2,FALSE),"") | I68: =IFERROR(VLOOKUP(A68,'Fichier source CGECP'!$A$1:$F$1259,3,FALSE),"") | J68: =IFERROR(VLOOKUP(A68,'Fichier source CGECP'!$A$1:$F$1259,4,FALSE),"") | K68: =IFERROR(VLOOKUP(A68,'Fichier source CGECP'!$A$1:$F$1259,5,FALSE),"") | L68: =IFERROR(IF(COUNTIFS($A$3:$A67,$A68,$B$3:$B67,$B68,$C$3:$C67,$C68,$D$3:$D67,$D68,$E$3:$E67,$E68,$F$3:$F67,$F68)>0,"",VLOOKUP(A68,'Fichier source CGECP'!$A$1:$F$1259,6,FALSE)),"") | M68: =IFERROR(F68-L68,"") | N68: =IFERROR(IF(SEARCH(H68,B68,1),"Ok","Ecart"),"") -> Ok | O68: =IFERROR(IF(E68=K68,"Ok","Ecart"),"") -> Ecart | P68: =IFERROR(IF(M68>=0,"Ok","Ecart"),"") -> Ok | Q68: =IFERROR(IF(OR(P68="Ecart",O68="Ecart",N68="Ecart"),"Ecart","Ok"),"") -> Ecart
A69: =IFERROR(VLOOKUP('Requête 052'!$A68,'Requête 052'!$A$1:$F$2000,1,FALSE),"") -> 3824 | B69: =IFERROR(VLOOKUP('Requête 052'!$A68,'Requête 052'!$A$1:$F$2000,2,FALSE),"") -> CGECP ST OUEN L AUMONE UVEND | C69: =IFERROR(VLOOKUP('Requête 052'!$A68,'Requête 052'!$A$1:$F$2000,3,FALSE),"") -> 43802 | D69: =IFERROR(VLOOKUP('Requête 052'!$A68,'Requête 052'!$A$1:$F$2000,4,FALSE),"") -> DECHETS INDUSTRIELS BANALS | E69: =IFERROR(VLOOKUP('Requête 052'!$A68,'Requête 052'!$A$1:$F$2000,5,FALSE),"") -> DECHETS INDUSTRIELS BANALS | F69: =IFERROR(VLOOKUP('Requête 052'!$A68,'Requête 052'!$A$1:$F$2000,6,FALSE),"") -> 4.12 | G69: =IFERROR(VLOOKUP(A69,'Fichier source CGECP'!$A$1:$F$1259,1,FALSE),"") -> 3824 | H69: =IFERROR(VLOOKUP(A69,'Fichier source CGECP'!$A$1:$F$1259,2,FALSE),"") -> CGECP | I69: =IFERROR(VLOOKUP(A69,'Fichier source CGECP'!$A$1:$F$1259,3,FALSE),"") -> 43802 | J69: =IFERROR(VLOOKUP(A69,'Fichier source CGECP'!$A$1:$F$1259,4,FALSE),"") -> 0 | K69: =IFERROR(VLOOKUP(A69,'Fichier source CGECP'!$A$1:$F$1259,5,FALSE),"") -> CARTONS | L69: =IFERROR(IF(COUNTIFS($A$3:$A68,$A69,$B$3:$B68,$B69,$C$3:$C68,$C69,$D$3:$D68,$D69,$E$3:$E68,$E69,$F$3:$F68,$F69)>0,"",VLOOKUP(A69,'Fichier source CGECP'!$A$1:$F$1259,6,FALSE)),"") -> 0.424 | M69: =IFERROR(F69-L69,"") -> 3.696 | N69: =IFERROR(IF(SEARCH(H69,B69,1),"Ok","Ecart"),"") -> Ok | O69: =IFERROR(IF(E69=K69,"Ok","Ecart"),"") -> Ecart | P69: =IFERROR(IF(M69>=0,"Ok","Ecart"),"") -> Ok | Q69: =IFERROR(IF(OR(P69="Ecart",O69="Ecart",N69="Ecart"),"Ecart","Ok"),"") -> Ecart
A70: =IFERROR(VLOOKUP('Requête 052'!$A69,'Requête 052'!$A$1:$F$2000,1,FALSE),"") -> 3825 | B70: =IFERROR(VLOOKUP('Requête 052'!$A69,'Requête 052'!$A$1:$F$2000,2,FALSE),"") -> CGECP ST OUEN L AUMONE UVEND | C70: =IFERROR(VLOOKUP('Requête 052'!$A69,'Requête 052'!$A$1:$F$2000,3,FALSE),"") -> 43802 | D70: =IFERROR(VLOOKUP('Requête 052'!$A69,'Requête 052'!$A$1:$F$2000,4,FALSE),"") -> REFUS DE TRI | E70: =IFERROR(VLOOKUP('Requête 052'!$A69,'Requête 052'!$A$1:$F$2000,5,FALSE),"") -> REFUS DE TRI | F70: =IFERROR(VLOOKUP('Requête 052'!$A69,'Requête 052'!$A$1:$F$2000,6,FALSE),"") -> 2.44 | G70: =IFERROR(VLOOKUP(A70,'Fichier source CGECP'!$A$1:$F$1259,1,FALSE),"") | H70: =IFERROR(VLOOKUP(A70,'Fichier source CGECP'!$A$1:$F$1259,2,FALSE),"") | I70: =IFERROR(VLOOKUP(A70,'Fichier source CGECP'!$A$1:$F$1259,3,FALSE),"") | J70: =IFERROR(VLOOKUP(A70,'Fichier source CGECP'!$A$1:$F$1259,4,FALSE),"") | K70: =IFERROR(VLOOKUP(A70,'Fichier source CGECP'!$A$1:$F$1259,5,FALSE),"") | L70: =IFERROR(IF(COUNTIFS($A$3:$A69,$A70,$B$3:$B69,$B70,$C$3:$C69,$C70,$D$3:$D69,$D70,$E$3:$E69,$E70,$F$3:$F69,$F70)>0,"",VLOOKUP(A70,'Fichier source CGECP'!$A$1:$F$1259,6,FALSE)),"") | M70: =IFERROR(F70-L70,"") | N70: =IFERROR(IF(SEARCH(H70,B70,1),"Ok","Ecart"),"") -> Ok | O70: =IFERROR(IF(E70=K70,"Ok","Ecart"),"") -> Ecart | P70: =IFERROR(IF(M70>=0,"Ok","Ecart"),"") -> Ok | Q70: =IFERROR(IF(OR(P70="Ecart",O70="Ecart",N70="Ecart"),"Ecart","Ok"),"") -> Ecart
A71: =IFERROR(VLOOKUP('Requête 052'!$A70,'Requête 052'!$A$1:$F$2000,1,FALSE),"") -> 3826 | B71: =IFERROR(VLOOKUP('Requête 052'!$A70,'Requête 052'!$A$1:$F$2000,2,FALSE),"") -> CGECP ST OUEN L AUMONE TDI | C71: =IFERROR(VLOOKUP('Requête 052'!$A70,'Requête 052'!$A$1:$F$2000,3,FALSE),"") -> 43802 | D71: =IFERROR(VLOOKUP('Requête 052'!$A70,'Requête 052'!$A$1:$F$2000,4,FALSE),"") -> GRAVATS | E71: =IFERROR(VLOOKUP('Requête 052'!$A70,'Requête 052'!$A$1:$F$2000,5,FALSE),"") -> GRAVATS | F71: =IFERROR(VLOOKUP('Requête 052'!$A70,'Requête 052'!$A$1:$F$2000,6,FALSE),"") -> 4.48 | G71: =IFERROR(VLOOKUP(A71,'Fichier source CGECP'!$A$1:$F$1259,1,FALSE),"") | H71: =IFERROR(VLOOKUP(A71,'Fichier source CGECP'!$A$1:$F$1259,2,FALSE),"") | I71: =IFERROR(VLOOKUP(A71,'Fichier source CGECP'!$A$1:$F$1259,3,FALSE),"") | J71: =IFERROR(VLOOKUP(A71,'Fichier source CGECP'!$A$1:$F$1259,4,FALSE),"") | K71: =IFERROR(VLOOKUP(A71,'Fichier source CGECP'!$A$1:$F$1259,5,FALSE),"") | L71: =IFERROR(IF(COUNTIFS($A$3:$A70,$A71,$B$3:$B70,$B71,$C$3:$C70,$C71,$D$3:$D70,$D71,$E$3:$E70,$E71,$F$3:$F70,$F71)>0,"",VLOOKUP(A71,'Fichier source CGECP'!$A$1:$F$1259,6,FALSE)),"") | M71: =IFERROR(F71-L71,"") | N71: =IFERROR(IF(SEARCH(H71,B71,1),"Ok","Ecart"),"") -> Ok | O71: =IFERROR(IF(E71=K71,"Ok","Ecart"),"") -> Ecart | P71: =IFERROR(IF(M71>=0,"Ok","Ecart"),"") -> Ok | Q71: =IFERROR(IF(OR(P71="Ecart",O71="Ecart",N71="Ecart"),"Ecart","Ok"),"") -> Ecart
A72: =IFERROR(VLOOKUP('Requête 052'!$A71,'Requête 052'!$A$1:$F$2000,1,FALSE),"") -> 3827 | B72: =IFERROR(VLOOKUP('Requête 052'!$A71,'Requête 052'!$A$1:$F$2000,2,FALSE),"") -> CGECP ST OUEN L AUMONE UVEND | C72: =IFERROR(VLOOKUP('Requête 052'!$A71,'Requête 052'!$A$1:$F$2000,3,FALSE),"") -> 43802 | D72: =IFERROR(VLOOKUP('Requête 052'!$A71,'Requête 052'!$A$1:$F$2000,4,FALSE),"") -> ORDURES MENAGERES | E72: =IFERROR(VLOOKUP('Requête 052'!$A71,'Requête 052'!$A$1:$F$2000,5,FALSE),"") -> ORDURES MENAGERES | F72: =IFERROR(VLOOKUP('Requête 052'!$A71,'Requête 052'!$A$1:$F$2000,6,FALSE),"") -> 4.98 | G72: =IFERROR(VLOOKUP(A72,'Fichier source CGECP'!$A$1:$F$1259,1,FALSE),"") -> 3827 | H72: =IFERROR(VLOOKUP(A72,'Fichier source CGECP'!$A$1:$F$1259,2,FALSE),"") -> CGECP | I72: =IFERROR(VLOOKUP(A72,'Fichier source CGECP'!$A$1:$F$1259,3,FALSE),"") -> 43802 | J72: =IFERROR(VLOOKUP(A72,'Fichier source CGECP'!$A$1:$F$1259,4,FALSE),"") -> 0 | K72: =IFERROR(VLOOKUP(A72,'Fichier source CGECP'!$A$1:$F$1259,5,FALSE),"") -> ORDURES MENAGERES | L72: =IFERROR(IF(COUNTIFS($A$3:$A71,$A72,$B$3:$B71,$B72,$C$3:$C71,$C72,$D$3:$D71,$D72,$E$3:$E71,$E72,$F$3:$F71,$F72)>0,"",VLOOKUP(A72,'Fichier source CGECP'!$A$1:$F$1259,6,FALSE)),"") -> 3.66 | M72: =IFERROR(F72-L72,"") -> 1.32 | N72: =IFERROR(IF(SEARCH(H72,B72,1),"Ok","Ecart"),"") -> Ok | O72: =IFERROR(IF(E72=K72,"Ok","Ecart"),"") -> Ok | P72: =IFERROR(IF(M72>=0,"Ok","Ecart"),"") -> Ok | Q72: =IFERROR(IF(OR(P72="Ecart",O72="Ecart",N72="Ecart"),"Ecart","Ok"),"") -> Ok
A73: =IFERROR(VLOOKUP('Requête 052'!$A72,'Requête 052'!$A$1:$F$2000,1,FALSE),"") -> 3828 | B73: =IFERROR(VLOOKUP('Requête 052'!$A72,'Requête 052'!$A$1:$F$2000,2,FALSE),"") -> CGECP ST OUEN L AUMONE UVEND | C73: =IFERROR(VLOOKUP('Requête 052'!$A72,'Requête 052'!$A$1:$F$2000,3,FALSE),"") -> 43802 | D73: =IFERROR(VLOOKUP('Requête 052'!$A72,'Requête 052'!$A$1:$F$2000,4,FALSE),"") -> ORDURES MENAGERES | E73: =IFERROR(VLOOKUP('Requête 052'!$A72,'Requête 052'!$A$1:$F$2000,5,FALSE),"") -> DECHETS INDUSTRIELS BANALS | F73: =IFERROR(VLOOKUP('Requête 052'!$A72,'Requête 052'!$A$1:$F$2000,6,FALSE),"") -> 1.792 | G73: =IFERROR(VLOOKUP(A73,'Fichier source CGECP'!$A$1:$F$1259,1,FALSE),"") -> 3828 | H73: =IFERROR(VLOOKUP(A73,'Fichier source CGECP'!$A$1:$F$1259,2,FALSE),"") -> CGECP | I73: =IFERROR(VLOOKUP(A73,'Fichier source CGECP'!$A$1:$F$1259,3,FALSE),"") -> 43802 | J73: =IFERROR(VLOOKUP(A73,'Fichier source CGECP'!$A$1:$F$1259,4,FALSE),"") -> DECHETS INDUSTRIELS BANALS | K73: =IFERROR(VLOOKUP(A73,'Fichier source CGECP'!$A$1:$F$1259,5,FALSE),"") -> DECHETS INDUSTRIELS BANALS | L73: =IFERROR(IF(COUNTIFS($A$3:$A72,$A73,$B$3:$B72,$B73,$C$3:$C72,$C73,$D$3:$D72,$D73,$E$3:$E72,$E73,$F$3:$F72,$F73)>0,"",VLOOKUP(A73,'Fichier source CGECP'!$A$1:$F$1259,6,FALSE)),"") -> 1.1 | M73: =IFERROR(F73-L73,"") -> 0.692 | N73: =IFERROR(IF(SEARCH(H73,B73,1),"Ok","Ecart"),"") -> Ok | O73: =IFERROR(IF(E73=K73,"Ok","Ecart"),"") -> Ok | P73: =IFERROR(IF(M73>=0,"Ok","Ecart"),"") -> Ok | Q73: =IFERROR(IF(OR(P73="Ecart",O73="Ecart",N73="Ecart"),"Ecart","Ok"),"") -> Ok
A74: =IFERROR(VLOOKUP('Requête 052'!$A73,'Requête 052'!$A$1:$F$2000,1,FALSE),"") -> 3829 | B74: =IFERROR(VLOOKUP('Requête 052'!$A73,'Requête 052'!$A$1:$F$2000,2,FALSE),"") -> CGECP ST OUEN L AUMONE TDI | C74: =IFERROR(VLOOKUP('Requête 052'!$A73,'Requête 052'!$A$1:$F$2000,3,FALSE),"") -> 43802 | D74: =IFERROR(VLOOKUP('Requête 052'!$A73,'Requête 052'!$A$1:$F$2000,4,FALSE),"") -> ENCOMBRANTS | E74: =IFERROR(VLOOKUP('Requête 052'!$A73,'Requête 052'!$A$1:$F$2000,5,FALSE),"") -> ENCOMBRANTS | F74: =IFERROR(VLOOKUP('Requête 052'!$A73,'Requête 052'!$A$1:$F$2000,6,FALSE),"") -> 6.3 | G74: =IFERROR(VLOOKUP(A74,'Fichier source CGECP'!$A$1:$F$1259,1,FALSE),"") -> 3829 | H74: =IFERROR(VLOOKUP(A74,'Fichier source CGECP'!$A$1:$F$1259,2,FALSE),"") -> CGECP | I74: =IFERROR(VLOOKUP(A74,'Fichier source CGECP'!$A$1:$F$1259,3,FALSE),"") -> 43802 | J74: =IFERROR(VLOOKUP(A74,'Fichier source CGECP'!$A$1:$F$1259,4,FALSE),"") -> BOIS D'EMBALLAGES BRUTS | K74: =IFERROR(VLOOKUP(A74,'Fichier source CGECP'!$A$1:$F$1259,5,FALSE),"") -> BOIS D'EMBALLAGES BRUTS | L74: =IFERROR(IF(COUNTIFS($A$3:$A73,$A74,$B$3:$B73,$B74,$C$3:$C73,$C74,$D$3:$D73,$D74,$E$3:$E73,$E74,$F$3:$F73,$F74)>0,"",VLOOKUP(A74,'Fichier source CGECP'!$A$1:$F$1259,6,FALSE)),"") -> 1.38 | M74: =IFERROR(F74-L74,"") -> 4.92 | N74: =IFERROR(IF(SEARCH(H74,B74,1),"Ok","Ecart"),"") -> Ok | O74: =IFERROR(IF(E74=K74,"Ok","Ecart"),"") -> Ecart | P74: =IFERROR(IF(M74>=0,"Ok","Ecart"),"") -> Ok | Q74: =IFERROR(IF(OR(P74="Ecart",O74="Ecart",N74="Ecart"),"Ecart","Ok"),"") -> Ecart
A75: =IFERROR(VLOOKUP('Requête 052'!$A74,'Requête 052'!$A$1:$F$2000,1,FALSE),"") -> 3837 | B75: =IFERROR(VLOOKUP('Requête 052'!$A74,'Requête 052'!$A$1:$F$2000,2,FALSE),"") -> CGECP ST OUEN L AUMONE TDI | C75: =IFERROR(VLOOKUP('Requête 052'!$A74,'Requête 052'!$A$1:$F$2000,3,FALSE),"") -> 43802 | D75: =IFERROR(VLOOKUP('Requête 052'!$A74,'Requête 052'!$A$1:$F$2000,4,FALSE),"") -> ENCOMBRANTS | E75: =IFERROR(VLOOKUP('Requête 052'!$A74,'Requête 052'!$A$1:$F$2000,5,FALSE),"") -> ENCOMBRANTS | F75: =IFERROR(VLOOKUP('Requête 052'!$A74,'Requête 052'!$A$1:$F$2000,6,FALSE),"") -> 5.62 | G75: =IFERROR(VLOOKUP(A75,'Fichier source CGECP'!$A$1:$F$1259,1,FALSE),"") | H75: =IFERROR(VLOOKUP(A75,'Fichier source CGECP'!$A$1:$F$1259,2,FALSE),"") | I75: =IFERROR(VLOOKUP(A75,'Fichier source CGECP'!$A$1:$F$1259,3,FALSE),"") | J75: =IFERROR(VLOOKUP(A75,'Fichier source CGECP'!$A$1:$F$1259,4,FALSE),"") | K75: =IFERROR(VLOOKUP(A75,'Fichier source CGECP'!$A$1:$F$1259,5,FALSE),"") | L75: =IFERROR(IF(COUNTIFS($A$3:$A74,$A75,$B$3:$B74,$B75,$C$3:$C74,$C75,$D$3:$D74,$D75,$E$3:$E74,$E75,$F$3:$F74,$F75)>0,"",VLOOKUP(A75,'Fichier source CGECP'!$A$1:$F$1259,6,FALSE)),"") | M75: =IFERROR(F75-L75,"") | N75: =IFERROR(IF(SEARCH(H75,B75,1),"Ok","Ecart"),"") -> Ok | O75: =IFERROR(IF(E75=K75,"Ok","Ecart"),"") -> Ecart | P75: =IFERROR(IF(M75>=0,"Ok","Ecart"),"") -> Ok | Q75: =IFERROR(IF(OR(P75="Ecart",O75="Ecart",N75="Ecart"),"Ecart","Ok"),"") -> Ecart
A76: =IFERROR(VLOOKUP('Requête 052'!$A75,'Requête 052'!$A$1:$F$2000,1,FALSE),"") -> 3840 | B76: =IFERROR(VLOOKUP('Requête 052'!$A75,'Requête 052'!$A$1:$F$2000,2,FALSE),"") -> CGECP ST OUEN L AUMONE UVEND | C76: =IFERROR(VLOOKUP('Requête 052'!$A75,'Requête 052'!$A$1:$F$2000,3,FALSE),"") -> 43802 | D76: =IFERROR(VLOOKUP('Requête 052'!$A75,'Requête 052'!$A$1:$F$2000,4,FALSE),"") -> DECHET A INCINERER | E76: =IFERROR(VLOOKUP('Requête 052'!$A75,'Requête 052'!$A$1:$F$2000,5,FALSE),"") -> DECHET A INCINERER | F76: =IFERROR(VLOOKUP('Requête 052'!$A75,'Requête 052'!$A$1:$F$2000,6,FALSE),"") -> 2.49 | G76: =IFERROR(VLOOKUP(A76,'Fichier source CGECP'!$A$1:$F$1259,1,FALSE),"") -> 3840 | H76: =IFERROR(VLOOKUP(A76,'Fichier source CGECP'!$A$1:$F$1259,2,FALSE),"") -> CGECP | I76: =IFERROR(VLOOKUP(A76,'Fichier source CGECP'!$A$1:$F$1259,3,FALSE),"") -> 43802 | J76: =IFERROR(VLOOKUP(A76,'Fichier source CGECP'!$A$1:$F$1259,4,FALSE),"") -> 0 | K76: =IFERROR(VLOOKUP(A76,'Fichier source CGECP'!$A$1:$F$1259,5,FALSE),"") -> DECHET A INCINERER TRI | L76: =IFERROR(IF(COUNTIFS($A$3:$A75,$A76,$B$3:$B75,$B76,$C$3:$C75,$C76,$D$3:$D75,$D76,$E$3:$E75,$E76,$F$3:$F75,$F76)>0,"",VLOOKUP(A76,'Fichier source CGECP'!$A$1:$F$1259,6,FALSE)),"") -> 0.9 | M76: =IFERROR(F76-L76,"") -> 1.59 | N76: =IFERROR(IF(SEARCH(H76,B76,1),"Ok","Ecart"),"") -> Ok | O76: =IFERROR(IF(E76=K76,"Ok","Ecart"),"") -> Ecart | P76: =IFERROR(IF(M76>=0,"Ok","Ecart"),"") -> Ok | Q76: =IFERROR(IF(OR(P76="Ecart",O76="Ecart",N76="Ecart"),"Ecart","Ok"),"") -> Ecart
A77: =IFERROR(VLOOKUP('Requête 052'!$A76,'Requête 052'!$A$1:$F$2000,1,FALSE),"") -> 3843 | B77: =IFERROR(VLOOKUP('Requête 052'!$A76,'Requête 052'!$A$1:$F$2000,2,FALSE),"") -> CGECP ST OUEN L AUMONE TPCPR | C77: =IFERROR(VLOOKUP('Requête 052'!$A76,'Requête 052'!$A$1:$F$2000,3,FALSE),"") -> 43802 | D77: =IFERROR(VLOOKUP('Requête 052'!$A76,'Requête 052'!$A$1:$F$2000,4,FALSE),"") -> CARTONS | E77: =IFERROR(VLOOKUP('Requête 052'!$A76,'Requête 052'!$A$1:$F$2000,5,FALSE),"") -> REFUS DE TRI TPCPR | F77: =IFERROR(VLOOKUP('Requête 052'!$A76,'Requête 052'!$A$1:$F$2000,6,FALSE),"") -> 7.3 | G77: =IFERROR(VLOOKUP(A77,'Fichier source CGECP'!$A$1:$F$1259,1,FALSE),"") -> 3843 | H77: =IFERROR(VLOOKUP(A77,'Fichier source CGECP'!$A$1:$F$1259,2,FALSE),"") -> CGECP | I77: =IFERROR(VLOOKUP(A77,'Fichier source CGECP'!$A$1:$F$1259,3,FALSE),"") -> 43802 | J77: =IFERROR(VLOOKUP(A77,'Fichier source CGECP'!$A$1:$F$1259,4,FALSE),"") -> CARTONS ET SACHES PLAST - 1.04.00 | K77: =IFERROR(VLOOKUP(A77,'Fichier source CGECP'!$A$1:$F$1259,5,FALSE),"") -> CARTONS ET SACHES PLAST - 1.04.00 | L77: =IFERROR(IF(COUNTIFS($A$3:$A76,$A77,$B$3:$B76,$B77,$C$3:$C76,$C77,$D$3:$D76,$D77,$E$3:$E76,$E77,$F$3:$F76,$F77)>0,"",VLOOKUP(A77,'Fichier source CGECP'!$A$1:$F$1259,6,FALSE)),"") -> 0.108 | M77: =IFERROR(F77-L77,"") -> 7.192 | N77: =IFERROR(IF(SEARCH(H77,B77,1),"Ok","Ecart"),"") -> Ok | O77: =IFERROR(IF(E77=K77,"Ok","Ecart"),"") -> Ecart | P77: =IFERROR(IF(M77>=0,"Ok","Ecart"),"") -> Ok | Q77: =IFERROR(IF(OR(P77="Ecart",O77="Ecart",N77="Ecart"),"Ecart","Ok"),"") -> Ecart
A78: =IFERROR(VLOOKUP('Requête 052'!$A77,'Requête 052'!$A$1:$F$2000,1,FALSE),"") -> 3846 | B78: =IFERROR(VLOOKUP('Requête 052'!$A77,'Requête 052'!$A$1:$F$2000,2,FALSE),"") -> CGECP ST OUEN L AUMONE UVEND | C78: =IFERROR(VLOOKUP('Requête 052'!$A77,'Requête 052'!$A$1:$F$2000,3,FALSE),"") -> 43802 | D78: =IFERROR(VLOOKUP('Requête 052'!$A77,'Requête 052'!$A$1:$F$2000,4,FALSE),"") -> ORDURES MENAGERES | E78: =IFERROR(VLOOKUP('Requête 052'!$A77,'Requête 052'!$A$1:$F$2000,5,FALSE),"") -> ORDURES MENAGERES | F78: =IFERROR(VLOOKUP('Requête 052'!$A77,'Requête 052'!$A$1:$F$2000,6,FALSE),"") -> 3.19 | G78: =IFERROR(VLOOKUP(A78,'Fichier source CGECP'!$A$1:$F$1259,1,FALSE),"") -> 3846 | H78: =IFERROR(VLOOKUP(A78,'Fichier source CGECP'!$A$1:$F$1259,2,FALSE),"") -> CGECP | I78: =IFERROR(VLOOKUP(A78,'Fichier source CGECP'!$A$1:$F$1259,3,FALSE),"") -> 43802 | J78: =IFERROR(VLOOKUP(A78,'Fichier source CGECP'!$A$1:$F$1259,4,FALSE),"") -> 0 | K78: =IFERROR(VLOOKUP(A78,'Fichier source CGECP'!$A$1:$F$1259,5,FALSE),"") -> ORDURES MENAGERES | L78: =IFERROR(IF(COUNTIFS($A$3:$A77,$A78,$B$3:$B77,$B78,$C$3:$C77,$C78,$D$3:$D77,$D78,$E$3:$E77,$E78,$F$3:$F77,$F78)>0,"",VLOOKUP(A78,'Fichier source CGECP'!$A$1:$F$1259,6,FALSE)),"") -> 6.4 | M78: =IFERROR(F78-L78,"") -> -3.21 | N78: =IFERROR(IF(SEARCH(H78,B78,1),"Ok","Ecart"),"") -> Ok | O78: =IFERROR(IF(E78=K78,"Ok","Ecart"),"") -> Ok | P78: =IFERROR(IF(M78>=0,"Ok","Ecart"),"") -> Ecart | Q78: =IFERROR(IF(OR(P78="Ecart",O78="Ecart",N78="Ecart"),"Ecart","Ok"),"") -> Ecart
A79: =IFERROR(VLOOKUP('Requête 052'!$A78,'Requête 052'!$A$1:$F$2000,1,FALSE),"") -> 3853 | B79: =IFERROR(VLOOKUP('Requête 052'!$A78,'Requête 052'!$A$1:$F$2000,2,FALSE),"") -> CGECP ST OUEN L AUMONE TDI | C79: =IFERROR(VLOOKUP('Requête 052'!$A78,'Requête 052'!$A$1:$F$2000,3,FALSE),"") -> 43802 | D79: =IFERROR(VLOOKUP('Requête 052'!$A78,'Requête 052'!$A$1:$F$2000,4,FALSE),"") -> ENCOMBRANTS | E79: =IFERROR(VLOOKUP('Requête 052'!$A78,'Requête 052'!$A$1:$F$2000,5,FALSE),"") -> ENCOMBRANTS | F79: =IFERROR(VLOOKUP('Requête 052'!$A78,'Requête 052'!$A$1:$F$2000,6,FALSE),"") -> 3.74 | G79: =IFERROR(VLOOKUP(A79,'Fichier source CGECP'!$A$1:$F$1259,1,FALSE),"") | H79: =IFERROR(VLOOKUP(A79,'Fichier source CGECP'!$A$1:$F$1259,2,FALSE),"") | I79: =IFERROR(VLOOKUP(A79,'Fichier source CGECP'!$A$1:$F$1259,3,FALSE),"") | J79: =IFERROR(VLOOKUP(A79,'Fichier source CGECP'!$A$1:$F$1259,4,FALSE),"") | K79: =IFERROR(VLOOKUP(A79,'Fichier source CGECP'!$A$1:$F$1259,5,FALSE),"") | L79: =IFERROR(IF(COUNTIFS($A$3:$A78,$A79,$B$3:$B78,$B79,$C$3:$C78,$C79,$D$3:$D78,$D79,$E$3:$E78,$E79,$F$3:$F78,$F79)>0,"",VLOOKUP(A79,'Fichier source CGECP'!$A$1:$F$1259,6,FALSE)),"") | M79: =IFERROR(F79-L79,"") | N79: =IFERROR(IF(SEARCH(H79,B79,1),"Ok","Ecart"),"") -> Ok | O79: =IFERROR(IF(E79=K79,"Ok","Ecart"),"") -> Ecart | P79: =IFERROR(IF(M79>=0,"Ok","Ecart"),"") -> Ok | Q79: =IFERROR(IF(OR(P79="Ecart",O79="Ecart",N79="Ecart"),"Ecart","Ok"),"") -> Ecart
A80: =IFERROR(VLOOKUP('Requête 052'!$A79,'Requête 052'!$A$1:$F$2000,1,FALSE),"") -> 3854 | B80: =IFERROR(VLOOKUP('Requête 052'!$A79,'Requête 052'!$A$1:$F$2000,2,FALSE),"") -> CGECP ST OUEN L AUMONE UVEND | C80: =IFERROR(VLOOKUP('Requête 052'!$A79,'Requête 052'!$A$1:$F$2000,3,FALSE),"") -> 43802 | D80: =IFERROR(VLOOKUP('Requête 052'!$A79,'Requête 052'!$A$1:$F$2000,4,FALSE),"") -> DECHET A INCINERER TRI | E80: =IFERROR(VLOOKUP('Requête 052'!$A79,'Requête 052'!$A$1:$F$2000,5,FALSE),"") -> DECHET A INCINERER TRI | F80: =IFERROR(VLOOKUP('Requête 052'!$A79,'Requête 052'!$A$1:$F$2000,6,FALSE),"") -> 4.15 | G80: =IFERROR(VLOOKUP(A80,'Fichier source CGECP'!$A$1:$F$1259,1,FALSE),"") -> 3854 | H80: =IFERROR(VLOOKUP(A80,'Fichier source CGECP'!$A$1:$F$1259,2,FALSE),"") -> CGECP | I80: =IFERROR(VLOOKUP(A80,'Fichier source CGECP'!$A$1:$F$1259,3,FALSE),"") -> 43802 | J80: =IFERROR(VLOOKUP(A80,'Fichier source CGECP'!$A$1:$F$1259,4,FALSE),"") -> 0 | K80: =IFERROR(VLOOKUP(A80,'Fichier source CGECP'!$A$1:$F$1259,5,FALSE),"") -> DECHET A INCINERER TRI | L80: =IFERROR(IF(COUNTIFS($A$3:$A79,$A80,$B$3:$B79,$B80,$C$3:$C79,$C80,$D$3:$D79,$D80,$E$3:$E79,$E80,$F$3:$F79,$F80)>0,"",VLOOKUP(A80,'Fichier source CGECP'!$A$1:$F$1259,6,FALSE)),"") -> 2.84 | M80: =IFERROR(F80-L80,"") -> 1.31 | N80: =IFERROR(IF(SEARCH(H80,B80,1),"Ok","Ecart"),"") -> Ok | O80: =IFERROR(IF(E80=K80,"Ok","Ecart"),"") -> Ok | P80: =IFERROR(IF(M80>=0,"Ok","Ecart"),"") -> Ok | Q80: =IFERROR(IF(OR(P80="Ecart",O80="Ecart",N80="Ecart"),"Ecart","Ok"),"") -> Ok
... A106: =IFERROR(VLOOKUP('Requête 052'!$A105,'Requête 052'!$A$1:$F$2000,1,FALSE),"") -> 3982 | B106: =IFERROR(VLOOKUP('Requête 052'!$A105,'Requête 052'!$A$1:$F$2000,2,FALSE),"") -> CGECP ST OUEN L AUMONE UVEND | C106: =IFERROR(VLOOKUP('Requête 052'!$A105,'Requête 052'!$A$1:$F$2000,3,FALSE),"") -> 43802 | D106: =IFERROR(VLOOKUP('Requête 052'!$A105,'Requête 052'!$A$1:$F$2000,4,FALSE),"") -> DECHET A INCINERER TRI | E106: =IFERROR(VLOOKUP('Requête 052'!$A105,'Requête 052'!$A$1:$F$2000,5,FALSE),"") -> DECHET A INCINERER TRI | F106: =IFERROR(VLOOKUP('Requête 052'!$A105,'Requête 052'!$A$1:$F$2000,6,FALSE),"") -> 1.66 | G106: =IFERROR(VLOOKUP(A106,'Fichier source CGECP'!$A$1:$F$1259,1,FALSE),"") -> 3982 | H106: =IFERROR(VLOOKUP(A106,'Fichier source CGECP'!$A$1:$F$1259,2,FALSE),"") -> CGECP | I106: =IFERROR(VLOOKUP(A106,'Fichier source CGECP'!$A$1:$F$1259,3,FALSE),"") -> 43802 | J106: =IFERROR(VLOOKUP(A106,'Fichier source CGECP'!$A$1:$F$1259,4,FALSE),"") -> 0 | K106: =IFERROR(VLOOKUP(A106,'Fichier source CGECP'!$A$1:$F$1259,5,FALSE),"") -> DECHET A INCINERER TRI | L106: =IFERROR(IF(COUNTIFS($A$3:$A105,$A106,$B$3:$B105,$B106,$C$3:$C105,$C106,$D$3:$D105,$D106,$E$3:$E105,$E106,$F$3:$F105,$F106)>0,"",VLOOKUP(A106,'Fichier source CGECP'!$A$1:$F$1259,6,FALSE)),"") -> 2.12 | M106: =IFERROR(F106-L106,"") -> -0.46 | N106: =IFERROR(IF(SEARCH(H106,B106,1),"Ok","Ecart"),"") -> Ok | O106: =IFERROR(IF(E106=K106,"Ok","Ecart"),"") -> Ok | P106: =IFERROR(IF(M106>=0,"Ok","Ecart"),"") -> Ecart | Q106: =IFERROR(IF(OR(P106="Ecart",O106="Ecart",N106="Ecart"),"Ecart","Ok"),"") -> Ecart
A107: =IFERROR(VLOOKUP('Requête 052'!$A105,'Requête 052'!$A$1:$F$2000,1,FALSE),"") -> 3982 | B107: =IFERROR(VLOOKUP('Requête 052'!$A105,'Requête 052'!$A$1:$F$2000,2,FALSE),"") -> CGECP ST OUEN L AUMONE UVEND | C107: =IFERROR(VLOOKUP('Requête 052'!$A105,'Requête 052'!$A$1:$F$2000,3,FALSE),"") -> 43802 | D107: =IFERROR(VLOOKUP('Requête 052'!$A105,'Requête 052'!$A$1:$F$2000,4,FALSE),"") -> DECHET A INCINERER TRI | E107: =IFERROR(VLOOKUP('Requête 052'!$A105,'Requête 052'!$A$1:$F$2000,5,FALSE),"") -> DECHET A INCINERER TRI | F107: =IFERROR(VLOOKUP('Requête 052'!$A105,'Requête 052'!$A$1:$F$2000,6,FALSE),"") -> 1.66 | G107: =IFERROR(VLOOKUP(A107,'Fichier source CGECP'!$A$1:$F$1259,1,FALSE),"") -> 3982 | H107: =IFERROR(VLOOKUP(A107,'Fichier source CGECP'!$A$1:$F$1259,2,FALSE),"") -> CGECP | I107: =IFERROR(VLOOKUP(A107,'Fichier source CGECP'!$A$1:$F$1259,3,FALSE),"") -> 43802 | J107: =IFERROR(VLOOKUP(A107,'Fichier source CGECP'!$A$1:$F$1259,4,FALSE),"") -> 0 | K107: =IFERROR(VLOOKUP(A107,'Fichier source CGECP'!$A$1:$F$1259,5,FALSE),"") -> DECHET A INCINERER TRI | L107: =IFERROR(IF(COUNTIFS($A$3:$A106,$A107,$B$3:$B106,$B107,$C$3:$C106,$C107,$D$3:$D106,$D107,$E$3:$E106,$E107,$F$3:$F106,$F107)>0,"",VLOOKUP(A107,'Fichier source CGECP'!$A$1:$F$1259,6,FALSE)),"") | M107: =IFERROR(F107-L107,"") | N107: =IFERROR(IF(SEARCH(H107,B107,1),"Ok","Ecart"),"") -> Ok | O107: =IFERROR(IF(E107=K107,"Ok","Ecart"),"") -> Ok | P107: =IFERROR(IF(M107>=0,"Ok","Ecart"),"") -> Ok | Q107: =IFERROR(IF(OR(P107="Ecart",O107="Ecart",N107="Ecart"),"Ecart","Ok"),"") -> Ok
A108: =IFERROR(VLOOKUP('Requête 052'!$A107,'Requête 052'!$A$1:$F$2000,1,FALSE),"") -> 4019 | B108: =IFERROR(VLOOKUP('Requête 052'!$A107,'Requête 052'!$A$1:$F$2000,2,FALSE),"") -> CGECP ST OUEN L AUMONE TDI | C108: =IFERROR(VLOOKUP('Requête 052'!$A107,'Requête 052'!$A$1:$F$2000,3,FALSE),"") -> 43802 | D108: =IFERROR(VLOOKUP('Requête 052'!$A107,'Requête 052'!$A$1:$F$2000,4,FALSE),"") -> BOIS D'EMBALLAGES BRUTS | E108: =IFERROR(VLOOKUP('Requête 052'!$A107,'Requête 052'!$A$1:$F$2000,5,FALSE),"") -> REFACTION | F108: =IFERROR(VLOOKUP('Requête 052'!$A107,'Requête 052'!$A$1:$F$2000,6,FALSE),"") -> 2.54 | G108: =IFERROR(VLOOKUP(A108,'Fichier source CGECP'!$A$1:$F$1259,1,FALSE),"") -> 4019 | H108: =IFERROR(VLOOKUP(A108,'Fichier source CGECP'!$A$1:$F$1259,2,FALSE),"") -> CGECP | I108: =IFERROR(VLOOKUP(A108,'Fichier source CGECP'!$A$1:$F$1259,3,FALSE),"") -> 43802 | J108: =IFERROR(VLOOKUP(A108,'Fichier source CGECP'!$A$1:$F$1259,4,FALSE),"") -> BOIS B BRUT | K108: =IFERROR(VLOOKUP(A108,'Fichier source CGECP'!$A$1:$F$1259,5,FALSE),"") -> BOIS B BRUT | L108: =IFERROR(IF(COUNTIFS($A$3:$A107,$A108,$B$3:$B107,$B108,$C$3:$C107,$C108,$D$3:$D107,$D108,$E$3:$E107,$E108,$F$3:$F107,$F108)>0,"",VLOOKUP(A108,'Fichier source CGECP'!$A$1:$F$1259,6,FALSE)),"") -> 0.318 | M108: =IFERROR(F108-L108,"") -> 2.222 | N108: =IFERROR(IF(SEARCH(H108,B108,1),"Ok","Ecart"),"") -> Ok | O108: =IFERROR(IF(E108=K108,"Ok","Ecart"),"") -> Ecart | P108: =IFERROR(IF(M108>=0,"Ok","Ecart"),"") -> Ok | Q108: =IFERROR(IF(OR(P108="Ecart",O108="Ecart",N108="Ecart"),"Ecart","Ok"),"") -> Ecart
A109: =IFERROR(VLOOKUP('Requête 052'!$A108,'Requête 052'!$A$1:$F$2000,1,FALSE),"") -> 4019 | B109: =IFERROR(VLOOKUP('Requête 052'!$A108,'Requête 052'!$A$1:$F$2000,2,FALSE),"") -> CGECP ST OUEN L AUMONE TDI | C109: =IFERROR(VLOOKUP('Requête 052'!$A108,'Requête 052'!$A$1:$F$2000,3,FALSE),"") -> 43802 | D109: =IFERROR(VLOOKUP('Requête 052'!$A108,'Requête 052'!$A$1:$F$2000,4,FALSE),"") -> BOIS D'EMBALLAGES BRUTS | E109: =IFERROR(VLOOKUP('Requête 052'!$A108,'Requête 052'!$A$1:$F$2000,5,FALSE),"") -> REFACTION | F109: =IFERROR(VLOOKUP('Requête 052'!$A108,'Requête 052'!$A$1:$F$2000,6,FALSE),"") -> 2.54 | G109: =IFERROR(VLOOKUP(A109,'Fichier source CGECP'!$A$1:$F$1259,1,FALSE),"") -> 4019 | H109: =IFERROR(VLOOKUP(A109,'Fichier source CGECP'!$A$1:$F$1259,2,FALSE),"") -> CGECP | I109: =IFERROR(VLOOKUP(A109,'Fichier source CGECP'!$A$1:$F$1259,3,FALSE),"") -> 43802 | J109: =IFERROR(VLOOKUP(A109,'Fichier source CGECP'!$A$1:$F$1259,4,FALSE),"") -> BOIS B BRUT | K109: =IFERROR(VLOOKUP(A109,'Fichier source CGECP'!$A$1:$F$1259,5,FALSE),"") -> BOIS B BRUT | L109: =IFERROR(IF(COUNTIFS($A$3:$A108,$A109,$B$3:$B108,$B109,$C$3:$C108,$C109,$D$3:$D108,$D109,$E$3:$E108,$E109,$F$3:$F108,$F109)>0,"",VLOOKUP(A109,'Fichier source CGECP'!$A$1:$F$1259,6,FALSE)),"") | M109: =IFERROR(F109-L109,"") | N109: =IFERROR(IF(SEARCH(H109,B109,1),"Ok","Ecart"),"") -> Ok | O109: =IFERROR(IF(E109=K109,"Ok","Ecart"),"") -> Ecart | P109: =IFERROR(IF(M109>=0,"Ok","Ecart"),"") -> Ok | Q109: =IFERROR(IF(OR(P109="Ecart",O109="Ecart",N109="Ecart"),"Ecart","Ok"),"") -> Ecart
A110: =IFERROR(VLOOKUP('Requête 052'!$A109,'Requête 052'!$A$1:$F$2000,1,FALSE),"") -> 4024 | B110: =IFERROR(VLOOKUP('Requête 052'!$A109,'Requête 052'!$A$1:$F$2000,2,FALSE),"") -> CGECP ST OUEN L AUMONE DVBIODIV | C110: =IFERROR(VLOOKUP('Requête 052'!$A109,'Requête 052'!$A$1:$F$2000,3,FALSE),"") -> 43802 | D110: =IFERROR(VLOOKUP('Requête 052'!$A109,'Requête 052'!$A$1:$F$2000,4,FALSE),"") -> DECHETS VERTS EN MELANGE | E110: =IFERROR(VLOOKUP('Requête 052'!$A109,'Requête 052'!$A$1:$F$2000,5,FALSE),"") -> DECHETS VERTS EN MELANGE | F110: =IFERROR(VLOOKUP('Requête 052'!$A109,'Requête 052'!$A$1:$F$2000,6,FALSE),"") -> 1.84 | G110: =IFERROR(VLOOKUP(A110,'Fichier source CGECP'!$A$1:$F$1259,1,FALSE),"") | H110: =IFERROR(VLOOKUP(A110,'Fichier source CGECP'!$A$1:$F$1259,2,FALSE),"") | I110: =IFERROR(VLOOKUP(A110,'Fichier source CGECP'!$A$1:$F$1259,3,FALSE),"") | J110: =IFERROR(VLOOKUP(A110,'Fichier source CGECP'!$A$1:$F$1259,4,FALSE),"") | K110: =IFERROR(VLOOKUP(A110,'Fichier source CGECP'!$A$1:$F$1259,5,FALSE),"") | L110: =IFERROR(IF(COUNTIFS($A$3:$A109,$A110,$B$3:$B109,$B110,$C$3:$C109,$C110,$D$3:$D109,$D110,$E$3:$E109,$E110,$F$3:$F109,$F110)>0,"",VLOOKUP(A110,'Fichier source CGECP'!$A$1:$F$1259,6,FALSE)),"") | M110: =IFERROR(F110-L110,"") | N110: =IFERROR(IF(SEARCH(H110,B110,1),"Ok","Ecart"),"") -> Ok | O110: =IFERROR(IF(E110=K110,"Ok","Ecart"),"") -> Ecart | P110: =IFERROR(IF(M110>=0,"Ok","Ecart"),"") -> Ok | Q110: =IFERROR(IF(OR(P110="Ecart",O110="Ecart",N110="Ecart"),"Ecart","Ok"),"") -> Ecart
A111: =IFERROR(VLOOKUP('Requête 052'!$A110,'Requête 052'!$A$1:$F$2000,1,FALSE),"") -> 4028 | B111: =IFERROR(VLOOKUP('Requête 052'!$A110,'Requête 052'!$A$1:$F$2000,2,FALSE),"") -> CGECP ST OUEN L AUMONE TDI | C111: =IFERROR(VLOOKUP('Requête 052'!$A110,'Requête 052'!$A$1:$F$2000,3,FALSE),"") -> 43802 | D111: =IFERROR(VLOOKUP('Requête 052'!$A110,'Requête 052'!$A$1:$F$2000,4,FALSE),"") -> BOIS B BRUT | E111: =IFERROR(VLOOKUP('Requête 052'!$A110,'Requête 052'!$A$1:$F$2000,5,FALSE),"") -> REFACTION | F111: =IFERROR(VLOOKUP('Requête 052'!$A110,'Requête 052'!$A$1:$F$2000,6,FALSE),"") -> 0.16 | G111: =IFERROR(VLOOKUP(A111,'Fichier source CGECP'!$A$1:$F$1259,1,FALSE),"") -> 4028 | H111: =IFERROR(VLOOKUP(A111,'Fichier source CGECP'!$A$1:$F$1259,2,FALSE),"") -> CGECP | I111: =IFERROR(VLOOKUP(A111,'Fichier source CGECP'!$A$1:$F$1259,3,FALSE),"") -> 43802 | J111: =IFERROR(VLOOKUP(A111,'Fichier source CGECP'!$A$1:$F$1259,4,FALSE),"") -> MATIERE VALO EN MELANGE | K111: =IFERROR(VLOOKUP(A111,'Fichier source CGECP'!$A$1:$F$1259,5,FALSE),"") -> MATIERE VALO EN MELANGE | L111: =IFERROR(IF(COUNTIFS($A$3:$A110,$A111,$B$3:$B110,$B111,$C$3:$C110,$C111,$D$3:$D110,$D111,$E$3:$E110,$E111,$F$3:$F110,$F111)>0,"",VLOOKUP(A111,'Fichier source CGECP'!$A$1:$F$1259,6,FALSE)),"") -> 0.484 | M111: =IFERROR(F111-L111,"") -> -0.324 | N111: =IFERROR(IF(SEARCH(H111,B111,1),"Ok","Ecart"),"") -> Ok | O111: =IFERROR(IF(E111=K111,"Ok","Ecart"),"") -> Ecart | P111: =IFERROR(IF(M111>=0,"Ok","Ecart"),"") -> Ecart | Q111: =IFERROR(IF(OR(P111="Ecart",O111="Ecart",N111="Ecart"),"Ecart","Ok"),"") -> Ecart
A112: =IFERROR(VLOOKUP('Requête 052'!$A111,'Requête 052'!$A$1:$F$2000,1,FALSE),"") -> 4028 | B112: =IFERROR(VLOOKUP('Requête 052'!$A111,'Requête 052'!$A$1:$F$2000,2,FALSE),"") -> CGECP ST OUEN L AUMONE TDI | C112: =IFERROR(VLOOKUP('Requête 052'!$A111,'Requête 052'!$A$1:$F$2000,3,FALSE),"") -> 43802 | D112: =IFERROR(VLOOKUP('Requête 052'!$A111,'Requête 052'!$A$1:$F$2000,4,FALSE),"") -> BOIS B BRUT | E112: =IFERROR(VLOOKUP('Requête 052'!$A111,'Requête 052'!$A$1:$F$2000,5,FALSE),"") -> REFACTION | F112: =IFERROR(VLOOKUP('Requête 052'!$A111,'Requête 052'!$A$1:$F$2000,6,FALSE),"") -> 0.16 | G112: =IFERROR(VLOOKUP(A112,'Fichier source CGECP'!$A$1:$F$1259,1,FALSE),"") -> 4028 | H112: =IFERROR(VLOOKUP(A112,'Fichier source CGECP'!$A$1:$F$1259,2,FALSE),"") -> CGECP | I112: =IFERROR(VLOOKUP(A112,'Fichier source CGECP'!$A$1:$F$1259,3,FALSE),"") -> 43802 | J112: =IFERROR(VLOOKUP(A112,'Fichier source CGECP'!$A$1:$F$1259,4,FALSE),"") -> MATIERE VALO EN MELANGE | K112: =IFERROR(VLOOKUP(A112,'Fichier source CGECP'!$A$1:$F$1259,5,FALSE),"") -> MATIERE VALO EN MELANGE | L112: =IFERROR(IF(COUNTIFS($A$3:$A111,$A112,$B$3:$B111,$B112,$C$3:$C111,$C112,$D$3:$D111,$D112,$E$3:$E111,$E112,$F$3:$F111,$F112)>0,"",VLOOKUP(A112,'Fichier source CGECP'!$A$1:$F$1259,6,FALSE)),"") | M112: =IFERROR(F112-L112,"") | N112: =IFERROR(IF(SEARCH(H112,B112,1),"Ok","Ecart"),"") -> Ok | O112: =IFERROR(IF(E112=K112,"Ok","Ecart"),"") -> Ecart | P112: =IFERROR(IF(M112>=0,"Ok","Ecart"),"") -> Ok | Q112: =IFERROR(IF(OR(P112="Ecart",O112="Ecart",N112="Ecart"),"Ecart","Ok"),"") -> Ecart
A113: =IFERROR(VLOOKUP('Requête 052'!$A111,'Requête 052'!$A$1:$F$2000,1,FALSE),"") -> 4028 | B113: =IFERROR(VLOOKUP('Requête 052'!$A111,'Requête 052'!$A$1:$F$2000,2,FALSE),"") -> CGECP ST OUEN L AUMONE TDI | C113: =IFERROR(VLOOKUP('Requête 052'!$A111,'Requête 052'!$A$1:$F$2000,3,FALSE),"") -> 43802 | D113: =IFERROR(VLOOKUP('Requête 052'!$A111,'Requête 052'!$A$1:$F$2000,4,FALSE),"") -> BOIS B BRUT | E113: =IFERROR(VLOOKUP('Requête 052'!$A111,'Requête 052'!$A$1:$F$2000,5,FALSE),"") -> REFACTION | F113: =IFERROR(VLOOKUP('Requête 052'!$A111,'Requête 052'!$A$1:$F$2000,6,FALSE),"") -> 0.16 | G113: =IFERROR(VLOOKUP(A113,'Fichier source CGECP'!$A$1:$F$1259,1,FALSE),"") -> 4028 | H113: =IFERROR(VLOOKUP(A113,'Fichier source CGECP'!$A$1:$F$1259,2,FALSE),"") -> CGECP | I113: =IFERROR(VLOOKUP(A113,'Fichier source CGECP'!$A$1:$F$1259,3,FALSE),"") -> 43802 | J113: =IFERROR(VLOOKUP(A113,'Fichier source CGECP'!$A$1:$F$1259,4,FALSE),"") -> MATIERE VALO EN MELANGE | K113: =IFERROR(VLOOKUP(A113,'Fichier source CGECP'!$A$1:$F$1259,5,FALSE),"") -> MATIERE VALO EN MELANGE | L113: =IFERROR(IF(COUNTIFS($A$3:$A112,$A113,$B$3:$B112,$B113,$C$3:$C112,$C113,$D$3:$D112,$D113,$E$3:$E112,$E113,$F$3:$F112,$F113)>0,"",VLOOKUP(A113,'Fichier source CGECP'!$A$1:$F$1259,6,FALSE)),"") | M113: =IFERROR(F113-L113,"") | N113: =IFERROR(IF(SEARCH(H113,B113,1),"Ok","Ecart"),"") -> Ok | O113: =IFERROR(IF(E113=K113,"Ok","Ecart"),"") -> Ecart | P113: =IFERROR(IF(M113>=0,"Ok","Ecart"),"") -> Ok | Q113: =IFERROR(IF(OR(P113="Ecart",O113="Ecart",N113="Ecart"),"Ecart","Ok"),"") -> Ecart
A114: =IFERROR(VLOOKUP('Requête 052'!$A112,'Requête 052'!$A$1:$F$2000,1,FALSE),"") -> 4041 | B114: =IFERROR(VLOOKUP('Requête 052'!$A112,'Requête 052'!$A$1:$F$2000,2,FALSE),"") -> CGECP ST OUEN L AUMONE UVEND | C114: =IFERROR(VLOOKUP('Requête 052'!$A112,'Requête 052'!$A$1:$F$2000,3,FALSE),"") -> 43802 | D114: =IFERROR(VLOOKUP('Requête 052'!$A112,'Requête 052'!$A$1:$F$2000,4,FALSE),"") -> DECHET A INCINERER TRI | E114: =IFERROR(VLOOKUP('Requête 052'!$A112,'Requête 052'!$A$1:$F$2000,5,FALSE),"") -> DECHET A INCINERER TRI | F114: =IFERROR(VLOOKUP('Requête 052'!$A112,'Requête 052'!$A$1:$F$2000,6,FALSE),"") -> 3.48 | G114: =IFERROR(VLOOKUP(A114,'Fichier source CGECP'!$A$1:$F$1259,1,FALSE),"") -> 4041 | H114: =IFERROR(VLOOKUP(A114,'Fichier source CGECP'!$A$1:$F$1259,2,FALSE),"") -> CGECP | I114: =IFERROR(VLOOKUP(A114,'Fichier source CGECP'!$A$1:$F$1259,3,FALSE),"") -> 43802 | J114: =IFERROR(VLOOKUP(A114,'Fichier source CGECP'!$A$1:$F$1259,4,FALSE),"") -> CARTONS ET SACHES PLAST - 1.04.00 | K114: =IFERROR(VLOOKUP(A114,'Fichier source CGECP'!$A$1:$F$1259,5,FALSE),"") -> CARTONS ET SACHES PLAST - 1.04.00 | L114: =IFERROR(IF(COUNTIFS($A$3:$A113,$A114,$B$3:$B113,$B114,$C$3:$C113,$C114,$D$3:$D113,$D114,$E$3:$E113,$E114,$F$3:$F113,$F114)>0,"",VLOOKUP(A114,'Fichier source CGECP'!$A$1:$F$1259,6,FALSE)),"") -> 3.279 | M114: =IFERROR(F114-L114,"") -> 0.201 | N114: =IFERROR(IF(SEARCH(H114,B114,1),"Ok","Ecart"),"") -> Ok | O114: =IFERROR(IF(E114=K114,"Ok","Ecart"),"") -> Ecart | P114: =IFERROR(IF(M114>=0,"Ok","Ecart"),"") -> Ok | Q114: =IFERROR(IF(OR(P114="Ecart",O114="Ecart",N114="Ecart"),"Ecart","Ok"),"") -> Ecart
A115: =IFERROR(VLOOKUP('Requête 052'!$A114,'Requête 052'!$A$1:$F$2000,1,FALSE),"") -> 4084 | B115: =IFERROR(VLOOKUP('Requête 052'!$A114,'Requête 052'!$A$1:$F$2000,2,FALSE),"") -> CGECP ST OUEN L AUMONE TDI | C115: =IFERROR(VLOOKUP('Requête 052'!$A114,'Requête 052'!$A$1:$F$2000,3,FALSE),"") -> 43803 | D115: =IFERROR(VLOOKUP('Requête 052'!$A114,'Requête 052'!$A$1:$F$2000,4,FALSE),"") -> GRAVATS EN MELANGE | E115: =IFERROR(VLOOKUP('Requête 052'!$A114,'Requête 052'!$A$1:$F$2000,5,FALSE),"") -> GRAVATS EN MELANGE | F115: =IFERROR(VLOOKUP('Requête 052'!$A114,'Requête 052'!$A$1:$F$2000,6,FALSE),"") -> 2.12 | G115: =IFERROR(VLOOKUP(A115,'Fichier source CGECP'!$A$1:$F$1259,1,FALSE),"") | H115: =IFERROR(VLOOKUP(A115,'Fichier source CGECP'!$A$1:$F$1259,2,FALSE),"") | I115: =IFERROR(VLOOKUP(A115,'Fichier source CGECP'!$A$1:$F$1259,3,FALSE),"") | J115: =IFERROR(VLOOKUP(A115,'Fichier source CGECP'!$A$1:$F$1259,4,FALSE),"") | K115: =IFERROR(VLOOKUP(A115,'Fichier source CGECP'!$A$1:$F$1259,5,FALSE),"") | L115: =IFERROR(IF(COUNTIFS($A$3:$A114,$A115,$B$3:$B114,$B115,$C$3:$C114,$C115,$D$3:$D114,$D115,$E$3:$E114,$E115,$F$3:$F114,$F115)>0,"",VLOOKUP(A115,'Fichier source CGECP'!$A$1:$F$1259,6,FALSE)),"") | M115: =IFERROR(F115-L115,"") | N115: =IFERROR(IF(SEARCH(H115,B115,1),"Ok","Ecart"),"") -> Ok | O115: =IFERROR(IF(E115=K115,"Ok","Ecart"),"") -> Ecart | P115: =IFERROR(IF(M115>=0,"Ok","Ecart"),"") -> Ok | Q115: =IFERROR(IF(OR(P115="Ecart",O115="Ecart",N115="Ecart"),"Ecart","Ok"),"") -> Ecart
A116: =IFERROR(VLOOKUP('Requête 052'!$A115,'Requête 052'!$A$1:$F$2000,1,FALSE),"") -> 4085 | B116: =IFERROR(VLOOKUP('Requête 052'!$A115,'Requête 052'!$A$1:$F$2000,2,FALSE),"") -> CGECP ST OUEN L AUMONE DVBIODIV | C116: =IFERROR(VLOOKUP('Requête 052'!$A115,'Requête 052'!$A$1:$F$2000,3,FALSE),"") -> 43803 | D116: =IFERROR(VLOOKUP('Requête 052'!$A115,'Requête 052'!$A$1:$F$2000,4,FALSE),"") -> DECHETS VERTS EN MELANGE | E116: =IFERROR(VLOOKUP('Requête 052'!$A115,'Requête 052'!$A$1:$F$2000,5,FALSE),"") -> DECHETS VERTS EN MELANGE | F116: =IFERROR(VLOOKUP('Requête 052'!$A115,'Requête 052'!$A$1:$F$2000,6,FALSE),"") -> 3.52 | G116: =IFERROR(VLOOKUP(A116,'Fichier source CGECP'!$A$1:$F$1259,1,FALSE),"") | H116: =IFERROR(VLOOKUP(A116,'Fichier source CGECP'!$A$1:$F$1259,2,FALSE),"") | I116: =IFERROR(VLOOKUP(A116,'Fichier source CGECP'!$A$1:$F$1259,3,FALSE),"") | J116: =IFERROR(VLOOKUP(A116,'Fichier source CGECP'!$A$1:$F$1259,4,FALSE),"") | K116: =IFERROR(VLOOKUP(A116,'Fichier source CGECP'!$A$1:$F$1259,5,FALSE),"") | L116: =IFERROR(IF(COUNTIFS($A$3:$A115,$A116,$B$3:$B115,$B116,$C$3:$C115,$C116,$D$3:$D115,$D116,$E$3:$E115,$E116,$F$3:$F115,$F116)>0,"",VLOOKUP(A116,'Fichier source CGECP'!$A$1:$F$1259,6,FALSE)),"") | M116: =IFERROR(F116-L116,"") | N116: =IFERROR(IF(SEARCH(H116,B116,1),"Ok","Ecart"),"") -> Ok | O116: =IFERROR(IF(E116=K116,"Ok","Ecart"),"") -> Ecart | P116: =IFERROR(IF(M116>=0,"Ok","Ecart"),"") -> Ok | Q116: =IFERROR(IF(OR(P116="Ecart",O116="Ecart",N116="Ecart"),"Ecart","Ok"),"") -> Ecart
A117: =IFERROR(VLOOKUP('Requête 052'!$A116,'Requête 052'!$A$1:$F$2000,1,FALSE),"") -> 4086 | B117: =IFERROR(VLOOKUP('Requête 052'!$A116,'Requête 052'!$A$1:$F$2000,2,FALSE),"") -> CGECP ST OUEN L AUMONE DVBIODIV | C117: =IFERROR(VLOOKUP('Requête 052'!$A116,'Requête 052'!$A$1:$F$2000,3,FALSE),"") -> 43803 | D117: =IFERROR(VLOOKUP('Requête 052'!$A116,'Requête 052'!$A$1:$F$2000,4,FALSE),"") -> DECHETS VERTS EN MELANGE | E117: =IFERROR(VLOOKUP('Requête 052'!$A116,'Requête 052'!$A$1:$F$2000,5,FALSE),"") -> DECHETS VERTS EN MELANGE | F117: =IFERROR(VLOOKUP('Requête 052'!$A116,'Requête 052'!$A$1:$F$2000,6,FALSE),"") -> 4.46 | G117: =IFERROR(VLOOKUP(A117,'Fichier source CGECP'!$A$1:$F$1259,1,FALSE),"") | H117: =IFERROR(VLOOKUP(A117,'Fichier source CGECP'!$A$1:$F$1259,2,FALSE),"") | I117: =IFERROR(VLOOKUP(A117,'Fichier source CGECP'!$A$1:$F$1259,3,FALSE),"") | J117: =IFERROR(VLOOKUP(A117,'Fichier source CGECP'!$A$1:$F$1259,4,FALSE),"") | K117: =IFERROR(VLOOKUP(A117,'Fichier source CGECP'!$A$1:$F$1259,5,FALSE),"") | L117: =IFERROR(IF(COUNTIFS($A$3:$A116,$A117,$B$3:$B116,$B117,$C$3:$C116,$C117,$D$3:$D116,$D117,$E$3:$E116,$E117,$F$3:$F116,$F117)>0,"",VLOOKUP(A117,'Fichier source CGECP'!$A$1:$F$1259,6,FALSE)),"") | M117: =IFERROR(F117-L117,"") | N117: =IFERROR(IF(SEARCH(H117,B117,1),"Ok","Ecart"),"") -> Ok | O117: =IFERROR(IF(E117=K117,"Ok","Ecart"),"") -> Ecart | P117: =IFERROR(IF(M117>=0,"Ok","Ecart"),"") -> Ok | Q117: =IFERROR(IF(OR(P117="Ecart",O117="Ecart",N117="Ecart"),"Ecart","Ok"),"") -> Ecart
A118: =IFERROR(VLOOKUP('Requête 052'!$A117,'Requête 052'!$A$1:$F$2000,1,FALSE),"") -> 4087 | B118: =IFERROR(VLOOKUP('Requête 052'!$A117,'Requête 052'!$A$1:$F$2000,2,FALSE),"") -> CGECP ST OUEN L AUMONE UVEND | C118: =IFERROR(VLOOKUP('Requête 052'!$A117,'Requête 052'!$A$1:$F$2000,3,FALSE),"") -> 43803 | D118: =IFERROR(VLOOKUP('Requête 052'!$A117,'Requête 052'!$A$1:$F$2000,4,FALSE),"") -> ORDURES MENAGERES | E118: =IFERROR(VLOOKUP('Requête 052'!$A117,'Requête 052'!$A$1:$F$2000,5,FALSE),"") -> ORDURES MENAGERES | F118: =IFERROR(VLOOKUP('Requête 052'!$A117,'Requête 052'!$A$1:$F$2000,6,FALSE),"") -> 0.256 | G118: =IFERROR(VLOOKUP(A118,'Fichier source CGECP'!$A$1:$F$1259,1,FALSE),"") -> 4087 | H118: =IFERROR(VLOOKUP(A118,'Fichier source CGECP'!$A$1:$F$1259,2,FALSE),"") -> CGECP | I118: =IFERROR(VLOOKUP(A118,'Fichier source CGECP'!$A$1:$F$1259,3,FALSE),"") -> 43803 | J118: =IFERROR(VLOOKUP(A118,'Fichier source CGECP'!$A$1:$F$1259,4,FALSE),"") -> 0 | K118: =IFERROR(VLOOKUP(A118,'Fichier source CGECP'!$A$1:$F$1259,5,FALSE),"") -> ORDURES MENAGERES | L118: =IFERROR(IF(COUNTIFS($A$3:$A117,$A118,$B$3:$B117,$B118,$C$3:$C117,$C118,$D$3:$D117,$D118,$E$3:$E117,$E118,$F$3:$F117,$F118)>0,"",VLOOKUP(A118,'Fichier source CGECP'!$A$1:$F$1259,6,FALSE)),"") -> 4.9 | M118: =IFERROR(F118-L118,"") -> -4.644 | N118: =IFERROR(IF(SEARCH(H118,B118,1),"Ok","Ecart"),"") -> Ok | O118: =IFERROR(IF(E118=K118,"Ok","Ecart"),"") -> Ok | P118: =IFERROR(IF(M118>=0,"Ok","Ecart"),"") -> Ecart | Q118: =IFERROR(IF(OR(P118="Ecart",O118="Ecart",N118="Ecart"),"Ecart","Ok"),"") -> Ecart
A119: =IFERROR(VLOOKUP('Requête 052'!$A118,'Requête 052'!$A$1:$F$2000,1,FALSE),"") -> 4088 | B119: =IFERROR(VLOOKUP('Requête 052'!$A118,'Requête 052'!$A$1:$F$2000,2,FALSE),"") -> CGECP ST OUEN L AUMONE TDI | C119: =IFERROR(VLOOKUP('Requête 052'!$A118,'Requête 052'!$A$1:$F$2000,3,FALSE),"") -> 43803 | D119: =IFERROR(VLOOKUP('Requête 052'!$A118,'Requête 052'!$A$1:$F$2000,4,FALSE),"") -> ENCOMBRANTS | E119: =IFERROR(VLOOKUP('Requête 052'!$A118,'Requête 052'!$A$1:$F$2000,5,FALSE),"") -> ENCOMBRANTS | F119: =IFERROR(VLOOKUP('Requête 052'!$A118,'Requête 052'!$A$1:$F$2000,6,FALSE),"") -> 0.078 | G119: =IFERROR(VLOOKUP(A119,'Fichier source CGECP'!$A$1:$F$1259,1,FALSE),"") | H119: =IFERROR(VLOOKUP(A119,'Fichier source CGECP'!$A$1:$F$1259,2,FALSE),"") | I119: =IFERROR(VLOOKUP(A119,'Fichier source CGECP'!$A$1:$F$1259,3,FALSE),"") | J119: =IFERROR(VLOOKUP(A119,'Fichier source CGECP'!$A$1:$F$1259,4,FALSE),"") | K119: =IFERROR(VLOOKUP(A119,'Fichier source CGECP'!$A$1:$F$1259,5,FALSE),"") | L119: =IFERROR(IF(COUNTIFS($A$3:$A118,$A119,$B$3:$B118,$B119,$C$3:$C118,$C119,$D$3:$D118,$D119,$E$3:$E118,$E119,$F$3:$F118,$F119)>0,"",VLOOKUP(A119,'Fichier source CGECP'!$A$1:$F$1259,6,FALSE)),"") | M119: =IFERROR(F119-L119,"") | N119: =IFERROR(IF(SEARCH(H119,B119,1),"Ok","Ecart"),"") -> Ok | O119: =IFERROR(IF(E119=K119,"Ok","Ecart"),"") -> Ecart | P119: =IFERROR(IF(M119>=0,"Ok","Ecart"),"") -> Ok | Q119: =IFERROR(IF(OR(P119="Ecart",O119="Ecart",N119="Ecart"),"Ecart","Ok"),"") -> Ecart
A120: =IFERROR(VLOOKUP('Requête 052'!$A118,'Requête 052'!$A$1:$F$2000,1,FALSE),"") -> 4088 | B120: =IFERROR(VLOOKUP('Requête 052'!$A118,'Requête 052'!$A$1:$F$2000,2,FALSE),"") -> CGECP ST OUEN L AUMONE TDI | C120: =IFERROR(VLOOKUP('Requête 052'!$A118,'Requête 052'!$A$1:$F$2000,3,FALSE),"") -> 43803 | D120: =IFERROR(VLOOKUP('Requête 052'!$A118,'Requête 052'!$A$1:$F$2000,4,FALSE),"") -> ENCOMBRANTS | E120: =IFERROR(VLOOKUP('Requête 052'!$A118,'Requête 052'!$A$1:$F$2000,5,FALSE),"") -> ENCOMBRANTS | F120: =IFERROR(VLOOKUP('Requête 052'!$A118,'Requête 052'!$A$1:$F$2000,6,FALSE),"") -> 0.078 | G120: =IFERROR(VLOOKUP(A120,'Fichier source CGECP'!$A$1:$F$1259,1,FALSE),"") | H120: =IFERROR(VLOOKUP(A120,'Fichier source CGECP'!$A$1:$F$1259,2,FALSE),"") | I120: =IFERROR(VLOOKUP(A120,'Fichier source CGECP'!$A$1:$F$1259,3,FALSE),"") | J120: =IFERROR(VLOOKUP(A120,'Fichier source CGECP'!$A$1:$F$1259,4,FALSE),"") | K120: =IFERROR(VLOOKUP(A120,'Fichier source CGECP'!$A$1:$F$1259,5,FALSE),"") | L120: =IFERROR(IF(COUNTIFS($A$3:$A119,$A120,$B$3:$B119,$B120,$C$3:$C119,$C120,$D$3:$D119,$D120,$E$3:$E119,$E120,$F$3:$F119,$F120)>0,"",VLOOKUP(A120,'Fichier source CGECP'!$A$1:$F$1259,6,FALSE)),"") | M120: =IFERROR(F120-L120,"") | N120: =IFERROR(IF(SEARCH(H120,B120,1),"Ok","Ecart"),"") -> Ok | O120: =IFERROR(IF(E120=K120,"Ok","Ecart"),"") -> Ecart | P120: =IFERROR(IF(M120>=0,"Ok","Ecart"),"") -> Ok | Q120: =IFERROR(IF(OR(P120="Ecart",O120="Ecart",N120="Ecart"),"Ecart","Ok"),"") -> Ecart
A121: =IFERROR(VLOOKUP('Requête 052'!$A119,'Requête 052'!$A$1:$F$2000,1,FALSE),"") -> 4089 | B121: =IFERROR(VLOOKUP('Requête 052'!$A119,'Requête 052'!$A$1:$F$2000,2,FALSE),"") -> CGECP ST OUEN L AUMONE UVEND | C121: =IFERROR(VLOOKUP('Requête 052'!$A119,'Requête 052'!$A$1:$F$2000,3,FALSE),"") -> 43803 | D121: =IFERROR(VLOOKUP('Requête 052'!$A119,'Requête 052'!$A$1:$F$2000,4,FALSE),"") -> REFUS DE TRI | E121: =IFERROR(VLOOKUP('Requête 052'!$A119,'Requête 052'!$A$1:$F$2000,5,FALSE),"") -> REFUS DE TRI | F121: =IFERROR(VLOOKUP('Requête 052'!$A119,'Requête 052'!$A$1:$F$2000,6,FALSE),"") -> 7.82 | G121: =IFERROR(VLOOKUP(A121,'Fichier source CGECP'!$A$1:$F$1259,1,FALSE),"") | H121: =IFERROR(VLOOKUP(A121,'Fichier source CGECP'!$A$1:$F$1259,2,FALSE),"") | I121: =IFERROR(VLOOKUP(A121,'Fichier source CGECP'!$A$1:$F$1259,3,FALSE),"") | J121: =IFERROR(VLOOKUP(A121,'Fichier source CGECP'!$A$1:$F$1259,4,FALSE),"") | K121: =IFERROR(VLOOKUP(A121,'Fichier source CGECP'!$A$1:$F$1259,5,FALSE),"") | L121: =IFERROR(IF(COUNTIFS($A$3:$A120,$A121,$B$3:$B120,$B121,$C$3:$C120,$C121,$D$3:$D120,$D121,$E$3:$E120,$E121,$F$3:$F120,$F121)>0,"",VLOOKUP(A121,'Fichier source CGECP'!$A$1:$F$1259,6,FALSE)),"") | M121: =IFERROR(F121-L121,"") | N121: =IFERROR(IF(SEARCH(H121,B121,1),"Ok","Ecart"),"") -> Ok | O121: =IFERROR(IF(E121=K121,"Ok","Ecart"),"") -> Ecart | P121: =IFERROR(IF(M121>=0,"Ok","Ecart"),"") -> Ok | Q121: =IFERROR(IF(OR(P121="Ecart",O121="Ecart",N121="Ecart"),"Ecart","Ok"),"") -> Ecart
A122: =IFERROR(VLOOKUP('Requête 052'!$A120,'Requête 052'!$A$1:$F$2000,1,FALSE),"") -> 4090 | B122: =IFERROR(VLOOKUP('Requête 052'!$A120,'Requête 052'!$A$1:$F$2000,2,FALSE),"") -> CGECP ST OUEN L AUMONE UVEND | C122: =IFERROR(VLOOKUP('Requête 052'!$A120,'Requête 052'!$A$1:$F$2000,3,FALSE),"") -> 43803 | D122: =IFERROR(VLOOKUP('Requête 052'!$A120,'Requête 052'!$A$1:$F$2000,4,FALSE),"") -> DECHET A INCINERER | E122: =IFERROR(VLOOKUP('Requête 052'!$A120,'Requête 052'!$A$1:$F$2000,5,FALSE),"") -> DECHET A INCINERER | F122: =IFERROR(VLOOKUP('Requête 052'!$A120,'Requête 052'!$A$1:$F$2000,6,FALSE),"") -> 3.28 | G122: =IFERROR(VLOOKUP(A122,'Fichier source CGECP'!$A$1:$F$1259,1,FALSE),"") -> 4090 | H122: =IFERROR(VLOOKUP(A122,'Fichier source CGECP'!$A$1:$F$1259,2,FALSE),"") -> CGECP | I122: =IFERROR(VLOOKUP(A122,'Fichier source CGECP'!$A$1:$F$1259,3,FALSE),"") -> 43803 | J122: =IFERROR(VLOOKUP(A122,'Fichier source CGECP'!$A$1:$F$1259,4,FALSE),"") -> DECHETS A TRIER | K122: =IFERROR(VLOOKUP(A122,'Fichier source CGECP'!$A$1:$F$1259,5,FALSE),"") -> DECHETS INDUSTRIELS A TRIER | L122: =IFERROR(IF(COUNTIFS($A$3:$A121,$A122,$B$3:$B121,$B122,$C$3:$C121,$C122,$D$3:$D121,$D122,$E$3:$E121,$E122,$F$3:$F121,$F122)>0,"",VLOOKUP(A122,'Fichier source CGECP'!$A$1:$F$1259,6,FALSE)),"") -> 2.96 | M122: =IFERROR(F122-L122,"") -> 0.32 | N122: =IFERROR(IF(SEARCH(H122,B122,1),"Ok","Ecart"),"") -> Ok | O122: =IFERROR(IF(E122=K122,"Ok","Ecart"),"") -> Ecart | P122: =IFERROR(IF(M122>=0,"Ok","Ecart"),"") -> Ok | Q122: =IFERROR(IF(OR(P122="Ecart",O122="Ecart",N122="Ecart"),"Ecart","Ok"),"") -> Ecart
A123: =IFERROR(VLOOKUP('Requête 052'!$A122,'Requête 052'!$A$1:$F$2000,1,FALSE),"") -> 4092 | B123: =IFERROR(VLOOKUP('Requête 052'!$A122,'Requête 052'!$A$1:$F$2000,2,FALSE),"") -> CGECP ST OUEN L AUMONE TDI | C123: =IFERROR(VLOOKUP('Requête 052'!$A122,'Requête 052'!$A$1:$F$2000,3,FALSE),"") -> 43803 | D123: =IFERROR(VLOOKUP('Requête 052'!$A122,'Requête 052'!$A$1:$F$2000,4,FALSE),"") -> GRAVATS EN MELANGE | E123: =IFERROR(VLOOKUP('Requête 052'!$A122,'Requête 052'!$A$1:$F$2000,5,FALSE),"") -> GRAVATS EN MELANGE | F123: =IFERROR(VLOOKUP('Requête 052'!$A122,'Requête 052'!$A$1:$F$2000,6,FALSE),"") -> 1 | G123: =IFERROR(VLOOKUP(A123,'Fichier source CGECP'!$A$1:$F$1259,1,FALSE),"") | H123: =IFERROR(VLOOKUP(A123,'Fichier source CGECP'!$A$1:$F$1259,2,FALSE),"") | I123: =IFERROR(VLOOKUP(A123,'Fichier source CGECP'!$A$1:$F$1259,3,FALSE),"") | J123: =IFERROR(VLOOKUP(A123,'Fichier source CGECP'!$A$1:$F$1259,4,FALSE),"") | K123: =IFERROR(VLOOKUP(A123,'Fichier source CGECP'!$A$1:$F$1259,5,FALSE),"") | L123: =IFERROR(IF(COUNTIFS($A$3:$A122,$A123,$B$3:$B122,$B123,$C$3:$C122,$C123,$D$3:$D122,$D123,$E$3:$E122,$E123,$F$3:$F122,$F123)>0,"",VLOOKUP(A123,'Fichier source CGECP'!$A$1:$F$1259,6,FALSE)),"") | M123: =IFERROR(F123-L123,"") | N123: =IFERROR(IF(SEARCH(H123,B123,1),"Ok","Ecart"),"") -> Ok | O123: =IFERROR(IF(E123=K123,"Ok","Ecart"),"") -> Ecart | P123: =IFERROR(IF(M123>=0,"Ok","Ecart"),"") -> Ok | Q123: =IFERROR(IF(OR(P123="Ecart",O123="Ecart",N123="Ecart"),"Ecart","Ok"),"") -> Ecart
A124: =IFERROR(VLOOKUP('Requête 052'!$A122,'Requête 052'!$A$1:$F$2000,1,FALSE),"") -> 4092 | B124: =IFERROR(VLOOKUP('Requête 052'!$A122,'Requête 052'!$A$1:$F$2000,2,FALSE),"") -> CGECP ST OUEN L AUMONE TDI | C124: =IFERROR(VLOOKUP('Requête 052'!$A122,'Requête 052'!$A$1:$F$2000,3,FALSE),"") -> 43803 | D124: =IFERROR(VLOOKUP('Requête 052'!$A122,'Requête 052'!$A$1:$F$2000,4,FALSE),"") -> GRAVATS EN MELANGE | E124: =IFERROR(VLOOKUP('Requête 052'!$A122,'Requête 052'!$A$1:$F$2000,5,FALSE),"") -> GRAVATS EN MELANGE | F124: =IFERROR(VLOOKUP('Requête 052'!$A122,'Requête 052'!$A$1:$F$2000,6,FALSE),"") -> 1 | G124: =IFERROR(VLOOKUP(A124,'Fichier source CGECP'!$A$1:$F$1259,1,FALSE),"") | H124: =IFERROR(VLOOKUP(A124,'Fichier source CGECP'!$A$1:$F$1259,2,FALSE),"") | I124: =IFERROR(VLOOKUP(A124,'Fichier source CGECP'!$A$1:$F$1259,3,FALSE),"") | J124: =IFERROR(VLOOKUP(A124,'Fichier source CGECP'!$A$1:$F$1259,4,FALSE),"") | K124: =IFERROR(VLOOKUP(A124,'Fichier source CGECP'!$A$1:$F$1259,5,FALSE),"") | L124: =IFERROR(IF(COUNTIFS($A$3:$A123,$A124,$B$3:$B123,$B124,$C$3:$C123,$C124,$D$3:$D123,$D124,$E$3:$E123,$E124,$F$3:$F123,$F124)>0,"",VLOOKUP(A124,'Fichier source CGECP'!$A$1:$F$1259,6,FALSE)),"") | M124: =IFERROR(F124-L124,"") | N124: =IFERROR(IF(SEARCH(H124,B124,1),"Ok","Ecart"),"") -> Ok | O124: =IFERROR(IF(E124=K124,"Ok","Ecart"),"") -> Ecart | P124: =IFERROR(IF(M124>=0,"Ok","Ecart"),"") -> Ok | Q124: =IFERROR(IF(OR(P124="Ecart",O124="Ecart",N124="Ecart"),"Ecart","Ok"),"") -> Ecart
A125: =IFERROR(VLOOKUP('Requête 052'!$A124,'Requête 052'!$A$1:$F$2000,1,FALSE),"") -> 4095 | B125: =IFERROR(VLOOKUP('Requête 052'!$A124,'Requête 052'!$A$1:$F$2000,2,FALSE),"") -> CGECP ST OUEN L AUMONE UVEND | C125: =IFERROR(VLOOKUP('Requête 052'!$A124,'Requête 052'!$A$1:$F$2000,3,FALSE),"") -> 43803 | D125: =IFERROR(VLOOKUP('Requête 052'!$A124,'Requête 052'!$A$1:$F$2000,4,FALSE),"") -> DECHET A INCINERER TRI | E125: =IFERROR(VLOOKUP('Requête 052'!$A124,'Requête 052'!$A$1:$F$2000,5,FALSE),"") -> DECHET A INCINERER TRI | F125: =IFERROR(VLOOKUP('Requête 052'!$A124,'Requête 052'!$A$1:$F$2000,6,FALSE),"") -> 0.26 | G125: =IFERROR(VLOOKUP(A125,'Fichier source CGECP'!$A$1:$F$1259,1,FALSE),"") -> 4095 | H125: =IFERROR(VLOOKUP(A125,'Fichier source CGECP'!$A$1:$F$1259,2,FALSE),"") -> CGECP | I125: =IFERROR(VLOOKUP(A125,'Fichier source CGECP'!$A$1:$F$1259,3,FALSE),"") -> 43803 | J125: =IFERROR(VLOOKUP(A125,'Fichier source CGECP'!$A$1:$F$1259,4,FALSE),"") -> 0 | K125: =IFERROR(VLOOKUP(A125,'Fichier source CGECP'!$A$1:$F$1259,5,FALSE),"") -> DECHET A INCINERER TRI | L125: =IFERROR(IF(COUNTIFS($A$3:$A124,$A125,$B$3:$B124,$B125,$C$3:$C124,$C125,$D$3:$D124,$D125,$E$3:$E124,$E125,$F$3:$F124,$F125)>0,"",VLOOKUP(A125,'Fichier source CGECP'!$A$1:$F$1259,6,FALSE)),"") -> 2.3 | M125: =IFERROR(F125-L125,"") -> -2.04 | N125: =IFERROR(IF(SEARCH(H125,B125,1),"Ok","Ecart"),"") -> Ok | O125: =IFERROR(IF(E125=K125,"Ok","Ecart"),"") -> Ok | P125: =IFERROR(IF(M125>=0,"Ok","Ecart"),"") -> Ecart | Q125: =IFERROR(IF(OR(P125="Ecart",O125="Ecart",N125="Ecart"),"Ecart","Ok"),"") -> Ecart
A126: =IFERROR(VLOOKUP('Requête 052'!$A124,'Requête 052'!$A$1:$F$2000,1,FALSE),"") -> 4095 | B126: =IFERROR(VLOOKUP('Requête 052'!$A124,'Requête 052'!$A$1:$F$2000,2,FALSE),"") -> CGECP ST OUEN L AUMONE UVEND | C126: =IFERROR(VLOOKUP('Requête 052'!$A124,'Requête 052'!$A$1:$F$2000,3,FALSE),"") -> 43803 | D126: =IFERROR(VLOOKUP('Requête 052'!$A124,'Requête 052'!$A$1:$F$2000,4,FALSE),"") -> DECHET A INCINERER TRI | E126: =IFERROR(VLOOKUP('Requête 052'!$A124,'Requête 052'!$A$1:$F$2000,5,FALSE),"") -> DECHET A INCINERER TRI | F126: =IFERROR(VLOOKUP('Requête 052'!$A124,'Requête 052'!$A$1:$F$2000,6,FALSE),"") -> 0.26 | G126: =IFERROR(VLOOKUP(A126,'Fichier source CGECP'!$A$1:$F$1259,1,FALSE),"") -> 4095 | H126: =IFERROR(VLOOKUP(A126,'Fichier source CGECP'!$A$1:$F$1259,2,FALSE),"") -> CGECP | I126: =IFERROR(VLOOKUP(A126,'Fichier source CGECP'!$A$1:$F$1259,3,FALSE),"") -> 43803 | J126: =IFERROR(VLOOKUP(A126,'Fichier source CGECP'!$A$1:$F$1259,4,FALSE),"") -> 0 | K126: =IFERROR(VLOOKUP(A126,'Fichier source CGECP'!$A$1:$F$1259,5,FALSE),"") -> DECHET A INCINERER TRI | L126: =IFERROR(IF(COUNTIFS($A$3:$A125,$A126,$B$3:$B125,$B126,$C$3:$C125,$C126,$D$3:$D125,$D126,$E$3:$E125,$E126,$F$3:$F125,$F126)>0,"",VLOOKUP(A126,'Fichier source CGECP'!$A$1:$F$1259,6,FALSE)),"") | M126: =IFERROR(F126-L126,"") | N126: =IFERROR(IF(SEARCH(H126,B126,1),"Ok","Ecart"),"") -> Ok | O126: =IFERROR(IF(E126=K126,"Ok","Ecart"),"") -> Ok | P126: =IFERROR(IF(M126>=0,"Ok","Ecart"),"") -> Ok | Q126: =IFERROR(IF(OR(P126="Ecart",O126="Ecart",N126="Ecart"),"Ecart","Ok"),"") -> Ok
A127: =IFERROR(VLOOKUP('Requête 052'!$A125,'Requête 052'!$A$1:$F$2000,1,FALSE),"") -> 4100 | B127: =IFERROR(VLOOKUP('Requête 052'!$A125,'Requête 052'!$A$1:$F$2000,2,FALSE),"") -> CGECP ST OUEN L AUMONE TDI | C127: =IFERROR(VLOOKUP('Requête 052'!$A125,'Requête 052'!$A$1:$F$2000,3,FALSE),"") -> 43803 | D127: =IFERROR(VLOOKUP('Requête 052'!$A125,'Requête 052'!$A$1:$F$2000,4,FALSE),"") -> DECHETS INDUSTRIELS BANALS | E127: =IFERROR(VLOOKUP('Requête 052'!$A125,'Requête 052'!$A$1:$F$2000,5,FALSE),"") -> DECHETS INDUSTRIELS BANALS | F127: =IFERROR(VLOOKUP('Requête 052'!$A125,'Requête 052'!$A$1:$F$2000,6,FALSE),"") -> 1.44 | G127: =IFERROR(VLOOKUP(A127,'Fichier source CGECP'!$A$1:$F$1259,1,FALSE),"") -> 4100 | H127: =IFERROR(VLOOKUP(A127,'Fichier source CGECP'!$A$1:$F$1259,2,FALSE),"") -> CGECP | I127: =IFERROR(VLOOKUP(A127,'Fichier source CGECP'!$A$1:$F$1259,3,FALSE),"") -> 43803 | J127: =IFERROR(VLOOKUP(A127,'Fichier source CGECP'!$A$1:$F$1259,4,FALSE),"") -> DECHETS INDUSTRIELS BANALS | K127: =IFERROR(VLOOKUP(A127,'Fichier source CGECP'!$A$1:$F$1259,5,FALSE),"") -> DECHETS INDUSTRIELS BANALS | L127: =IFERROR(IF(COUNTIFS($A$3:$A126,$A127,$B$3:$B126,$B127,$C$3:$C126,$C127,$D$3:$D126,$D127,$E$3:$E126,$E127,$F$3:$F126,$F127)>0,"",VLOOKUP(A127,'Fichier source CGECP'!$A$1:$F$1259,6,FALSE)),"") -> 2.24 | M127: =IFERROR(F127-L127,"") -> -0.8 | N127: =IFERROR(IF(SEARCH(H127,B127,1),"Ok","Ecart"),"") -> Ok | O127: =IFERROR(IF(E127=K127,"Ok","Ecart"),"") -> Ok | P127: =IFERROR(IF(M127>=0,"Ok","Ecart"),"") -> Ecart | Q127: =IFERROR(IF(OR(P127="Ecart",O127="Ecart",N127="Ecart"),"Ecart","Ok"),"") -> Ecart
A128: =IFERROR(VLOOKUP('Requête 052'!$A127,'Requête 052'!$A$1:$F$2000,1,FALSE),"") -> 4104 | B128: =IFERROR(VLOOKUP('Requête 052'!$A127,'Requête 052'!$A$1:$F$2000,2,FALSE),"") -> CGECP ST OUEN L AUMONE TDI | C128: =IFERROR(VLOOKUP('Requête 052'!$A127,'Requête 052'!$A$1:$F$2000,3,FALSE),"") -> 43803 | D128: =IFERROR(VLOOKUP('Requête 052'!$A127,'Requête 052'!$A$1:$F$2000,4,FALSE),"") -> ENCOMBRANTS | E128: =IFERROR(VLOOKUP('Requête 052'!$A127,'Requête 052'!$A$1:$F$2000,5,FALSE),"") -> ENCOMBRANTS | F128: =IFERROR(VLOOKUP('Requête 052'!$A127,'Requête 052'!$A$1:$F$2000,6,FALSE),"") -> 2.72 | G128: =IFERROR(VLOOKUP(A128,'Fichier source CGECP'!$A$1:$F$1259,1,FALSE),"") -> 4104 | H128: =IFERROR(VLOOKUP(A128,'Fichier source CGECP'!$A$1:$F$1259,2,FALSE),"") -> CGECP | I128: =IFERROR(VLOOKUP(A128,'Fichier source CGECP'!$A$1:$F$1259,3,FALSE),"") -> 43803 | J128: =IFERROR(VLOOKUP(A128,'Fichier source CGECP'!$A$1:$F$1259,4,FALSE),"") -> DECHETS INDUSTRIELS BANALS | K128: =IFERROR(VLOOKUP(A128,'Fichier source CGECP'!$A$1:$F$1259,5,FALSE),"") -> ENCOMBRANTS | L128: =IFERROR(IF(COUNTIFS($A$3:$A127,$A128,$B$3:$B127,$B128,$C$3:$C127,$C128,$D$3:$D127,$D128,$E$3:$E127,$E128,$F$3:$F127,$F128)>0,"",VLOOKUP(A128,'Fichier source CGECP'!$A$1:$F$1259,6,FALSE)),"") -> 1.38 | M128: =IFERROR(F128-L128,"") -> 1.34 | N128: =IFERROR(IF(SEARCH(H128,B128,1),"Ok","Ecart"),"") -> Ok | O128: =IFERROR(IF(E128=K128,"Ok","Ecart"),"") -> Ok | P128: =IFERROR(IF(M128>=0,"Ok","Ecart"),"") -> Ok | Q128: =IFERROR(IF(OR(P128="Ecart",O128="Ecart",N128="Ecart"),"Ecart","Ok"),"") -> Ok
A129: =IFERROR(VLOOKUP('Requête 052'!$A128,'Requête 052'!$A$1:$F$2000,1,FALSE),"") -> 4108 | B129: =IFERROR(VLOOKUP('Requête 052'!$A128,'Requête 052'!$A$1:$F$2000,2,FALSE),"") -> CGECP ST OUEN L AUMONE TDI | C129: =IFERROR(VLOOKUP('Requête 052'!$A128,'Requête 052'!$A$1:$F$2000,3,FALSE),"") -> 43803 | D129: =IFERROR(VLOOKUP('Requête 052'!$A128,'Requête 052'!$A$1:$F$2000,4,FALSE),"") -> CARTONS ET SACHES PLAST - 1.04.00 | E129: =IFERROR(VLOOKUP('Requête 052'!$A128,'Requête 052'!$A$1:$F$2000,5,FALSE),"") -> CARTONS | F129: =IFERROR(VLOOKUP('Requête 052'!$A128,'Requête 052'!$A$1:$F$2000,6,FALSE),"") -> 3.14 | G129: =IFERROR(VLOOKUP(A129,'Fichier source CGECP'!$A$1:$F$1259,1,FALSE),"") -> 4108 | H129: =IFERROR(VLOOKUP(A129,'Fichier source CGECP'!$A$1:$F$1259,2,FALSE),"") -> CGECP | I129: =IFERROR(VLOOKUP(A129,'Fichier source CGECP'!$A$1:$F$1259,3,FALSE),"") -> 43803 | J129: =IFERROR(VLOOKUP(A129,'Fichier source CGECP'!$A$1:$F$1259,4,FALSE),"") -> CARTONS ET SACHES PLAST - 1.04.00 | K129: =IFERROR(VLOOKUP(A129,'Fichier source CGECP'!$A$1:$F$1259,5,FALSE),"") -> PE GRANDE SURFACE-PEGS | L129: =IFERROR(IF(COUNTIFS($A$3:$A128,$A129,$B$3:$B128,$B129,$C$3:$C128,$C129,$D$3:$D128,$D129,$E$3:$E128,$E129,$F$3:$F128,$F129)>0,"",VLOOKUP(A129,'Fichier source CGECP'!$A$1:$F$1259,6,FALSE)),"") -> 4.626 | M129: =IFERROR(F129-L129,"") -> -1.486 | N129: =IFERROR(IF(SEARCH(H129,B129,1),"Ok","Ecart"),"") -> Ok | O129: =IFERROR(IF(E129=K129,"Ok","Ecart"),"") -> Ecart | P129: =IFERROR(IF(M129>=0,"Ok","Ecart"),"") -> Ecart | Q129: =IFERROR(IF(OR(P129="Ecart",O129="Ecart",N129="Ecart"),"Ecart","Ok"),"") -> Ecart
...

Sheet Requête 052
A1: Code exutoire | B1: Exutoire réalisé | C1: Date vidage | D1: Matière prévue | E1: Matière réalisée | F1: V_tonnageVidageExutoire | G1: Famille matière du service | H1: Centre analytique IDF | I1: v_Eotp | J1: V_code Eotp | K1: V_Eotp Valeur 1 | L1: V_Eotp Valeur 2 | M1: Jour | N1: N° de tournée | O1: Nom de la tournée prévisionnelle | P1: Code mouvement | Q1: N° bon client | R1: Code client DIVA | S1: Nom client | T1: Compte facturation | U1: Code client facturé | V1: Lieu exploitation | W1: Ville lieu d'exploitation | X1: Nom commercial contrat | Y1: Code service | Z1: Matériel | AA1: Quantité facturée
A2: 640 | B2: CGECP ST OUEN L AUMONE TDI | C2: 43818 | D2: PAPIERS | E2: DECHETS INDUSTRIELS BANALS | F2: 2.56
A3: 3511 | B3: CGECP ST OUEN L AUMONE DVBIODIV | C3: 43800 | D3: DECHETS VERTS EN MELANGE | E3: DECHETS VERTS EN MELANGE | F3: 0.24
A4: 3512 | B4: CGECP ST OUEN L AUMONE DVBIODIV | C4: 43800 | D4: DECHETS VERTS EN MELANGE | E4: DECHETS VERTS EN MELANGE | F4: 4.04
A5: 3515 | B5: CGECP ST OUEN L AUMONE TDI | C5: 43800 | D5: GRAVATS | E5: GRAVATS | F5: 1.76
A6: 3519 | B6: CGECP ST OUEN L AUMONE TDI | C6: 43800 | D6: ENCOMBRANTS | E6: ENCOMBRANTS | F6: 3.44
A7: 3521 | B7: CGECP ST OUEN L AUMONE TDI | C7: 43800 | D7: ENCOMBRANTS | E7: ENCOMBRANTS | F7: 5.32
A8: 3523 | B8: CGECP ST OUEN L AUMONE TDI | C8: 43800 | D8: ENCOMBRANTS | E8: ENCOMBRANTS | F8: 2.82
A9: 3525 | B9: CGECP ST OUEN L AUMONE TDI | C9: 43800 | D9: ENCOMBRANTS | E9: ENCOMBRANTS | F9: 3.14
A10: 3526 | B10: CGECP ST OUEN L AUMONE TDI | C10: 43800 | D10: GRAVATS EN MELANGE | E10: GRAVATS EN MELANGE | F10: 2.48
A11: 3528 | B11: CGECP ST OUEN L AUMONE TDI | C11: 43800 | D11: ENCOMBRANTS | E11: ENCOMBRANTS | F11: 6.74
A12: 3529 | B12: CGECP ST OUEN L AUMONE DVBIODIV | C12: 43800 | D12: DECHETS VERTS EN MELANGE | E12: DECHETS VERTS EN MELANGE | F12: 7.86
A13: 3530 | B13: CGECP ST OUEN L AUMONE TDI | C13: 43800 | D13: ENCOMBRANTS | E13: ENCOMBRANTS | F13: 3.12
... A1192: 3543 | B1192: CGECP ST OUEN L AUMONE UVEND | C1192: 43801 | D1192: REFUS DE TRI | E1192: REFUS DE TRI | F1192: 6.52
A1193: BM | B1193: CGECP ST OUEN L AUMONE UVEND | C1193: 43820 | D1193: ORDURES MENAGERES | E1193: ORDURES MENAGERES | F1193: 2.3
A1194: BM | B1194: CGECP ST OUEN L AUMONE UVEND | C1194: 43827 | D1194: ORDURES MENAGERES | E1194: CARTONS | F1194: 2.68
A1195: BM | B1195: CGECP ST OUEN L AUMONE TDI | C1195: 43827 | D1195: CARTONS DE DECHETTERIE - 1.04.00 | E1195: DECHETS INDUSTRIELS BANALS | F1195: 6.3
A1196: BM | B1196: CGECP ST OUEN L AUMONE UVEND | C1196: 43826 | D1196: REFUS DE TRI | E1196: REFUS DE TRI | F1196: 6.22
A1197: BM | B1197: CGECP ST OUEN L AUMONE UVEND | C1197: 43820 | D1197: REFUS DE TRI | E1197: REFUS DE TRI | F1197: 2.66
A1198: BM | B1198: CGECP ST OUEN L AUMONE UVEND | C1198: 43820 | D1198: REFUS DE TRI | E1198: REFUS DE TRI | F1198: 4.18
A1199: BM | B1199: CGECP ST OUEN L AUMONE UVEND | C1199: 43820 | D1199: REFUS DE TRI | E1199: REFUS DE TRI | F1199: 3.76
A1200: BM | B1200: CGECP ST OUEN L AUMONE UVEND | C1200: 43820 | D1200: REFUS DE TRI | E1200: REFUS DE TRI | F1200: 2.8
A1201: BM1 | B1201: CGECP ST OUEN L AUMONE UVEND | C1201: 43806 | D1201: REFUS DE TRI | E1201: REFUS DE TRI | F1201: 3.74
A1202: BM1 | B1202: CGECP ST OUEN L AUMONE UVEND | C1202: 43821 | D1202: ORDURES MENAGERES | E1202: DECHETS INDUSTRIELS BANALS | F1202: 4.92
A1203: BM2 | B1203: CGECP ST OUEN L AUMONE UVEND | C1203: 43821 | D1203: DECHETS INDUSTRIELS BANALS | E1203: DECHETS INDUSTRIELS BANALS | F1203: 3.3

Sheet Fichier source CGECP
A1: Code exutoire | B1: Exutoire | C1: Date vidage | D1: Matière prévue | E1: Matière réalisée | F1: Tonnage
A2: 4402 | B2: CGECP | C2: 43804 | D2: BOIS D'EMBALLAGES BRUTS | E2: BOIS D'EMBALLAGES BRUTS | F2: 1.38
A3: 4634 | B3: CGECP | C3: 43805 | D3: CARTONS ET SACHES PLAST - 1.04.00 | E3: CARTONS ET SACHES PLAST - 1.04.00 | F3: 0.176
A4: 4641 | B4: CGECP | C4: 43805 | D4: CARTONS ET SACHES PLAST - 1.04.00 | E4: CARTONS ET SACHES PLAST - 1.04.00 | F4: 2.716
A5: 4662 | B5: CGECP | C5: 43805 | D5: CARTONS ET SACHES PLAST - 1.04.00 | E5: CARTONS ET SACHES PLAST - 1.04.00 | F5: 2.157
A6: 4914 | B6: CGECP | C6: 43808 | D6: CARTONS ET SACHES PLAST - 1.04.00 | E6: CARTONS ET SACHES PLAST - 1.04.00 | F6: 2.897
A7: 4926 | B7: CGECP | C7: 43808 | D7: CARTONS ET SACHES PLAST - 1.04.00 | E7: CARTONS ET SACHES PLAST - 1.04.00 | F7: 2.464
A8: 4929 | B8: CGECP | C8: 43808 | D8: CARTONS ET SACHES PLAST - 1.04.00 | E8: CARTONS ET SACHES PLAST - 1.04.00 | F8: 2.332
A9: 4945 | B9: CGECP | C9: 43808 | D9: CARTONS ET SACHES PLAST - 1.04.00 | E9: CARTONS ET SACHES PLAST - 1.04.00 | F9: 1.863
A10: 4990 | B10: CGECP | C10: 43808 | D10: CARTONS ET SACHES PLAST - 1.04.00 | E10: CARTONS ET SACHES PLAST - 1.04.00 | F10: 2.638
A11: 5101 | B11: CGECP | C11: 43808 | D11: CARTONS ET SACHES PLAST - 1.04.00 | E11: CARTONS ET SACHES PLAST - 1.04.00 | F11: 3.279
A12: 5234 | B12: CGECP | C12: 43809 | D12: CARTONS ET SACHES PLAST - 1.04.00 | E12: CARTONS ET SACHES PLAST - 1.04.00 | F12: 3.881
A13: 5258 | B13: CGECP | C13: 43809 | D13: CARTONS ET SACHES PLAST - 1.04.00 | E13: CARTONS ET SACHES PLAST - 1.04.00 | F13: 0.41
... A39: 8650 | B39: CGECP | C39: 43829 | D39: CARTONS ET SACHES PLAST - 1.04.00 | E39: CARTONS ET SACHES PLAST - 1.04.00 | F39: 0.741
A40: 8667 | B40: CGECP | C40: 43829 | E40: CARTONS ET SACHES PLAST - 1.04.00 | F40: 1.333
A41: 8773 | B41: CGECP | C41: 43830 | D41: CARTONS ET SACHES PLAST - 1.04.00 | E41: CARTONS ET SACHES PLAST - 1.04.00 | F41: 3.298
A42: 4936 | B42: CGECP | C42: 43808 | D42: CARTONS ET SACHES PLAST - 1.04.00 | E42: CARTONS ET SACHES PLAST - 1.04.00 | F42: 3.802
A43: 6496 | B43: CGECP | C43: 43816 | D43: CARTONS ET SACHES PLAST - 1.04.00 | E43: CARTONS ET SACHES PLAST - 1.04.00 | F43: 2.38
A44: 7741 | B44: CGECP | C44: 43823 | D44: CARTONS ET SACHES PLAST - 1.04.00 | E44: CARTONS ET SACHES PLAST - 1.04.00 | F44: 0.084
A45: 4402 | B45: CGECP | C45: 43804 | D45: CARTONS ET SACHES PLAST - 1.04.00 | E45: CARTONS ET SACHES PLAST - 1.04.00 | F45: 0.022
A46: 4634 | B46: CGECP | C46: 43805 | D46: CARTONS ET SACHES PLAST - 1.04.00 | E46: CARTONS ET SACHES PLAST - 1.04.00 | F46: 2.832
A47: 4641 | B47: CGECP | C47: 43805 | D47: CARTONS ET SACHES PLAST - 1.04.00 | E47: CARTONS ET SACHES PLAST - 1.04.00 | F47: 0.076
A48: 4662 | B48: CGECP | C48: 43805 | D48: CARTONS ET SACHES PLAST - 1.04.00 | E48: CARTONS ET SACHES PLAST - 1.04.00 | F48: 0.098
A49: 4914 | B49: CGECP | C49: 43808 | D49: CARTONS ET SACHES PLAST - 1.04.00 | E49: CARTONS ET SACHES PLAST - 1.04.00 | F49: 2.358
A50: 4926 | B50: CGECP | C50: 43808 | D50: CARTONS ET SACHES PLAST - 1.04.00 | E50: CARTONS ET SACHES PLAST - 1.04.00 | F50: 2.231
A51: 4929 | B51: CGECP | C51: 43808 | D51: CARTONS ET SACHES PLAST - 1.04.00 | E51: CARTONS ET SACHES PLAST - 1.04.00 | F51: 0.032
A52: 4945 | B52: CGECP | C52: 43808 | D52: CARTONS ET SACHES PLAST - 1.04.00 | E52: CARTONS ET SACHES PLAST - 1.04.00 | F52: 2.328
... A58: 5567 | B58: CGECP | C58: 43810 | D58: CARTONS ET SACHES PLAST - 1.04.00 | E58: CARTONS ET SACHES PLAST - 1.04.00 | F58: 0.083
A59: 5669 | B59: CGECP | C59: 43811 | E59: CARTONS ET SACHES PLAST - 1.04.00 | F59: 2.486
A60: 5788 | B60: CGECP | C60: 43811 | D60: CARTONS ET SACHES PLAST - 1.04.00 | E60: CARTONS ET SACHES PLAST - 1.04.00 | F60: 0.085
A61: 5925 | B61: CGECP | C61: 43812 | E61: CARTONS ET SACHES PLAST - 1.04.00 | F61: 0.952
A62: 6210 | B62: CGECP | C62: 43815 | D62: CARTONS ET SACHES PLAST - 1.04.00 | E62: CARTONS ET SACHES PLAST - 1.04.00 | F62: 0.162
A63: 6468 | B63: CGECP | C63: 43816 | D63: CARTONS ET SACHES PLAST - 1.04.00 | E63: CARTONS ET SACHES PLAST - 1.04.00 | F63: 0.078
A64: 6716 | B64: CGECP | C64: 43817 | D64: CARTONS ET SACHES PLAST - 1.04.00 | E64: CARTONS ET SACHES PLAST - 1.04.00 | F64: 0.088
A65: 6733 | B65: CGECP | C65: 43817 | D65: CARTONS ET SACHES PLAST - 1.04.00 | E65: CARTONS ET SACHES PLAST - 1.04.00 | F65: 1.976
A66: 6744 | B66: CGECP | C66: 43817 | D66: CARTONS ET SACHES PLAST - 1.04.00 | E66: CARTONS ET SACHES PLAST - 1.04.00 | F66: 0.072
A67: 6979 | B67: CGECP | C67: 43818 | D67: CARTONS ET SACHES PLAST - 1.04.00 | E67: CARTONS ET SACHES PLAST - 1.04.00 | F67: 0.834
A68: 7241 | B68: CGECP | C68: 43819 | D68: CARTONS ET SACHES PLAST - 1.04.00 | E68: CARTONS ET SACHES PLAST - 1.04.00 | F68: 0.03
A69: 7461 | B69: CGECP | C69: 43822 | D69: CARTONS ET SACHES PLAST - 1.04.00 | E69: CARTONS ET SACHES PLAST - 1.04.00 | F69: 0.04
A70: 7469 | B70: CGECP | C70: 43822 | D70: CARTONS ET SACHES PLAST - 1.04.00 | E70: CARTONS ET SACHES PLAST - 1.04.00 | F70: 0.548
A71: 7634 | B71: CGECP | C71: 43822 | E71: CARTONS ET SACHES PLAST - 1.04.00 | F71: 2.59
A72: 7741 | B72: CGECP | C72: 43823 | D72: CARTONS ET SACHES PLAST - 1.04.00 | E72: CARTONS ET SACHES PLAST - 1.04.00 | F72: 1.176
A73: 8336 | B73: CGECP | C73: 43826 | D73: CARTONS ET SACHES PLAST - 1.04.00 | E73: CARTONS ET SACHES PLAST - 1.04.00 | F73: 0.108
A74: 8316 | B74: CGECP | C74: 43826 | D74: CARTONS ET SACHES PLAST - 1.04.00 | E74: CARTONS ET SACHES PLAST - 1.04.00 | F74: 3.04
A75: 8350 | B75: CGECP | C75: 43826 | D75: CARTONS ET SACHES PLAST - 1.04.00 | E75: CARTONS ET SACHES PLAST - 1.04.00 | F75: 2.12
A76: 8552 | B76: CGECP | C76: 43829 | D76: CARTONS ET SACHES PLAST - 1.04.00 | E76: CARTONS ET SACHES PLAST - 1.04.00 | F76: 0.846
A77: 8566 | B77: CGECP | C77: 43829 | D77: CARTONS ET SACHES PLAST - 1.04.00 | E77: CARTONS ET SACHES PLAST - 1.04.00 | F77: 0.27
A78: 8609 | B78: CGECP | C78: 43829 | D78: CARTONS ET SACHES PLAST - 1.04.00 | E78: CARTONS ET SACHES PLAST - 1.04.00 | F78: 0.033
A79: 8621 | B79: CGECP | C79: 43829 | D79: CARTONS ET SACHES PLAST - 1.04.00 | E79: CARTONS ET SACHES PLAST - 1.04.00 | F79: 1.94
A80: 8641 | B80: CGECP | C80: 43829 | D80: CARTONS ET SACHES PLAST - 1.04.00 | E80: CARTONS ET SACHES PLAST - 1.04.00 | F80: 0.966
A81: 8650 | B81: CGECP | C81: 43829 | D81: CARTONS ET SACHES PLAST - 1.04.00 | E81: CARTONS ET SACHES PLAST - 1.04.00 | F81: 0.106
A82: 8667 | B82: CGECP | C82: 43829 | D82: CARTONS ET SACHES PLAST - 1.04.00 | E82: CARTONS ET SACHES PLAST - 1.04.00 | F82: 0.069
A83: 8773 | B83: CGECP | C83: 43830 | D83: CARTONS ET SACHES PLAST - 1.04.00 | E83: CARTONS ET SACHES PLAST - 1.04.00 | F83: 1.936
... A94: 5788 | B94: CGECP | C94: 43811 | D94: CARTONS ET SACHES PLAST - 1.04.00 | E94: CARTONS ET SACHES PLAST - 1.04.00 | F94: 0.072
A95: 5925 | B95: CGECP | C95: 43812 | E95: CARTONS ET SACHES PLAST - 1.04.00 | F95: 0.104
A96: 6210 | B96: CGECP | C96: 43815 | D96: CARTONS ET SACHES PLAST - 1.04.00 | E96: CARTONS ET SACHES PLAST - 1.04.00 | F96: 0.039
A97: 6468 | B97: CGECP | C97: 43816 | D97: CARTONS ET SACHES PLAST - 1.04.00 | E97: CARTONS ET SACHES PLAST - 1.04.00 | F97: 0.074
A98: 6469 | B98: CGECP | C98: 43816 | D98: CARTONS ET SACHES PLAST - 1.04.00 | E98: CARTONS ET SACHES PLAST - 1.04.00 | F98: 0.027
A99: 6716 | B99: CGECP | C99: 43817 | D99: CARTONS ET SACHES PLAST - 1.04.00 | E99: CARTONS ET SACHES PLAST - 1.04.00 | F99: 0.097
A100: 7207 | B100: CGECP | C100: 43819 | D100: CARTONS ET SACHES PLAST - 1.04.00 | E100: CARTONS ET SACHES PLAST - 1.04.00 | F100: 0.672
A101: 7461 | B101: CGECP | C101: 43822 | E101: CARTONS ET SACHES PLAST - 1.04.00 | F101: 0.095
A102: 7469 | B102: CGECP | C102: 43822 | D102: CARTONS ET SACHES PLAST - 1.04.00 | E102: CARTONS ET SACHES PLAST - 1.04.00 | F102: 0.298
A103: 8032 | B103: CGECP | C103: 43825 | D103: CARTONS ET SACHES PLAST - 1.04.00 | E103: CARTONS ET SACHES PLAST - 1.04.00 | F103: 1.26
A104: 8316 | B104: CGECP | C104: 43826 | D104: CARTONS ET SACHES PLAST - 1.04.00 | E104: CARTONS ET SACHES PLAST - 1.04.00 | F104: 2.48
A105: 8552 | B105: CGECP | C105: 43829 | D105: CARTONS ET SACHES PLAST - 1.04.00 | E105: CARTONS ET SACHES PLAST - 1.04.00 | F105: 1.056
A106: 8566 | B106: CGECP | C106: 43829 | D106: CARTONS ET SACHES PLAST - 1.04.00 | E106: CARTONS ET SACHES PLAST - 1.04.00 | F106: 1.278
A107: 8609 | B107: CGECP | C107: 43829 | D107: CARTONS ET SACHES PLAST - 1.04.00 | E107: CARTONS ET SACHES PLAST - 1.04.00 | F107: 1.8
A108: 8621 | B108: CGECP | C108: 43829 | D108: CARTONS ET SACHES PLAST - 1.04.00 | E108: CARTONS ET SACHES PLAST - 1.04.00 | F108: 0.106
A109: 8650 | B109: CGECP | C109: 43829 | D109: CARTONS ET SACHES PLAST - 1.04.00 | E109: CARTONS ET SACHES PLAST - 1.04.00 | F109: 0.09
A110: 8667 | B110: CGECP | C110: 43829 | D110: CARTONS ET SACHES PLAST - 1.04.00 | E110: CARTONS ET SACHES PLAST - 1.04.00 | F110: 0.832
A111: 8773 | B111: CGECP | C111: 43830 | D111: CARTONS ET SACHES PLAST - 1.04.00 | E111: CARTONS ET SACHES PLAST - 1.04.00 | F111: 0.081
A112: 6469 | B112: CGECP | C112: 43816 | D112: CARTONS ET SACHES PLAST - 1.04.00 | E112: CARTONS ET SACHES PLAST - 1.04.00 | F112: 0.108
A113: 8552 | B113: CGECP | C113: 43829 | D113: CARTONS ET SACHES PLAST - 1.04.00 | E113: CARTONS ET SACHES PLAST - 1.04.00 | F113: 1.608
... A116: 3979 | B116: CGECP | C116: 43802 | D116: ONDULES RECUPERES - 1.05.00 | E116: ONDULES RECUPERES - 1.05.00 | F116: 2.106
A117: 3979 | B117: CGECP | C117: 43802 | E117: ENCOMBRANTS | F117: 3.66
A118: 3979 | B118: CGECP | C118: 43802 | D118: ONDULES RECUPERES - 1.05.00 | E118: ONDULE RECUPERE VRAC - BALLE<320 KG | F118: 7.8
A119: 4240 | B119: CGECP | C119: 43803 | E119: DECHETS VERTS EN MELANGE | F119: 3.2
A120: 4240 | B120: CGECP | C120: 43803 | E120: ENCOMBRANTS | F120: 7.42
A121: 4240 | B121: CGECP | C121: 43803 | E121: ENCOMBRANTS | F121: 1.76
A122: 4254 | B122: CGECP | C122: 43803 | E122: ENCOMBRANTS | F122: 1.84
A123: 4263 | B123: CGECP | C123: 43803 | E123: ENCOMBRANTS | F123: 2.98
A124: 4263 | B124: CGECP | C124: 43803 | E124: ENCOMBRANTS | F124: 2.84
A125: 4734 | B125: CGECP | C125: 43805 | D125: ONDULES RECUPERES - 1.05.00 | E125: ONDULES RECUPERES - 1.05.00 | F125: 1.416
A126: 5467 | B126: CGECP | C126: 43810 | D126: ONDULES RECUPERES - 1.05.00 | E126: ONDULE RECUPERE VRAC - BALLE<320 KG | F126: 0.552
A127: 5508 | B127: CGECP | C127: 43810 | D127: ONDULES RECUPERES - 1.05.00 | E127: ONDULE RECUPERE VRAC - BALLE<320 KG | F127: 0.882
A128: 5507 | B128: CGECP | C128: 43810 | D128: ONDULES RECUPERES - 1.05.00 | E128: ONDULE RECUPERE VRAC - BALLE<320 KG | F128: 4.4
A129: 5588 | B129: CGECP | C129: 43810 | D129: ONDULES RECUPERES - 1.05.00 | E129: ONDULES RECUPERES - 1.05.00 | F129: 2.36
A130: 6039 | B130: CGECP | C130: 43812 | D130: ONDULES RECUPERES - 1.05.00 | E130: ONDULES RECUPERES - 1.05.00 | F130: 0.944
A131: 6039 | B131: CGECP | C131: 43812 | E131: DECHETS VERTS EN MELANGE | F131: 4.82
A132: 6039 | B132: CGECP | C132: 43812 | E132: DECHETS VERTS EN MELANGE | F132: 7.66
A133: 6461 | B133: CGECP | C133: 43816 | D133: ONDULES RECUPERES - 1.05.00 | E133: ONDULE RECUPERE VRAC - BALLE<320 KG | F133: 0.828
A134: 6461 | B134: CGECP | C134: 43816 | D134: ONDULES RECUPERES - 1.05.00 | E134: ONDULES RECUPERES - 1.05.00 | F134: 9.04
A135: 6532 | B135: CGECP | C135: 43816 | D135: ONDULES RECUPERES - 1.05.00 | E135: ONDULE RECUPERE VRAC - BALLE<320 KG | F135: 0.216
A136: 6803 | B136: CGECP | C136: 43817 | D136: ONDULES RECUPERES - 1.05.00 | E136: ONDULE RECUPERE VRAC - BALLE<320 KG | F136: 0.864
A137: 6803 | B137: CGECP | C137: 43817 | E137: ONDULE RECUPERE VRAC - BALLE<320 KG | F137: 7.02
A138: 6803 | B138: CGECP | C138: 43817 | E138: ENCOMBRANTS | F138: 3.46
A139: 6916 | B139: CGECP | C139: 43818 | D139: ONDULES RECUPERES - 1.05.00 | E139: ONDULES RECUPERES - 1.05.00 | F139: 3.51
A140: 7164 | B140: CGECP | C140: 43819 | D140: ONDULES RECUPERES - 1.05.00 | E140: ONDULES RECUPERES - 1.05.00 | F140: 3.78
A141: 7192 | B141: CGECP | C141: 43819 | D141: PE GRANDE SURFACE 90/10-PEGS 90/10 | E141: PE GRANDE SURFACE-PEGS | F141: 1.94
A142: 7222 | B142: CGECP | C142: 43819 | D142: ONDULES RECUPERES - 1.05.00 | E142: ONDULES RECUPERES - 1.05.00 | F142: 2.268
...

Sheet TCD
A1: date vidage | B1: (Tous)
A2: matière prévue | B2: (Tous)
A4: Étiquettes de lignes | B4: Somme de tonnage
A5: 640 | B5: 5.12
A6: 3511 | B6: 0.24
A7: 3515 | B7: 1.76
A8: 3519 | B8: 3.44
A9: 3521 | B9: 5.32
A10: 3523 | B10: 2.82
A11: 3525 | B11: 3.14
A12: 3526 | B12: 2.48
A13: 3528 | B13: 6.74
A14: 3529 | B14: 7.86
A15: 3530 | B15: 3.12
A16: 3533 | B16: 2.24
... A1019: 2101389 | B1019: 1.76
A1020: BM | B1020: 16.1
A1021: BM1 | B1021: 11.22
A1022: BM2 | B1022: 3.3
A1023: Total général | B1023: 3700.442

Sheet Fichier source N
