Workbook

Sheet Saisie
A3: Client | B3: Localisation | C3: Mise en test | D3: Mise en prod
A4: A | B4: France | C4: S2 | D4: S3
A5: B | B5: International | C5: S1
A6: B | B6: France | D6: S2
A7: C | B7: France | C7: S2
A8: B | B8: France | C8: S4
A9: D | B9: France | C9: S3 | D9: S6

Sheet Résultats
D1: TEST-France | I1: PROD-France | N1: TEST-International | S1: PROD-International
A2: Client | B2: Localisation | C2: N° Semaine | D2: A | E2: B | F2: C | G2: D | I2: A | J2: B | K2: C | L2: D | N2: A | O2: B | P2: C | Q2: D | S2: A | T2: B | U2: C | V2: D
A3: A | B3: France | C3: S1 | D3: =COUNTIFS(Saisie!$A:$A,$A$3,Saisie!$B:$B,$B$3,Saisie!$C:$C,Résultats!$C3) -> 0 | E3: =COUNTIFS(Saisie!$A:$A,$A$4,Saisie!$B:$B,$B$3,Saisie!$C:$C,Résultats!$C3) -> 0 | F3: =COUNTIFS(Saisie!$A:$A,$A$5,Saisie!$B:$B,$B$3,Saisie!$C:$C,Résultats!$C3) -> 0 | G3: =COUNTIFS(Saisie!$A:$A,$A$6,Saisie!$B:$B,$B$3,Saisie!$C:$C,Résultats!$C3) -> 0
A4: B | B4: International | C4: S2 | D4: =COUNTIFS(Saisie!$A:$A,$A$3,Saisie!$B:$B,$B$3,Saisie!$C:$C,Résultats!$C4) -> 1 | E4: =COUNTIFS(Saisie!$A:$A,$A$4,Saisie!$B:$B,$B$3,Saisie!$C:$C,Résultats!$C4) -> 0 | F4: =COUNTIFS(Saisie!$A:$A,$A$5,Saisie!$B:$B,$B$3,Saisie!$C:$C,Résultats!$C4) -> 1 | G4: =COUNTIFS(Saisie!$A:$A,$A$6,Saisie!$B:$B,$B$3,Saisie!$C:$C,Résultats!$C4) -> 0
A5: C | C5: S3 | D5: =COUNTIFS(Saisie!$A:$A,$A$3,Saisie!$B:$B,$B$3,Saisie!$C:$C,Résultats!$C5) -> 0 | E5: =COUNTIFS(Saisie!$A:$A,$A$4,Saisie!$B:$B,$B$3,Saisie!$C:$C,Résultats!$C5) -> 0 | F5: =COUNTIFS(Saisie!$A:$A,$A$5,Saisie!$B:$B,$B$3,Saisie!$C:$C,Résultats!$C5) -> 0 | G5: =COUNTIFS(Saisie!$A:$A,$A$6,Saisie!$B:$B,$B$3,Saisie!$C:$C,Résultats!$C5) -> 1
A6: D | C6: S4 | D6: =COUNTIFS(Saisie!$A:$A,$A$3,Saisie!$B:$B,$B$3,Saisie!$C:$C,Résultats!$C6) -> 0 | E6: =COUNTIFS(Saisie!$A:$A,$A$4,Saisie!$B:$B,$B$3,Saisie!$C:$C,Résultats!$C6) -> 1 | F6: =COUNTIFS(Saisie!$A:$A,$A$5,Saisie!$B:$B,$B$3,Saisie!$C:$C,Résultats!$C6) -> 0 | G6: =COUNTIFS(Saisie!$A:$A,$A$6,Saisie!$B:$B,$B$3,Saisie!$C:$C,Résultats!$C6) -> 0
C7: S5 | D7: =COUNTIFS(Saisie!$A:$A,$A$3,Saisie!$B:$B,$B$3,Saisie!$C:$C,Résultats!$C7) -> 0 | E7: =COUNTIFS(Saisie!$A:$A,$A$4,Saisie!$B:$B,$B$3,Saisie!$C:$C,Résultats!$C7) -> 0 | F7: =COUNTIFS(Saisie!$A:$A,$A$5,Saisie!$B:$B,$B$3,Saisie!$C:$C,Résultats!$C7) -> 0 | G7: =COUNTIFS(Saisie!$A:$A,$A$6,Saisie!$B:$B,$B$3,Saisie!$C:$C,Résultats!$C7) -> 0
C8: S6 | D8: =COUNTIFS(Saisie!$A:$A,$A$3,Saisie!$B:$B,$B$3,Saisie!$C:$C,Résultats!$C8) -> 0 | E8: =COUNTIFS(Saisie!$A:$A,$A$4,Saisie!$B:$B,$B$3,Saisie!$C:$C,Résultats!$C8) -> 0 | F8: =COUNTIFS(Saisie!$A:$A,$A$5,Saisie!$B:$B,$B$3,Saisie!$C:$C,Résultats!$C8) -> 0 | G8: =COUNTIFS(Saisie!$A:$A,$A$6,Saisie!$B:$B,$B$3,Saisie!$C:$C,Résultats!$C8) -> 0
C9: S7 | D9: =COUNTIFS(Saisie!$A:$A,$A$3,Saisie!$B:$B,$B$3,Saisie!$C:$C,Résultats!$C9) -> 0 | E9: =COUNTIFS(Saisie!$A:$A,$A$4,Saisie!$B:$B,$B$3,Saisie!$C:$C,Résultats!$C9) -> 0 | F9: =COUNTIFS(Saisie!$A:$A,$A$5,Saisie!$B:$B,$B$3,Saisie!$C:$C,Résultats!$C9) -> 0 | G9: =COUNTIFS(Saisie!$A:$A,$A$6,Saisie!$B:$B,$B$3,Saisie!$C:$C,Résultats!$C9) -> 0
C10: S8 | D10: =COUNTIFS(Saisie!$A:$A,$A$3,Saisie!$B:$B,$B$3,Saisie!$C:$C,Résultats!$C10) -> 0 | E10: =COUNTIFS(Saisie!$A:$A,$A$4,Saisie!$B:$B,$B$3,Saisie!$C:$C,Résultats!$C10) -> 0 | F10: =COUNTIFS(Saisie!$A:$A,$A$5,Saisie!$B:$B,$B$3,Saisie!$C:$C,Résultats!$C10) -> 0 | G10: =COUNTIFS(Saisie!$A:$A,$A$6,Saisie!$B:$B,$B$3,Saisie!$C:$C,Résultats!$C10) -> 0
