Workbook

Sheet GRILLE
E5: 0/1/NA/NR
H6: Ne pas modifier
E7: 1 | H7: Recueil des informations | I7: =AVERAGE(E7:E18) -> 0.58333333
E8: 1 | H8: Identification du patient | I8: =AVERAGE(E20,E23,E30,E50) -> 0.75
E9: 0 | H9: Informations données au patient | I9: =AVERAGE(E24,E29,E31:E35,E52) -> 0.75
E10: 1 | H10: Respect des délais annoncés | I10: =AVERAGE(E37:E40) -> 0.75
E11: 0 | H11: Intimité et confidentialité | I11: =AVERAGE(E26,E45:E48) -> 0.6
E12: 1 | H12: Sécurité et confort | I12: =AVERAGE(E11,E13,E17,E25,E26,E27) -> 0.66666667
E13: 0 | H13: Formation des professionnels | I13: =AVERAGE(E41:E43) -> 0.33333333
E14: 1 | H14: Qualité gestion des risques | I14: =AVERAGE(E60:E62) -> 1
E15: 0 | H15: Remise des informations au service destinataire | I15: =AVERAGE(E50:E51) -> 0.5
E16: 0
E17: 1
E18: 1
E20: 1
E21: 1
E22: 0
E23: 1
E24: 0
E25: 1
E26: 1
E27: 1
E28: 0
... E62: 1

Sheet RESULTATS-AFFICHE
A5: =IF(#REF!=0,"NA") -> #REF!
A6: =IF(#REF!=0,"NA") -> #REF! | P6: =GRILLE!H6 -> Ne pas modifier
A7: =IF(#REF!=0,"NA") -> #REF! | P7: =GRILLE!H7 -> Recueil des informations | Q7: =GRILLE!I7 -> 0.58333333 | R7: =RANK($Q$7:$Q$15,$P$7:$Q$15,0) -> 7
A8: =IF(#REF!=0,"NA") -> #REF! | P8: =GRILLE!H8 -> Identification du patient | Q8: =GRILLE!I8 -> 0.75 | R8: =RANK($Q$7:$Q$15,$P$7:$Q$15,0) -> 2
A9: =IF(#REF!=0,"NA") -> #REF! | P9: =GRILLE!H9 -> Informations données au patient | Q9: =GRILLE!I9 -> 0.75 | R9: =RANK($Q$7:$Q$15,$P$7:$Q$15,0) -> 2
A10: =IF(#REF!=0,"NA") -> #REF! | P10: =GRILLE!H10 -> Respect des délais annoncés | Q10: =GRILLE!I10 -> 0.75 | R10: =RANK($Q$7:$Q$15,$P$7:$Q$15,0) -> 2
A11: =IF(#REF!=0,"NA") -> #REF! | P11: =GRILLE!H11 -> Intimité et confidentialité | Q11: =GRILLE!I11 -> 0.6 | R11: =RANK($Q$7:$Q$15,$P$7:$Q$15,0) -> 6
A12: =IF(#REF!=0,"NA") -> #REF! | P12: =GRILLE!H12 -> Sécurité et confort | Q12: =GRILLE!I12 -> 0.66666667 | R12: =RANK($Q$7:$Q$15,$P$7:$Q$15,0) -> 5
A13: =IF(#REF!=0,"NA") -> #REF! | P13: =GRILLE!H13 -> Formation des professionnels | Q13: =GRILLE!I13 -> 0.33333333 | R13: =RANK($Q$7:$Q$15,$P$7:$Q$15,0) -> 9
A14: =IF(#REF!=0,"NA") -> #REF! | P14: =GRILLE!H14 -> Qualité gestion des risques | Q14: =GRILLE!I14 -> 1 | R14: =RANK($Q$7:$Q$15,$P$7:$Q$15,0) -> 1
A15: =IF(#REF!=0,"NA") -> #REF! | P15: =GRILLE!H15 -> Remise des informations au service destinataire | Q15: =GRILLE!I15 -> 0.5 | R15: =RANK($Q$7:$Q$15,$P$7:$Q$15,0) -> 8
A16: =IF(#REF!=0,"NA") -> #REF!
A17: =IF(#REF!=0,"NA") -> #REF!
A18: =IF(#REF!=0,"NA") -> #REF!
A19: =IF(#REF!=0,"NA") -> #REF!
A20: =IF(#REF!=0,"NA") -> #REF!
A21: =IF(#REF!=0,"NA") -> #REF!
A22: =IF(#REF!=0,"NA") -> #REF!
A23: =IF(#REF!=0,"NA") -> #REF!
A24: =IF(#REF!=0,"NA") -> #REF!
A25: =IF(#REF!=0,"NA") -> #REF!
A26: =IF(#REF!=0,"NA") -> #REF!
A27: =IF(#REF!=0,"NA") -> #REF!
... A30: =IF(#REF!=0,"NA") -> #REF!
A31: =IF(#REF!=0,"NA") -> #REF! | B31: POINTS FORTS
A32: =IF(Q7>50%,P7,""&IF(Q8>50%,P8,""&IF(Q9>50%,P9,""&IF(Q10>50%,P10,""&IF(Q11>50%,P11,""&IF(Q12>50%,P12,""&IF(Q13>50%,P13,""&IF(Q14>50%,P14,""&IF(Q15>50%,P15,""))))))))) -> Recueil des informations
A33: =IF(#REF!=0,"NA") -> #REF! | B33: AXES D'AMELIORATION
A34: =IF(#REF!=0,"NA") -> #REF! | B34: =INDEX($P$7:$P$15,MATCH(MIN($Q$7:$Q$15),$Q$7:$Q$15,0))& ", " -> Formation des professionnels,
A35: =IF(#REF!=0,"NA") -> #REF!
A36: =IF(#REF!=0,"NA") -> #REF!
A37: =IF(#REF!=0,"NA") -> #REF!
A38: =IF(#REF!=0,"NA") -> #REF!
