Workbook
Name bdbnb: 'liste auto'!$B$1:$P$3
Name bdnb2: 'liste auto'!$W$1:$AL$3
Name dept: 'liste auto'!$B$4
Name dept2: 'liste auto'!$V$4
Name libelle: 'liste auto'!$B$1:$P$1
Name libelle2: 'liste auto'!$W$1:$AL$1
Name recap: '3 RECAP'!$B$2:$B$42

Sheet 1 COMPETENCES
B2: DECIDER | C2: GERER | D2: DIRIGER | E2: ADMINISTRER | F2: PRODUIRE | G2: ORGANISER | H2: COMMUNIQUER | I2: DEVELOPPER | J2: CHERCHER | K2: FORMER | L2: CONTROLER | M2: CRÉER | N2: NEGOCIER | O2: CONSEILLER | P2: AUTRES (à noter ou choisir)
B3: Résoudre | C3: Optimiser | P3: tulipe1
B4: Juger | C4: Enrichir | P4: tulipe2
P5: tulipe3
P6: tulipe4
P7: courage

Sheet 2 QUALITES
B2: RELATIONNEL # 1 | C2: RELATIONNEL # 2 | D2: RELATIONNEL # 3 | E2: RELATIONNEL # 4 | F2: ATTITUDE # 1 | G2: ATTITUDE # 2 | H2: ATTITUDE # 3 | I2: ATTITUDE # 4 | J2: ENTHOUSIASME DYNAMISME # 1 | K2: ENTHOUSIASME DYNAMISME # 2 | L2: ENTHOUSIASME DYNAMISME # 3 | M2: ENTHOUSIASME DYNAMISME # 4 | N2: SOUPLESSE DEBROUILLARDISE # 1 | O2: SOUPLESSE DEBROUILLARDISE # 2 | P2: SOUPLESSE DEBROUILLARDISE # 3 | Q2: SOUPLESSE DEBROUILLARDISE # 4

Sheet 3 RECAP
B2: ='1 COMPETENCES'!$B$2 -> DECIDER | C2: ='1 COMPETENCES'!B3 -> Résoudre | D2: ='1 COMPETENCES'!B4 -> Juger
B3: ='1 COMPETENCES'!C2 -> GERER | C3: ='1 COMPETENCES'!C3 -> Optimiser | D3: ='1 COMPETENCES'!C4 -> Enrichir
B4: ='1 COMPETENCES'!D2 -> DIRIGER
B5: ='1 COMPETENCES'!E2 -> ADMINISTRER
B6: ='1 COMPETENCES'!F2 -> PRODUIRE
B7: ='1 COMPETENCES'!C6 -> 0
B8: ='1 COMPETENCES'!D6 -> 0
B9: ='1 COMPETENCES'!E6 -> 0
B10: ='1 COMPETENCES'!F6 -> 0
B11: ='1 COMPETENCES'!C10 -> 0
B12: ='1 COMPETENCES'!D10 -> 0
B13: ='1 COMPETENCES'!E10 -> 0
B14: ='1 COMPETENCES'!F10 -> 0
B15: ='1 COMPETENCES'!C14 -> 0
B16: ='1 COMPETENCES'!D14 -> 0
B17: ='1 COMPETENCES'!E14 -> 0
B18: ='1 COMPETENCES'!F14 -> 0
B19: ='1 COMPETENCES'!C18 -> 0
B20: ='1 COMPETENCES'!D18 -> 0
B21: ='1 COMPETENCES'!E18 -> 0
B22: ='1 COMPETENCES'!F18 -> 0
B23: ='1 COMPETENCES'!C22 -> 0
B24: ='1 COMPETENCES'!D22 -> 0
B25: ='1 COMPETENCES'!E22 -> 0
B26: ='1 COMPETENCES'!F22 -> 0
B27: ='1 COMPETENCES'!C26 -> 0
B28: ='1 COMPETENCES'!D26 -> 0
B29: ='1 COMPETENCES'!E26 -> 0
B30: ='1 COMPETENCES'!F26 -> 0
B31: ='1 COMPETENCES'!C30 -> 0
B32: ='1 COMPETENCES'!D30 -> 0
B33: ='1 COMPETENCES'!E30 -> 0
B34: ='1 COMPETENCES'!F30 -> 0
B35: ='1 COMPETENCES'!C34 -> 0
B36: ='1 COMPETENCES'!D34 -> 0
B37: ='1 COMPETENCES'!E34 -> 0
B38: ='1 COMPETENCES'!F34 -> 0
B39: ='1 COMPETENCES'!C38 -> 0
B40: ='1 COMPETENCES'!D38 -> 0
B41: ='1 COMPETENCES'!E38 -> 0
...

Sheet BDB
B2: DECIDER | C2: GERER | D2: DIRIGER | E2: ADMINISTRER | F2: PRODUIRE | G2: ORGANISER | H2: COMMUNIQUER | I2: DEVELOPPER | J2: CHERCHER | K2: FORMER | L2: CONTROLER | M2: CRÉER | N2: NEGOCIER | O2: CONSEILLER | P2: AUTRES
B3: Arrêter | C3: Acquérir | D3: Animer | E3: Classer | F3: Appliquer | G3: Aménager | H3: Dialoguer | I3: Accroître | J3: Analyser | K3: Animer | L3: Apprécier | M3: Adapter | N3: (Comercial, social) | O3: Aider
B4: Choisir | C4: Amortir | D4: Commander | E4: Compter | F4: Effectuer | G4: Anticiper | H4: Discuter | I4: Améliorer | J4: Calculer | K4: Apprendre | L4: Enquêter | M4: Améliorer | N4: Acheter | O4: Clarifier
B5: Conclure | C5: Budgéter | D5: Conduire | E5: Enregistrer | F5: Exécuter | G5: Arranger | H5: Echanger | I5: Augmenter | J5: Consulter | K5: Conduire | L5: Eprouver | M5: Concevoir | N5: Arbitrer | O5: Comprendre
B6: Déterminer | C6: Assainir | D6: Confier | E6: Etablir | F6: Faire Réaliser | G6: Coordonner | H6: Ecouter | I6: Commercialiser | J6: Enquêter | K6: Développer | L6: Evaluer | M6: Construire | N6: Argumenter | O6: Diagnostiquer
B7: Eliminer | C7: Comptabilisé | D7: Définir | E7: Gérer | F7: ( + autres activités à caractère répétitif à base d'une technicité) | G7: Distribuer | H7: Exprimer | I7: Conquérir | J7: Etudier | K7: Eduquer | L7: Examiner | M7: Découvrir | N7: Conclure | O7: Eclairer
B8: Fixer | C8: Consolider | D8: Déléguer | E8: Inventorier | G8: Etablir | H8: Informer | I8: Elargir | J8: Examiner | K8: Entraîner | L8: Expérimenter | M8: Elaborer | N8: Consulter | O8: Ecouter
B9: Juger | C9: Economiser | D9: Gouverner | E9: Ranger | G9: Planifier | H9: Interviewer | I9: Etendre | J9: Expérimenter | K9: Eveiller | L9: Mesurer | M9: Imaginer | N9: Convaincre | O9: Guider
B10: Opter | C10: Enrichir | D10: Guider | E10: Recenser | G10: Préparer | H10: Négocier | I10: Déclencher | J10: Observer | K10: Instruire | L10: Prouver | M10: Innover | N10: Démontrer | O10: Inciter
B11: Régler | C11: Equilibrer | D11: Impulser | E11: Régir | G11: Prévoir | H11: Partager | I11: Implanter | J11: Prospecter | K11: Sensibiliser | L11: Superviser | M11: Inventer | N11: Discuter | O11: Orienter
B12: Résoudre | C12: Exploiter | D12: Inspirer | E12: Répertorier | G12: Programmer | H12: Rédiger | I12: Lancer | J12: Rechercher | K12: Transformer | L12: Surveiller | M12: Renouveler | N12: Influencer | O12: Préconiser
B13: Trancher | C13: Gagner | D13: Instituer | G13: Répartir | H13: Renseigner | I13: Progresser | J13: Sonder | L13: Tester | M13: Transformer | N13: Renouveler | O13: Proposer
C14: Investir | D14: Manager | G14: Structurer | H14: Transmettre | I14: Sonder | L14: Valider | M14: Trouver | N14: Transformer | O14: Recommander
C15: Optimiser | D15: Piloter | L15: Vérifier | N15: Trouver
C16: Rentabiliser | D16: Présider

Sheet BDB2
B2: RELATIONNEL # 1 | C2: RELATIONNEL # 2 | D2: RELATIONNEL # 3 | E2: RELATIONNEL # 4 | F2: ATTITUDE # 1 | G2: ATTITUDE # 2 | H2: ATTITUDE # 3 | I2: ATTITUDE # 4 | J2: ENTHOUSIASME DYNAMISME # 1 | K2: ENTHOUSIASME DYNAMISME # 2 | L2: ENTHOUSIASME DYNAMISME # 3 | M2: ENTHOUSIASME DYNAMISME # 4 | N2: SOUPLESSE DEBROUILLARDISE # 1 | O2: SOUPLESSE DEBROUILLARDISE # 2 | P2: SOUPLESSE DEBROUILLARDISE # 3 | Q2: SOUPLESSE DEBROUILLARDISE # 4
B4: Aimable | C4: Amical | D4: Conciliant | E4: Compétent | F4: Tolérant | G4: Méthodique | H4: Calme | I4: Sensible | J4: Ambitieux | K4: Agressif | L4: Autoritaire | M4: Combatif | N4: Souple | O4: Contemporain | P4: Proactif | Q4: Inspiré
B5: Sympathique | C5: Coopératif | D5: Courtois | E5: Serviable | F5: Sensé | G5: Confiant | H5: Consciencieux | I5: Sincère | J5: Diligent | K5: Dynamique | L5: Ardent | M5: Energique | N5: Flexible | O5: Ouvert aux idées nouvelles | P5: Autonome
B6: Diplomate | C6: Agréable | D6: Sociable | E6: Bienveillant | F6: Fiable | G6: Réaliste | H6: Juste | I6: Stable | J6: Hardi | K6: Audacieux | L6: Enthousiaste | M6: Enreprenant | N6: Polyvalent | O6: Créatif | P6: Actuel
B7: Affable | C7: Dévoué | D7: Accessible | E7: Plaisant | F7: Franc | G7: Honnête | H7: Intègre | I7: Gai | J7: Persévérant | K7: Fougueux | L7: Assidu | M7: Meneur | N7: Innovateur | P7: Ingénieux
B8: Discret | C8: Ouvert | D8: Accomodant | E8: Elégant | F8: Objectif | G8: Impartial | H8: Positif | I8: Prévenant | J8: Ponctuel | K8: Motivé | L8: Optimiste | M8: Positif
B9: Prévenant | C9: Arrangeant | D9: Respecté | E9: Collaborateur | F9: Professionnel | G9: Responsable | H9: Spirituel | I9: Loyal
B10: Délicat | C10: Fiable | D10: Chaleureux | E10: Apprécié

Sheet liste auto
B1: DECIDER | C1: GERER | D1: DIRIGER | E1: ADMINISTRER | F1: PRODUIRE | G1: ORGANISER | H1: COMMUNIQUER | I1: DEVELOPPER | J1: CHERCHER | K1: FORMER | L1: CONTROLER | M1: CRÉER | N1: NEGOCIER | O1: CONSEILLER | P1: AUTRES (à noter ou choisir) | R1: ligne nommée "libelle" | W1: RELATIONNEL # 1 | X1: RELATIONNEL # 2 | Y1: RELATIONNEL # 3 | Z1: RELATIONNEL # 4 | AA1: ATTITUDE # 1 | AB1: ATTITUDE # 2 | AC1: ATTITUDE # 3 | AD1: ATTITUDE # 4 | AE1: ENTHOUSIASME DYNAMISME # 1 | AF1: ENTHOUSIASME DYNAMISME # 2 | AG1: ENTHOUSIASME DYNAMISME # 3 | AH1: ENTHOUSIASME DYNAMISME # 4 | AI1: SOUPLESSE DEBROUILLARDISE # 1 | AJ1: SOUPLESSE DEBROUILLARDISE # 2 | AK1: SOUPLESSE DEBROUILLARDISE # 3 | AL1: SOUPLESSE DEBROUILLARDISE # 4
B2: =COUNTIF(B$4:B$36,"><") -> 9 | C2: =COUNTIF(C$4:C$36,"><") -> 12 | D2: =COUNTIF(D$4:D$36,"><") -> 14 | E2: =COUNTIF(E$4:E$36,"><") -> 10 | F2: =COUNTIF(F$4:F$36,"><") -> 4 | G2: =COUNTIF(G$4:G$36,"><") -> 12 | H2: =COUNTIF(H$4:H$36,"><") -> 12 | I2: =COUNTIF(I$4:I$36,"><") -> 12 | ... P2: =COUNTIF(P$4:P$36,"><") -> 5 | R2: sert pour dimenssionner | W2: =COUNTIF('BDB2'!B$4:B$50,"><") -> 7 | X2: =COUNTIF('BDB2'!C$4:C$50,"><") -> 7 | Y2: =COUNTIF('BDB2'!D$4:D$50,"><") -> 7 | Z2: =COUNTIF('BDB2'!E$4:E$50,"><") -> 7 | AA2: =COUNTIF('BDB2'!F$4:F$50,"><") -> 6 | AB2: =COUNTIF('BDB2'!G$4:G$50,"><") -> 6 | AC2: =COUNTIF('BDB2'!H$4:H$50,"><") -> 6 | AD2: =COUNTIF('BDB2'!I$4:I$50,"><") -> 6 | ... AL2: =COUNTIF('BDB2'!Q$4:Q$50,"><") -> 1
B3: =COUNTIF(BDB!B:B,"><")-1 -> 11 | C3: =COUNTIF(BDB!C:C,"><")-1 -> 14 | D3: =COUNTIF(BDB!D:D,"><")-1 -> 14 | E3: =COUNTIF(BDB!E:E,"><")-1 -> 10 | F3: =COUNTIF(BDB!F:F,"><")-1 -> 4 | G3: =COUNTIF(BDB!G:G,"><")-1 -> 12 | H3: =COUNTIF(BDB!H:H,"><")-1 -> 12 | I3: =COUNTIF(BDB!I:I,"><")-1 -> 12 | J3: =COUNTIF(BDB!J:J,"><")-1 -> 11 | K3: =COUNTIF(BDB!K:K,"><")-1 -> 10 | L3: =COUNTIF(BDB!L:L,"><")-1 -> 13 | M3: =COUNTIF(BDB!M:M,"><")-1 -> 12 | N3: =COUNTIF(BDB!N:N,"><")-1 -> 12 | O3: =COUNTIF(BDB!O:O,"><")-1 -> 12 | P3: =COUNTIF('1 COMPETENCES'!P:P,"><")-1 -> 5 | R3: sert pour dimenssionner le choix | W3: =COUNTIF(W$4:W$36,"><") -> 7 | X3: =COUNTIF(X$4:X$36,"><") -> 7 | Y3: =COUNTIF(Y$4:Y$36,"><") -> 7 | Z3: =COUNTIF(Z$4:Z$36,"><") -> 7 | AA3: =COUNTIF(AA$4:AA$36,"><") -> 6 | AB3: =COUNTIF(AB$4:AB$36,"><") -> 6 | AC3: =COUNTIF(AC$4:AC$36,"><") -> 6 | AD3: =COUNTIF(AD$4:AD$36,"><") -> 6 | ... AL3: =COUNTIF(AL$4:AL$36,"><") -> 1
B4: {=IF(ROW(A1)>B$3,"",INDEX(BDB!B$3:B$50,SMALL(IF(COUNTIF('1 COMPETENCES'!B$3:B$50,BDB!B$3:B$50)=0,ROW($B$3:$B$50)-2,""),ROW($A1))))} -> Arrêter | C4: {=IF(ROW(B1)>C$3,"",INDEX(BDB!C$3:C$50,SMALL(IF(COUNTIF('1 COMPETENCES'!C$3:C$50,BDB!C$3:C$50)=0,ROW($B$3:$B$50)-2,""),ROW($A1))))} -> Acquérir | D4: {=IF(ROW(C1)>D$3,"",INDEX(BDB!D$3:D$50,SMALL(IF(COUNTIF('1 COMPETENCES'!D$3:D$50,BDB!D$3:D$50)=0,ROW($B$3:$B$50)-2,""),ROW($A1))))} -> Animer | E4: {=IF(ROW(D1)>E$3,"",INDEX(BDB!E$3:E$50,SMALL(IF(COUNTIF('1 COMPETENCES'!E$3:E$50,BDB!E$3:E$50)=0,ROW($B$3:$B$50)-2,""),ROW($A1))))} -> Classer | F4: {=IF(ROW(E1)>F$3,"",INDEX(BDB!F$3:F$50,SMALL(IF(COUNTIF('1 COMPETENCES'!F$3:F$50,BDB!F$3:F$50)=0,ROW($B$3:$B$50)-2,""),ROW($A1))))} -> Appliquer | G4: {=IF(ROW(F1)>G$3,"",INDEX(BDB!G$3:G$50,SMALL(IF(COUNTIF('1 COMPETENCES'!G$3:G$50,BDB!G$3:G$50)=0,ROW($B$3:$B$50)-2,""),ROW($A1))))} -> Aménager | H4: {=IF(ROW(G1)>H$3,"",INDEX(BDB!H$3:H$50,SMALL(IF(COUNTIF('1 COMPETENCES'!H$3:H$50,BDB!H$3:H$50)=0,ROW($B$3:$B$50)-2,""),ROW($A1))))} -> Dialoguer | I4: {=IF(ROW(H1)>I$3,"",INDEX(BDB!I$3:I$50,SMALL(IF(COUNTIF('1 COMPETENCES'!I$3:I$50,BDB!I$3:I$50)=0,ROW($B$3:$B$50)-2,""),ROW($A1))))} -> Accroître | ... O4: {=IF(ROW(N1)>O$3,"",INDEX(BDB!O$3:O$50,SMALL(IF(COUNTIF('1 COMPETENCES'!O$3:O$50,BDB!O$3:O$50)=0,ROW($B$3:$B$50)-2,""),ROW($A1))))} -> Aider | P4: {=IF(ROW(O1)>P$3,"",INDEX('1 COMPETENCES'!P$3:P$50,SMALL(IF('1 COMPETENCES'!P$3:P$50<>"",ROW($B$3:$B$50)-2),ROW($A1))))} -> tulipe1 | R4: en evitant une armée de Decaler | W4: {=IF(ROW($A1)>W$2,"",INDEX('BDB2'!B$4:B$50,SMALL(IF(COUNTIF('2 QUALITES'!B$3:B$49,'BDB2'!B$4:B$50)=0,ROW(B$4:B$50)-3,""),ROW($A1))))} -> Aimable | X4: {=IF(ROW($A1)>X$2,"",INDEX('BDB2'!C$4:C$50,SMALL(IF(COUNTIF('2 QUALITES'!C$3:C$49,'BDB2'!C$4:C$50)=0,ROW(C$4:C$50)-3,""),ROW($A1))))} -> Amical | Y4: {=IF(ROW($A1)>Y$2,"",INDEX('BDB2'!D$4:D$50,SMALL(IF(COUNTIF('2 QUALITES'!D$3:D$49,'BDB2'!D$4:D$50)=0,ROW(D$4:D$50)-3,""),ROW($A1))))} -> Conciliant | Z4: {=IF(ROW($A1)>Z$2,"",INDEX('BDB2'!E$4:E$50,SMALL(IF(COUNTIF('2 QUALITES'!E$3:E$49,'BDB2'!E$4:E$50)=0,ROW(E$4:E$50)-3,""),ROW($A1))))} -> Compétent | AA4: {=IF(ROW($A1)>AA$2,"",INDEX('BDB2'!F$4:F$50,SMALL(IF(COUNTIF('2 QUALITES'!F$3:F$49,'BDB2'!F$4:F$50)=0,ROW(F$4:F$50)-3,""),ROW($A1))))} -> Tolérant | AB4: {=IF(ROW($A1)>AB$2,"",INDEX('BDB2'!G$4:G$50,SMALL(IF(COUNTIF('2 QUALITES'!G$3:G$49,'BDB2'!G$4:G$50)=0,ROW(G$4:G$50)-3,""),ROW($A1))))} -> Méthodique | AC4: {=IF(ROW($A1)>AC$2,"",INDEX('BDB2'!H$4:H$50,SMALL(IF(COUNTIF('2 QUALITES'!H$3:H$49,'BDB2'!H$4:H$50)=0,ROW(H$4:H$50)-3,""),ROW($A1))))} -> Calme | AD4: {=IF(ROW($A1)>AD$2,"",INDEX('BDB2'!I$4:I$50,SMALL(IF(COUNTIF('2 QUALITES'!I$3:I$49,'BDB2'!I$4:I$50)=0,ROW(I$4:I$50)-3,""),ROW($A1))))} -> Sensible | ... AL4: {=IF(ROW($A1)>AL$2,"",INDEX('BDB2'!Q$4:Q$50,SMALL(IF(COUNTIF('2 QUALITES'!Q$3:Q$49,'BDB2'!Q$4:Q$50)=0,ROW(Q$4:Q$50)-3,""),ROW($A1))))} -> Inspiré
B5: {=IF(ROW(A2)>B$3,"",INDEX(BDB!B$3:B$50,SMALL(IF(COUNTIF('1 COMPETENCES'!B$3:B$50,BDB!B$3:B$50)=0,ROW($B$3:$B$50)-2,""),ROW($A2))))} -> Choisir | C5: {=IF(ROW(B2)>C$3,"",INDEX(BDB!C$3:C$50,SMALL(IF(COUNTIF('1 COMPETENCES'!C$3:C$50,BDB!C$3:C$50)=0,ROW($B$3:$B$50)-2,""),ROW($A2))))} -> Amortir | D5: {=IF(ROW(C2)>D$3,"",INDEX(BDB!D$3:D$50,SMALL(IF(COUNTIF('1 COMPETENCES'!D$3:D$50,BDB!D$3:D$50)=0,ROW($B$3:$B$50)-2,""),ROW($A2))))} -> Commander | E5: {=IF(ROW(D2)>E$3,"",INDEX(BDB!E$3:E$50,SMALL(IF(COUNTIF('1 COMPETENCES'!E$3:E$50,BDB!E$3:E$50)=0,ROW($B$3:$B$50)-2,""),ROW($A2))))} -> Compter | F5: {=IF(ROW(E2)>F$3,"",INDEX(BDB!F$3:F$50,SMALL(IF(COUNTIF('1 COMPETENCES'!F$3:F$50,BDB!F$3:F$50)=0,ROW($B$3:$B$50)-2,""),ROW($A2))))} -> Effectuer | G5: {=IF(ROW(F2)>G$3,"",INDEX(BDB!G$3:G$50,SMALL(IF(COUNTIF('1 COMPETENCES'!G$3:G$50,BDB!G$3:G$50)=0,ROW($B$3:$B$50)-2,""),ROW($A2))))} -> Anticiper | H5: {=IF(ROW(G2)>H$3,"",INDEX(BDB!H$3:H$50,SMALL(IF(COUNTIF('1 COMPETENCES'!H$3:H$50,BDB!H$3:H$50)=0,ROW($B$3:$B$50)-2,""),ROW($A2))))} -> Discuter | I5: {=IF(ROW(H2)>I$3,"",INDEX(BDB!I$3:I$50,SMALL(IF(COUNTIF('1 COMPETENCES'!I$3:I$50,BDB!I$3:I$50)=0,ROW($B$3:$B$50)-2,""),ROW($A2))))} -> Améliorer | ... O5: {=IF(ROW(N2)>O$3,"",INDEX(BDB!O$3:O$50,SMALL(IF(COUNTIF('1 COMPETENCES'!O$3:O$50,BDB!O$3:O$50)=0,ROW($B$3:$B$50)-2,""),ROW($A2))))} -> Clarifier | P5: {=IF(ROW(O2)>P$3,"",INDEX('1 COMPETENCES'!P$3:P$50,SMALL(IF('1 COMPETENCES'!P$3:P$50<>"",ROW($B$3:$B$50)-2),ROW($A2))))} -> tulipe2 | R5: c'est remplacé par RECHERCHEH | W5: {=IF(ROW($A2)>W$2,"",INDEX('BDB2'!B$4:B$50,SMALL(IF(COUNTIF('2 QUALITES'!B$3:B$49,'BDB2'!B$4:B$50)=0,ROW(B$4:B$50)-3,""),ROW($A2))))} -> Sympathique | X5: {=IF(ROW($A2)>X$2,"",INDEX('BDB2'!C$4:C$50,SMALL(IF(COUNTIF('2 QUALITES'!C$3:C$49,'BDB2'!C$4:C$50)=0,ROW(C$4:C$50)-3,""),ROW($A2))))} -> Coopératif | Y5: {=IF(ROW($A2)>Y$2,"",INDEX('BDB2'!D$4:D$50,SMALL(IF(COUNTIF('2 QUALITES'!D$3:D$49,'BDB2'!D$4:D$50)=0,ROW(D$4:D$50)-3,""),ROW($A2))))} -> Courtois | Z5: {=IF(ROW($A2)>Z$2,"",INDEX('BDB2'!E$4:E$50,SMALL(IF(COUNTIF('2 QUALITES'!E$3:E$49,'BDB2'!E$4:E$50)=0,ROW(E$4:E$50)-3,""),ROW($A2))))} -> Serviable | AA5: {=IF(ROW($A2)>AA$2,"",INDEX('BDB2'!F$4:F$50,SMALL(IF(COUNTIF('2 QUALITES'!F$3:F$49,'BDB2'!F$4:F$50)=0,ROW(F$4:F$50)-3,""),ROW($A2))))} -> Sensé | AB5: {=IF(ROW($A2)>AB$2,"",INDEX('BDB2'!G$4:G$50,SMALL(IF(COUNTIF('2 QUALITES'!G$3:G$49,'BDB2'!G$4:G$50)=0,ROW(G$4:G$50)-3,""),ROW($A2))))} -> Confiant | AC5: {=IF(ROW($A2)>AC$2,"",INDEX('BDB2'!H$4:H$50,SMALL(IF(COUNTIF('2 QUALITES'!H$3:H$49,'BDB2'!H$4:H$50)=0,ROW(H$4:H$50)-3,""),ROW($A2))))} -> Consciencieux | AD5: {=IF(ROW($A2)>AD$2,"",INDEX('BDB2'!I$4:I$50,SMALL(IF(COUNTIF('2 QUALITES'!I$3:I$49,'BDB2'!I$4:I$50)=0,ROW(I$4:I$50)-3,""),ROW($A2))))} -> Sincère | ... AL5: {=IF(ROW($A2)>AL$2,"",INDEX('BDB2'!Q$4:Q$50,SMALL(IF(COUNTIF('2 QUALITES'!Q$3:Q$49,'BDB2'!Q$4:Q$50)=0,ROW(Q$4:Q$50)-3,""),ROW($A2))))}
B6: {=IF(ROW(A3)>B$3,"",INDEX(BDB!B$3:B$50,SMALL(IF(COUNTIF('1 COMPETENCES'!B$3:B$50,BDB!B$3:B$50)=0,ROW($B$3:$B$50)-2,""),ROW($A3))))} -> Conclure | C6: {=IF(ROW(B3)>C$3,"",INDEX(BDB!C$3:C$50,SMALL(IF(COUNTIF('1 COMPETENCES'!C$3:C$50,BDB!C$3:C$50)=0,ROW($B$3:$B$50)-2,""),ROW($A3))))} -> Budgéter | D6: {=IF(ROW(C3)>D$3,"",INDEX(BDB!D$3:D$50,SMALL(IF(COUNTIF('1 COMPETENCES'!D$3:D$50,BDB!D$3:D$50)=0,ROW($B$3:$B$50)-2,""),ROW($A3))))} -> Conduire | E6: {=IF(ROW(D3)>E$3,"",INDEX(BDB!E$3:E$50,SMALL(IF(COUNTIF('1 COMPETENCES'!E$3:E$50,BDB!E$3:E$50)=0,ROW($B$3:$B$50)-2,""),ROW($A3))))} -> Enregistrer | F6: {=IF(ROW(E3)>F$3,"",INDEX(BDB!F$3:F$50,SMALL(IF(COUNTIF('1 COMPETENCES'!F$3:F$50,BDB!F$3:F$50)=0,ROW($B$3:$B$50)-2,""),ROW($A3))))} -> Exécuter | G6: {=IF(ROW(F3)>G$3,"",INDEX(BDB!G$3:G$50,SMALL(IF(COUNTIF('1 COMPETENCES'!G$3:G$50,BDB!G$3:G$50)=0,ROW($B$3:$B$50)-2,""),ROW($A3))))} -> Arranger | H6: {=IF(ROW(G3)>H$3,"",INDEX(BDB!H$3:H$50,SMALL(IF(COUNTIF('1 COMPETENCES'!H$3:H$50,BDB!H$3:H$50)=0,ROW($B$3:$B$50)-2,""),ROW($A3))))} -> Echanger | I6: {=IF(ROW(H3)>I$3,"",INDEX(BDB!I$3:I$50,SMALL(IF(COUNTIF('1 COMPETENCES'!I$3:I$50,BDB!I$3:I$50)=0,ROW($B$3:$B$50)-2,""),ROW($A3))))} -> Augmenter | ... O6: {=IF(ROW(N3)>O$3,"",INDEX(BDB!O$3:O$50,SMALL(IF(COUNTIF('1 COMPETENCES'!O$3:O$50,BDB!O$3:O$50)=0,ROW($B$3:$B$50)-2,""),ROW($A3))))} -> Comprendre | P6: {=IF(ROW(O3)>P$3,"",INDEX('1 COMPETENCES'!P$3:P$50,SMALL(IF('1 COMPETENCES'!P$3:P$50<>"",ROW($B$3:$B$50)-2),ROW($A3))))} -> tulipe3 | R6: dans Validation voir feuille COMPETANCES | W6: {=IF(ROW($A3)>W$2,"",INDEX('BDB2'!B$4:B$50,SMALL(IF(COUNTIF('2 QUALITES'!B$3:B$49,'BDB2'!B$4:B$50)=0,ROW(B$4:B$50)-3,""),ROW($A3))))} -> Diplomate | X6: {=IF(ROW($A3)>X$2,"",INDEX('BDB2'!C$4:C$50,SMALL(IF(COUNTIF('2 QUALITES'!C$3:C$49,'BDB2'!C$4:C$50)=0,ROW(C$4:C$50)-3,""),ROW($A3))))} -> Agréable | Y6: {=IF(ROW($A3)>Y$2,"",INDEX('BDB2'!D$4:D$50,SMALL(IF(COUNTIF('2 QUALITES'!D$3:D$49,'BDB2'!D$4:D$50)=0,ROW(D$4:D$50)-3,""),ROW($A3))))} -> Sociable | Z6: {=IF(ROW($A3)>Z$2,"",INDEX('BDB2'!E$4:E$50,SMALL(IF(COUNTIF('2 QUALITES'!E$3:E$49,'BDB2'!E$4:E$50)=0,ROW(E$4:E$50)-3,""),ROW($A3))))} -> Bienveillant | AA6: {=IF(ROW($A3)>AA$2,"",INDEX('BDB2'!F$4:F$50,SMALL(IF(COUNTIF('2 QUALITES'!F$3:F$49,'BDB2'!F$4:F$50)=0,ROW(F$4:F$50)-3,""),ROW($A3))))} -> Fiable | AB6: {=IF(ROW($A3)>AB$2,"",INDEX('BDB2'!G$4:G$50,SMALL(IF(COUNTIF('2 QUALITES'!G$3:G$49,'BDB2'!G$4:G$50)=0,ROW(G$4:G$50)-3,""),ROW($A3))))} -> Réaliste | AC6: {=IF(ROW($A3)>AC$2,"",INDEX('BDB2'!H$4:H$50,SMALL(IF(COUNTIF('2 QUALITES'!H$3:H$49,'BDB2'!H$4:H$50)=0,ROW(H$4:H$50)-3,""),ROW($A3))))} -> Juste | AD6: {=IF(ROW($A3)>AD$2,"",INDEX('BDB2'!I$4:I$50,SMALL(IF(COUNTIF('2 QUALITES'!I$3:I$49,'BDB2'!I$4:I$50)=0,ROW(I$4:I$50)-3,""),ROW($A3))))} -> Stable | ... AL6: {=IF(ROW($A3)>AL$2,"",INDEX('BDB2'!Q$4:Q$50,SMALL(IF(COUNTIF('2 QUALITES'!Q$3:Q$49,'BDB2'!Q$4:Q$50)=0,ROW(Q$4:Q$50)-3,""),ROW($A3))))}
B7: {=IF(ROW(A4)>B$3,"",INDEX(BDB!B$3:B$50,SMALL(IF(COUNTIF('1 COMPETENCES'!B$3:B$50,BDB!B$3:B$50)=0,ROW($B$3:$B$50)-2,""),ROW($A4))))} -> Déterminer | C7: {=IF(ROW(B4)>C$3,"",INDEX(BDB!C$3:C$50,SMALL(IF(COUNTIF('1 COMPETENCES'!C$3:C$50,BDB!C$3:C$50)=0,ROW($B$3:$B$50)-2,""),ROW($A4))))} -> Assainir | D7: {=IF(ROW(C4)>D$3,"",INDEX(BDB!D$3:D$50,SMALL(IF(COUNTIF('1 COMPETENCES'!D$3:D$50,BDB!D$3:D$50)=0,ROW($B$3:$B$50)-2,""),ROW($A4))))} -> Confier | E7: {=IF(ROW(D4)>E$3,"",INDEX(BDB!E$3:E$50,SMALL(IF(COUNTIF('1 COMPETENCES'!E$3:E$50,BDB!E$3:E$50)=0,ROW($B$3:$B$50)-2,""),ROW($A4))))} -> Etablir | F7: {=IF(ROW(E4)>F$3,"",INDEX(BDB!F$3:F$50,SMALL(IF(COUNTIF('1 COMPETENCES'!F$3:F$50,BDB!F$3:F$50)=0,ROW($B$3:$B$50)-2,""),ROW($A4))))} -> Faire Réaliser | G7: {=IF(ROW(F4)>G$3,"",INDEX(BDB!G$3:G$50,SMALL(IF(COUNTIF('1 COMPETENCES'!G$3:G$50,BDB!G$3:G$50)=0,ROW($B$3:$B$50)-2,""),ROW($A4))))} -> Coordonner | H7: {=IF(ROW(G4)>H$3,"",INDEX(BDB!H$3:H$50,SMALL(IF(COUNTIF('1 COMPETENCES'!H$3:H$50,BDB!H$3:H$50)=0,ROW($B$3:$B$50)-2,""),ROW($A4))))} -> Ecouter | I7: {=IF(ROW(H4)>I$3,"",INDEX(BDB!I$3:I$50,SMALL(IF(COUNTIF('1 COMPETENCES'!I$3:I$50,BDB!I$3:I$50)=0,ROW($B$3:$B$50)-2,""),ROW($A4))))} -> Commercialiser | ... O7: {=IF(ROW(N4)>O$3,"",INDEX(BDB!O$3:O$50,SMALL(IF(COUNTIF('1 COMPETENCES'!O$3:O$50,BDB!O$3:O$50)=0,ROW($B$3:$B$50)-2,""),ROW($A4))))} -> Diagnostiquer | P7: {=IF(ROW(O4)>P$3,"",INDEX('1 COMPETENCES'!P$3:P$50,SMALL(IF('1 COMPETENCES'!P$3:P$50<>"",ROW($B$3:$B$50)-2),ROW($A4))))} -> tulipe4 | W7: {=IF(ROW($A4)>W$2,"",INDEX('BDB2'!B$4:B$50,SMALL(IF(COUNTIF('2 QUALITES'!B$3:B$49,'BDB2'!B$4:B$50)=0,ROW(B$4:B$50)-3,""),ROW($A4))))} -> Affable | X7: {=IF(ROW($A4)>X$2,"",INDEX('BDB2'!C$4:C$50,SMALL(IF(COUNTIF('2 QUALITES'!C$3:C$49,'BDB2'!C$4:C$50)=0,ROW(C$4:C$50)-3,""),ROW($A4))))} -> Dévoué | Y7: {=IF(ROW($A4)>Y$2,"",INDEX('BDB2'!D$4:D$50,SMALL(IF(COUNTIF('2 QUALITES'!D$3:D$49,'BDB2'!D$4:D$50)=0,ROW(D$4:D$50)-3,""),ROW($A4))))} -> Accessible | Z7: {=IF(ROW($A4)>Z$2,"",INDEX('BDB2'!E$4:E$50,SMALL(IF(COUNTIF('2 QUALITES'!E$3:E$49,'BDB2'!E$4:E$50)=0,ROW(E$4:E$50)-3,""),ROW($A4))))} -> Plaisant | AA7: {=IF(ROW($A4)>AA$2,"",INDEX('BDB2'!F$4:F$50,SMALL(IF(COUNTIF('2 QUALITES'!F$3:F$49,'BDB2'!F$4:F$50)=0,ROW(F$4:F$50)-3,""),ROW($A4))))} -> Franc | AB7: {=IF(ROW($A4)>AB$2,"",INDEX('BDB2'!G$4:G$50,SMALL(IF(COUNTIF('2 QUALITES'!G$3:G$49,'BDB2'!G$4:G$50)=0,ROW(G$4:G$50)-3,""),ROW($A4))))} -> Honnête | AC7: {=IF(ROW($A4)>AC$2,"",INDEX('BDB2'!H$4:H$50,SMALL(IF(COUNTIF('2 QUALITES'!H$3:H$49,'BDB2'!H$4:H$50)=0,ROW(H$4:H$50)-3,""),ROW($A4))))} -> Intègre | AD7: {=IF(ROW($A4)>AD$2,"",INDEX('BDB2'!I$4:I$50,SMALL(IF(COUNTIF('2 QUALITES'!I$3:I$49,'BDB2'!I$4:I$50)=0,ROW(I$4:I$50)-3,""),ROW($A4))))} -> Gai | ... AL7: {=IF(ROW($A4)>AL$2,"",INDEX('BDB2'!Q$4:Q$50,SMALL(IF(COUNTIF('2 QUALITES'!Q$3:Q$49,'BDB2'!Q$4:Q$50)=0,ROW(Q$4:Q$50)-3,""),ROW($A4))))}
B8: {=IF(ROW(A5)>B$3,"",INDEX(BDB!B$3:B$50,SMALL(IF(COUNTIF('1 COMPETENCES'!B$3:B$50,BDB!B$3:B$50)=0,ROW($B$3:$B$50)-2,""),ROW($A5))))} -> Eliminer | C8: {=IF(ROW(B5)>C$3,"",INDEX(BDB!C$3:C$50,SMALL(IF(COUNTIF('1 COMPETENCES'!C$3:C$50,BDB!C$3:C$50)=0,ROW($B$3:$B$50)-2,""),ROW($A5))))} -> Comptabilisé | D8: {=IF(ROW(C5)>D$3,"",INDEX(BDB!D$3:D$50,SMALL(IF(COUNTIF('1 COMPETENCES'!D$3:D$50,BDB!D$3:D$50)=0,ROW($B$3:$B$50)-2,""),ROW($A5))))} -> Définir | E8: {=IF(ROW(D5)>E$3,"",INDEX(BDB!E$3:E$50,SMALL(IF(COUNTIF('1 COMPETENCES'!E$3:E$50,BDB!E$3:E$50)=0,ROW($B$3:$B$50)-2,""),ROW($A5))))} -> Gérer | F8: {=IF(ROW(E5)>F$3,"",INDEX(BDB!F$3:F$50,SMALL(IF(COUNTIF('1 COMPETENCES'!F$3:F$50,BDB!F$3:F$50)=0,ROW($B$3:$B$50)-2,""),ROW($A5))))} | G8: {=IF(ROW(F5)>G$3,"",INDEX(BDB!G$3:G$50,SMALL(IF(COUNTIF('1 COMPETENCES'!G$3:G$50,BDB!G$3:G$50)=0,ROW($B$3:$B$50)-2,""),ROW($A5))))} -> Distribuer | H8: {=IF(ROW(G5)>H$3,"",INDEX(BDB!H$3:H$50,SMALL(IF(COUNTIF('1 COMPETENCES'!H$3:H$50,BDB!H$3:H$50)=0,ROW($B$3:$B$50)-2,""),ROW($A5))))} -> Exprimer | I8: {=IF(ROW(H5)>I$3,"",INDEX(BDB!I$3:I$50,SMALL(IF(COUNTIF('1 COMPETENCES'!I$3:I$50,BDB!I$3:I$50)=0,ROW($B$3:$B$50)-2,""),ROW($A5))))} -> Conquérir | ... O8: {=IF(ROW(N5)>O$3,"",INDEX(BDB!O$3:O$50,SMALL(IF(COUNTIF('1 COMPETENCES'!O$3:O$50,BDB!O$3:O$50)=0,ROW($B$3:$B$50)-2,""),ROW($A5))))} -> Eclairer | P8: {=IF(ROW(O5)>P$3,"",INDEX('1 COMPETENCES'!P$3:P$50,SMALL(IF('1 COMPETENCES'!P$3:P$50<>"",ROW($B$3:$B$50)-2),ROW($A5))))} -> courage | W8: {=IF(ROW($A5)>W$2,"",INDEX('BDB2'!B$4:B$50,SMALL(IF(COUNTIF('2 QUALITES'!B$3:B$49,'BDB2'!B$4:B$50)=0,ROW(B$4:B$50)-3,""),ROW($A5))))} -> Discret | X8: {=IF(ROW($A5)>X$2,"",INDEX('BDB2'!C$4:C$50,SMALL(IF(COUNTIF('2 QUALITES'!C$3:C$49,'BDB2'!C$4:C$50)=0,ROW(C$4:C$50)-3,""),ROW($A5))))} -> Ouvert | Y8: {=IF(ROW($A5)>Y$2,"",INDEX('BDB2'!D$4:D$50,SMALL(IF(COUNTIF('2 QUALITES'!D$3:D$49,'BDB2'!D$4:D$50)=0,ROW(D$4:D$50)-3,""),ROW($A5))))} -> Accomodant | Z8: {=IF(ROW($A5)>Z$2,"",INDEX('BDB2'!E$4:E$50,SMALL(IF(COUNTIF('2 QUALITES'!E$3:E$49,'BDB2'!E$4:E$50)=0,ROW(E$4:E$50)-3,""),ROW($A5))))} -> Elégant | AA8: {=IF(ROW($A5)>AA$2,"",INDEX('BDB2'!F$4:F$50,SMALL(IF(COUNTIF('2 QUALITES'!F$3:F$49,'BDB2'!F$4:F$50)=0,ROW(F$4:F$50)-3,""),ROW($A5))))} -> Objectif | AB8: {=IF(ROW($A5)>AB$2,"",INDEX('BDB2'!G$4:G$50,SMALL(IF(COUNTIF('2 QUALITES'!G$3:G$49,'BDB2'!G$4:G$50)=0,ROW(G$4:G$50)-3,""),ROW($A5))))} -> Impartial | AC8: {=IF(ROW($A5)>AC$2,"",INDEX('BDB2'!H$4:H$50,SMALL(IF(COUNTIF('2 QUALITES'!H$3:H$49,'BDB2'!H$4:H$50)=0,ROW(H$4:H$50)-3,""),ROW($A5))))} -> Positif | AD8: {=IF(ROW($A5)>AD$2,"",INDEX('BDB2'!I$4:I$50,SMALL(IF(COUNTIF('2 QUALITES'!I$3:I$49,'BDB2'!I$4:I$50)=0,ROW(I$4:I$50)-3,""),ROW($A5))))} -> Prévenant | ... AL8: {=IF(ROW($A5)>AL$2,"",INDEX('BDB2'!Q$4:Q$50,SMALL(IF(COUNTIF('2 QUALITES'!Q$3:Q$49,'BDB2'!Q$4:Q$50)=0,ROW(Q$4:Q$50)-3,""),ROW($A5))))}
B9: {=IF(ROW(A6)>B$3,"",INDEX(BDB!B$3:B$50,SMALL(IF(COUNTIF('1 COMPETENCES'!B$3:B$50,BDB!B$3:B$50)=0,ROW($B$3:$B$50)-2,""),ROW($A6))))} -> Fixer | C9: {=IF(ROW(B6)>C$3,"",INDEX(BDB!C$3:C$50,SMALL(IF(COUNTIF('1 COMPETENCES'!C$3:C$50,BDB!C$3:C$50)=0,ROW($B$3:$B$50)-2,""),ROW($A6))))} -> Consolider | D9: {=IF(ROW(C6)>D$3,"",INDEX(BDB!D$3:D$50,SMALL(IF(COUNTIF('1 COMPETENCES'!D$3:D$50,BDB!D$3:D$50)=0,ROW($B$3:$B$50)-2,""),ROW($A6))))} -> Déléguer | E9: {=IF(ROW(D6)>E$3,"",INDEX(BDB!E$3:E$50,SMALL(IF(COUNTIF('1 COMPETENCES'!E$3:E$50,BDB!E$3:E$50)=0,ROW($B$3:$B$50)-2,""),ROW($A6))))} -> Inventorier | F9: {=IF(ROW(E6)>F$3,"",INDEX(BDB!F$3:F$50,SMALL(IF(COUNTIF('1 COMPETENCES'!F$3:F$50,BDB!F$3:F$50)=0,ROW($B$3:$B$50)-2,""),ROW($A6))))} | G9: {=IF(ROW(F6)>G$3,"",INDEX(BDB!G$3:G$50,SMALL(IF(COUNTIF('1 COMPETENCES'!G$3:G$50,BDB!G$3:G$50)=0,ROW($B$3:$B$50)-2,""),ROW($A6))))} -> Etablir | H9: {=IF(ROW(G6)>H$3,"",INDEX(BDB!H$3:H$50,SMALL(IF(COUNTIF('1 COMPETENCES'!H$3:H$50,BDB!H$3:H$50)=0,ROW($B$3:$B$50)-2,""),ROW($A6))))} -> Informer | I9: {=IF(ROW(H6)>I$3,"",INDEX(BDB!I$3:I$50,SMALL(IF(COUNTIF('1 COMPETENCES'!I$3:I$50,BDB!I$3:I$50)=0,ROW($B$3:$B$50)-2,""),ROW($A6))))} -> Elargir | ... O9: {=IF(ROW(N6)>O$3,"",INDEX(BDB!O$3:O$50,SMALL(IF(COUNTIF('1 COMPETENCES'!O$3:O$50,BDB!O$3:O$50)=0,ROW($B$3:$B$50)-2,""),ROW($A6))))} -> Ecouter | P9: {=IF(ROW(O6)>P$3,"",INDEX('1 COMPETENCES'!P$3:P$50,SMALL(IF('1 COMPETENCES'!P$3:P$50<>"",ROW($B$3:$B$50)-2),ROW($A6))))} | R9: pour 2 QUALITES | W9: {=IF(ROW($A6)>W$2,"",INDEX('BDB2'!B$4:B$50,SMALL(IF(COUNTIF('2 QUALITES'!B$3:B$49,'BDB2'!B$4:B$50)=0,ROW(B$4:B$50)-3,""),ROW($A6))))} -> Prévenant | X9: {=IF(ROW($A6)>X$2,"",INDEX('BDB2'!C$4:C$50,SMALL(IF(COUNTIF('2 QUALITES'!C$3:C$49,'BDB2'!C$4:C$50)=0,ROW(C$4:C$50)-3,""),ROW($A6))))} -> Arrangeant | Y9: {=IF(ROW($A6)>Y$2,"",INDEX('BDB2'!D$4:D$50,SMALL(IF(COUNTIF('2 QUALITES'!D$3:D$49,'BDB2'!D$4:D$50)=0,ROW(D$4:D$50)-3,""),ROW($A6))))} -> Respecté | Z9: {=IF(ROW($A6)>Z$2,"",INDEX('BDB2'!E$4:E$50,SMALL(IF(COUNTIF('2 QUALITES'!E$3:E$49,'BDB2'!E$4:E$50)=0,ROW(E$4:E$50)-3,""),ROW($A6))))} -> Collaborateur | AA9: {=IF(ROW($A6)>AA$2,"",INDEX('BDB2'!F$4:F$50,SMALL(IF(COUNTIF('2 QUALITES'!F$3:F$49,'BDB2'!F$4:F$50)=0,ROW(F$4:F$50)-3,""),ROW($A6))))} -> Professionnel | AB9: {=IF(ROW($A6)>AB$2,"",INDEX('BDB2'!G$4:G$50,SMALL(IF(COUNTIF('2 QUALITES'!G$3:G$49,'BDB2'!G$4:G$50)=0,ROW(G$4:G$50)-3,""),ROW($A6))))} -> Responsable | AC9: {=IF(ROW($A6)>AC$2,"",INDEX('BDB2'!H$4:H$50,SMALL(IF(COUNTIF('2 QUALITES'!H$3:H$49,'BDB2'!H$4:H$50)=0,ROW(H$4:H$50)-3,""),ROW($A6))))} -> Spirituel | AD9: {=IF(ROW($A6)>AD$2,"",INDEX('BDB2'!I$4:I$50,SMALL(IF(COUNTIF('2 QUALITES'!I$3:I$49,'BDB2'!I$4:I$50)=0,ROW(I$4:I$50)-3,""),ROW($A6))))} -> Loyal | ... AL9: {=IF(ROW($A6)>AL$2,"",INDEX('BDB2'!Q$4:Q$50,SMALL(IF(COUNTIF('2 QUALITES'!Q$3:Q$49,'BDB2'!Q$4:Q$50)=0,ROW(Q$4:Q$50)-3,""),ROW($A6))))}
B10: {=IF(ROW(A7)>B$3,"",INDEX(BDB!B$3:B$50,SMALL(IF(COUNTIF('1 COMPETENCES'!B$3:B$50,BDB!B$3:B$50)=0,ROW($B$3:$B$50)-2,""),ROW($A7))))} -> Opter | C10: {=IF(ROW(B7)>C$3,"",INDEX(BDB!C$3:C$50,SMALL(IF(COUNTIF('1 COMPETENCES'!C$3:C$50,BDB!C$3:C$50)=0,ROW($B$3:$B$50)-2,""),ROW($A7))))} -> Economiser | D10: {=IF(ROW(C7)>D$3,"",INDEX(BDB!D$3:D$50,SMALL(IF(COUNTIF('1 COMPETENCES'!D$3:D$50,BDB!D$3:D$50)=0,ROW($B$3:$B$50)-2,""),ROW($A7))))} -> Gouverner | E10: {=IF(ROW(D7)>E$3,"",INDEX(BDB!E$3:E$50,SMALL(IF(COUNTIF('1 COMPETENCES'!E$3:E$50,BDB!E$3:E$50)=0,ROW($B$3:$B$50)-2,""),ROW($A7))))} -> Ranger | F10: {=IF(ROW(E7)>F$3,"",INDEX(BDB!F$3:F$50,SMALL(IF(COUNTIF('1 COMPETENCES'!F$3:F$50,BDB!F$3:F$50)=0,ROW($B$3:$B$50)-2,""),ROW($A7))))} | G10: {=IF(ROW(F7)>G$3,"",INDEX(BDB!G$3:G$50,SMALL(IF(COUNTIF('1 COMPETENCES'!G$3:G$50,BDB!G$3:G$50)=0,ROW($B$3:$B$50)-2,""),ROW($A7))))} -> Planifier | H10: {=IF(ROW(G7)>H$3,"",INDEX(BDB!H$3:H$50,SMALL(IF(COUNTIF('1 COMPETENCES'!H$3:H$50,BDB!H$3:H$50)=0,ROW($B$3:$B$50)-2,""),ROW($A7))))} -> Interviewer | I10: {=IF(ROW(H7)>I$3,"",INDEX(BDB!I$3:I$50,SMALL(IF(COUNTIF('1 COMPETENCES'!I$3:I$50,BDB!I$3:I$50)=0,ROW($B$3:$B$50)-2,""),ROW($A7))))} -> Etendre | ... O10: {=IF(ROW(N7)>O$3,"",INDEX(BDB!O$3:O$50,SMALL(IF(COUNTIF('1 COMPETENCES'!O$3:O$50,BDB!O$3:O$50)=0,ROW($B$3:$B$50)-2,""),ROW($A7))))} -> Guider | P10: {=IF(ROW(O7)>P$3,"",INDEX('1 COMPETENCES'!P$3:P$50,SMALL(IF('1 COMPETENCES'!P$3:P$50<>"",ROW($B$3:$B$50)-2),ROW($A7))))} | W10: {=IF(ROW($A7)>W$2,"",INDEX('BDB2'!B$4:B$50,SMALL(IF(COUNTIF('2 QUALITES'!B$3:B$49,'BDB2'!B$4:B$50)=0,ROW(B$4:B$50)-3,""),ROW($A7))))} -> Délicat | X10: {=IF(ROW($A7)>X$2,"",INDEX('BDB2'!C$4:C$50,SMALL(IF(COUNTIF('2 QUALITES'!C$3:C$49,'BDB2'!C$4:C$50)=0,ROW(C$4:C$50)-3,""),ROW($A7))))} -> Fiable | Y10: {=IF(ROW($A7)>Y$2,"",INDEX('BDB2'!D$4:D$50,SMALL(IF(COUNTIF('2 QUALITES'!D$3:D$49,'BDB2'!D$4:D$50)=0,ROW(D$4:D$50)-3,""),ROW($A7))))} -> Chaleureux | Z10: {=IF(ROW($A7)>Z$2,"",INDEX('BDB2'!E$4:E$50,SMALL(IF(COUNTIF('2 QUALITES'!E$3:E$49,'BDB2'!E$4:E$50)=0,ROW(E$4:E$50)-3,""),ROW($A7))))} -> Apprécié | AA10: {=IF(ROW($A7)>AA$2,"",INDEX('BDB2'!F$4:F$50,SMALL(IF(COUNTIF('2 QUALITES'!F$3:F$49,'BDB2'!F$4:F$50)=0,ROW(F$4:F$50)-3,""),ROW($A7))))} | AB10: {=IF(ROW($A7)>AB$2,"",INDEX('BDB2'!G$4:G$50,SMALL(IF(COUNTIF('2 QUALITES'!G$3:G$49,'BDB2'!G$4:G$50)=0,ROW(G$4:G$50)-3,""),ROW($A7))))} | AC10: {=IF(ROW($A7)>AC$2,"",INDEX('BDB2'!H$4:H$50,SMALL(IF(COUNTIF('2 QUALITES'!H$3:H$49,'BDB2'!H$4:H$50)=0,ROW(H$4:H$50)-3,""),ROW($A7))))} | AD10: {=IF(ROW($A7)>AD$2,"",INDEX('BDB2'!I$4:I$50,SMALL(IF(COUNTIF('2 QUALITES'!I$3:I$49,'BDB2'!I$4:I$50)=0,ROW(I$4:I$50)-3,""),ROW($A7))))} | ... AL10: {=IF(ROW($A7)>AL$2,"",INDEX('BDB2'!Q$4:Q$50,SMALL(IF(COUNTIF('2 QUALITES'!Q$3:Q$49,'BDB2'!Q$4:Q$50)=0,ROW(Q$4:Q$50)-3,""),ROW($A7))))}
B11: {=IF(ROW(A8)>B$3,"",INDEX(BDB!B$3:B$50,SMALL(IF(COUNTIF('1 COMPETENCES'!B$3:B$50,BDB!B$3:B$50)=0,ROW($B$3:$B$50)-2,""),ROW($A8))))} -> Régler | C11: {=IF(ROW(B8)>C$3,"",INDEX(BDB!C$3:C$50,SMALL(IF(COUNTIF('1 COMPETENCES'!C$3:C$50,BDB!C$3:C$50)=0,ROW($B$3:$B$50)-2,""),ROW($A8))))} -> Equilibrer | D11: {=IF(ROW(C8)>D$3,"",INDEX(BDB!D$3:D$50,SMALL(IF(COUNTIF('1 COMPETENCES'!D$3:D$50,BDB!D$3:D$50)=0,ROW($B$3:$B$50)-2,""),ROW($A8))))} -> Guider | E11: {=IF(ROW(D8)>E$3,"",INDEX(BDB!E$3:E$50,SMALL(IF(COUNTIF('1 COMPETENCES'!E$3:E$50,BDB!E$3:E$50)=0,ROW($B$3:$B$50)-2,""),ROW($A8))))} -> Recenser | F11: {=IF(ROW(E8)>F$3,"",INDEX(BDB!F$3:F$50,SMALL(IF(COUNTIF('1 COMPETENCES'!F$3:F$50,BDB!F$3:F$50)=0,ROW($B$3:$B$50)-2,""),ROW($A8))))} | G11: {=IF(ROW(F8)>G$3,"",INDEX(BDB!G$3:G$50,SMALL(IF(COUNTIF('1 COMPETENCES'!G$3:G$50,BDB!G$3:G$50)=0,ROW($B$3:$B$50)-2,""),ROW($A8))))} -> Préparer | H11: {=IF(ROW(G8)>H$3,"",INDEX(BDB!H$3:H$50,SMALL(IF(COUNTIF('1 COMPETENCES'!H$3:H$50,BDB!H$3:H$50)=0,ROW($B$3:$B$50)-2,""),ROW($A8))))} -> Négocier | I11: {=IF(ROW(H8)>I$3,"",INDEX(BDB!I$3:I$50,SMALL(IF(COUNTIF('1 COMPETENCES'!I$3:I$50,BDB!I$3:I$50)=0,ROW($B$3:$B$50)-2,""),ROW($A8))))} -> Déclencher | ... O11: {=IF(ROW(N8)>O$3,"",INDEX(BDB!O$3:O$50,SMALL(IF(COUNTIF('1 COMPETENCES'!O$3:O$50,BDB!O$3:O$50)=0,ROW($B$3:$B$50)-2,""),ROW($A8))))} -> Inciter | P11: {=IF(ROW(O8)>P$3,"",INDEX('1 COMPETENCES'!P$3:P$50,SMALL(IF('1 COMPETENCES'!P$3:P$50<>"",ROW($B$3:$B$50)-2),ROW($A8))))} | W11: {=IF(ROW($A8)>W$2,"",INDEX('BDB2'!B$4:B$50,SMALL(IF(COUNTIF('2 QUALITES'!B$3:B$49,'BDB2'!B$4:B$50)=0,ROW(B$4:B$50)-3,""),ROW($A8))))} | X11: {=IF(ROW($A8)>X$2,"",INDEX('BDB2'!C$4:C$50,SMALL(IF(COUNTIF('2 QUALITES'!C$3:C$49,'BDB2'!C$4:C$50)=0,ROW(C$4:C$50)-3,""),ROW($A8))))} | Y11: {=IF(ROW($A8)>Y$2,"",INDEX('BDB2'!D$4:D$50,SMALL(IF(COUNTIF('2 QUALITES'!D$3:D$49,'BDB2'!D$4:D$50)=0,ROW(D$4:D$50)-3,""),ROW($A8))))} | Z11: {=IF(ROW($A8)>Z$2,"",INDEX('BDB2'!E$4:E$50,SMALL(IF(COUNTIF('2 QUALITES'!E$3:E$49,'BDB2'!E$4:E$50)=0,ROW(E$4:E$50)-3,""),ROW($A8))))} | AA11: {=IF(ROW($A8)>AA$2,"",INDEX('BDB2'!F$4:F$50,SMALL(IF(COUNTIF('2 QUALITES'!F$3:F$49,'BDB2'!F$4:F$50)=0,ROW(F$4:F$50)-3,""),ROW($A8))))} | AB11: {=IF(ROW($A8)>AB$2,"",INDEX('BDB2'!G$4:G$50,SMALL(IF(COUNTIF('2 QUALITES'!G$3:G$49,'BDB2'!G$4:G$50)=0,ROW(G$4:G$50)-3,""),ROW($A8))))} | AC11: {=IF(ROW($A8)>AC$2,"",INDEX('BDB2'!H$4:H$50,SMALL(IF(COUNTIF('2 QUALITES'!H$3:H$49,'BDB2'!H$4:H$50)=0,ROW(H$4:H$50)-3,""),ROW($A8))))} | AD11: {=IF(ROW($A8)>AD$2,"",INDEX('BDB2'!I$4:I$50,SMALL(IF(COUNTIF('2 QUALITES'!I$3:I$49,'BDB2'!I$4:I$50)=0,ROW(I$4:I$50)-3,""),ROW($A8))))} | ... AL11: {=IF(ROW($A8)>AL$2,"",INDEX('BDB2'!Q$4:Q$50,SMALL(IF(COUNTIF('2 QUALITES'!Q$3:Q$49,'BDB2'!Q$4:Q$50)=0,ROW(Q$4:Q$50)-3,""),ROW($A8))))}
B12: {=IF(ROW(A9)>B$3,"",INDEX(BDB!B$3:B$50,SMALL(IF(COUNTIF('1 COMPETENCES'!B$3:B$50,BDB!B$3:B$50)=0,ROW($B$3:$B$50)-2,""),ROW($A9))))} -> Trancher | C12: {=IF(ROW(B9)>C$3,"",INDEX(BDB!C$3:C$50,SMALL(IF(COUNTIF('1 COMPETENCES'!C$3:C$50,BDB!C$3:C$50)=0,ROW($B$3:$B$50)-2,""),ROW($A9))))} -> Exploiter | D12: {=IF(ROW(C9)>D$3,"",INDEX(BDB!D$3:D$50,SMALL(IF(COUNTIF('1 COMPETENCES'!D$3:D$50,BDB!D$3:D$50)=0,ROW($B$3:$B$50)-2,""),ROW($A9))))} -> Impulser | E12: {=IF(ROW(D9)>E$3,"",INDEX(BDB!E$3:E$50,SMALL(IF(COUNTIF('1 COMPETENCES'!E$3:E$50,BDB!E$3:E$50)=0,ROW($B$3:$B$50)-2,""),ROW($A9))))} -> Régir | F12: {=IF(ROW(E9)>F$3,"",INDEX(BDB!F$3:F$50,SMALL(IF(COUNTIF('1 COMPETENCES'!F$3:F$50,BDB!F$3:F$50)=0,ROW($B$3:$B$50)-2,""),ROW($A9))))} | G12: {=IF(ROW(F9)>G$3,"",INDEX(BDB!G$3:G$50,SMALL(IF(COUNTIF('1 COMPETENCES'!G$3:G$50,BDB!G$3:G$50)=0,ROW($B$3:$B$50)-2,""),ROW($A9))))} -> Prévoir | H12: {=IF(ROW(G9)>H$3,"",INDEX(BDB!H$3:H$50,SMALL(IF(COUNTIF('1 COMPETENCES'!H$3:H$50,BDB!H$3:H$50)=0,ROW($B$3:$B$50)-2,""),ROW($A9))))} -> Partager | I12: {=IF(ROW(H9)>I$3,"",INDEX(BDB!I$3:I$50,SMALL(IF(COUNTIF('1 COMPETENCES'!I$3:I$50,BDB!I$3:I$50)=0,ROW($B$3:$B$50)-2,""),ROW($A9))))} -> Implanter | ... O12: {=IF(ROW(N9)>O$3,"",INDEX(BDB!O$3:O$50,SMALL(IF(COUNTIF('1 COMPETENCES'!O$3:O$50,BDB!O$3:O$50)=0,ROW($B$3:$B$50)-2,""),ROW($A9))))} -> Orienter | P12: {=IF(ROW(O9)>P$3,"",INDEX('1 COMPETENCES'!P$3:P$50,SMALL(IF('1 COMPETENCES'!P$3:P$50<>"",ROW($B$3:$B$50)-2),ROW($A9))))} | W12: {=IF(ROW($A9)>W$2,"",INDEX('BDB2'!B$4:B$50,SMALL(IF(COUNTIF('2 QUALITES'!B$3:B$49,'BDB2'!B$4:B$50)=0,ROW(B$4:B$50)-3,""),ROW($A9))))} | X12: {=IF(ROW($A9)>X$2,"",INDEX('BDB2'!C$4:C$50,SMALL(IF(COUNTIF('2 QUALITES'!C$3:C$49,'BDB2'!C$4:C$50)=0,ROW(C$4:C$50)-3,""),ROW($A9))))} | Y12: {=IF(ROW($A9)>Y$2,"",INDEX('BDB2'!D$4:D$50,SMALL(IF(COUNTIF('2 QUALITES'!D$3:D$49,'BDB2'!D$4:D$50)=0,ROW(D$4:D$50)-3,""),ROW($A9))))} | Z12: {=IF(ROW($A9)>Z$2,"",INDEX('BDB2'!E$4:E$50,SMALL(IF(COUNTIF('2 QUALITES'!E$3:E$49,'BDB2'!E$4:E$50)=0,ROW(E$4:E$50)-3,""),ROW($A9))))} | AA12: {=IF(ROW($A9)>AA$2,"",INDEX('BDB2'!F$4:F$50,SMALL(IF(COUNTIF('2 QUALITES'!F$3:F$49,'BDB2'!F$4:F$50)=0,ROW(F$4:F$50)-3,""),ROW($A9))))} | AB12: {=IF(ROW($A9)>AB$2,"",INDEX('BDB2'!G$4:G$50,SMALL(IF(COUNTIF('2 QUALITES'!G$3:G$49,'BDB2'!G$4:G$50)=0,ROW(G$4:G$50)-3,""),ROW($A9))))} | AC12: {=IF(ROW($A9)>AC$2,"",INDEX('BDB2'!H$4:H$50,SMALL(IF(COUNTIF('2 QUALITES'!H$3:H$49,'BDB2'!H$4:H$50)=0,ROW(H$4:H$50)-3,""),ROW($A9))))} | AD12: {=IF(ROW($A9)>AD$2,"",INDEX('BDB2'!I$4:I$50,SMALL(IF(COUNTIF('2 QUALITES'!I$3:I$49,'BDB2'!I$4:I$50)=0,ROW(I$4:I$50)-3,""),ROW($A9))))} | ... AL12: {=IF(ROW($A9)>AL$2,"",INDEX('BDB2'!Q$4:Q$50,SMALL(IF(COUNTIF('2 QUALITES'!Q$3:Q$49,'BDB2'!Q$4:Q$50)=0,ROW(Q$4:Q$50)-3,""),ROW($A9))))}
B13: {=IF(ROW(A10)>B$3,"",INDEX(BDB!B$3:B$50,SMALL(IF(COUNTIF('1 COMPETENCES'!B$3:B$50,BDB!B$3:B$50)=0,ROW($B$3:$B$50)-2,""),ROW($A10))))} -> 0 | C13: {=IF(ROW(B10)>C$3,"",INDEX(BDB!C$3:C$50,SMALL(IF(COUNTIF('1 COMPETENCES'!C$3:C$50,BDB!C$3:C$50)=0,ROW($B$3:$B$50)-2,""),ROW($A10))))} -> Gagner | D13: {=IF(ROW(C10)>D$3,"",INDEX(BDB!D$3:D$50,SMALL(IF(COUNTIF('1 COMPETENCES'!D$3:D$50,BDB!D$3:D$50)=0,ROW($B$3:$B$50)-2,""),ROW($A10))))} -> Inspirer | E13: {=IF(ROW(D10)>E$3,"",INDEX(BDB!E$3:E$50,SMALL(IF(COUNTIF('1 COMPETENCES'!E$3:E$50,BDB!E$3:E$50)=0,ROW($B$3:$B$50)-2,""),ROW($A10))))} -> Répertorier | F13: {=IF(ROW(E10)>F$3,"",INDEX(BDB!F$3:F$50,SMALL(IF(COUNTIF('1 COMPETENCES'!F$3:F$50,BDB!F$3:F$50)=0,ROW($B$3:$B$50)-2,""),ROW($A10))))} | G13: {=IF(ROW(F10)>G$3,"",INDEX(BDB!G$3:G$50,SMALL(IF(COUNTIF('1 COMPETENCES'!G$3:G$50,BDB!G$3:G$50)=0,ROW($B$3:$B$50)-2,""),ROW($A10))))} -> Programmer | H13: {=IF(ROW(G10)>H$3,"",INDEX(BDB!H$3:H$50,SMALL(IF(COUNTIF('1 COMPETENCES'!H$3:H$50,BDB!H$3:H$50)=0,ROW($B$3:$B$50)-2,""),ROW($A10))))} -> Rédiger | I13: {=IF(ROW(H10)>I$3,"",INDEX(BDB!I$3:I$50,SMALL(IF(COUNTIF('1 COMPETENCES'!I$3:I$50,BDB!I$3:I$50)=0,ROW($B$3:$B$50)-2,""),ROW($A10))))} -> Lancer | ... O13: {=IF(ROW(N10)>O$3,"",INDEX(BDB!O$3:O$50,SMALL(IF(COUNTIF('1 COMPETENCES'!O$3:O$50,BDB!O$3:O$50)=0,ROW($B$3:$B$50)-2,""),ROW($A10))))} -> Préconiser | P13: {=IF(ROW(O10)>P$3,"",INDEX('1 COMPETENCES'!P$3:P$50,SMALL(IF('1 COMPETENCES'!P$3:P$50<>"",ROW($B$3:$B$50)-2),ROW($A10))))} | W13: {=IF(ROW($A10)>W$2,"",INDEX('BDB2'!B$4:B$50,SMALL(IF(COUNTIF('2 QUALITES'!B$3:B$49,'BDB2'!B$4:B$50)=0,ROW(B$4:B$50)-3,""),ROW($A10))))} | X13: {=IF(ROW($A10)>X$2,"",INDEX('BDB2'!C$4:C$50,SMALL(IF(COUNTIF('2 QUALITES'!C$3:C$49,'BDB2'!C$4:C$50)=0,ROW(C$4:C$50)-3,""),ROW($A10))))} | Y13: {=IF(ROW($A10)>Y$2,"",INDEX('BDB2'!D$4:D$50,SMALL(IF(COUNTIF('2 QUALITES'!D$3:D$49,'BDB2'!D$4:D$50)=0,ROW(D$4:D$50)-3,""),ROW($A10))))} | Z13: {=IF(ROW($A10)>Z$2,"",INDEX('BDB2'!E$4:E$50,SMALL(IF(COUNTIF('2 QUALITES'!E$3:E$49,'BDB2'!E$4:E$50)=0,ROW(E$4:E$50)-3,""),ROW($A10))))} | AA13: {=IF(ROW($A10)>AA$2,"",INDEX('BDB2'!F$4:F$50,SMALL(IF(COUNTIF('2 QUALITES'!F$3:F$49,'BDB2'!F$4:F$50)=0,ROW(F$4:F$50)-3,""),ROW($A10))))} | AB13: {=IF(ROW($A10)>AB$2,"",INDEX('BDB2'!G$4:G$50,SMALL(IF(COUNTIF('2 QUALITES'!G$3:G$49,'BDB2'!G$4:G$50)=0,ROW(G$4:G$50)-3,""),ROW($A10))))} | AC13: {=IF(ROW($A10)>AC$2,"",INDEX('BDB2'!H$4:H$50,SMALL(IF(COUNTIF('2 QUALITES'!H$3:H$49,'BDB2'!H$4:H$50)=0,ROW(H$4:H$50)-3,""),ROW($A10))))} | AD13: {=IF(ROW($A10)>AD$2,"",INDEX('BDB2'!I$4:I$50,SMALL(IF(COUNTIF('2 QUALITES'!I$3:I$49,'BDB2'!I$4:I$50)=0,ROW(I$4:I$50)-3,""),ROW($A10))))} | ... AL13: {=IF(ROW($A10)>AL$2,"",INDEX('BDB2'!Q$4:Q$50,SMALL(IF(COUNTIF('2 QUALITES'!Q$3:Q$49,'BDB2'!Q$4:Q$50)=0,ROW(Q$4:Q$50)-3,""),ROW($A10))))}
B14: {=IF(ROW(A11)>B$3,"",INDEX(BDB!B$3:B$50,SMALL(IF(COUNTIF('1 COMPETENCES'!B$3:B$50,BDB!B$3:B$50)=0,ROW($B$3:$B$50)-2,""),ROW($A11))))} -> 0 | C14: {=IF(ROW(B11)>C$3,"",INDEX(BDB!C$3:C$50,SMALL(IF(COUNTIF('1 COMPETENCES'!C$3:C$50,BDB!C$3:C$50)=0,ROW($B$3:$B$50)-2,""),ROW($A11))))} -> Investir | D14: {=IF(ROW(C11)>D$3,"",INDEX(BDB!D$3:D$50,SMALL(IF(COUNTIF('1 COMPETENCES'!D$3:D$50,BDB!D$3:D$50)=0,ROW($B$3:$B$50)-2,""),ROW($A11))))} -> Instituer | E14: {=IF(ROW(D11)>E$3,"",INDEX(BDB!E$3:E$50,SMALL(IF(COUNTIF('1 COMPETENCES'!E$3:E$50,BDB!E$3:E$50)=0,ROW($B$3:$B$50)-2,""),ROW($A11))))} | F14: {=IF(ROW(E11)>F$3,"",INDEX(BDB!F$3:F$50,SMALL(IF(COUNTIF('1 COMPETENCES'!F$3:F$50,BDB!F$3:F$50)=0,ROW($B$3:$B$50)-2,""),ROW($A11))))} | G14: {=IF(ROW(F11)>G$3,"",INDEX(BDB!G$3:G$50,SMALL(IF(COUNTIF('1 COMPETENCES'!G$3:G$50,BDB!G$3:G$50)=0,ROW($B$3:$B$50)-2,""),ROW($A11))))} -> Répartir | H14: {=IF(ROW(G11)>H$3,"",INDEX(BDB!H$3:H$50,SMALL(IF(COUNTIF('1 COMPETENCES'!H$3:H$50,BDB!H$3:H$50)=0,ROW($B$3:$B$50)-2,""),ROW($A11))))} -> Renseigner | I14: {=IF(ROW(H11)>I$3,"",INDEX(BDB!I$3:I$50,SMALL(IF(COUNTIF('1 COMPETENCES'!I$3:I$50,BDB!I$3:I$50)=0,ROW($B$3:$B$50)-2,""),ROW($A11))))} -> Progresser | ... O14: {=IF(ROW(N11)>O$3,"",INDEX(BDB!O$3:O$50,SMALL(IF(COUNTIF('1 COMPETENCES'!O$3:O$50,BDB!O$3:O$50)=0,ROW($B$3:$B$50)-2,""),ROW($A11))))} -> Proposer | P14: {=IF(ROW(O11)>P$3,"",INDEX('1 COMPETENCES'!P$3:P$50,SMALL(IF('1 COMPETENCES'!P$3:P$50<>"",ROW($B$3:$B$50)-2),ROW($A11))))} | W14: {=IF(ROW($A11)>W$2,"",INDEX('BDB2'!B$4:B$50,SMALL(IF(COUNTIF('2 QUALITES'!B$3:B$49,'BDB2'!B$4:B$50)=0,ROW(B$4:B$50)-3,""),ROW($A11))))} | X14: {=IF(ROW($A11)>X$2,"",INDEX('BDB2'!C$4:C$50,SMALL(IF(COUNTIF('2 QUALITES'!C$3:C$49,'BDB2'!C$4:C$50)=0,ROW(C$4:C$50)-3,""),ROW($A11))))} | Y14: {=IF(ROW($A11)>Y$2,"",INDEX('BDB2'!D$4:D$50,SMALL(IF(COUNTIF('2 QUALITES'!D$3:D$49,'BDB2'!D$4:D$50)=0,ROW(D$4:D$50)-3,""),ROW($A11))))} | Z14: {=IF(ROW($A11)>Z$2,"",INDEX('BDB2'!E$4:E$50,SMALL(IF(COUNTIF('2 QUALITES'!E$3:E$49,'BDB2'!E$4:E$50)=0,ROW(E$4:E$50)-3,""),ROW($A11))))} | AA14: {=IF(ROW($A11)>AA$2,"",INDEX('BDB2'!F$4:F$50,SMALL(IF(COUNTIF('2 QUALITES'!F$3:F$49,'BDB2'!F$4:F$50)=0,ROW(F$4:F$50)-3,""),ROW($A11))))} | AB14: {=IF(ROW($A11)>AB$2,"",INDEX('BDB2'!G$4:G$50,SMALL(IF(COUNTIF('2 QUALITES'!G$3:G$49,'BDB2'!G$4:G$50)=0,ROW(G$4:G$50)-3,""),ROW($A11))))} | AC14: {=IF(ROW($A11)>AC$2,"",INDEX('BDB2'!H$4:H$50,SMALL(IF(COUNTIF('2 QUALITES'!H$3:H$49,'BDB2'!H$4:H$50)=0,ROW(H$4:H$50)-3,""),ROW($A11))))} | AD14: {=IF(ROW($A11)>AD$2,"",INDEX('BDB2'!I$4:I$50,SMALL(IF(COUNTIF('2 QUALITES'!I$3:I$49,'BDB2'!I$4:I$50)=0,ROW(I$4:I$50)-3,""),ROW($A11))))} | ... AL14: {=IF(ROW($A11)>AL$2,"",INDEX('BDB2'!Q$4:Q$50,SMALL(IF(COUNTIF('2 QUALITES'!Q$3:Q$49,'BDB2'!Q$4:Q$50)=0,ROW(Q$4:Q$50)-3,""),ROW($A11))))}
B15: {=IF(ROW(A12)>B$3,"",INDEX(BDB!B$3:B$50,SMALL(IF(COUNTIF('1 COMPETENCES'!B$3:B$50,BDB!B$3:B$50)=0,ROW($B$3:$B$50)-2,""),ROW($A12))))} | C15: {=IF(ROW(B12)>C$3,"",INDEX(BDB!C$3:C$50,SMALL(IF(COUNTIF('1 COMPETENCES'!C$3:C$50,BDB!C$3:C$50)=0,ROW($B$3:$B$50)-2,""),ROW($A12))))} -> Rentabiliser | D15: {=IF(ROW(C12)>D$3,"",INDEX(BDB!D$3:D$50,SMALL(IF(COUNTIF('1 COMPETENCES'!D$3:D$50,BDB!D$3:D$50)=0,ROW($B$3:$B$50)-2,""),ROW($A12))))} -> Manager | E15: {=IF(ROW(D12)>E$3,"",INDEX(BDB!E$3:E$50,SMALL(IF(COUNTIF('1 COMPETENCES'!E$3:E$50,BDB!E$3:E$50)=0,ROW($B$3:$B$50)-2,""),ROW($A12))))} | F15: {=IF(ROW(E12)>F$3,"",INDEX(BDB!F$3:F$50,SMALL(IF(COUNTIF('1 COMPETENCES'!F$3:F$50,BDB!F$3:F$50)=0,ROW($B$3:$B$50)-2,""),ROW($A12))))} | G15: {=IF(ROW(F12)>G$3,"",INDEX(BDB!G$3:G$50,SMALL(IF(COUNTIF('1 COMPETENCES'!G$3:G$50,BDB!G$3:G$50)=0,ROW($B$3:$B$50)-2,""),ROW($A12))))} -> Structurer | H15: {=IF(ROW(G12)>H$3,"",INDEX(BDB!H$3:H$50,SMALL(IF(COUNTIF('1 COMPETENCES'!H$3:H$50,BDB!H$3:H$50)=0,ROW($B$3:$B$50)-2,""),ROW($A12))))} -> Transmettre | I15: {=IF(ROW(H12)>I$3,"",INDEX(BDB!I$3:I$50,SMALL(IF(COUNTIF('1 COMPETENCES'!I$3:I$50,BDB!I$3:I$50)=0,ROW($B$3:$B$50)-2,""),ROW($A12))))} -> Sonder | ... O15: {=IF(ROW(N12)>O$3,"",INDEX(BDB!O$3:O$50,SMALL(IF(COUNTIF('1 COMPETENCES'!O$3:O$50,BDB!O$3:O$50)=0,ROW($B$3:$B$50)-2,""),ROW($A12))))} -> Recommander | P15: {=IF(ROW(O12)>P$3,"",INDEX('1 COMPETENCES'!P$3:P$50,SMALL(IF('1 COMPETENCES'!P$3:P$50<>"",ROW($B$3:$B$50)-2),ROW($A12))))} | W15: {=IF(ROW($A12)>W$2,"",INDEX('BDB2'!B$4:B$50,SMALL(IF(COUNTIF('2 QUALITES'!B$3:B$49,'BDB2'!B$4:B$50)=0,ROW(B$4:B$50)-3,""),ROW($A12))))} | X15: {=IF(ROW($A12)>X$2,"",INDEX('BDB2'!C$4:C$50,SMALL(IF(COUNTIF('2 QUALITES'!C$3:C$49,'BDB2'!C$4:C$50)=0,ROW(C$4:C$50)-3,""),ROW($A12))))} | Y15: {=IF(ROW($A12)>Y$2,"",INDEX('BDB2'!D$4:D$50,SMALL(IF(COUNTIF('2 QUALITES'!D$3:D$49,'BDB2'!D$4:D$50)=0,ROW(D$4:D$50)-3,""),ROW($A12))))} | Z15: {=IF(ROW($A12)>Z$2,"",INDEX('BDB2'!E$4:E$50,SMALL(IF(COUNTIF('2 QUALITES'!E$3:E$49,'BDB2'!E$4:E$50)=0,ROW(E$4:E$50)-3,""),ROW($A12))))} | AA15: {=IF(ROW($A12)>AA$2,"",INDEX('BDB2'!F$4:F$50,SMALL(IF(COUNTIF('2 QUALITES'!F$3:F$49,'BDB2'!F$4:F$50)=0,ROW(F$4:F$50)-3,""),ROW($A12))))} | AB15: {=IF(ROW($A12)>AB$2,"",INDEX('BDB2'!G$4:G$50,SMALL(IF(COUNTIF('2 QUALITES'!G$3:G$49,'BDB2'!G$4:G$50)=0,ROW(G$4:G$50)-3,""),ROW($A12))))} | AC15: {=IF(ROW($A12)>AC$2,"",INDEX('BDB2'!H$4:H$50,SMALL(IF(COUNTIF('2 QUALITES'!H$3:H$49,'BDB2'!H$4:H$50)=0,ROW(H$4:H$50)-3,""),ROW($A12))))} | AD15: {=IF(ROW($A12)>AD$2,"",INDEX('BDB2'!I$4:I$50,SMALL(IF(COUNTIF('2 QUALITES'!I$3:I$49,'BDB2'!I$4:I$50)=0,ROW(I$4:I$50)-3,""),ROW($A12))))} | ... AL15: {=IF(ROW($A12)>AL$2,"",INDEX('BDB2'!Q$4:Q$50,SMALL(IF(COUNTIF('2 QUALITES'!Q$3:Q$49,'BDB2'!Q$4:Q$50)=0,ROW(Q$4:Q$50)-3,""),ROW($A12))))}
B16: {=IF(ROW(A13)>B$3,"",INDEX(BDB!B$3:B$50,SMALL(IF(COUNTIF('1 COMPETENCES'!B$3:B$50,BDB!B$3:B$50)=0,ROW($B$3:$B$50)-2,""),ROW($A13))))} | C16: {=IF(ROW(B13)>C$3,"",INDEX(BDB!C$3:C$50,SMALL(IF(COUNTIF('1 COMPETENCES'!C$3:C$50,BDB!C$3:C$50)=0,ROW($B$3:$B$50)-2,""),ROW($A13))))} -> 0 | D16: {=IF(ROW(C13)>D$3,"",INDEX(BDB!D$3:D$50,SMALL(IF(COUNTIF('1 COMPETENCES'!D$3:D$50,BDB!D$3:D$50)=0,ROW($B$3:$B$50)-2,""),ROW($A13))))} -> Piloter | E16: {=IF(ROW(D13)>E$3,"",INDEX(BDB!E$3:E$50,SMALL(IF(COUNTIF('1 COMPETENCES'!E$3:E$50,BDB!E$3:E$50)=0,ROW($B$3:$B$50)-2,""),ROW($A13))))} | F16: {=IF(ROW(E13)>F$3,"",INDEX(BDB!F$3:F$50,SMALL(IF(COUNTIF('1 COMPETENCES'!F$3:F$50,BDB!F$3:F$50)=0,ROW($B$3:$B$50)-2,""),ROW($A13))))} | G16: {=IF(ROW(F13)>G$3,"",INDEX(BDB!G$3:G$50,SMALL(IF(COUNTIF('1 COMPETENCES'!G$3:G$50,BDB!G$3:G$50)=0,ROW($B$3:$B$50)-2,""),ROW($A13))))} | H16: {=IF(ROW(G13)>H$3,"",INDEX(BDB!H$3:H$50,SMALL(IF(COUNTIF('1 COMPETENCES'!H$3:H$50,BDB!H$3:H$50)=0,ROW($B$3:$B$50)-2,""),ROW($A13))))} | I16: {=IF(ROW(H13)>I$3,"",INDEX(BDB!I$3:I$50,SMALL(IF(COUNTIF('1 COMPETENCES'!I$3:I$50,BDB!I$3:I$50)=0,ROW($B$3:$B$50)-2,""),ROW($A13))))} | ... O16: {=IF(ROW(N13)>O$3,"",INDEX(BDB!O$3:O$50,SMALL(IF(COUNTIF('1 COMPETENCES'!O$3:O$50,BDB!O$3:O$50)=0,ROW($B$3:$B$50)-2,""),ROW($A13))))} | P16: {=IF(ROW(O13)>P$3,"",INDEX('1 COMPETENCES'!P$3:P$50,SMALL(IF('1 COMPETENCES'!P$3:P$50<>"",ROW($B$3:$B$50)-2),ROW($A13))))} | W16: {=IF(ROW($A13)>W$2,"",INDEX('BDB2'!B$4:B$50,SMALL(IF(COUNTIF('2 QUALITES'!B$3:B$49,'BDB2'!B$4:B$50)=0,ROW(B$4:B$50)-3,""),ROW($A13))))} | X16: {=IF(ROW($A13)>X$2,"",INDEX('BDB2'!C$4:C$50,SMALL(IF(COUNTIF('2 QUALITES'!C$3:C$49,'BDB2'!C$4:C$50)=0,ROW(C$4:C$50)-3,""),ROW($A13))))} | Y16: {=IF(ROW($A13)>Y$2,"",INDEX('BDB2'!D$4:D$50,SMALL(IF(COUNTIF('2 QUALITES'!D$3:D$49,'BDB2'!D$4:D$50)=0,ROW(D$4:D$50)-3,""),ROW($A13))))} | Z16: {=IF(ROW($A13)>Z$2,"",INDEX('BDB2'!E$4:E$50,SMALL(IF(COUNTIF('2 QUALITES'!E$3:E$49,'BDB2'!E$4:E$50)=0,ROW(E$4:E$50)-3,""),ROW($A13))))} | AA16: {=IF(ROW($A13)>AA$2,"",INDEX('BDB2'!F$4:F$50,SMALL(IF(COUNTIF('2 QUALITES'!F$3:F$49,'BDB2'!F$4:F$50)=0,ROW(F$4:F$50)-3,""),ROW($A13))))} | AB16: {=IF(ROW($A13)>AB$2,"",INDEX('BDB2'!G$4:G$50,SMALL(IF(COUNTIF('2 QUALITES'!G$3:G$49,'BDB2'!G$4:G$50)=0,ROW(G$4:G$50)-3,""),ROW($A13))))} | AC16: {=IF(ROW($A13)>AC$2,"",INDEX('BDB2'!H$4:H$50,SMALL(IF(COUNTIF('2 QUALITES'!H$3:H$49,'BDB2'!H$4:H$50)=0,ROW(H$4:H$50)-3,""),ROW($A13))))} | AD16: {=IF(ROW($A13)>AD$2,"",INDEX('BDB2'!I$4:I$50,SMALL(IF(COUNTIF('2 QUALITES'!I$3:I$49,'BDB2'!I$4:I$50)=0,ROW(I$4:I$50)-3,""),ROW($A13))))} | ... AL16: {=IF(ROW($A13)>AL$2,"",INDEX('BDB2'!Q$4:Q$50,SMALL(IF(COUNTIF('2 QUALITES'!Q$3:Q$49,'BDB2'!Q$4:Q$50)=0,ROW(Q$4:Q$50)-3,""),ROW($A13))))}
B17: {=IF(ROW(A14)>B$3,"",INDEX(BDB!B$3:B$50,SMALL(IF(COUNTIF('1 COMPETENCES'!B$3:B$50,BDB!B$3:B$50)=0,ROW($B$3:$B$50)-2,""),ROW($A14))))} | C17: {=IF(ROW(B14)>C$3,"",INDEX(BDB!C$3:C$50,SMALL(IF(COUNTIF('1 COMPETENCES'!C$3:C$50,BDB!C$3:C$50)=0,ROW($B$3:$B$50)-2,""),ROW($A14))))} -> 0 | D17: {=IF(ROW(C14)>D$3,"",INDEX(BDB!D$3:D$50,SMALL(IF(COUNTIF('1 COMPETENCES'!D$3:D$50,BDB!D$3:D$50)=0,ROW($B$3:$B$50)-2,""),ROW($A14))))} -> Présider | E17: {=IF(ROW(D14)>E$3,"",INDEX(BDB!E$3:E$50,SMALL(IF(COUNTIF('1 COMPETENCES'!E$3:E$50,BDB!E$3:E$50)=0,ROW($B$3:$B$50)-2,""),ROW($A14))))} | F17: {=IF(ROW(E14)>F$3,"",INDEX(BDB!F$3:F$50,SMALL(IF(COUNTIF('1 COMPETENCES'!F$3:F$50,BDB!F$3:F$50)=0,ROW($B$3:$B$50)-2,""),ROW($A14))))} | G17: {=IF(ROW(F14)>G$3,"",INDEX(BDB!G$3:G$50,SMALL(IF(COUNTIF('1 COMPETENCES'!G$3:G$50,BDB!G$3:G$50)=0,ROW($B$3:$B$50)-2,""),ROW($A14))))} | H17: {=IF(ROW(G14)>H$3,"",INDEX(BDB!H$3:H$50,SMALL(IF(COUNTIF('1 COMPETENCES'!H$3:H$50,BDB!H$3:H$50)=0,ROW($B$3:$B$50)-2,""),ROW($A14))))} | I17: {=IF(ROW(H14)>I$3,"",INDEX(BDB!I$3:I$50,SMALL(IF(COUNTIF('1 COMPETENCES'!I$3:I$50,BDB!I$3:I$50)=0,ROW($B$3:$B$50)-2,""),ROW($A14))))} | ... O17: {=IF(ROW(N14)>O$3,"",INDEX(BDB!O$3:O$50,SMALL(IF(COUNTIF('1 COMPETENCES'!O$3:O$50,BDB!O$3:O$50)=0,ROW($B$3:$B$50)-2,""),ROW($A14))))} | P17: {=IF(ROW(O14)>P$3,"",INDEX('1 COMPETENCES'!P$3:P$50,SMALL(IF('1 COMPETENCES'!P$3:P$50<>"",ROW($B$3:$B$50)-2),ROW($A14))))} | W17: {=IF(ROW($A14)>W$2,"",INDEX('BDB2'!B$4:B$50,SMALL(IF(COUNTIF('2 QUALITES'!B$3:B$49,'BDB2'!B$4:B$50)=0,ROW(B$4:B$50)-3,""),ROW($A14))))} | X17: {=IF(ROW($A14)>X$2,"",INDEX('BDB2'!C$4:C$50,SMALL(IF(COUNTIF('2 QUALITES'!C$3:C$49,'BDB2'!C$4:C$50)=0,ROW(C$4:C$50)-3,""),ROW($A14))))} | Y17: {=IF(ROW($A14)>Y$2,"",INDEX('BDB2'!D$4:D$50,SMALL(IF(COUNTIF('2 QUALITES'!D$3:D$49,'BDB2'!D$4:D$50)=0,ROW(D$4:D$50)-3,""),ROW($A14))))} | Z17: {=IF(ROW($A14)>Z$2,"",INDEX('BDB2'!E$4:E$50,SMALL(IF(COUNTIF('2 QUALITES'!E$3:E$49,'BDB2'!E$4:E$50)=0,ROW(E$4:E$50)-3,""),ROW($A14))))} | AA17: {=IF(ROW($A14)>AA$2,"",INDEX('BDB2'!F$4:F$50,SMALL(IF(COUNTIF('2 QUALITES'!F$3:F$49,'BDB2'!F$4:F$50)=0,ROW(F$4:F$50)-3,""),ROW($A14))))} | AB17: {=IF(ROW($A14)>AB$2,"",INDEX('BDB2'!G$4:G$50,SMALL(IF(COUNTIF('2 QUALITES'!G$3:G$49,'BDB2'!G$4:G$50)=0,ROW(G$4:G$50)-3,""),ROW($A14))))} | AC17: {=IF(ROW($A14)>AC$2,"",INDEX('BDB2'!H$4:H$50,SMALL(IF(COUNTIF('2 QUALITES'!H$3:H$49,'BDB2'!H$4:H$50)=0,ROW(H$4:H$50)-3,""),ROW($A14))))} | AD17: {=IF(ROW($A14)>AD$2,"",INDEX('BDB2'!I$4:I$50,SMALL(IF(COUNTIF('2 QUALITES'!I$3:I$49,'BDB2'!I$4:I$50)=0,ROW(I$4:I$50)-3,""),ROW($A14))))} | ... AL17: {=IF(ROW($A14)>AL$2,"",INDEX('BDB2'!Q$4:Q$50,SMALL(IF(COUNTIF('2 QUALITES'!Q$3:Q$49,'BDB2'!Q$4:Q$50)=0,ROW(Q$4:Q$50)-3,""),ROW($A14))))}
B18: {=IF(ROW(A15)>B$3,"",INDEX(BDB!B$3:B$50,SMALL(IF(COUNTIF('1 COMPETENCES'!B$3:B$50,BDB!B$3:B$50)=0,ROW($B$3:$B$50)-2,""),ROW($A15))))} | C18: {=IF(ROW(B15)>C$3,"",INDEX(BDB!C$3:C$50,SMALL(IF(COUNTIF('1 COMPETENCES'!C$3:C$50,BDB!C$3:C$50)=0,ROW($B$3:$B$50)-2,""),ROW($A15))))} | D18: {=IF(ROW(C15)>D$3,"",INDEX(BDB!D$3:D$50,SMALL(IF(COUNTIF('1 COMPETENCES'!D$3:D$50,BDB!D$3:D$50)=0,ROW($B$3:$B$50)-2,""),ROW($A15))))} | E18: {=IF(ROW(D15)>E$3,"",INDEX(BDB!E$3:E$50,SMALL(IF(COUNTIF('1 COMPETENCES'!E$3:E$50,BDB!E$3:E$50)=0,ROW($B$3:$B$50)-2,""),ROW($A15))))} | F18: {=IF(ROW(E15)>F$3,"",INDEX(BDB!F$3:F$50,SMALL(IF(COUNTIF('1 COMPETENCES'!F$3:F$50,BDB!F$3:F$50)=0,ROW($B$3:$B$50)-2,""),ROW($A15))))} | G18: {=IF(ROW(F15)>G$3,"",INDEX(BDB!G$3:G$50,SMALL(IF(COUNTIF('1 COMPETENCES'!G$3:G$50,BDB!G$3:G$50)=0,ROW($B$3:$B$50)-2,""),ROW($A15))))} | H18: {=IF(ROW(G15)>H$3,"",INDEX(BDB!H$3:H$50,SMALL(IF(COUNTIF('1 COMPETENCES'!H$3:H$50,BDB!H$3:H$50)=0,ROW($B$3:$B$50)-2,""),ROW($A15))))} | I18: {=IF(ROW(H15)>I$3,"",INDEX(BDB!I$3:I$50,SMALL(IF(COUNTIF('1 COMPETENCES'!I$3:I$50,BDB!I$3:I$50)=0,ROW($B$3:$B$50)-2,""),ROW($A15))))} | ... O18: {=IF(ROW(N15)>O$3,"",INDEX(BDB!O$3:O$50,SMALL(IF(COUNTIF('1 COMPETENCES'!O$3:O$50,BDB!O$3:O$50)=0,ROW($B$3:$B$50)-2,""),ROW($A15))))} | P18: {=IF(ROW(O15)>P$3,"",INDEX('1 COMPETENCES'!P$3:P$50,SMALL(IF('1 COMPETENCES'!P$3:P$50<>"",ROW($B$3:$B$50)-2),ROW($A15))))} | W18: {=IF(ROW($A15)>W$2,"",INDEX('BDB2'!B$4:B$50,SMALL(IF(COUNTIF('2 QUALITES'!B$3:B$49,'BDB2'!B$4:B$50)=0,ROW(B$4:B$50)-3,""),ROW($A15))))} | X18: {=IF(ROW($A15)>X$2,"",INDEX('BDB2'!C$4:C$50,SMALL(IF(COUNTIF('2 QUALITES'!C$3:C$49,'BDB2'!C$4:C$50)=0,ROW(C$4:C$50)-3,""),ROW($A15))))} | Y18: {=IF(ROW($A15)>Y$2,"",INDEX('BDB2'!D$4:D$50,SMALL(IF(COUNTIF('2 QUALITES'!D$3:D$49,'BDB2'!D$4:D$50)=0,ROW(D$4:D$50)-3,""),ROW($A15))))} | Z18: {=IF(ROW($A15)>Z$2,"",INDEX('BDB2'!E$4:E$50,SMALL(IF(COUNTIF('2 QUALITES'!E$3:E$49,'BDB2'!E$4:E$50)=0,ROW(E$4:E$50)-3,""),ROW($A15))))} | AA18: {=IF(ROW($A15)>AA$2,"",INDEX('BDB2'!F$4:F$50,SMALL(IF(COUNTIF('2 QUALITES'!F$3:F$49,'BDB2'!F$4:F$50)=0,ROW(F$4:F$50)-3,""),ROW($A15))))} | AB18: {=IF(ROW($A15)>AB$2,"",INDEX('BDB2'!G$4:G$50,SMALL(IF(COUNTIF('2 QUALITES'!G$3:G$49,'BDB2'!G$4:G$50)=0,ROW(G$4:G$50)-3,""),ROW($A15))))} | AC18: {=IF(ROW($A15)>AC$2,"",INDEX('BDB2'!H$4:H$50,SMALL(IF(COUNTIF('2 QUALITES'!H$3:H$49,'BDB2'!H$4:H$50)=0,ROW(H$4:H$50)-3,""),ROW($A15))))} | AD18: {=IF(ROW($A15)>AD$2,"",INDEX('BDB2'!I$4:I$50,SMALL(IF(COUNTIF('2 QUALITES'!I$3:I$49,'BDB2'!I$4:I$50)=0,ROW(I$4:I$50)-3,""),ROW($A15))))} | ... AL18: {=IF(ROW($A15)>AL$2,"",INDEX('BDB2'!Q$4:Q$50,SMALL(IF(COUNTIF('2 QUALITES'!Q$3:Q$49,'BDB2'!Q$4:Q$50)=0,ROW(Q$4:Q$50)-3,""),ROW($A15))))}
B19: {=IF(ROW(A16)>B$3,"",INDEX(BDB!B$3:B$50,SMALL(IF(COUNTIF('1 COMPETENCES'!B$3:B$50,BDB!B$3:B$50)=0,ROW($B$3:$B$50)-2,""),ROW($A16))))} | C19: {=IF(ROW(B16)>C$3,"",INDEX(BDB!C$3:C$50,SMALL(IF(COUNTIF('1 COMPETENCES'!C$3:C$50,BDB!C$3:C$50)=0,ROW($B$3:$B$50)-2,""),ROW($A16))))} | D19: {=IF(ROW(C16)>D$3,"",INDEX(BDB!D$3:D$50,SMALL(IF(COUNTIF('1 COMPETENCES'!D$3:D$50,BDB!D$3:D$50)=0,ROW($B$3:$B$50)-2,""),ROW($A16))))} | E19: {=IF(ROW(D16)>E$3,"",INDEX(BDB!E$3:E$50,SMALL(IF(COUNTIF('1 COMPETENCES'!E$3:E$50,BDB!E$3:E$50)=0,ROW($B$3:$B$50)-2,""),ROW($A16))))} | F19: {=IF(ROW(E16)>F$3,"",INDEX(BDB!F$3:F$50,SMALL(IF(COUNTIF('1 COMPETENCES'!F$3:F$50,BDB!F$3:F$50)=0,ROW($B$3:$B$50)-2,""),ROW($A16))))} | G19: {=IF(ROW(F16)>G$3,"",INDEX(BDB!G$3:G$50,SMALL(IF(COUNTIF('1 COMPETENCES'!G$3:G$50,BDB!G$3:G$50)=0,ROW($B$3:$B$50)-2,""),ROW($A16))))} | H19: {=IF(ROW(G16)>H$3,"",INDEX(BDB!H$3:H$50,SMALL(IF(COUNTIF('1 COMPETENCES'!H$3:H$50,BDB!H$3:H$50)=0,ROW($B$3:$B$50)-2,""),ROW($A16))))} | I19: {=IF(ROW(H16)>I$3,"",INDEX(BDB!I$3:I$50,SMALL(IF(COUNTIF('1 COMPETENCES'!I$3:I$50,BDB!I$3:I$50)=0,ROW($B$3:$B$50)-2,""),ROW($A16))))} | ... O19: {=IF(ROW(N16)>O$3,"",INDEX(BDB!O$3:O$50,SMALL(IF(COUNTIF('1 COMPETENCES'!O$3:O$50,BDB!O$3:O$50)=0,ROW($B$3:$B$50)-2,""),ROW($A16))))} | P19: {=IF(ROW(O16)>P$3,"",INDEX('1 COMPETENCES'!P$3:P$50,SMALL(IF('1 COMPETENCES'!P$3:P$50<>"",ROW($B$3:$B$50)-2),ROW($A16))))} | W19: {=IF(ROW($A16)>W$2,"",INDEX('BDB2'!B$4:B$50,SMALL(IF(COUNTIF('2 QUALITES'!B$3:B$49,'BDB2'!B$4:B$50)=0,ROW(B$4:B$50)-3,""),ROW($A16))))} | X19: {=IF(ROW($A16)>X$2,"",INDEX('BDB2'!C$4:C$50,SMALL(IF(COUNTIF('2 QUALITES'!C$3:C$49,'BDB2'!C$4:C$50)=0,ROW(C$4:C$50)-3,""),ROW($A16))))} | Y19: {=IF(ROW($A16)>Y$2,"",INDEX('BDB2'!D$4:D$50,SMALL(IF(COUNTIF('2 QUALITES'!D$3:D$49,'BDB2'!D$4:D$50)=0,ROW(D$4:D$50)-3,""),ROW($A16))))} | Z19: {=IF(ROW($A16)>Z$2,"",INDEX('BDB2'!E$4:E$50,SMALL(IF(COUNTIF('2 QUALITES'!E$3:E$49,'BDB2'!E$4:E$50)=0,ROW(E$4:E$50)-3,""),ROW($A16))))} | AA19: {=IF(ROW($A16)>AA$2,"",INDEX('BDB2'!F$4:F$50,SMALL(IF(COUNTIF('2 QUALITES'!F$3:F$49,'BDB2'!F$4:F$50)=0,ROW(F$4:F$50)-3,""),ROW($A16))))} | AB19: {=IF(ROW($A16)>AB$2,"",INDEX('BDB2'!G$4:G$50,SMALL(IF(COUNTIF('2 QUALITES'!G$3:G$49,'BDB2'!G$4:G$50)=0,ROW(G$4:G$50)-3,""),ROW($A16))))} | AC19: {=IF(ROW($A16)>AC$2,"",INDEX('BDB2'!H$4:H$50,SMALL(IF(COUNTIF('2 QUALITES'!H$3:H$49,'BDB2'!H$4:H$50)=0,ROW(H$4:H$50)-3,""),ROW($A16))))} | AD19: {=IF(ROW($A16)>AD$2,"",INDEX('BDB2'!I$4:I$50,SMALL(IF(COUNTIF('2 QUALITES'!I$3:I$49,'BDB2'!I$4:I$50)=0,ROW(I$4:I$50)-3,""),ROW($A16))))} | ... AL19: {=IF(ROW($A16)>AL$2,"",INDEX('BDB2'!Q$4:Q$50,SMALL(IF(COUNTIF('2 QUALITES'!Q$3:Q$49,'BDB2'!Q$4:Q$50)=0,ROW(Q$4:Q$50)-3,""),ROW($A16))))}
B20: {=IF(ROW(A17)>B$3,"",INDEX(BDB!B$3:B$50,SMALL(IF(COUNTIF('1 COMPETENCES'!B$3:B$50,BDB!B$3:B$50)=0,ROW($B$3:$B$50)-2,""),ROW($A17))))} | C20: {=IF(ROW(B17)>C$3,"",INDEX(BDB!C$3:C$50,SMALL(IF(COUNTIF('1 COMPETENCES'!C$3:C$50,BDB!C$3:C$50)=0,ROW($B$3:$B$50)-2,""),ROW($A17))))} | D20: {=IF(ROW(C17)>D$3,"",INDEX(BDB!D$3:D$50,SMALL(IF(COUNTIF('1 COMPETENCES'!D$3:D$50,BDB!D$3:D$50)=0,ROW($B$3:$B$50)-2,""),ROW($A17))))} | E20: {=IF(ROW(D17)>E$3,"",INDEX(BDB!E$3:E$50,SMALL(IF(COUNTIF('1 COMPETENCES'!E$3:E$50,BDB!E$3:E$50)=0,ROW($B$3:$B$50)-2,""),ROW($A17))))} | F20: {=IF(ROW(E17)>F$3,"",INDEX(BDB!F$3:F$50,SMALL(IF(COUNTIF('1 COMPETENCES'!F$3:F$50,BDB!F$3:F$50)=0,ROW($B$3:$B$50)-2,""),ROW($A17))))} | G20: {=IF(ROW(F17)>G$3,"",INDEX(BDB!G$3:G$50,SMALL(IF(COUNTIF('1 COMPETENCES'!G$3:G$50,BDB!G$3:G$50)=0,ROW($B$3:$B$50)-2,""),ROW($A17))))} | H20: {=IF(ROW(G17)>H$3,"",INDEX(BDB!H$3:H$50,SMALL(IF(COUNTIF('1 COMPETENCES'!H$3:H$50,BDB!H$3:H$50)=0,ROW($B$3:$B$50)-2,""),ROW($A17))))} | I20: {=IF(ROW(H17)>I$3,"",INDEX(BDB!I$3:I$50,SMALL(IF(COUNTIF('1 COMPETENCES'!I$3:I$50,BDB!I$3:I$50)=0,ROW($B$3:$B$50)-2,""),ROW($A17))))} | ... O20: {=IF(ROW(N17)>O$3,"",INDEX(BDB!O$3:O$50,SMALL(IF(COUNTIF('1 COMPETENCES'!O$3:O$50,BDB!O$3:O$50)=0,ROW($B$3:$B$50)-2,""),ROW($A17))))} | P20: {=IF(ROW(O17)>P$3,"",INDEX('1 COMPETENCES'!P$3:P$50,SMALL(IF('1 COMPETENCES'!P$3:P$50<>"",ROW($B$3:$B$50)-2),ROW($A17))))} | W20: {=IF(ROW($A17)>W$2,"",INDEX('BDB2'!B$4:B$50,SMALL(IF(COUNTIF('2 QUALITES'!B$3:B$49,'BDB2'!B$4:B$50)=0,ROW(B$4:B$50)-3,""),ROW($A17))))} | X20: {=IF(ROW($A17)>X$2,"",INDEX('BDB2'!C$4:C$50,SMALL(IF(COUNTIF('2 QUALITES'!C$3:C$49,'BDB2'!C$4:C$50)=0,ROW(C$4:C$50)-3,""),ROW($A17))))} | Y20: {=IF(ROW($A17)>Y$2,"",INDEX('BDB2'!D$4:D$50,SMALL(IF(COUNTIF('2 QUALITES'!D$3:D$49,'BDB2'!D$4:D$50)=0,ROW(D$4:D$50)-3,""),ROW($A17))))} | Z20: {=IF(ROW($A17)>Z$2,"",INDEX('BDB2'!E$4:E$50,SMALL(IF(COUNTIF('2 QUALITES'!E$3:E$49,'BDB2'!E$4:E$50)=0,ROW(E$4:E$50)-3,""),ROW($A17))))} | AA20: {=IF(ROW($A17)>AA$2,"",INDEX('BDB2'!F$4:F$50,SMALL(IF(COUNTIF('2 QUALITES'!F$3:F$49,'BDB2'!F$4:F$50)=0,ROW(F$4:F$50)-3,""),ROW($A17))))} | AB20: {=IF(ROW($A17)>AB$2,"",INDEX('BDB2'!G$4:G$50,SMALL(IF(COUNTIF('2 QUALITES'!G$3:G$49,'BDB2'!G$4:G$50)=0,ROW(G$4:G$50)-3,""),ROW($A17))))} | AC20: {=IF(ROW($A17)>AC$2,"",INDEX('BDB2'!H$4:H$50,SMALL(IF(COUNTIF('2 QUALITES'!H$3:H$49,'BDB2'!H$4:H$50)=0,ROW(H$4:H$50)-3,""),ROW($A17))))} | AD20: {=IF(ROW($A17)>AD$2,"",INDEX('BDB2'!I$4:I$50,SMALL(IF(COUNTIF('2 QUALITES'!I$3:I$49,'BDB2'!I$4:I$50)=0,ROW(I$4:I$50)-3,""),ROW($A17))))} | ... AL20: {=IF(ROW($A17)>AL$2,"",INDEX('BDB2'!Q$4:Q$50,SMALL(IF(COUNTIF('2 QUALITES'!Q$3:Q$49,'BDB2'!Q$4:Q$50)=0,ROW(Q$4:Q$50)-3,""),ROW($A17))))}
B21: {=IF(ROW(A18)>B$3,"",INDEX(BDB!B$3:B$50,SMALL(IF(COUNTIF('1 COMPETENCES'!B$3:B$50,BDB!B$3:B$50)=0,ROW($B$3:$B$50)-2,""),ROW($A18))))} | C21: {=IF(ROW(B18)>C$3,"",INDEX(BDB!C$3:C$50,SMALL(IF(COUNTIF('1 COMPETENCES'!C$3:C$50,BDB!C$3:C$50)=0,ROW($B$3:$B$50)-2,""),ROW($A18))))} | D21: {=IF(ROW(C18)>D$3,"",INDEX(BDB!D$3:D$50,SMALL(IF(COUNTIF('1 COMPETENCES'!D$3:D$50,BDB!D$3:D$50)=0,ROW($B$3:$B$50)-2,""),ROW($A18))))} | E21: {=IF(ROW(D18)>E$3,"",INDEX(BDB!E$3:E$50,SMALL(IF(COUNTIF('1 COMPETENCES'!E$3:E$50,BDB!E$3:E$50)=0,ROW($B$3:$B$50)-2,""),ROW($A18))))} | F21: {=IF(ROW(E18)>F$3,"",INDEX(BDB!F$3:F$50,SMALL(IF(COUNTIF('1 COMPETENCES'!F$3:F$50,BDB!F$3:F$50)=0,ROW($B$3:$B$50)-2,""),ROW($A18))))} | G21: {=IF(ROW(F18)>G$3,"",INDEX(BDB!G$3:G$50,SMALL(IF(COUNTIF('1 COMPETENCES'!G$3:G$50,BDB!G$3:G$50)=0,ROW($B$3:$B$50)-2,""),ROW($A18))))} | H21: {=IF(ROW(G18)>H$3,"",INDEX(BDB!H$3:H$50,SMALL(IF(COUNTIF('1 COMPETENCES'!H$3:H$50,BDB!H$3:H$50)=0,ROW($B$3:$B$50)-2,""),ROW($A18))))} | I21: {=IF(ROW(H18)>I$3,"",INDEX(BDB!I$3:I$50,SMALL(IF(COUNTIF('1 COMPETENCES'!I$3:I$50,BDB!I$3:I$50)=0,ROW($B$3:$B$50)-2,""),ROW($A18))))} | ... O21: {=IF(ROW(N18)>O$3,"",INDEX(BDB!O$3:O$50,SMALL(IF(COUNTIF('1 COMPETENCES'!O$3:O$50,BDB!O$3:O$50)=0,ROW($B$3:$B$50)-2,""),ROW($A18))))} | P21: {=IF(ROW(O18)>P$3,"",INDEX('1 COMPETENCES'!P$3:P$50,SMALL(IF('1 COMPETENCES'!P$3:P$50<>"",ROW($B$3:$B$50)-2),ROW($A18))))} | W21: {=IF(ROW($A18)>W$2,"",INDEX('BDB2'!B$4:B$50,SMALL(IF(COUNTIF('2 QUALITES'!B$3:B$49,'BDB2'!B$4:B$50)=0,ROW(B$4:B$50)-3,""),ROW($A18))))} | X21: {=IF(ROW($A18)>X$2,"",INDEX('BDB2'!C$4:C$50,SMALL(IF(COUNTIF('2 QUALITES'!C$3:C$49,'BDB2'!C$4:C$50)=0,ROW(C$4:C$50)-3,""),ROW($A18))))} | Y21: {=IF(ROW($A18)>Y$2,"",INDEX('BDB2'!D$4:D$50,SMALL(IF(COUNTIF('2 QUALITES'!D$3:D$49,'BDB2'!D$4:D$50)=0,ROW(D$4:D$50)-3,""),ROW($A18))))} | Z21: {=IF(ROW($A18)>Z$2,"",INDEX('BDB2'!E$4:E$50,SMALL(IF(COUNTIF('2 QUALITES'!E$3:E$49,'BDB2'!E$4:E$50)=0,ROW(E$4:E$50)-3,""),ROW($A18))))} | AA21: {=IF(ROW($A18)>AA$2,"",INDEX('BDB2'!F$4:F$50,SMALL(IF(COUNTIF('2 QUALITES'!F$3:F$49,'BDB2'!F$4:F$50)=0,ROW(F$4:F$50)-3,""),ROW($A18))))} | AB21: {=IF(ROW($A18)>AB$2,"",INDEX('BDB2'!G$4:G$50,SMALL(IF(COUNTIF('2 QUALITES'!G$3:G$49,'BDB2'!G$4:G$50)=0,ROW(G$4:G$50)-3,""),ROW($A18))))} | AC21: {=IF(ROW($A18)>AC$2,"",INDEX('BDB2'!H$4:H$50,SMALL(IF(COUNTIF('2 QUALITES'!H$3:H$49,'BDB2'!H$4:H$50)=0,ROW(H$4:H$50)-3,""),ROW($A18))))} | AD21: {=IF(ROW($A18)>AD$2,"",INDEX('BDB2'!I$4:I$50,SMALL(IF(COUNTIF('2 QUALITES'!I$3:I$49,'BDB2'!I$4:I$50)=0,ROW(I$4:I$50)-3,""),ROW($A18))))} | ... AL21: {=IF(ROW($A18)>AL$2,"",INDEX('BDB2'!Q$4:Q$50,SMALL(IF(COUNTIF('2 QUALITES'!Q$3:Q$49,'BDB2'!Q$4:Q$50)=0,ROW(Q$4:Q$50)-3,""),ROW($A18))))}
