Workbook

Sheet Inventaire
A3: Code Produit | B3: Cat | C3: Date du controle | D3: Limite de stock (kg) | E3: Quantité actuelle | F3: Qté dernier controle | G3: Diff mini stock | H3: Diff inventaire | I3: Prochain controle
A4: 001ATG | B4: =VLOOKUP(A4,Produkte!$A:$AB,4,FALSE) -> B | C4: 43849 | D4: =VLOOKUP(A4,Produkte!$A:$AB,3,FALSE) -> 150 | E4: 180 | G4: =E4-D4 -> 30 | I4: =IF(B4="A",C4+30,IF(B4="B",C4+92,IF(B4="C",C4+360))) -> 43941
A5: 006KTO | B5: =VLOOKUP(A5,Produkte!$A:$AB,4,FALSE) -> A | C5: 43849 | D5: =VLOOKUP(A5,Produkte!$A:$AB,3,FALSE) -> 400 | E5: 450 | G5: =E5-D5 -> 50 | I5: =IF(B5="A",C5+30,IF(B5="B",C5+92,IF(B5="C",C5+360))) -> 43879
A6: 003NLO | B6: =VLOOKUP(A6,Produkte!$A:$AB,4,FALSE) -> C | C6: 43850 | D6: =VLOOKUP(A6,Produkte!$A:$AB,3,FALSE) -> 70 | E6: 71 | G6: =E6-D6 -> 1 | I6: =IF(B6="A",C6+30,IF(B6="B",C6+92,IF(B6="C",C6+360))) -> 44210
A7: 002ATG | B7: =VLOOKUP(A7,Produkte!$A:$AB,4,FALSE) -> B | C7: 43850 | D7: =VLOOKUP(A7,Produkte!$A:$AB,3,FALSE) -> 150 | E7: 165 | G7: =E7-D7 -> 15 | I7: =IF(B7="A",C7+30,IF(B7="B",C7+92,IF(B7="C",C7+360))) -> 43942
A8: 008RNA | B8: =VLOOKUP(A8,Produkte!$A:$AB,4,FALSE) -> C | C8: 43863 | D8: =VLOOKUP(A8,Produkte!$A:$AB,3,FALSE) -> 20 | E8: 25 | G8: =E8-D8 -> 5 | I8: =IF(B8="A",C8+30,IF(B8="B",C8+92,IF(B8="C",C8+360))) -> 44223
A9: 009FAG | B9: =VLOOKUP(A9,Produkte!$A:$AB,4,FALSE) -> A | C9: 43864 | D9: =VLOOKUP(A9,Produkte!$A:$AB,3,FALSE) -> 230 | E9: 120 | G9: =E9-D9 -> -110 | I9: =IF(B9="A",C9+30,IF(B9="B",C9+92,IF(B9="C",C9+360))) -> 43894
A10: 010FAG | B10: =VLOOKUP(A10,Produkte!$A:$AB,4,FALSE) -> C | C10: 43864 | D10: =VLOOKUP(A10,Produkte!$A:$AB,3,FALSE) -> 40 | E10: 20 | G10: =E10-D10 -> -20 | I10: =IF(B10="A",C10+30,IF(B10="B",C10+92,IF(B10="C",C10+360))) -> 44224
A11: 006KTO | B11: =VLOOKUP(A11,Produkte!$A:$AB,4,FALSE) -> A | C11: 43879 | D11: =VLOOKUP(A11,Produkte!$A:$AB,3,FALSE) -> 400 | E11: 310 | G11: =E11-D11 -> -90 | I11: =IF(B11="A",C11+30,IF(B11="B",C11+92,IF(B11="C",C11+360))) -> 43909
A12: 009FAG | B12: =VLOOKUP(A12,Produkte!$A:$AB,4,FALSE) -> A | C12: 43894 | D12: =VLOOKUP(A12,Produkte!$A:$AB,3,FALSE) -> 230 | E12: 240 | G12: =E12-D12 -> 10 | I12: =IF(B12="A",C12+30,IF(B12="B",C12+92,IF(B12="C",C12+360))) -> 43924
A13: 001ATG | B13: =VLOOKUP(A13,Produkte!$A:$AB,4,FALSE) -> B | C13: 43941 | D13: =VLOOKUP(A13,Produkte!$A:$AB,3,FALSE) -> 150 | E13: 110 | F13: {=LOOKUP(9,1/(A1:A100="Code Produit"),(D1:D100))} -> Limite de stock (kg) | G13: =E13-D13 -> -40 | I13: =IF(B13="A",C13+30,IF(B13="B",C13+92,IF(B13="C",C13+360))) -> 44033
A14: 001ATG | B14: =VLOOKUP(A14,Produkte!$A:$AB,4,FALSE) -> B | C14: 44033 | D14: =VLOOKUP(A14,Produkte!$A:$AB,3,FALSE) -> 150 | E14: 200 | F14: 110 | G14: =E14-D14 -> 50 | I14: =IF(B14="A",C14+30,IF(B14="B",C14+92,IF(B14="C",C14+360))) -> 44125
B15: =VLOOKUP(A15,Produkte!$A:$AB,4,FALSE) -> #N/A | D15: =VLOOKUP(A15,Produkte!$A:$AB,3,FALSE) -> #N/A | G15: =E15-D15 -> #N/A | I15: =IF(B15="A",C15+30,IF(B15="B",C15+92,IF(B15="C",C15+360))) -> #N/A
B16: =VLOOKUP(A16,Produkte!$A:$AB,4,FALSE) -> #N/A | D16: =VLOOKUP(A16,Produkte!$A:$AB,3,FALSE) -> #N/A | G16: =E16-D16 -> #N/A | I16: =IF(B16="A",C16+30,IF(B16="B",C16+92,IF(B16="C",C16+360))) -> #N/A
B17: =VLOOKUP(A17,Produkte!$A:$AB,4,FALSE) -> #N/A | D17: =VLOOKUP(A17,Produkte!$A:$AB,3,FALSE) -> #N/A | G17: =E17-D17 -> #N/A | I17: =IF(B17="A",C17+30,IF(B17="B",C17+92,IF(B17="C",C17+360))) -> #N/A
B18: =VLOOKUP(A18,Produkte!$A:$AB,4,FALSE) -> #N/A | D18: =VLOOKUP(A18,Produkte!$A:$AB,3,FALSE) -> #N/A | G18: =E18-D18 -> #N/A | I18: =IF(B18="A",C18+30,IF(B18="B",C18+92,IF(B18="C",C18+360))) -> #N/A
B19: =VLOOKUP(A19,Produkte!$A:$AB,4,FALSE) -> #N/A | D19: =VLOOKUP(A19,Produkte!$A:$AB,3,FALSE) -> #N/A | G19: =E19-D19 -> #N/A | I19: =IF(B19="A",C19+30,IF(B19="B",C19+92,IF(B19="C",C19+360))) -> #N/A
B20: =VLOOKUP(A20,Produkte!$A:$AB,4,FALSE) -> #N/A | D20: =VLOOKUP(A20,Produkte!$A:$AB,3,FALSE) -> #N/A | G20: =E20-D20 -> #N/A | I20: =IF(B20="A",C20+30,IF(B20="B",C20+92,IF(B20="C",C20+360))) -> #N/A
B21: =VLOOKUP(A21,Produkte!$A:$AB,4,FALSE) -> #N/A | D21: =VLOOKUP(A21,Produkte!$A:$AB,3,FALSE) -> #N/A | G21: =E21-D21 -> #N/A | I21: =IF(B21="A",C21+30,IF(B21="B",C21+92,IF(B21="C",C21+360))) -> #N/A
B22: =VLOOKUP(A22,Produkte!$A:$AB,4,FALSE) -> #N/A | D22: =VLOOKUP(A22,Produkte!$A:$AB,3,FALSE) -> #N/A | G22: =E22-D22 -> #N/A | I22: =IF(B22="A",C22+30,IF(B22="B",C22+92,IF(B22="C",C22+360))) -> #N/A
B23: =VLOOKUP(A23,Produkte!$A:$AB,4,FALSE) -> #N/A | D23: =VLOOKUP(A23,Produkte!$A:$AB,3,FALSE) -> #N/A | G23: =E23-D23 -> #N/A | I23: =IF(B23="A",C23+30,IF(B23="B",C23+92,IF(B23="C",C23+360))) -> #N/A
B24: =VLOOKUP(A24,Produkte!$A:$AB,4,FALSE) -> #N/A | D24: =VLOOKUP(A24,Produkte!$A:$AB,3,FALSE) -> #N/A | G24: =E24-D24 -> #N/A | I24: =IF(B24="A",C24+30,IF(B24="B",C24+92,IF(B24="C",C24+360))) -> #N/A
B25: =VLOOKUP(A25,Produkte!$A:$AB,3,FALSE) -> #N/A | D25: =VLOOKUP(A25,Produkte!$A:$AB,3,FALSE) -> #N/A | G25: =E25-D25 -> #N/A | I25: =IF(B25="A",C25+30,IF(B25="B",C25+92,IF(B25="C",C25+360))) -> #N/A
G26: =E26-D26 -> 0
G27: =E27-D27 -> 0

Sheet Produkte
A3: Code Produit | B3: Nom du Produit | C3: Limite de stock | D3: Catégorie | E3: Fournisseur | F3: Provenance | G3: Temps de livraison (semaine) | H3: MHD /an)
A4: 001ATG | B4: Poudre de Cacao 90% | C4: 150 | D4: B | E4: Kronos | F4: NL | G4: 2 | H4: 3
A5: 002ATG | B5: Poudre de Cacao 70% | C5: 150 | D5: B | E5: Kronos | F5: NL | G5: 2 | H5: 3
A6: 003NLO | B6: Walnüsse | C6: 70 | D6: C | E6: Gebas | F6: DE | G6: 2 | H6: 5
A7: 006KTO | B7: Milchpulver | C7: 400 | D7: A | E7: Mayer & Geyer | F7: DE | G7: 1 | H7: 5
A8: 008RNA | B8: Kaffeepulver | C8: 20 | D8: C | E8: Keyser & Mackay | F8: DE | G8: 1
A9: 009FAG | B9: Gélatine | C9: 230 | D9: A | E9: Agrema | F9: PL | G9: 2
A10: 010FAG | B10: Agar-Agar | C10: 40 | D10: C | E10: Norevo | F10: DE | G10: 1

Sheet Commande
A3: Code Produit | B3: Date d'achat | C3: Qté Commandée | D3: Montant TTC (€)
B4: 43850 | C4: 100 kg

Sheet Listen
A3: Produits
A4: A | B4: inventaire tous les mois
A5: B | B5: inventaire tous les trois mois
A6: C | B6: inventaire tous les ans
