Workbook
Name NUMERO: #REF!
Name RISQUE_1: #REF!
Name RISQUE_10: #REF!
Name RISQUE_11: #REF!
Name RISQUE_12: #REF!
Name RISQUE_13: #REF!
Name RISQUE_14: #REF!
Name RISQUE_15: #REF!
Name RISQUE_16: #REF!
Name RISQUE_17: #REF!
Name RISQUE_18: #REF!
Name RISQUE_19: #REF!
Name RISQUE_2: #REF!
Name RISQUE_20: #REF!
Name RISQUE_21: #REF!
Name RISQUE_22: #REF!
Name RISQUE_23: #REF!
Name RISQUE_24: #REF!
Name RISQUE_25: #REF!
Name RISQUE_3: #REF!
Name RISQUE_4: #REF!
Name RISQUE_5: #REF!
Name RISQUE_6: #REF!
Name RISQUE_7: #REF!
Name RISQUE_8: #REF!
Name RISQUE_9: #REF!
Name RISQUENET_1: #REF!
Name RISQUENET_10: #REF!
Name RISQUENET_11: #REF!
Name RISQUENET_12: #REF!
Name RISQUENET_13: #REF!
Name RISQUENET_14: #REF!
Name RISQUENET_15: #REF!
Name RISQUENET_16: #REF!
Name RISQUENET_17: #REF!
Name RISQUENET_18: #REF!
Name RISQUENET_19: #REF!
Name RISQUENET_2: #REF!
Name RISQUENET_20: #REF!
Name RISQUENET_21: #REF!
Name RISQUENET_22: #REF!
Name RISQUENET_23: #REF!
Name RISQUENET_24: #REF!
Name RISQUENET_25: #REF!
Name RISQUENET_3: #REF!
Name RISQUENET_4: #REF!
Name RISQUENET_5: #REF!
Name RISQUENET_6: #REF!
Name RISQUENET_7: #REF!
Name RISQUENET_8: #REF!
Name RISQUENET_9: #REF!

Sheet Guideline Risk assessment
A1: AREA
A2: Corruption & Fraud
A3: Health & Safety
A4: Human rights
A5: Environment
A7: Scale of rating
A8: RISK
A9: Low ① | B9: 1
A10: Medium ② | B10: 2
A11: High ③ | B11: 3
A12: Significant ④ | B12: 4
A13: LEVEL OF CONTROL
A14: Total ① | B14: 1
A15: High ② | B15: 2
A16: Partial ③ | B16: 3
A17: Low ④ | B17: 4

Sheet Risk mapping detailed
A5: ID | F5: Risk impact | G5: Risk occurrence | H5: Gross risk | J5: Level of Control | K5: Net risk | L5: Risk acceptation
A6: 1 | F6: Low ① | G6: Medium ② | H6: =AVERAGE(VLOOKUP(F6,'Guideline Risk assessment'!$A$9:$B$12,2,0)*0.9,VLOOKUP(G6,'Guideline Risk assessment'!$A$9:$B$12,2,0)*1.1) -> 1.55 | J6: Total ① | K6: =ROUNDDOWN(AVERAGE(VLOOKUP(J6,'Guideline Risk assessment'!$A$14:$B$17,2,0)*1.1,H6*0.9),0) -> 1 | L6: =IF(K6>2,"Risk to be controlled","Risk under control") -> Risk under control
A7: =A6+1 -> 2 | F7: High ③ | G7: High ③ | H7: =AVERAGE(VLOOKUP(F7,'Guideline Risk assessment'!$A$9:$B$12,2,0)*0.9,VLOOKUP(G7,'Guideline Risk assessment'!$A$9:$B$12,2,0)*1.1) -> 3 | J7: Low ④ | K7: =ROUNDDOWN(AVERAGE(VLOOKUP(J7,'Guideline Risk assessment'!$A$14:$B$17,2,0)*1.1,H7*0.9),0) -> 3 | L7: =IF(K7>2,"Risk to be controlled","Risk under control") -> Risk to be controlled
A8: =A7+1 -> 3 | F8: Medium ② | G8: Medium ② | H8: =AVERAGE(VLOOKUP(F8,'Guideline Risk assessment'!$A$9:$B$12,2,0)*0.9,VLOOKUP(G8,'Guideline Risk assessment'!$A$9:$B$12,2,0)*1.1) -> 2 | J8: High ② | K8: =ROUNDDOWN(AVERAGE(VLOOKUP(J8,'Guideline Risk assessment'!$A$14:$B$17,2,0)*1.1,H8*0.9),0) -> 2 | L8: =IF(K8>2,"Risk to be controlled","Risk under control") -> Risk under control
A9: =A8+1 -> 4 | F9: Significant ④ | G9: Low ① | H9: =AVERAGE(VLOOKUP(F9,'Guideline Risk assessment'!$A$9:$B$12,2,0)*0.9,VLOOKUP(G9,'Guideline Risk assessment'!$A$9:$B$12,2,0)*1.1) -> 2.35 | J9: Total ① | K9: =ROUNDDOWN(AVERAGE(VLOOKUP(J9,'Guideline Risk assessment'!$A$14:$B$17,2,0)*1.1,H9*0.9),0) -> 1 | L9: =IF(K9>2,"Risk to be controlled","Risk under control") -> Risk under control
A10: =A9+1 -> 5 | F10: High ③ | G10: High ③ | H10: =AVERAGE(VLOOKUP(F10,'Guideline Risk assessment'!$A$9:$B$12,2,0)*0.9,VLOOKUP(G10,'Guideline Risk assessment'!$A$9:$B$12,2,0)*1.1) -> 3 | J10: Total ① | K10: =ROUNDDOWN(AVERAGE(VLOOKUP(J10,'Guideline Risk assessment'!$A$14:$B$17,2,0)*1.1,H10*0.9),0) -> 1 | L10: =IF(K10>2,"Risk to be controlled","Risk under control") -> Risk under control
A11: =A10+1 -> 6 | F11: Significant ④ | G11: Significant ④ | H11: =AVERAGE(VLOOKUP(F11,'Guideline Risk assessment'!$A$9:$B$12,2,0)*0.9,VLOOKUP(G11,'Guideline Risk assessment'!$A$9:$B$12,2,0)*1.1) -> 4 | J11: Low ④ | K11: =ROUNDDOWN(AVERAGE(VLOOKUP(J11,'Guideline Risk assessment'!$A$14:$B$17,2,0)*1.1,H11*0.9),0) -> 4 | L11: =IF(K11>2,"Risk to be controlled","Risk under control") -> Risk to be controlled
A12: =A11+1 -> 7 | F12: Low ① | G12: Low ① | H12: =AVERAGE(VLOOKUP(F12,'Guideline Risk assessment'!$A$9:$B$12,2,0)*0.9,VLOOKUP(G12,'Guideline Risk assessment'!$A$9:$B$12,2,0)*1.1) -> 1 | J12: Partial ③ | K12: =ROUNDDOWN(AVERAGE(VLOOKUP(J12,'Guideline Risk assessment'!$A$14:$B$17,2,0)*1.1,H12*0.9),0) -> 2 | L12: =IF(K12>2,"Risk to be controlled","Risk under control") -> Risk under control
A13: =A12+1 -> 8 | H13: =AVERAGE(VLOOKUP(F13,'Guideline Risk assessment'!$A$9:$B$12,2,0)*0.9,VLOOKUP(G13,'Guideline Risk assessment'!$A$9:$B$12,2,0)*1.1) -> #N/A | K13: =ROUNDDOWN(AVERAGE(VLOOKUP(J13,'Guideline Risk assessment'!$A$14:$B$17,2,0)*1.1,H13*0.9),0) -> #N/A | L13: =IF(K13>2,"Risk to be controlled","Risk under control") -> #N/A
A14: =A13+1 -> 9 | H14: =AVERAGE(VLOOKUP(F14,'Guideline Risk assessment'!$A$9:$B$12,2,0)*0.9,VLOOKUP(G14,'Guideline Risk assessment'!$A$9:$B$12,2,0)*1.1) -> #N/A | K14: =ROUNDDOWN(AVERAGE(VLOOKUP(J14,'Guideline Risk assessment'!$A$14:$B$17,2,0)*1.1,H14*0.9),0) -> #N/A | L14: =IF(K14>2,"Risk to be controlled","Risk under control") -> #N/A
A15: =A14+1 -> 10 | H15: =AVERAGE(VLOOKUP(F15,'Guideline Risk assessment'!$A$9:$B$12,2,0)*0.9,VLOOKUP(G15,'Guideline Risk assessment'!$A$9:$B$12,2,0)*1.1) -> #N/A | K15: =ROUNDDOWN(AVERAGE(VLOOKUP(J15,'Guideline Risk assessment'!$A$14:$B$17,2,0)*1.1,H15*0.9),0) -> #N/A | L15: =IF(K15>2,"Risk to be controlled","Risk under control") -> #N/A
A16: =A15+1 -> 11 | H16: =AVERAGE(VLOOKUP(F16,'Guideline Risk assessment'!$A$9:$B$12,2,0)*0.9,VLOOKUP(G16,'Guideline Risk assessment'!$A$9:$B$12,2,0)*1.1) -> #N/A | K16: =ROUNDDOWN(AVERAGE(VLOOKUP(J16,'Guideline Risk assessment'!$A$14:$B$17,2,0)*1.1,H16*0.9),0) -> #N/A | L16: =IF(K16>2,"Risk to be controlled","Risk under control") -> #N/A
A17: =A16+1 -> 12 | H17: =AVERAGE(VLOOKUP(F17,'Guideline Risk assessment'!$A$9:$B$12,2,0)*0.9,VLOOKUP(G17,'Guideline Risk assessment'!$A$9:$B$12,2,0)*1.1) -> #N/A | K17: =ROUNDDOWN(AVERAGE(VLOOKUP(J17,'Guideline Risk assessment'!$A$14:$B$17,2,0)*1.1,H17*0.9),0) -> #N/A | L17: =IF(K17>2,"Risk to be controlled","Risk under control") -> #N/A
A18: =A17+1 -> 13 | H18: =AVERAGE(VLOOKUP(F18,'Guideline Risk assessment'!$A$9:$B$12,2,0)*0.9,VLOOKUP(G18,'Guideline Risk assessment'!$A$9:$B$12,2,0)*1.1) -> #N/A | K18: =ROUNDDOWN(AVERAGE(VLOOKUP(J18,'Guideline Risk assessment'!$A$14:$B$17,2,0)*1.1,H18*0.9),0) -> #N/A | L18: =IF(K18>2,"Risk to be controlled","Risk under control") -> #N/A
A19: =A18+1 -> 14 | H19: =AVERAGE(VLOOKUP(F19,'Guideline Risk assessment'!$A$9:$B$12,2,0)*0.9,VLOOKUP(G19,'Guideline Risk assessment'!$A$9:$B$12,2,0)*1.1) -> #N/A | K19: =ROUNDDOWN(AVERAGE(VLOOKUP(J19,'Guideline Risk assessment'!$A$14:$B$17,2,0)*1.1,H19*0.9),0) -> #N/A | L19: =IF(K19>2,"Risk to be controlled","Risk under control") -> #N/A
A20: =A19+1 -> 15 | H20: =AVERAGE(VLOOKUP(F20,'Guideline Risk assessment'!$A$9:$B$12,2,0)*0.9,VLOOKUP(G20,'Guideline Risk assessment'!$A$9:$B$12,2,0)*1.1) -> #N/A | K20: =ROUNDDOWN(AVERAGE(VLOOKUP(J20,'Guideline Risk assessment'!$A$14:$B$17,2,0)*1.1,H20*0.9),0) -> #N/A | L20: =IF(K20>2,"Risk to be controlled","Risk under control") -> #N/A
A21: =A20+1 -> 16 | H21: =AVERAGE(VLOOKUP(F21,'Guideline Risk assessment'!$A$9:$B$12,2,0)*0.9,VLOOKUP(G21,'Guideline Risk assessment'!$A$9:$B$12,2,0)*1.1) -> #N/A | K21: =ROUNDDOWN(AVERAGE(VLOOKUP(J21,'Guideline Risk assessment'!$A$14:$B$17,2,0)*1.1,H21*0.9),0) -> #N/A | L21: =IF(K21>2,"Risk to be controlled","Risk under control") -> #N/A
A22: =A21+1 -> 17 | H22: =AVERAGE(VLOOKUP(F22,'Guideline Risk assessment'!$A$9:$B$12,2,0)*0.9,VLOOKUP(G22,'Guideline Risk assessment'!$A$9:$B$12,2,0)*1.1) -> #N/A | K22: =ROUNDDOWN(AVERAGE(VLOOKUP(J22,'Guideline Risk assessment'!$A$14:$B$17,2,0)*1.1,H22*0.9),0) -> #N/A | L22: =IF(K22>2,"Risk to be controlled","Risk under control") -> #N/A
A23: =A22+1 -> 18 | H23: =AVERAGE(VLOOKUP(F23,'Guideline Risk assessment'!$A$9:$B$12,2,0)*0.9,VLOOKUP(G23,'Guideline Risk assessment'!$A$9:$B$12,2,0)*1.1) -> #N/A | K23: =ROUNDDOWN(AVERAGE(VLOOKUP(J23,'Guideline Risk assessment'!$A$14:$B$17,2,0)*1.1,H23*0.9),0) -> #N/A | L23: =IF(K23>2,"Risk to be controlled","Risk under control") -> #N/A
A24: =A23+1 -> 19 | H24: =AVERAGE(VLOOKUP(F24,'Guideline Risk assessment'!$A$9:$B$12,2,0)*0.9,VLOOKUP(G24,'Guideline Risk assessment'!$A$9:$B$12,2,0)*1.1) -> #N/A | K24: =ROUNDDOWN(AVERAGE(VLOOKUP(J24,'Guideline Risk assessment'!$A$14:$B$17,2,0)*1.1,H24*0.9),0) -> #N/A | L24: =IF(K24>2,"Risk to be controlled","Risk under control") -> #N/A
... A29: =A28+1 -> 24 | H29: =AVERAGE(VLOOKUP(F29,'Guideline Risk assessment'!$A$9:$B$12,2,0)*0.9,VLOOKUP(G29,'Guideline Risk assessment'!$A$9:$B$12,2,0)*1.1) -> #N/A | K29: =ROUNDDOWN(AVERAGE(VLOOKUP(J29,'Guideline Risk assessment'!$A$14:$B$17,2,0)*1.1,H29*0.9),0) -> #N/A | L29: =IF(K29>2,"Risk to be controlled","Risk under control") -> #N/A
A30: Added risks
A31: =A29+1 -> 25 | H31: =AVERAGE(VLOOKUP(F31,'Guideline Risk assessment'!$A$9:$B$12,2,0)*0.9,VLOOKUP(G31,'Guideline Risk assessment'!$A$9:$B$12,2,0)*1.1) -> #N/A | K31: =ROUNDDOWN(AVERAGE(VLOOKUP(J31,'Guideline Risk assessment'!$A$14:$B$17,2,0)*1.1,H31*0.9),0) -> #N/A | L31: =IF(K31>2,"Risk to be controlled","Risk under control") -> #N/A
A32: =A31+1 -> 26 | H32: =AVERAGE(VLOOKUP(F32,'Guideline Risk assessment'!$A$9:$B$12,2,0)*0.9,VLOOKUP(G32,'Guideline Risk assessment'!$A$9:$B$12,2,0)*1.1) -> #N/A | K32: =ROUNDDOWN(AVERAGE(VLOOKUP(J32,'Guideline Risk assessment'!$A$14:$B$17,2,0)*1.1,H32*0.9),0) -> #N/A | L32: =IF(K32>2,"Risk to be controlled","Risk under control") -> #N/A
A33: =A32+1 -> 27 | H33: =AVERAGE(VLOOKUP(F33,'Guideline Risk assessment'!$A$9:$B$12,2,0)*0.9,VLOOKUP(G33,'Guideline Risk assessment'!$A$9:$B$12,2,0)*1.1) -> #N/A | K33: =ROUNDDOWN(AVERAGE(VLOOKUP(J33,'Guideline Risk assessment'!$A$14:$B$17,2,0)*1.1,H33*0.9),0) -> #N/A | L33: =IF(K33>2,"Risk to be controlled","Risk under control") -> #N/A
A34: =A33+1 -> 28 | H34: =AVERAGE(VLOOKUP(F34,'Guideline Risk assessment'!$A$9:$B$12,2,0)*0.9,VLOOKUP(G34,'Guideline Risk assessment'!$A$9:$B$12,2,0)*1.1) -> #N/A | K34: =ROUNDDOWN(AVERAGE(VLOOKUP(J34,'Guideline Risk assessment'!$A$14:$B$17,2,0)*1.1,H34*0.9),0) -> #N/A | L34: =IF(K34>2,"Risk to be controlled","Risk under control") -> #N/A
A35: =A34+1 -> 29 | H35: =AVERAGE(VLOOKUP(F35,'Guideline Risk assessment'!$A$9:$B$12,2,0)*0.9,VLOOKUP(G35,'Guideline Risk assessment'!$A$9:$B$12,2,0)*1.1) -> #N/A | K35: =ROUNDDOWN(AVERAGE(VLOOKUP(J35,'Guideline Risk assessment'!$A$14:$B$17,2,0)*1.1,H35*0.9),0) -> #N/A | L35: =IF(K35>2,"Risk to be controlled","Risk under control") -> #N/A
A36: =A35+1 -> 30 | H36: =AVERAGE(VLOOKUP(F36,'Guideline Risk assessment'!$A$9:$B$12,2,0)*0.9,VLOOKUP(G36,'Guideline Risk assessment'!$A$9:$B$12,2,0)*1.1) -> #N/A | K36: =ROUNDDOWN(AVERAGE(VLOOKUP(J36,'Guideline Risk assessment'!$A$14:$B$17,2,0)*1.1,H36*0.9),0) -> #N/A | L36: =IF(K36>2,"Risk to be controlled","Risk under control") -> #N/A
A37: =A36+1 -> 31 | H37: =AVERAGE(VLOOKUP(F37,'Guideline Risk assessment'!$A$9:$B$12,2,0)*0.9,VLOOKUP(G37,'Guideline Risk assessment'!$A$9:$B$12,2,0)*1.1) -> #N/A | K37: =ROUNDDOWN(AVERAGE(VLOOKUP(J37,'Guideline Risk assessment'!$A$14:$B$17,2,0)*1.1,H37*0.9),0) -> #N/A | L37: =IF(K37>2,"Risk to be controlled","Risk under control") -> #N/A
A38: =A37+1 -> 32 | H38: =AVERAGE(VLOOKUP(F38,'Guideline Risk assessment'!$A$9:$B$12,2,0)*0.9,VLOOKUP(G38,'Guideline Risk assessment'!$A$9:$B$12,2,0)*1.1) -> #N/A | K38: =ROUNDDOWN(AVERAGE(VLOOKUP(J38,'Guideline Risk assessment'!$A$14:$B$17,2,0)*1.1,H38*0.9),0) -> #N/A | L38: =IF(K38>2,"Risk to be controlled","Risk under control") -> #N/A
A39: =A38+1 -> 33 | H39: =AVERAGE(VLOOKUP(F39,'Guideline Risk assessment'!$A$9:$B$12,2,0)*0.9,VLOOKUP(G39,'Guideline Risk assessment'!$A$9:$B$12,2,0)*1.1) -> #N/A | K39: =ROUNDDOWN(AVERAGE(VLOOKUP(J39,'Guideline Risk assessment'!$A$14:$B$17,2,0)*1.1,H39*0.9),0) -> #N/A | L39: =IF(K39>2,"Risk to be controlled","Risk under control") -> #N/A
A40: =A39+1 -> 34 | H40: =AVERAGE(VLOOKUP(F40,'Guideline Risk assessment'!$A$9:$B$12,2,0)*0.9,VLOOKUP(G40,'Guideline Risk assessment'!$A$9:$B$12,2,0)*1.1) -> #N/A | K40: =ROUNDDOWN(AVERAGE(VLOOKUP(J40,'Guideline Risk assessment'!$A$14:$B$17,2,0)*1.1,H40*0.9),0) -> #N/A | L40: =IF(K40>2,"Risk to be controlled","Risk under control") -> #N/A
A41: =A40+1 -> 35 | H41: =AVERAGE(VLOOKUP(F41,'Guideline Risk assessment'!$A$9:$B$12,2,0)*0.9,VLOOKUP(G41,'Guideline Risk assessment'!$A$9:$B$12,2,0)*1.1) -> #N/A | K41: =ROUNDDOWN(AVERAGE(VLOOKUP(J41,'Guideline Risk assessment'!$A$14:$B$17,2,0)*1.1,H41*0.9),0) -> #N/A | L41: =IF(K41>2,"Risk to be controlled","Risk under control") -> #N/A
A42: =A41+1 -> 36 | H42: =AVERAGE(VLOOKUP(F42,'Guideline Risk assessment'!$A$9:$B$12,2,0)*0.9,VLOOKUP(G42,'Guideline Risk assessment'!$A$9:$B$12,2,0)*1.1) -> #N/A | K42: =ROUNDDOWN(AVERAGE(VLOOKUP(J42,'Guideline Risk assessment'!$A$14:$B$17,2,0)*1.1,H42*0.9),0) -> #N/A | L42: =IF(K42>2,"Risk to be controlled","Risk under control") -> #N/A
A43: =A42+1 -> 37 | H43: =AVERAGE(VLOOKUP(F43,'Guideline Risk assessment'!$A$9:$B$12,2,0)*0.9,VLOOKUP(G43,'Guideline Risk assessment'!$A$9:$B$12,2,0)*1.1) -> #N/A | K43: =ROUNDDOWN(AVERAGE(VLOOKUP(J43,'Guideline Risk assessment'!$A$14:$B$17,2,0)*1.1,H43*0.9),0) -> #N/A | L43: =IF(K43>2,"Risk to be controlled","Risk under control") -> #N/A
... A55: =A54+1 -> 49 | H55: =AVERAGE(VLOOKUP(F55,'Guideline Risk assessment'!$A$9:$B$12,2,0)*0.9,VLOOKUP(G55,'Guideline Risk assessment'!$A$9:$B$12,2,0)*1.1) -> #N/A | K55: =ROUNDDOWN(AVERAGE(VLOOKUP(J55,'Guideline Risk assessment'!$A$14:$B$17,2,0)*1.1,H55*0.9),0) -> #N/A | L55: =IF(K55>2,"Risk to be controlled","Risk under control") -> #N/A

Sheet Risk Mapping
A4: Level of control | B4: Low | G4: Risk to be controlled
B5: Medium
B6: High | G6: Risk under control
B7: Total
C8: Low | D8: Medium | E8: High | F8: Significant
C9: Gross risk
