Workbook

Sheet AFFICHÉ
A1: Resolveur d'équations du second degré
A3: ="Ax^2+Bx+C" -> Ax^2+Bx+C
A4: A = | B4: 4 | C4: =BACK!B11 -> 4x²+5x+7
A5: B = | B5: 5
A6: C = | B6: 7
A9: Solution X1 : | B9: =(BACK!E5) -> Pas de X1 | C9: Solution X1i : | D9: =(BACK!E6) -> -5+i√87/2*4
A11: Solution X2 : | B11: =(BACK!E7) -> Pas de X2 | C11: Solution X2i : | D11: =(BACK!E8) -> -5-i√87/2*4
A13: Solution X0 : | B13: =(BACK!E9) -> Pas de X0 | C13: Pas : | D13: 0.5
A15: Limite en - l'infini | C15: Limite en + l'infini

Sheet BACK
F1: =+E11 -> 0.5 | G1: -100 | H1: =((AFFICHÉ!$B$4)*(G1)^2)+((AFFICHÉ!$B$5)*G1)+(AFFICHÉ!$B$6) -> 39507 | I1: -100 | J1: =((AFFICHÉ!$B$4)*(I1)^2)+((AFFICHÉ!$B$5)*I1)+(AFFICHÉ!$B$6) -> 39507
B2: Calculs | E2: Valeurs à prendre en compte | F2: =F1 -> 0.5 | G2: =G1+F1 -> -99.5 | H2: =((AFFICHÉ!$B$4)*(G2)^2)+((AFFICHÉ!$B$5)*G2)+(AFFICHÉ!$B$6) -> 39110.5 | I2: =I1+F1 -> -99.5 | J2: =((AFFICHÉ!$B$4)*(I2)^2)+((AFFICHÉ!$B$5)*I2)+(AFFICHÉ!$B$6) -> 39110.5
A3: Delta | B3: =(AFFICHÉ!B5^2)-4*(AFFICHÉ!B4)*(AFFICHÉ!B6) -> -87 | F3: =F2 -> 0.5 | G3: =G2+F2 -> -99 | H3: =((AFFICHÉ!$B$4)*(G3)^2)+((AFFICHÉ!$B$5)*G3)+(AFFICHÉ!$B$6) -> 38716
F4: =F3 -> 0.5 | G4: =G3+F3 -> -98.5 | H4: =((AFFICHÉ!$B$4)*(G4)^2)+((AFFICHÉ!$B$5)*G4)+(AFFICHÉ!$B$6) -> 38323.5
A5: X1 | B5: =((-AFFICHÉ!B5)+SQRT(B3))/(2*(AFFICHÉ!B4)) -> #NUM! | E5: =+IF(B3>0,B5,"Pas de X1") -> Pas de X1 | F5: =F4 -> 0.5 | G5: =G4+F4 -> -98 | H5: =((AFFICHÉ!$B$4)*(G5)^2)+((AFFICHÉ!$B$5)*G5)+(AFFICHÉ!$B$6) -> 37933
A6: X1i | B6: =((-AFFICHÉ!B5)&"+i√"&ABS(B3))&"/"&("2*"&(AFFICHÉ!B4)) -> -5+i√87/2*4 | E6: =+IF(B3<0,B6,"Pas de X1i") -> -5+i√87/2*4 | F6: =F5 -> 0.5 | G6: =G5+F5 -> -97.5 | H6: =((AFFICHÉ!$B$4)*(G6)^2)+((AFFICHÉ!$B$5)*G6)+(AFFICHÉ!$B$6) -> 37544.5
A7: X2 | B7: =((-AFFICHÉ!B5)-(SQRT(B3)))/(2*(AFFICHÉ!B4)) -> #NUM! | E7: =+IF(B3>0,B7,"Pas de X2") -> Pas de X2 | F7: =F6 -> 0.5 | G7: =G6+F6 -> -97 | H7: =((AFFICHÉ!$B$4)*(G7)^2)+((AFFICHÉ!$B$5)*G7)+(AFFICHÉ!$B$6) -> 37158
A8: X2i | B8: =((-AFFICHÉ!B5)&"-i√"&ABS(B3))&"/"&("2*"&(AFFICHÉ!B4)) -> -5-i√87/2*4 | E8: =+IF(B3<0,B8,"Pas de X2i") -> -5-i√87/2*4 | F8: =F7 -> 0.5 | G8: =G7+F7 -> -96.5 | H8: =((AFFICHÉ!$B$4)*(G8)^2)+((AFFICHÉ!$B$5)*G8)+(AFFICHÉ!$B$6) -> 36773.5
A9: X0 | B9: =-((AFFICHÉ!B5)/(2*(AFFICHÉ!B6))) -> -0.35714286 | E9: =IF(OR(B3>0,B3<0),"Pas de X0",B9) -> Pas de X0 | F9: =F8 -> 0.5 | G9: =G8+F8 -> -96 | H9: =((AFFICHÉ!$B$4)*(G9)^2)+((AFFICHÉ!$B$5)*G9)+(AFFICHÉ!$B$6) -> 36391
F10: =F9 -> 0.5 | G10: =G9+F9 -> -95.5 | H10: =((AFFICHÉ!$B$4)*(G10)^2)+((AFFICHÉ!$B$5)*G10)+(AFFICHÉ!$B$6) -> 36010.5
A11: Formule | B11: =(AFFICHÉ!B4)&"x²+"&(AFFICHÉ!B5)&"x+"&(AFFICHÉ!B6) -> 4x²+5x+7 | D11: Pas | E11: =AFFICHÉ!D13 -> 0.5 | F11: =F10 -> 0.5 | G11: =G10+F10 -> -95 | H11: =((AFFICHÉ!$B$4)*(G11)^2)+((AFFICHÉ!$B$5)*G11)+(AFFICHÉ!$B$6) -> 35632
F12: =F11 -> 0.5 | G12: =G11+F11 -> -94.5 | H12: =((AFFICHÉ!$B$4)*(G12)^2)+((AFFICHÉ!$B$5)*G12)+(AFFICHÉ!$B$6) -> 35255.5
F13: =F12 -> 0.5 | G13: =G12+F12 -> -94 | H13: =((AFFICHÉ!$B$4)*(G13)^2)+((AFFICHÉ!$B$5)*G13)+(AFFICHÉ!$B$6) -> 34881
F14: =F13 -> 0.5 | G14: =G13+F13 -> -93.5 | H14: =((AFFICHÉ!$B$4)*(G14)^2)+((AFFICHÉ!$B$5)*G14)+(AFFICHÉ!$B$6) -> 34508.5
F15: =F14 -> 0.5 | G15: =G14+F14 -> -93 | H15: =((AFFICHÉ!$B$4)*(G15)^2)+((AFFICHÉ!$B$5)*G15)+(AFFICHÉ!$B$6) -> 34138
F16: =F15 -> 0.5 | G16: =G15+F15 -> -92.5 | H16: =((AFFICHÉ!$B$4)*(G16)^2)+((AFFICHÉ!$B$5)*G16)+(AFFICHÉ!$B$6) -> 33769.5
F17: =F16 -> 0.5 | G17: =G16+F16 -> -92 | H17: =((AFFICHÉ!$B$4)*(G17)^2)+((AFFICHÉ!$B$5)*G17)+(AFFICHÉ!$B$6) -> 33403
F18: =F17 -> 0.5 | G18: =G17+F17 -> -91.5 | H18: =((AFFICHÉ!$B$4)*(G18)^2)+((AFFICHÉ!$B$5)*G18)+(AFFICHÉ!$B$6) -> 33038.5
F19: =F18 -> 0.5 | G19: =G18+F18 -> -91 | H19: =((AFFICHÉ!$B$4)*(G19)^2)+((AFFICHÉ!$B$5)*G19)+(AFFICHÉ!$B$6) -> 32676
F20: =F19 -> 0.5 | G20: =G19+F19 -> -90.5 | H20: =((AFFICHÉ!$B$4)*(G20)^2)+((AFFICHÉ!$B$5)*G20)+(AFFICHÉ!$B$6) -> 32315.5
F21: =F20 -> 0.5 | G21: =G20+F20 -> -90 | H21: =((AFFICHÉ!$B$4)*(G21)^2)+((AFFICHÉ!$B$5)*G21)+(AFFICHÉ!$B$6) -> 31957
F22: =F21 -> 0.5 | G22: =G21+F21 -> -89.5 | H22: =((AFFICHÉ!$B$4)*(G22)^2)+((AFFICHÉ!$B$5)*G22)+(AFFICHÉ!$B$6) -> 31600.5
F23: =F22 -> 0.5 | G23: =G22+F22 -> -89 | H23: =((AFFICHÉ!$B$4)*(G23)^2)+((AFFICHÉ!$B$5)*G23)+(AFFICHÉ!$B$6) -> 31246
... F2000: =F1999 -> 0.5 | G2000: =G1999+F1999 -> 899.5 | H2000: =((AFFICHÉ!$B$4)*(G2000)^2)+((AFFICHÉ!$B$5)*G2000)+(AFFICHÉ!$B$6) -> 3240905.5
G2001: =G2000+F2000 -> 900 | H2001: =((AFFICHÉ!$B$4)*(G2001)^2)+((AFFICHÉ!$B$5)*G2001)+(AFFICHÉ!$B$6) -> 3244507
G2002: =G2001+F2001 -> 900 | H2002: =((AFFICHÉ!$B$4)*(G2002)^2)+((AFFICHÉ!$B$5)*G2002)+(AFFICHÉ!$B$6) -> 3244507
G2003: =G2002+F2002 -> 900 | H2003: =((AFFICHÉ!$B$4)*(G2003)^2)+((AFFICHÉ!$B$5)*G2003)+(AFFICHÉ!$B$6) -> 3244507
