Workbook
Name Famille_IS: '[1]Temps unitaires'!$B$7:$B$76
Name objets: objets!$A$2:$A$555
Name zone: #REF!
Name zone: #REF!
Name zone: #REF!
Name zone: #REF!

Sheet Zone
A1: Nom Chantier | B1: test
A2: N° Affaire | B2: 152222
A5: Liste des zones | B5: Liste des centres
A6: P66 | B6: CENTRE 1
A7: Encadrant Nord | B7: C.RCH01-1
A8: Encadrant Sud | B8: C.RCH02-1
B9: C.RCH03-1
B10: C.RCH04-1
B11: C.RCH05-1
B12: C.RCH06-1
B13: C.RCH07-1
B14: C.RCH08-1
B15: CE01-1
B16: CE02-1
B17: CE03-1
B18: CE04-1
B19: CE05-1
B20: CE06-1
... B42: STM GM KM633,8

Sheet objets
A1: [connecteur] {fourniture de…} | B1: TU (prépa DM ) | C1: TU (prépa parc) | D1: TU (précablage) | E1: TU (chantier) | F1: Déroulage câble | G1: Equipement Poste (Neuf ou Modif) | H1: Prépa Parc (sur site) | I1: Pose à la voie | J1: Racco voie | K1: Racco Centre ou modif | L1: Contrôle | M1: STM PM | N1: STM.MM | O1: STM.GM | P1: U90 | Q1: GUERITE simple | R1: GUERITE triple | S1: Abris à accus | T1: herse "POINT" | U1: U71 "POINT" | V1: GUERITE "POINT" | W1: DATZ | X1: jalon M | Y1: REPERE "NF" | Z1: REPERE "F" | AA1: TOUT appareillage transport | AB1: téléphone | AC1: boite à feu isolée avec amorce câble | AD1: œilleton | AE1: Cible K | AF1: Cible A | AG1: Cible C | AH1: Cible F | AI1: Cible H | AJ1: fléche | AK1: plaque d'identification | AL1: garde-corps A - Tf - Le | AM1: garde-corps Lo | AN1: matereau + échelle | AO1: grillage | AP1: CF80 | AQ1: CL66 | AR1: CL82 | AS1: CF typeB | AT1: Pancarte | AU1: colonne à "copier / incérer les cellules copiée" | AW1: SVM | AX1: montage toute boite sur 1 piquet | AY1: raccordement tous connecteur ou desserte filaire sur toute boite | AZ1: condo (5 mn) | BA1: confection 1x corde XX² cosse sertie 1 extrémité (5 mn) | BB1: confection 1x corde XX² cosse sertie 2 extrémités (10 mn) | BC1: 1 soudure connecteur RCH VCC (5 mn) | BD1: 1 EuroBalise Fixe | BE1: feu de heurtoir | BF1: Pd. électroméca | BG1: déto | BH1: CRO | BI1: équipement balise KVB (10 mn) | BJ1: connecteur SBI | BK1: colonne à "copier / incérer les cellules copiée"
M2: 1.5 | N2: 4.5 | O2: 9 | P2: 13.5 | Q2: 29.5 | R2: 37.5 | S2: 3 ou 4 ou 5 | T2: 10 | U2: 20 | V2: 40 | W2: 4 | X2: 1.5 | Y2: 1.5 | Z2: 0.75 | AA2: 0.5 | AB2: 0.25 | AC2: 0.5 | AD2: 1 | AE2: 2 | AF2: 3 | AG2: 5 | AH2: 7 | AI2: 9 | AJ2: 1 | AK2: 0.25 | AL2: 2 | AM2: 2 | AN2: 2 | AO2: 2.5 | AP2: 2.5 | AQ2: 2 | AR2: 2 | AS2: 2 | AT2: 0,25 ou 0,75 | AU2: xx | AW2: 0.5 | AX2: =5/60 -> 0.083333333 | AY2: 0.5 | AZ2: =5/60 -> 0.083333333 | BA2: =5/60 -> 0.083333333 | BB2: =10/60 -> 0.16666667 | BC2: =5/60 -> 0.083333333 | BD2: 0.25 | BE2: 1 | BF2: 0.25 | BG2: 0.25 | BH2: 0.5 | BI2: 0.25 | BJ2: 0.5 | BK2: xx
A3: HV (hors ZD) | B3: =SUM(M3:AX3) -> 0 | C3: =SUM(N3:AY3) -> 0
B4: =SUM(M4:AX4) -> 0 | C4: =SUM(N4:AY4) -> 0
A5: STM.MM | B5: 0.1 | C5: =SUM(M5:AY5) -> 4.5 | E5: =SUM(F5:L5) -> 0 | N5: 4.5
A6: STM.MM EXISTANTE | B6: 0.1 | C6: =SUM(M6:AY6) -> 0 | E6: =SUM(F6:L6) -> 0
A7: STM.GM | B7: 0.1 | C7: =SUM(M7:AY7) -> 9 | E7: =SUM(F7:L7) -> 0 | O7: 9
A8: U71 | B8: 0.1 | C8: =SUM(M8:AY8) -> 13.5 | E8: =SUM(F8:L8) -> 7.250003 | F8: 1e-06 | G8: 1e-06 | H8: 1 | I8: 6 | J8: 0 | K8: 1e-06 | L8: 0.25 | P8: 13.5
A9: U71 EXISTANTE | B9: 0.1 | C9: =SUM(M9:AY9) -> 3 | E9: =SUM(F9:L9) -> 0.235003 | F9: 1e-06 | G9: 1e-06 | H9: 0.1 | I9: 1e-06 | J9: 0 | K9: 0.1 | L9: 0.035 | M9: 3
A10: ARMOIRE BT.47GM EXISTANTE | B10: 0.1 | C10: =SUM(M10:AY10) -> 0 | E10: =SUM(F10:L10) -> 0
A11: U90 | B11: 0.1 | C11: =SUM(M11:AY11) -> 13.5 | E11: =SUM(F11:L11) -> 0 | P11: 13.5
A12: GUERITE simple | B12: 0.1 | C12: =SUM(M12:AY12) -> 29.5 | E12: =SUM(F12:L12) -> 233 | F12: 0 | G12: 120 | H12: 0 | I12: 8 | J12: 0 | K12: 100 | L12: 5 | Q12: 29.5
A13: GUERITE simple EXISTANTE | B13: 0.1 | C13: =SUM(M13:AY13) -> 0 | E13: =SUM(F13:L13) -> 235 | F13: 0 | G13: 0 | H13: 0 | I13: 0 | J13: 0 | K13: 200 | L13: 35
A14: GUERITE double | B14: 0.1 | C14: =SUM(M14:AY14) -> 0 | E14: =SUM(F14:L14) -> 330 | F14: 0 | G14: 180 | H14: 0 | I14: 8 | J14: 0 | K14: 135 | L14: 7
A15: GUERITE triple | B15: 0.1 | C15: =SUM(M15:AY15) -> 37.5 | E15: =SUM(F15:L15) -> 432 | F15: 0 | G15: 240 | H15: 0 | I15: 12 | J15: 0 | K15: 170 | L15: 10 | R15: 37.5
A16: abris à accus PM "avec raccordement des câbles > amorce vers le CE concerné (longueur selon implantation)" | B16: 0.1 | C16: =SUM(M16:AY16) -> 3 | E16: =SUM(F16:L16) -> 25 | F16: 8 | G16: 0 | H16: 4 | I16: 4 | J16: 0 | K16: 8 | L16: 1 | S16: 3
A17: Abris à accus GM "avec raccordement des câbles > amorce vers le CE concerné (longueur selon implantation)" | B17: 0.1 | C17: =SUM(M17:AY17) -> 4 | E17: =SUM(F17:L17) -> 25 | F17: 8 | G17: 0 | H17: 4 | I17: 4 | J17: 0 | K17: 8 | L17: 1 | S17: 4
A18: Abris à accus PM EXISTANT | B18: 0.1 | C18: =SUM(M18:AY18) -> 0 | E18: =SUM(F18:L18) -> 0
A19: Abris à accus GM EXISTANT | B19: 0.1 | C19: =SUM(M19:AY19) -> 0 | E19: =SUM(F19:L19) -> 0
A20: Abris à accus GM EXISTANT AVEC MODIF | B20: 0.1 | C20: =SUM(M20:AY20) -> 0 | E20: =SUM(F20:L20) -> 0
A21: Abris Accu Sécu | B21: 0.1 | C21: =SUM(M21:AY21) -> 0 | E21: =SUM(F21:L21) -> 32 | F21: 8 | G21: 0 | H21: 7 | I21: 8 | J21: 0 | K21: 8 | L21: 1
A22: Abri Accu (Pose) | B22: 0.1 | C22: =SUM(M22:AY22) -> 0 | E22: =SUM(F22:L22) -> 6.300002 | F22: 2 | G22: 1e-06 | H22: 1 | I22: 3 | J22: 0 | K22: 1e-06 | L22: 0.3
A23: armoire à accus "avec raccordement des câbles > amorce vers le CE concerné (longueur selon implantation)" | B23: 0.1 | C23: =SUM(M23:AY23) -> 5 | E23: =SUM(F23:L23) -> 0 | S23: 5
A24: armoire BDR SNCF à accus "avec raccordement des câbles > amorce vers le CE concerné (longueur selon implantation)" | B24: 0.1 | C24: =SUM(M24:AY24) -> 0 | E24: =SUM(F24:L24) -> 0
A25: Transfo redresseur posé au SOL dans Guérite >> racc. des cables | B25: 0.1 | C25: =SUM(M25:AY25) -> 0 | E25: =SUM(F25:L25) -> 0
A26: herse "POINT" | B26: 0.1 | C26: =SUM(M26:AY26) -> 5 | E26: =SUM(F26:L26) -> 0 | T26: 5
A27: U71 "POINT" | B27: 0.1 | C27: =SUM(M27:AY27) -> 20 | E27: =SUM(F27:L27) -> 0 | U27: 20
A28: GUERITE "POINT" | B28: 0.1 | C28: =SUM(M28:AY28) -> 40 | E28: =SUM(F28:L28) -> 0 | V28: 40
A29: SARA 4 > dans une GUERITE < | B29: 0.1 | C29: =SUM(M29:AY29) -> 0 | E29: =SUM(F29:L29) -> 0
A30: SARA 8 > l'ARMOIRE < | B30: 0.1 | C30: =SUM(M30:AY30) -> 0 | E30: =SUM(F30:L30) -> 0
A31: Boite à feux | B31: 0.1 | C31: =SUM(M31:AY31) -> 0 | E31: =SUM(F31:L31) -> 3.800002 | F31: 1 | G31: 1e-06 | H31: 0.5 | I31: 1 | J31: 1 | K31: 1e-06 | L31: 0.3
A32: Câble (marquage dépose) | B32: 0.1 | C32: =SUM(M32:AY32) -> 0 | E32: =SUM(F32:L32) -> 0.200005 | F32: 1e-06 | G32: 1e-06 | H32: 1e-06 | I32: 1e-06 | J32: 1e-06 | K32: 0.1 | L32: 0.1
A33: Câbles Locaux | B33: 0.1 | C33: =SUM(M33:AY33) -> 0 | E33: =SUM(F33:L33) -> 1.300005 | F33: 1e-06 | G33: 1e-06 | H33: 1e-06 | I33: 1e-06 | J33: 1e-06 | K33: 0.8 | L33: 0.5
A34: Câbles Princ | B34: 0.1 | C34: =SUM(M34:AY34) -> 0 | E34: =SUM(F34:L34) -> 3.000005 | F34: 1e-06 | G34: 1e-06 | H34: 1e-06 | I34: 1e-06 | J34: 1e-06 | K34: 2 | L34: 1
A35: Caisson sur Mat | B35: 0.1 | C35: =SUM(M35:AY35) -> 0 | E35: =SUM(F35:L35) -> 14.000002 | F35: 2 | G35: 1e-06 | H35: 1 | I35: 8 | J35: 2 | K35: 1e-06 | L35: 1
A36: Lev.Ag | B36: 0.1 | C36: =SUM(M36:AY36) -> 0 | E36: =SUM(F36:L36) -> 6.000002 | F36: 2 | G36: 1e-06 | H36: 1 | I36: 1 | J36: 1 | K36: 1e-06 | L36: 1
A37: KCN | B37: 0.1 | C37: =SUM(M37:AY37) -> 0 | E37: =SUM(F37:L37) -> 4.000101 | F37: 4 | G37: 0.0001 | K37: 1e-06
A38: CdV CI 1500V | B38: 0.1 | C38: =SUM(M38:AY38) -> 0 | E38: =SUM(F38:L38) -> 20.000002 | F38: 2 | G38: 1e-06 | H38: 2 | I38: 12 | J38: 2 | K38: 1e-06 | L38: 2
A39: CdV CI 25000V | B39: 0.1 | C39: =SUM(M39:AY39) -> 0 | E39: =SUM(F39:L39) -> 17.000002 | F39: 2 | G39: 1e-06 | H39: 2 | I39: 9 | J39: 2 | K39: 1e-06 | L39: 2
A40: CdV UM71 | B40: 0.1 | C40: =SUM(M40:AY40) -> 0 | E40: =SUM(F40:L40) -> 18 | F40: 4 | G40: 0 | H40: 3 | I40: 5 | J40: 4 | K40: 1e-07 | L40: 2
A41: CdV Mono-rail | B41: 0.1 | C41: =SUM(M41:AY41) -> 0 | E41: =SUM(F41:L41) -> 16.000002 | F41: 2 | G41: 1e-06 | H41: 2 | I41: 8 | J41: 2 | K41: 1e-06 | L41: 2
A42: Cm.Ag | B42: 0.1 | C42: =SUM(M42:AY42) -> 0 | E42: =SUM(F42:L42) -> 6.000002 | F42: 2 | G42: 1e-06 | H42: 1 | I42: 1 | J42: 1 | K42: 1e-06 | L42: 1
A43: Cm.B (sur signaux) | B43: 0.1 | C43: =SUM(M43:AY43) -> 0 | E43: =SUM(F43:L43) -> 6.000002 | F43: 1 | G43: 1e-06 | H43: 1 | I43: 1 | J43: 2 | K43: 1e-06 | L43: 1
A44: Cm.Blocage | B44: 0.1 | C44: =SUM(M44:AY44) -> 0 | E44: =SUM(F44:L44) -> 8.000101 | F44: 2 | G44: 0.0001 | H44: 2 | I44: 1 | J44: 2 | K44: 1e-06 | L44: 1
A45: Cm.ZEP | B45: 0.1 | C45: =SUM(M45:AY45) -> 0 | E45: =SUM(F45:L45) -> 11.000101 | F45: 3 | G45: 0.0001 | H45: 2 | I45: 2 | J45: 3 | K45: 1e-06 | L45: 1
A46: Coffret divers | B46: 0.1 | C46: =SUM(M46:AY46) -> 0 | E46: =SUM(F46:L46) -> 20.000101 | F46: 3 | G46: 0.0001 | H46: 7 | I46: 2 | J46: 6 | K46: 1e-06 | L46: 2
A47: Coffret EDF | B47: 0.1 | C47: =SUM(M47:AY47) -> 0 | E47: =SUM(F47:L47) -> 5.000101 | F47: 2 | G47: 0.0001 | H47: 0 | I47: 0 | J47: 2 | K47: 1e-06 | L47: 1
A48: Commut | B48: 0.1 | C48: =SUM(M48:AY48) -> 0 | E48: =SUM(F48:L48) -> 6.000002 | F48: 2 | G48: 1e-06 | H48: 1 | I48: 1 | J48: 1 | K48: 1e-06 | L48: 1
A49: CRO | B49: 0.1 | C49: =SUM(M49:AY49) -> 0 | E49: =SUM(F49:L49) -> 12.000002 | F49: 2 | G49: 1e-06 | H49: 1 | I49: 6 | J49: 2 | K49: 1e-06 | L49: 1
... A111: Racco ZUG | B111: 0.1 | C111: =SUM(M111:AY111) -> 0 | E111: =SUM(F111:L111) -> 1.050004 | F111: 1e-06 | G111: 1e-06 | H111: 0.25 | I111: 1e-06 | J111: 1e-06 | K111: 0.7 | L111: 0.1
B112: 0.1 | C112: =SUM(M112:AY112) -> 0
B113: 0.1 | C113: =SUM(M113:AY113) -> 0
A114: Armoire EE | B114: 0.1 | C114: =SUM(M114:AY114) -> 0 | E114: =SUM(F114:L114) -> 0
B115: 0.1 | C115: =SUM(M115:AY115) -> 0 | E115: =SUM(F115:L115) -> 0
A116: STM "Tt PA" | B116: 0.1 | C116: =SUM(M116:AY116) -> 4.5 | E116: =SUM(F116:L116) -> 7 | F116: 1 | G116: 1 | H116: 1 | I116: 1 | J116: 1 | K116: 1 | L116: 1 | N116: 4.5
A117: STM "DCV" | B117: 0.1 | C117: =SUM(M117:AY117) -> 1.5 | E117: =SUM(F117:L117) -> 0 | M117: 1.5
A118: DATZD | B118: 0.1 | C118: =SUM(M118:AY118) -> 13 | E118: =SUM(F118:L118) -> 0 | N118: 9 | W118: 4
B119: 0.1 | C119: =SUM(M119:AY119) -> 0 | E119: =SUM(F119:L119) -> 0
A120: SIGNAL EXISTANT "remplacement cible> Phase PROVISOIRE"….cible A (AMPOULE => ZPFU 2p. => STM.PM avec ES8) | B120: 0.1 | C120: =SUM(M120:AY120) -> 4.5 | E120: =SUM(F120:L120) -> 0 | M120: 1.5 | AF120: 3
A121: SIGNAL EXISTANT "remplacement cible> Phase PROVISOIRE"….cible A (AMPOULE) | B121: 0.1 | C121: =SUM(M121:AY121) -> 0 | E121: =SUM(F121:L121) -> 0
A122: SIGNAL EXISTANT "remplacement cible> Phase PROVISOIRE"….cible A (AMPOULE => ZPFU 2p. => 3m => STM.PM avec 6x ES8 | B122: 0.1 | C122: =SUM(M122:AY122) -> 4.5 | E122: =SUM(F122:L122) -> 28 | F122: 1 | G122: 2 | H122: 3 | I122: 4 | J122: 5 | K122: 6 | L122: 7 | M122: 1.5 | AF122: 3
A123: SIGNAL EXISTANT "réemploi de la cible> phase FINALE"………….cible artisanale A (LED => 8m. amorce ZPFU 1p.) + STM.MM | B123: 0.1 | C123: =SUM(M123:AY123) -> 6 | E123: =SUM(F123:L123) -> 0 | N123: 4.5 | AC123: 1.5
A124: SIGNAL EXISTANT "réemploi de la cible> phase FINALE"………….cible artisanale A (LED => 8m. amorce ZPFU 1p.) + STM.MM + ŒILLETON NEUF | B124: 0.1 | C124: =SUM(M124:AY124) -> 0 | E124: =SUM(F124:L124) -> 0
A125: SIGNAL EXISTANT "réemploi de la cible> phase FINALE"………….cible artisanale A (LED => 8m. amorce ZPFU 1p.) | B125: 0.1 | C125: =SUM(M125:AY125) -> 0 | E125: =SUM(F125:L125) -> 0
A126: SIGNAL EXISTANT Changement de cible>phase FINALE………….cible A DEFINITIVE (LED => 8m. amorce ZPFU 1p.) + STM.MM | B126: 0.1 | C126: =SUM(M126:AY126) -> 0 | E126: =SUM(F126:L126) -> 0
A127: SIGNAL EXISTANT "remplacement cible> Phase PROVISOIRE"….cible C (AMPOULE => ZPFU 2p. => STM.PM avec ES8) | B127: 0.1 | C127: =SUM(M127:AY127) -> 6.5 | E127: =SUM(F127:L127) -> 0 | M127: 1.5 | AG127: 5
A128: SIGNAL EXISTANT "remplacement cible> Phase PROVISOIRE"….cible C (AMPOULES SEULEMENT) | B128: 0.1 | C128: =SUM(M128:AY128) -> 0 | E128: =SUM(F128:L128) -> 0
A129: SIGNAL EXISTANT "réemploi de la cible> phase FINALE"………….cible artisanale C (LED => 8m. amorce ZPFU 1p.) + STM.MM | B129: 0.1 | C129: =SUM(M129:AY129) -> 6.5 | E129: =SUM(F129:L129) -> 0 | N129: 4.5 | AC129: 2
A130: SIGNAL EXISTANT "remplacement cible> Phase PROVISOIRE"….cible F (AMPOULE => ZPFU 2p. => STM.PM avec ES8) | B130: 0.1 | C130: =SUM(M130:AY130) -> 0 | E130: =SUM(F130:L130) -> 0
A131: SIGNAL EXISTANT "réemploi de la cible> phase FINALE"………….cible artisanale F (LED => 8m. amorce ZPFU 1p.) + STM.MM | B131: 0.1 | C131: =SUM(M131:AY131) -> 0 | E131: =SUM(F131:L131) -> 0
A132: SIGNAL EXISTANT aucun changement …… ………………………….cible F (juste cable alim à dérouler) | B132: 0.1 | C132: =SUM(M132:AY132) -> 0 | E132: =SUM(F132:L132) -> 0
A133: SIGNAL EXISTANT "remplacement cible> Phase PROVISOIRE"….cible H (AMPOULE => ZPFU 2p. => STM.PM avec ES8) | B133: 0.1 | C133: =SUM(M133:AY133) -> 10.5 | E133: =SUM(F133:L133) -> 0 | M133: 1.5 | AI133: 9
A134: SIGNAL EXISTANT "remplacement cible> Phase PROVISOIRE"….cible H (AMPOULE) | B134: 0.1 | C134: =SUM(M134:AY134) -> 0 | E134: =SUM(F134:L134) -> 0
A135: SIGNAL EXISTANT "réemploi de la cible> phase FINALE"………….cible artisanale H (LED => 8m. amorce ZPFU 1p.) + STM.MM | B135: 0.1 | C135: =SUM(M135:AY135) -> 8.5 | E135: =SUM(F135:L135) -> 0 | N135: 4.5 | AC135: 4
A136: SIGNAL EXISTANT "réemploi de la cible> phase FINALE"………….cible artisanale R (LED => 8m. amorce ZPFU 1p.) + STM.MM | B136: 0.1 | C136: =SUM(M136:AY136) -> 0 | E136: =SUM(F136:L136) -> 0
B137: 0.1 | C137: =SUM(M137:AY137) -> 0 | E137: =SUM(F137:L137) -> 0
A138: SIGNAL EXISTANT "phase FINALE"...OEILLETON (LED => 8m. amorce ZPFU 1p.) | B138: 0.1 | C138: =SUM(M138:AY138) -> 1 | E138: =SUM(F138:L138) -> 0 | AD138: 1
B139: 0.1 | C139: =SUM(M139:AY139) -> 0 | E139: =SUM(F139:L139) -> 0
A140: SIGNAL EXISTANT : ajout d'un Cm Bloquage | B140: 0.1 | C140: =SUM(M140:AY140) -> 0.5 | E140: =SUM(F140:L140) -> 0 | AA140: 0.5
A141: SIGNAL EXISTANT : Cm Bloquage EXISTANT | B141: 0.1 | C141: =SUM(M141:AY141) -> 0 | E141: =SUM(F141:L141) -> 0
B142: 0.1 | C142: =SUM(M142:AY142) -> 0 | E142: =SUM(F142:L142) -> 0
A143: SIGNAL EXISTANT : ajout d'un Caisson 80 "TIV30" NOUVEAU | B143: 0.1 | C143: =SUM(M143:AY143) -> 0 | E143: =SUM(F143:L143) -> 21.000101 | F143: 3 | G143: 0.0001 | H143: 6 | I143: 8 | J143: 3 | K143: 1e-06 | L143: 1
A144: SIGNAL EXISTANT : ID 1-2 EXISTANT | B144: 0.1 | C144: =SUM(M144:AY144) -> 0 | E144: =SUM(F144:L144) -> 0
A145: SIGNAL EXISTANT : ID 1-2-3 EXISTANT | B145: 0.1 | C145: =SUM(M145:AY145) -> 0 | E145: =SUM(F145:L145) -> 0
A146: SIGNAL EXISTANT : ajout d'un Caisson Lumineux 66 "G" NOUVEAU | B146: 0.1 | C146: =SUM(M146:AY146) -> 2 | E146: =SUM(F146:L146) -> 0 | AQ146: 2
B147: 0.1 | C147: =SUM(M147:AY147) -> 0 | E147: =SUM(F147:L147) -> 0
A148: SIGNAL EXISTANT : Caisson 80 "TIV30" EXISTANT | B148: 0.1 | C148: =SUM(M148:AY148) -> 0 | E148: =SUM(F148:L148) -> 6.000001 | F148: 3 | G148: 0 | H148: 0 | I148: 0 | J148: 2 | K148: 1e-06 | L148: 1
A149: SIGNAL EXISTANT : Caisson 80 "TIV30" EXISTANT | B149: 0.1 | C149: =SUM(M149:AY149) -> 0 | E149: =SUM(F149:L149) -> 0
A150: SIGNAL EXISTANT : Caisson 80 "TIV30" EXISTANT + STM | B150: 0.1 | C150: =SUM(M150:AY150) -> 0 | E150: =SUM(F150:L150) -> 0
A151: SIGNAL EXISTANT : Caisson 80 "TIV40" EXISTANT | B151: 0.1 | C151: =SUM(M151:AY151) -> 0 | E151: =SUM(F151:L151) -> 0
A152: SIGNAL EXISTANT : Caisson 80 "TIV50" EXISTANT | B152: 0.1 | C152: =SUM(M152:AY152) -> 0 | E152: =SUM(F152:L152) -> 0
A153: SIGNAL EXISTANT : Caisson 80 "TIV60" EXISTANT | B153: 0.1 | C153: =SUM(M153:AY153) -> 0 | E153: =SUM(F153:L153) -> 0
A154: SIGNAL EXISTANT : Caisson 80 "TIV80" EXISTANT + STM CRO | B154: 0.1 | C154: =SUM(M154:AY154) -> 0 | E154: =SUM(F154:L154) -> 0
A155: SIGNAL EXISTANT : Caisson Lumineux 66 "G" EXISTANT | B155: 0.1 | C155: =SUM(M155:AY155) -> 0 | E155: =SUM(F155:L155) -> 0
A156: SIGNAL EXISTANT "phase FINALE"…CAISSON G neuf | B156: 0.1 | C156: =SUM(M156:AY156) -> 0 | E156: =SUM(F156:L156) -> 0
A157: SIGNAL EXISTANT : CAISSON G EXISTANT | B157: 0.1 | C157: =SUM(M157:AY157) -> 0 | E157: =SUM(F157:L157) -> 0
A158: SIGNAL EXISTANT : Caisson 40 "HEURTOIR à 150m" NOUVEAU +SUPPORT NOUVEAU | B158: 0.1 | C158: =SUM(M158:AY158) -> 0 | E158: =SUM(F158:L158) -> 0
B159: 0.1 | C159: =SUM(M159:AY159) -> 0 | E159: =SUM(F159:L159) -> 0
A160: SIGNAL EXISTANT "remplacement cible> Phase PROVISOIRE"….cible pour ID2-ID3(AMPOULE) | B160: 0.1 | C160: =SUM(M160:AY160) -> 0 | E160: =SUM(F160:L160) -> 0
A161: SIGNAL EXISTANT "réemploi de la cible> phase FINALE"………….cible artisanale pour ID2-ID3 (LED => 8m. amorce ZPFU 1p.) | B161: 0.1 | C161: =SUM(M161:AY161) -> 0 | E161: =SUM(F161:L161) -> 0
...

Sheet Chantier Global
G2: =Zone!B1 -> test
F9: =TODAY() -> 43858
A11: Identification de l'IS | F11: Avancement % par centres et par taches
A12: Postes | B12: Centres | C12: SOUS- TOTAL | D12: Temps de production par centre | F12: Déroulage câble | G12: Equipement poste (Neuf ou modif) | H12: Prépa Parc | I12: Pose à la voie | J12: Racco voie | K12: Racco Centre | L12: Contrôle | M12: COMMENTAIRES | N12: % AV
A13: P66 | B13: CENTRE 1 | C13: SOUS-TOTAL | D13: =SUM('P66'!G12:G19) -> 182 | F13: =SUMPRODUCT('P66'!H12:H19,'P66'!P12:P19)/SUM('P66'!H12:H19) -> 0.8 | G13: =SUMPRODUCT('P66'!I12:I19,'P66'!Q12:Q19)/SUM('P66'!I12:I19) -> 0.8 | H13: =SUMPRODUCT('P66'!J12:J19,'P66'!R12:R19)/SUM('P66'!J12:J19) -> 0.8 | I13: =SUMPRODUCT('P66'!K12:K19,'P66'!S12:S19)/SUM('P66'!K12:K19) -> 0.8 | J13: =SUMPRODUCT('P66'!L12:L19,'P66'!T12:T19)/SUM('P66'!L12:L19) -> 0.8 | K13: =SUMPRODUCT('P66'!M12:M19,'P66'!U12:U19)/SUM('P66'!M12:M19) -> 0.8 | L13: =SUMPRODUCT('P66'!N12:N19,'P66'!V12:V19)/SUM('P66'!N12:N19) -> 0.1 | N13: =SUMPRODUCT('P66'!H12:N19,'P66'!P12:V19)/SUM('P66'!H12:N19) -> 0.7
A14: P66 | B14: CENTRE 1 | C14: SOUS-TOTAL | D14: =SUMPRODUCT(('P66'!$B$5:$B$199='Chantier Global'!B14)*('P66'!$G$5:$G$199)) -> 182 | F14: =SUMPRODUCT(('P66'!$B$5:$B$199='Chantier Global'!B14)*('P66'!H5:H199)*('P66'!P5:P199))/SUM('P66'!H5:H199) -> 0.37142857
A30: CENTRE 1 | C30: TOTAL GENERAL | D30: =SUM(D13:D27) -> 364 | F30: =SUM(F13:F29)/13 -> 0.09010989 | G30: =SUM(G13:G29)/3 -> 0.26666667 | H30: =SUM(H13:H29)/17 -> 0.047058824 | I30: =SUM(I13:I29)/17 -> 0.047058824 | J30: =SUM(J13:J29)/16 -> 0.05 | K30: =SUM(K13:K29)/15 -> 0.053333333 | L30: =SUM(L13:L29)/17 -> 0.0058823529 | N30: =SUM(N13:N29)/17 -> 0.041176471
I41: ²

Sheet P66
B1: =Zone!B1 -> test | F1: =TODAY() -> 43858
A3: Identification de l'IS | G3: Temps Production - Temps élémentaires | P3: Avancement | Z3: PREPA SUR PARC | AJ3: INSTALLATION EN VOIE ou POSTE | AN3: RACCORDEMENT
A4: Zone | B4: Centres | C4: Travaux | D4: Commentaires : particularité de l'IS | E4: Nbre éléments pour poste | F4: Type IS | G4: TOTAL | H4: Déroulage câble | I4: Equipement poste (Neuf ou Modif) | J4: Prépa Parc | K4: Pose à la voie | L4: Racco voie | M4: Racco Centre | N4: Contrôle | P4: Déroulage câble | Q4: Equipement poste (Neuf ou modif) | R4: Prépa Parc | S4: Pose à la voie | T4: Racco voie | U4: Racco Centre | V4: Contrôle | W4: COMMENTAIRES | Z4: Préparation à réaliser pour | AA4: Relevé terrain | AB4: Méca réalisée par Nom Date | AD4: Câblage réalisé par Nom Date | AF4: Réserves Oui Non | AH4: Réserves | AJ4: Installé par | AK4: Travaux terminé | AL4: Réserves / Commentaires | AN4: Raccordé par | AO4: Travaux terminé | AP4: Réserves / Commentaires
A5: P66 | B5: C.RCH01-1 | C5: SVM.RCH.2 Ag6678a | F5: SVM Cadre | G5: =SUM(H5:N5) -> 28 | H5: =_xlfn.IFS($E5>0,VLOOKUP($F5,objets!$A$2:$L5085,6,FALSE)*$E5,$F5="",0,$E5="",VLOOKUP($F5,objets!$A$2:$L5085,6,FALSE)) -> 4 | I5: =_xlfn.IFS($E5>0,VLOOKUP($F5,objets!$A$2:$L5085,6,FALSE)*$E5,$F5="",0,$E5="",VLOOKUP($F5,objets!$A$2:$L5085,6,FALSE)) -> 4 | J5: =_xlfn.IFS($E5>0,VLOOKUP($F5,objets!$A$2:$L5085,6,FALSE)*$E5,$F5="",0,$E5="",VLOOKUP($F5,objets!$A$2:$L5085,6,FALSE)) -> 4 | K5: =_xlfn.IFS($E5>0,VLOOKUP($F5,objets!$A$2:$L5085,6,FALSE)*$E5,$F5="",0,$E5="",VLOOKUP($F5,objets!$A$2:$L5085,6,FALSE)) -> 4 | L5: =_xlfn.IFS($E5>0,VLOOKUP($F5,objets!$A$2:$L5085,6,FALSE)*$E5,$F5="",0,$E5="",VLOOKUP($F5,objets!$A$2:$L5085,6,FALSE)) -> 4 | M5: =_xlfn.IFS($E5>0,VLOOKUP($F5,objets!$A$2:$L5085,6,FALSE)*$E5,$F5="",0,$E5="",VLOOKUP($F5,objets!$A$2:$L5085,6,FALSE)) -> 4 | N5: =_xlfn.IFS($E5>0,VLOOKUP($F5,objets!$A$2:$L5085,6,FALSE)*$E5,$F5="",0,$E5="",VLOOKUP($F5,objets!$A$2:$L5085,6,FALSE)) -> 4 | P5: 0.8 | Q5: 0.8 | R5: 0.8 | S5: 0.8 | T5: 0.8 | U5: 0.8 | V5: 0.1 | X5: =SUMPRODUCT(H5:N5,P5:V5)/SUM(H5:N5) -> 0.7
A6: P66 | B6: C.RCH01-1 | C6: SVM.RCH.2 Ag6678 | F6: SVM Cadre | G6: =SUM(H6:N6) -> 28 | H6: =_xlfn.IFS($E6>0,VLOOKUP($F6,objets!$A$2:$L5086,6,FALSE)*$E6,$F6="",0,$E6="",VLOOKUP($F6,objets!$A$2:$L5086,6,FALSE)) -> 4 | I6: =_xlfn.IFS($E6>0,VLOOKUP($F6,objets!$A$2:$L5086,6,FALSE)*$E6,$F6="",0,$E6="",VLOOKUP($F6,objets!$A$2:$L5086,6,FALSE)) -> 4 | J6: =_xlfn.IFS($E6>0,VLOOKUP($F6,objets!$A$2:$L5086,6,FALSE)*$E6,$F6="",0,$E6="",VLOOKUP($F6,objets!$A$2:$L5086,6,FALSE)) -> 4 | K6: =_xlfn.IFS($E6>0,VLOOKUP($F6,objets!$A$2:$L5086,6,FALSE)*$E6,$F6="",0,$E6="",VLOOKUP($F6,objets!$A$2:$L5086,6,FALSE)) -> 4 | L6: =_xlfn.IFS($E6>0,VLOOKUP($F6,objets!$A$2:$L5086,6,FALSE)*$E6,$F6="",0,$E6="",VLOOKUP($F6,objets!$A$2:$L5086,6,FALSE)) -> 4 | M6: =_xlfn.IFS($E6>0,VLOOKUP($F6,objets!$A$2:$L5086,6,FALSE)*$E6,$F6="",0,$E6="",VLOOKUP($F6,objets!$A$2:$L5086,6,FALSE)) -> 4 | N6: =_xlfn.IFS($E6>0,VLOOKUP($F6,objets!$A$2:$L5086,6,FALSE)*$E6,$F6="",0,$E6="",VLOOKUP($F6,objets!$A$2:$L5086,6,FALSE)) -> 4 | P6: 0.8 | Q6: 0.8 | R6: 0.8 | S6: 0.8 | T6: 0.8 | U6: 0.8 | V6: 0.1 | X6: =SUMPRODUCT(H6:N6,P6:V6)/SUM(H6:N6) -> 0.7
A7: P66 | B7: C.RCH04-1 | C7: SVM.RCH.1 Ag6677ac | F7: SVM Cadre | G7: =SUM(H7:N7) -> 28 | H7: =_xlfn.IFS($E7>0,VLOOKUP($F7,objets!$A$2:$L5074,6,FALSE)*$E7,$F7="",0,$E7="",VLOOKUP($F7,objets!$A$2:$L5074,6,FALSE)) -> 4 | I7: =_xlfn.IFS($E7>0,VLOOKUP($F7,objets!$A$2:$L5074,6,FALSE)*$E7,$F7="",0,$E7="",VLOOKUP($F7,objets!$A$2:$L5074,6,FALSE)) -> 4 | J7: =_xlfn.IFS($E7>0,VLOOKUP($F7,objets!$A$2:$L5074,6,FALSE)*$E7,$F7="",0,$E7="",VLOOKUP($F7,objets!$A$2:$L5074,6,FALSE)) -> 4 | K7: =_xlfn.IFS($E7>0,VLOOKUP($F7,objets!$A$2:$L5074,6,FALSE)*$E7,$F7="",0,$E7="",VLOOKUP($F7,objets!$A$2:$L5074,6,FALSE)) -> 4 | L7: =_xlfn.IFS($E7>0,VLOOKUP($F7,objets!$A$2:$L5074,6,FALSE)*$E7,$F7="",0,$E7="",VLOOKUP($F7,objets!$A$2:$L5074,6,FALSE)) -> 4 | M7: =_xlfn.IFS($E7>0,VLOOKUP($F7,objets!$A$2:$L5074,6,FALSE)*$E7,$F7="",0,$E7="",VLOOKUP($F7,objets!$A$2:$L5074,6,FALSE)) -> 4 | N7: =_xlfn.IFS($E7>0,VLOOKUP($F7,objets!$A$2:$L5074,6,FALSE)*$E7,$F7="",0,$E7="",VLOOKUP($F7,objets!$A$2:$L5074,6,FALSE)) -> 4 | P7: 0.8 | Q7: 0.8 | R7: 0.8 | S7: 0.8 | T7: 0.8 | U7: 0.8 | V7: 0.1 | X7: =SUMPRODUCT(H7:N7,P7:V7)/SUM(H7:N7) -> 0.7
A8: P66 | B8: C.RCH06-1 | C8: SVM.RCH.2 Ag6677ac | F8: SVM Cadre | G8: =SUM(H8:N8) -> 28 | H8: =_xlfn.IFS($E8>0,VLOOKUP($F8,objets!$A$2:$L4907,6,FALSE)*$E8,$F8="",0,$E8="",VLOOKUP($F8,objets!$A$2:$L4907,6,FALSE)) -> 4 | I8: =_xlfn.IFS($E8>0,VLOOKUP($F8,objets!$A$2:$L4907,6,FALSE)*$E8,$F8="",0,$E8="",VLOOKUP($F8,objets!$A$2:$L4907,6,FALSE)) -> 4 | J8: =_xlfn.IFS($E8>0,VLOOKUP($F8,objets!$A$2:$L4907,6,FALSE)*$E8,$F8="",0,$E8="",VLOOKUP($F8,objets!$A$2:$L4907,6,FALSE)) -> 4 | K8: =_xlfn.IFS($E8>0,VLOOKUP($F8,objets!$A$2:$L4907,6,FALSE)*$E8,$F8="",0,$E8="",VLOOKUP($F8,objets!$A$2:$L4907,6,FALSE)) -> 4 | L8: =_xlfn.IFS($E8>0,VLOOKUP($F8,objets!$A$2:$L4907,6,FALSE)*$E8,$F8="",0,$E8="",VLOOKUP($F8,objets!$A$2:$L4907,6,FALSE)) -> 4 | M8: =_xlfn.IFS($E8>0,VLOOKUP($F8,objets!$A$2:$L4907,6,FALSE)*$E8,$F8="",0,$E8="",VLOOKUP($F8,objets!$A$2:$L4907,6,FALSE)) -> 4 | N8: =_xlfn.IFS($E8>0,VLOOKUP($F8,objets!$A$2:$L4907,6,FALSE)*$E8,$F8="",0,$E8="",VLOOKUP($F8,objets!$A$2:$L4907,6,FALSE)) -> 4 | P8: 0.8 | Q8: 0.8 | R8: 0.8 | S8: 0.8 | T8: 0.8 | U8: 0.8 | V8: 0.1 | X8: =SUMPRODUCT(H8:N8,P8:V8)/SUM(H8:N8) -> 0.7
A9: P66 | B9: CE01-1 | C9: SVM.RCH.1 Ag6672bd | F9: SVM Cadre | G9: =SUM(H9:N9) -> 28 | H9: =_xlfn.IFS($E9>0,VLOOKUP($F9,objets!$A$2:$L4908,6,FALSE)*$E9,$F9="",0,$E9="",VLOOKUP($F9,objets!$A$2:$L4908,6,FALSE)) -> 4 | I9: =_xlfn.IFS($E9>0,VLOOKUP($F9,objets!$A$2:$L4908,6,FALSE)*$E9,$F9="",0,$E9="",VLOOKUP($F9,objets!$A$2:$L4908,6,FALSE)) -> 4 | J9: =_xlfn.IFS($E9>0,VLOOKUP($F9,objets!$A$2:$L4908,6,FALSE)*$E9,$F9="",0,$E9="",VLOOKUP($F9,objets!$A$2:$L4908,6,FALSE)) -> 4 | K9: =_xlfn.IFS($E9>0,VLOOKUP($F9,objets!$A$2:$L4908,6,FALSE)*$E9,$F9="",0,$E9="",VLOOKUP($F9,objets!$A$2:$L4908,6,FALSE)) -> 4 | L9: =_xlfn.IFS($E9>0,VLOOKUP($F9,objets!$A$2:$L4908,6,FALSE)*$E9,$F9="",0,$E9="",VLOOKUP($F9,objets!$A$2:$L4908,6,FALSE)) -> 4 | M9: =_xlfn.IFS($E9>0,VLOOKUP($F9,objets!$A$2:$L4908,6,FALSE)*$E9,$F9="",0,$E9="",VLOOKUP($F9,objets!$A$2:$L4908,6,FALSE)) -> 4 | N9: =_xlfn.IFS($E9>0,VLOOKUP($F9,objets!$A$2:$L4908,6,FALSE)*$E9,$F9="",0,$E9="",VLOOKUP($F9,objets!$A$2:$L4908,6,FALSE)) -> 4 | P9: 0.8 | Q9: 0.8 | R9: 0.8 | S9: 0.8 | T9: 0.8 | U9: 0.8 | V9: 0.1 | X9: =SUMPRODUCT(H9:N9,P9:V9)/SUM(H9:N9) -> 0.7
A10: P66 | B10: CE01-1 | C10: SVM.RCH.1 Dr6678b | F10: SVM Cadre | G10: =SUM(H10:N10) -> 28 | H10: =_xlfn.IFS($E10>0,VLOOKUP($F10,objets!$A$2:$L4909,6,FALSE)*$E10,$F10="",0,$E10="",VLOOKUP($F10,objets!$A$2:$L4909,6,FALSE)) -> 4 | I10: =_xlfn.IFS($E10>0,VLOOKUP($F10,objets!$A$2:$L4909,6,FALSE)*$E10,$F10="",0,$E10="",VLOOKUP($F10,objets!$A$2:$L4909,6,FALSE)) -> 4 | J10: =_xlfn.IFS($E10>0,VLOOKUP($F10,objets!$A$2:$L4909,6,FALSE)*$E10,$F10="",0,$E10="",VLOOKUP($F10,objets!$A$2:$L4909,6,FALSE)) -> 4 | K10: =_xlfn.IFS($E10>0,VLOOKUP($F10,objets!$A$2:$L4909,6,FALSE)*$E10,$F10="",0,$E10="",VLOOKUP($F10,objets!$A$2:$L4909,6,FALSE)) -> 4 | L10: =_xlfn.IFS($E10>0,VLOOKUP($F10,objets!$A$2:$L4909,6,FALSE)*$E10,$F10="",0,$E10="",VLOOKUP($F10,objets!$A$2:$L4909,6,FALSE)) -> 4 | M10: =_xlfn.IFS($E10>0,VLOOKUP($F10,objets!$A$2:$L4909,6,FALSE)*$E10,$F10="",0,$E10="",VLOOKUP($F10,objets!$A$2:$L4909,6,FALSE)) -> 4 | N10: =_xlfn.IFS($E10>0,VLOOKUP($F10,objets!$A$2:$L4909,6,FALSE)*$E10,$F10="",0,$E10="",VLOOKUP($F10,objets!$A$2:$L4909,6,FALSE)) -> 4 | P10: 0.8 | Q10: 0.8 | R10: 0.8 | S10: 0.8 | T10: 0.8 | U10: 0.8 | V10: 0.1 | X10: =SUMPRODUCT(H10:N10,P10:V10)/SUM(H10:N10) -> 0.7
A11: P66 | B11: CE01-1 | C11: C.RCH04-1 | F11: VCM | G11: =SUM(H11:N11) -> 14 | H11: =_xlfn.IFS($E11>0,VLOOKUP($F11,objets!$A$2:$L4908,6,FALSE)*$E11,$F11="",0,$E11="",VLOOKUP($F11,objets!$A$2:$L4908,6,FALSE)) -> 2 | I11: =_xlfn.IFS($E11>0,VLOOKUP($F11,objets!$A$2:$L4908,6,FALSE)*$E11,$F11="",0,$E11="",VLOOKUP($F11,objets!$A$2:$L4908,6,FALSE)) -> 2 | J11: =_xlfn.IFS($E11>0,VLOOKUP($F11,objets!$A$2:$L4908,6,FALSE)*$E11,$F11="",0,$E11="",VLOOKUP($F11,objets!$A$2:$L4908,6,FALSE)) -> 2 | K11: =_xlfn.IFS($E11>0,VLOOKUP($F11,objets!$A$2:$L4908,6,FALSE)*$E11,$F11="",0,$E11="",VLOOKUP($F11,objets!$A$2:$L4908,6,FALSE)) -> 2 | L11: =_xlfn.IFS($E11>0,VLOOKUP($F11,objets!$A$2:$L4908,6,FALSE)*$E11,$F11="",0,$E11="",VLOOKUP($F11,objets!$A$2:$L4908,6,FALSE)) -> 2 | M11: =_xlfn.IFS($E11>0,VLOOKUP($F11,objets!$A$2:$L4908,6,FALSE)*$E11,$F11="",0,$E11="",VLOOKUP($F11,objets!$A$2:$L4908,6,FALSE)) -> 2 | N11: =_xlfn.IFS($E11>0,VLOOKUP($F11,objets!$A$2:$L4908,6,FALSE)*$E11,$F11="",0,$E11="",VLOOKUP($F11,objets!$A$2:$L4908,6,FALSE)) -> 2 | P11: 0.8 | Q11: 0.8 | R11: 0.8 | S11: 0.8 | T11: 0.8 | U11: 0.8 | V11: 0.1 | X11: =SUMPRODUCT(H11:N11,P11:V11)/SUM(H11:N11) -> 0.7
A12: P66 | B12: CENTRE 1 | C12: TH.C.RCH.VCC | F12: RCH VCC | G12: =SUM(H12:N12) -> 14 | H12: =_xlfn.IFS($E12>0,VLOOKUP($F12,objets!$A$2:$L4909,6,FALSE)*$E12,$F12="",0,$E12="",VLOOKUP($F12,objets!$A$2:$L4909,6,FALSE)) -> 2 | I12: =_xlfn.IFS($E12>0,VLOOKUP($F12,objets!$A$2:$L4909,6,FALSE)*$E12,$F12="",0,$E12="",VLOOKUP($F12,objets!$A$2:$L4909,6,FALSE)) -> 2 | J12: =_xlfn.IFS($E12>0,VLOOKUP($F12,objets!$A$2:$L4909,6,FALSE)*$E12,$F12="",0,$E12="",VLOOKUP($F12,objets!$A$2:$L4909,6,FALSE)) -> 2 | K12: =_xlfn.IFS($E12>0,VLOOKUP($F12,objets!$A$2:$L4909,6,FALSE)*$E12,$F12="",0,$E12="",VLOOKUP($F12,objets!$A$2:$L4909,6,FALSE)) -> 2 | L12: =_xlfn.IFS($E12>0,VLOOKUP($F12,objets!$A$2:$L4909,6,FALSE)*$E12,$F12="",0,$E12="",VLOOKUP($F12,objets!$A$2:$L4909,6,FALSE)) -> 2 | M12: =_xlfn.IFS($E12>0,VLOOKUP($F12,objets!$A$2:$L4909,6,FALSE)*$E12,$F12="",0,$E12="",VLOOKUP($F12,objets!$A$2:$L4909,6,FALSE)) -> 2 | N12: =_xlfn.IFS($E12>0,VLOOKUP($F12,objets!$A$2:$L4909,6,FALSE)*$E12,$F12="",0,$E12="",VLOOKUP($F12,objets!$A$2:$L4909,6,FALSE)) -> 2 | P12: 0.8 | Q12: 0.8 | R12: 0.8 | S12: 0.8 | T12: 0.8 | U12: 0.8 | V12: 0.1 | X12: =SUMPRODUCT(H12:N12,P12:V12)/SUM(H12:N12) -> 0.7
A13: P66 | B13: CENTRE 1 | C13: SVM.RCH.1 Ag6683ac | F13: SVM Cadre | G13: =SUM(H13:N13) -> 28 | H13: =_xlfn.IFS($E13>0,VLOOKUP($F13,objets!$A$2:$L4912,6,FALSE)*$E13,$F13="",0,$E13="",VLOOKUP($F13,objets!$A$2:$L4912,6,FALSE)) -> 4 | I13: =_xlfn.IFS($E13>0,VLOOKUP($F13,objets!$A$2:$L4912,6,FALSE)*$E13,$F13="",0,$E13="",VLOOKUP($F13,objets!$A$2:$L4912,6,FALSE)) -> 4 | J13: =_xlfn.IFS($E13>0,VLOOKUP($F13,objets!$A$2:$L4912,6,FALSE)*$E13,$F13="",0,$E13="",VLOOKUP($F13,objets!$A$2:$L4912,6,FALSE)) -> 4 | K13: =_xlfn.IFS($E13>0,VLOOKUP($F13,objets!$A$2:$L4912,6,FALSE)*$E13,$F13="",0,$E13="",VLOOKUP($F13,objets!$A$2:$L4912,6,FALSE)) -> 4 | L13: =_xlfn.IFS($E13>0,VLOOKUP($F13,objets!$A$2:$L4912,6,FALSE)*$E13,$F13="",0,$E13="",VLOOKUP($F13,objets!$A$2:$L4912,6,FALSE)) -> 4 | M13: =_xlfn.IFS($E13>0,VLOOKUP($F13,objets!$A$2:$L4912,6,FALSE)*$E13,$F13="",0,$E13="",VLOOKUP($F13,objets!$A$2:$L4912,6,FALSE)) -> 4 | N13: =_xlfn.IFS($E13>0,VLOOKUP($F13,objets!$A$2:$L4912,6,FALSE)*$E13,$F13="",0,$E13="",VLOOKUP($F13,objets!$A$2:$L4912,6,FALSE)) -> 4 | P13: 0.8 | Q13: 0.8 | R13: 0.8 | S13: 0.8 | T13: 0.8 | U13: 0.8 | V13: 0.1 | X13: =SUMPRODUCT(H13:N13,P13:V13)/SUM(H13:N13) -> 0.7
A14: P66 | B14: CENTRE 1 | C14: SVM.RCH.1 Ag6677b | F14: SVM Cadre | G14: =SUM(H14:N14) -> 28 | H14: =_xlfn.IFS($E14>0,VLOOKUP($F14,objets!$A$2:$L4913,6,FALSE)*$E14,$F14="",0,$E14="",VLOOKUP($F14,objets!$A$2:$L4913,6,FALSE)) -> 4 | I14: =_xlfn.IFS($E14>0,VLOOKUP($F14,objets!$A$2:$L4913,6,FALSE)*$E14,$F14="",0,$E14="",VLOOKUP($F14,objets!$A$2:$L4913,6,FALSE)) -> 4 | J14: =_xlfn.IFS($E14>0,VLOOKUP($F14,objets!$A$2:$L4913,6,FALSE)*$E14,$F14="",0,$E14="",VLOOKUP($F14,objets!$A$2:$L4913,6,FALSE)) -> 4 | K14: =_xlfn.IFS($E14>0,VLOOKUP($F14,objets!$A$2:$L4913,6,FALSE)*$E14,$F14="",0,$E14="",VLOOKUP($F14,objets!$A$2:$L4913,6,FALSE)) -> 4 | L14: =_xlfn.IFS($E14>0,VLOOKUP($F14,objets!$A$2:$L4913,6,FALSE)*$E14,$F14="",0,$E14="",VLOOKUP($F14,objets!$A$2:$L4913,6,FALSE)) -> 4 | M14: =_xlfn.IFS($E14>0,VLOOKUP($F14,objets!$A$2:$L4913,6,FALSE)*$E14,$F14="",0,$E14="",VLOOKUP($F14,objets!$A$2:$L4913,6,FALSE)) -> 4 | N14: =_xlfn.IFS($E14>0,VLOOKUP($F14,objets!$A$2:$L4913,6,FALSE)*$E14,$F14="",0,$E14="",VLOOKUP($F14,objets!$A$2:$L4913,6,FALSE)) -> 4 | P14: 0.8 | Q14: 0.8 | R14: 0.8 | S14: 0.8 | T14: 0.8 | U14: 0.8 | V14: 0.1 | X14: =SUMPRODUCT(H14:N14,P14:V14)/SUM(H14:N14) -> 0.7
A15: P66 | B15: CENTRE 1 | C15: SVM.RCH.1 Ag6683b | F15: SVM Cadre | G15: =SUM(H15:N15) -> 28 | H15: =_xlfn.IFS($E15>0,VLOOKUP($F15,objets!$A$2:$L4914,6,FALSE)*$E15,$F15="",0,$E15="",VLOOKUP($F15,objets!$A$2:$L4914,6,FALSE)) -> 4 | I15: =_xlfn.IFS($E15>0,VLOOKUP($F15,objets!$A$2:$L4914,6,FALSE)*$E15,$F15="",0,$E15="",VLOOKUP($F15,objets!$A$2:$L4914,6,FALSE)) -> 4 | J15: =_xlfn.IFS($E15>0,VLOOKUP($F15,objets!$A$2:$L4914,6,FALSE)*$E15,$F15="",0,$E15="",VLOOKUP($F15,objets!$A$2:$L4914,6,FALSE)) -> 4 | K15: =_xlfn.IFS($E15>0,VLOOKUP($F15,objets!$A$2:$L4914,6,FALSE)*$E15,$F15="",0,$E15="",VLOOKUP($F15,objets!$A$2:$L4914,6,FALSE)) -> 4 | L15: =_xlfn.IFS($E15>0,VLOOKUP($F15,objets!$A$2:$L4914,6,FALSE)*$E15,$F15="",0,$E15="",VLOOKUP($F15,objets!$A$2:$L4914,6,FALSE)) -> 4 | M15: =_xlfn.IFS($E15>0,VLOOKUP($F15,objets!$A$2:$L4914,6,FALSE)*$E15,$F15="",0,$E15="",VLOOKUP($F15,objets!$A$2:$L4914,6,FALSE)) -> 4 | N15: =_xlfn.IFS($E15>0,VLOOKUP($F15,objets!$A$2:$L4914,6,FALSE)*$E15,$F15="",0,$E15="",VLOOKUP($F15,objets!$A$2:$L4914,6,FALSE)) -> 4 | P15: 0.8 | Q15: 0.8 | R15: 0.8 | S15: 0.8 | T15: 0.8 | U15: 0.8 | V15: 0.1 | X15: =SUMPRODUCT(H15:N15,P15:V15)/SUM(H15:N15) -> 0.7
A16: P66 | B16: CENTRE 1 | C16: CE03-1 (Point N) | F16: CRO | G16: =SUM(H16:N16) -> 14 | H16: =_xlfn.IFS($E16>0,VLOOKUP($F16,objets!$A$2:$L4915,6,FALSE)*$E16,$F16="",0,$E16="",VLOOKUP($F16,objets!$A$2:$L4915,6,FALSE)) -> 2 | I16: =_xlfn.IFS($E16>0,VLOOKUP($F16,objets!$A$2:$L4915,6,FALSE)*$E16,$F16="",0,$E16="",VLOOKUP($F16,objets!$A$2:$L4915,6,FALSE)) -> 2 | J16: =_xlfn.IFS($E16>0,VLOOKUP($F16,objets!$A$2:$L4915,6,FALSE)*$E16,$F16="",0,$E16="",VLOOKUP($F16,objets!$A$2:$L4915,6,FALSE)) -> 2 | K16: =_xlfn.IFS($E16>0,VLOOKUP($F16,objets!$A$2:$L4915,6,FALSE)*$E16,$F16="",0,$E16="",VLOOKUP($F16,objets!$A$2:$L4915,6,FALSE)) -> 2 | L16: =_xlfn.IFS($E16>0,VLOOKUP($F16,objets!$A$2:$L4915,6,FALSE)*$E16,$F16="",0,$E16="",VLOOKUP($F16,objets!$A$2:$L4915,6,FALSE)) -> 2 | M16: =_xlfn.IFS($E16>0,VLOOKUP($F16,objets!$A$2:$L4915,6,FALSE)*$E16,$F16="",0,$E16="",VLOOKUP($F16,objets!$A$2:$L4915,6,FALSE)) -> 2 | N16: =_xlfn.IFS($E16>0,VLOOKUP($F16,objets!$A$2:$L4915,6,FALSE)*$E16,$F16="",0,$E16="",VLOOKUP($F16,objets!$A$2:$L4915,6,FALSE)) -> 2 | P16: 0.8 | Q16: 0.8 | R16: 0.8 | S16: 0.8 | T16: 0.8 | U16: 0.8 | V16: 0.1 | X16: =SUMPRODUCT(H16:N16,P16:V16)/SUM(H16:N16) -> 0.7
B17: CENTRE 1 | C17: SVM | F17: SVM Cadre | G17: =SUM(H17:N17) -> 28 | H17: =_xlfn.IFS($E17>0,VLOOKUP($F17,objets!$A$2:$L4916,6,FALSE)*$E17,$F17="",0,$E17="",VLOOKUP($F17,objets!$A$2:$L4916,6,FALSE)) -> 4 | I17: =_xlfn.IFS($E17>0,VLOOKUP($F17,objets!$A$2:$L4916,6,FALSE)*$E17,$F17="",0,$E17="",VLOOKUP($F17,objets!$A$2:$L4916,6,FALSE)) -> 4 | J17: =_xlfn.IFS($E17>0,VLOOKUP($F17,objets!$A$2:$L4916,6,FALSE)*$E17,$F17="",0,$E17="",VLOOKUP($F17,objets!$A$2:$L4916,6,FALSE)) -> 4 | K17: =_xlfn.IFS($E17>0,VLOOKUP($F17,objets!$A$2:$L4916,6,FALSE)*$E17,$F17="",0,$E17="",VLOOKUP($F17,objets!$A$2:$L4916,6,FALSE)) -> 4 | L17: =_xlfn.IFS($E17>0,VLOOKUP($F17,objets!$A$2:$L4916,6,FALSE)*$E17,$F17="",0,$E17="",VLOOKUP($F17,objets!$A$2:$L4916,6,FALSE)) -> 4 | M17: =_xlfn.IFS($E17>0,VLOOKUP($F17,objets!$A$2:$L4916,6,FALSE)*$E17,$F17="",0,$E17="",VLOOKUP($F17,objets!$A$2:$L4916,6,FALSE)) -> 4 | N17: =_xlfn.IFS($E17>0,VLOOKUP($F17,objets!$A$2:$L4916,6,FALSE)*$E17,$F17="",0,$E17="",VLOOKUP($F17,objets!$A$2:$L4916,6,FALSE)) -> 4 | P17: 0.8 | Q17: 0.8 | R17: 0.8 | S17: 0.8 | T17: 0.8 | U17: 0.8 | V17: 0.1
A18: P66 | B18: CENTRE 1 | C18: REZ6651 | F18: CRO | G18: =SUM(H18:N18) -> 14 | H18: =_xlfn.IFS($E18>0,VLOOKUP($F18,objets!$A$2:$L4914,6,FALSE)*$E18,$F18="",0,$E18="",VLOOKUP($F18,objets!$A$2:$L4914,6,FALSE)) -> 2 | I18: =_xlfn.IFS($E18>0,VLOOKUP($F18,objets!$A$2:$L4914,6,FALSE)*$E18,$F18="",0,$E18="",VLOOKUP($F18,objets!$A$2:$L4914,6,FALSE)) -> 2 | J18: =_xlfn.IFS($E18>0,VLOOKUP($F18,objets!$A$2:$L4914,6,FALSE)*$E18,$F18="",0,$E18="",VLOOKUP($F18,objets!$A$2:$L4914,6,FALSE)) -> 2 | K18: =_xlfn.IFS($E18>0,VLOOKUP($F18,objets!$A$2:$L4914,6,FALSE)*$E18,$F18="",0,$E18="",VLOOKUP($F18,objets!$A$2:$L4914,6,FALSE)) -> 2 | L18: =_xlfn.IFS($E18>0,VLOOKUP($F18,objets!$A$2:$L4914,6,FALSE)*$E18,$F18="",0,$E18="",VLOOKUP($F18,objets!$A$2:$L4914,6,FALSE)) -> 2 | M18: =_xlfn.IFS($E18>0,VLOOKUP($F18,objets!$A$2:$L4914,6,FALSE)*$E18,$F18="",0,$E18="",VLOOKUP($F18,objets!$A$2:$L4914,6,FALSE)) -> 2 | N18: =_xlfn.IFS($E18>0,VLOOKUP($F18,objets!$A$2:$L4914,6,FALSE)*$E18,$F18="",0,$E18="",VLOOKUP($F18,objets!$A$2:$L4914,6,FALSE)) -> 2 | P18: 0.8 | Q18: 0.8 | R18: 0.8 | S18: 0.8 | T18: 0.8 | U18: 0.8 | V18: 0.1 | X18: =SUMPRODUCT(H18:N18,P18:V18)/SUM(H18:N18) -> 0.7
A19: P66 | B19: CENTRE 1 | C19: SVM.3E.MOT.C Ag6683ac | F19: SVM Cadre | G19: =SUM(H19:N19) -> 28 | H19: =_xlfn.IFS($E19>0,VLOOKUP($F19,objets!$A$2:$L4915,6,FALSE)*$E19,$F19="",0,$E19="",VLOOKUP($F19,objets!$A$2:$L4915,6,FALSE)) -> 4 | I19: =_xlfn.IFS($E19>0,VLOOKUP($F19,objets!$A$2:$L4915,6,FALSE)*$E19,$F19="",0,$E19="",VLOOKUP($F19,objets!$A$2:$L4915,6,FALSE)) -> 4 | J19: =_xlfn.IFS($E19>0,VLOOKUP($F19,objets!$A$2:$L4915,6,FALSE)*$E19,$F19="",0,$E19="",VLOOKUP($F19,objets!$A$2:$L4915,6,FALSE)) -> 4 | K19: =_xlfn.IFS($E19>0,VLOOKUP($F19,objets!$A$2:$L4915,6,FALSE)*$E19,$F19="",0,$E19="",VLOOKUP($F19,objets!$A$2:$L4915,6,FALSE)) -> 4 | L19: =_xlfn.IFS($E19>0,VLOOKUP($F19,objets!$A$2:$L4915,6,FALSE)*$E19,$F19="",0,$E19="",VLOOKUP($F19,objets!$A$2:$L4915,6,FALSE)) -> 4 | M19: =_xlfn.IFS($E19>0,VLOOKUP($F19,objets!$A$2:$L4915,6,FALSE)*$E19,$F19="",0,$E19="",VLOOKUP($F19,objets!$A$2:$L4915,6,FALSE)) -> 4 | N19: =_xlfn.IFS($E19>0,VLOOKUP($F19,objets!$A$2:$L4915,6,FALSE)*$E19,$F19="",0,$E19="",VLOOKUP($F19,objets!$A$2:$L4915,6,FALSE)) -> 4 | P19: 0.8 | Q19: 0.8 | R19: 0.8 | S19: 0.8 | T19: 0.8 | U19: 0.8 | V19: 0.1 | X19: =SUMPRODUCT(H19:N19,P19:V19)/SUM(H19:N19) -> 0.7
A20: P66 | B20: Centre A-1 | C20: SVM.3E.MOT.K Ag6683ac | F20: SVM Cadre | G20: =SUM(H20:N20) -> 28 | H20: =_xlfn.IFS($E20>0,VLOOKUP($F20,objets!$A$2:$L4918,6,FALSE)*$E20,$F20="",0,$E20="",VLOOKUP($F20,objets!$A$2:$L4918,6,FALSE)) -> 4 | I20: =_xlfn.IFS($E20>0,VLOOKUP($F20,objets!$A$2:$L4918,6,FALSE)*$E20,$F20="",0,$E20="",VLOOKUP($F20,objets!$A$2:$L4918,6,FALSE)) -> 4 | J20: =_xlfn.IFS($E20>0,VLOOKUP($F20,objets!$A$2:$L4918,6,FALSE)*$E20,$F20="",0,$E20="",VLOOKUP($F20,objets!$A$2:$L4918,6,FALSE)) -> 4 | K20: =_xlfn.IFS($E20>0,VLOOKUP($F20,objets!$A$2:$L4918,6,FALSE)*$E20,$F20="",0,$E20="",VLOOKUP($F20,objets!$A$2:$L4918,6,FALSE)) -> 4 | L20: =_xlfn.IFS($E20>0,VLOOKUP($F20,objets!$A$2:$L4918,6,FALSE)*$E20,$F20="",0,$E20="",VLOOKUP($F20,objets!$A$2:$L4918,6,FALSE)) -> 4 | M20: =_xlfn.IFS($E20>0,VLOOKUP($F20,objets!$A$2:$L4918,6,FALSE)*$E20,$F20="",0,$E20="",VLOOKUP($F20,objets!$A$2:$L4918,6,FALSE)) -> 4 | N20: =_xlfn.IFS($E20>0,VLOOKUP($F20,objets!$A$2:$L4918,6,FALSE)*$E20,$F20="",0,$E20="",VLOOKUP($F20,objets!$A$2:$L4918,6,FALSE)) -> 4 | P20: 0.8 | Q20: 0.8 | R20: 0.8 | S20: 0.8 | T20: 0.8 | U20: 0.8 | V20: 0.1 | X20: =SUMPRODUCT(H20:N20,P20:V20)/SUM(H20:N20) -> 0.7
G21: =SUM(H21:N21) -> 0 | H21: =_xlfn.IFS($E21>0,VLOOKUP($F21,objets!$A$2:$L4919,6,FALSE)*$E21,$F21="",0,$E21="",VLOOKUP($F21,objets!$A$2:$L4919,6,FALSE)) -> 0 | I21: =_xlfn.IFS($E21>0,VLOOKUP($F21,objets!$A$2:$L4919,6,FALSE)*$E21,$F21="",0,$E21="",VLOOKUP($F21,objets!$A$2:$L4919,6,FALSE)) -> 0 | J21: =_xlfn.IFS($E21>0,VLOOKUP($F21,objets!$A$2:$L4919,6,FALSE)*$E21,$F21="",0,$E21="",VLOOKUP($F21,objets!$A$2:$L4919,6,FALSE)) -> 0 | K21: =_xlfn.IFS($E21>0,VLOOKUP($F21,objets!$A$2:$L4919,6,FALSE)*$E21,$F21="",0,$E21="",VLOOKUP($F21,objets!$A$2:$L4919,6,FALSE)) -> 0 | L21: =_xlfn.IFS($E21>0,VLOOKUP($F21,objets!$A$2:$L4919,6,FALSE)*$E21,$F21="",0,$E21="",VLOOKUP($F21,objets!$A$2:$L4919,6,FALSE)) -> 0 | M21: =_xlfn.IFS($E21>0,VLOOKUP($F21,objets!$A$2:$L4919,6,FALSE)*$E21,$F21="",0,$E21="",VLOOKUP($F21,objets!$A$2:$L4919,6,FALSE)) -> 0 | N21: =_xlfn.IFS($E21>0,VLOOKUP($F21,objets!$A$2:$L4919,6,FALSE)*$E21,$F21="",0,$E21="",VLOOKUP($F21,objets!$A$2:$L4919,6,FALSE)) -> 0 | X21: =SUMPRODUCT(H21:N21,P21:V21)/SUM(H21:N21) -> #DIV/0!
G22: =SUM(H22:N22) -> 0 | H22: =_xlfn.IFS($E22>0,VLOOKUP($F22,objets!$A$2:$L4920,6,FALSE)*$E22,$F22="",0,$E22="",VLOOKUP($F22,objets!$A$2:$L4920,6,FALSE)) -> 0 | I22: =_xlfn.IFS($E22>0,VLOOKUP($F22,objets!$A$2:$L4920,6,FALSE)*$E22,$F22="",0,$E22="",VLOOKUP($F22,objets!$A$2:$L4920,6,FALSE)) -> 0 | J22: =_xlfn.IFS($E22>0,VLOOKUP($F22,objets!$A$2:$L4920,6,FALSE)*$E22,$F22="",0,$E22="",VLOOKUP($F22,objets!$A$2:$L4920,6,FALSE)) -> 0 | K22: =_xlfn.IFS($E22>0,VLOOKUP($F22,objets!$A$2:$L4920,6,FALSE)*$E22,$F22="",0,$E22="",VLOOKUP($F22,objets!$A$2:$L4920,6,FALSE)) -> 0 | L22: =_xlfn.IFS($E22>0,VLOOKUP($F22,objets!$A$2:$L4920,6,FALSE)*$E22,$F22="",0,$E22="",VLOOKUP($F22,objets!$A$2:$L4920,6,FALSE)) -> 0 | M22: =_xlfn.IFS($E22>0,VLOOKUP($F22,objets!$A$2:$L4920,6,FALSE)*$E22,$F22="",0,$E22="",VLOOKUP($F22,objets!$A$2:$L4920,6,FALSE)) -> 0 | N22: =_xlfn.IFS($E22>0,VLOOKUP($F22,objets!$A$2:$L4920,6,FALSE)*$E22,$F22="",0,$E22="",VLOOKUP($F22,objets!$A$2:$L4920,6,FALSE)) -> 0 | X22: =SUMPRODUCT(H22:N22,P22:V22)/SUM(H22:N22) -> #DIV/0!
G23: =SUM(H23:N23) -> 0 | H23: =_xlfn.IFS($E23>0,VLOOKUP($F23,objets!$A$2:$L4921,6,FALSE)*$E23,$F23="",0,$E23="",VLOOKUP($F23,objets!$A$2:$L4921,6,FALSE)) -> 0 | I23: =_xlfn.IFS($E23>0,VLOOKUP($F23,objets!$A$2:$L4921,6,FALSE)*$E23,$F23="",0,$E23="",VLOOKUP($F23,objets!$A$2:$L4921,6,FALSE)) -> 0 | J23: =_xlfn.IFS($E23>0,VLOOKUP($F23,objets!$A$2:$L4921,6,FALSE)*$E23,$F23="",0,$E23="",VLOOKUP($F23,objets!$A$2:$L4921,6,FALSE)) -> 0 | K23: =_xlfn.IFS($E23>0,VLOOKUP($F23,objets!$A$2:$L4921,6,FALSE)*$E23,$F23="",0,$E23="",VLOOKUP($F23,objets!$A$2:$L4921,6,FALSE)) -> 0 | L23: =_xlfn.IFS($E23>0,VLOOKUP($F23,objets!$A$2:$L4921,6,FALSE)*$E23,$F23="",0,$E23="",VLOOKUP($F23,objets!$A$2:$L4921,6,FALSE)) -> 0 | M23: =_xlfn.IFS($E23>0,VLOOKUP($F23,objets!$A$2:$L4921,6,FALSE)*$E23,$F23="",0,$E23="",VLOOKUP($F23,objets!$A$2:$L4921,6,FALSE)) -> 0 | N23: =_xlfn.IFS($E23>0,VLOOKUP($F23,objets!$A$2:$L4921,6,FALSE)*$E23,$F23="",0,$E23="",VLOOKUP($F23,objets!$A$2:$L4921,6,FALSE)) -> 0 | X23: =SUMPRODUCT(H23:N23,P23:V23)/SUM(H23:N23) -> #DIV/0!
G24: =SUM(H24:N24) -> 0 | H24: =_xlfn.IFS($E24>0,VLOOKUP($F24,objets!$A$2:$L4920,6,FALSE)*$E24,$F24="",0,$E24="",VLOOKUP($F24,objets!$A$2:$L4920,6,FALSE)) -> 0 | I24: =_xlfn.IFS($E24>0,VLOOKUP($F24,objets!$A$2:$L4920,6,FALSE)*$E24,$F24="",0,$E24="",VLOOKUP($F24,objets!$A$2:$L4920,6,FALSE)) -> 0 | J24: =_xlfn.IFS($E24>0,VLOOKUP($F24,objets!$A$2:$L4920,6,FALSE)*$E24,$F24="",0,$E24="",VLOOKUP($F24,objets!$A$2:$L4920,6,FALSE)) -> 0 | K24: =_xlfn.IFS($E24>0,VLOOKUP($F24,objets!$A$2:$L4920,6,FALSE)*$E24,$F24="",0,$E24="",VLOOKUP($F24,objets!$A$2:$L4920,6,FALSE)) -> 0 | L24: =_xlfn.IFS($E24>0,VLOOKUP($F24,objets!$A$2:$L4920,6,FALSE)*$E24,$F24="",0,$E24="",VLOOKUP($F24,objets!$A$2:$L4920,6,FALSE)) -> 0 | M24: =_xlfn.IFS($E24>0,VLOOKUP($F24,objets!$A$2:$L4920,6,FALSE)*$E24,$F24="",0,$E24="",VLOOKUP($F24,objets!$A$2:$L4920,6,FALSE)) -> 0 | N24: =_xlfn.IFS($E24>0,VLOOKUP($F24,objets!$A$2:$L4920,6,FALSE)*$E24,$F24="",0,$E24="",VLOOKUP($F24,objets!$A$2:$L4920,6,FALSE)) -> 0 | X24: =SUMPRODUCT(H24:N24,P24:V24)/SUM(H24:N24) -> #DIV/0!
G25: =SUM(H25:N25) -> 0 | H25: =_xlfn.IFS($E25>0,VLOOKUP($F25,objets!$A$2:$L4921,6,FALSE)*$E25,$F25="",0,$E25="",VLOOKUP($F25,objets!$A$2:$L4921,6,FALSE)) -> 0 | I25: =_xlfn.IFS($E25>0,VLOOKUP($F25,objets!$A$2:$L4921,6,FALSE)*$E25,$F25="",0,$E25="",VLOOKUP($F25,objets!$A$2:$L4921,6,FALSE)) -> 0 | J25: =_xlfn.IFS($E25>0,VLOOKUP($F25,objets!$A$2:$L4921,6,FALSE)*$E25,$F25="",0,$E25="",VLOOKUP($F25,objets!$A$2:$L4921,6,FALSE)) -> 0 | K25: =_xlfn.IFS($E25>0,VLOOKUP($F25,objets!$A$2:$L4921,6,FALSE)*$E25,$F25="",0,$E25="",VLOOKUP($F25,objets!$A$2:$L4921,6,FALSE)) -> 0 | L25: =_xlfn.IFS($E25>0,VLOOKUP($F25,objets!$A$2:$L4921,6,FALSE)*$E25,$F25="",0,$E25="",VLOOKUP($F25,objets!$A$2:$L4921,6,FALSE)) -> 0 | M25: =_xlfn.IFS($E25>0,VLOOKUP($F25,objets!$A$2:$L4921,6,FALSE)*$E25,$F25="",0,$E25="",VLOOKUP($F25,objets!$A$2:$L4921,6,FALSE)) -> 0 | N25: =_xlfn.IFS($E25>0,VLOOKUP($F25,objets!$A$2:$L4921,6,FALSE)*$E25,$F25="",0,$E25="",VLOOKUP($F25,objets!$A$2:$L4921,6,FALSE)) -> 0 | X25: =SUMPRODUCT(H25:N25,P25:V25)/SUM(H25:N25) -> #DIV/0!
G26: =SUM(H26:N26) -> 0 | H26: =_xlfn.IFS($E26>0,VLOOKUP($F26,objets!$A$2:$L4924,6,FALSE)*$E26,$F26="",0,$E26="",VLOOKUP($F26,objets!$A$2:$L4924,6,FALSE)) -> 0 | I26: =_xlfn.IFS($E26>0,VLOOKUP($F26,objets!$A$2:$L4924,6,FALSE)*$E26,$F26="",0,$E26="",VLOOKUP($F26,objets!$A$2:$L4924,6,FALSE)) -> 0 | J26: =_xlfn.IFS($E26>0,VLOOKUP($F26,objets!$A$2:$L4924,6,FALSE)*$E26,$F26="",0,$E26="",VLOOKUP($F26,objets!$A$2:$L4924,6,FALSE)) -> 0 | K26: =_xlfn.IFS($E26>0,VLOOKUP($F26,objets!$A$2:$L4924,6,FALSE)*$E26,$F26="",0,$E26="",VLOOKUP($F26,objets!$A$2:$L4924,6,FALSE)) -> 0 | L26: =_xlfn.IFS($E26>0,VLOOKUP($F26,objets!$A$2:$L4924,6,FALSE)*$E26,$F26="",0,$E26="",VLOOKUP($F26,objets!$A$2:$L4924,6,FALSE)) -> 0 | M26: =_xlfn.IFS($E26>0,VLOOKUP($F26,objets!$A$2:$L4924,6,FALSE)*$E26,$F26="",0,$E26="",VLOOKUP($F26,objets!$A$2:$L4924,6,FALSE)) -> 0 | N26: =_xlfn.IFS($E26>0,VLOOKUP($F26,objets!$A$2:$L4924,6,FALSE)*$E26,$F26="",0,$E26="",VLOOKUP($F26,objets!$A$2:$L4924,6,FALSE)) -> 0 | X26: =SUMPRODUCT(H26:N26,P26:V26)/SUM(H26:N26) -> #DIV/0!
G27: =SUM(H27:N27) -> 0 | H27: =_xlfn.IFS($E27>0,VLOOKUP($F27,objets!$A$2:$L4925,6,FALSE)*$E27,$F27="",0,$E27="",VLOOKUP($F27,objets!$A$2:$L4925,6,FALSE)) -> 0 | I27: =_xlfn.IFS($E27>0,VLOOKUP($F27,objets!$A$2:$L4925,6,FALSE)*$E27,$F27="",0,$E27="",VLOOKUP($F27,objets!$A$2:$L4925,6,FALSE)) -> 0 | J27: =_xlfn.IFS($E27>0,VLOOKUP($F27,objets!$A$2:$L4925,6,FALSE)*$E27,$F27="",0,$E27="",VLOOKUP($F27,objets!$A$2:$L4925,6,FALSE)) -> 0 | K27: =_xlfn.IFS($E27>0,VLOOKUP($F27,objets!$A$2:$L4925,6,FALSE)*$E27,$F27="",0,$E27="",VLOOKUP($F27,objets!$A$2:$L4925,6,FALSE)) -> 0 | L27: =_xlfn.IFS($E27>0,VLOOKUP($F27,objets!$A$2:$L4925,6,FALSE)*$E27,$F27="",0,$E27="",VLOOKUP($F27,objets!$A$2:$L4925,6,FALSE)) -> 0 | M27: =_xlfn.IFS($E27>0,VLOOKUP($F27,objets!$A$2:$L4925,6,FALSE)*$E27,$F27="",0,$E27="",VLOOKUP($F27,objets!$A$2:$L4925,6,FALSE)) -> 0 | N27: =_xlfn.IFS($E27>0,VLOOKUP($F27,objets!$A$2:$L4925,6,FALSE)*$E27,$F27="",0,$E27="",VLOOKUP($F27,objets!$A$2:$L4925,6,FALSE)) -> 0 | X27: =SUMPRODUCT(H27:N27,P27:V27)/SUM(H27:N27) -> #DIV/0!
G28: =SUM(H28:N28) -> 0 | H28: =_xlfn.IFS($E28>0,VLOOKUP($F28,objets!$A$2:$L4926,6,FALSE)*$E28,$F28="",0,$E28="",VLOOKUP($F28,objets!$A$2:$L4926,6,FALSE)) -> 0 | I28: =_xlfn.IFS($E28>0,VLOOKUP($F28,objets!$A$2:$L4926,6,FALSE)*$E28,$F28="",0,$E28="",VLOOKUP($F28,objets!$A$2:$L4926,6,FALSE)) -> 0 | J28: =_xlfn.IFS($E28>0,VLOOKUP($F28,objets!$A$2:$L4926,6,FALSE)*$E28,$F28="",0,$E28="",VLOOKUP($F28,objets!$A$2:$L4926,6,FALSE)) -> 0 | K28: =_xlfn.IFS($E28>0,VLOOKUP($F28,objets!$A$2:$L4926,6,FALSE)*$E28,$F28="",0,$E28="",VLOOKUP($F28,objets!$A$2:$L4926,6,FALSE)) -> 0 | L28: =_xlfn.IFS($E28>0,VLOOKUP($F28,objets!$A$2:$L4926,6,FALSE)*$E28,$F28="",0,$E28="",VLOOKUP($F28,objets!$A$2:$L4926,6,FALSE)) -> 0 | M28: =_xlfn.IFS($E28>0,VLOOKUP($F28,objets!$A$2:$L4926,6,FALSE)*$E28,$F28="",0,$E28="",VLOOKUP($F28,objets!$A$2:$L4926,6,FALSE)) -> 0 | N28: =_xlfn.IFS($E28>0,VLOOKUP($F28,objets!$A$2:$L4926,6,FALSE)*$E28,$F28="",0,$E28="",VLOOKUP($F28,objets!$A$2:$L4926,6,FALSE)) -> 0 | X28: =SUMPRODUCT(H28:N28,P28:V28)/SUM(H28:N28) -> #DIV/0!
G29: =SUM(H29:N29) -> 0 | H29: =_xlfn.IFS($E29>0,VLOOKUP($F29,objets!$A$2:$L4927,6,FALSE)*$E29,$F29="",0,$E29="",VLOOKUP($F29,objets!$A$2:$L4927,6,FALSE)) -> 0 | I29: =_xlfn.IFS($E29>0,VLOOKUP($F29,objets!$A$2:$L4927,6,FALSE)*$E29,$F29="",0,$E29="",VLOOKUP($F29,objets!$A$2:$L4927,6,FALSE)) -> 0 | J29: =_xlfn.IFS($E29>0,VLOOKUP($F29,objets!$A$2:$L4927,6,FALSE)*$E29,$F29="",0,$E29="",VLOOKUP($F29,objets!$A$2:$L4927,6,FALSE)) -> 0 | K29: =_xlfn.IFS($E29>0,VLOOKUP($F29,objets!$A$2:$L4927,6,FALSE)*$E29,$F29="",0,$E29="",VLOOKUP($F29,objets!$A$2:$L4927,6,FALSE)) -> 0 | L29: =_xlfn.IFS($E29>0,VLOOKUP($F29,objets!$A$2:$L4927,6,FALSE)*$E29,$F29="",0,$E29="",VLOOKUP($F29,objets!$A$2:$L4927,6,FALSE)) -> 0 | M29: =_xlfn.IFS($E29>0,VLOOKUP($F29,objets!$A$2:$L4927,6,FALSE)*$E29,$F29="",0,$E29="",VLOOKUP($F29,objets!$A$2:$L4927,6,FALSE)) -> 0 | N29: =_xlfn.IFS($E29>0,VLOOKUP($F29,objets!$A$2:$L4927,6,FALSE)*$E29,$F29="",0,$E29="",VLOOKUP($F29,objets!$A$2:$L4927,6,FALSE)) -> 0 | X29: =SUMPRODUCT(H29:N29,P29:V29)/SUM(H29:N29) -> #DIV/0!
G30: =SUM(H30:N30) -> 0 | H30: =_xlfn.IFS($E30>0,VLOOKUP($F30,objets!$A$2:$L4926,6,FALSE)*$E30,$F30="",0,$E30="",VLOOKUP($F30,objets!$A$2:$L4926,6,FALSE)) -> 0 | I30: =_xlfn.IFS($E30>0,VLOOKUP($F30,objets!$A$2:$L4926,6,FALSE)*$E30,$F30="",0,$E30="",VLOOKUP($F30,objets!$A$2:$L4926,6,FALSE)) -> 0 | J30: =_xlfn.IFS($E30>0,VLOOKUP($F30,objets!$A$2:$L4926,6,FALSE)*$E30,$F30="",0,$E30="",VLOOKUP($F30,objets!$A$2:$L4926,6,FALSE)) -> 0 | K30: =_xlfn.IFS($E30>0,VLOOKUP($F30,objets!$A$2:$L4926,6,FALSE)*$E30,$F30="",0,$E30="",VLOOKUP($F30,objets!$A$2:$L4926,6,FALSE)) -> 0 | L30: =_xlfn.IFS($E30>0,VLOOKUP($F30,objets!$A$2:$L4926,6,FALSE)*$E30,$F30="",0,$E30="",VLOOKUP($F30,objets!$A$2:$L4926,6,FALSE)) -> 0 | M30: =_xlfn.IFS($E30>0,VLOOKUP($F30,objets!$A$2:$L4926,6,FALSE)*$E30,$F30="",0,$E30="",VLOOKUP($F30,objets!$A$2:$L4926,6,FALSE)) -> 0 | N30: =_xlfn.IFS($E30>0,VLOOKUP($F30,objets!$A$2:$L4926,6,FALSE)*$E30,$F30="",0,$E30="",VLOOKUP($F30,objets!$A$2:$L4926,6,FALSE)) -> 0 | X30: =SUMPRODUCT(H30:N30,P30:V30)/SUM(H30:N30) -> #DIV/0!
G31: =SUM(H31:N31) -> 0 | H31: =_xlfn.IFS($E31>0,VLOOKUP($F31,objets!$A$2:$L4927,6,FALSE)*$E31,$F31="",0,$E31="",VLOOKUP($F31,objets!$A$2:$L4927,6,FALSE)) -> 0 | I31: =_xlfn.IFS($E31>0,VLOOKUP($F31,objets!$A$2:$L4927,6,FALSE)*$E31,$F31="",0,$E31="",VLOOKUP($F31,objets!$A$2:$L4927,6,FALSE)) -> 0 | J31: =_xlfn.IFS($E31>0,VLOOKUP($F31,objets!$A$2:$L4927,6,FALSE)*$E31,$F31="",0,$E31="",VLOOKUP($F31,objets!$A$2:$L4927,6,FALSE)) -> 0 | K31: =_xlfn.IFS($E31>0,VLOOKUP($F31,objets!$A$2:$L4927,6,FALSE)*$E31,$F31="",0,$E31="",VLOOKUP($F31,objets!$A$2:$L4927,6,FALSE)) -> 0 | L31: =_xlfn.IFS($E31>0,VLOOKUP($F31,objets!$A$2:$L4927,6,FALSE)*$E31,$F31="",0,$E31="",VLOOKUP($F31,objets!$A$2:$L4927,6,FALSE)) -> 0 | M31: =_xlfn.IFS($E31>0,VLOOKUP($F31,objets!$A$2:$L4927,6,FALSE)*$E31,$F31="",0,$E31="",VLOOKUP($F31,objets!$A$2:$L4927,6,FALSE)) -> 0 | N31: =_xlfn.IFS($E31>0,VLOOKUP($F31,objets!$A$2:$L4927,6,FALSE)*$E31,$F31="",0,$E31="",VLOOKUP($F31,objets!$A$2:$L4927,6,FALSE)) -> 0 | X31: =SUMPRODUCT(H31:N31,P31:V31)/SUM(H31:N31) -> #DIV/0!
G32: =SUM(H32:N32) -> 0 | H32: =_xlfn.IFS($E32>0,VLOOKUP($F32,objets!$A$2:$L4922,6,FALSE)*$E32,$F32="",0,$E32="",VLOOKUP($F32,objets!$A$2:$L4922,6,FALSE)) -> 0 | I32: =_xlfn.IFS($E32>0,VLOOKUP($F32,objets!$A$2:$L4922,6,FALSE)*$E32,$F32="",0,$E32="",VLOOKUP($F32,objets!$A$2:$L4922,6,FALSE)) -> 0 | J32: =_xlfn.IFS($E32>0,VLOOKUP($F32,objets!$A$2:$L4922,6,FALSE)*$E32,$F32="",0,$E32="",VLOOKUP($F32,objets!$A$2:$L4922,6,FALSE)) -> 0 | K32: =_xlfn.IFS($E32>0,VLOOKUP($F32,objets!$A$2:$L4922,6,FALSE)*$E32,$F32="",0,$E32="",VLOOKUP($F32,objets!$A$2:$L4922,6,FALSE)) -> 0 | L32: =_xlfn.IFS($E32>0,VLOOKUP($F32,objets!$A$2:$L4922,6,FALSE)*$E32,$F32="",0,$E32="",VLOOKUP($F32,objets!$A$2:$L4922,6,FALSE)) -> 0 | M32: =_xlfn.IFS($E32>0,VLOOKUP($F32,objets!$A$2:$L4922,6,FALSE)*$E32,$F32="",0,$E32="",VLOOKUP($F32,objets!$A$2:$L4922,6,FALSE)) -> 0 | N32: =_xlfn.IFS($E32>0,VLOOKUP($F32,objets!$A$2:$L4922,6,FALSE)*$E32,$F32="",0,$E32="",VLOOKUP($F32,objets!$A$2:$L4922,6,FALSE)) -> 0 | X32: =SUMPRODUCT(H32:N32,P32:V32)/SUM(H32:N32) -> #DIV/0!
G33: =SUM(H33:N33) -> 0 | H33: =_xlfn.IFS($E33>0,VLOOKUP($F33,objets!$A$2:$L4931,6,FALSE)*$E33,$F33="",0,$E33="",VLOOKUP($F33,objets!$A$2:$L4931,6,FALSE)) -> 0 | I33: =_xlfn.IFS($E33>0,VLOOKUP($F33,objets!$A$2:$L4931,6,FALSE)*$E33,$F33="",0,$E33="",VLOOKUP($F33,objets!$A$2:$L4931,6,FALSE)) -> 0 | J33: =_xlfn.IFS($E33>0,VLOOKUP($F33,objets!$A$2:$L4931,6,FALSE)*$E33,$F33="",0,$E33="",VLOOKUP($F33,objets!$A$2:$L4931,6,FALSE)) -> 0 | K33: =_xlfn.IFS($E33>0,VLOOKUP($F33,objets!$A$2:$L4931,6,FALSE)*$E33,$F33="",0,$E33="",VLOOKUP($F33,objets!$A$2:$L4931,6,FALSE)) -> 0 | L33: =_xlfn.IFS($E33>0,VLOOKUP($F33,objets!$A$2:$L4931,6,FALSE)*$E33,$F33="",0,$E33="",VLOOKUP($F33,objets!$A$2:$L4931,6,FALSE)) -> 0 | M33: =_xlfn.IFS($E33>0,VLOOKUP($F33,objets!$A$2:$L4931,6,FALSE)*$E33,$F33="",0,$E33="",VLOOKUP($F33,objets!$A$2:$L4931,6,FALSE)) -> 0 | N33: =_xlfn.IFS($E33>0,VLOOKUP($F33,objets!$A$2:$L4931,6,FALSE)*$E33,$F33="",0,$E33="",VLOOKUP($F33,objets!$A$2:$L4931,6,FALSE)) -> 0 | X33: =SUMPRODUCT(H33:N33,P33:V33)/SUM(H33:N33) -> #DIV/0!
G34: =SUM(H34:N34) -> 0 | H34: =_xlfn.IFS($E34>0,VLOOKUP($F34,objets!$A$2:$L4932,6,FALSE)*$E34,$F34="",0,$E34="",VLOOKUP($F34,objets!$A$2:$L4932,6,FALSE)) -> 0 | I34: =_xlfn.IFS($E34>0,VLOOKUP($F34,objets!$A$2:$L4932,6,FALSE)*$E34,$F34="",0,$E34="",VLOOKUP($F34,objets!$A$2:$L4932,6,FALSE)) -> 0 | J34: =_xlfn.IFS($E34>0,VLOOKUP($F34,objets!$A$2:$L4932,6,FALSE)*$E34,$F34="",0,$E34="",VLOOKUP($F34,objets!$A$2:$L4932,6,FALSE)) -> 0 | K34: =_xlfn.IFS($E34>0,VLOOKUP($F34,objets!$A$2:$L4932,6,FALSE)*$E34,$F34="",0,$E34="",VLOOKUP($F34,objets!$A$2:$L4932,6,FALSE)) -> 0 | L34: =_xlfn.IFS($E34>0,VLOOKUP($F34,objets!$A$2:$L4932,6,FALSE)*$E34,$F34="",0,$E34="",VLOOKUP($F34,objets!$A$2:$L4932,6,FALSE)) -> 0 | M34: =_xlfn.IFS($E34>0,VLOOKUP($F34,objets!$A$2:$L4932,6,FALSE)*$E34,$F34="",0,$E34="",VLOOKUP($F34,objets!$A$2:$L4932,6,FALSE)) -> 0 | N34: =_xlfn.IFS($E34>0,VLOOKUP($F34,objets!$A$2:$L4932,6,FALSE)*$E34,$F34="",0,$E34="",VLOOKUP($F34,objets!$A$2:$L4932,6,FALSE)) -> 0 | X34: =SUMPRODUCT(H34:N34,P34:V34)/SUM(H34:N34) -> #DIV/0!
G35: =SUM(H35:N35) -> 0 | H35: =_xlfn.IFS($E35>0,VLOOKUP($F35,objets!$A$2:$L4933,6,FALSE)*$E35,$F35="",0,$E35="",VLOOKUP($F35,objets!$A$2:$L4933,6,FALSE)) -> 0 | I35: =_xlfn.IFS($E35>0,VLOOKUP($F35,objets!$A$2:$L4933,6,FALSE)*$E35,$F35="",0,$E35="",VLOOKUP($F35,objets!$A$2:$L4933,6,FALSE)) -> 0 | J35: =_xlfn.IFS($E35>0,VLOOKUP($F35,objets!$A$2:$L4933,6,FALSE)*$E35,$F35="",0,$E35="",VLOOKUP($F35,objets!$A$2:$L4933,6,FALSE)) -> 0 | K35: =_xlfn.IFS($E35>0,VLOOKUP($F35,objets!$A$2:$L4933,6,FALSE)*$E35,$F35="",0,$E35="",VLOOKUP($F35,objets!$A$2:$L4933,6,FALSE)) -> 0 | L35: =_xlfn.IFS($E35>0,VLOOKUP($F35,objets!$A$2:$L4933,6,FALSE)*$E35,$F35="",0,$E35="",VLOOKUP($F35,objets!$A$2:$L4933,6,FALSE)) -> 0 | M35: =_xlfn.IFS($E35>0,VLOOKUP($F35,objets!$A$2:$L4933,6,FALSE)*$E35,$F35="",0,$E35="",VLOOKUP($F35,objets!$A$2:$L4933,6,FALSE)) -> 0 | N35: =_xlfn.IFS($E35>0,VLOOKUP($F35,objets!$A$2:$L4933,6,FALSE)*$E35,$F35="",0,$E35="",VLOOKUP($F35,objets!$A$2:$L4933,6,FALSE)) -> 0 | X35: =SUMPRODUCT(H35:N35,P35:V35)/SUM(H35:N35) -> #DIV/0!
G36: =SUM(H36:N36) -> 0 | H36: =_xlfn.IFS($E36>0,VLOOKUP($F36,objets!$A$2:$L4932,6,FALSE)*$E36,$F36="",0,$E36="",VLOOKUP($F36,objets!$A$2:$L4932,6,FALSE)) -> 0 | I36: =_xlfn.IFS($E36>0,VLOOKUP($F36,objets!$A$2:$L4932,6,FALSE)*$E36,$F36="",0,$E36="",VLOOKUP($F36,objets!$A$2:$L4932,6,FALSE)) -> 0 | J36: =_xlfn.IFS($E36>0,VLOOKUP($F36,objets!$A$2:$L4932,6,FALSE)*$E36,$F36="",0,$E36="",VLOOKUP($F36,objets!$A$2:$L4932,6,FALSE)) -> 0 | K36: =_xlfn.IFS($E36>0,VLOOKUP($F36,objets!$A$2:$L4932,6,FALSE)*$E36,$F36="",0,$E36="",VLOOKUP($F36,objets!$A$2:$L4932,6,FALSE)) -> 0 | L36: =_xlfn.IFS($E36>0,VLOOKUP($F36,objets!$A$2:$L4932,6,FALSE)*$E36,$F36="",0,$E36="",VLOOKUP($F36,objets!$A$2:$L4932,6,FALSE)) -> 0 | M36: =_xlfn.IFS($E36>0,VLOOKUP($F36,objets!$A$2:$L4932,6,FALSE)*$E36,$F36="",0,$E36="",VLOOKUP($F36,objets!$A$2:$L4932,6,FALSE)) -> 0 | N36: =_xlfn.IFS($E36>0,VLOOKUP($F36,objets!$A$2:$L4932,6,FALSE)*$E36,$F36="",0,$E36="",VLOOKUP($F36,objets!$A$2:$L4932,6,FALSE)) -> 0 | X36: =SUMPRODUCT(H36:N36,P36:V36)/SUM(H36:N36) -> #DIV/0!
G37: =SUM(H37:N37) -> 0 | H37: =_xlfn.IFS($E37>0,VLOOKUP($F37,objets!$A$2:$L4933,6,FALSE)*$E37,$F37="",0,$E37="",VLOOKUP($F37,objets!$A$2:$L4933,6,FALSE)) -> 0 | I37: =_xlfn.IFS($E37>0,VLOOKUP($F37,objets!$A$2:$L4933,6,FALSE)*$E37,$F37="",0,$E37="",VLOOKUP($F37,objets!$A$2:$L4933,6,FALSE)) -> 0 | J37: =_xlfn.IFS($E37>0,VLOOKUP($F37,objets!$A$2:$L4933,6,FALSE)*$E37,$F37="",0,$E37="",VLOOKUP($F37,objets!$A$2:$L4933,6,FALSE)) -> 0 | K37: =_xlfn.IFS($E37>0,VLOOKUP($F37,objets!$A$2:$L4933,6,FALSE)*$E37,$F37="",0,$E37="",VLOOKUP($F37,objets!$A$2:$L4933,6,FALSE)) -> 0 | L37: =_xlfn.IFS($E37>0,VLOOKUP($F37,objets!$A$2:$L4933,6,FALSE)*$E37,$F37="",0,$E37="",VLOOKUP($F37,objets!$A$2:$L4933,6,FALSE)) -> 0 | M37: =_xlfn.IFS($E37>0,VLOOKUP($F37,objets!$A$2:$L4933,6,FALSE)*$E37,$F37="",0,$E37="",VLOOKUP($F37,objets!$A$2:$L4933,6,FALSE)) -> 0 | N37: =_xlfn.IFS($E37>0,VLOOKUP($F37,objets!$A$2:$L4933,6,FALSE)*$E37,$F37="",0,$E37="",VLOOKUP($F37,objets!$A$2:$L4933,6,FALSE)) -> 0 | X37: =SUMPRODUCT(H37:N37,P37:V37)/SUM(H37:N37) -> #DIV/0!
G38: =SUM(H38:N38) -> 0 | H38: =_xlfn.IFS($E38>0,VLOOKUP($F38,objets!$A$2:$L4936,6,FALSE)*$E38,$F38="",0,$E38="",VLOOKUP($F38,objets!$A$2:$L4936,6,FALSE)) -> 0 | I38: =_xlfn.IFS($E38>0,VLOOKUP($F38,objets!$A$2:$L4936,6,FALSE)*$E38,$F38="",0,$E38="",VLOOKUP($F38,objets!$A$2:$L4936,6,FALSE)) -> 0 | J38: =_xlfn.IFS($E38>0,VLOOKUP($F38,objets!$A$2:$L4936,6,FALSE)*$E38,$F38="",0,$E38="",VLOOKUP($F38,objets!$A$2:$L4936,6,FALSE)) -> 0 | K38: =_xlfn.IFS($E38>0,VLOOKUP($F38,objets!$A$2:$L4936,6,FALSE)*$E38,$F38="",0,$E38="",VLOOKUP($F38,objets!$A$2:$L4936,6,FALSE)) -> 0 | L38: =_xlfn.IFS($E38>0,VLOOKUP($F38,objets!$A$2:$L4936,6,FALSE)*$E38,$F38="",0,$E38="",VLOOKUP($F38,objets!$A$2:$L4936,6,FALSE)) -> 0 | M38: =_xlfn.IFS($E38>0,VLOOKUP($F38,objets!$A$2:$L4936,6,FALSE)*$E38,$F38="",0,$E38="",VLOOKUP($F38,objets!$A$2:$L4936,6,FALSE)) -> 0 | N38: =_xlfn.IFS($E38>0,VLOOKUP($F38,objets!$A$2:$L4936,6,FALSE)*$E38,$F38="",0,$E38="",VLOOKUP($F38,objets!$A$2:$L4936,6,FALSE)) -> 0 | X38: =SUMPRODUCT(H38:N38,P38:V38)/SUM(H38:N38) -> #DIV/0!
G39: =SUM(H39:N39) -> 0 | H39: =_xlfn.IFS($E39>0,VLOOKUP($F39,objets!$A$2:$L4937,6,FALSE)*$E39,$F39="",0,$E39="",VLOOKUP($F39,objets!$A$2:$L4937,6,FALSE)) -> 0 | I39: =_xlfn.IFS($E39>0,VLOOKUP($F39,objets!$A$2:$L4937,6,FALSE)*$E39,$F39="",0,$E39="",VLOOKUP($F39,objets!$A$2:$L4937,6,FALSE)) -> 0 | J39: =_xlfn.IFS($E39>0,VLOOKUP($F39,objets!$A$2:$L4937,6,FALSE)*$E39,$F39="",0,$E39="",VLOOKUP($F39,objets!$A$2:$L4937,6,FALSE)) -> 0 | K39: =_xlfn.IFS($E39>0,VLOOKUP($F39,objets!$A$2:$L4937,6,FALSE)*$E39,$F39="",0,$E39="",VLOOKUP($F39,objets!$A$2:$L4937,6,FALSE)) -> 0 | L39: =_xlfn.IFS($E39>0,VLOOKUP($F39,objets!$A$2:$L4937,6,FALSE)*$E39,$F39="",0,$E39="",VLOOKUP($F39,objets!$A$2:$L4937,6,FALSE)) -> 0 | M39: =_xlfn.IFS($E39>0,VLOOKUP($F39,objets!$A$2:$L4937,6,FALSE)*$E39,$F39="",0,$E39="",VLOOKUP($F39,objets!$A$2:$L4937,6,FALSE)) -> 0 | N39: =_xlfn.IFS($E39>0,VLOOKUP($F39,objets!$A$2:$L4937,6,FALSE)*$E39,$F39="",0,$E39="",VLOOKUP($F39,objets!$A$2:$L4937,6,FALSE)) -> 0 | X39: =SUMPRODUCT(H39:N39,P39:V39)/SUM(H39:N39) -> #DIV/0!
G40: =SUM(H40:N40) -> 0 | H40: =_xlfn.IFS($E40>0,VLOOKUP($F40,objets!$A$2:$L4938,6,FALSE)*$E40,$F40="",0,$E40="",VLOOKUP($F40,objets!$A$2:$L4938,6,FALSE)) -> 0 | I40: =_xlfn.IFS($E40>0,VLOOKUP($F40,objets!$A$2:$L4938,6,FALSE)*$E40,$F40="",0,$E40="",VLOOKUP($F40,objets!$A$2:$L4938,6,FALSE)) -> 0 | J40: =_xlfn.IFS($E40>0,VLOOKUP($F40,objets!$A$2:$L4938,6,FALSE)*$E40,$F40="",0,$E40="",VLOOKUP($F40,objets!$A$2:$L4938,6,FALSE)) -> 0 | K40: =_xlfn.IFS($E40>0,VLOOKUP($F40,objets!$A$2:$L4938,6,FALSE)*$E40,$F40="",0,$E40="",VLOOKUP($F40,objets!$A$2:$L4938,6,FALSE)) -> 0 | L40: =_xlfn.IFS($E40>0,VLOOKUP($F40,objets!$A$2:$L4938,6,FALSE)*$E40,$F40="",0,$E40="",VLOOKUP($F40,objets!$A$2:$L4938,6,FALSE)) -> 0 | M40: =_xlfn.IFS($E40>0,VLOOKUP($F40,objets!$A$2:$L4938,6,FALSE)*$E40,$F40="",0,$E40="",VLOOKUP($F40,objets!$A$2:$L4938,6,FALSE)) -> 0 | N40: =_xlfn.IFS($E40>0,VLOOKUP($F40,objets!$A$2:$L4938,6,FALSE)*$E40,$F40="",0,$E40="",VLOOKUP($F40,objets!$A$2:$L4938,6,FALSE)) -> 0 | X40: =SUMPRODUCT(H40:N40,P40:V40)/SUM(H40:N40) -> #DIV/0!
G41: =SUM(H41:N41) -> 0 | H41: =_xlfn.IFS($E41>0,VLOOKUP($F41,objets!$A$2:$L4939,6,FALSE)*$E41,$F41="",0,$E41="",VLOOKUP($F41,objets!$A$2:$L4939,6,FALSE)) -> 0 | I41: =_xlfn.IFS($E41>0,VLOOKUP($F41,objets!$A$2:$L4939,6,FALSE)*$E41,$F41="",0,$E41="",VLOOKUP($F41,objets!$A$2:$L4939,6,FALSE)) -> 0 | J41: =_xlfn.IFS($E41>0,VLOOKUP($F41,objets!$A$2:$L4939,6,FALSE)*$E41,$F41="",0,$E41="",VLOOKUP($F41,objets!$A$2:$L4939,6,FALSE)) -> 0 | K41: =_xlfn.IFS($E41>0,VLOOKUP($F41,objets!$A$2:$L4939,6,FALSE)*$E41,$F41="",0,$E41="",VLOOKUP($F41,objets!$A$2:$L4939,6,FALSE)) -> 0 | L41: =_xlfn.IFS($E41>0,VLOOKUP($F41,objets!$A$2:$L4939,6,FALSE)*$E41,$F41="",0,$E41="",VLOOKUP($F41,objets!$A$2:$L4939,6,FALSE)) -> 0 | M41: =_xlfn.IFS($E41>0,VLOOKUP($F41,objets!$A$2:$L4939,6,FALSE)*$E41,$F41="",0,$E41="",VLOOKUP($F41,objets!$A$2:$L4939,6,FALSE)) -> 0 | N41: =_xlfn.IFS($E41>0,VLOOKUP($F41,objets!$A$2:$L4939,6,FALSE)*$E41,$F41="",0,$E41="",VLOOKUP($F41,objets!$A$2:$L4939,6,FALSE)) -> 0 | X41: =SUMPRODUCT(H41:N41,P41:V41)/SUM(H41:N41) -> #DIV/0!
G42: =SUM(H42:N42) -> 0 | H42: =_xlfn.IFS($E42>0,VLOOKUP($F42,objets!$A$2:$L4938,6,FALSE)*$E42,$F42="",0,$E42="",VLOOKUP($F42,objets!$A$2:$L4938,6,FALSE)) -> 0 | I42: =_xlfn.IFS($E42>0,VLOOKUP($F42,objets!$A$2:$L4938,6,FALSE)*$E42,$F42="",0,$E42="",VLOOKUP($F42,objets!$A$2:$L4938,6,FALSE)) -> 0 | J42: =_xlfn.IFS($E42>0,VLOOKUP($F42,objets!$A$2:$L4938,6,FALSE)*$E42,$F42="",0,$E42="",VLOOKUP($F42,objets!$A$2:$L4938,6,FALSE)) -> 0 | K42: =_xlfn.IFS($E42>0,VLOOKUP($F42,objets!$A$2:$L4938,6,FALSE)*$E42,$F42="",0,$E42="",VLOOKUP($F42,objets!$A$2:$L4938,6,FALSE)) -> 0 | L42: =_xlfn.IFS($E42>0,VLOOKUP($F42,objets!$A$2:$L4938,6,FALSE)*$E42,$F42="",0,$E42="",VLOOKUP($F42,objets!$A$2:$L4938,6,FALSE)) -> 0 | M42: =_xlfn.IFS($E42>0,VLOOKUP($F42,objets!$A$2:$L4938,6,FALSE)*$E42,$F42="",0,$E42="",VLOOKUP($F42,objets!$A$2:$L4938,6,FALSE)) -> 0 | N42: =_xlfn.IFS($E42>0,VLOOKUP($F42,objets!$A$2:$L4938,6,FALSE)*$E42,$F42="",0,$E42="",VLOOKUP($F42,objets!$A$2:$L4938,6,FALSE)) -> 0 | X42: =SUMPRODUCT(H42:N42,P42:V42)/SUM(H42:N42) -> #DIV/0!
G43: =SUM(H43:N43) -> 0 | H43: =_xlfn.IFS($E43>0,VLOOKUP($F43,objets!$A$2:$L4939,6,FALSE)*$E43,$F43="",0,$E43="",VLOOKUP($F43,objets!$A$2:$L4939,6,FALSE)) -> 0 | I43: =_xlfn.IFS($E43>0,VLOOKUP($F43,objets!$A$2:$L4939,6,FALSE)*$E43,$F43="",0,$E43="",VLOOKUP($F43,objets!$A$2:$L4939,6,FALSE)) -> 0 | J43: =_xlfn.IFS($E43>0,VLOOKUP($F43,objets!$A$2:$L4939,6,FALSE)*$E43,$F43="",0,$E43="",VLOOKUP($F43,objets!$A$2:$L4939,6,FALSE)) -> 0 | K43: =_xlfn.IFS($E43>0,VLOOKUP($F43,objets!$A$2:$L4939,6,FALSE)*$E43,$F43="",0,$E43="",VLOOKUP($F43,objets!$A$2:$L4939,6,FALSE)) -> 0 | L43: =_xlfn.IFS($E43>0,VLOOKUP($F43,objets!$A$2:$L4939,6,FALSE)*$E43,$F43="",0,$E43="",VLOOKUP($F43,objets!$A$2:$L4939,6,FALSE)) -> 0 | M43: =_xlfn.IFS($E43>0,VLOOKUP($F43,objets!$A$2:$L4939,6,FALSE)*$E43,$F43="",0,$E43="",VLOOKUP($F43,objets!$A$2:$L4939,6,FALSE)) -> 0 | N43: =_xlfn.IFS($E43>0,VLOOKUP($F43,objets!$A$2:$L4939,6,FALSE)*$E43,$F43="",0,$E43="",VLOOKUP($F43,objets!$A$2:$L4939,6,FALSE)) -> 0 | X43: =SUMPRODUCT(H43:N43,P43:V43)/SUM(H43:N43) -> #DIV/0!
G44: =SUM(H44:N44) -> 0 | H44: =_xlfn.IFS($E44>0,VLOOKUP($F44,objets!$A$2:$L4942,6,FALSE)*$E44,$F44="",0,$E44="",VLOOKUP($F44,objets!$A$2:$L4942,6,FALSE)) -> 0 | I44: =_xlfn.IFS($E44>0,VLOOKUP($F44,objets!$A$2:$L4942,6,FALSE)*$E44,$F44="",0,$E44="",VLOOKUP($F44,objets!$A$2:$L4942,6,FALSE)) -> 0 | J44: =_xlfn.IFS($E44>0,VLOOKUP($F44,objets!$A$2:$L4942,6,FALSE)*$E44,$F44="",0,$E44="",VLOOKUP($F44,objets!$A$2:$L4942,6,FALSE)) -> 0 | K44: =_xlfn.IFS($E44>0,VLOOKUP($F44,objets!$A$2:$L4942,6,FALSE)*$E44,$F44="",0,$E44="",VLOOKUP($F44,objets!$A$2:$L4942,6,FALSE)) -> 0 | L44: =_xlfn.IFS($E44>0,VLOOKUP($F44,objets!$A$2:$L4942,6,FALSE)*$E44,$F44="",0,$E44="",VLOOKUP($F44,objets!$A$2:$L4942,6,FALSE)) -> 0 | M44: =_xlfn.IFS($E44>0,VLOOKUP($F44,objets!$A$2:$L4942,6,FALSE)*$E44,$F44="",0,$E44="",VLOOKUP($F44,objets!$A$2:$L4942,6,FALSE)) -> 0 | N44: =_xlfn.IFS($E44>0,VLOOKUP($F44,objets!$A$2:$L4942,6,FALSE)*$E44,$F44="",0,$E44="",VLOOKUP($F44,objets!$A$2:$L4942,6,FALSE)) -> 0 | X44: =SUMPRODUCT(H44:N44,P44:V44)/SUM(H44:N44) -> #DIV/0!
G45: =SUM(H45:N45) -> 0 | H45: =_xlfn.IFS($E45>0,VLOOKUP($F45,objets!$A$2:$L4943,6,FALSE)*$E45,$F45="",0,$E45="",VLOOKUP($F45,objets!$A$2:$L4943,6,FALSE)) -> 0 | I45: =_xlfn.IFS($E45>0,VLOOKUP($F45,objets!$A$2:$L4943,6,FALSE)*$E45,$F45="",0,$E45="",VLOOKUP($F45,objets!$A$2:$L4943,6,FALSE)) -> 0 | J45: =_xlfn.IFS($E45>0,VLOOKUP($F45,objets!$A$2:$L4943,6,FALSE)*$E45,$F45="",0,$E45="",VLOOKUP($F45,objets!$A$2:$L4943,6,FALSE)) -> 0 | K45: =_xlfn.IFS($E45>0,VLOOKUP($F45,objets!$A$2:$L4943,6,FALSE)*$E45,$F45="",0,$E45="",VLOOKUP($F45,objets!$A$2:$L4943,6,FALSE)) -> 0 | L45: =_xlfn.IFS($E45>0,VLOOKUP($F45,objets!$A$2:$L4943,6,FALSE)*$E45,$F45="",0,$E45="",VLOOKUP($F45,objets!$A$2:$L4943,6,FALSE)) -> 0 | M45: =_xlfn.IFS($E45>0,VLOOKUP($F45,objets!$A$2:$L4943,6,FALSE)*$E45,$F45="",0,$E45="",VLOOKUP($F45,objets!$A$2:$L4943,6,FALSE)) -> 0 | N45: =_xlfn.IFS($E45>0,VLOOKUP($F45,objets!$A$2:$L4943,6,FALSE)*$E45,$F45="",0,$E45="",VLOOKUP($F45,objets!$A$2:$L4943,6,FALSE)) -> 0 | X45: =SUMPRODUCT(H45:N45,P45:V45)/SUM(H45:N45) -> #DIV/0!
G46: =SUM(H46:N46) -> 0 | H46: =_xlfn.IFS($E46>0,VLOOKUP($F46,objets!$A$2:$L4944,6,FALSE)*$E46,$F46="",0,$E46="",VLOOKUP($F46,objets!$A$2:$L4944,6,FALSE)) -> 0 | I46: =_xlfn.IFS($E46>0,VLOOKUP($F46,objets!$A$2:$L4944,6,FALSE)*$E46,$F46="",0,$E46="",VLOOKUP($F46,objets!$A$2:$L4944,6,FALSE)) -> 0 | J46: =_xlfn.IFS($E46>0,VLOOKUP($F46,objets!$A$2:$L4944,6,FALSE)*$E46,$F46="",0,$E46="",VLOOKUP($F46,objets!$A$2:$L4944,6,FALSE)) -> 0 | K46: =_xlfn.IFS($E46>0,VLOOKUP($F46,objets!$A$2:$L4944,6,FALSE)*$E46,$F46="",0,$E46="",VLOOKUP($F46,objets!$A$2:$L4944,6,FALSE)) -> 0 | L46: =_xlfn.IFS($E46>0,VLOOKUP($F46,objets!$A$2:$L4944,6,FALSE)*$E46,$F46="",0,$E46="",VLOOKUP($F46,objets!$A$2:$L4944,6,FALSE)) -> 0 | M46: =_xlfn.IFS($E46>0,VLOOKUP($F46,objets!$A$2:$L4944,6,FALSE)*$E46,$F46="",0,$E46="",VLOOKUP($F46,objets!$A$2:$L4944,6,FALSE)) -> 0 | N46: =_xlfn.IFS($E46>0,VLOOKUP($F46,objets!$A$2:$L4944,6,FALSE)*$E46,$F46="",0,$E46="",VLOOKUP($F46,objets!$A$2:$L4944,6,FALSE)) -> 0 | X46: =SUMPRODUCT(H46:N46,P46:V46)/SUM(H46:N46) -> #DIV/0!
G47: =SUM(H47:N47) -> 0 | H47: =_xlfn.IFS($E47>0,VLOOKUP($F47,objets!$A$2:$L4945,6,FALSE)*$E47,$F47="",0,$E47="",VLOOKUP($F47,objets!$A$2:$L4945,6,FALSE)) -> 0 | I47: =_xlfn.IFS($E47>0,VLOOKUP($F47,objets!$A$2:$L4945,6,FALSE)*$E47,$F47="",0,$E47="",VLOOKUP($F47,objets!$A$2:$L4945,6,FALSE)) -> 0 | J47: =_xlfn.IFS($E47>0,VLOOKUP($F47,objets!$A$2:$L4945,6,FALSE)*$E47,$F47="",0,$E47="",VLOOKUP($F47,objets!$A$2:$L4945,6,FALSE)) -> 0 | K47: =_xlfn.IFS($E47>0,VLOOKUP($F47,objets!$A$2:$L4945,6,FALSE)*$E47,$F47="",0,$E47="",VLOOKUP($F47,objets!$A$2:$L4945,6,FALSE)) -> 0 | L47: =_xlfn.IFS($E47>0,VLOOKUP($F47,objets!$A$2:$L4945,6,FALSE)*$E47,$F47="",0,$E47="",VLOOKUP($F47,objets!$A$2:$L4945,6,FALSE)) -> 0 | M47: =_xlfn.IFS($E47>0,VLOOKUP($F47,objets!$A$2:$L4945,6,FALSE)*$E47,$F47="",0,$E47="",VLOOKUP($F47,objets!$A$2:$L4945,6,FALSE)) -> 0 | N47: =_xlfn.IFS($E47>0,VLOOKUP($F47,objets!$A$2:$L4945,6,FALSE)*$E47,$F47="",0,$E47="",VLOOKUP($F47,objets!$A$2:$L4945,6,FALSE)) -> 0 | X47: =SUMPRODUCT(H47:N47,P47:V47)/SUM(H47:N47) -> #DIV/0!
G48: =SUM(H48:N48) -> 0 | H48: =_xlfn.IFS($E48>0,VLOOKUP($F48,objets!$A$2:$L4944,6,FALSE)*$E48,$F48="",0,$E48="",VLOOKUP($F48,objets!$A$2:$L4944,6,FALSE)) -> 0 | I48: =_xlfn.IFS($E48>0,VLOOKUP($F48,objets!$A$2:$L4944,6,FALSE)*$E48,$F48="",0,$E48="",VLOOKUP($F48,objets!$A$2:$L4944,6,FALSE)) -> 0 | J48: =_xlfn.IFS($E48>0,VLOOKUP($F48,objets!$A$2:$L4944,6,FALSE)*$E48,$F48="",0,$E48="",VLOOKUP($F48,objets!$A$2:$L4944,6,FALSE)) -> 0 | K48: =_xlfn.IFS($E48>0,VLOOKUP($F48,objets!$A$2:$L4944,6,FALSE)*$E48,$F48="",0,$E48="",VLOOKUP($F48,objets!$A$2:$L4944,6,FALSE)) -> 0 | L48: =_xlfn.IFS($E48>0,VLOOKUP($F48,objets!$A$2:$L4944,6,FALSE)*$E48,$F48="",0,$E48="",VLOOKUP($F48,objets!$A$2:$L4944,6,FALSE)) -> 0 | M48: =_xlfn.IFS($E48>0,VLOOKUP($F48,objets!$A$2:$L4944,6,FALSE)*$E48,$F48="",0,$E48="",VLOOKUP($F48,objets!$A$2:$L4944,6,FALSE)) -> 0 | N48: =_xlfn.IFS($E48>0,VLOOKUP($F48,objets!$A$2:$L4944,6,FALSE)*$E48,$F48="",0,$E48="",VLOOKUP($F48,objets!$A$2:$L4944,6,FALSE)) -> 0 | X48: =SUMPRODUCT(H48:N48,P48:V48)/SUM(H48:N48) -> #DIV/0!
G49: =SUM(H49:N49) -> 0 | H49: =_xlfn.IFS($E49>0,VLOOKUP($F49,objets!$A$2:$L4945,6,FALSE)*$E49,$F49="",0,$E49="",VLOOKUP($F49,objets!$A$2:$L4945,6,FALSE)) -> 0 | I49: =_xlfn.IFS($E49>0,VLOOKUP($F49,objets!$A$2:$L4945,6,FALSE)*$E49,$F49="",0,$E49="",VLOOKUP($F49,objets!$A$2:$L4945,6,FALSE)) -> 0 | J49: =_xlfn.IFS($E49>0,VLOOKUP($F49,objets!$A$2:$L4945,6,FALSE)*$E49,$F49="",0,$E49="",VLOOKUP($F49,objets!$A$2:$L4945,6,FALSE)) -> 0 | K49: =_xlfn.IFS($E49>0,VLOOKUP($F49,objets!$A$2:$L4945,6,FALSE)*$E49,$F49="",0,$E49="",VLOOKUP($F49,objets!$A$2:$L4945,6,FALSE)) -> 0 | L49: =_xlfn.IFS($E49>0,VLOOKUP($F49,objets!$A$2:$L4945,6,FALSE)*$E49,$F49="",0,$E49="",VLOOKUP($F49,objets!$A$2:$L4945,6,FALSE)) -> 0 | M49: =_xlfn.IFS($E49>0,VLOOKUP($F49,objets!$A$2:$L4945,6,FALSE)*$E49,$F49="",0,$E49="",VLOOKUP($F49,objets!$A$2:$L4945,6,FALSE)) -> 0 | N49: =_xlfn.IFS($E49>0,VLOOKUP($F49,objets!$A$2:$L4945,6,FALSE)*$E49,$F49="",0,$E49="",VLOOKUP($F49,objets!$A$2:$L4945,6,FALSE)) -> 0 | X49: =SUMPRODUCT(H49:N49,P49:V49)/SUM(H49:N49) -> #DIV/0!
G50: =SUM(H50:N50) -> 0 | H50: =_xlfn.IFS($E50>0,VLOOKUP($F50,objets!$A$2:$L4948,6,FALSE)*$E50,$F50="",0,$E50="",VLOOKUP($F50,objets!$A$2:$L4948,6,FALSE)) -> 0 | I50: =_xlfn.IFS($E50>0,VLOOKUP($F50,objets!$A$2:$L4948,6,FALSE)*$E50,$F50="",0,$E50="",VLOOKUP($F50,objets!$A$2:$L4948,6,FALSE)) -> 0 | J50: =_xlfn.IFS($E50>0,VLOOKUP($F50,objets!$A$2:$L4948,6,FALSE)*$E50,$F50="",0,$E50="",VLOOKUP($F50,objets!$A$2:$L4948,6,FALSE)) -> 0 | K50: =_xlfn.IFS($E50>0,VLOOKUP($F50,objets!$A$2:$L4948,6,FALSE)*$E50,$F50="",0,$E50="",VLOOKUP($F50,objets!$A$2:$L4948,6,FALSE)) -> 0 | L50: =_xlfn.IFS($E50>0,VLOOKUP($F50,objets!$A$2:$L4948,6,FALSE)*$E50,$F50="",0,$E50="",VLOOKUP($F50,objets!$A$2:$L4948,6,FALSE)) -> 0 | M50: =_xlfn.IFS($E50>0,VLOOKUP($F50,objets!$A$2:$L4948,6,FALSE)*$E50,$F50="",0,$E50="",VLOOKUP($F50,objets!$A$2:$L4948,6,FALSE)) -> 0 | N50: =_xlfn.IFS($E50>0,VLOOKUP($F50,objets!$A$2:$L4948,6,FALSE)*$E50,$F50="",0,$E50="",VLOOKUP($F50,objets!$A$2:$L4948,6,FALSE)) -> 0 | X50: =SUMPRODUCT(H50:N50,P50:V50)/SUM(H50:N50) -> #DIV/0!
G51: =SUM(H51:N51) -> 0 | H51: =_xlfn.IFS($E51>0,VLOOKUP($F51,objets!$A$2:$L4949,6,FALSE)*$E51,$F51="",0,$E51="",VLOOKUP($F51,objets!$A$2:$L4949,6,FALSE)) -> 0 | I51: =_xlfn.IFS($E51>0,VLOOKUP($F51,objets!$A$2:$L4949,6,FALSE)*$E51,$F51="",0,$E51="",VLOOKUP($F51,objets!$A$2:$L4949,6,FALSE)) -> 0 | J51: =_xlfn.IFS($E51>0,VLOOKUP($F51,objets!$A$2:$L4949,6,FALSE)*$E51,$F51="",0,$E51="",VLOOKUP($F51,objets!$A$2:$L4949,6,FALSE)) -> 0 | K51: =_xlfn.IFS($E51>0,VLOOKUP($F51,objets!$A$2:$L4949,6,FALSE)*$E51,$F51="",0,$E51="",VLOOKUP($F51,objets!$A$2:$L4949,6,FALSE)) -> 0 | L51: =_xlfn.IFS($E51>0,VLOOKUP($F51,objets!$A$2:$L4949,6,FALSE)*$E51,$F51="",0,$E51="",VLOOKUP($F51,objets!$A$2:$L4949,6,FALSE)) -> 0 | M51: =_xlfn.IFS($E51>0,VLOOKUP($F51,objets!$A$2:$L4949,6,FALSE)*$E51,$F51="",0,$E51="",VLOOKUP($F51,objets!$A$2:$L4949,6,FALSE)) -> 0 | N51: =_xlfn.IFS($E51>0,VLOOKUP($F51,objets!$A$2:$L4949,6,FALSE)*$E51,$F51="",0,$E51="",VLOOKUP($F51,objets!$A$2:$L4949,6,FALSE)) -> 0 | X51: =SUMPRODUCT(H51:N51,P51:V51)/SUM(H51:N51) -> #DIV/0!
G52: =SUM(H52:N52) -> 0 | H52: =_xlfn.IFS($E52>0,VLOOKUP($F52,objets!$A$2:$L4950,6,FALSE)*$E52,$F52="",0,$E52="",VLOOKUP($F52,objets!$A$2:$L4950,6,FALSE)) -> 0 | I52: =_xlfn.IFS($E52>0,VLOOKUP($F52,objets!$A$2:$L4950,6,FALSE)*$E52,$F52="",0,$E52="",VLOOKUP($F52,objets!$A$2:$L4950,6,FALSE)) -> 0 | J52: =_xlfn.IFS($E52>0,VLOOKUP($F52,objets!$A$2:$L4950,6,FALSE)*$E52,$F52="",0,$E52="",VLOOKUP($F52,objets!$A$2:$L4950,6,FALSE)) -> 0 | K52: =_xlfn.IFS($E52>0,VLOOKUP($F52,objets!$A$2:$L4950,6,FALSE)*$E52,$F52="",0,$E52="",VLOOKUP($F52,objets!$A$2:$L4950,6,FALSE)) -> 0 | L52: =_xlfn.IFS($E52>0,VLOOKUP($F52,objets!$A$2:$L4950,6,FALSE)*$E52,$F52="",0,$E52="",VLOOKUP($F52,objets!$A$2:$L4950,6,FALSE)) -> 0 | M52: =_xlfn.IFS($E52>0,VLOOKUP($F52,objets!$A$2:$L4950,6,FALSE)*$E52,$F52="",0,$E52="",VLOOKUP($F52,objets!$A$2:$L4950,6,FALSE)) -> 0 | N52: =_xlfn.IFS($E52>0,VLOOKUP($F52,objets!$A$2:$L4950,6,FALSE)*$E52,$F52="",0,$E52="",VLOOKUP($F52,objets!$A$2:$L4950,6,FALSE)) -> 0 | X52: =SUMPRODUCT(H52:N52,P52:V52)/SUM(H52:N52) -> #DIV/0!
G53: =SUM(H53:N53) -> 0 | H53: =_xlfn.IFS($E53>0,VLOOKUP($F53,objets!$A$2:$L4951,6,FALSE)*$E53,$F53="",0,$E53="",VLOOKUP($F53,objets!$A$2:$L4951,6,FALSE)) -> 0 | I53: =_xlfn.IFS($E53>0,VLOOKUP($F53,objets!$A$2:$L4951,6,FALSE)*$E53,$F53="",0,$E53="",VLOOKUP($F53,objets!$A$2:$L4951,6,FALSE)) -> 0 | J53: =_xlfn.IFS($E53>0,VLOOKUP($F53,objets!$A$2:$L4951,6,FALSE)*$E53,$F53="",0,$E53="",VLOOKUP($F53,objets!$A$2:$L4951,6,FALSE)) -> 0 | K53: =_xlfn.IFS($E53>0,VLOOKUP($F53,objets!$A$2:$L4951,6,FALSE)*$E53,$F53="",0,$E53="",VLOOKUP($F53,objets!$A$2:$L4951,6,FALSE)) -> 0 | L53: =_xlfn.IFS($E53>0,VLOOKUP($F53,objets!$A$2:$L4951,6,FALSE)*$E53,$F53="",0,$E53="",VLOOKUP($F53,objets!$A$2:$L4951,6,FALSE)) -> 0 | M53: =_xlfn.IFS($E53>0,VLOOKUP($F53,objets!$A$2:$L4951,6,FALSE)*$E53,$F53="",0,$E53="",VLOOKUP($F53,objets!$A$2:$L4951,6,FALSE)) -> 0 | N53: =_xlfn.IFS($E53>0,VLOOKUP($F53,objets!$A$2:$L4951,6,FALSE)*$E53,$F53="",0,$E53="",VLOOKUP($F53,objets!$A$2:$L4951,6,FALSE)) -> 0 | X53: =SUMPRODUCT(H53:N53,P53:V53)/SUM(H53:N53) -> #DIV/0!
G54: =SUM(H54:N54) -> 0 | H54: =_xlfn.IFS($E54>0,VLOOKUP($F54,objets!$A$2:$L4950,6,FALSE)*$E54,$F54="",0,$E54="",VLOOKUP($F54,objets!$A$2:$L4950,6,FALSE)) -> 0 | I54: =_xlfn.IFS($E54>0,VLOOKUP($F54,objets!$A$2:$L4950,6,FALSE)*$E54,$F54="",0,$E54="",VLOOKUP($F54,objets!$A$2:$L4950,6,FALSE)) -> 0 | J54: =_xlfn.IFS($E54>0,VLOOKUP($F54,objets!$A$2:$L4950,6,FALSE)*$E54,$F54="",0,$E54="",VLOOKUP($F54,objets!$A$2:$L4950,6,FALSE)) -> 0 | K54: =_xlfn.IFS($E54>0,VLOOKUP($F54,objets!$A$2:$L4950,6,FALSE)*$E54,$F54="",0,$E54="",VLOOKUP($F54,objets!$A$2:$L4950,6,FALSE)) -> 0 | L54: =_xlfn.IFS($E54>0,VLOOKUP($F54,objets!$A$2:$L4950,6,FALSE)*$E54,$F54="",0,$E54="",VLOOKUP($F54,objets!$A$2:$L4950,6,FALSE)) -> 0 | M54: =_xlfn.IFS($E54>0,VLOOKUP($F54,objets!$A$2:$L4950,6,FALSE)*$E54,$F54="",0,$E54="",VLOOKUP($F54,objets!$A$2:$L4950,6,FALSE)) -> 0 | N54: =_xlfn.IFS($E54>0,VLOOKUP($F54,objets!$A$2:$L4950,6,FALSE)*$E54,$F54="",0,$E54="",VLOOKUP($F54,objets!$A$2:$L4950,6,FALSE)) -> 0 | X54: =SUMPRODUCT(H54:N54,P54:V54)/SUM(H54:N54) -> #DIV/0!
G55: =SUM(H55:N55) -> 0 | H55: =_xlfn.IFS($E55>0,VLOOKUP($F55,objets!$A$2:$L4951,6,FALSE)*$E55,$F55="",0,$E55="",VLOOKUP($F55,objets!$A$2:$L4951,6,FALSE)) -> 0 | I55: =_xlfn.IFS($E55>0,VLOOKUP($F55,objets!$A$2:$L4951,6,FALSE)*$E55,$F55="",0,$E55="",VLOOKUP($F55,objets!$A$2:$L4951,6,FALSE)) -> 0 | J55: =_xlfn.IFS($E55>0,VLOOKUP($F55,objets!$A$2:$L4951,6,FALSE)*$E55,$F55="",0,$E55="",VLOOKUP($F55,objets!$A$2:$L4951,6,FALSE)) -> 0 | K55: =_xlfn.IFS($E55>0,VLOOKUP($F55,objets!$A$2:$L4951,6,FALSE)*$E55,$F55="",0,$E55="",VLOOKUP($F55,objets!$A$2:$L4951,6,FALSE)) -> 0 | L55: =_xlfn.IFS($E55>0,VLOOKUP($F55,objets!$A$2:$L4951,6,FALSE)*$E55,$F55="",0,$E55="",VLOOKUP($F55,objets!$A$2:$L4951,6,FALSE)) -> 0 | M55: =_xlfn.IFS($E55>0,VLOOKUP($F55,objets!$A$2:$L4951,6,FALSE)*$E55,$F55="",0,$E55="",VLOOKUP($F55,objets!$A$2:$L4951,6,FALSE)) -> 0 | N55: =_xlfn.IFS($E55>0,VLOOKUP($F55,objets!$A$2:$L4951,6,FALSE)*$E55,$F55="",0,$E55="",VLOOKUP($F55,objets!$A$2:$L4951,6,FALSE)) -> 0 | X55: =SUMPRODUCT(H55:N55,P55:V55)/SUM(H55:N55) -> #DIV/0!
G56: =SUM(H56:N56) -> 0 | H56: =_xlfn.IFS($E56>0,VLOOKUP($F56,objets!$A$2:$L4946,6,FALSE)*$E56,$F56="",0,$E56="",VLOOKUP($F56,objets!$A$2:$L4946,6,FALSE)) -> 0 | I56: =_xlfn.IFS($E56>0,VLOOKUP($F56,objets!$A$2:$L4946,6,FALSE)*$E56,$F56="",0,$E56="",VLOOKUP($F56,objets!$A$2:$L4946,6,FALSE)) -> 0 | J56: =_xlfn.IFS($E56>0,VLOOKUP($F56,objets!$A$2:$L4946,6,FALSE)*$E56,$F56="",0,$E56="",VLOOKUP($F56,objets!$A$2:$L4946,6,FALSE)) -> 0 | K56: =_xlfn.IFS($E56>0,VLOOKUP($F56,objets!$A$2:$L4946,6,FALSE)*$E56,$F56="",0,$E56="",VLOOKUP($F56,objets!$A$2:$L4946,6,FALSE)) -> 0 | L56: =_xlfn.IFS($E56>0,VLOOKUP($F56,objets!$A$2:$L4946,6,FALSE)*$E56,$F56="",0,$E56="",VLOOKUP($F56,objets!$A$2:$L4946,6,FALSE)) -> 0 | M56: =_xlfn.IFS($E56>0,VLOOKUP($F56,objets!$A$2:$L4946,6,FALSE)*$E56,$F56="",0,$E56="",VLOOKUP($F56,objets!$A$2:$L4946,6,FALSE)) -> 0 | N56: =_xlfn.IFS($E56>0,VLOOKUP($F56,objets!$A$2:$L4946,6,FALSE)*$E56,$F56="",0,$E56="",VLOOKUP($F56,objets!$A$2:$L4946,6,FALSE)) -> 0 | X56: =SUMPRODUCT(H56:N56,P56:V56)/SUM(H56:N56) -> #DIV/0!
G57: =SUM(H57:N57) -> 0 | H57: =_xlfn.IFS($E57>0,VLOOKUP($F57,objets!$A$2:$L4955,6,FALSE)*$E57,$F57="",0,$E57="",VLOOKUP($F57,objets!$A$2:$L4955,6,FALSE)) -> 0 | I57: =_xlfn.IFS($E57>0,VLOOKUP($F57,objets!$A$2:$L4955,6,FALSE)*$E57,$F57="",0,$E57="",VLOOKUP($F57,objets!$A$2:$L4955,6,FALSE)) -> 0 | J57: =_xlfn.IFS($E57>0,VLOOKUP($F57,objets!$A$2:$L4955,6,FALSE)*$E57,$F57="",0,$E57="",VLOOKUP($F57,objets!$A$2:$L4955,6,FALSE)) -> 0 | K57: =_xlfn.IFS($E57>0,VLOOKUP($F57,objets!$A$2:$L4955,6,FALSE)*$E57,$F57="",0,$E57="",VLOOKUP($F57,objets!$A$2:$L4955,6,FALSE)) -> 0 | L57: =_xlfn.IFS($E57>0,VLOOKUP($F57,objets!$A$2:$L4955,6,FALSE)*$E57,$F57="",0,$E57="",VLOOKUP($F57,objets!$A$2:$L4955,6,FALSE)) -> 0 | M57: =_xlfn.IFS($E57>0,VLOOKUP($F57,objets!$A$2:$L4955,6,FALSE)*$E57,$F57="",0,$E57="",VLOOKUP($F57,objets!$A$2:$L4955,6,FALSE)) -> 0 | N57: =_xlfn.IFS($E57>0,VLOOKUP($F57,objets!$A$2:$L4955,6,FALSE)*$E57,$F57="",0,$E57="",VLOOKUP($F57,objets!$A$2:$L4955,6,FALSE)) -> 0 | X57: =SUMPRODUCT(H57:N57,P57:V57)/SUM(H57:N57) -> #DIV/0!
G58: =SUM(H58:N58) -> 0 | H58: =_xlfn.IFS($E58>0,VLOOKUP($F58,objets!$A$2:$L4956,6,FALSE)*$E58,$F58="",0,$E58="",VLOOKUP($F58,objets!$A$2:$L4956,6,FALSE)) -> 0 | I58: =_xlfn.IFS($E58>0,VLOOKUP($F58,objets!$A$2:$L4956,6,FALSE)*$E58,$F58="",0,$E58="",VLOOKUP($F58,objets!$A$2:$L4956,6,FALSE)) -> 0 | J58: =_xlfn.IFS($E58>0,VLOOKUP($F58,objets!$A$2:$L4956,6,FALSE)*$E58,$F58="",0,$E58="",VLOOKUP($F58,objets!$A$2:$L4956,6,FALSE)) -> 0 | K58: =_xlfn.IFS($E58>0,VLOOKUP($F58,objets!$A$2:$L4956,6,FALSE)*$E58,$F58="",0,$E58="",VLOOKUP($F58,objets!$A$2:$L4956,6,FALSE)) -> 0 | L58: =_xlfn.IFS($E58>0,VLOOKUP($F58,objets!$A$2:$L4956,6,FALSE)*$E58,$F58="",0,$E58="",VLOOKUP($F58,objets!$A$2:$L4956,6,FALSE)) -> 0 | M58: =_xlfn.IFS($E58>0,VLOOKUP($F58,objets!$A$2:$L4956,6,FALSE)*$E58,$F58="",0,$E58="",VLOOKUP($F58,objets!$A$2:$L4956,6,FALSE)) -> 0 | N58: =_xlfn.IFS($E58>0,VLOOKUP($F58,objets!$A$2:$L4956,6,FALSE)*$E58,$F58="",0,$E58="",VLOOKUP($F58,objets!$A$2:$L4956,6,FALSE)) -> 0 | X58: =SUMPRODUCT(H58:N58,P58:V58)/SUM(H58:N58) -> #DIV/0!
G59: =SUM(H59:N59) -> 0 | H59: =_xlfn.IFS($E59>0,VLOOKUP($F59,objets!$A$2:$L4957,6,FALSE)*$E59,$F59="",0,$E59="",VLOOKUP($F59,objets!$A$2:$L4957,6,FALSE)) -> 0 | I59: =_xlfn.IFS($E59>0,VLOOKUP($F59,objets!$A$2:$L4957,6,FALSE)*$E59,$F59="",0,$E59="",VLOOKUP($F59,objets!$A$2:$L4957,6,FALSE)) -> 0 | J59: =_xlfn.IFS($E59>0,VLOOKUP($F59,objets!$A$2:$L4957,6,FALSE)*$E59,$F59="",0,$E59="",VLOOKUP($F59,objets!$A$2:$L4957,6,FALSE)) -> 0 | K59: =_xlfn.IFS($E59>0,VLOOKUP($F59,objets!$A$2:$L4957,6,FALSE)*$E59,$F59="",0,$E59="",VLOOKUP($F59,objets!$A$2:$L4957,6,FALSE)) -> 0 | L59: =_xlfn.IFS($E59>0,VLOOKUP($F59,objets!$A$2:$L4957,6,FALSE)*$E59,$F59="",0,$E59="",VLOOKUP($F59,objets!$A$2:$L4957,6,FALSE)) -> 0 | M59: =_xlfn.IFS($E59>0,VLOOKUP($F59,objets!$A$2:$L4957,6,FALSE)*$E59,$F59="",0,$E59="",VLOOKUP($F59,objets!$A$2:$L4957,6,FALSE)) -> 0 | N59: =_xlfn.IFS($E59>0,VLOOKUP($F59,objets!$A$2:$L4957,6,FALSE)*$E59,$F59="",0,$E59="",VLOOKUP($F59,objets!$A$2:$L4957,6,FALSE)) -> 0 | X59: =SUMPRODUCT(H59:N59,P59:V59)/SUM(H59:N59) -> #DIV/0!
G60: =SUM(H60:N60) -> 0 | H60: =_xlfn.IFS($E60>0,VLOOKUP($F60,objets!$A$2:$L4956,6,FALSE)*$E60,$F60="",0,$E60="",VLOOKUP($F60,objets!$A$2:$L4956,6,FALSE)) -> 0 | I60: =_xlfn.IFS($E60>0,VLOOKUP($F60,objets!$A$2:$L4956,6,FALSE)*$E60,$F60="",0,$E60="",VLOOKUP($F60,objets!$A$2:$L4956,6,FALSE)) -> 0 | J60: =_xlfn.IFS($E60>0,VLOOKUP($F60,objets!$A$2:$L4956,6,FALSE)*$E60,$F60="",0,$E60="",VLOOKUP($F60,objets!$A$2:$L4956,6,FALSE)) -> 0 | K60: =_xlfn.IFS($E60>0,VLOOKUP($F60,objets!$A$2:$L4956,6,FALSE)*$E60,$F60="",0,$E60="",VLOOKUP($F60,objets!$A$2:$L4956,6,FALSE)) -> 0 | L60: =_xlfn.IFS($E60>0,VLOOKUP($F60,objets!$A$2:$L4956,6,FALSE)*$E60,$F60="",0,$E60="",VLOOKUP($F60,objets!$A$2:$L4956,6,FALSE)) -> 0 | M60: =_xlfn.IFS($E60>0,VLOOKUP($F60,objets!$A$2:$L4956,6,FALSE)*$E60,$F60="",0,$E60="",VLOOKUP($F60,objets!$A$2:$L4956,6,FALSE)) -> 0 | N60: =_xlfn.IFS($E60>0,VLOOKUP($F60,objets!$A$2:$L4956,6,FALSE)*$E60,$F60="",0,$E60="",VLOOKUP($F60,objets!$A$2:$L4956,6,FALSE)) -> 0 | X60: =SUMPRODUCT(H60:N60,P60:V60)/SUM(H60:N60) -> #DIV/0!
G61: =SUM(H61:N61) -> 0 | H61: =_xlfn.IFS($E61>0,VLOOKUP($F61,objets!$A$2:$L4957,6,FALSE)*$E61,$F61="",0,$E61="",VLOOKUP($F61,objets!$A$2:$L4957,6,FALSE)) -> 0 | I61: =_xlfn.IFS($E61>0,VLOOKUP($F61,objets!$A$2:$L4957,6,FALSE)*$E61,$F61="",0,$E61="",VLOOKUP($F61,objets!$A$2:$L4957,6,FALSE)) -> 0 | J61: =_xlfn.IFS($E61>0,VLOOKUP($F61,objets!$A$2:$L4957,6,FALSE)*$E61,$F61="",0,$E61="",VLOOKUP($F61,objets!$A$2:$L4957,6,FALSE)) -> 0 | K61: =_xlfn.IFS($E61>0,VLOOKUP($F61,objets!$A$2:$L4957,6,FALSE)*$E61,$F61="",0,$E61="",VLOOKUP($F61,objets!$A$2:$L4957,6,FALSE)) -> 0 | L61: =_xlfn.IFS($E61>0,VLOOKUP($F61,objets!$A$2:$L4957,6,FALSE)*$E61,$F61="",0,$E61="",VLOOKUP($F61,objets!$A$2:$L4957,6,FALSE)) -> 0 | M61: =_xlfn.IFS($E61>0,VLOOKUP($F61,objets!$A$2:$L4957,6,FALSE)*$E61,$F61="",0,$E61="",VLOOKUP($F61,objets!$A$2:$L4957,6,FALSE)) -> 0 | N61: =_xlfn.IFS($E61>0,VLOOKUP($F61,objets!$A$2:$L4957,6,FALSE)*$E61,$F61="",0,$E61="",VLOOKUP($F61,objets!$A$2:$L4957,6,FALSE)) -> 0 | X61: =SUMPRODUCT(H61:N61,P61:V61)/SUM(H61:N61) -> #DIV/0!
G62: =SUM(H62:N62) -> 0 | H62: =_xlfn.IFS($E62>0,VLOOKUP($F62,objets!$A$2:$L4960,6,FALSE)*$E62,$F62="",0,$E62="",VLOOKUP($F62,objets!$A$2:$L4960,6,FALSE)) -> 0 | I62: =_xlfn.IFS($E62>0,VLOOKUP($F62,objets!$A$2:$L4960,6,FALSE)*$E62,$F62="",0,$E62="",VLOOKUP($F62,objets!$A$2:$L4960,6,FALSE)) -> 0 | J62: =_xlfn.IFS($E62>0,VLOOKUP($F62,objets!$A$2:$L4960,6,FALSE)*$E62,$F62="",0,$E62="",VLOOKUP($F62,objets!$A$2:$L4960,6,FALSE)) -> 0 | K62: =_xlfn.IFS($E62>0,VLOOKUP($F62,objets!$A$2:$L4960,6,FALSE)*$E62,$F62="",0,$E62="",VLOOKUP($F62,objets!$A$2:$L4960,6,FALSE)) -> 0 | L62: =_xlfn.IFS($E62>0,VLOOKUP($F62,objets!$A$2:$L4960,6,FALSE)*$E62,$F62="",0,$E62="",VLOOKUP($F62,objets!$A$2:$L4960,6,FALSE)) -> 0 | M62: =_xlfn.IFS($E62>0,VLOOKUP($F62,objets!$A$2:$L4960,6,FALSE)*$E62,$F62="",0,$E62="",VLOOKUP($F62,objets!$A$2:$L4960,6,FALSE)) -> 0 | N62: =_xlfn.IFS($E62>0,VLOOKUP($F62,objets!$A$2:$L4960,6,FALSE)*$E62,$F62="",0,$E62="",VLOOKUP($F62,objets!$A$2:$L4960,6,FALSE)) -> 0 | X62: =SUMPRODUCT(H62:N62,P62:V62)/SUM(H62:N62) -> #DIV/0!
G63: =SUM(H63:N63) -> 0 | H63: =_xlfn.IFS($E63>0,VLOOKUP($F63,objets!$A$2:$L4961,6,FALSE)*$E63,$F63="",0,$E63="",VLOOKUP($F63,objets!$A$2:$L4961,6,FALSE)) -> 0 | I63: =_xlfn.IFS($E63>0,VLOOKUP($F63,objets!$A$2:$L4961,6,FALSE)*$E63,$F63="",0,$E63="",VLOOKUP($F63,objets!$A$2:$L4961,6,FALSE)) -> 0 | J63: =_xlfn.IFS($E63>0,VLOOKUP($F63,objets!$A$2:$L4961,6,FALSE)*$E63,$F63="",0,$E63="",VLOOKUP($F63,objets!$A$2:$L4961,6,FALSE)) -> 0 | K63: =_xlfn.IFS($E63>0,VLOOKUP($F63,objets!$A$2:$L4961,6,FALSE)*$E63,$F63="",0,$E63="",VLOOKUP($F63,objets!$A$2:$L4961,6,FALSE)) -> 0 | L63: =_xlfn.IFS($E63>0,VLOOKUP($F63,objets!$A$2:$L4961,6,FALSE)*$E63,$F63="",0,$E63="",VLOOKUP($F63,objets!$A$2:$L4961,6,FALSE)) -> 0 | M63: =_xlfn.IFS($E63>0,VLOOKUP($F63,objets!$A$2:$L4961,6,FALSE)*$E63,$F63="",0,$E63="",VLOOKUP($F63,objets!$A$2:$L4961,6,FALSE)) -> 0 | N63: =_xlfn.IFS($E63>0,VLOOKUP($F63,objets!$A$2:$L4961,6,FALSE)*$E63,$F63="",0,$E63="",VLOOKUP($F63,objets!$A$2:$L4961,6,FALSE)) -> 0 | X63: =SUMPRODUCT(H63:N63,P63:V63)/SUM(H63:N63) -> #DIV/0!
G64: =SUM(H64:N64) -> 0 | H64: =_xlfn.IFS($E64>0,VLOOKUP($F64,objets!$A$2:$L4962,6,FALSE)*$E64,$F64="",0,$E64="",VLOOKUP($F64,objets!$A$2:$L4962,6,FALSE)) -> 0 | I64: =_xlfn.IFS($E64>0,VLOOKUP($F64,objets!$A$2:$L4962,6,FALSE)*$E64,$F64="",0,$E64="",VLOOKUP($F64,objets!$A$2:$L4962,6,FALSE)) -> 0 | J64: =_xlfn.IFS($E64>0,VLOOKUP($F64,objets!$A$2:$L4962,6,FALSE)*$E64,$F64="",0,$E64="",VLOOKUP($F64,objets!$A$2:$L4962,6,FALSE)) -> 0 | K64: =_xlfn.IFS($E64>0,VLOOKUP($F64,objets!$A$2:$L4962,6,FALSE)*$E64,$F64="",0,$E64="",VLOOKUP($F64,objets!$A$2:$L4962,6,FALSE)) -> 0 | L64: =_xlfn.IFS($E64>0,VLOOKUP($F64,objets!$A$2:$L4962,6,FALSE)*$E64,$F64="",0,$E64="",VLOOKUP($F64,objets!$A$2:$L4962,6,FALSE)) -> 0 | M64: =_xlfn.IFS($E64>0,VLOOKUP($F64,objets!$A$2:$L4962,6,FALSE)*$E64,$F64="",0,$E64="",VLOOKUP($F64,objets!$A$2:$L4962,6,FALSE)) -> 0 | N64: =_xlfn.IFS($E64>0,VLOOKUP($F64,objets!$A$2:$L4962,6,FALSE)*$E64,$F64="",0,$E64="",VLOOKUP($F64,objets!$A$2:$L4962,6,FALSE)) -> 0 | X64: =SUMPRODUCT(H64:N64,P64:V64)/SUM(H64:N64) -> #DIV/0!
G65: =SUM(H65:N65) -> 0 | H65: =_xlfn.IFS($E65>0,VLOOKUP($F65,objets!$A$2:$L4963,6,FALSE)*$E65,$F65="",0,$E65="",VLOOKUP($F65,objets!$A$2:$L4963,6,FALSE)) -> 0 | I65: =_xlfn.IFS($E65>0,VLOOKUP($F65,objets!$A$2:$L4963,6,FALSE)*$E65,$F65="",0,$E65="",VLOOKUP($F65,objets!$A$2:$L4963,6,FALSE)) -> 0 | J65: =_xlfn.IFS($E65>0,VLOOKUP($F65,objets!$A$2:$L4963,6,FALSE)*$E65,$F65="",0,$E65="",VLOOKUP($F65,objets!$A$2:$L4963,6,FALSE)) -> 0 | K65: =_xlfn.IFS($E65>0,VLOOKUP($F65,objets!$A$2:$L4963,6,FALSE)*$E65,$F65="",0,$E65="",VLOOKUP($F65,objets!$A$2:$L4963,6,FALSE)) -> 0 | L65: =_xlfn.IFS($E65>0,VLOOKUP($F65,objets!$A$2:$L4963,6,FALSE)*$E65,$F65="",0,$E65="",VLOOKUP($F65,objets!$A$2:$L4963,6,FALSE)) -> 0 | M65: =_xlfn.IFS($E65>0,VLOOKUP($F65,objets!$A$2:$L4963,6,FALSE)*$E65,$F65="",0,$E65="",VLOOKUP($F65,objets!$A$2:$L4963,6,FALSE)) -> 0 | N65: =_xlfn.IFS($E65>0,VLOOKUP($F65,objets!$A$2:$L4963,6,FALSE)*$E65,$F65="",0,$E65="",VLOOKUP($F65,objets!$A$2:$L4963,6,FALSE)) -> 0 | X65: =SUMPRODUCT(H65:N65,P65:V65)/SUM(H65:N65) -> #DIV/0!
G66: =SUM(H66:N66) -> 0 | H66: =_xlfn.IFS($E66>0,VLOOKUP($F66,objets!$A$2:$L4962,6,FALSE)*$E66,$F66="",0,$E66="",VLOOKUP($F66,objets!$A$2:$L4962,6,FALSE)) -> 0 | I66: =_xlfn.IFS($E66>0,VLOOKUP($F66,objets!$A$2:$L4962,6,FALSE)*$E66,$F66="",0,$E66="",VLOOKUP($F66,objets!$A$2:$L4962,6,FALSE)) -> 0 | J66: =_xlfn.IFS($E66>0,VLOOKUP($F66,objets!$A$2:$L4962,6,FALSE)*$E66,$F66="",0,$E66="",VLOOKUP($F66,objets!$A$2:$L4962,6,FALSE)) -> 0 | K66: =_xlfn.IFS($E66>0,VLOOKUP($F66,objets!$A$2:$L4962,6,FALSE)*$E66,$F66="",0,$E66="",VLOOKUP($F66,objets!$A$2:$L4962,6,FALSE)) -> 0 | L66: =_xlfn.IFS($E66>0,VLOOKUP($F66,objets!$A$2:$L4962,6,FALSE)*$E66,$F66="",0,$E66="",VLOOKUP($F66,objets!$A$2:$L4962,6,FALSE)) -> 0 | M66: =_xlfn.IFS($E66>0,VLOOKUP($F66,objets!$A$2:$L4962,6,FALSE)*$E66,$F66="",0,$E66="",VLOOKUP($F66,objets!$A$2:$L4962,6,FALSE)) -> 0 | N66: =_xlfn.IFS($E66>0,VLOOKUP($F66,objets!$A$2:$L4962,6,FALSE)*$E66,$F66="",0,$E66="",VLOOKUP($F66,objets!$A$2:$L4962,6,FALSE)) -> 0 | X66: =SUMPRODUCT(H66:N66,P66:V66)/SUM(H66:N66) -> #DIV/0!
G67: =SUM(H67:N67) -> 0 | H67: =_xlfn.IFS($E67>0,VLOOKUP($F67,objets!$A$2:$L4963,6,FALSE)*$E67,$F67="",0,$E67="",VLOOKUP($F67,objets!$A$2:$L4963,6,FALSE)) -> 0 | I67: =_xlfn.IFS($E67>0,VLOOKUP($F67,objets!$A$2:$L4963,6,FALSE)*$E67,$F67="",0,$E67="",VLOOKUP($F67,objets!$A$2:$L4963,6,FALSE)) -> 0 | J67: =_xlfn.IFS($E67>0,VLOOKUP($F67,objets!$A$2:$L4963,6,FALSE)*$E67,$F67="",0,$E67="",VLOOKUP($F67,objets!$A$2:$L4963,6,FALSE)) -> 0 | K67: =_xlfn.IFS($E67>0,VLOOKUP($F67,objets!$A$2:$L4963,6,FALSE)*$E67,$F67="",0,$E67="",VLOOKUP($F67,objets!$A$2:$L4963,6,FALSE)) -> 0 | L67: =_xlfn.IFS($E67>0,VLOOKUP($F67,objets!$A$2:$L4963,6,FALSE)*$E67,$F67="",0,$E67="",VLOOKUP($F67,objets!$A$2:$L4963,6,FALSE)) -> 0 | M67: =_xlfn.IFS($E67>0,VLOOKUP($F67,objets!$A$2:$L4963,6,FALSE)*$E67,$F67="",0,$E67="",VLOOKUP($F67,objets!$A$2:$L4963,6,FALSE)) -> 0 | N67: =_xlfn.IFS($E67>0,VLOOKUP($F67,objets!$A$2:$L4963,6,FALSE)*$E67,$F67="",0,$E67="",VLOOKUP($F67,objets!$A$2:$L4963,6,FALSE)) -> 0 | X67: =SUMPRODUCT(H67:N67,P67:V67)/SUM(H67:N67) -> #DIV/0!
G68: =SUM(H68:N68) -> 0 | H68: =_xlfn.IFS($E68>0,VLOOKUP($F68,objets!$A$2:$L4966,6,FALSE)*$E68,$F68="",0,$E68="",VLOOKUP($F68,objets!$A$2:$L4966,6,FALSE)) -> 0 | I68: =_xlfn.IFS($E68>0,VLOOKUP($F68,objets!$A$2:$L4966,6,FALSE)*$E68,$F68="",0,$E68="",VLOOKUP($F68,objets!$A$2:$L4966,6,FALSE)) -> 0 | J68: =_xlfn.IFS($E68>0,VLOOKUP($F68,objets!$A$2:$L4966,6,FALSE)*$E68,$F68="",0,$E68="",VLOOKUP($F68,objets!$A$2:$L4966,6,FALSE)) -> 0 | K68: =_xlfn.IFS($E68>0,VLOOKUP($F68,objets!$A$2:$L4966,6,FALSE)*$E68,$F68="",0,$E68="",VLOOKUP($F68,objets!$A$2:$L4966,6,FALSE)) -> 0 | L68: =_xlfn.IFS($E68>0,VLOOKUP($F68,objets!$A$2:$L4966,6,FALSE)*$E68,$F68="",0,$E68="",VLOOKUP($F68,objets!$A$2:$L4966,6,FALSE)) -> 0 | M68: =_xlfn.IFS($E68>0,VLOOKUP($F68,objets!$A$2:$L4966,6,FALSE)*$E68,$F68="",0,$E68="",VLOOKUP($F68,objets!$A$2:$L4966,6,FALSE)) -> 0 | N68: =_xlfn.IFS($E68>0,VLOOKUP($F68,objets!$A$2:$L4966,6,FALSE)*$E68,$F68="",0,$E68="",VLOOKUP($F68,objets!$A$2:$L4966,6,FALSE)) -> 0 | X68: =SUMPRODUCT(H68:N68,P68:V68)/SUM(H68:N68) -> #DIV/0!
G69: =SUM(H69:N69) -> 0 | H69: =_xlfn.IFS($E69>0,VLOOKUP($F69,objets!$A$2:$L4967,6,FALSE)*$E69,$F69="",0,$E69="",VLOOKUP($F69,objets!$A$2:$L4967,6,FALSE)) -> 0 | I69: =_xlfn.IFS($E69>0,VLOOKUP($F69,objets!$A$2:$L4967,6,FALSE)*$E69,$F69="",0,$E69="",VLOOKUP($F69,objets!$A$2:$L4967,6,FALSE)) -> 0 | J69: =_xlfn.IFS($E69>0,VLOOKUP($F69,objets!$A$2:$L4967,6,FALSE)*$E69,$F69="",0,$E69="",VLOOKUP($F69,objets!$A$2:$L4967,6,FALSE)) -> 0 | K69: =_xlfn.IFS($E69>0,VLOOKUP($F69,objets!$A$2:$L4967,6,FALSE)*$E69,$F69="",0,$E69="",VLOOKUP($F69,objets!$A$2:$L4967,6,FALSE)) -> 0 | L69: =_xlfn.IFS($E69>0,VLOOKUP($F69,objets!$A$2:$L4967,6,FALSE)*$E69,$F69="",0,$E69="",VLOOKUP($F69,objets!$A$2:$L4967,6,FALSE)) -> 0 | M69: =_xlfn.IFS($E69>0,VLOOKUP($F69,objets!$A$2:$L4967,6,FALSE)*$E69,$F69="",0,$E69="",VLOOKUP($F69,objets!$A$2:$L4967,6,FALSE)) -> 0 | N69: =_xlfn.IFS($E69>0,VLOOKUP($F69,objets!$A$2:$L4967,6,FALSE)*$E69,$F69="",0,$E69="",VLOOKUP($F69,objets!$A$2:$L4967,6,FALSE)) -> 0 | X69: =SUMPRODUCT(H69:N69,P69:V69)/SUM(H69:N69) -> #DIV/0!
G70: =SUM(H70:N70) -> 0 | H70: =_xlfn.IFS($E70>0,VLOOKUP($F70,objets!$A$2:$L4968,6,FALSE)*$E70,$F70="",0,$E70="",VLOOKUP($F70,objets!$A$2:$L4968,6,FALSE)) -> 0 | I70: =_xlfn.IFS($E70>0,VLOOKUP($F70,objets!$A$2:$L4968,6,FALSE)*$E70,$F70="",0,$E70="",VLOOKUP($F70,objets!$A$2:$L4968,6,FALSE)) -> 0 | J70: =_xlfn.IFS($E70>0,VLOOKUP($F70,objets!$A$2:$L4968,6,FALSE)*$E70,$F70="",0,$E70="",VLOOKUP($F70,objets!$A$2:$L4968,6,FALSE)) -> 0 | K70: =_xlfn.IFS($E70>0,VLOOKUP($F70,objets!$A$2:$L4968,6,FALSE)*$E70,$F70="",0,$E70="",VLOOKUP($F70,objets!$A$2:$L4968,6,FALSE)) -> 0 | L70: =_xlfn.IFS($E70>0,VLOOKUP($F70,objets!$A$2:$L4968,6,FALSE)*$E70,$F70="",0,$E70="",VLOOKUP($F70,objets!$A$2:$L4968,6,FALSE)) -> 0 | M70: =_xlfn.IFS($E70>0,VLOOKUP($F70,objets!$A$2:$L4968,6,FALSE)*$E70,$F70="",0,$E70="",VLOOKUP($F70,objets!$A$2:$L4968,6,FALSE)) -> 0 | N70: =_xlfn.IFS($E70>0,VLOOKUP($F70,objets!$A$2:$L4968,6,FALSE)*$E70,$F70="",0,$E70="",VLOOKUP($F70,objets!$A$2:$L4968,6,FALSE)) -> 0 | X70: =SUMPRODUCT(H70:N70,P70:V70)/SUM(H70:N70) -> #DIV/0!
G71: =SUM(H71:N71) -> 0 | H71: =_xlfn.IFS($E71>0,VLOOKUP($F71,objets!$A$2:$L4969,6,FALSE)*$E71,$F71="",0,$E71="",VLOOKUP($F71,objets!$A$2:$L4969,6,FALSE)) -> 0 | I71: =_xlfn.IFS($E71>0,VLOOKUP($F71,objets!$A$2:$L4969,6,FALSE)*$E71,$F71="",0,$E71="",VLOOKUP($F71,objets!$A$2:$L4969,6,FALSE)) -> 0 | J71: =_xlfn.IFS($E71>0,VLOOKUP($F71,objets!$A$2:$L4969,6,FALSE)*$E71,$F71="",0,$E71="",VLOOKUP($F71,objets!$A$2:$L4969,6,FALSE)) -> 0 | K71: =_xlfn.IFS($E71>0,VLOOKUP($F71,objets!$A$2:$L4969,6,FALSE)*$E71,$F71="",0,$E71="",VLOOKUP($F71,objets!$A$2:$L4969,6,FALSE)) -> 0 | L71: =_xlfn.IFS($E71>0,VLOOKUP($F71,objets!$A$2:$L4969,6,FALSE)*$E71,$F71="",0,$E71="",VLOOKUP($F71,objets!$A$2:$L4969,6,FALSE)) -> 0 | M71: =_xlfn.IFS($E71>0,VLOOKUP($F71,objets!$A$2:$L4969,6,FALSE)*$E71,$F71="",0,$E71="",VLOOKUP($F71,objets!$A$2:$L4969,6,FALSE)) -> 0 | N71: =_xlfn.IFS($E71>0,VLOOKUP($F71,objets!$A$2:$L4969,6,FALSE)*$E71,$F71="",0,$E71="",VLOOKUP($F71,objets!$A$2:$L4969,6,FALSE)) -> 0 | X71: =SUMPRODUCT(H71:N71,P71:V71)/SUM(H71:N71) -> #DIV/0!
G72: =SUM(H72:N72) -> 0 | H72: =_xlfn.IFS($E72>0,VLOOKUP($F72,objets!$A$2:$L4968,6,FALSE)*$E72,$F72="",0,$E72="",VLOOKUP($F72,objets!$A$2:$L4968,6,FALSE)) -> 0 | I72: =_xlfn.IFS($E72>0,VLOOKUP($F72,objets!$A$2:$L4968,6,FALSE)*$E72,$F72="",0,$E72="",VLOOKUP($F72,objets!$A$2:$L4968,6,FALSE)) -> 0 | J72: =_xlfn.IFS($E72>0,VLOOKUP($F72,objets!$A$2:$L4968,6,FALSE)*$E72,$F72="",0,$E72="",VLOOKUP($F72,objets!$A$2:$L4968,6,FALSE)) -> 0 | K72: =_xlfn.IFS($E72>0,VLOOKUP($F72,objets!$A$2:$L4968,6,FALSE)*$E72,$F72="",0,$E72="",VLOOKUP($F72,objets!$A$2:$L4968,6,FALSE)) -> 0 | L72: =_xlfn.IFS($E72>0,VLOOKUP($F72,objets!$A$2:$L4968,6,FALSE)*$E72,$F72="",0,$E72="",VLOOKUP($F72,objets!$A$2:$L4968,6,FALSE)) -> 0 | M72: =_xlfn.IFS($E72>0,VLOOKUP($F72,objets!$A$2:$L4968,6,FALSE)*$E72,$F72="",0,$E72="",VLOOKUP($F72,objets!$A$2:$L4968,6,FALSE)) -> 0 | N72: =_xlfn.IFS($E72>0,VLOOKUP($F72,objets!$A$2:$L4968,6,FALSE)*$E72,$F72="",0,$E72="",VLOOKUP($F72,objets!$A$2:$L4968,6,FALSE)) -> 0 | X72: =SUMPRODUCT(H72:N72,P72:V72)/SUM(H72:N72) -> #DIV/0!
G73: =SUM(H73:N73) -> 0 | H73: =_xlfn.IFS($E73>0,VLOOKUP($F73,objets!$A$2:$L4969,6,FALSE)*$E73,$F73="",0,$E73="",VLOOKUP($F73,objets!$A$2:$L4969,6,FALSE)) -> 0 | I73: =_xlfn.IFS($E73>0,VLOOKUP($F73,objets!$A$2:$L4969,6,FALSE)*$E73,$F73="",0,$E73="",VLOOKUP($F73,objets!$A$2:$L4969,6,FALSE)) -> 0 | J73: =_xlfn.IFS($E73>0,VLOOKUP($F73,objets!$A$2:$L4969,6,FALSE)*$E73,$F73="",0,$E73="",VLOOKUP($F73,objets!$A$2:$L4969,6,FALSE)) -> 0 | K73: =_xlfn.IFS($E73>0,VLOOKUP($F73,objets!$A$2:$L4969,6,FALSE)*$E73,$F73="",0,$E73="",VLOOKUP($F73,objets!$A$2:$L4969,6,FALSE)) -> 0 | L73: =_xlfn.IFS($E73>0,VLOOKUP($F73,objets!$A$2:$L4969,6,FALSE)*$E73,$F73="",0,$E73="",VLOOKUP($F73,objets!$A$2:$L4969,6,FALSE)) -> 0 | M73: =_xlfn.IFS($E73>0,VLOOKUP($F73,objets!$A$2:$L4969,6,FALSE)*$E73,$F73="",0,$E73="",VLOOKUP($F73,objets!$A$2:$L4969,6,FALSE)) -> 0 | N73: =_xlfn.IFS($E73>0,VLOOKUP($F73,objets!$A$2:$L4969,6,FALSE)*$E73,$F73="",0,$E73="",VLOOKUP($F73,objets!$A$2:$L4969,6,FALSE)) -> 0 | X73: =SUMPRODUCT(H73:N73,P73:V73)/SUM(H73:N73) -> #DIV/0!
G74: =SUM(H74:N74) -> 0 | H74: =_xlfn.IFS($E74>0,VLOOKUP($F74,objets!$A$2:$L4972,6,FALSE)*$E74,$F74="",0,$E74="",VLOOKUP($F74,objets!$A$2:$L4972,6,FALSE)) -> 0 | I74: =_xlfn.IFS($E74>0,VLOOKUP($F74,objets!$A$2:$L4972,6,FALSE)*$E74,$F74="",0,$E74="",VLOOKUP($F74,objets!$A$2:$L4972,6,FALSE)) -> 0 | J74: =_xlfn.IFS($E74>0,VLOOKUP($F74,objets!$A$2:$L4972,6,FALSE)*$E74,$F74="",0,$E74="",VLOOKUP($F74,objets!$A$2:$L4972,6,FALSE)) -> 0 | K74: =_xlfn.IFS($E74>0,VLOOKUP($F74,objets!$A$2:$L4972,6,FALSE)*$E74,$F74="",0,$E74="",VLOOKUP($F74,objets!$A$2:$L4972,6,FALSE)) -> 0 | L74: =_xlfn.IFS($E74>0,VLOOKUP($F74,objets!$A$2:$L4972,6,FALSE)*$E74,$F74="",0,$E74="",VLOOKUP($F74,objets!$A$2:$L4972,6,FALSE)) -> 0 | M74: =_xlfn.IFS($E74>0,VLOOKUP($F74,objets!$A$2:$L4972,6,FALSE)*$E74,$F74="",0,$E74="",VLOOKUP($F74,objets!$A$2:$L4972,6,FALSE)) -> 0 | N74: =_xlfn.IFS($E74>0,VLOOKUP($F74,objets!$A$2:$L4972,6,FALSE)*$E74,$F74="",0,$E74="",VLOOKUP($F74,objets!$A$2:$L4972,6,FALSE)) -> 0 | X74: =SUMPRODUCT(H74:N74,P74:V74)/SUM(H74:N74) -> #DIV/0!
G75: =SUM(H75:N75) -> 0 | H75: =_xlfn.IFS($E75>0,VLOOKUP($F75,objets!$A$2:$L4973,6,FALSE)*$E75,$F75="",0,$E75="",VLOOKUP($F75,objets!$A$2:$L4973,6,FALSE)) -> 0 | I75: =_xlfn.IFS($E75>0,VLOOKUP($F75,objets!$A$2:$L4973,6,FALSE)*$E75,$F75="",0,$E75="",VLOOKUP($F75,objets!$A$2:$L4973,6,FALSE)) -> 0 | J75: =_xlfn.IFS($E75>0,VLOOKUP($F75,objets!$A$2:$L4973,6,FALSE)*$E75,$F75="",0,$E75="",VLOOKUP($F75,objets!$A$2:$L4973,6,FALSE)) -> 0 | K75: =_xlfn.IFS($E75>0,VLOOKUP($F75,objets!$A$2:$L4973,6,FALSE)*$E75,$F75="",0,$E75="",VLOOKUP($F75,objets!$A$2:$L4973,6,FALSE)) -> 0 | L75: =_xlfn.IFS($E75>0,VLOOKUP($F75,objets!$A$2:$L4973,6,FALSE)*$E75,$F75="",0,$E75="",VLOOKUP($F75,objets!$A$2:$L4973,6,FALSE)) -> 0 | M75: =_xlfn.IFS($E75>0,VLOOKUP($F75,objets!$A$2:$L4973,6,FALSE)*$E75,$F75="",0,$E75="",VLOOKUP($F75,objets!$A$2:$L4973,6,FALSE)) -> 0 | N75: =_xlfn.IFS($E75>0,VLOOKUP($F75,objets!$A$2:$L4973,6,FALSE)*$E75,$F75="",0,$E75="",VLOOKUP($F75,objets!$A$2:$L4973,6,FALSE)) -> 0 | X75: =SUMPRODUCT(H75:N75,P75:V75)/SUM(H75:N75) -> #DIV/0!
G76: =SUM(H76:N76) -> 0 | H76: =_xlfn.IFS($E76>0,VLOOKUP($F76,objets!$A$2:$L4974,6,FALSE)*$E76,$F76="",0,$E76="",VLOOKUP($F76,objets!$A$2:$L4974,6,FALSE)) -> 0 | I76: =_xlfn.IFS($E76>0,VLOOKUP($F76,objets!$A$2:$L4974,6,FALSE)*$E76,$F76="",0,$E76="",VLOOKUP($F76,objets!$A$2:$L4974,6,FALSE)) -> 0 | J76: =_xlfn.IFS($E76>0,VLOOKUP($F76,objets!$A$2:$L4974,6,FALSE)*$E76,$F76="",0,$E76="",VLOOKUP($F76,objets!$A$2:$L4974,6,FALSE)) -> 0 | K76: =_xlfn.IFS($E76>0,VLOOKUP($F76,objets!$A$2:$L4974,6,FALSE)*$E76,$F76="",0,$E76="",VLOOKUP($F76,objets!$A$2:$L4974,6,FALSE)) -> 0 | L76: =_xlfn.IFS($E76>0,VLOOKUP($F76,objets!$A$2:$L4974,6,FALSE)*$E76,$F76="",0,$E76="",VLOOKUP($F76,objets!$A$2:$L4974,6,FALSE)) -> 0 | M76: =_xlfn.IFS($E76>0,VLOOKUP($F76,objets!$A$2:$L4974,6,FALSE)*$E76,$F76="",0,$E76="",VLOOKUP($F76,objets!$A$2:$L4974,6,FALSE)) -> 0 | N76: =_xlfn.IFS($E76>0,VLOOKUP($F76,objets!$A$2:$L4974,6,FALSE)*$E76,$F76="",0,$E76="",VLOOKUP($F76,objets!$A$2:$L4974,6,FALSE)) -> 0 | X76: =SUMPRODUCT(H76:N76,P76:V76)/SUM(H76:N76) -> #DIV/0!
G77: =SUM(H77:N77) -> 0 | H77: =_xlfn.IFS($E77>0,VLOOKUP($F77,objets!$A$2:$L4975,6,FALSE)*$E77,$F77="",0,$E77="",VLOOKUP($F77,objets!$A$2:$L4975,6,FALSE)) -> 0 | I77: =_xlfn.IFS($E77>0,VLOOKUP($F77,objets!$A$2:$L4975,6,FALSE)*$E77,$F77="",0,$E77="",VLOOKUP($F77,objets!$A$2:$L4975,6,FALSE)) -> 0 | J77: =_xlfn.IFS($E77>0,VLOOKUP($F77,objets!$A$2:$L4975,6,FALSE)*$E77,$F77="",0,$E77="",VLOOKUP($F77,objets!$A$2:$L4975,6,FALSE)) -> 0 | K77: =_xlfn.IFS($E77>0,VLOOKUP($F77,objets!$A$2:$L4975,6,FALSE)*$E77,$F77="",0,$E77="",VLOOKUP($F77,objets!$A$2:$L4975,6,FALSE)) -> 0 | L77: =_xlfn.IFS($E77>0,VLOOKUP($F77,objets!$A$2:$L4975,6,FALSE)*$E77,$F77="",0,$E77="",VLOOKUP($F77,objets!$A$2:$L4975,6,FALSE)) -> 0 | M77: =_xlfn.IFS($E77>0,VLOOKUP($F77,objets!$A$2:$L4975,6,FALSE)*$E77,$F77="",0,$E77="",VLOOKUP($F77,objets!$A$2:$L4975,6,FALSE)) -> 0 | N77: =_xlfn.IFS($E77>0,VLOOKUP($F77,objets!$A$2:$L4975,6,FALSE)*$E77,$F77="",0,$E77="",VLOOKUP($F77,objets!$A$2:$L4975,6,FALSE)) -> 0 | X77: =SUMPRODUCT(H77:N77,P77:V77)/SUM(H77:N77) -> #DIV/0!
G78: =SUM(H78:N78) -> 0 | H78: =_xlfn.IFS($E78>0,VLOOKUP($F78,objets!$A$2:$L4974,6,FALSE)*$E78,$F78="",0,$E78="",VLOOKUP($F78,objets!$A$2:$L4974,6,FALSE)) -> 0 | I78: =_xlfn.IFS($E78>0,VLOOKUP($F78,objets!$A$2:$L4974,6,FALSE)*$E78,$F78="",0,$E78="",VLOOKUP($F78,objets!$A$2:$L4974,6,FALSE)) -> 0 | J78: =_xlfn.IFS($E78>0,VLOOKUP($F78,objets!$A$2:$L4974,6,FALSE)*$E78,$F78="",0,$E78="",VLOOKUP($F78,objets!$A$2:$L4974,6,FALSE)) -> 0 | K78: =_xlfn.IFS($E78>0,VLOOKUP($F78,objets!$A$2:$L4974,6,FALSE)*$E78,$F78="",0,$E78="",VLOOKUP($F78,objets!$A$2:$L4974,6,FALSE)) -> 0 | L78: =_xlfn.IFS($E78>0,VLOOKUP($F78,objets!$A$2:$L4974,6,FALSE)*$E78,$F78="",0,$E78="",VLOOKUP($F78,objets!$A$2:$L4974,6,FALSE)) -> 0 | M78: =_xlfn.IFS($E78>0,VLOOKUP($F78,objets!$A$2:$L4974,6,FALSE)*$E78,$F78="",0,$E78="",VLOOKUP($F78,objets!$A$2:$L4974,6,FALSE)) -> 0 | N78: =_xlfn.IFS($E78>0,VLOOKUP($F78,objets!$A$2:$L4974,6,FALSE)*$E78,$F78="",0,$E78="",VLOOKUP($F78,objets!$A$2:$L4974,6,FALSE)) -> 0 | X78: =SUMPRODUCT(H78:N78,P78:V78)/SUM(H78:N78) -> #DIV/0!
G79: =SUM(H79:N79) -> 0 | H79: =_xlfn.IFS($E79>0,VLOOKUP($F79,objets!$A$2:$L4975,6,FALSE)*$E79,$F79="",0,$E79="",VLOOKUP($F79,objets!$A$2:$L4975,6,FALSE)) -> 0 | I79: =_xlfn.IFS($E79>0,VLOOKUP($F79,objets!$A$2:$L4975,6,FALSE)*$E79,$F79="",0,$E79="",VLOOKUP($F79,objets!$A$2:$L4975,6,FALSE)) -> 0 | J79: =_xlfn.IFS($E79>0,VLOOKUP($F79,objets!$A$2:$L4975,6,FALSE)*$E79,$F79="",0,$E79="",VLOOKUP($F79,objets!$A$2:$L4975,6,FALSE)) -> 0 | K79: =_xlfn.IFS($E79>0,VLOOKUP($F79,objets!$A$2:$L4975,6,FALSE)*$E79,$F79="",0,$E79="",VLOOKUP($F79,objets!$A$2:$L4975,6,FALSE)) -> 0 | L79: =_xlfn.IFS($E79>0,VLOOKUP($F79,objets!$A$2:$L4975,6,FALSE)*$E79,$F79="",0,$E79="",VLOOKUP($F79,objets!$A$2:$L4975,6,FALSE)) -> 0 | M79: =_xlfn.IFS($E79>0,VLOOKUP($F79,objets!$A$2:$L4975,6,FALSE)*$E79,$F79="",0,$E79="",VLOOKUP($F79,objets!$A$2:$L4975,6,FALSE)) -> 0 | N79: =_xlfn.IFS($E79>0,VLOOKUP($F79,objets!$A$2:$L4975,6,FALSE)*$E79,$F79="",0,$E79="",VLOOKUP($F79,objets!$A$2:$L4975,6,FALSE)) -> 0 | X79: =SUMPRODUCT(H79:N79,P79:V79)/SUM(H79:N79) -> #DIV/0!
G80: =SUM(H80:N80) -> 0 | H80: =_xlfn.IFS($E80>0,VLOOKUP($F80,objets!$A$2:$L4970,6,FALSE)*$E80,$F80="",0,$E80="",VLOOKUP($F80,objets!$A$2:$L4970,6,FALSE)) -> 0 | I80: =_xlfn.IFS($E80>0,VLOOKUP($F80,objets!$A$2:$L4970,6,FALSE)*$E80,$F80="",0,$E80="",VLOOKUP($F80,objets!$A$2:$L4970,6,FALSE)) -> 0 | J80: =_xlfn.IFS($E80>0,VLOOKUP($F80,objets!$A$2:$L4970,6,FALSE)*$E80,$F80="",0,$E80="",VLOOKUP($F80,objets!$A$2:$L4970,6,FALSE)) -> 0 | K80: =_xlfn.IFS($E80>0,VLOOKUP($F80,objets!$A$2:$L4970,6,FALSE)*$E80,$F80="",0,$E80="",VLOOKUP($F80,objets!$A$2:$L4970,6,FALSE)) -> 0 | L80: =_xlfn.IFS($E80>0,VLOOKUP($F80,objets!$A$2:$L4970,6,FALSE)*$E80,$F80="",0,$E80="",VLOOKUP($F80,objets!$A$2:$L4970,6,FALSE)) -> 0 | M80: =_xlfn.IFS($E80>0,VLOOKUP($F80,objets!$A$2:$L4970,6,FALSE)*$E80,$F80="",0,$E80="",VLOOKUP($F80,objets!$A$2:$L4970,6,FALSE)) -> 0 | N80: =_xlfn.IFS($E80>0,VLOOKUP($F80,objets!$A$2:$L4970,6,FALSE)*$E80,$F80="",0,$E80="",VLOOKUP($F80,objets!$A$2:$L4970,6,FALSE)) -> 0 | X80: =SUMPRODUCT(H80:N80,P80:V80)/SUM(H80:N80) -> #DIV/0!
G81: =SUM(H81:N81) -> 0 | H81: =_xlfn.IFS($E81>0,VLOOKUP($F81,objets!$A$2:$L4979,6,FALSE)*$E81,$F81="",0,$E81="",VLOOKUP($F81,objets!$A$2:$L4979,6,FALSE)) -> 0 | I81: =_xlfn.IFS($E81>0,VLOOKUP($F81,objets!$A$2:$L4979,6,FALSE)*$E81,$F81="",0,$E81="",VLOOKUP($F81,objets!$A$2:$L4979,6,FALSE)) -> 0 | J81: =_xlfn.IFS($E81>0,VLOOKUP($F81,objets!$A$2:$L4979,6,FALSE)*$E81,$F81="",0,$E81="",VLOOKUP($F81,objets!$A$2:$L4979,6,FALSE)) -> 0 | K81: =_xlfn.IFS($E81>0,VLOOKUP($F81,objets!$A$2:$L4979,6,FALSE)*$E81,$F81="",0,$E81="",VLOOKUP($F81,objets!$A$2:$L4979,6,FALSE)) -> 0 | L81: =_xlfn.IFS($E81>0,VLOOKUP($F81,objets!$A$2:$L4979,6,FALSE)*$E81,$F81="",0,$E81="",VLOOKUP($F81,objets!$A$2:$L4979,6,FALSE)) -> 0 | M81: =_xlfn.IFS($E81>0,VLOOKUP($F81,objets!$A$2:$L4979,6,FALSE)*$E81,$F81="",0,$E81="",VLOOKUP($F81,objets!$A$2:$L4979,6,FALSE)) -> 0 | N81: =_xlfn.IFS($E81>0,VLOOKUP($F81,objets!$A$2:$L4979,6,FALSE)*$E81,$F81="",0,$E81="",VLOOKUP($F81,objets!$A$2:$L4979,6,FALSE)) -> 0 | X81: =SUMPRODUCT(H81:N81,P81:V81)/SUM(H81:N81) -> #DIV/0!
G82: =SUM(H82:N82) -> 0 | H82: =_xlfn.IFS($E82>0,VLOOKUP($F82,objets!$A$2:$L4980,6,FALSE)*$E82,$F82="",0,$E82="",VLOOKUP($F82,objets!$A$2:$L4980,6,FALSE)) -> 0 | I82: =_xlfn.IFS($E82>0,VLOOKUP($F82,objets!$A$2:$L4980,6,FALSE)*$E82,$F82="",0,$E82="",VLOOKUP($F82,objets!$A$2:$L4980,6,FALSE)) -> 0 | J82: =_xlfn.IFS($E82>0,VLOOKUP($F82,objets!$A$2:$L4980,6,FALSE)*$E82,$F82="",0,$E82="",VLOOKUP($F82,objets!$A$2:$L4980,6,FALSE)) -> 0 | K82: =_xlfn.IFS($E82>0,VLOOKUP($F82,objets!$A$2:$L4980,6,FALSE)*$E82,$F82="",0,$E82="",VLOOKUP($F82,objets!$A$2:$L4980,6,FALSE)) -> 0 | L82: =_xlfn.IFS($E82>0,VLOOKUP($F82,objets!$A$2:$L4980,6,FALSE)*$E82,$F82="",0,$E82="",VLOOKUP($F82,objets!$A$2:$L4980,6,FALSE)) -> 0 | M82: =_xlfn.IFS($E82>0,VLOOKUP($F82,objets!$A$2:$L4980,6,FALSE)*$E82,$F82="",0,$E82="",VLOOKUP($F82,objets!$A$2:$L4980,6,FALSE)) -> 0 | N82: =_xlfn.IFS($E82>0,VLOOKUP($F82,objets!$A$2:$L4980,6,FALSE)*$E82,$F82="",0,$E82="",VLOOKUP($F82,objets!$A$2:$L4980,6,FALSE)) -> 0 | X82: =SUMPRODUCT(H82:N82,P82:V82)/SUM(H82:N82) -> #DIV/0!
G83: =SUM(H83:N83) -> 0 | H83: =_xlfn.IFS($E83>0,VLOOKUP($F83,objets!$A$2:$L4981,6,FALSE)*$E83,$F83="",0,$E83="",VLOOKUP($F83,objets!$A$2:$L4981,6,FALSE)) -> 0 | I83: =_xlfn.IFS($E83>0,VLOOKUP($F83,objets!$A$2:$L4981,6,FALSE)*$E83,$F83="",0,$E83="",VLOOKUP($F83,objets!$A$2:$L4981,6,FALSE)) -> 0 | J83: =_xlfn.IFS($E83>0,VLOOKUP($F83,objets!$A$2:$L4981,6,FALSE)*$E83,$F83="",0,$E83="",VLOOKUP($F83,objets!$A$2:$L4981,6,FALSE)) -> 0 | K83: =_xlfn.IFS($E83>0,VLOOKUP($F83,objets!$A$2:$L4981,6,FALSE)*$E83,$F83="",0,$E83="",VLOOKUP($F83,objets!$A$2:$L4981,6,FALSE)) -> 0 | L83: =_xlfn.IFS($E83>0,VLOOKUP($F83,objets!$A$2:$L4981,6,FALSE)*$E83,$F83="",0,$E83="",VLOOKUP($F83,objets!$A$2:$L4981,6,FALSE)) -> 0 | M83: =_xlfn.IFS($E83>0,VLOOKUP($F83,objets!$A$2:$L4981,6,FALSE)*$E83,$F83="",0,$E83="",VLOOKUP($F83,objets!$A$2:$L4981,6,FALSE)) -> 0 | N83: =_xlfn.IFS($E83>0,VLOOKUP($F83,objets!$A$2:$L4981,6,FALSE)*$E83,$F83="",0,$E83="",VLOOKUP($F83,objets!$A$2:$L4981,6,FALSE)) -> 0 | X83: =SUMPRODUCT(H83:N83,P83:V83)/SUM(H83:N83) -> #DIV/0!
G84: =SUM(H84:N84) -> 0 | H84: =_xlfn.IFS($E84>0,VLOOKUP($F84,objets!$A$2:$L4980,6,FALSE)*$E84,$F84="",0,$E84="",VLOOKUP($F84,objets!$A$2:$L4980,6,FALSE)) -> 0 | I84: =_xlfn.IFS($E84>0,VLOOKUP($F84,objets!$A$2:$L4980,6,FALSE)*$E84,$F84="",0,$E84="",VLOOKUP($F84,objets!$A$2:$L4980,6,FALSE)) -> 0 | J84: =_xlfn.IFS($E84>0,VLOOKUP($F84,objets!$A$2:$L4980,6,FALSE)*$E84,$F84="",0,$E84="",VLOOKUP($F84,objets!$A$2:$L4980,6,FALSE)) -> 0 | K84: =_xlfn.IFS($E84>0,VLOOKUP($F84,objets!$A$2:$L4980,6,FALSE)*$E84,$F84="",0,$E84="",VLOOKUP($F84,objets!$A$2:$L4980,6,FALSE)) -> 0 | L84: =_xlfn.IFS($E84>0,VLOOKUP($F84,objets!$A$2:$L4980,6,FALSE)*$E84,$F84="",0,$E84="",VLOOKUP($F84,objets!$A$2:$L4980,6,FALSE)) -> 0 | M84: =_xlfn.IFS($E84>0,VLOOKUP($F84,objets!$A$2:$L4980,6,FALSE)*$E84,$F84="",0,$E84="",VLOOKUP($F84,objets!$A$2:$L4980,6,FALSE)) -> 0 | N84: =_xlfn.IFS($E84>0,VLOOKUP($F84,objets!$A$2:$L4980,6,FALSE)*$E84,$F84="",0,$E84="",VLOOKUP($F84,objets!$A$2:$L4980,6,FALSE)) -> 0 | X84: =SUMPRODUCT(H84:N84,P84:V84)/SUM(H84:N84) -> #DIV/0!
G85: =SUM(H85:N85) -> 0 | H85: =_xlfn.IFS($E85>0,VLOOKUP($F85,objets!$A$2:$L4981,6,FALSE)*$E85,$F85="",0,$E85="",VLOOKUP($F85,objets!$A$2:$L4981,6,FALSE)) -> 0 | I85: =_xlfn.IFS($E85>0,VLOOKUP($F85,objets!$A$2:$L4981,6,FALSE)*$E85,$F85="",0,$E85="",VLOOKUP($F85,objets!$A$2:$L4981,6,FALSE)) -> 0 | J85: =_xlfn.IFS($E85>0,VLOOKUP($F85,objets!$A$2:$L4981,6,FALSE)*$E85,$F85="",0,$E85="",VLOOKUP($F85,objets!$A$2:$L4981,6,FALSE)) -> 0 | K85: =_xlfn.IFS($E85>0,VLOOKUP($F85,objets!$A$2:$L4981,6,FALSE)*$E85,$F85="",0,$E85="",VLOOKUP($F85,objets!$A$2:$L4981,6,FALSE)) -> 0 | L85: =_xlfn.IFS($E85>0,VLOOKUP($F85,objets!$A$2:$L4981,6,FALSE)*$E85,$F85="",0,$E85="",VLOOKUP($F85,objets!$A$2:$L4981,6,FALSE)) -> 0 | M85: =_xlfn.IFS($E85>0,VLOOKUP($F85,objets!$A$2:$L4981,6,FALSE)*$E85,$F85="",0,$E85="",VLOOKUP($F85,objets!$A$2:$L4981,6,FALSE)) -> 0 | N85: =_xlfn.IFS($E85>0,VLOOKUP($F85,objets!$A$2:$L4981,6,FALSE)*$E85,$F85="",0,$E85="",VLOOKUP($F85,objets!$A$2:$L4981,6,FALSE)) -> 0 | X85: =SUMPRODUCT(H85:N85,P85:V85)/SUM(H85:N85) -> #DIV/0!
G86: =SUM(H86:N86) -> 0 | H86: =_xlfn.IFS($E86>0,VLOOKUP($F86,objets!$A$2:$L4984,6,FALSE)*$E86,$F86="",0,$E86="",VLOOKUP($F86,objets!$A$2:$L4984,6,FALSE)) -> 0 | I86: =_xlfn.IFS($E86>0,VLOOKUP($F86,objets!$A$2:$L4984,6,FALSE)*$E86,$F86="",0,$E86="",VLOOKUP($F86,objets!$A$2:$L4984,6,FALSE)) -> 0 | J86: =_xlfn.IFS($E86>0,VLOOKUP($F86,objets!$A$2:$L4984,6,FALSE)*$E86,$F86="",0,$E86="",VLOOKUP($F86,objets!$A$2:$L4984,6,FALSE)) -> 0 | K86: =_xlfn.IFS($E86>0,VLOOKUP($F86,objets!$A$2:$L4984,6,FALSE)*$E86,$F86="",0,$E86="",VLOOKUP($F86,objets!$A$2:$L4984,6,FALSE)) -> 0 | L86: =_xlfn.IFS($E86>0,VLOOKUP($F86,objets!$A$2:$L4984,6,FALSE)*$E86,$F86="",0,$E86="",VLOOKUP($F86,objets!$A$2:$L4984,6,FALSE)) -> 0 | M86: =_xlfn.IFS($E86>0,VLOOKUP($F86,objets!$A$2:$L4984,6,FALSE)*$E86,$F86="",0,$E86="",VLOOKUP($F86,objets!$A$2:$L4984,6,FALSE)) -> 0 | N86: =_xlfn.IFS($E86>0,VLOOKUP($F86,objets!$A$2:$L4984,6,FALSE)*$E86,$F86="",0,$E86="",VLOOKUP($F86,objets!$A$2:$L4984,6,FALSE)) -> 0 | X86: =SUMPRODUCT(H86:N86,P86:V86)/SUM(H86:N86) -> #DIV/0!
G87: =SUM(H87:N87) -> 0 | H87: =_xlfn.IFS($E87>0,VLOOKUP($F87,objets!$A$2:$L4985,6,FALSE)*$E87,$F87="",0,$E87="",VLOOKUP($F87,objets!$A$2:$L4985,6,FALSE)) -> 0 | I87: =_xlfn.IFS($E87>0,VLOOKUP($F87,objets!$A$2:$L4985,6,FALSE)*$E87,$F87="",0,$E87="",VLOOKUP($F87,objets!$A$2:$L4985,6,FALSE)) -> 0 | J87: =_xlfn.IFS($E87>0,VLOOKUP($F87,objets!$A$2:$L4985,6,FALSE)*$E87,$F87="",0,$E87="",VLOOKUP($F87,objets!$A$2:$L4985,6,FALSE)) -> 0 | K87: =_xlfn.IFS($E87>0,VLOOKUP($F87,objets!$A$2:$L4985,6,FALSE)*$E87,$F87="",0,$E87="",VLOOKUP($F87,objets!$A$2:$L4985,6,FALSE)) -> 0 | L87: =_xlfn.IFS($E87>0,VLOOKUP($F87,objets!$A$2:$L4985,6,FALSE)*$E87,$F87="",0,$E87="",VLOOKUP($F87,objets!$A$2:$L4985,6,FALSE)) -> 0 | M87: =_xlfn.IFS($E87>0,VLOOKUP($F87,objets!$A$2:$L4985,6,FALSE)*$E87,$F87="",0,$E87="",VLOOKUP($F87,objets!$A$2:$L4985,6,FALSE)) -> 0 | N87: =_xlfn.IFS($E87>0,VLOOKUP($F87,objets!$A$2:$L4985,6,FALSE)*$E87,$F87="",0,$E87="",VLOOKUP($F87,objets!$A$2:$L4985,6,FALSE)) -> 0 | X87: =SUMPRODUCT(H87:N87,P87:V87)/SUM(H87:N87) -> #DIV/0!
G88: =SUM(H88:N88) -> 0 | H88: =_xlfn.IFS($E88>0,VLOOKUP($F88,objets!$A$2:$L4986,6,FALSE)*$E88,$F88="",0,$E88="",VLOOKUP($F88,objets!$A$2:$L4986,6,FALSE)) -> 0 | I88: =_xlfn.IFS($E88>0,VLOOKUP($F88,objets!$A$2:$L4986,6,FALSE)*$E88,$F88="",0,$E88="",VLOOKUP($F88,objets!$A$2:$L4986,6,FALSE)) -> 0 | J88: =_xlfn.IFS($E88>0,VLOOKUP($F88,objets!$A$2:$L4986,6,FALSE)*$E88,$F88="",0,$E88="",VLOOKUP($F88,objets!$A$2:$L4986,6,FALSE)) -> 0 | K88: =_xlfn.IFS($E88>0,VLOOKUP($F88,objets!$A$2:$L4986,6,FALSE)*$E88,$F88="",0,$E88="",VLOOKUP($F88,objets!$A$2:$L4986,6,FALSE)) -> 0 | L88: =_xlfn.IFS($E88>0,VLOOKUP($F88,objets!$A$2:$L4986,6,FALSE)*$E88,$F88="",0,$E88="",VLOOKUP($F88,objets!$A$2:$L4986,6,FALSE)) -> 0 | M88: =_xlfn.IFS($E88>0,VLOOKUP($F88,objets!$A$2:$L4986,6,FALSE)*$E88,$F88="",0,$E88="",VLOOKUP($F88,objets!$A$2:$L4986,6,FALSE)) -> 0 | N88: =_xlfn.IFS($E88>0,VLOOKUP($F88,objets!$A$2:$L4986,6,FALSE)*$E88,$F88="",0,$E88="",VLOOKUP($F88,objets!$A$2:$L4986,6,FALSE)) -> 0 | X88: =SUMPRODUCT(H88:N88,P88:V88)/SUM(H88:N88) -> #DIV/0!
G89: =SUM(H89:N89) -> 0 | H89: =_xlfn.IFS($E89>0,VLOOKUP($F89,objets!$A$2:$L4987,6,FALSE)*$E89,$F89="",0,$E89="",VLOOKUP($F89,objets!$A$2:$L4987,6,FALSE)) -> 0 | I89: =_xlfn.IFS($E89>0,VLOOKUP($F89,objets!$A$2:$L4987,6,FALSE)*$E89,$F89="",0,$E89="",VLOOKUP($F89,objets!$A$2:$L4987,6,FALSE)) -> 0 | J89: =_xlfn.IFS($E89>0,VLOOKUP($F89,objets!$A$2:$L4987,6,FALSE)*$E89,$F89="",0,$E89="",VLOOKUP($F89,objets!$A$2:$L4987,6,FALSE)) -> 0 | K89: =_xlfn.IFS($E89>0,VLOOKUP($F89,objets!$A$2:$L4987,6,FALSE)*$E89,$F89="",0,$E89="",VLOOKUP($F89,objets!$A$2:$L4987,6,FALSE)) -> 0 | L89: =_xlfn.IFS($E89>0,VLOOKUP($F89,objets!$A$2:$L4987,6,FALSE)*$E89,$F89="",0,$E89="",VLOOKUP($F89,objets!$A$2:$L4987,6,FALSE)) -> 0 | M89: =_xlfn.IFS($E89>0,VLOOKUP($F89,objets!$A$2:$L4987,6,FALSE)*$E89,$F89="",0,$E89="",VLOOKUP($F89,objets!$A$2:$L4987,6,FALSE)) -> 0 | N89: =_xlfn.IFS($E89>0,VLOOKUP($F89,objets!$A$2:$L4987,6,FALSE)*$E89,$F89="",0,$E89="",VLOOKUP($F89,objets!$A$2:$L4987,6,FALSE)) -> 0 | X89: =SUMPRODUCT(H89:N89,P89:V89)/SUM(H89:N89) -> #DIV/0!
G90: =SUM(H90:N90) -> 0 | H90: =_xlfn.IFS($E90>0,VLOOKUP($F90,objets!$A$2:$L4986,6,FALSE)*$E90,$F90="",0,$E90="",VLOOKUP($F90,objets!$A$2:$L4986,6,FALSE)) -> 0 | I90: =_xlfn.IFS($E90>0,VLOOKUP($F90,objets!$A$2:$L4986,6,FALSE)*$E90,$F90="",0,$E90="",VLOOKUP($F90,objets!$A$2:$L4986,6,FALSE)) -> 0 | J90: =_xlfn.IFS($E90>0,VLOOKUP($F90,objets!$A$2:$L4986,6,FALSE)*$E90,$F90="",0,$E90="",VLOOKUP($F90,objets!$A$2:$L4986,6,FALSE)) -> 0 | K90: =_xlfn.IFS($E90>0,VLOOKUP($F90,objets!$A$2:$L4986,6,FALSE)*$E90,$F90="",0,$E90="",VLOOKUP($F90,objets!$A$2:$L4986,6,FALSE)) -> 0 | L90: =_xlfn.IFS($E90>0,VLOOKUP($F90,objets!$A$2:$L4986,6,FALSE)*$E90,$F90="",0,$E90="",VLOOKUP($F90,objets!$A$2:$L4986,6,FALSE)) -> 0 | M90: =_xlfn.IFS($E90>0,VLOOKUP($F90,objets!$A$2:$L4986,6,FALSE)*$E90,$F90="",0,$E90="",VLOOKUP($F90,objets!$A$2:$L4986,6,FALSE)) -> 0 | N90: =_xlfn.IFS($E90>0,VLOOKUP($F90,objets!$A$2:$L4986,6,FALSE)*$E90,$F90="",0,$E90="",VLOOKUP($F90,objets!$A$2:$L4986,6,FALSE)) -> 0 | X90: =SUMPRODUCT(H90:N90,P90:V90)/SUM(H90:N90) -> #DIV/0!
G91: =SUM(H91:N91) -> 0 | H91: =_xlfn.IFS($E91>0,VLOOKUP($F91,objets!$A$2:$L4987,6,FALSE)*$E91,$F91="",0,$E91="",VLOOKUP($F91,objets!$A$2:$L4987,6,FALSE)) -> 0 | I91: =_xlfn.IFS($E91>0,VLOOKUP($F91,objets!$A$2:$L4987,6,FALSE)*$E91,$F91="",0,$E91="",VLOOKUP($F91,objets!$A$2:$L4987,6,FALSE)) -> 0 | J91: =_xlfn.IFS($E91>0,VLOOKUP($F91,objets!$A$2:$L4987,6,FALSE)*$E91,$F91="",0,$E91="",VLOOKUP($F91,objets!$A$2:$L4987,6,FALSE)) -> 0 | K91: =_xlfn.IFS($E91>0,VLOOKUP($F91,objets!$A$2:$L4987,6,FALSE)*$E91,$F91="",0,$E91="",VLOOKUP($F91,objets!$A$2:$L4987,6,FALSE)) -> 0 | L91: =_xlfn.IFS($E91>0,VLOOKUP($F91,objets!$A$2:$L4987,6,FALSE)*$E91,$F91="",0,$E91="",VLOOKUP($F91,objets!$A$2:$L4987,6,FALSE)) -> 0 | M91: =_xlfn.IFS($E91>0,VLOOKUP($F91,objets!$A$2:$L4987,6,FALSE)*$E91,$F91="",0,$E91="",VLOOKUP($F91,objets!$A$2:$L4987,6,FALSE)) -> 0 | N91: =_xlfn.IFS($E91>0,VLOOKUP($F91,objets!$A$2:$L4987,6,FALSE)*$E91,$F91="",0,$E91="",VLOOKUP($F91,objets!$A$2:$L4987,6,FALSE)) -> 0 | X91: =SUMPRODUCT(H91:N91,P91:V91)/SUM(H91:N91) -> #DIV/0!
G92: =SUM(H92:N92) -> 0 | H92: =_xlfn.IFS($E92>0,VLOOKUP($F92,objets!$A$2:$L4990,6,FALSE)*$E92,$F92="",0,$E92="",VLOOKUP($F92,objets!$A$2:$L4990,6,FALSE)) -> 0 | I92: =_xlfn.IFS($E92>0,VLOOKUP($F92,objets!$A$2:$L4990,6,FALSE)*$E92,$F92="",0,$E92="",VLOOKUP($F92,objets!$A$2:$L4990,6,FALSE)) -> 0 | J92: =_xlfn.IFS($E92>0,VLOOKUP($F92,objets!$A$2:$L4990,6,FALSE)*$E92,$F92="",0,$E92="",VLOOKUP($F92,objets!$A$2:$L4990,6,FALSE)) -> 0 | K92: =_xlfn.IFS($E92>0,VLOOKUP($F92,objets!$A$2:$L4990,6,FALSE)*$E92,$F92="",0,$E92="",VLOOKUP($F92,objets!$A$2:$L4990,6,FALSE)) -> 0 | L92: =_xlfn.IFS($E92>0,VLOOKUP($F92,objets!$A$2:$L4990,6,FALSE)*$E92,$F92="",0,$E92="",VLOOKUP($F92,objets!$A$2:$L4990,6,FALSE)) -> 0 | M92: =_xlfn.IFS($E92>0,VLOOKUP($F92,objets!$A$2:$L4990,6,FALSE)*$E92,$F92="",0,$E92="",VLOOKUP($F92,objets!$A$2:$L4990,6,FALSE)) -> 0 | N92: =_xlfn.IFS($E92>0,VLOOKUP($F92,objets!$A$2:$L4990,6,FALSE)*$E92,$F92="",0,$E92="",VLOOKUP($F92,objets!$A$2:$L4990,6,FALSE)) -> 0 | X92: =SUMPRODUCT(H92:N92,P92:V92)/SUM(H92:N92) -> #DIV/0!
G93: =SUM(H93:N93) -> 0 | H93: =_xlfn.IFS($E93>0,VLOOKUP($F93,objets!$A$2:$L4991,6,FALSE)*$E93,$F93="",0,$E93="",VLOOKUP($F93,objets!$A$2:$L4991,6,FALSE)) -> 0 | I93: =_xlfn.IFS($E93>0,VLOOKUP($F93,objets!$A$2:$L4991,6,FALSE)*$E93,$F93="",0,$E93="",VLOOKUP($F93,objets!$A$2:$L4991,6,FALSE)) -> 0 | J93: =_xlfn.IFS($E93>0,VLOOKUP($F93,objets!$A$2:$L4991,6,FALSE)*$E93,$F93="",0,$E93="",VLOOKUP($F93,objets!$A$2:$L4991,6,FALSE)) -> 0 | K93: =_xlfn.IFS($E93>0,VLOOKUP($F93,objets!$A$2:$L4991,6,FALSE)*$E93,$F93="",0,$E93="",VLOOKUP($F93,objets!$A$2:$L4991,6,FALSE)) -> 0 | L93: =_xlfn.IFS($E93>0,VLOOKUP($F93,objets!$A$2:$L4991,6,FALSE)*$E93,$F93="",0,$E93="",VLOOKUP($F93,objets!$A$2:$L4991,6,FALSE)) -> 0 | M93: =_xlfn.IFS($E93>0,VLOOKUP($F93,objets!$A$2:$L4991,6,FALSE)*$E93,$F93="",0,$E93="",VLOOKUP($F93,objets!$A$2:$L4991,6,FALSE)) -> 0 | N93: =_xlfn.IFS($E93>0,VLOOKUP($F93,objets!$A$2:$L4991,6,FALSE)*$E93,$F93="",0,$E93="",VLOOKUP($F93,objets!$A$2:$L4991,6,FALSE)) -> 0 | X93: =SUMPRODUCT(H93:N93,P93:V93)/SUM(H93:N93) -> #DIV/0!
G94: =SUM(H94:N94) -> 0 | H94: =_xlfn.IFS($E94>0,VLOOKUP($F94,objets!$A$2:$L4992,6,FALSE)*$E94,$F94="",0,$E94="",VLOOKUP($F94,objets!$A$2:$L4992,6,FALSE)) -> 0 | I94: =_xlfn.IFS($E94>0,VLOOKUP($F94,objets!$A$2:$L4992,6,FALSE)*$E94,$F94="",0,$E94="",VLOOKUP($F94,objets!$A$2:$L4992,6,FALSE)) -> 0 | J94: =_xlfn.IFS($E94>0,VLOOKUP($F94,objets!$A$2:$L4992,6,FALSE)*$E94,$F94="",0,$E94="",VLOOKUP($F94,objets!$A$2:$L4992,6,FALSE)) -> 0 | K94: =_xlfn.IFS($E94>0,VLOOKUP($F94,objets!$A$2:$L4992,6,FALSE)*$E94,$F94="",0,$E94="",VLOOKUP($F94,objets!$A$2:$L4992,6,FALSE)) -> 0 | L94: =_xlfn.IFS($E94>0,VLOOKUP($F94,objets!$A$2:$L4992,6,FALSE)*$E94,$F94="",0,$E94="",VLOOKUP($F94,objets!$A$2:$L4992,6,FALSE)) -> 0 | M94: =_xlfn.IFS($E94>0,VLOOKUP($F94,objets!$A$2:$L4992,6,FALSE)*$E94,$F94="",0,$E94="",VLOOKUP($F94,objets!$A$2:$L4992,6,FALSE)) -> 0 | N94: =_xlfn.IFS($E94>0,VLOOKUP($F94,objets!$A$2:$L4992,6,FALSE)*$E94,$F94="",0,$E94="",VLOOKUP($F94,objets!$A$2:$L4992,6,FALSE)) -> 0 | X94: =SUMPRODUCT(H94:N94,P94:V94)/SUM(H94:N94) -> #DIV/0!
G95: =SUM(H95:N95) -> 0 | H95: =_xlfn.IFS($E95>0,VLOOKUP($F95,objets!$A$2:$L4993,6,FALSE)*$E95,$F95="",0,$E95="",VLOOKUP($F95,objets!$A$2:$L4993,6,FALSE)) -> 0 | I95: =_xlfn.IFS($E95>0,VLOOKUP($F95,objets!$A$2:$L4993,6,FALSE)*$E95,$F95="",0,$E95="",VLOOKUP($F95,objets!$A$2:$L4993,6,FALSE)) -> 0 | J95: =_xlfn.IFS($E95>0,VLOOKUP($F95,objets!$A$2:$L4993,6,FALSE)*$E95,$F95="",0,$E95="",VLOOKUP($F95,objets!$A$2:$L4993,6,FALSE)) -> 0 | K95: =_xlfn.IFS($E95>0,VLOOKUP($F95,objets!$A$2:$L4993,6,FALSE)*$E95,$F95="",0,$E95="",VLOOKUP($F95,objets!$A$2:$L4993,6,FALSE)) -> 0 | L95: =_xlfn.IFS($E95>0,VLOOKUP($F95,objets!$A$2:$L4993,6,FALSE)*$E95,$F95="",0,$E95="",VLOOKUP($F95,objets!$A$2:$L4993,6,FALSE)) -> 0 | M95: =_xlfn.IFS($E95>0,VLOOKUP($F95,objets!$A$2:$L4993,6,FALSE)*$E95,$F95="",0,$E95="",VLOOKUP($F95,objets!$A$2:$L4993,6,FALSE)) -> 0 | N95: =_xlfn.IFS($E95>0,VLOOKUP($F95,objets!$A$2:$L4993,6,FALSE)*$E95,$F95="",0,$E95="",VLOOKUP($F95,objets!$A$2:$L4993,6,FALSE)) -> 0 | X95: =SUMPRODUCT(H95:N95,P95:V95)/SUM(H95:N95) -> #DIV/0!
G96: =SUM(H96:N96) -> 0 | H96: =_xlfn.IFS($E96>0,VLOOKUP($F96,objets!$A$2:$L4992,6,FALSE)*$E96,$F96="",0,$E96="",VLOOKUP($F96,objets!$A$2:$L4992,6,FALSE)) -> 0 | I96: =_xlfn.IFS($E96>0,VLOOKUP($F96,objets!$A$2:$L4992,6,FALSE)*$E96,$F96="",0,$E96="",VLOOKUP($F96,objets!$A$2:$L4992,6,FALSE)) -> 0 | J96: =_xlfn.IFS($E96>0,VLOOKUP($F96,objets!$A$2:$L4992,6,FALSE)*$E96,$F96="",0,$E96="",VLOOKUP($F96,objets!$A$2:$L4992,6,FALSE)) -> 0 | K96: =_xlfn.IFS($E96>0,VLOOKUP($F96,objets!$A$2:$L4992,6,FALSE)*$E96,$F96="",0,$E96="",VLOOKUP($F96,objets!$A$2:$L4992,6,FALSE)) -> 0 | L96: =_xlfn.IFS($E96>0,VLOOKUP($F96,objets!$A$2:$L4992,6,FALSE)*$E96,$F96="",0,$E96="",VLOOKUP($F96,objets!$A$2:$L4992,6,FALSE)) -> 0 | M96: =_xlfn.IFS($E96>0,VLOOKUP($F96,objets!$A$2:$L4992,6,FALSE)*$E96,$F96="",0,$E96="",VLOOKUP($F96,objets!$A$2:$L4992,6,FALSE)) -> 0 | N96: =_xlfn.IFS($E96>0,VLOOKUP($F96,objets!$A$2:$L4992,6,FALSE)*$E96,$F96="",0,$E96="",VLOOKUP($F96,objets!$A$2:$L4992,6,FALSE)) -> 0 | X96: =SUMPRODUCT(H96:N96,P96:V96)/SUM(H96:N96) -> #DIV/0!
G97: =SUM(H97:N97) -> 0 | H97: =_xlfn.IFS($E97>0,VLOOKUP($F97,objets!$A$2:$L4993,6,FALSE)*$E97,$F97="",0,$E97="",VLOOKUP($F97,objets!$A$2:$L4993,6,FALSE)) -> 0 | I97: =_xlfn.IFS($E97>0,VLOOKUP($F97,objets!$A$2:$L4993,6,FALSE)*$E97,$F97="",0,$E97="",VLOOKUP($F97,objets!$A$2:$L4993,6,FALSE)) -> 0 | J97: =_xlfn.IFS($E97>0,VLOOKUP($F97,objets!$A$2:$L4993,6,FALSE)*$E97,$F97="",0,$E97="",VLOOKUP($F97,objets!$A$2:$L4993,6,FALSE)) -> 0 | K97: =_xlfn.IFS($E97>0,VLOOKUP($F97,objets!$A$2:$L4993,6,FALSE)*$E97,$F97="",0,$E97="",VLOOKUP($F97,objets!$A$2:$L4993,6,FALSE)) -> 0 | L97: =_xlfn.IFS($E97>0,VLOOKUP($F97,objets!$A$2:$L4993,6,FALSE)*$E97,$F97="",0,$E97="",VLOOKUP($F97,objets!$A$2:$L4993,6,FALSE)) -> 0 | M97: =_xlfn.IFS($E97>0,VLOOKUP($F97,objets!$A$2:$L4993,6,FALSE)*$E97,$F97="",0,$E97="",VLOOKUP($F97,objets!$A$2:$L4993,6,FALSE)) -> 0 | N97: =_xlfn.IFS($E97>0,VLOOKUP($F97,objets!$A$2:$L4993,6,FALSE)*$E97,$F97="",0,$E97="",VLOOKUP($F97,objets!$A$2:$L4993,6,FALSE)) -> 0 | X97: =SUMPRODUCT(H97:N97,P97:V97)/SUM(H97:N97) -> #DIV/0!
G98: =SUM(H98:N98) -> 0 | H98: =_xlfn.IFS($E98>0,VLOOKUP($F98,objets!$A$2:$L4996,6,FALSE)*$E98,$F98="",0,$E98="",VLOOKUP($F98,objets!$A$2:$L4996,6,FALSE)) -> 0 | I98: =_xlfn.IFS($E98>0,VLOOKUP($F98,objets!$A$2:$L4996,6,FALSE)*$E98,$F98="",0,$E98="",VLOOKUP($F98,objets!$A$2:$L4996,6,FALSE)) -> 0 | J98: =_xlfn.IFS($E98>0,VLOOKUP($F98,objets!$A$2:$L4996,6,FALSE)*$E98,$F98="",0,$E98="",VLOOKUP($F98,objets!$A$2:$L4996,6,FALSE)) -> 0 | K98: =_xlfn.IFS($E98>0,VLOOKUP($F98,objets!$A$2:$L4996,6,FALSE)*$E98,$F98="",0,$E98="",VLOOKUP($F98,objets!$A$2:$L4996,6,FALSE)) -> 0 | L98: =_xlfn.IFS($E98>0,VLOOKUP($F98,objets!$A$2:$L4996,6,FALSE)*$E98,$F98="",0,$E98="",VLOOKUP($F98,objets!$A$2:$L4996,6,FALSE)) -> 0 | M98: =_xlfn.IFS($E98>0,VLOOKUP($F98,objets!$A$2:$L4996,6,FALSE)*$E98,$F98="",0,$E98="",VLOOKUP($F98,objets!$A$2:$L4996,6,FALSE)) -> 0 | N98: =_xlfn.IFS($E98>0,VLOOKUP($F98,objets!$A$2:$L4996,6,FALSE)*$E98,$F98="",0,$E98="",VLOOKUP($F98,objets!$A$2:$L4996,6,FALSE)) -> 0 | X98: =SUMPRODUCT(H98:N98,P98:V98)/SUM(H98:N98) -> #DIV/0!
G99: =SUM(H99:N99) -> 0 | H99: =_xlfn.IFS($E99>0,VLOOKUP($F99,objets!$A$2:$L4997,6,FALSE)*$E99,$F99="",0,$E99="",VLOOKUP($F99,objets!$A$2:$L4997,6,FALSE)) -> 0 | I99: =_xlfn.IFS($E99>0,VLOOKUP($F99,objets!$A$2:$L4997,6,FALSE)*$E99,$F99="",0,$E99="",VLOOKUP($F99,objets!$A$2:$L4997,6,FALSE)) -> 0 | J99: =_xlfn.IFS($E99>0,VLOOKUP($F99,objets!$A$2:$L4997,6,FALSE)*$E99,$F99="",0,$E99="",VLOOKUP($F99,objets!$A$2:$L4997,6,FALSE)) -> 0 | K99: =_xlfn.IFS($E99>0,VLOOKUP($F99,objets!$A$2:$L4997,6,FALSE)*$E99,$F99="",0,$E99="",VLOOKUP($F99,objets!$A$2:$L4997,6,FALSE)) -> 0 | L99: =_xlfn.IFS($E99>0,VLOOKUP($F99,objets!$A$2:$L4997,6,FALSE)*$E99,$F99="",0,$E99="",VLOOKUP($F99,objets!$A$2:$L4997,6,FALSE)) -> 0 | M99: =_xlfn.IFS($E99>0,VLOOKUP($F99,objets!$A$2:$L4997,6,FALSE)*$E99,$F99="",0,$E99="",VLOOKUP($F99,objets!$A$2:$L4997,6,FALSE)) -> 0 | N99: =_xlfn.IFS($E99>0,VLOOKUP($F99,objets!$A$2:$L4997,6,FALSE)*$E99,$F99="",0,$E99="",VLOOKUP($F99,objets!$A$2:$L4997,6,FALSE)) -> 0 | X99: =SUMPRODUCT(H99:N99,P99:V99)/SUM(H99:N99) -> #DIV/0!
G100: =SUM(H100:N100) -> 0 | H100: =_xlfn.IFS($E100>0,VLOOKUP($F100,objets!$A$2:$L4998,6,FALSE)*$E100,$F100="",0,$E100="",VLOOKUP($F100,objets!$A$2:$L4998,6,FALSE)) -> 0 | I100: =_xlfn.IFS($E100>0,VLOOKUP($F100,objets!$A$2:$L4998,6,FALSE)*$E100,$F100="",0,$E100="",VLOOKUP($F100,objets!$A$2:$L4998,6,FALSE)) -> 0 | J100: =_xlfn.IFS($E100>0,VLOOKUP($F100,objets!$A$2:$L4998,6,FALSE)*$E100,$F100="",0,$E100="",VLOOKUP($F100,objets!$A$2:$L4998,6,FALSE)) -> 0 | K100: =_xlfn.IFS($E100>0,VLOOKUP($F100,objets!$A$2:$L4998,6,FALSE)*$E100,$F100="",0,$E100="",VLOOKUP($F100,objets!$A$2:$L4998,6,FALSE)) -> 0 | L100: =_xlfn.IFS($E100>0,VLOOKUP($F100,objets!$A$2:$L4998,6,FALSE)*$E100,$F100="",0,$E100="",VLOOKUP($F100,objets!$A$2:$L4998,6,FALSE)) -> 0 | M100: =_xlfn.IFS($E100>0,VLOOKUP($F100,objets!$A$2:$L4998,6,FALSE)*$E100,$F100="",0,$E100="",VLOOKUP($F100,objets!$A$2:$L4998,6,FALSE)) -> 0 | N100: =_xlfn.IFS($E100>0,VLOOKUP($F100,objets!$A$2:$L4998,6,FALSE)*$E100,$F100="",0,$E100="",VLOOKUP($F100,objets!$A$2:$L4998,6,FALSE)) -> 0 | X100: =SUMPRODUCT(H100:N100,P100:V100)/SUM(H100:N100) -> #DIV/0!
G101: =SUM(H101:N101) -> 0 | H101: =_xlfn.IFS($E101>0,VLOOKUP($F101,objets!$A$2:$L4999,6,FALSE)*$E101,$F101="",0,$E101="",VLOOKUP($F101,objets!$A$2:$L4999,6,FALSE)) -> 0 | I101: =_xlfn.IFS($E101>0,VLOOKUP($F101,objets!$A$2:$L4999,6,FALSE)*$E101,$F101="",0,$E101="",VLOOKUP($F101,objets!$A$2:$L4999,6,FALSE)) -> 0 | J101: =_xlfn.IFS($E101>0,VLOOKUP($F101,objets!$A$2:$L4999,6,FALSE)*$E101,$F101="",0,$E101="",VLOOKUP($F101,objets!$A$2:$L4999,6,FALSE)) -> 0 | K101: =_xlfn.IFS($E101>0,VLOOKUP($F101,objets!$A$2:$L4999,6,FALSE)*$E101,$F101="",0,$E101="",VLOOKUP($F101,objets!$A$2:$L4999,6,FALSE)) -> 0 | L101: =_xlfn.IFS($E101>0,VLOOKUP($F101,objets!$A$2:$L4999,6,FALSE)*$E101,$F101="",0,$E101="",VLOOKUP($F101,objets!$A$2:$L4999,6,FALSE)) -> 0 | M101: =_xlfn.IFS($E101>0,VLOOKUP($F101,objets!$A$2:$L4999,6,FALSE)*$E101,$F101="",0,$E101="",VLOOKUP($F101,objets!$A$2:$L4999,6,FALSE)) -> 0 | N101: =_xlfn.IFS($E101>0,VLOOKUP($F101,objets!$A$2:$L4999,6,FALSE)*$E101,$F101="",0,$E101="",VLOOKUP($F101,objets!$A$2:$L4999,6,FALSE)) -> 0 | X101: =SUMPRODUCT(H101:N101,P101:V101)/SUM(H101:N101) -> #DIV/0!
...

Sheet Encadrant Nord
B1: =Zone!B1 -> test | F1: =TODAY() -> 43858
A3: Identification de l'IS | G3: Temps Production - Temps élémentaires | P3: Avancement | Z3: PREPA SUR PARC | AJ3: INSTALLATION EN VOIE ou POSTE | AN3: RACCORDEMENT
A4: Zone | B4: Centres | C4: Travaux | D4: Commentaires : particularité de l'IS | E4: Nbre éléments pour poste | F4: Type IS | G4: TOTAL | H4: Déroulage câble | I4: Equipement poste (Neuf ou Modif) | J4: Prépa Parc | K4: Pose à la voie | L4: Racco voie | M4: Racco Centre | N4: Contrôle | P4: Déroulage câble | Q4: Equipement poste (Neuf ou modif) | R4: Prépa Parc | S4: Pose à la voie | T4: Racco voie | U4: Racco Centre | V4: Contrôle | W4: COMMENTAIRES | Z4: Préparation à réaliser pour | AA4: Relevé terrain | AB4: Méca réalisée par Nom Date | AD4: Câblage réalisé par Nom Date | AF4: Réserves Oui Non | AH4: Réserves | AJ4: Installé par | AK4: Travaux terminé | AL4: Réserves / Commentaires | AN4: Raccordé par | AO4: Travaux terminé | AP4: Réserves / Commentaires
A5: Encadrant Nord | B5: Centre K1 | C5: REZ6663 | F5: CRO | G5: =SUM(H5:N5) -> 14 | H5: =_xlfn.IFS($E5>0,VLOOKUP($F5,objets!$A$2:$L5085,6,FALSE)*$E5,$F5="",0,$E5="",VLOOKUP($F5,objets!$A$2:$L5085,6,FALSE)) -> 2 | I5: =_xlfn.IFS($E5>0,VLOOKUP($F5,objets!$A$2:$L5085,6,FALSE)*$E5,$F5="",0,$E5="",VLOOKUP($F5,objets!$A$2:$L5085,6,FALSE)) -> 2 | J5: =_xlfn.IFS($E5>0,VLOOKUP($F5,objets!$A$2:$L5085,6,FALSE)*$E5,$F5="",0,$E5="",VLOOKUP($F5,objets!$A$2:$L5085,6,FALSE)) -> 2 | K5: =_xlfn.IFS($E5>0,VLOOKUP($F5,objets!$A$2:$L5085,6,FALSE)*$E5,$F5="",0,$E5="",VLOOKUP($F5,objets!$A$2:$L5085,6,FALSE)) -> 2 | L5: =_xlfn.IFS($E5>0,VLOOKUP($F5,objets!$A$2:$L5085,6,FALSE)*$E5,$F5="",0,$E5="",VLOOKUP($F5,objets!$A$2:$L5085,6,FALSE)) -> 2 | M5: =_xlfn.IFS($E5>0,VLOOKUP($F5,objets!$A$2:$L5085,6,FALSE)*$E5,$F5="",0,$E5="",VLOOKUP($F5,objets!$A$2:$L5085,6,FALSE)) -> 2 | N5: =_xlfn.IFS($E5>0,VLOOKUP($F5,objets!$A$2:$L5085,6,FALSE)*$E5,$F5="",0,$E5="",VLOOKUP($F5,objets!$A$2:$L5085,6,FALSE)) -> 2 | X5: =SUMPRODUCT(H5:N5,P5:V5)/SUM(H5:N5) -> 0
A6: Encadrant Nord | B6: Centre K1 | C6: Pd.Déto+A.Cro6620 | F6: Pd méca | G6: =SUM(H6:N6) -> 14 | H6: =_xlfn.IFS($E6>0,VLOOKUP($F6,objets!$A$2:$L5074,6,FALSE)*$E6,$F6="",0,$E6="",VLOOKUP($F6,objets!$A$2:$L5074,6,FALSE)) -> 2 | I6: =_xlfn.IFS($E6>0,VLOOKUP($F6,objets!$A$2:$L5074,6,FALSE)*$E6,$F6="",0,$E6="",VLOOKUP($F6,objets!$A$2:$L5074,6,FALSE)) -> 2 | J6: =_xlfn.IFS($E6>0,VLOOKUP($F6,objets!$A$2:$L5074,6,FALSE)*$E6,$F6="",0,$E6="",VLOOKUP($F6,objets!$A$2:$L5074,6,FALSE)) -> 2 | K6: =_xlfn.IFS($E6>0,VLOOKUP($F6,objets!$A$2:$L5074,6,FALSE)*$E6,$F6="",0,$E6="",VLOOKUP($F6,objets!$A$2:$L5074,6,FALSE)) -> 2 | L6: =_xlfn.IFS($E6>0,VLOOKUP($F6,objets!$A$2:$L5074,6,FALSE)*$E6,$F6="",0,$E6="",VLOOKUP($F6,objets!$A$2:$L5074,6,FALSE)) -> 2 | M6: =_xlfn.IFS($E6>0,VLOOKUP($F6,objets!$A$2:$L5074,6,FALSE)*$E6,$F6="",0,$E6="",VLOOKUP($F6,objets!$A$2:$L5074,6,FALSE)) -> 2 | N6: =_xlfn.IFS($E6>0,VLOOKUP($F6,objets!$A$2:$L5074,6,FALSE)*$E6,$F6="",0,$E6="",VLOOKUP($F6,objets!$A$2:$L5074,6,FALSE)) -> 2 | X6: =SUMPRODUCT(H6:N6,P6:V6)/SUM(H6:N6) -> 0
A7: Encadrant Nord | B7: Centre K1 | C7: CRO 6620 | F7: CRO | G7: =SUM(H7:N7) -> 14 | H7: =_xlfn.IFS($E7>0,VLOOKUP($F7,objets!$A$2:$L4907,6,FALSE)*$E7,$F7="",0,$E7="",VLOOKUP($F7,objets!$A$2:$L4907,6,FALSE)) -> 2 | I7: =_xlfn.IFS($E7>0,VLOOKUP($F7,objets!$A$2:$L4907,6,FALSE)*$E7,$F7="",0,$E7="",VLOOKUP($F7,objets!$A$2:$L4907,6,FALSE)) -> 2 | J7: =_xlfn.IFS($E7>0,VLOOKUP($F7,objets!$A$2:$L4907,6,FALSE)*$E7,$F7="",0,$E7="",VLOOKUP($F7,objets!$A$2:$L4907,6,FALSE)) -> 2 | K7: =_xlfn.IFS($E7>0,VLOOKUP($F7,objets!$A$2:$L4907,6,FALSE)*$E7,$F7="",0,$E7="",VLOOKUP($F7,objets!$A$2:$L4907,6,FALSE)) -> 2 | L7: =_xlfn.IFS($E7>0,VLOOKUP($F7,objets!$A$2:$L4907,6,FALSE)*$E7,$F7="",0,$E7="",VLOOKUP($F7,objets!$A$2:$L4907,6,FALSE)) -> 2 | M7: =_xlfn.IFS($E7>0,VLOOKUP($F7,objets!$A$2:$L4907,6,FALSE)*$E7,$F7="",0,$E7="",VLOOKUP($F7,objets!$A$2:$L4907,6,FALSE)) -> 2 | N7: =_xlfn.IFS($E7>0,VLOOKUP($F7,objets!$A$2:$L4907,6,FALSE)*$E7,$F7="",0,$E7="",VLOOKUP($F7,objets!$A$2:$L4907,6,FALSE)) -> 2 | X7: =SUMPRODUCT(H7:N7,P7:V7)/SUM(H7:N7) -> 0
A8: Encadrant Nord | B8: Centre K1 | C8: Déto C6620 | F8: CRO | G8: =SUM(H8:N8) -> 14 | H8: =_xlfn.IFS($E8>0,VLOOKUP($F8,objets!$A$2:$L4908,6,FALSE)*$E8,$F8="",0,$E8="",VLOOKUP($F8,objets!$A$2:$L4908,6,FALSE)) -> 2 | I8: =_xlfn.IFS($E8>0,VLOOKUP($F8,objets!$A$2:$L4908,6,FALSE)*$E8,$F8="",0,$E8="",VLOOKUP($F8,objets!$A$2:$L4908,6,FALSE)) -> 2 | J8: =_xlfn.IFS($E8>0,VLOOKUP($F8,objets!$A$2:$L4908,6,FALSE)*$E8,$F8="",0,$E8="",VLOOKUP($F8,objets!$A$2:$L4908,6,FALSE)) -> 2 | K8: =_xlfn.IFS($E8>0,VLOOKUP($F8,objets!$A$2:$L4908,6,FALSE)*$E8,$F8="",0,$E8="",VLOOKUP($F8,objets!$A$2:$L4908,6,FALSE)) -> 2 | L8: =_xlfn.IFS($E8>0,VLOOKUP($F8,objets!$A$2:$L4908,6,FALSE)*$E8,$F8="",0,$E8="",VLOOKUP($F8,objets!$A$2:$L4908,6,FALSE)) -> 2 | M8: =_xlfn.IFS($E8>0,VLOOKUP($F8,objets!$A$2:$L4908,6,FALSE)*$E8,$F8="",0,$E8="",VLOOKUP($F8,objets!$A$2:$L4908,6,FALSE)) -> 2 | N8: =_xlfn.IFS($E8>0,VLOOKUP($F8,objets!$A$2:$L4908,6,FALSE)*$E8,$F8="",0,$E8="",VLOOKUP($F8,objets!$A$2:$L4908,6,FALSE)) -> 2 | X8: =SUMPRODUCT(H8:N8,P8:V8)/SUM(H8:N8) -> 0
A9: Encadrant Nord | B9: Centre K1 | C9: Pd.Déto+A.Cro6618 | F9: CRO | G9: =SUM(H9:N9) -> 14 | H9: =_xlfn.IFS($E9>0,VLOOKUP($F9,objets!$A$2:$L4909,6,FALSE)*$E9,$F9="",0,$E9="",VLOOKUP($F9,objets!$A$2:$L4909,6,FALSE)) -> 2 | I9: =_xlfn.IFS($E9>0,VLOOKUP($F9,objets!$A$2:$L4909,6,FALSE)*$E9,$F9="",0,$E9="",VLOOKUP($F9,objets!$A$2:$L4909,6,FALSE)) -> 2 | J9: =_xlfn.IFS($E9>0,VLOOKUP($F9,objets!$A$2:$L4909,6,FALSE)*$E9,$F9="",0,$E9="",VLOOKUP($F9,objets!$A$2:$L4909,6,FALSE)) -> 2 | K9: =_xlfn.IFS($E9>0,VLOOKUP($F9,objets!$A$2:$L4909,6,FALSE)*$E9,$F9="",0,$E9="",VLOOKUP($F9,objets!$A$2:$L4909,6,FALSE)) -> 2 | L9: =_xlfn.IFS($E9>0,VLOOKUP($F9,objets!$A$2:$L4909,6,FALSE)*$E9,$F9="",0,$E9="",VLOOKUP($F9,objets!$A$2:$L4909,6,FALSE)) -> 2 | M9: =_xlfn.IFS($E9>0,VLOOKUP($F9,objets!$A$2:$L4909,6,FALSE)*$E9,$F9="",0,$E9="",VLOOKUP($F9,objets!$A$2:$L4909,6,FALSE)) -> 2 | N9: =_xlfn.IFS($E9>0,VLOOKUP($F9,objets!$A$2:$L4909,6,FALSE)*$E9,$F9="",0,$E9="",VLOOKUP($F9,objets!$A$2:$L4909,6,FALSE)) -> 2 | X9: =SUMPRODUCT(H9:N9,P9:V9)/SUM(H9:N9) -> 0
A10: Encadrant Nord | B10: Centre K1 | C10: CRO 6618 | F10: CRO | G10: =SUM(H10:N10) -> 14 | H10: =_xlfn.IFS($E10>0,VLOOKUP($F10,objets!$A$2:$L4908,6,FALSE)*$E10,$F10="",0,$E10="",VLOOKUP($F10,objets!$A$2:$L4908,6,FALSE)) -> 2 | I10: =_xlfn.IFS($E10>0,VLOOKUP($F10,objets!$A$2:$L4908,6,FALSE)*$E10,$F10="",0,$E10="",VLOOKUP($F10,objets!$A$2:$L4908,6,FALSE)) -> 2 | J10: =_xlfn.IFS($E10>0,VLOOKUP($F10,objets!$A$2:$L4908,6,FALSE)*$E10,$F10="",0,$E10="",VLOOKUP($F10,objets!$A$2:$L4908,6,FALSE)) -> 2 | K10: =_xlfn.IFS($E10>0,VLOOKUP($F10,objets!$A$2:$L4908,6,FALSE)*$E10,$F10="",0,$E10="",VLOOKUP($F10,objets!$A$2:$L4908,6,FALSE)) -> 2 | L10: =_xlfn.IFS($E10>0,VLOOKUP($F10,objets!$A$2:$L4908,6,FALSE)*$E10,$F10="",0,$E10="",VLOOKUP($F10,objets!$A$2:$L4908,6,FALSE)) -> 2 | M10: =_xlfn.IFS($E10>0,VLOOKUP($F10,objets!$A$2:$L4908,6,FALSE)*$E10,$F10="",0,$E10="",VLOOKUP($F10,objets!$A$2:$L4908,6,FALSE)) -> 2 | N10: =_xlfn.IFS($E10>0,VLOOKUP($F10,objets!$A$2:$L4908,6,FALSE)*$E10,$F10="",0,$E10="",VLOOKUP($F10,objets!$A$2:$L4908,6,FALSE)) -> 2 | X10: =SUMPRODUCT(H10:N10,P10:V10)/SUM(H10:N10) -> 0
A11: Encadrant Nord | B11: Centre K1 | C11: Déto C6618 | F11: CRO | G11: =SUM(H11:N11) -> 14 | H11: =_xlfn.IFS($E11>0,VLOOKUP($F11,objets!$A$2:$L4909,6,FALSE)*$E11,$F11="",0,$E11="",VLOOKUP($F11,objets!$A$2:$L4909,6,FALSE)) -> 2 | I11: =_xlfn.IFS($E11>0,VLOOKUP($F11,objets!$A$2:$L4909,6,FALSE)*$E11,$F11="",0,$E11="",VLOOKUP($F11,objets!$A$2:$L4909,6,FALSE)) -> 2 | J11: =_xlfn.IFS($E11>0,VLOOKUP($F11,objets!$A$2:$L4909,6,FALSE)*$E11,$F11="",0,$E11="",VLOOKUP($F11,objets!$A$2:$L4909,6,FALSE)) -> 2 | K11: =_xlfn.IFS($E11>0,VLOOKUP($F11,objets!$A$2:$L4909,6,FALSE)*$E11,$F11="",0,$E11="",VLOOKUP($F11,objets!$A$2:$L4909,6,FALSE)) -> 2 | L11: =_xlfn.IFS($E11>0,VLOOKUP($F11,objets!$A$2:$L4909,6,FALSE)*$E11,$F11="",0,$E11="",VLOOKUP($F11,objets!$A$2:$L4909,6,FALSE)) -> 2 | M11: =_xlfn.IFS($E11>0,VLOOKUP($F11,objets!$A$2:$L4909,6,FALSE)*$E11,$F11="",0,$E11="",VLOOKUP($F11,objets!$A$2:$L4909,6,FALSE)) -> 2 | N11: =_xlfn.IFS($E11>0,VLOOKUP($F11,objets!$A$2:$L4909,6,FALSE)*$E11,$F11="",0,$E11="",VLOOKUP($F11,objets!$A$2:$L4909,6,FALSE)) -> 2 | X11: =SUMPRODUCT(H11:N11,P11:V11)/SUM(H11:N11) -> 0
A12: Encadrant Nord | B12: Centre K1 | C12: TEL Pès C6618-C6620 ATR6649 | F12: CRO | G12: =SUM(H12:N12) -> 14 | H12: =_xlfn.IFS($E12>0,VLOOKUP($F12,objets!$A$2:$L4912,6,FALSE)*$E12,$F12="",0,$E12="",VLOOKUP($F12,objets!$A$2:$L4912,6,FALSE)) -> 2 | I12: =_xlfn.IFS($E12>0,VLOOKUP($F12,objets!$A$2:$L4912,6,FALSE)*$E12,$F12="",0,$E12="",VLOOKUP($F12,objets!$A$2:$L4912,6,FALSE)) -> 2 | J12: =_xlfn.IFS($E12>0,VLOOKUP($F12,objets!$A$2:$L4912,6,FALSE)*$E12,$F12="",0,$E12="",VLOOKUP($F12,objets!$A$2:$L4912,6,FALSE)) -> 2 | K12: =_xlfn.IFS($E12>0,VLOOKUP($F12,objets!$A$2:$L4912,6,FALSE)*$E12,$F12="",0,$E12="",VLOOKUP($F12,objets!$A$2:$L4912,6,FALSE)) -> 2 | L12: =_xlfn.IFS($E12>0,VLOOKUP($F12,objets!$A$2:$L4912,6,FALSE)*$E12,$F12="",0,$E12="",VLOOKUP($F12,objets!$A$2:$L4912,6,FALSE)) -> 2 | M12: =_xlfn.IFS($E12>0,VLOOKUP($F12,objets!$A$2:$L4912,6,FALSE)*$E12,$F12="",0,$E12="",VLOOKUP($F12,objets!$A$2:$L4912,6,FALSE)) -> 2 | N12: =_xlfn.IFS($E12>0,VLOOKUP($F12,objets!$A$2:$L4912,6,FALSE)*$E12,$F12="",0,$E12="",VLOOKUP($F12,objets!$A$2:$L4912,6,FALSE)) -> 2 | X12: =SUMPRODUCT(H12:N12,P12:V12)/SUM(H12:N12) -> 0
A13: Encadrant Nord | B13: Centre K1 | C13: BALISE AG6671A | F13: CRO | G13: =SUM(H13:N13) -> 14 | H13: =_xlfn.IFS($E13>0,VLOOKUP($F13,objets!$A$2:$L4913,6,FALSE)*$E13,$F13="",0,$E13="",VLOOKUP($F13,objets!$A$2:$L4913,6,FALSE)) -> 2 | I13: =_xlfn.IFS($E13>0,VLOOKUP($F13,objets!$A$2:$L4913,6,FALSE)*$E13,$F13="",0,$E13="",VLOOKUP($F13,objets!$A$2:$L4913,6,FALSE)) -> 2 | J13: =_xlfn.IFS($E13>0,VLOOKUP($F13,objets!$A$2:$L4913,6,FALSE)*$E13,$F13="",0,$E13="",VLOOKUP($F13,objets!$A$2:$L4913,6,FALSE)) -> 2 | K13: =_xlfn.IFS($E13>0,VLOOKUP($F13,objets!$A$2:$L4913,6,FALSE)*$E13,$F13="",0,$E13="",VLOOKUP($F13,objets!$A$2:$L4913,6,FALSE)) -> 2 | L13: =_xlfn.IFS($E13>0,VLOOKUP($F13,objets!$A$2:$L4913,6,FALSE)*$E13,$F13="",0,$E13="",VLOOKUP($F13,objets!$A$2:$L4913,6,FALSE)) -> 2 | M13: =_xlfn.IFS($E13>0,VLOOKUP($F13,objets!$A$2:$L4913,6,FALSE)*$E13,$F13="",0,$E13="",VLOOKUP($F13,objets!$A$2:$L4913,6,FALSE)) -> 2 | N13: =_xlfn.IFS($E13>0,VLOOKUP($F13,objets!$A$2:$L4913,6,FALSE)*$E13,$F13="",0,$E13="",VLOOKUP($F13,objets!$A$2:$L4913,6,FALSE)) -> 2 | X13: =SUMPRODUCT(H13:N13,P13:V13)/SUM(H13:N13) -> 0
G14: =SUM(H14:N14) -> 0 | H14: =_xlfn.IFS($E14>0,VLOOKUP($F14,objets!$A$2:$L4914,6,FALSE)*$E14,$F14="",0,$E14="",VLOOKUP($F14,objets!$A$2:$L4914,6,FALSE)) -> 0 | I14: =_xlfn.IFS($E14>0,VLOOKUP($F14,objets!$A$2:$L4914,6,FALSE)*$E14,$F14="",0,$E14="",VLOOKUP($F14,objets!$A$2:$L4914,6,FALSE)) -> 0 | J14: =_xlfn.IFS($E14>0,VLOOKUP($F14,objets!$A$2:$L4914,6,FALSE)*$E14,$F14="",0,$E14="",VLOOKUP($F14,objets!$A$2:$L4914,6,FALSE)) -> 0 | K14: =_xlfn.IFS($E14>0,VLOOKUP($F14,objets!$A$2:$L4914,6,FALSE)*$E14,$F14="",0,$E14="",VLOOKUP($F14,objets!$A$2:$L4914,6,FALSE)) -> 0 | L14: =_xlfn.IFS($E14>0,VLOOKUP($F14,objets!$A$2:$L4914,6,FALSE)*$E14,$F14="",0,$E14="",VLOOKUP($F14,objets!$A$2:$L4914,6,FALSE)) -> 0 | M14: =_xlfn.IFS($E14>0,VLOOKUP($F14,objets!$A$2:$L4914,6,FALSE)*$E14,$F14="",0,$E14="",VLOOKUP($F14,objets!$A$2:$L4914,6,FALSE)) -> 0 | N14: =_xlfn.IFS($E14>0,VLOOKUP($F14,objets!$A$2:$L4914,6,FALSE)*$E14,$F14="",0,$E14="",VLOOKUP($F14,objets!$A$2:$L4914,6,FALSE)) -> 0 | X14: =SUMPRODUCT(H14:N14,P14:V14)/SUM(H14:N14) -> #DIV/0!
G15: =SUM(H15:N15) -> 0 | H15: =_xlfn.IFS($E15>0,VLOOKUP($F15,objets!$A$2:$L4915,6,FALSE)*$E15,$F15="",0,$E15="",VLOOKUP($F15,objets!$A$2:$L4915,6,FALSE)) -> 0 | I15: =_xlfn.IFS($E15>0,VLOOKUP($F15,objets!$A$2:$L4915,6,FALSE)*$E15,$F15="",0,$E15="",VLOOKUP($F15,objets!$A$2:$L4915,6,FALSE)) -> 0 | J15: =_xlfn.IFS($E15>0,VLOOKUP($F15,objets!$A$2:$L4915,6,FALSE)*$E15,$F15="",0,$E15="",VLOOKUP($F15,objets!$A$2:$L4915,6,FALSE)) -> 0 | K15: =_xlfn.IFS($E15>0,VLOOKUP($F15,objets!$A$2:$L4915,6,FALSE)*$E15,$F15="",0,$E15="",VLOOKUP($F15,objets!$A$2:$L4915,6,FALSE)) -> 0 | L15: =_xlfn.IFS($E15>0,VLOOKUP($F15,objets!$A$2:$L4915,6,FALSE)*$E15,$F15="",0,$E15="",VLOOKUP($F15,objets!$A$2:$L4915,6,FALSE)) -> 0 | M15: =_xlfn.IFS($E15>0,VLOOKUP($F15,objets!$A$2:$L4915,6,FALSE)*$E15,$F15="",0,$E15="",VLOOKUP($F15,objets!$A$2:$L4915,6,FALSE)) -> 0 | N15: =_xlfn.IFS($E15>0,VLOOKUP($F15,objets!$A$2:$L4915,6,FALSE)*$E15,$F15="",0,$E15="",VLOOKUP($F15,objets!$A$2:$L4915,6,FALSE)) -> 0 | X15: =SUMPRODUCT(H15:N15,P15:V15)/SUM(H15:N15) -> #DIV/0!
G16: =SUM(H16:N16) -> 0 | H16: =_xlfn.IFS($E16>0,VLOOKUP($F16,objets!$A$2:$L4914,6,FALSE)*$E16,$F16="",0,$E16="",VLOOKUP($F16,objets!$A$2:$L4914,6,FALSE)) -> 0 | I16: =_xlfn.IFS($E16>0,VLOOKUP($F16,objets!$A$2:$L4914,6,FALSE)*$E16,$F16="",0,$E16="",VLOOKUP($F16,objets!$A$2:$L4914,6,FALSE)) -> 0 | J16: =_xlfn.IFS($E16>0,VLOOKUP($F16,objets!$A$2:$L4914,6,FALSE)*$E16,$F16="",0,$E16="",VLOOKUP($F16,objets!$A$2:$L4914,6,FALSE)) -> 0 | K16: =_xlfn.IFS($E16>0,VLOOKUP($F16,objets!$A$2:$L4914,6,FALSE)*$E16,$F16="",0,$E16="",VLOOKUP($F16,objets!$A$2:$L4914,6,FALSE)) -> 0 | L16: =_xlfn.IFS($E16>0,VLOOKUP($F16,objets!$A$2:$L4914,6,FALSE)*$E16,$F16="",0,$E16="",VLOOKUP($F16,objets!$A$2:$L4914,6,FALSE)) -> 0 | M16: =_xlfn.IFS($E16>0,VLOOKUP($F16,objets!$A$2:$L4914,6,FALSE)*$E16,$F16="",0,$E16="",VLOOKUP($F16,objets!$A$2:$L4914,6,FALSE)) -> 0 | N16: =_xlfn.IFS($E16>0,VLOOKUP($F16,objets!$A$2:$L4914,6,FALSE)*$E16,$F16="",0,$E16="",VLOOKUP($F16,objets!$A$2:$L4914,6,FALSE)) -> 0 | X16: =SUMPRODUCT(H16:N16,P16:V16)/SUM(H16:N16) -> #DIV/0!
G17: =SUM(H17:N17) -> 0 | H17: =_xlfn.IFS($E17>0,VLOOKUP($F17,objets!$A$2:$L4915,6,FALSE)*$E17,$F17="",0,$E17="",VLOOKUP($F17,objets!$A$2:$L4915,6,FALSE)) -> 0 | I17: =_xlfn.IFS($E17>0,VLOOKUP($F17,objets!$A$2:$L4915,6,FALSE)*$E17,$F17="",0,$E17="",VLOOKUP($F17,objets!$A$2:$L4915,6,FALSE)) -> 0 | J17: =_xlfn.IFS($E17>0,VLOOKUP($F17,objets!$A$2:$L4915,6,FALSE)*$E17,$F17="",0,$E17="",VLOOKUP($F17,objets!$A$2:$L4915,6,FALSE)) -> 0 | K17: =_xlfn.IFS($E17>0,VLOOKUP($F17,objets!$A$2:$L4915,6,FALSE)*$E17,$F17="",0,$E17="",VLOOKUP($F17,objets!$A$2:$L4915,6,FALSE)) -> 0 | L17: =_xlfn.IFS($E17>0,VLOOKUP($F17,objets!$A$2:$L4915,6,FALSE)*$E17,$F17="",0,$E17="",VLOOKUP($F17,objets!$A$2:$L4915,6,FALSE)) -> 0 | M17: =_xlfn.IFS($E17>0,VLOOKUP($F17,objets!$A$2:$L4915,6,FALSE)*$E17,$F17="",0,$E17="",VLOOKUP($F17,objets!$A$2:$L4915,6,FALSE)) -> 0 | N17: =_xlfn.IFS($E17>0,VLOOKUP($F17,objets!$A$2:$L4915,6,FALSE)*$E17,$F17="",0,$E17="",VLOOKUP($F17,objets!$A$2:$L4915,6,FALSE)) -> 0 | X17: =SUMPRODUCT(H17:N17,P17:V17)/SUM(H17:N17) -> #DIV/0!
G18: =SUM(H18:N18) -> 0 | H18: =_xlfn.IFS($E18>0,VLOOKUP($F18,objets!$A$2:$L4918,6,FALSE)*$E18,$F18="",0,$E18="",VLOOKUP($F18,objets!$A$2:$L4918,6,FALSE)) -> 0 | I18: =_xlfn.IFS($E18>0,VLOOKUP($F18,objets!$A$2:$L4918,6,FALSE)*$E18,$F18="",0,$E18="",VLOOKUP($F18,objets!$A$2:$L4918,6,FALSE)) -> 0 | J18: =_xlfn.IFS($E18>0,VLOOKUP($F18,objets!$A$2:$L4918,6,FALSE)*$E18,$F18="",0,$E18="",VLOOKUP($F18,objets!$A$2:$L4918,6,FALSE)) -> 0 | K18: =_xlfn.IFS($E18>0,VLOOKUP($F18,objets!$A$2:$L4918,6,FALSE)*$E18,$F18="",0,$E18="",VLOOKUP($F18,objets!$A$2:$L4918,6,FALSE)) -> 0 | L18: =_xlfn.IFS($E18>0,VLOOKUP($F18,objets!$A$2:$L4918,6,FALSE)*$E18,$F18="",0,$E18="",VLOOKUP($F18,objets!$A$2:$L4918,6,FALSE)) -> 0 | M18: =_xlfn.IFS($E18>0,VLOOKUP($F18,objets!$A$2:$L4918,6,FALSE)*$E18,$F18="",0,$E18="",VLOOKUP($F18,objets!$A$2:$L4918,6,FALSE)) -> 0 | N18: =_xlfn.IFS($E18>0,VLOOKUP($F18,objets!$A$2:$L4918,6,FALSE)*$E18,$F18="",0,$E18="",VLOOKUP($F18,objets!$A$2:$L4918,6,FALSE)) -> 0 | X18: =SUMPRODUCT(H18:N18,P18:V18)/SUM(H18:N18) -> #DIV/0!
G19: =SUM(H19:N19) -> 0 | H19: =_xlfn.IFS($E19>0,VLOOKUP($F19,objets!$A$2:$L4919,6,FALSE)*$E19,$F19="",0,$E19="",VLOOKUP($F19,objets!$A$2:$L4919,6,FALSE)) -> 0 | I19: =_xlfn.IFS($E19>0,VLOOKUP($F19,objets!$A$2:$L4919,6,FALSE)*$E19,$F19="",0,$E19="",VLOOKUP($F19,objets!$A$2:$L4919,6,FALSE)) -> 0 | J19: =_xlfn.IFS($E19>0,VLOOKUP($F19,objets!$A$2:$L4919,6,FALSE)*$E19,$F19="",0,$E19="",VLOOKUP($F19,objets!$A$2:$L4919,6,FALSE)) -> 0 | K19: =_xlfn.IFS($E19>0,VLOOKUP($F19,objets!$A$2:$L4919,6,FALSE)*$E19,$F19="",0,$E19="",VLOOKUP($F19,objets!$A$2:$L4919,6,FALSE)) -> 0 | L19: =_xlfn.IFS($E19>0,VLOOKUP($F19,objets!$A$2:$L4919,6,FALSE)*$E19,$F19="",0,$E19="",VLOOKUP($F19,objets!$A$2:$L4919,6,FALSE)) -> 0 | M19: =_xlfn.IFS($E19>0,VLOOKUP($F19,objets!$A$2:$L4919,6,FALSE)*$E19,$F19="",0,$E19="",VLOOKUP($F19,objets!$A$2:$L4919,6,FALSE)) -> 0 | N19: =_xlfn.IFS($E19>0,VLOOKUP($F19,objets!$A$2:$L4919,6,FALSE)*$E19,$F19="",0,$E19="",VLOOKUP($F19,objets!$A$2:$L4919,6,FALSE)) -> 0 | X19: =SUMPRODUCT(H19:N19,P19:V19)/SUM(H19:N19) -> #DIV/0!
G20: =SUM(H20:N20) -> 0 | H20: =_xlfn.IFS($E20>0,VLOOKUP($F20,objets!$A$2:$L4920,6,FALSE)*$E20,$F20="",0,$E20="",VLOOKUP($F20,objets!$A$2:$L4920,6,FALSE)) -> 0 | I20: =_xlfn.IFS($E20>0,VLOOKUP($F20,objets!$A$2:$L4920,6,FALSE)*$E20,$F20="",0,$E20="",VLOOKUP($F20,objets!$A$2:$L4920,6,FALSE)) -> 0 | J20: =_xlfn.IFS($E20>0,VLOOKUP($F20,objets!$A$2:$L4920,6,FALSE)*$E20,$F20="",0,$E20="",VLOOKUP($F20,objets!$A$2:$L4920,6,FALSE)) -> 0 | K20: =_xlfn.IFS($E20>0,VLOOKUP($F20,objets!$A$2:$L4920,6,FALSE)*$E20,$F20="",0,$E20="",VLOOKUP($F20,objets!$A$2:$L4920,6,FALSE)) -> 0 | L20: =_xlfn.IFS($E20>0,VLOOKUP($F20,objets!$A$2:$L4920,6,FALSE)*$E20,$F20="",0,$E20="",VLOOKUP($F20,objets!$A$2:$L4920,6,FALSE)) -> 0 | M20: =_xlfn.IFS($E20>0,VLOOKUP($F20,objets!$A$2:$L4920,6,FALSE)*$E20,$F20="",0,$E20="",VLOOKUP($F20,objets!$A$2:$L4920,6,FALSE)) -> 0 | N20: =_xlfn.IFS($E20>0,VLOOKUP($F20,objets!$A$2:$L4920,6,FALSE)*$E20,$F20="",0,$E20="",VLOOKUP($F20,objets!$A$2:$L4920,6,FALSE)) -> 0 | X20: =SUMPRODUCT(H20:N20,P20:V20)/SUM(H20:N20) -> #DIV/0!
G21: =SUM(H21:N21) -> 0 | H21: =_xlfn.IFS($E21>0,VLOOKUP($F21,objets!$A$2:$L4921,6,FALSE)*$E21,$F21="",0,$E21="",VLOOKUP($F21,objets!$A$2:$L4921,6,FALSE)) -> 0 | I21: =_xlfn.IFS($E21>0,VLOOKUP($F21,objets!$A$2:$L4921,6,FALSE)*$E21,$F21="",0,$E21="",VLOOKUP($F21,objets!$A$2:$L4921,6,FALSE)) -> 0 | J21: =_xlfn.IFS($E21>0,VLOOKUP($F21,objets!$A$2:$L4921,6,FALSE)*$E21,$F21="",0,$E21="",VLOOKUP($F21,objets!$A$2:$L4921,6,FALSE)) -> 0 | K21: =_xlfn.IFS($E21>0,VLOOKUP($F21,objets!$A$2:$L4921,6,FALSE)*$E21,$F21="",0,$E21="",VLOOKUP($F21,objets!$A$2:$L4921,6,FALSE)) -> 0 | L21: =_xlfn.IFS($E21>0,VLOOKUP($F21,objets!$A$2:$L4921,6,FALSE)*$E21,$F21="",0,$E21="",VLOOKUP($F21,objets!$A$2:$L4921,6,FALSE)) -> 0 | M21: =_xlfn.IFS($E21>0,VLOOKUP($F21,objets!$A$2:$L4921,6,FALSE)*$E21,$F21="",0,$E21="",VLOOKUP($F21,objets!$A$2:$L4921,6,FALSE)) -> 0 | N21: =_xlfn.IFS($E21>0,VLOOKUP($F21,objets!$A$2:$L4921,6,FALSE)*$E21,$F21="",0,$E21="",VLOOKUP($F21,objets!$A$2:$L4921,6,FALSE)) -> 0 | X21: =SUMPRODUCT(H21:N21,P21:V21)/SUM(H21:N21) -> #DIV/0!
G22: =SUM(H22:N22) -> 0 | H22: =_xlfn.IFS($E22>0,VLOOKUP($F22,objets!$A$2:$L4920,6,FALSE)*$E22,$F22="",0,$E22="",VLOOKUP($F22,objets!$A$2:$L4920,6,FALSE)) -> 0 | I22: =_xlfn.IFS($E22>0,VLOOKUP($F22,objets!$A$2:$L4920,6,FALSE)*$E22,$F22="",0,$E22="",VLOOKUP($F22,objets!$A$2:$L4920,6,FALSE)) -> 0 | J22: =_xlfn.IFS($E22>0,VLOOKUP($F22,objets!$A$2:$L4920,6,FALSE)*$E22,$F22="",0,$E22="",VLOOKUP($F22,objets!$A$2:$L4920,6,FALSE)) -> 0 | K22: =_xlfn.IFS($E22>0,VLOOKUP($F22,objets!$A$2:$L4920,6,FALSE)*$E22,$F22="",0,$E22="",VLOOKUP($F22,objets!$A$2:$L4920,6,FALSE)) -> 0 | L22: =_xlfn.IFS($E22>0,VLOOKUP($F22,objets!$A$2:$L4920,6,FALSE)*$E22,$F22="",0,$E22="",VLOOKUP($F22,objets!$A$2:$L4920,6,FALSE)) -> 0 | M22: =_xlfn.IFS($E22>0,VLOOKUP($F22,objets!$A$2:$L4920,6,FALSE)*$E22,$F22="",0,$E22="",VLOOKUP($F22,objets!$A$2:$L4920,6,FALSE)) -> 0 | N22: =_xlfn.IFS($E22>0,VLOOKUP($F22,objets!$A$2:$L4920,6,FALSE)*$E22,$F22="",0,$E22="",VLOOKUP($F22,objets!$A$2:$L4920,6,FALSE)) -> 0 | X22: =SUMPRODUCT(H22:N22,P22:V22)/SUM(H22:N22) -> #DIV/0!
G23: =SUM(H23:N23) -> 0 | H23: =_xlfn.IFS($E23>0,VLOOKUP($F23,objets!$A$2:$L4921,6,FALSE)*$E23,$F23="",0,$E23="",VLOOKUP($F23,objets!$A$2:$L4921,6,FALSE)) -> 0 | I23: =_xlfn.IFS($E23>0,VLOOKUP($F23,objets!$A$2:$L4921,6,FALSE)*$E23,$F23="",0,$E23="",VLOOKUP($F23,objets!$A$2:$L4921,6,FALSE)) -> 0 | J23: =_xlfn.IFS($E23>0,VLOOKUP($F23,objets!$A$2:$L4921,6,FALSE)*$E23,$F23="",0,$E23="",VLOOKUP($F23,objets!$A$2:$L4921,6,FALSE)) -> 0 | K23: =_xlfn.IFS($E23>0,VLOOKUP($F23,objets!$A$2:$L4921,6,FALSE)*$E23,$F23="",0,$E23="",VLOOKUP($F23,objets!$A$2:$L4921,6,FALSE)) -> 0 | L23: =_xlfn.IFS($E23>0,VLOOKUP($F23,objets!$A$2:$L4921,6,FALSE)*$E23,$F23="",0,$E23="",VLOOKUP($F23,objets!$A$2:$L4921,6,FALSE)) -> 0 | M23: =_xlfn.IFS($E23>0,VLOOKUP($F23,objets!$A$2:$L4921,6,FALSE)*$E23,$F23="",0,$E23="",VLOOKUP($F23,objets!$A$2:$L4921,6,FALSE)) -> 0 | N23: =_xlfn.IFS($E23>0,VLOOKUP($F23,objets!$A$2:$L4921,6,FALSE)*$E23,$F23="",0,$E23="",VLOOKUP($F23,objets!$A$2:$L4921,6,FALSE)) -> 0 | X23: =SUMPRODUCT(H23:N23,P23:V23)/SUM(H23:N23) -> #DIV/0!
G24: =SUM(H24:N24) -> 0 | H24: =_xlfn.IFS($E24>0,VLOOKUP($F24,objets!$A$2:$L4924,6,FALSE)*$E24,$F24="",0,$E24="",VLOOKUP($F24,objets!$A$2:$L4924,6,FALSE)) -> 0 | I24: =_xlfn.IFS($E24>0,VLOOKUP($F24,objets!$A$2:$L4924,6,FALSE)*$E24,$F24="",0,$E24="",VLOOKUP($F24,objets!$A$2:$L4924,6,FALSE)) -> 0 | J24: =_xlfn.IFS($E24>0,VLOOKUP($F24,objets!$A$2:$L4924,6,FALSE)*$E24,$F24="",0,$E24="",VLOOKUP($F24,objets!$A$2:$L4924,6,FALSE)) -> 0 | K24: =_xlfn.IFS($E24>0,VLOOKUP($F24,objets!$A$2:$L4924,6,FALSE)*$E24,$F24="",0,$E24="",VLOOKUP($F24,objets!$A$2:$L4924,6,FALSE)) -> 0 | L24: =_xlfn.IFS($E24>0,VLOOKUP($F24,objets!$A$2:$L4924,6,FALSE)*$E24,$F24="",0,$E24="",VLOOKUP($F24,objets!$A$2:$L4924,6,FALSE)) -> 0 | M24: =_xlfn.IFS($E24>0,VLOOKUP($F24,objets!$A$2:$L4924,6,FALSE)*$E24,$F24="",0,$E24="",VLOOKUP($F24,objets!$A$2:$L4924,6,FALSE)) -> 0 | N24: =_xlfn.IFS($E24>0,VLOOKUP($F24,objets!$A$2:$L4924,6,FALSE)*$E24,$F24="",0,$E24="",VLOOKUP($F24,objets!$A$2:$L4924,6,FALSE)) -> 0 | X24: =SUMPRODUCT(H24:N24,P24:V24)/SUM(H24:N24) -> #DIV/0!
G25: =SUM(H25:N25) -> 0 | H25: =_xlfn.IFS($E25>0,VLOOKUP($F25,objets!$A$2:$L4925,6,FALSE)*$E25,$F25="",0,$E25="",VLOOKUP($F25,objets!$A$2:$L4925,6,FALSE)) -> 0 | I25: =_xlfn.IFS($E25>0,VLOOKUP($F25,objets!$A$2:$L4925,6,FALSE)*$E25,$F25="",0,$E25="",VLOOKUP($F25,objets!$A$2:$L4925,6,FALSE)) -> 0 | J25: =_xlfn.IFS($E25>0,VLOOKUP($F25,objets!$A$2:$L4925,6,FALSE)*$E25,$F25="",0,$E25="",VLOOKUP($F25,objets!$A$2:$L4925,6,FALSE)) -> 0 | K25: =_xlfn.IFS($E25>0,VLOOKUP($F25,objets!$A$2:$L4925,6,FALSE)*$E25,$F25="",0,$E25="",VLOOKUP($F25,objets!$A$2:$L4925,6,FALSE)) -> 0 | L25: =_xlfn.IFS($E25>0,VLOOKUP($F25,objets!$A$2:$L4925,6,FALSE)*$E25,$F25="",0,$E25="",VLOOKUP($F25,objets!$A$2:$L4925,6,FALSE)) -> 0 | M25: =_xlfn.IFS($E25>0,VLOOKUP($F25,objets!$A$2:$L4925,6,FALSE)*$E25,$F25="",0,$E25="",VLOOKUP($F25,objets!$A$2:$L4925,6,FALSE)) -> 0 | N25: =_xlfn.IFS($E25>0,VLOOKUP($F25,objets!$A$2:$L4925,6,FALSE)*$E25,$F25="",0,$E25="",VLOOKUP($F25,objets!$A$2:$L4925,6,FALSE)) -> 0 | X25: =SUMPRODUCT(H25:N25,P25:V25)/SUM(H25:N25) -> #DIV/0!
G26: =SUM(H26:N26) -> 0 | H26: =_xlfn.IFS($E26>0,VLOOKUP($F26,objets!$A$2:$L4926,6,FALSE)*$E26,$F26="",0,$E26="",VLOOKUP($F26,objets!$A$2:$L4926,6,FALSE)) -> 0 | I26: =_xlfn.IFS($E26>0,VLOOKUP($F26,objets!$A$2:$L4926,6,FALSE)*$E26,$F26="",0,$E26="",VLOOKUP($F26,objets!$A$2:$L4926,6,FALSE)) -> 0 | J26: =_xlfn.IFS($E26>0,VLOOKUP($F26,objets!$A$2:$L4926,6,FALSE)*$E26,$F26="",0,$E26="",VLOOKUP($F26,objets!$A$2:$L4926,6,FALSE)) -> 0 | K26: =_xlfn.IFS($E26>0,VLOOKUP($F26,objets!$A$2:$L4926,6,FALSE)*$E26,$F26="",0,$E26="",VLOOKUP($F26,objets!$A$2:$L4926,6,FALSE)) -> 0 | L26: =_xlfn.IFS($E26>0,VLOOKUP($F26,objets!$A$2:$L4926,6,FALSE)*$E26,$F26="",0,$E26="",VLOOKUP($F26,objets!$A$2:$L4926,6,FALSE)) -> 0 | M26: =_xlfn.IFS($E26>0,VLOOKUP($F26,objets!$A$2:$L4926,6,FALSE)*$E26,$F26="",0,$E26="",VLOOKUP($F26,objets!$A$2:$L4926,6,FALSE)) -> 0 | N26: =_xlfn.IFS($E26>0,VLOOKUP($F26,objets!$A$2:$L4926,6,FALSE)*$E26,$F26="",0,$E26="",VLOOKUP($F26,objets!$A$2:$L4926,6,FALSE)) -> 0 | X26: =SUMPRODUCT(H26:N26,P26:V26)/SUM(H26:N26) -> #DIV/0!
G27: =SUM(H27:N27) -> 0 | H27: =_xlfn.IFS($E27>0,VLOOKUP($F27,objets!$A$2:$L4927,6,FALSE)*$E27,$F27="",0,$E27="",VLOOKUP($F27,objets!$A$2:$L4927,6,FALSE)) -> 0 | I27: =_xlfn.IFS($E27>0,VLOOKUP($F27,objets!$A$2:$L4927,6,FALSE)*$E27,$F27="",0,$E27="",VLOOKUP($F27,objets!$A$2:$L4927,6,FALSE)) -> 0 | J27: =_xlfn.IFS($E27>0,VLOOKUP($F27,objets!$A$2:$L4927,6,FALSE)*$E27,$F27="",0,$E27="",VLOOKUP($F27,objets!$A$2:$L4927,6,FALSE)) -> 0 | K27: =_xlfn.IFS($E27>0,VLOOKUP($F27,objets!$A$2:$L4927,6,FALSE)*$E27,$F27="",0,$E27="",VLOOKUP($F27,objets!$A$2:$L4927,6,FALSE)) -> 0 | L27: =_xlfn.IFS($E27>0,VLOOKUP($F27,objets!$A$2:$L4927,6,FALSE)*$E27,$F27="",0,$E27="",VLOOKUP($F27,objets!$A$2:$L4927,6,FALSE)) -> 0 | M27: =_xlfn.IFS($E27>0,VLOOKUP($F27,objets!$A$2:$L4927,6,FALSE)*$E27,$F27="",0,$E27="",VLOOKUP($F27,objets!$A$2:$L4927,6,FALSE)) -> 0 | N27: =_xlfn.IFS($E27>0,VLOOKUP($F27,objets!$A$2:$L4927,6,FALSE)*$E27,$F27="",0,$E27="",VLOOKUP($F27,objets!$A$2:$L4927,6,FALSE)) -> 0 | X27: =SUMPRODUCT(H27:N27,P27:V27)/SUM(H27:N27) -> #DIV/0!
G28: =SUM(H28:N28) -> 0 | H28: =_xlfn.IFS($E28>0,VLOOKUP($F28,objets!$A$2:$L4926,6,FALSE)*$E28,$F28="",0,$E28="",VLOOKUP($F28,objets!$A$2:$L4926,6,FALSE)) -> 0 | I28: =_xlfn.IFS($E28>0,VLOOKUP($F28,objets!$A$2:$L4926,6,FALSE)*$E28,$F28="",0,$E28="",VLOOKUP($F28,objets!$A$2:$L4926,6,FALSE)) -> 0 | J28: =_xlfn.IFS($E28>0,VLOOKUP($F28,objets!$A$2:$L4926,6,FALSE)*$E28,$F28="",0,$E28="",VLOOKUP($F28,objets!$A$2:$L4926,6,FALSE)) -> 0 | K28: =_xlfn.IFS($E28>0,VLOOKUP($F28,objets!$A$2:$L4926,6,FALSE)*$E28,$F28="",0,$E28="",VLOOKUP($F28,objets!$A$2:$L4926,6,FALSE)) -> 0 | L28: =_xlfn.IFS($E28>0,VLOOKUP($F28,objets!$A$2:$L4926,6,FALSE)*$E28,$F28="",0,$E28="",VLOOKUP($F28,objets!$A$2:$L4926,6,FALSE)) -> 0 | M28: =_xlfn.IFS($E28>0,VLOOKUP($F28,objets!$A$2:$L4926,6,FALSE)*$E28,$F28="",0,$E28="",VLOOKUP($F28,objets!$A$2:$L4926,6,FALSE)) -> 0 | N28: =_xlfn.IFS($E28>0,VLOOKUP($F28,objets!$A$2:$L4926,6,FALSE)*$E28,$F28="",0,$E28="",VLOOKUP($F28,objets!$A$2:$L4926,6,FALSE)) -> 0 | X28: =SUMPRODUCT(H28:N28,P28:V28)/SUM(H28:N28) -> #DIV/0!
G29: =SUM(H29:N29) -> 0 | H29: =_xlfn.IFS($E29>0,VLOOKUP($F29,objets!$A$2:$L4927,6,FALSE)*$E29,$F29="",0,$E29="",VLOOKUP($F29,objets!$A$2:$L4927,6,FALSE)) -> 0 | I29: =_xlfn.IFS($E29>0,VLOOKUP($F29,objets!$A$2:$L4927,6,FALSE)*$E29,$F29="",0,$E29="",VLOOKUP($F29,objets!$A$2:$L4927,6,FALSE)) -> 0 | J29: =_xlfn.IFS($E29>0,VLOOKUP($F29,objets!$A$2:$L4927,6,FALSE)*$E29,$F29="",0,$E29="",VLOOKUP($F29,objets!$A$2:$L4927,6,FALSE)) -> 0 | K29: =_xlfn.IFS($E29>0,VLOOKUP($F29,objets!$A$2:$L4927,6,FALSE)*$E29,$F29="",0,$E29="",VLOOKUP($F29,objets!$A$2:$L4927,6,FALSE)) -> 0 | L29: =_xlfn.IFS($E29>0,VLOOKUP($F29,objets!$A$2:$L4927,6,FALSE)*$E29,$F29="",0,$E29="",VLOOKUP($F29,objets!$A$2:$L4927,6,FALSE)) -> 0 | M29: =_xlfn.IFS($E29>0,VLOOKUP($F29,objets!$A$2:$L4927,6,FALSE)*$E29,$F29="",0,$E29="",VLOOKUP($F29,objets!$A$2:$L4927,6,FALSE)) -> 0 | N29: =_xlfn.IFS($E29>0,VLOOKUP($F29,objets!$A$2:$L4927,6,FALSE)*$E29,$F29="",0,$E29="",VLOOKUP($F29,objets!$A$2:$L4927,6,FALSE)) -> 0 | X29: =SUMPRODUCT(H29:N29,P29:V29)/SUM(H29:N29) -> #DIV/0!
G30: =SUM(H30:N30) -> 0 | H30: =_xlfn.IFS($E30>0,VLOOKUP($F30,objets!$A$2:$L4922,6,FALSE)*$E30,$F30="",0,$E30="",VLOOKUP($F30,objets!$A$2:$L4922,6,FALSE)) -> 0 | I30: =_xlfn.IFS($E30>0,VLOOKUP($F30,objets!$A$2:$L4922,6,FALSE)*$E30,$F30="",0,$E30="",VLOOKUP($F30,objets!$A$2:$L4922,6,FALSE)) -> 0 | J30: =_xlfn.IFS($E30>0,VLOOKUP($F30,objets!$A$2:$L4922,6,FALSE)*$E30,$F30="",0,$E30="",VLOOKUP($F30,objets!$A$2:$L4922,6,FALSE)) -> 0 | K30: =_xlfn.IFS($E30>0,VLOOKUP($F30,objets!$A$2:$L4922,6,FALSE)*$E30,$F30="",0,$E30="",VLOOKUP($F30,objets!$A$2:$L4922,6,FALSE)) -> 0 | L30: =_xlfn.IFS($E30>0,VLOOKUP($F30,objets!$A$2:$L4922,6,FALSE)*$E30,$F30="",0,$E30="",VLOOKUP($F30,objets!$A$2:$L4922,6,FALSE)) -> 0 | M30: =_xlfn.IFS($E30>0,VLOOKUP($F30,objets!$A$2:$L4922,6,FALSE)*$E30,$F30="",0,$E30="",VLOOKUP($F30,objets!$A$2:$L4922,6,FALSE)) -> 0 | N30: =_xlfn.IFS($E30>0,VLOOKUP($F30,objets!$A$2:$L4922,6,FALSE)*$E30,$F30="",0,$E30="",VLOOKUP($F30,objets!$A$2:$L4922,6,FALSE)) -> 0 | X30: =SUMPRODUCT(H30:N30,P30:V30)/SUM(H30:N30) -> #DIV/0!
G31: =SUM(H31:N31) -> 0 | H31: =_xlfn.IFS($E31>0,VLOOKUP($F31,objets!$A$2:$L4931,6,FALSE)*$E31,$F31="",0,$E31="",VLOOKUP($F31,objets!$A$2:$L4931,6,FALSE)) -> 0 | I31: =_xlfn.IFS($E31>0,VLOOKUP($F31,objets!$A$2:$L4931,6,FALSE)*$E31,$F31="",0,$E31="",VLOOKUP($F31,objets!$A$2:$L4931,6,FALSE)) -> 0 | J31: =_xlfn.IFS($E31>0,VLOOKUP($F31,objets!$A$2:$L4931,6,FALSE)*$E31,$F31="",0,$E31="",VLOOKUP($F31,objets!$A$2:$L4931,6,FALSE)) -> 0 | K31: =_xlfn.IFS($E31>0,VLOOKUP($F31,objets!$A$2:$L4931,6,FALSE)*$E31,$F31="",0,$E31="",VLOOKUP($F31,objets!$A$2:$L4931,6,FALSE)) -> 0 | L31: =_xlfn.IFS($E31>0,VLOOKUP($F31,objets!$A$2:$L4931,6,FALSE)*$E31,$F31="",0,$E31="",VLOOKUP($F31,objets!$A$2:$L4931,6,FALSE)) -> 0 | M31: =_xlfn.IFS($E31>0,VLOOKUP($F31,objets!$A$2:$L4931,6,FALSE)*$E31,$F31="",0,$E31="",VLOOKUP($F31,objets!$A$2:$L4931,6,FALSE)) -> 0 | N31: =_xlfn.IFS($E31>0,VLOOKUP($F31,objets!$A$2:$L4931,6,FALSE)*$E31,$F31="",0,$E31="",VLOOKUP($F31,objets!$A$2:$L4931,6,FALSE)) -> 0 | X31: =SUMPRODUCT(H31:N31,P31:V31)/SUM(H31:N31) -> #DIV/0!
G32: =SUM(H32:N32) -> 0 | H32: =_xlfn.IFS($E32>0,VLOOKUP($F32,objets!$A$2:$L4932,6,FALSE)*$E32,$F32="",0,$E32="",VLOOKUP($F32,objets!$A$2:$L4932,6,FALSE)) -> 0 | I32: =_xlfn.IFS($E32>0,VLOOKUP($F32,objets!$A$2:$L4932,6,FALSE)*$E32,$F32="",0,$E32="",VLOOKUP($F32,objets!$A$2:$L4932,6,FALSE)) -> 0 | J32: =_xlfn.IFS($E32>0,VLOOKUP($F32,objets!$A$2:$L4932,6,FALSE)*$E32,$F32="",0,$E32="",VLOOKUP($F32,objets!$A$2:$L4932,6,FALSE)) -> 0 | K32: =_xlfn.IFS($E32>0,VLOOKUP($F32,objets!$A$2:$L4932,6,FALSE)*$E32,$F32="",0,$E32="",VLOOKUP($F32,objets!$A$2:$L4932,6,FALSE)) -> 0 | L32: =_xlfn.IFS($E32>0,VLOOKUP($F32,objets!$A$2:$L4932,6,FALSE)*$E32,$F32="",0,$E32="",VLOOKUP($F32,objets!$A$2:$L4932,6,FALSE)) -> 0 | M32: =_xlfn.IFS($E32>0,VLOOKUP($F32,objets!$A$2:$L4932,6,FALSE)*$E32,$F32="",0,$E32="",VLOOKUP($F32,objets!$A$2:$L4932,6,FALSE)) -> 0 | N32: =_xlfn.IFS($E32>0,VLOOKUP($F32,objets!$A$2:$L4932,6,FALSE)*$E32,$F32="",0,$E32="",VLOOKUP($F32,objets!$A$2:$L4932,6,FALSE)) -> 0 | X32: =SUMPRODUCT(H32:N32,P32:V32)/SUM(H32:N32) -> #DIV/0!
G33: =SUM(H33:N33) -> 0 | H33: =_xlfn.IFS($E33>0,VLOOKUP($F33,objets!$A$2:$L4933,6,FALSE)*$E33,$F33="",0,$E33="",VLOOKUP($F33,objets!$A$2:$L4933,6,FALSE)) -> 0 | I33: =_xlfn.IFS($E33>0,VLOOKUP($F33,objets!$A$2:$L4933,6,FALSE)*$E33,$F33="",0,$E33="",VLOOKUP($F33,objets!$A$2:$L4933,6,FALSE)) -> 0 | J33: =_xlfn.IFS($E33>0,VLOOKUP($F33,objets!$A$2:$L4933,6,FALSE)*$E33,$F33="",0,$E33="",VLOOKUP($F33,objets!$A$2:$L4933,6,FALSE)) -> 0 | K33: =_xlfn.IFS($E33>0,VLOOKUP($F33,objets!$A$2:$L4933,6,FALSE)*$E33,$F33="",0,$E33="",VLOOKUP($F33,objets!$A$2:$L4933,6,FALSE)) -> 0 | L33: =_xlfn.IFS($E33>0,VLOOKUP($F33,objets!$A$2:$L4933,6,FALSE)*$E33,$F33="",0,$E33="",VLOOKUP($F33,objets!$A$2:$L4933,6,FALSE)) -> 0 | M33: =_xlfn.IFS($E33>0,VLOOKUP($F33,objets!$A$2:$L4933,6,FALSE)*$E33,$F33="",0,$E33="",VLOOKUP($F33,objets!$A$2:$L4933,6,FALSE)) -> 0 | N33: =_xlfn.IFS($E33>0,VLOOKUP($F33,objets!$A$2:$L4933,6,FALSE)*$E33,$F33="",0,$E33="",VLOOKUP($F33,objets!$A$2:$L4933,6,FALSE)) -> 0 | X33: =SUMPRODUCT(H33:N33,P33:V33)/SUM(H33:N33) -> #DIV/0!
G34: =SUM(H34:N34) -> 0 | H34: =_xlfn.IFS($E34>0,VLOOKUP($F34,objets!$A$2:$L4932,6,FALSE)*$E34,$F34="",0,$E34="",VLOOKUP($F34,objets!$A$2:$L4932,6,FALSE)) -> 0 | I34: =_xlfn.IFS($E34>0,VLOOKUP($F34,objets!$A$2:$L4932,6,FALSE)*$E34,$F34="",0,$E34="",VLOOKUP($F34,objets!$A$2:$L4932,6,FALSE)) -> 0 | J34: =_xlfn.IFS($E34>0,VLOOKUP($F34,objets!$A$2:$L4932,6,FALSE)*$E34,$F34="",0,$E34="",VLOOKUP($F34,objets!$A$2:$L4932,6,FALSE)) -> 0 | K34: =_xlfn.IFS($E34>0,VLOOKUP($F34,objets!$A$2:$L4932,6,FALSE)*$E34,$F34="",0,$E34="",VLOOKUP($F34,objets!$A$2:$L4932,6,FALSE)) -> 0 | L34: =_xlfn.IFS($E34>0,VLOOKUP($F34,objets!$A$2:$L4932,6,FALSE)*$E34,$F34="",0,$E34="",VLOOKUP($F34,objets!$A$2:$L4932,6,FALSE)) -> 0 | M34: =_xlfn.IFS($E34>0,VLOOKUP($F34,objets!$A$2:$L4932,6,FALSE)*$E34,$F34="",0,$E34="",VLOOKUP($F34,objets!$A$2:$L4932,6,FALSE)) -> 0 | N34: =_xlfn.IFS($E34>0,VLOOKUP($F34,objets!$A$2:$L4932,6,FALSE)*$E34,$F34="",0,$E34="",VLOOKUP($F34,objets!$A$2:$L4932,6,FALSE)) -> 0 | X34: =SUMPRODUCT(H34:N34,P34:V34)/SUM(H34:N34) -> #DIV/0!
G35: =SUM(H35:N35) -> 0 | H35: =_xlfn.IFS($E35>0,VLOOKUP($F35,objets!$A$2:$L4933,6,FALSE)*$E35,$F35="",0,$E35="",VLOOKUP($F35,objets!$A$2:$L4933,6,FALSE)) -> 0 | I35: =_xlfn.IFS($E35>0,VLOOKUP($F35,objets!$A$2:$L4933,6,FALSE)*$E35,$F35="",0,$E35="",VLOOKUP($F35,objets!$A$2:$L4933,6,FALSE)) -> 0 | J35: =_xlfn.IFS($E35>0,VLOOKUP($F35,objets!$A$2:$L4933,6,FALSE)*$E35,$F35="",0,$E35="",VLOOKUP($F35,objets!$A$2:$L4933,6,FALSE)) -> 0 | K35: =_xlfn.IFS($E35>0,VLOOKUP($F35,objets!$A$2:$L4933,6,FALSE)*$E35,$F35="",0,$E35="",VLOOKUP($F35,objets!$A$2:$L4933,6,FALSE)) -> 0 | L35: =_xlfn.IFS($E35>0,VLOOKUP($F35,objets!$A$2:$L4933,6,FALSE)*$E35,$F35="",0,$E35="",VLOOKUP($F35,objets!$A$2:$L4933,6,FALSE)) -> 0 | M35: =_xlfn.IFS($E35>0,VLOOKUP($F35,objets!$A$2:$L4933,6,FALSE)*$E35,$F35="",0,$E35="",VLOOKUP($F35,objets!$A$2:$L4933,6,FALSE)) -> 0 | N35: =_xlfn.IFS($E35>0,VLOOKUP($F35,objets!$A$2:$L4933,6,FALSE)*$E35,$F35="",0,$E35="",VLOOKUP($F35,objets!$A$2:$L4933,6,FALSE)) -> 0 | X35: =SUMPRODUCT(H35:N35,P35:V35)/SUM(H35:N35) -> #DIV/0!
G36: =SUM(H36:N36) -> 0 | H36: =_xlfn.IFS($E36>0,VLOOKUP($F36,objets!$A$2:$L4936,6,FALSE)*$E36,$F36="",0,$E36="",VLOOKUP($F36,objets!$A$2:$L4936,6,FALSE)) -> 0 | I36: =_xlfn.IFS($E36>0,VLOOKUP($F36,objets!$A$2:$L4936,6,FALSE)*$E36,$F36="",0,$E36="",VLOOKUP($F36,objets!$A$2:$L4936,6,FALSE)) -> 0 | J36: =_xlfn.IFS($E36>0,VLOOKUP($F36,objets!$A$2:$L4936,6,FALSE)*$E36,$F36="",0,$E36="",VLOOKUP($F36,objets!$A$2:$L4936,6,FALSE)) -> 0 | K36: =_xlfn.IFS($E36>0,VLOOKUP($F36,objets!$A$2:$L4936,6,FALSE)*$E36,$F36="",0,$E36="",VLOOKUP($F36,objets!$A$2:$L4936,6,FALSE)) -> 0 | L36: =_xlfn.IFS($E36>0,VLOOKUP($F36,objets!$A$2:$L4936,6,FALSE)*$E36,$F36="",0,$E36="",VLOOKUP($F36,objets!$A$2:$L4936,6,FALSE)) -> 0 | M36: =_xlfn.IFS($E36>0,VLOOKUP($F36,objets!$A$2:$L4936,6,FALSE)*$E36,$F36="",0,$E36="",VLOOKUP($F36,objets!$A$2:$L4936,6,FALSE)) -> 0 | N36: =_xlfn.IFS($E36>0,VLOOKUP($F36,objets!$A$2:$L4936,6,FALSE)*$E36,$F36="",0,$E36="",VLOOKUP($F36,objets!$A$2:$L4936,6,FALSE)) -> 0 | X36: =SUMPRODUCT(H36:N36,P36:V36)/SUM(H36:N36) -> #DIV/0!
G37: =SUM(H37:N37) -> 0 | H37: =_xlfn.IFS($E37>0,VLOOKUP($F37,objets!$A$2:$L4937,6,FALSE)*$E37,$F37="",0,$E37="",VLOOKUP($F37,objets!$A$2:$L4937,6,FALSE)) -> 0 | I37: =_xlfn.IFS($E37>0,VLOOKUP($F37,objets!$A$2:$L4937,6,FALSE)*$E37,$F37="",0,$E37="",VLOOKUP($F37,objets!$A$2:$L4937,6,FALSE)) -> 0 | J37: =_xlfn.IFS($E37>0,VLOOKUP($F37,objets!$A$2:$L4937,6,FALSE)*$E37,$F37="",0,$E37="",VLOOKUP($F37,objets!$A$2:$L4937,6,FALSE)) -> 0 | K37: =_xlfn.IFS($E37>0,VLOOKUP($F37,objets!$A$2:$L4937,6,FALSE)*$E37,$F37="",0,$E37="",VLOOKUP($F37,objets!$A$2:$L4937,6,FALSE)) -> 0 | L37: =_xlfn.IFS($E37>0,VLOOKUP($F37,objets!$A$2:$L4937,6,FALSE)*$E37,$F37="",0,$E37="",VLOOKUP($F37,objets!$A$2:$L4937,6,FALSE)) -> 0 | M37: =_xlfn.IFS($E37>0,VLOOKUP($F37,objets!$A$2:$L4937,6,FALSE)*$E37,$F37="",0,$E37="",VLOOKUP($F37,objets!$A$2:$L4937,6,FALSE)) -> 0 | N37: =_xlfn.IFS($E37>0,VLOOKUP($F37,objets!$A$2:$L4937,6,FALSE)*$E37,$F37="",0,$E37="",VLOOKUP($F37,objets!$A$2:$L4937,6,FALSE)) -> 0 | X37: =SUMPRODUCT(H37:N37,P37:V37)/SUM(H37:N37) -> #DIV/0!
G38: =SUM(H38:N38) -> 0 | H38: =_xlfn.IFS($E38>0,VLOOKUP($F38,objets!$A$2:$L4938,6,FALSE)*$E38,$F38="",0,$E38="",VLOOKUP($F38,objets!$A$2:$L4938,6,FALSE)) -> 0 | I38: =_xlfn.IFS($E38>0,VLOOKUP($F38,objets!$A$2:$L4938,6,FALSE)*$E38,$F38="",0,$E38="",VLOOKUP($F38,objets!$A$2:$L4938,6,FALSE)) -> 0 | J38: =_xlfn.IFS($E38>0,VLOOKUP($F38,objets!$A$2:$L4938,6,FALSE)*$E38,$F38="",0,$E38="",VLOOKUP($F38,objets!$A$2:$L4938,6,FALSE)) -> 0 | K38: =_xlfn.IFS($E38>0,VLOOKUP($F38,objets!$A$2:$L4938,6,FALSE)*$E38,$F38="",0,$E38="",VLOOKUP($F38,objets!$A$2:$L4938,6,FALSE)) -> 0 | L38: =_xlfn.IFS($E38>0,VLOOKUP($F38,objets!$A$2:$L4938,6,FALSE)*$E38,$F38="",0,$E38="",VLOOKUP($F38,objets!$A$2:$L4938,6,FALSE)) -> 0 | M38: =_xlfn.IFS($E38>0,VLOOKUP($F38,objets!$A$2:$L4938,6,FALSE)*$E38,$F38="",0,$E38="",VLOOKUP($F38,objets!$A$2:$L4938,6,FALSE)) -> 0 | N38: =_xlfn.IFS($E38>0,VLOOKUP($F38,objets!$A$2:$L4938,6,FALSE)*$E38,$F38="",0,$E38="",VLOOKUP($F38,objets!$A$2:$L4938,6,FALSE)) -> 0 | X38: =SUMPRODUCT(H38:N38,P38:V38)/SUM(H38:N38) -> #DIV/0!
G39: =SUM(H39:N39) -> 0 | H39: =_xlfn.IFS($E39>0,VLOOKUP($F39,objets!$A$2:$L4939,6,FALSE)*$E39,$F39="",0,$E39="",VLOOKUP($F39,objets!$A$2:$L4939,6,FALSE)) -> 0 | I39: =_xlfn.IFS($E39>0,VLOOKUP($F39,objets!$A$2:$L4939,6,FALSE)*$E39,$F39="",0,$E39="",VLOOKUP($F39,objets!$A$2:$L4939,6,FALSE)) -> 0 | J39: =_xlfn.IFS($E39>0,VLOOKUP($F39,objets!$A$2:$L4939,6,FALSE)*$E39,$F39="",0,$E39="",VLOOKUP($F39,objets!$A$2:$L4939,6,FALSE)) -> 0 | K39: =_xlfn.IFS($E39>0,VLOOKUP($F39,objets!$A$2:$L4939,6,FALSE)*$E39,$F39="",0,$E39="",VLOOKUP($F39,objets!$A$2:$L4939,6,FALSE)) -> 0 | L39: =_xlfn.IFS($E39>0,VLOOKUP($F39,objets!$A$2:$L4939,6,FALSE)*$E39,$F39="",0,$E39="",VLOOKUP($F39,objets!$A$2:$L4939,6,FALSE)) -> 0 | M39: =_xlfn.IFS($E39>0,VLOOKUP($F39,objets!$A$2:$L4939,6,FALSE)*$E39,$F39="",0,$E39="",VLOOKUP($F39,objets!$A$2:$L4939,6,FALSE)) -> 0 | N39: =_xlfn.IFS($E39>0,VLOOKUP($F39,objets!$A$2:$L4939,6,FALSE)*$E39,$F39="",0,$E39="",VLOOKUP($F39,objets!$A$2:$L4939,6,FALSE)) -> 0 | X39: =SUMPRODUCT(H39:N39,P39:V39)/SUM(H39:N39) -> #DIV/0!
G40: =SUM(H40:N40) -> 0 | H40: =_xlfn.IFS($E40>0,VLOOKUP($F40,objets!$A$2:$L4938,6,FALSE)*$E40,$F40="",0,$E40="",VLOOKUP($F40,objets!$A$2:$L4938,6,FALSE)) -> 0 | I40: =_xlfn.IFS($E40>0,VLOOKUP($F40,objets!$A$2:$L4938,6,FALSE)*$E40,$F40="",0,$E40="",VLOOKUP($F40,objets!$A$2:$L4938,6,FALSE)) -> 0 | J40: =_xlfn.IFS($E40>0,VLOOKUP($F40,objets!$A$2:$L4938,6,FALSE)*$E40,$F40="",0,$E40="",VLOOKUP($F40,objets!$A$2:$L4938,6,FALSE)) -> 0 | K40: =_xlfn.IFS($E40>0,VLOOKUP($F40,objets!$A$2:$L4938,6,FALSE)*$E40,$F40="",0,$E40="",VLOOKUP($F40,objets!$A$2:$L4938,6,FALSE)) -> 0 | L40: =_xlfn.IFS($E40>0,VLOOKUP($F40,objets!$A$2:$L4938,6,FALSE)*$E40,$F40="",0,$E40="",VLOOKUP($F40,objets!$A$2:$L4938,6,FALSE)) -> 0 | M40: =_xlfn.IFS($E40>0,VLOOKUP($F40,objets!$A$2:$L4938,6,FALSE)*$E40,$F40="",0,$E40="",VLOOKUP($F40,objets!$A$2:$L4938,6,FALSE)) -> 0 | N40: =_xlfn.IFS($E40>0,VLOOKUP($F40,objets!$A$2:$L4938,6,FALSE)*$E40,$F40="",0,$E40="",VLOOKUP($F40,objets!$A$2:$L4938,6,FALSE)) -> 0 | X40: =SUMPRODUCT(H40:N40,P40:V40)/SUM(H40:N40) -> #DIV/0!
G41: =SUM(H41:N41) -> 0 | H41: =_xlfn.IFS($E41>0,VLOOKUP($F41,objets!$A$2:$L4939,6,FALSE)*$E41,$F41="",0,$E41="",VLOOKUP($F41,objets!$A$2:$L4939,6,FALSE)) -> 0 | I41: =_xlfn.IFS($E41>0,VLOOKUP($F41,objets!$A$2:$L4939,6,FALSE)*$E41,$F41="",0,$E41="",VLOOKUP($F41,objets!$A$2:$L4939,6,FALSE)) -> 0 | J41: =_xlfn.IFS($E41>0,VLOOKUP($F41,objets!$A$2:$L4939,6,FALSE)*$E41,$F41="",0,$E41="",VLOOKUP($F41,objets!$A$2:$L4939,6,FALSE)) -> 0 | K41: =_xlfn.IFS($E41>0,VLOOKUP($F41,objets!$A$2:$L4939,6,FALSE)*$E41,$F41="",0,$E41="",VLOOKUP($F41,objets!$A$2:$L4939,6,FALSE)) -> 0 | L41: =_xlfn.IFS($E41>0,VLOOKUP($F41,objets!$A$2:$L4939,6,FALSE)*$E41,$F41="",0,$E41="",VLOOKUP($F41,objets!$A$2:$L4939,6,FALSE)) -> 0 | M41: =_xlfn.IFS($E41>0,VLOOKUP($F41,objets!$A$2:$L4939,6,FALSE)*$E41,$F41="",0,$E41="",VLOOKUP($F41,objets!$A$2:$L4939,6,FALSE)) -> 0 | N41: =_xlfn.IFS($E41>0,VLOOKUP($F41,objets!$A$2:$L4939,6,FALSE)*$E41,$F41="",0,$E41="",VLOOKUP($F41,objets!$A$2:$L4939,6,FALSE)) -> 0 | X41: =SUMPRODUCT(H41:N41,P41:V41)/SUM(H41:N41) -> #DIV/0!
G42: =SUM(H42:N42) -> 0 | H42: =_xlfn.IFS($E42>0,VLOOKUP($F42,objets!$A$2:$L4942,6,FALSE)*$E42,$F42="",0,$E42="",VLOOKUP($F42,objets!$A$2:$L4942,6,FALSE)) -> 0 | I42: =_xlfn.IFS($E42>0,VLOOKUP($F42,objets!$A$2:$L4942,6,FALSE)*$E42,$F42="",0,$E42="",VLOOKUP($F42,objets!$A$2:$L4942,6,FALSE)) -> 0 | J42: =_xlfn.IFS($E42>0,VLOOKUP($F42,objets!$A$2:$L4942,6,FALSE)*$E42,$F42="",0,$E42="",VLOOKUP($F42,objets!$A$2:$L4942,6,FALSE)) -> 0 | K42: =_xlfn.IFS($E42>0,VLOOKUP($F42,objets!$A$2:$L4942,6,FALSE)*$E42,$F42="",0,$E42="",VLOOKUP($F42,objets!$A$2:$L4942,6,FALSE)) -> 0 | L42: =_xlfn.IFS($E42>0,VLOOKUP($F42,objets!$A$2:$L4942,6,FALSE)*$E42,$F42="",0,$E42="",VLOOKUP($F42,objets!$A$2:$L4942,6,FALSE)) -> 0 | M42: =_xlfn.IFS($E42>0,VLOOKUP($F42,objets!$A$2:$L4942,6,FALSE)*$E42,$F42="",0,$E42="",VLOOKUP($F42,objets!$A$2:$L4942,6,FALSE)) -> 0 | N42: =_xlfn.IFS($E42>0,VLOOKUP($F42,objets!$A$2:$L4942,6,FALSE)*$E42,$F42="",0,$E42="",VLOOKUP($F42,objets!$A$2:$L4942,6,FALSE)) -> 0 | X42: =SUMPRODUCT(H42:N42,P42:V42)/SUM(H42:N42) -> #DIV/0!
G43: =SUM(H43:N43) -> 0 | H43: =_xlfn.IFS($E43>0,VLOOKUP($F43,objets!$A$2:$L4943,6,FALSE)*$E43,$F43="",0,$E43="",VLOOKUP($F43,objets!$A$2:$L4943,6,FALSE)) -> 0 | I43: =_xlfn.IFS($E43>0,VLOOKUP($F43,objets!$A$2:$L4943,6,FALSE)*$E43,$F43="",0,$E43="",VLOOKUP($F43,objets!$A$2:$L4943,6,FALSE)) -> 0 | J43: =_xlfn.IFS($E43>0,VLOOKUP($F43,objets!$A$2:$L4943,6,FALSE)*$E43,$F43="",0,$E43="",VLOOKUP($F43,objets!$A$2:$L4943,6,FALSE)) -> 0 | K43: =_xlfn.IFS($E43>0,VLOOKUP($F43,objets!$A$2:$L4943,6,FALSE)*$E43,$F43="",0,$E43="",VLOOKUP($F43,objets!$A$2:$L4943,6,FALSE)) -> 0 | L43: =_xlfn.IFS($E43>0,VLOOKUP($F43,objets!$A$2:$L4943,6,FALSE)*$E43,$F43="",0,$E43="",VLOOKUP($F43,objets!$A$2:$L4943,6,FALSE)) -> 0 | M43: =_xlfn.IFS($E43>0,VLOOKUP($F43,objets!$A$2:$L4943,6,FALSE)*$E43,$F43="",0,$E43="",VLOOKUP($F43,objets!$A$2:$L4943,6,FALSE)) -> 0 | N43: =_xlfn.IFS($E43>0,VLOOKUP($F43,objets!$A$2:$L4943,6,FALSE)*$E43,$F43="",0,$E43="",VLOOKUP($F43,objets!$A$2:$L4943,6,FALSE)) -> 0 | X43: =SUMPRODUCT(H43:N43,P43:V43)/SUM(H43:N43) -> #DIV/0!
G44: =SUM(H44:N44) -> 0 | H44: =_xlfn.IFS($E44>0,VLOOKUP($F44,objets!$A$2:$L4944,6,FALSE)*$E44,$F44="",0,$E44="",VLOOKUP($F44,objets!$A$2:$L4944,6,FALSE)) -> 0 | I44: =_xlfn.IFS($E44>0,VLOOKUP($F44,objets!$A$2:$L4944,6,FALSE)*$E44,$F44="",0,$E44="",VLOOKUP($F44,objets!$A$2:$L4944,6,FALSE)) -> 0 | J44: =_xlfn.IFS($E44>0,VLOOKUP($F44,objets!$A$2:$L4944,6,FALSE)*$E44,$F44="",0,$E44="",VLOOKUP($F44,objets!$A$2:$L4944,6,FALSE)) -> 0 | K44: =_xlfn.IFS($E44>0,VLOOKUP($F44,objets!$A$2:$L4944,6,FALSE)*$E44,$F44="",0,$E44="",VLOOKUP($F44,objets!$A$2:$L4944,6,FALSE)) -> 0 | L44: =_xlfn.IFS($E44>0,VLOOKUP($F44,objets!$A$2:$L4944,6,FALSE)*$E44,$F44="",0,$E44="",VLOOKUP($F44,objets!$A$2:$L4944,6,FALSE)) -> 0 | M44: =_xlfn.IFS($E44>0,VLOOKUP($F44,objets!$A$2:$L4944,6,FALSE)*$E44,$F44="",0,$E44="",VLOOKUP($F44,objets!$A$2:$L4944,6,FALSE)) -> 0 | N44: =_xlfn.IFS($E44>0,VLOOKUP($F44,objets!$A$2:$L4944,6,FALSE)*$E44,$F44="",0,$E44="",VLOOKUP($F44,objets!$A$2:$L4944,6,FALSE)) -> 0 | X44: =SUMPRODUCT(H44:N44,P44:V44)/SUM(H44:N44) -> #DIV/0!
G45: =SUM(H45:N45) -> 0 | H45: =_xlfn.IFS($E45>0,VLOOKUP($F45,objets!$A$2:$L4945,6,FALSE)*$E45,$F45="",0,$E45="",VLOOKUP($F45,objets!$A$2:$L4945,6,FALSE)) -> 0 | I45: =_xlfn.IFS($E45>0,VLOOKUP($F45,objets!$A$2:$L4945,6,FALSE)*$E45,$F45="",0,$E45="",VLOOKUP($F45,objets!$A$2:$L4945,6,FALSE)) -> 0 | J45: =_xlfn.IFS($E45>0,VLOOKUP($F45,objets!$A$2:$L4945,6,FALSE)*$E45,$F45="",0,$E45="",VLOOKUP($F45,objets!$A$2:$L4945,6,FALSE)) -> 0 | K45: =_xlfn.IFS($E45>0,VLOOKUP($F45,objets!$A$2:$L4945,6,FALSE)*$E45,$F45="",0,$E45="",VLOOKUP($F45,objets!$A$2:$L4945,6,FALSE)) -> 0 | L45: =_xlfn.IFS($E45>0,VLOOKUP($F45,objets!$A$2:$L4945,6,FALSE)*$E45,$F45="",0,$E45="",VLOOKUP($F45,objets!$A$2:$L4945,6,FALSE)) -> 0 | M45: =_xlfn.IFS($E45>0,VLOOKUP($F45,objets!$A$2:$L4945,6,FALSE)*$E45,$F45="",0,$E45="",VLOOKUP($F45,objets!$A$2:$L4945,6,FALSE)) -> 0 | N45: =_xlfn.IFS($E45>0,VLOOKUP($F45,objets!$A$2:$L4945,6,FALSE)*$E45,$F45="",0,$E45="",VLOOKUP($F45,objets!$A$2:$L4945,6,FALSE)) -> 0 | X45: =SUMPRODUCT(H45:N45,P45:V45)/SUM(H45:N45) -> #DIV/0!
G46: =SUM(H46:N46) -> 0 | H46: =_xlfn.IFS($E46>0,VLOOKUP($F46,objets!$A$2:$L4944,6,FALSE)*$E46,$F46="",0,$E46="",VLOOKUP($F46,objets!$A$2:$L4944,6,FALSE)) -> 0 | I46: =_xlfn.IFS($E46>0,VLOOKUP($F46,objets!$A$2:$L4944,6,FALSE)*$E46,$F46="",0,$E46="",VLOOKUP($F46,objets!$A$2:$L4944,6,FALSE)) -> 0 | J46: =_xlfn.IFS($E46>0,VLOOKUP($F46,objets!$A$2:$L4944,6,FALSE)*$E46,$F46="",0,$E46="",VLOOKUP($F46,objets!$A$2:$L4944,6,FALSE)) -> 0 | K46: =_xlfn.IFS($E46>0,VLOOKUP($F46,objets!$A$2:$L4944,6,FALSE)*$E46,$F46="",0,$E46="",VLOOKUP($F46,objets!$A$2:$L4944,6,FALSE)) -> 0 | L46: =_xlfn.IFS($E46>0,VLOOKUP($F46,objets!$A$2:$L4944,6,FALSE)*$E46,$F46="",0,$E46="",VLOOKUP($F46,objets!$A$2:$L4944,6,FALSE)) -> 0 | M46: =_xlfn.IFS($E46>0,VLOOKUP($F46,objets!$A$2:$L4944,6,FALSE)*$E46,$F46="",0,$E46="",VLOOKUP($F46,objets!$A$2:$L4944,6,FALSE)) -> 0 | N46: =_xlfn.IFS($E46>0,VLOOKUP($F46,objets!$A$2:$L4944,6,FALSE)*$E46,$F46="",0,$E46="",VLOOKUP($F46,objets!$A$2:$L4944,6,FALSE)) -> 0 | X46: =SUMPRODUCT(H46:N46,P46:V46)/SUM(H46:N46) -> #DIV/0!
G47: =SUM(H47:N47) -> 0 | H47: =_xlfn.IFS($E47>0,VLOOKUP($F47,objets!$A$2:$L4945,6,FALSE)*$E47,$F47="",0,$E47="",VLOOKUP($F47,objets!$A$2:$L4945,6,FALSE)) -> 0 | I47: =_xlfn.IFS($E47>0,VLOOKUP($F47,objets!$A$2:$L4945,6,FALSE)*$E47,$F47="",0,$E47="",VLOOKUP($F47,objets!$A$2:$L4945,6,FALSE)) -> 0 | J47: =_xlfn.IFS($E47>0,VLOOKUP($F47,objets!$A$2:$L4945,6,FALSE)*$E47,$F47="",0,$E47="",VLOOKUP($F47,objets!$A$2:$L4945,6,FALSE)) -> 0 | K47: =_xlfn.IFS($E47>0,VLOOKUP($F47,objets!$A$2:$L4945,6,FALSE)*$E47,$F47="",0,$E47="",VLOOKUP($F47,objets!$A$2:$L4945,6,FALSE)) -> 0 | L47: =_xlfn.IFS($E47>0,VLOOKUP($F47,objets!$A$2:$L4945,6,FALSE)*$E47,$F47="",0,$E47="",VLOOKUP($F47,objets!$A$2:$L4945,6,FALSE)) -> 0 | M47: =_xlfn.IFS($E47>0,VLOOKUP($F47,objets!$A$2:$L4945,6,FALSE)*$E47,$F47="",0,$E47="",VLOOKUP($F47,objets!$A$2:$L4945,6,FALSE)) -> 0 | N47: =_xlfn.IFS($E47>0,VLOOKUP($F47,objets!$A$2:$L4945,6,FALSE)*$E47,$F47="",0,$E47="",VLOOKUP($F47,objets!$A$2:$L4945,6,FALSE)) -> 0 | X47: =SUMPRODUCT(H47:N47,P47:V47)/SUM(H47:N47) -> #DIV/0!
G48: =SUM(H48:N48) -> 0 | H48: =_xlfn.IFS($E48>0,VLOOKUP($F48,objets!$A$2:$L4948,6,FALSE)*$E48,$F48="",0,$E48="",VLOOKUP($F48,objets!$A$2:$L4948,6,FALSE)) -> 0 | I48: =_xlfn.IFS($E48>0,VLOOKUP($F48,objets!$A$2:$L4948,6,FALSE)*$E48,$F48="",0,$E48="",VLOOKUP($F48,objets!$A$2:$L4948,6,FALSE)) -> 0 | J48: =_xlfn.IFS($E48>0,VLOOKUP($F48,objets!$A$2:$L4948,6,FALSE)*$E48,$F48="",0,$E48="",VLOOKUP($F48,objets!$A$2:$L4948,6,FALSE)) -> 0 | K48: =_xlfn.IFS($E48>0,VLOOKUP($F48,objets!$A$2:$L4948,6,FALSE)*$E48,$F48="",0,$E48="",VLOOKUP($F48,objets!$A$2:$L4948,6,FALSE)) -> 0 | L48: =_xlfn.IFS($E48>0,VLOOKUP($F48,objets!$A$2:$L4948,6,FALSE)*$E48,$F48="",0,$E48="",VLOOKUP($F48,objets!$A$2:$L4948,6,FALSE)) -> 0 | M48: =_xlfn.IFS($E48>0,VLOOKUP($F48,objets!$A$2:$L4948,6,FALSE)*$E48,$F48="",0,$E48="",VLOOKUP($F48,objets!$A$2:$L4948,6,FALSE)) -> 0 | N48: =_xlfn.IFS($E48>0,VLOOKUP($F48,objets!$A$2:$L4948,6,FALSE)*$E48,$F48="",0,$E48="",VLOOKUP($F48,objets!$A$2:$L4948,6,FALSE)) -> 0 | X48: =SUMPRODUCT(H48:N48,P48:V48)/SUM(H48:N48) -> #DIV/0!
G49: =SUM(H49:N49) -> 0 | H49: =_xlfn.IFS($E49>0,VLOOKUP($F49,objets!$A$2:$L4949,6,FALSE)*$E49,$F49="",0,$E49="",VLOOKUP($F49,objets!$A$2:$L4949,6,FALSE)) -> 0 | I49: =_xlfn.IFS($E49>0,VLOOKUP($F49,objets!$A$2:$L4949,6,FALSE)*$E49,$F49="",0,$E49="",VLOOKUP($F49,objets!$A$2:$L4949,6,FALSE)) -> 0 | J49: =_xlfn.IFS($E49>0,VLOOKUP($F49,objets!$A$2:$L4949,6,FALSE)*$E49,$F49="",0,$E49="",VLOOKUP($F49,objets!$A$2:$L4949,6,FALSE)) -> 0 | K49: =_xlfn.IFS($E49>0,VLOOKUP($F49,objets!$A$2:$L4949,6,FALSE)*$E49,$F49="",0,$E49="",VLOOKUP($F49,objets!$A$2:$L4949,6,FALSE)) -> 0 | L49: =_xlfn.IFS($E49>0,VLOOKUP($F49,objets!$A$2:$L4949,6,FALSE)*$E49,$F49="",0,$E49="",VLOOKUP($F49,objets!$A$2:$L4949,6,FALSE)) -> 0 | M49: =_xlfn.IFS($E49>0,VLOOKUP($F49,objets!$A$2:$L4949,6,FALSE)*$E49,$F49="",0,$E49="",VLOOKUP($F49,objets!$A$2:$L4949,6,FALSE)) -> 0 | N49: =_xlfn.IFS($E49>0,VLOOKUP($F49,objets!$A$2:$L4949,6,FALSE)*$E49,$F49="",0,$E49="",VLOOKUP($F49,objets!$A$2:$L4949,6,FALSE)) -> 0 | X49: =SUMPRODUCT(H49:N49,P49:V49)/SUM(H49:N49) -> #DIV/0!
G50: =SUM(H50:N50) -> 0 | H50: =_xlfn.IFS($E50>0,VLOOKUP($F50,objets!$A$2:$L4950,6,FALSE)*$E50,$F50="",0,$E50="",VLOOKUP($F50,objets!$A$2:$L4950,6,FALSE)) -> 0 | I50: =_xlfn.IFS($E50>0,VLOOKUP($F50,objets!$A$2:$L4950,6,FALSE)*$E50,$F50="",0,$E50="",VLOOKUP($F50,objets!$A$2:$L4950,6,FALSE)) -> 0 | J50: =_xlfn.IFS($E50>0,VLOOKUP($F50,objets!$A$2:$L4950,6,FALSE)*$E50,$F50="",0,$E50="",VLOOKUP($F50,objets!$A$2:$L4950,6,FALSE)) -> 0 | K50: =_xlfn.IFS($E50>0,VLOOKUP($F50,objets!$A$2:$L4950,6,FALSE)*$E50,$F50="",0,$E50="",VLOOKUP($F50,objets!$A$2:$L4950,6,FALSE)) -> 0 | L50: =_xlfn.IFS($E50>0,VLOOKUP($F50,objets!$A$2:$L4950,6,FALSE)*$E50,$F50="",0,$E50="",VLOOKUP($F50,objets!$A$2:$L4950,6,FALSE)) -> 0 | M50: =_xlfn.IFS($E50>0,VLOOKUP($F50,objets!$A$2:$L4950,6,FALSE)*$E50,$F50="",0,$E50="",VLOOKUP($F50,objets!$A$2:$L4950,6,FALSE)) -> 0 | N50: =_xlfn.IFS($E50>0,VLOOKUP($F50,objets!$A$2:$L4950,6,FALSE)*$E50,$F50="",0,$E50="",VLOOKUP($F50,objets!$A$2:$L4950,6,FALSE)) -> 0 | X50: =SUMPRODUCT(H50:N50,P50:V50)/SUM(H50:N50) -> #DIV/0!
G51: =SUM(H51:N51) -> 0 | H51: =_xlfn.IFS($E51>0,VLOOKUP($F51,objets!$A$2:$L4951,6,FALSE)*$E51,$F51="",0,$E51="",VLOOKUP($F51,objets!$A$2:$L4951,6,FALSE)) -> 0 | I51: =_xlfn.IFS($E51>0,VLOOKUP($F51,objets!$A$2:$L4951,6,FALSE)*$E51,$F51="",0,$E51="",VLOOKUP($F51,objets!$A$2:$L4951,6,FALSE)) -> 0 | J51: =_xlfn.IFS($E51>0,VLOOKUP($F51,objets!$A$2:$L4951,6,FALSE)*$E51,$F51="",0,$E51="",VLOOKUP($F51,objets!$A$2:$L4951,6,FALSE)) -> 0 | K51: =_xlfn.IFS($E51>0,VLOOKUP($F51,objets!$A$2:$L4951,6,FALSE)*$E51,$F51="",0,$E51="",VLOOKUP($F51,objets!$A$2:$L4951,6,FALSE)) -> 0 | L51: =_xlfn.IFS($E51>0,VLOOKUP($F51,objets!$A$2:$L4951,6,FALSE)*$E51,$F51="",0,$E51="",VLOOKUP($F51,objets!$A$2:$L4951,6,FALSE)) -> 0 | M51: =_xlfn.IFS($E51>0,VLOOKUP($F51,objets!$A$2:$L4951,6,FALSE)*$E51,$F51="",0,$E51="",VLOOKUP($F51,objets!$A$2:$L4951,6,FALSE)) -> 0 | N51: =_xlfn.IFS($E51>0,VLOOKUP($F51,objets!$A$2:$L4951,6,FALSE)*$E51,$F51="",0,$E51="",VLOOKUP($F51,objets!$A$2:$L4951,6,FALSE)) -> 0 | X51: =SUMPRODUCT(H51:N51,P51:V51)/SUM(H51:N51) -> #DIV/0!
G52: =SUM(H52:N52) -> 0 | H52: =_xlfn.IFS($E52>0,VLOOKUP($F52,objets!$A$2:$L4950,6,FALSE)*$E52,$F52="",0,$E52="",VLOOKUP($F52,objets!$A$2:$L4950,6,FALSE)) -> 0 | I52: =_xlfn.IFS($E52>0,VLOOKUP($F52,objets!$A$2:$L4950,6,FALSE)*$E52,$F52="",0,$E52="",VLOOKUP($F52,objets!$A$2:$L4950,6,FALSE)) -> 0 | J52: =_xlfn.IFS($E52>0,VLOOKUP($F52,objets!$A$2:$L4950,6,FALSE)*$E52,$F52="",0,$E52="",VLOOKUP($F52,objets!$A$2:$L4950,6,FALSE)) -> 0 | K52: =_xlfn.IFS($E52>0,VLOOKUP($F52,objets!$A$2:$L4950,6,FALSE)*$E52,$F52="",0,$E52="",VLOOKUP($F52,objets!$A$2:$L4950,6,FALSE)) -> 0 | L52: =_xlfn.IFS($E52>0,VLOOKUP($F52,objets!$A$2:$L4950,6,FALSE)*$E52,$F52="",0,$E52="",VLOOKUP($F52,objets!$A$2:$L4950,6,FALSE)) -> 0 | M52: =_xlfn.IFS($E52>0,VLOOKUP($F52,objets!$A$2:$L4950,6,FALSE)*$E52,$F52="",0,$E52="",VLOOKUP($F52,objets!$A$2:$L4950,6,FALSE)) -> 0 | N52: =_xlfn.IFS($E52>0,VLOOKUP($F52,objets!$A$2:$L4950,6,FALSE)*$E52,$F52="",0,$E52="",VLOOKUP($F52,objets!$A$2:$L4950,6,FALSE)) -> 0 | X52: =SUMPRODUCT(H52:N52,P52:V52)/SUM(H52:N52) -> #DIV/0!
G53: =SUM(H53:N53) -> 0 | H53: =_xlfn.IFS($E53>0,VLOOKUP($F53,objets!$A$2:$L4951,6,FALSE)*$E53,$F53="",0,$E53="",VLOOKUP($F53,objets!$A$2:$L4951,6,FALSE)) -> 0 | I53: =_xlfn.IFS($E53>0,VLOOKUP($F53,objets!$A$2:$L4951,6,FALSE)*$E53,$F53="",0,$E53="",VLOOKUP($F53,objets!$A$2:$L4951,6,FALSE)) -> 0 | J53: =_xlfn.IFS($E53>0,VLOOKUP($F53,objets!$A$2:$L4951,6,FALSE)*$E53,$F53="",0,$E53="",VLOOKUP($F53,objets!$A$2:$L4951,6,FALSE)) -> 0 | K53: =_xlfn.IFS($E53>0,VLOOKUP($F53,objets!$A$2:$L4951,6,FALSE)*$E53,$F53="",0,$E53="",VLOOKUP($F53,objets!$A$2:$L4951,6,FALSE)) -> 0 | L53: =_xlfn.IFS($E53>0,VLOOKUP($F53,objets!$A$2:$L4951,6,FALSE)*$E53,$F53="",0,$E53="",VLOOKUP($F53,objets!$A$2:$L4951,6,FALSE)) -> 0 | M53: =_xlfn.IFS($E53>0,VLOOKUP($F53,objets!$A$2:$L4951,6,FALSE)*$E53,$F53="",0,$E53="",VLOOKUP($F53,objets!$A$2:$L4951,6,FALSE)) -> 0 | N53: =_xlfn.IFS($E53>0,VLOOKUP($F53,objets!$A$2:$L4951,6,FALSE)*$E53,$F53="",0,$E53="",VLOOKUP($F53,objets!$A$2:$L4951,6,FALSE)) -> 0 | X53: =SUMPRODUCT(H53:N53,P53:V53)/SUM(H53:N53) -> #DIV/0!
G54: =SUM(H54:N54) -> 0 | H54: =_xlfn.IFS($E54>0,VLOOKUP($F54,objets!$A$2:$L4946,6,FALSE)*$E54,$F54="",0,$E54="",VLOOKUP($F54,objets!$A$2:$L4946,6,FALSE)) -> 0 | I54: =_xlfn.IFS($E54>0,VLOOKUP($F54,objets!$A$2:$L4946,6,FALSE)*$E54,$F54="",0,$E54="",VLOOKUP($F54,objets!$A$2:$L4946,6,FALSE)) -> 0 | J54: =_xlfn.IFS($E54>0,VLOOKUP($F54,objets!$A$2:$L4946,6,FALSE)*$E54,$F54="",0,$E54="",VLOOKUP($F54,objets!$A$2:$L4946,6,FALSE)) -> 0 | K54: =_xlfn.IFS($E54>0,VLOOKUP($F54,objets!$A$2:$L4946,6,FALSE)*$E54,$F54="",0,$E54="",VLOOKUP($F54,objets!$A$2:$L4946,6,FALSE)) -> 0 | L54: =_xlfn.IFS($E54>0,VLOOKUP($F54,objets!$A$2:$L4946,6,FALSE)*$E54,$F54="",0,$E54="",VLOOKUP($F54,objets!$A$2:$L4946,6,FALSE)) -> 0 | M54: =_xlfn.IFS($E54>0,VLOOKUP($F54,objets!$A$2:$L4946,6,FALSE)*$E54,$F54="",0,$E54="",VLOOKUP($F54,objets!$A$2:$L4946,6,FALSE)) -> 0 | N54: =_xlfn.IFS($E54>0,VLOOKUP($F54,objets!$A$2:$L4946,6,FALSE)*$E54,$F54="",0,$E54="",VLOOKUP($F54,objets!$A$2:$L4946,6,FALSE)) -> 0 | X54: =SUMPRODUCT(H54:N54,P54:V54)/SUM(H54:N54) -> #DIV/0!
G55: =SUM(H55:N55) -> 0 | H55: =_xlfn.IFS($E55>0,VLOOKUP($F55,objets!$A$2:$L4955,6,FALSE)*$E55,$F55="",0,$E55="",VLOOKUP($F55,objets!$A$2:$L4955,6,FALSE)) -> 0 | I55: =_xlfn.IFS($E55>0,VLOOKUP($F55,objets!$A$2:$L4955,6,FALSE)*$E55,$F55="",0,$E55="",VLOOKUP($F55,objets!$A$2:$L4955,6,FALSE)) -> 0 | J55: =_xlfn.IFS($E55>0,VLOOKUP($F55,objets!$A$2:$L4955,6,FALSE)*$E55,$F55="",0,$E55="",VLOOKUP($F55,objets!$A$2:$L4955,6,FALSE)) -> 0 | K55: =_xlfn.IFS($E55>0,VLOOKUP($F55,objets!$A$2:$L4955,6,FALSE)*$E55,$F55="",0,$E55="",VLOOKUP($F55,objets!$A$2:$L4955,6,FALSE)) -> 0 | L55: =_xlfn.IFS($E55>0,VLOOKUP($F55,objets!$A$2:$L4955,6,FALSE)*$E55,$F55="",0,$E55="",VLOOKUP($F55,objets!$A$2:$L4955,6,FALSE)) -> 0 | M55: =_xlfn.IFS($E55>0,VLOOKUP($F55,objets!$A$2:$L4955,6,FALSE)*$E55,$F55="",0,$E55="",VLOOKUP($F55,objets!$A$2:$L4955,6,FALSE)) -> 0 | N55: =_xlfn.IFS($E55>0,VLOOKUP($F55,objets!$A$2:$L4955,6,FALSE)*$E55,$F55="",0,$E55="",VLOOKUP($F55,objets!$A$2:$L4955,6,FALSE)) -> 0 | X55: =SUMPRODUCT(H55:N55,P55:V55)/SUM(H55:N55) -> #DIV/0!
G56: =SUM(H56:N56) -> 0 | H56: =_xlfn.IFS($E56>0,VLOOKUP($F56,objets!$A$2:$L4956,6,FALSE)*$E56,$F56="",0,$E56="",VLOOKUP($F56,objets!$A$2:$L4956,6,FALSE)) -> 0 | I56: =_xlfn.IFS($E56>0,VLOOKUP($F56,objets!$A$2:$L4956,6,FALSE)*$E56,$F56="",0,$E56="",VLOOKUP($F56,objets!$A$2:$L4956,6,FALSE)) -> 0 | J56: =_xlfn.IFS($E56>0,VLOOKUP($F56,objets!$A$2:$L4956,6,FALSE)*$E56,$F56="",0,$E56="",VLOOKUP($F56,objets!$A$2:$L4956,6,FALSE)) -> 0 | K56: =_xlfn.IFS($E56>0,VLOOKUP($F56,objets!$A$2:$L4956,6,FALSE)*$E56,$F56="",0,$E56="",VLOOKUP($F56,objets!$A$2:$L4956,6,FALSE)) -> 0 | L56: =_xlfn.IFS($E56>0,VLOOKUP($F56,objets!$A$2:$L4956,6,FALSE)*$E56,$F56="",0,$E56="",VLOOKUP($F56,objets!$A$2:$L4956,6,FALSE)) -> 0 | M56: =_xlfn.IFS($E56>0,VLOOKUP($F56,objets!$A$2:$L4956,6,FALSE)*$E56,$F56="",0,$E56="",VLOOKUP($F56,objets!$A$2:$L4956,6,FALSE)) -> 0 | N56: =_xlfn.IFS($E56>0,VLOOKUP($F56,objets!$A$2:$L4956,6,FALSE)*$E56,$F56="",0,$E56="",VLOOKUP($F56,objets!$A$2:$L4956,6,FALSE)) -> 0 | X56: =SUMPRODUCT(H56:N56,P56:V56)/SUM(H56:N56) -> #DIV/0!
G57: =SUM(H57:N57) -> 0 | H57: =_xlfn.IFS($E57>0,VLOOKUP($F57,objets!$A$2:$L4957,6,FALSE)*$E57,$F57="",0,$E57="",VLOOKUP($F57,objets!$A$2:$L4957,6,FALSE)) -> 0 | I57: =_xlfn.IFS($E57>0,VLOOKUP($F57,objets!$A$2:$L4957,6,FALSE)*$E57,$F57="",0,$E57="",VLOOKUP($F57,objets!$A$2:$L4957,6,FALSE)) -> 0 | J57: =_xlfn.IFS($E57>0,VLOOKUP($F57,objets!$A$2:$L4957,6,FALSE)*$E57,$F57="",0,$E57="",VLOOKUP($F57,objets!$A$2:$L4957,6,FALSE)) -> 0 | K57: =_xlfn.IFS($E57>0,VLOOKUP($F57,objets!$A$2:$L4957,6,FALSE)*$E57,$F57="",0,$E57="",VLOOKUP($F57,objets!$A$2:$L4957,6,FALSE)) -> 0 | L57: =_xlfn.IFS($E57>0,VLOOKUP($F57,objets!$A$2:$L4957,6,FALSE)*$E57,$F57="",0,$E57="",VLOOKUP($F57,objets!$A$2:$L4957,6,FALSE)) -> 0 | M57: =_xlfn.IFS($E57>0,VLOOKUP($F57,objets!$A$2:$L4957,6,FALSE)*$E57,$F57="",0,$E57="",VLOOKUP($F57,objets!$A$2:$L4957,6,FALSE)) -> 0 | N57: =_xlfn.IFS($E57>0,VLOOKUP($F57,objets!$A$2:$L4957,6,FALSE)*$E57,$F57="",0,$E57="",VLOOKUP($F57,objets!$A$2:$L4957,6,FALSE)) -> 0 | X57: =SUMPRODUCT(H57:N57,P57:V57)/SUM(H57:N57) -> #DIV/0!
G58: =SUM(H58:N58) -> 0 | H58: =_xlfn.IFS($E58>0,VLOOKUP($F58,objets!$A$2:$L4956,6,FALSE)*$E58,$F58="",0,$E58="",VLOOKUP($F58,objets!$A$2:$L4956,6,FALSE)) -> 0 | I58: =_xlfn.IFS($E58>0,VLOOKUP($F58,objets!$A$2:$L4956,6,FALSE)*$E58,$F58="",0,$E58="",VLOOKUP($F58,objets!$A$2:$L4956,6,FALSE)) -> 0 | J58: =_xlfn.IFS($E58>0,VLOOKUP($F58,objets!$A$2:$L4956,6,FALSE)*$E58,$F58="",0,$E58="",VLOOKUP($F58,objets!$A$2:$L4956,6,FALSE)) -> 0 | K58: =_xlfn.IFS($E58>0,VLOOKUP($F58,objets!$A$2:$L4956,6,FALSE)*$E58,$F58="",0,$E58="",VLOOKUP($F58,objets!$A$2:$L4956,6,FALSE)) -> 0 | L58: =_xlfn.IFS($E58>0,VLOOKUP($F58,objets!$A$2:$L4956,6,FALSE)*$E58,$F58="",0,$E58="",VLOOKUP($F58,objets!$A$2:$L4956,6,FALSE)) -> 0 | M58: =_xlfn.IFS($E58>0,VLOOKUP($F58,objets!$A$2:$L4956,6,FALSE)*$E58,$F58="",0,$E58="",VLOOKUP($F58,objets!$A$2:$L4956,6,FALSE)) -> 0 | N58: =_xlfn.IFS($E58>0,VLOOKUP($F58,objets!$A$2:$L4956,6,FALSE)*$E58,$F58="",0,$E58="",VLOOKUP($F58,objets!$A$2:$L4956,6,FALSE)) -> 0 | X58: =SUMPRODUCT(H58:N58,P58:V58)/SUM(H58:N58) -> #DIV/0!
G59: =SUM(H59:N59) -> 0 | H59: =_xlfn.IFS($E59>0,VLOOKUP($F59,objets!$A$2:$L4957,6,FALSE)*$E59,$F59="",0,$E59="",VLOOKUP($F59,objets!$A$2:$L4957,6,FALSE)) -> 0 | I59: =_xlfn.IFS($E59>0,VLOOKUP($F59,objets!$A$2:$L4957,6,FALSE)*$E59,$F59="",0,$E59="",VLOOKUP($F59,objets!$A$2:$L4957,6,FALSE)) -> 0 | J59: =_xlfn.IFS($E59>0,VLOOKUP($F59,objets!$A$2:$L4957,6,FALSE)*$E59,$F59="",0,$E59="",VLOOKUP($F59,objets!$A$2:$L4957,6,FALSE)) -> 0 | K59: =_xlfn.IFS($E59>0,VLOOKUP($F59,objets!$A$2:$L4957,6,FALSE)*$E59,$F59="",0,$E59="",VLOOKUP($F59,objets!$A$2:$L4957,6,FALSE)) -> 0 | L59: =_xlfn.IFS($E59>0,VLOOKUP($F59,objets!$A$2:$L4957,6,FALSE)*$E59,$F59="",0,$E59="",VLOOKUP($F59,objets!$A$2:$L4957,6,FALSE)) -> 0 | M59: =_xlfn.IFS($E59>0,VLOOKUP($F59,objets!$A$2:$L4957,6,FALSE)*$E59,$F59="",0,$E59="",VLOOKUP($F59,objets!$A$2:$L4957,6,FALSE)) -> 0 | N59: =_xlfn.IFS($E59>0,VLOOKUP($F59,objets!$A$2:$L4957,6,FALSE)*$E59,$F59="",0,$E59="",VLOOKUP($F59,objets!$A$2:$L4957,6,FALSE)) -> 0 | X59: =SUMPRODUCT(H59:N59,P59:V59)/SUM(H59:N59) -> #DIV/0!
G60: =SUM(H60:N60) -> 0 | H60: =_xlfn.IFS($E60>0,VLOOKUP($F60,objets!$A$2:$L4960,6,FALSE)*$E60,$F60="",0,$E60="",VLOOKUP($F60,objets!$A$2:$L4960,6,FALSE)) -> 0 | I60: =_xlfn.IFS($E60>0,VLOOKUP($F60,objets!$A$2:$L4960,6,FALSE)*$E60,$F60="",0,$E60="",VLOOKUP($F60,objets!$A$2:$L4960,6,FALSE)) -> 0 | J60: =_xlfn.IFS($E60>0,VLOOKUP($F60,objets!$A$2:$L4960,6,FALSE)*$E60,$F60="",0,$E60="",VLOOKUP($F60,objets!$A$2:$L4960,6,FALSE)) -> 0 | K60: =_xlfn.IFS($E60>0,VLOOKUP($F60,objets!$A$2:$L4960,6,FALSE)*$E60,$F60="",0,$E60="",VLOOKUP($F60,objets!$A$2:$L4960,6,FALSE)) -> 0 | L60: =_xlfn.IFS($E60>0,VLOOKUP($F60,objets!$A$2:$L4960,6,FALSE)*$E60,$F60="",0,$E60="",VLOOKUP($F60,objets!$A$2:$L4960,6,FALSE)) -> 0 | M60: =_xlfn.IFS($E60>0,VLOOKUP($F60,objets!$A$2:$L4960,6,FALSE)*$E60,$F60="",0,$E60="",VLOOKUP($F60,objets!$A$2:$L4960,6,FALSE)) -> 0 | N60: =_xlfn.IFS($E60>0,VLOOKUP($F60,objets!$A$2:$L4960,6,FALSE)*$E60,$F60="",0,$E60="",VLOOKUP($F60,objets!$A$2:$L4960,6,FALSE)) -> 0 | X60: =SUMPRODUCT(H60:N60,P60:V60)/SUM(H60:N60) -> #DIV/0!
G61: =SUM(H61:N61) -> 0 | H61: =_xlfn.IFS($E61>0,VLOOKUP($F61,objets!$A$2:$L4961,6,FALSE)*$E61,$F61="",0,$E61="",VLOOKUP($F61,objets!$A$2:$L4961,6,FALSE)) -> 0 | I61: =_xlfn.IFS($E61>0,VLOOKUP($F61,objets!$A$2:$L4961,6,FALSE)*$E61,$F61="",0,$E61="",VLOOKUP($F61,objets!$A$2:$L4961,6,FALSE)) -> 0 | J61: =_xlfn.IFS($E61>0,VLOOKUP($F61,objets!$A$2:$L4961,6,FALSE)*$E61,$F61="",0,$E61="",VLOOKUP($F61,objets!$A$2:$L4961,6,FALSE)) -> 0 | K61: =_xlfn.IFS($E61>0,VLOOKUP($F61,objets!$A$2:$L4961,6,FALSE)*$E61,$F61="",0,$E61="",VLOOKUP($F61,objets!$A$2:$L4961,6,FALSE)) -> 0 | L61: =_xlfn.IFS($E61>0,VLOOKUP($F61,objets!$A$2:$L4961,6,FALSE)*$E61,$F61="",0,$E61="",VLOOKUP($F61,objets!$A$2:$L4961,6,FALSE)) -> 0 | M61: =_xlfn.IFS($E61>0,VLOOKUP($F61,objets!$A$2:$L4961,6,FALSE)*$E61,$F61="",0,$E61="",VLOOKUP($F61,objets!$A$2:$L4961,6,FALSE)) -> 0 | N61: =_xlfn.IFS($E61>0,VLOOKUP($F61,objets!$A$2:$L4961,6,FALSE)*$E61,$F61="",0,$E61="",VLOOKUP($F61,objets!$A$2:$L4961,6,FALSE)) -> 0 | X61: =SUMPRODUCT(H61:N61,P61:V61)/SUM(H61:N61) -> #DIV/0!
G62: =SUM(H62:N62) -> 0 | H62: =_xlfn.IFS($E62>0,VLOOKUP($F62,objets!$A$2:$L4962,6,FALSE)*$E62,$F62="",0,$E62="",VLOOKUP($F62,objets!$A$2:$L4962,6,FALSE)) -> 0 | I62: =_xlfn.IFS($E62>0,VLOOKUP($F62,objets!$A$2:$L4962,6,FALSE)*$E62,$F62="",0,$E62="",VLOOKUP($F62,objets!$A$2:$L4962,6,FALSE)) -> 0 | J62: =_xlfn.IFS($E62>0,VLOOKUP($F62,objets!$A$2:$L4962,6,FALSE)*$E62,$F62="",0,$E62="",VLOOKUP($F62,objets!$A$2:$L4962,6,FALSE)) -> 0 | K62: =_xlfn.IFS($E62>0,VLOOKUP($F62,objets!$A$2:$L4962,6,FALSE)*$E62,$F62="",0,$E62="",VLOOKUP($F62,objets!$A$2:$L4962,6,FALSE)) -> 0 | L62: =_xlfn.IFS($E62>0,VLOOKUP($F62,objets!$A$2:$L4962,6,FALSE)*$E62,$F62="",0,$E62="",VLOOKUP($F62,objets!$A$2:$L4962,6,FALSE)) -> 0 | M62: =_xlfn.IFS($E62>0,VLOOKUP($F62,objets!$A$2:$L4962,6,FALSE)*$E62,$F62="",0,$E62="",VLOOKUP($F62,objets!$A$2:$L4962,6,FALSE)) -> 0 | N62: =_xlfn.IFS($E62>0,VLOOKUP($F62,objets!$A$2:$L4962,6,FALSE)*$E62,$F62="",0,$E62="",VLOOKUP($F62,objets!$A$2:$L4962,6,FALSE)) -> 0 | X62: =SUMPRODUCT(H62:N62,P62:V62)/SUM(H62:N62) -> #DIV/0!
G63: =SUM(H63:N63) -> 0 | H63: =_xlfn.IFS($E63>0,VLOOKUP($F63,objets!$A$2:$L4963,6,FALSE)*$E63,$F63="",0,$E63="",VLOOKUP($F63,objets!$A$2:$L4963,6,FALSE)) -> 0 | I63: =_xlfn.IFS($E63>0,VLOOKUP($F63,objets!$A$2:$L4963,6,FALSE)*$E63,$F63="",0,$E63="",VLOOKUP($F63,objets!$A$2:$L4963,6,FALSE)) -> 0 | J63: =_xlfn.IFS($E63>0,VLOOKUP($F63,objets!$A$2:$L4963,6,FALSE)*$E63,$F63="",0,$E63="",VLOOKUP($F63,objets!$A$2:$L4963,6,FALSE)) -> 0 | K63: =_xlfn.IFS($E63>0,VLOOKUP($F63,objets!$A$2:$L4963,6,FALSE)*$E63,$F63="",0,$E63="",VLOOKUP($F63,objets!$A$2:$L4963,6,FALSE)) -> 0 | L63: =_xlfn.IFS($E63>0,VLOOKUP($F63,objets!$A$2:$L4963,6,FALSE)*$E63,$F63="",0,$E63="",VLOOKUP($F63,objets!$A$2:$L4963,6,FALSE)) -> 0 | M63: =_xlfn.IFS($E63>0,VLOOKUP($F63,objets!$A$2:$L4963,6,FALSE)*$E63,$F63="",0,$E63="",VLOOKUP($F63,objets!$A$2:$L4963,6,FALSE)) -> 0 | N63: =_xlfn.IFS($E63>0,VLOOKUP($F63,objets!$A$2:$L4963,6,FALSE)*$E63,$F63="",0,$E63="",VLOOKUP($F63,objets!$A$2:$L4963,6,FALSE)) -> 0 | X63: =SUMPRODUCT(H63:N63,P63:V63)/SUM(H63:N63) -> #DIV/0!
G64: =SUM(H64:N64) -> 0 | H64: =_xlfn.IFS($E64>0,VLOOKUP($F64,objets!$A$2:$L4962,6,FALSE)*$E64,$F64="",0,$E64="",VLOOKUP($F64,objets!$A$2:$L4962,6,FALSE)) -> 0 | I64: =_xlfn.IFS($E64>0,VLOOKUP($F64,objets!$A$2:$L4962,6,FALSE)*$E64,$F64="",0,$E64="",VLOOKUP($F64,objets!$A$2:$L4962,6,FALSE)) -> 0 | J64: =_xlfn.IFS($E64>0,VLOOKUP($F64,objets!$A$2:$L4962,6,FALSE)*$E64,$F64="",0,$E64="",VLOOKUP($F64,objets!$A$2:$L4962,6,FALSE)) -> 0 | K64: =_xlfn.IFS($E64>0,VLOOKUP($F64,objets!$A$2:$L4962,6,FALSE)*$E64,$F64="",0,$E64="",VLOOKUP($F64,objets!$A$2:$L4962,6,FALSE)) -> 0 | L64: =_xlfn.IFS($E64>0,VLOOKUP($F64,objets!$A$2:$L4962,6,FALSE)*$E64,$F64="",0,$E64="",VLOOKUP($F64,objets!$A$2:$L4962,6,FALSE)) -> 0 | M64: =_xlfn.IFS($E64>0,VLOOKUP($F64,objets!$A$2:$L4962,6,FALSE)*$E64,$F64="",0,$E64="",VLOOKUP($F64,objets!$A$2:$L4962,6,FALSE)) -> 0 | N64: =_xlfn.IFS($E64>0,VLOOKUP($F64,objets!$A$2:$L4962,6,FALSE)*$E64,$F64="",0,$E64="",VLOOKUP($F64,objets!$A$2:$L4962,6,FALSE)) -> 0 | X64: =SUMPRODUCT(H64:N64,P64:V64)/SUM(H64:N64) -> #DIV/0!
G65: =SUM(H65:N65) -> 0 | H65: =_xlfn.IFS($E65>0,VLOOKUP($F65,objets!$A$2:$L4963,6,FALSE)*$E65,$F65="",0,$E65="",VLOOKUP($F65,objets!$A$2:$L4963,6,FALSE)) -> 0 | I65: =_xlfn.IFS($E65>0,VLOOKUP($F65,objets!$A$2:$L4963,6,FALSE)*$E65,$F65="",0,$E65="",VLOOKUP($F65,objets!$A$2:$L4963,6,FALSE)) -> 0 | J65: =_xlfn.IFS($E65>0,VLOOKUP($F65,objets!$A$2:$L4963,6,FALSE)*$E65,$F65="",0,$E65="",VLOOKUP($F65,objets!$A$2:$L4963,6,FALSE)) -> 0 | K65: =_xlfn.IFS($E65>0,VLOOKUP($F65,objets!$A$2:$L4963,6,FALSE)*$E65,$F65="",0,$E65="",VLOOKUP($F65,objets!$A$2:$L4963,6,FALSE)) -> 0 | L65: =_xlfn.IFS($E65>0,VLOOKUP($F65,objets!$A$2:$L4963,6,FALSE)*$E65,$F65="",0,$E65="",VLOOKUP($F65,objets!$A$2:$L4963,6,FALSE)) -> 0 | M65: =_xlfn.IFS($E65>0,VLOOKUP($F65,objets!$A$2:$L4963,6,FALSE)*$E65,$F65="",0,$E65="",VLOOKUP($F65,objets!$A$2:$L4963,6,FALSE)) -> 0 | N65: =_xlfn.IFS($E65>0,VLOOKUP($F65,objets!$A$2:$L4963,6,FALSE)*$E65,$F65="",0,$E65="",VLOOKUP($F65,objets!$A$2:$L4963,6,FALSE)) -> 0 | X65: =SUMPRODUCT(H65:N65,P65:V65)/SUM(H65:N65) -> #DIV/0!
G66: =SUM(H66:N66) -> 0 | H66: =_xlfn.IFS($E66>0,VLOOKUP($F66,objets!$A$2:$L4966,6,FALSE)*$E66,$F66="",0,$E66="",VLOOKUP($F66,objets!$A$2:$L4966,6,FALSE)) -> 0 | I66: =_xlfn.IFS($E66>0,VLOOKUP($F66,objets!$A$2:$L4966,6,FALSE)*$E66,$F66="",0,$E66="",VLOOKUP($F66,objets!$A$2:$L4966,6,FALSE)) -> 0 | J66: =_xlfn.IFS($E66>0,VLOOKUP($F66,objets!$A$2:$L4966,6,FALSE)*$E66,$F66="",0,$E66="",VLOOKUP($F66,objets!$A$2:$L4966,6,FALSE)) -> 0 | K66: =_xlfn.IFS($E66>0,VLOOKUP($F66,objets!$A$2:$L4966,6,FALSE)*$E66,$F66="",0,$E66="",VLOOKUP($F66,objets!$A$2:$L4966,6,FALSE)) -> 0 | L66: =_xlfn.IFS($E66>0,VLOOKUP($F66,objets!$A$2:$L4966,6,FALSE)*$E66,$F66="",0,$E66="",VLOOKUP($F66,objets!$A$2:$L4966,6,FALSE)) -> 0 | M66: =_xlfn.IFS($E66>0,VLOOKUP($F66,objets!$A$2:$L4966,6,FALSE)*$E66,$F66="",0,$E66="",VLOOKUP($F66,objets!$A$2:$L4966,6,FALSE)) -> 0 | N66: =_xlfn.IFS($E66>0,VLOOKUP($F66,objets!$A$2:$L4966,6,FALSE)*$E66,$F66="",0,$E66="",VLOOKUP($F66,objets!$A$2:$L4966,6,FALSE)) -> 0 | X66: =SUMPRODUCT(H66:N66,P66:V66)/SUM(H66:N66) -> #DIV/0!
G67: =SUM(H67:N67) -> 0 | H67: =_xlfn.IFS($E67>0,VLOOKUP($F67,objets!$A$2:$L4967,6,FALSE)*$E67,$F67="",0,$E67="",VLOOKUP($F67,objets!$A$2:$L4967,6,FALSE)) -> 0 | I67: =_xlfn.IFS($E67>0,VLOOKUP($F67,objets!$A$2:$L4967,6,FALSE)*$E67,$F67="",0,$E67="",VLOOKUP($F67,objets!$A$2:$L4967,6,FALSE)) -> 0 | J67: =_xlfn.IFS($E67>0,VLOOKUP($F67,objets!$A$2:$L4967,6,FALSE)*$E67,$F67="",0,$E67="",VLOOKUP($F67,objets!$A$2:$L4967,6,FALSE)) -> 0 | K67: =_xlfn.IFS($E67>0,VLOOKUP($F67,objets!$A$2:$L4967,6,FALSE)*$E67,$F67="",0,$E67="",VLOOKUP($F67,objets!$A$2:$L4967,6,FALSE)) -> 0 | L67: =_xlfn.IFS($E67>0,VLOOKUP($F67,objets!$A$2:$L4967,6,FALSE)*$E67,$F67="",0,$E67="",VLOOKUP($F67,objets!$A$2:$L4967,6,FALSE)) -> 0 | M67: =_xlfn.IFS($E67>0,VLOOKUP($F67,objets!$A$2:$L4967,6,FALSE)*$E67,$F67="",0,$E67="",VLOOKUP($F67,objets!$A$2:$L4967,6,FALSE)) -> 0 | N67: =_xlfn.IFS($E67>0,VLOOKUP($F67,objets!$A$2:$L4967,6,FALSE)*$E67,$F67="",0,$E67="",VLOOKUP($F67,objets!$A$2:$L4967,6,FALSE)) -> 0 | X67: =SUMPRODUCT(H67:N67,P67:V67)/SUM(H67:N67) -> #DIV/0!
G68: =SUM(H68:N68) -> 0 | H68: =_xlfn.IFS($E68>0,VLOOKUP($F68,objets!$A$2:$L4968,6,FALSE)*$E68,$F68="",0,$E68="",VLOOKUP($F68,objets!$A$2:$L4968,6,FALSE)) -> 0 | I68: =_xlfn.IFS($E68>0,VLOOKUP($F68,objets!$A$2:$L4968,6,FALSE)*$E68,$F68="",0,$E68="",VLOOKUP($F68,objets!$A$2:$L4968,6,FALSE)) -> 0 | J68: =_xlfn.IFS($E68>0,VLOOKUP($F68,objets!$A$2:$L4968,6,FALSE)*$E68,$F68="",0,$E68="",VLOOKUP($F68,objets!$A$2:$L4968,6,FALSE)) -> 0 | K68: =_xlfn.IFS($E68>0,VLOOKUP($F68,objets!$A$2:$L4968,6,FALSE)*$E68,$F68="",0,$E68="",VLOOKUP($F68,objets!$A$2:$L4968,6,FALSE)) -> 0 | L68: =_xlfn.IFS($E68>0,VLOOKUP($F68,objets!$A$2:$L4968,6,FALSE)*$E68,$F68="",0,$E68="",VLOOKUP($F68,objets!$A$2:$L4968,6,FALSE)) -> 0 | M68: =_xlfn.IFS($E68>0,VLOOKUP($F68,objets!$A$2:$L4968,6,FALSE)*$E68,$F68="",0,$E68="",VLOOKUP($F68,objets!$A$2:$L4968,6,FALSE)) -> 0 | N68: =_xlfn.IFS($E68>0,VLOOKUP($F68,objets!$A$2:$L4968,6,FALSE)*$E68,$F68="",0,$E68="",VLOOKUP($F68,objets!$A$2:$L4968,6,FALSE)) -> 0 | X68: =SUMPRODUCT(H68:N68,P68:V68)/SUM(H68:N68) -> #DIV/0!
G69: =SUM(H69:N69) -> 0 | H69: =_xlfn.IFS($E69>0,VLOOKUP($F69,objets!$A$2:$L4969,6,FALSE)*$E69,$F69="",0,$E69="",VLOOKUP($F69,objets!$A$2:$L4969,6,FALSE)) -> 0 | I69: =_xlfn.IFS($E69>0,VLOOKUP($F69,objets!$A$2:$L4969,6,FALSE)*$E69,$F69="",0,$E69="",VLOOKUP($F69,objets!$A$2:$L4969,6,FALSE)) -> 0 | J69: =_xlfn.IFS($E69>0,VLOOKUP($F69,objets!$A$2:$L4969,6,FALSE)*$E69,$F69="",0,$E69="",VLOOKUP($F69,objets!$A$2:$L4969,6,FALSE)) -> 0 | K69: =_xlfn.IFS($E69>0,VLOOKUP($F69,objets!$A$2:$L4969,6,FALSE)*$E69,$F69="",0,$E69="",VLOOKUP($F69,objets!$A$2:$L4969,6,FALSE)) -> 0 | L69: =_xlfn.IFS($E69>0,VLOOKUP($F69,objets!$A$2:$L4969,6,FALSE)*$E69,$F69="",0,$E69="",VLOOKUP($F69,objets!$A$2:$L4969,6,FALSE)) -> 0 | M69: =_xlfn.IFS($E69>0,VLOOKUP($F69,objets!$A$2:$L4969,6,FALSE)*$E69,$F69="",0,$E69="",VLOOKUP($F69,objets!$A$2:$L4969,6,FALSE)) -> 0 | N69: =_xlfn.IFS($E69>0,VLOOKUP($F69,objets!$A$2:$L4969,6,FALSE)*$E69,$F69="",0,$E69="",VLOOKUP($F69,objets!$A$2:$L4969,6,FALSE)) -> 0 | X69: =SUMPRODUCT(H69:N69,P69:V69)/SUM(H69:N69) -> #DIV/0!
G70: =SUM(H70:N70) -> 0 | H70: =_xlfn.IFS($E70>0,VLOOKUP($F70,objets!$A$2:$L4968,6,FALSE)*$E70,$F70="",0,$E70="",VLOOKUP($F70,objets!$A$2:$L4968,6,FALSE)) -> 0 | I70: =_xlfn.IFS($E70>0,VLOOKUP($F70,objets!$A$2:$L4968,6,FALSE)*$E70,$F70="",0,$E70="",VLOOKUP($F70,objets!$A$2:$L4968,6,FALSE)) -> 0 | J70: =_xlfn.IFS($E70>0,VLOOKUP($F70,objets!$A$2:$L4968,6,FALSE)*$E70,$F70="",0,$E70="",VLOOKUP($F70,objets!$A$2:$L4968,6,FALSE)) -> 0 | K70: =_xlfn.IFS($E70>0,VLOOKUP($F70,objets!$A$2:$L4968,6,FALSE)*$E70,$F70="",0,$E70="",VLOOKUP($F70,objets!$A$2:$L4968,6,FALSE)) -> 0 | L70: =_xlfn.IFS($E70>0,VLOOKUP($F70,objets!$A$2:$L4968,6,FALSE)*$E70,$F70="",0,$E70="",VLOOKUP($F70,objets!$A$2:$L4968,6,FALSE)) -> 0 | M70: =_xlfn.IFS($E70>0,VLOOKUP($F70,objets!$A$2:$L4968,6,FALSE)*$E70,$F70="",0,$E70="",VLOOKUP($F70,objets!$A$2:$L4968,6,FALSE)) -> 0 | N70: =_xlfn.IFS($E70>0,VLOOKUP($F70,objets!$A$2:$L4968,6,FALSE)*$E70,$F70="",0,$E70="",VLOOKUP($F70,objets!$A$2:$L4968,6,FALSE)) -> 0 | X70: =SUMPRODUCT(H70:N70,P70:V70)/SUM(H70:N70) -> #DIV/0!
G71: =SUM(H71:N71) -> 0 | H71: =_xlfn.IFS($E71>0,VLOOKUP($F71,objets!$A$2:$L4969,6,FALSE)*$E71,$F71="",0,$E71="",VLOOKUP($F71,objets!$A$2:$L4969,6,FALSE)) -> 0 | I71: =_xlfn.IFS($E71>0,VLOOKUP($F71,objets!$A$2:$L4969,6,FALSE)*$E71,$F71="",0,$E71="",VLOOKUP($F71,objets!$A$2:$L4969,6,FALSE)) -> 0 | J71: =_xlfn.IFS($E71>0,VLOOKUP($F71,objets!$A$2:$L4969,6,FALSE)*$E71,$F71="",0,$E71="",VLOOKUP($F71,objets!$A$2:$L4969,6,FALSE)) -> 0 | K71: =_xlfn.IFS($E71>0,VLOOKUP($F71,objets!$A$2:$L4969,6,FALSE)*$E71,$F71="",0,$E71="",VLOOKUP($F71,objets!$A$2:$L4969,6,FALSE)) -> 0 | L71: =_xlfn.IFS($E71>0,VLOOKUP($F71,objets!$A$2:$L4969,6,FALSE)*$E71,$F71="",0,$E71="",VLOOKUP($F71,objets!$A$2:$L4969,6,FALSE)) -> 0 | M71: =_xlfn.IFS($E71>0,VLOOKUP($F71,objets!$A$2:$L4969,6,FALSE)*$E71,$F71="",0,$E71="",VLOOKUP($F71,objets!$A$2:$L4969,6,FALSE)) -> 0 | N71: =_xlfn.IFS($E71>0,VLOOKUP($F71,objets!$A$2:$L4969,6,FALSE)*$E71,$F71="",0,$E71="",VLOOKUP($F71,objets!$A$2:$L4969,6,FALSE)) -> 0 | X71: =SUMPRODUCT(H71:N71,P71:V71)/SUM(H71:N71) -> #DIV/0!
G72: =SUM(H72:N72) -> 0 | H72: =_xlfn.IFS($E72>0,VLOOKUP($F72,objets!$A$2:$L4972,6,FALSE)*$E72,$F72="",0,$E72="",VLOOKUP($F72,objets!$A$2:$L4972,6,FALSE)) -> 0 | I72: =_xlfn.IFS($E72>0,VLOOKUP($F72,objets!$A$2:$L4972,6,FALSE)*$E72,$F72="",0,$E72="",VLOOKUP($F72,objets!$A$2:$L4972,6,FALSE)) -> 0 | J72: =_xlfn.IFS($E72>0,VLOOKUP($F72,objets!$A$2:$L4972,6,FALSE)*$E72,$F72="",0,$E72="",VLOOKUP($F72,objets!$A$2:$L4972,6,FALSE)) -> 0 | K72: =_xlfn.IFS($E72>0,VLOOKUP($F72,objets!$A$2:$L4972,6,FALSE)*$E72,$F72="",0,$E72="",VLOOKUP($F72,objets!$A$2:$L4972,6,FALSE)) -> 0 | L72: =_xlfn.IFS($E72>0,VLOOKUP($F72,objets!$A$2:$L4972,6,FALSE)*$E72,$F72="",0,$E72="",VLOOKUP($F72,objets!$A$2:$L4972,6,FALSE)) -> 0 | M72: =_xlfn.IFS($E72>0,VLOOKUP($F72,objets!$A$2:$L4972,6,FALSE)*$E72,$F72="",0,$E72="",VLOOKUP($F72,objets!$A$2:$L4972,6,FALSE)) -> 0 | N72: =_xlfn.IFS($E72>0,VLOOKUP($F72,objets!$A$2:$L4972,6,FALSE)*$E72,$F72="",0,$E72="",VLOOKUP($F72,objets!$A$2:$L4972,6,FALSE)) -> 0 | X72: =SUMPRODUCT(H72:N72,P72:V72)/SUM(H72:N72) -> #DIV/0!
G73: =SUM(H73:N73) -> 0 | H73: =_xlfn.IFS($E73>0,VLOOKUP($F73,objets!$A$2:$L4973,6,FALSE)*$E73,$F73="",0,$E73="",VLOOKUP($F73,objets!$A$2:$L4973,6,FALSE)) -> 0 | I73: =_xlfn.IFS($E73>0,VLOOKUP($F73,objets!$A$2:$L4973,6,FALSE)*$E73,$F73="",0,$E73="",VLOOKUP($F73,objets!$A$2:$L4973,6,FALSE)) -> 0 | J73: =_xlfn.IFS($E73>0,VLOOKUP($F73,objets!$A$2:$L4973,6,FALSE)*$E73,$F73="",0,$E73="",VLOOKUP($F73,objets!$A$2:$L4973,6,FALSE)) -> 0 | K73: =_xlfn.IFS($E73>0,VLOOKUP($F73,objets!$A$2:$L4973,6,FALSE)*$E73,$F73="",0,$E73="",VLOOKUP($F73,objets!$A$2:$L4973,6,FALSE)) -> 0 | L73: =_xlfn.IFS($E73>0,VLOOKUP($F73,objets!$A$2:$L4973,6,FALSE)*$E73,$F73="",0,$E73="",VLOOKUP($F73,objets!$A$2:$L4973,6,FALSE)) -> 0 | M73: =_xlfn.IFS($E73>0,VLOOKUP($F73,objets!$A$2:$L4973,6,FALSE)*$E73,$F73="",0,$E73="",VLOOKUP($F73,objets!$A$2:$L4973,6,FALSE)) -> 0 | N73: =_xlfn.IFS($E73>0,VLOOKUP($F73,objets!$A$2:$L4973,6,FALSE)*$E73,$F73="",0,$E73="",VLOOKUP($F73,objets!$A$2:$L4973,6,FALSE)) -> 0 | X73: =SUMPRODUCT(H73:N73,P73:V73)/SUM(H73:N73) -> #DIV/0!
G74: =SUM(H74:N74) -> 0 | H74: =_xlfn.IFS($E74>0,VLOOKUP($F74,objets!$A$2:$L4974,6,FALSE)*$E74,$F74="",0,$E74="",VLOOKUP($F74,objets!$A$2:$L4974,6,FALSE)) -> 0 | I74: =_xlfn.IFS($E74>0,VLOOKUP($F74,objets!$A$2:$L4974,6,FALSE)*$E74,$F74="",0,$E74="",VLOOKUP($F74,objets!$A$2:$L4974,6,FALSE)) -> 0 | J74: =_xlfn.IFS($E74>0,VLOOKUP($F74,objets!$A$2:$L4974,6,FALSE)*$E74,$F74="",0,$E74="",VLOOKUP($F74,objets!$A$2:$L4974,6,FALSE)) -> 0 | K74: =_xlfn.IFS($E74>0,VLOOKUP($F74,objets!$A$2:$L4974,6,FALSE)*$E74,$F74="",0,$E74="",VLOOKUP($F74,objets!$A$2:$L4974,6,FALSE)) -> 0 | L74: =_xlfn.IFS($E74>0,VLOOKUP($F74,objets!$A$2:$L4974,6,FALSE)*$E74,$F74="",0,$E74="",VLOOKUP($F74,objets!$A$2:$L4974,6,FALSE)) -> 0 | M74: =_xlfn.IFS($E74>0,VLOOKUP($F74,objets!$A$2:$L4974,6,FALSE)*$E74,$F74="",0,$E74="",VLOOKUP($F74,objets!$A$2:$L4974,6,FALSE)) -> 0 | N74: =_xlfn.IFS($E74>0,VLOOKUP($F74,objets!$A$2:$L4974,6,FALSE)*$E74,$F74="",0,$E74="",VLOOKUP($F74,objets!$A$2:$L4974,6,FALSE)) -> 0 | X74: =SUMPRODUCT(H74:N74,P74:V74)/SUM(H74:N74) -> #DIV/0!
G75: =SUM(H75:N75) -> 0 | H75: =_xlfn.IFS($E75>0,VLOOKUP($F75,objets!$A$2:$L4975,6,FALSE)*$E75,$F75="",0,$E75="",VLOOKUP($F75,objets!$A$2:$L4975,6,FALSE)) -> 0 | I75: =_xlfn.IFS($E75>0,VLOOKUP($F75,objets!$A$2:$L4975,6,FALSE)*$E75,$F75="",0,$E75="",VLOOKUP($F75,objets!$A$2:$L4975,6,FALSE)) -> 0 | J75: =_xlfn.IFS($E75>0,VLOOKUP($F75,objets!$A$2:$L4975,6,FALSE)*$E75,$F75="",0,$E75="",VLOOKUP($F75,objets!$A$2:$L4975,6,FALSE)) -> 0 | K75: =_xlfn.IFS($E75>0,VLOOKUP($F75,objets!$A$2:$L4975,6,FALSE)*$E75,$F75="",0,$E75="",VLOOKUP($F75,objets!$A$2:$L4975,6,FALSE)) -> 0 | L75: =_xlfn.IFS($E75>0,VLOOKUP($F75,objets!$A$2:$L4975,6,FALSE)*$E75,$F75="",0,$E75="",VLOOKUP($F75,objets!$A$2:$L4975,6,FALSE)) -> 0 | M75: =_xlfn.IFS($E75>0,VLOOKUP($F75,objets!$A$2:$L4975,6,FALSE)*$E75,$F75="",0,$E75="",VLOOKUP($F75,objets!$A$2:$L4975,6,FALSE)) -> 0 | N75: =_xlfn.IFS($E75>0,VLOOKUP($F75,objets!$A$2:$L4975,6,FALSE)*$E75,$F75="",0,$E75="",VLOOKUP($F75,objets!$A$2:$L4975,6,FALSE)) -> 0 | X75: =SUMPRODUCT(H75:N75,P75:V75)/SUM(H75:N75) -> #DIV/0!
G76: =SUM(H76:N76) -> 0 | H76: =_xlfn.IFS($E76>0,VLOOKUP($F76,objets!$A$2:$L4974,6,FALSE)*$E76,$F76="",0,$E76="",VLOOKUP($F76,objets!$A$2:$L4974,6,FALSE)) -> 0 | I76: =_xlfn.IFS($E76>0,VLOOKUP($F76,objets!$A$2:$L4974,6,FALSE)*$E76,$F76="",0,$E76="",VLOOKUP($F76,objets!$A$2:$L4974,6,FALSE)) -> 0 | J76: =_xlfn.IFS($E76>0,VLOOKUP($F76,objets!$A$2:$L4974,6,FALSE)*$E76,$F76="",0,$E76="",VLOOKUP($F76,objets!$A$2:$L4974,6,FALSE)) -> 0 | K76: =_xlfn.IFS($E76>0,VLOOKUP($F76,objets!$A$2:$L4974,6,FALSE)*$E76,$F76="",0,$E76="",VLOOKUP($F76,objets!$A$2:$L4974,6,FALSE)) -> 0 | L76: =_xlfn.IFS($E76>0,VLOOKUP($F76,objets!$A$2:$L4974,6,FALSE)*$E76,$F76="",0,$E76="",VLOOKUP($F76,objets!$A$2:$L4974,6,FALSE)) -> 0 | M76: =_xlfn.IFS($E76>0,VLOOKUP($F76,objets!$A$2:$L4974,6,FALSE)*$E76,$F76="",0,$E76="",VLOOKUP($F76,objets!$A$2:$L4974,6,FALSE)) -> 0 | N76: =_xlfn.IFS($E76>0,VLOOKUP($F76,objets!$A$2:$L4974,6,FALSE)*$E76,$F76="",0,$E76="",VLOOKUP($F76,objets!$A$2:$L4974,6,FALSE)) -> 0 | X76: =SUMPRODUCT(H76:N76,P76:V76)/SUM(H76:N76) -> #DIV/0!
G77: =SUM(H77:N77) -> 0 | H77: =_xlfn.IFS($E77>0,VLOOKUP($F77,objets!$A$2:$L4975,6,FALSE)*$E77,$F77="",0,$E77="",VLOOKUP($F77,objets!$A$2:$L4975,6,FALSE)) -> 0 | I77: =_xlfn.IFS($E77>0,VLOOKUP($F77,objets!$A$2:$L4975,6,FALSE)*$E77,$F77="",0,$E77="",VLOOKUP($F77,objets!$A$2:$L4975,6,FALSE)) -> 0 | J77: =_xlfn.IFS($E77>0,VLOOKUP($F77,objets!$A$2:$L4975,6,FALSE)*$E77,$F77="",0,$E77="",VLOOKUP($F77,objets!$A$2:$L4975,6,FALSE)) -> 0 | K77: =_xlfn.IFS($E77>0,VLOOKUP($F77,objets!$A$2:$L4975,6,FALSE)*$E77,$F77="",0,$E77="",VLOOKUP($F77,objets!$A$2:$L4975,6,FALSE)) -> 0 | L77: =_xlfn.IFS($E77>0,VLOOKUP($F77,objets!$A$2:$L4975,6,FALSE)*$E77,$F77="",0,$E77="",VLOOKUP($F77,objets!$A$2:$L4975,6,FALSE)) -> 0 | M77: =_xlfn.IFS($E77>0,VLOOKUP($F77,objets!$A$2:$L4975,6,FALSE)*$E77,$F77="",0,$E77="",VLOOKUP($F77,objets!$A$2:$L4975,6,FALSE)) -> 0 | N77: =_xlfn.IFS($E77>0,VLOOKUP($F77,objets!$A$2:$L4975,6,FALSE)*$E77,$F77="",0,$E77="",VLOOKUP($F77,objets!$A$2:$L4975,6,FALSE)) -> 0 | X77: =SUMPRODUCT(H77:N77,P77:V77)/SUM(H77:N77) -> #DIV/0!
G78: =SUM(H78:N78) -> 0 | H78: =_xlfn.IFS($E78>0,VLOOKUP($F78,objets!$A$2:$L4970,6,FALSE)*$E78,$F78="",0,$E78="",VLOOKUP($F78,objets!$A$2:$L4970,6,FALSE)) -> 0 | I78: =_xlfn.IFS($E78>0,VLOOKUP($F78,objets!$A$2:$L4970,6,FALSE)*$E78,$F78="",0,$E78="",VLOOKUP($F78,objets!$A$2:$L4970,6,FALSE)) -> 0 | J78: =_xlfn.IFS($E78>0,VLOOKUP($F78,objets!$A$2:$L4970,6,FALSE)*$E78,$F78="",0,$E78="",VLOOKUP($F78,objets!$A$2:$L4970,6,FALSE)) -> 0 | K78: =_xlfn.IFS($E78>0,VLOOKUP($F78,objets!$A$2:$L4970,6,FALSE)*$E78,$F78="",0,$E78="",VLOOKUP($F78,objets!$A$2:$L4970,6,FALSE)) -> 0 | L78: =_xlfn.IFS($E78>0,VLOOKUP($F78,objets!$A$2:$L4970,6,FALSE)*$E78,$F78="",0,$E78="",VLOOKUP($F78,objets!$A$2:$L4970,6,FALSE)) -> 0 | M78: =_xlfn.IFS($E78>0,VLOOKUP($F78,objets!$A$2:$L4970,6,FALSE)*$E78,$F78="",0,$E78="",VLOOKUP($F78,objets!$A$2:$L4970,6,FALSE)) -> 0 | N78: =_xlfn.IFS($E78>0,VLOOKUP($F78,objets!$A$2:$L4970,6,FALSE)*$E78,$F78="",0,$E78="",VLOOKUP($F78,objets!$A$2:$L4970,6,FALSE)) -> 0 | X78: =SUMPRODUCT(H78:N78,P78:V78)/SUM(H78:N78) -> #DIV/0!
