Workbook
Name Famille_IS: '[1]Temps unitaires'!$B$7:$B$76
Name objets: objets!$A$2:$A$555
Name zone: #REF!
Name zone: #REF!
Name zone: #REF!
Name zone: #REF!

Sheet Zone
A1: Nom Chantier | B1: test
A2: N° Affaire | B2: 152222
A5: Liste des zones | B5: Liste des centres
A6: P66 | B6: CENTRE 1
A7: Encadrant Nord | B7: C.RCH01-1
A8: Encadrant Sud | B8: C.RCH02-1
B9: C.RCH03-1
B10: C.RCH04-1
B11: C.RCH05-1
B12: C.RCH06-1
B13: C.RCH07-1
B14: C.RCH08-1
B15: CE01-1
B16: CE02-1
B17: CE03-1
B18: CE04-1
B19: CE05-1
B20: CE06-1
... B42: STM GM KM633,8

Sheet objets
A1: [connecteur] {fourniture de…} | B1: TU (prépa DM ) | C1: TU (prépa parc) | D1: TU (précablage) | E1: TU (chantier) | F1: Déroulage câble | G1: Equipement Poste (Neuf ou Modif) | H1: Prépa Parc (sur site) | I1: Pose à la voie | J1: Racco voie | K1: Racco Centre ou modif | L1: Contrôle | M1: STM PM | N1: STM.MM | O1: STM.GM | P1: U90 | Q1: GUERITE simple | R1: GUERITE triple | S1: Abris à accus | T1: herse "POINT" | U1: U71 "POINT" | V1: GUERITE "POINT" | W1: DATZ | X1: jalon M | Y1: REPERE "NF" | Z1: REPERE "F" | AA1: TOUT appareillage transport | AB1: téléphone | AC1: boite à feu isolée avec amorce câble | AD1: œilleton | AE1: Cible K | AF1: Cible A | AG1: Cible C | AH1: Cible F | AI1: Cible H | AJ1: fléche | AK1: plaque d'identification | AL1: garde-corps A - Tf - Le | AM1: garde-corps Lo | AN1: matereau + échelle | AO1: grillage | AP1: CF80 | AQ1: CL66 | AR1: CL82 | AS1: CF typeB | AT1: Pancarte | AU1: colonne à "copier / incérer les cellules copiée" | AW1: SVM | AX1: montage toute boite sur 1 piquet | AY1: raccordement tous connecteur ou desserte filaire sur toute boite | AZ1: condo (5 mn) | BA1: confection 1x corde XX² cosse sertie 1 extrémité (5 mn) | BB1: confection 1x corde XX² cosse sertie 2 extrémités (10 mn) | BC1: 1 soudure connecteur RCH VCC (5 mn) | BD1: 1 EuroBalise Fixe | BE1: feu de heurtoir | BF1: Pd. électroméca | BG1: déto | BH1: CRO | BI1: équipement balise KVB (10 mn) | BJ1: connecteur SBI | BK1: colonne à "copier / incérer les cellules copiée"
M2: 1.5 | N2: 4.5 | O2: 9 | P2: 13.5 | Q2: 29.5 | R2: 37.5 | S2: 3 ou 4 ou 5 | T2: 10 | U2: 20 | V2: 40 | W2: 4 | X2: 1.5 | Y2: 1.5 | Z2: 0.75 | AA2: 0.5 | AB2: 0.25 | AC2: 0.5 | AD2: 1 | AE2: 2 | AF2: 3 | AG2: 5 | AH2: 7 | AI2: 9 | AJ2: 1 | AK2: 0.25 | AL2: 2 | AM2: 2 | AN2: 2 | AO2: 2.5 | AP2: 2.5 | AQ2: 2 | AR2: 2 | AS2: 2 | AT2: 0,25 ou 0,75 | AU2: xx | AW2: 0.5 | AX2: =5/60 -> 0.083333333 | AY2: 0.5 | AZ2: =5/60 -> 0.083333333 | BA2: =5/60 -> 0.083333333 | BB2: =10/60 -> 0.16666667 | BC2: =5/60 -> 0.083333333 | BD2: 0.25 | BE2: 1 | BF2: 0.25 | BG2: 0.25 | BH2: 0.5 | BI2: 0.25 | BJ2: 0.5 | BK2: xx
A3: HV (hors ZD) | B3: =SUM(M3:AX3) -> 0 | C3: =SUM(N3:AY3) -> 0
B4: =SUM(M4:AX4) -> 0 | C4: =SUM(N4:AY4) -> 0
A5: STM.MM | B5: 0.1 | C5: =SUM(M5:AY5) -> 4.5 | E5: =SUM(F5:L5) -> 0 | N5: 4.5
A6: STM.MM EXISTANTE | B6: 0.1 | C6: =SUM(M6:AY6) -> 0 | E6: =SUM(F6:L6) -> 0
A7: STM.GM | B7: 0.1 | C7: =SUM(M7:AY7) -> 9 | E7: =SUM(F7:L7) -> 0 | O7: 9
A8: U71 | B8: 0.1 | C8: =SUM(M8:AY8) -> 13.5 | E8: =SUM(F8:L8) -> 7.250003 | F8: 1e-06 | G8: 1e-06 | H8: 1 | I8: 6 | J8: 0 | K8: 1e-06 | L8: 0.25 | P8: 13.5
A9: U71 EXISTANTE | B9: 0.1 | C9: =SUM(M9:AY9) -> 3 | E9: =SUM(F9:L9) -> 0.235003 | F9: 1e-06 | G9: 1e-06 | H9: 0.1 | I9: 1e-06 | J9: 0 | K9: 0.1 | L9: 0.035 | M9: 3
A10: ARMOIRE BT.47GM EXISTANTE | B10: 0.1 | C10: =SUM(M10:AY10) -> 0 | E10: =SUM(F10:L10) -> 0
A11: U90 | B11: 0.1 | C11: =SUM(M11:AY11) -> 13.5 | E11: =SUM(F11:L11) -> 0 | P11: 13.5
A12: GUERITE simple | B12: 0.1 | C12: =SUM(M12:AY12) -> 29.5 | E12: =SUM(F12:L12) -> 233 | F12: 0 | G12: 120 | H12: 0 | I12: 8 | J12: 0 | K12: 100 | L12: 5 | Q12: 29.5
A13: GUERITE simple EXISTANTE | B13: 0.1 | C13: =SUM(M13:AY13) -> 0 | E13: =SUM(F13:L13) -> 235 | F13: 0 | G13: 0 | H13: 0 | I13: 0 | J13: 0 | K13: 200 | L13: 35
A14: GUERITE double | B14: 0.1 | C14: =SUM(M14:AY14) -> 0 | E14: =SUM(F14:L14) -> 330 | F14: 0 | G14: 180 | H14: 0 | I14: 8 | J14: 0 | K14: 135 | L14: 7
A15: GUERITE triple | B15: 0.1 | C15: =SUM(M15:AY15) -> 37.5 | E15: =SUM(F15:L15) -> 432 | F15: 0 | G15: 240 | H15: 0 | I15: 12 | J15: 0 | K15: 170 | L15: 10 | R15: 37.5
A16: abris à accus PM "avec raccordement des câbles > amorce vers le CE concerné (longueur selon implantation)" | B16: 0.1 | C16: =SUM(M16:AY16) -> 3 | E16: =SUM(F16:L16) -> 25 | F16: 8 | G16: 0 | H16: 4 | I16: 4 | J16: 0 | K16: 8 | L16: 1 | S16: 3
A17: Abris à accus GM "avec raccordement des câbles > amorce vers le CE concerné (longueur selon implantation)" | B17: 0.1 | C17: =SUM(M17:AY17) -> 4 | E17: =SUM(F17:L17) -> 25 | F17: 8 | G17: 0 | H17: 4 | I17: 4 | J17: 0 | K17: 8 | L17: 1 | S17: 4
A18: Abris à accus PM EXISTANT | B18: 0.1 | C18: =SUM(M18:AY18) -> 0 | E18: =SUM(F18:L18) -> 0
A19: Abris à accus GM EXISTANT | B19: 0.1 | C19: =SUM(M19:AY19) -> 0 | E19: =SUM(F19:L19) -> 0
A20: Abris à accus GM EXISTANT AVEC MODIF | B20: 0.1 | C20: =SUM(M20:AY20) -> 0 | E20: =SUM(F20:L20) -> 0
A21: Abris Accu Sécu | B21: 0.1 | C21: =SUM(M21:AY21) -> 0 | E21: =SUM(F21:L21) -> 32 | F21: 8 | G21: 0 | H21: 7 | I21: 8 | J21: 0 | K21: 8 | L21: 1
A22: Abri Accu (Pose) | B22: 0.1 | C22: =SUM(M22:AY22) -> 0 | E22: =SUM(F22:L22) -> 6.300002 | F22: 2 | G22: 1e-06 | H22: 1 | I22: 3 | J22: 0 | K22: 1e-06 | L22: 0.3
A23: armoire à accus "avec raccordement des câbles > amorce vers le CE concerné (longueur selon implantation)" | B23: 0.1 | C23: =SUM(M23:AY23) -> 5 | E23: =SUM(F23:L23) -> 0 | S23: 5
A24: armoire BDR SNCF à accus "avec raccordement des câbles > amorce vers le CE concerné (longueur selon implantation)" | B24: 0.1 | C24: =SUM(M24:AY24) -> 0 | E24: =SUM(F24:L24) -> 0
A25: Transfo redresseur posé au SOL dans Guérite >> racc. des cables | B25: 0.1 | C25: =SUM(M25:AY25) -> 0 | E25: =SUM(F25:L25) -> 0
A26: herse "POINT" | B26: 0.1 | C26: =SUM(M26:AY26) -> 5 | E26: =SUM(F26:L26) -> 0 | T26: 5
A27: U71 "POINT" | B27: 0.1 | C27: =SUM(M27:AY27) -> 20 | E27: =SUM(F27:L27) -> 0 | U27: 20
A28: GUERITE "POINT" | B28: 0.1 | C28: =SUM(M28:AY28) -> 40 | E28: =SUM(F28:L28) -> 0 | V28: 40
A29: SARA 4 > dans une GUERITE < | B29: 0.1 | C29: =SUM(M29:AY29) -> 0 | E29: =SUM(F29:L29) -> 0
A30: SARA 8 > l'ARMOIRE < | B30: 0.1 | C30: =SUM(M30:AY30) -> 0 | E30: =SUM(F30:L30) -> 0
A31: Boite à feux | B31: 0.1 | C31: =SUM(M31:AY31) -> 0 | E31: =SUM(F31:L31) -> 3.800002 | F31: 1 | G31: 1e-06 | H31: 0.5 | I31: 1 | J31: 1 | K31: 1e-06 | L31: 0.3
A32: Câble (marquage dépose) | B32: 0.1 | C32: =SUM(M32:AY32) -> 0 | E32: =SUM(F32:L32) -> 0.200005 | F32: 1e-06 | G32: 1e-06 | H32: 1e-06 | I32: 1e-06 | J32: 1e-06 | K32: 0.1 | L32: 0.1
A33: Câbles Locaux | B33: 0.1 | C33: =SUM(M33:AY33) -> 0 | E33: =SUM(F33:L33) -> 1.300005 | F33: 1e-06 | G33: 1e-06 | H33: 1e-06 | I33: 1e-06 | J33: 1e-06 | K33: 0.8 | L33: 0.5
A34: Câbles Princ | B34: 0.1 | C34: =SUM(M34:AY34) -> 0 | E34: =SUM(F34:L34) -> 3.000005 | F34: 1e-06 | G34: 1e-06 | H34: 1e-06 | I34: 1e-06 | J34: 1e-06 | K34: 2 | L34: 1
A35: Caisson sur Mat | B35: 0.1 | C35: =SUM(M35:AY35) -> 0 | E35: =SUM(F35:L35) -> 14.000002 | F35: 2 | G35: 1e-06 | H35: 1 | I35: 8 | J35: 2 | K35: 1e-06 | L35: 1
A36: Lev.Ag | B36: 0.1 | C36: =SUM(M36:AY36) -> 0 | E36: =SUM(F36:L36) -> 6.000002 | F36: 2 | G36: 1e-06 | H36: 1 | I36: 1 | J36: 1 | K36: 1e-06 | L36: 1
A37: KCN | B37: 0.1 | C37: =SUM(M37:AY37) -> 0 | E37: =SUM(F37:L37) -> 4.000101 | F37: 4 | G37: 0.0001 | K37: 1e-06
A38: CdV CI 1500V | B38: 0.1 | C38: =SUM(M38:AY38) -> 0 | E38: =SUM(F38:L38) -> 20.000002 | F38: 2 | G38: 1e-06 | H38: 2 | I38: 12 | J38: 2 | K38: 1e-06 | L38: 2
A39: CdV CI 25000V | B39: 0.1 | C39: =SUM(M39:AY39) -> 0 | E39: =SUM(F39:L39) -> 17.000002 | F39: 2 | G39: 1e-06 | H39: 2 | I39: 9 | J39: 2 | K39: 1e-06 | L39: 2
A40: CdV UM71 | B40: 0.1 | C40: =SUM(M40:AY40) -> 0 | E40: =SUM(F40:L40) -> 18 | F40: 4 | G40: 0 | H40: 3 | I40: 5 | J40: 4 | K40: 1e-07 | L40: 2
...

Sheet Chantier Global
G2: =Zone!B1 -> test
F9: =TODAY() -> 43858
A11: Identification de l'IS | F11: Avancement % par centres et par taches
A12: Postes | B12: Centres | C12: SOUS- TOTAL | D12: Temps de production par centre | F12: Déroulage câble | G12: Equipement poste (Neuf ou modif) | H12: Prépa Parc | I12: Pose à la voie | J12: Racco voie | K12: Racco Centre | L12: Contrôle | M12: COMMENTAIRES | N12: % AV
A13: P66 | B13: CENTRE 1 | C13: SOUS-TOTAL | D13: =SUM('P66'!G12:G19) -> 182 | F13: =SUMPRODUCT('P66'!H12:H19,'P66'!P12:P19)/SUM('P66'!H12:H19) -> 0.8 | G13: =SUMPRODUCT('P66'!I12:I19,'P66'!Q12:Q19)/SUM('P66'!I12:I19) -> 0.8 | H13: =SUMPRODUCT('P66'!J12:J19,'P66'!R12:R19)/SUM('P66'!J12:J19) -> 0.8 | I13: =SUMPRODUCT('P66'!K12:K19,'P66'!S12:S19)/SUM('P66'!K12:K19) -> 0.8 | J13: =SUMPRODUCT('P66'!L12:L19,'P66'!T12:T19)/SUM('P66'!L12:L19) -> 0.8 | K13: =SUMPRODUCT('P66'!M12:M19,'P66'!U12:U19)/SUM('P66'!M12:M19) -> 0.8 | L13: =SUMPRODUCT('P66'!N12:N19,'P66'!V12:V19)/SUM('P66'!N12:N19) -> 0.1 | N13: =SUMPRODUCT('P66'!H12:N19,'P66'!P12:V19)/SUM('P66'!H12:N19) -> 0.7
A14: P66 | B14: CENTRE 1 | C14: SOUS-TOTAL | D14: =SUMPRODUCT(('P66'!$B$5:$B$199='Chantier Global'!B14)*('P66'!$G$5:$G$199)) -> 182 | F14: =SUMPRODUCT(('P66'!$B$5:$B$199='Chantier Global'!B14)*('P66'!H5:H199)*('P66'!P5:P199))/SUM('P66'!H5:H199) -> 0.37142857
A30: CENTRE 1 | C30: TOTAL GENERAL | D30: =SUM(D13:D27) -> 364 | F30: =SUM(F13:F29)/13 -> 0.09010989 | G30: =SUM(G13:G29)/3 -> 0.26666667 | H30: =SUM(H13:H29)/17 -> 0.047058824 | I30: =SUM(I13:I29)/17 -> 0.047058824 | J30: =SUM(J13:J29)/16 -> 0.05 | K30: =SUM(K13:K29)/15 -> 0.053333333 | L30: =SUM(L13:L29)/17 -> 0.0058823529 | N30: =SUM(N13:N29)/17 -> 0.041176471
I41: ²

Sheet P66
B1: =Zone!B1 -> test | F1: =TODAY() -> 43858
A3: Identification de l'IS | G3: Temps Production - Temps élémentaires | P3: Avancement | Z3: PREPA SUR PARC | AJ3: INSTALLATION EN VOIE ou POSTE | AN3: RACCORDEMENT
A4: Zone | B4: Centres | C4: Travaux | D4: Commentaires : particularité de l'IS | E4: Nbre éléments pour poste | F4: Type IS | G4: TOTAL | H4: Déroulage câble | I4: Equipement poste (Neuf ou Modif) | J4: Prépa Parc | K4: Pose à la voie | L4: Racco voie | M4: Racco Centre | N4: Contrôle | P4: Déroulage câble | Q4: Equipement poste (Neuf ou modif) | R4: Prépa Parc | S4: Pose à la voie | T4: Racco voie | U4: Racco Centre | V4: Contrôle | W4: COMMENTAIRES | Z4: Préparation à réaliser pour | AA4: Relevé terrain | AB4: Méca réalisée par Nom Date | AD4: Câblage réalisé par Nom Date | AF4: Réserves Oui Non | AH4: Réserves | AJ4: Installé par | AK4: Travaux terminé | AL4: Réserves / Commentaires | AN4: Raccordé par | AO4: Travaux terminé | AP4: Réserves / Commentaires
A5: P66 | B5: C.RCH01-1 | C5: SVM.RCH.2 Ag6678a | F5: SVM Cadre | G5: =SUM(H5:N5) -> 28 | H5: =_xlfn.IFS($E5>0,VLOOKUP($F5,objets!$A$2:$L5085,6,FALSE)*$E5,$F5="",0,$E5="",VLOOKUP($F5,objets!$A$2:$L5085,6,FALSE)) -> 4 | I5: =_xlfn.IFS($E5>0,VLOOKUP($F5,objets!$A$2:$L5085,6,FALSE)*$E5,$F5="",0,$E5="",VLOOKUP($F5,objets!$A$2:$L5085,6,FALSE)) -> 4 | J5: =_xlfn.IFS($E5>0,VLOOKUP($F5,objets!$A$2:$L5085,6,FALSE)*$E5,$F5="",0,$E5="",VLOOKUP($F5,objets!$A$2:$L5085,6,FALSE)) -> 4 | K5: =_xlfn.IFS($E5>0,VLOOKUP($F5,objets!$A$2:$L5085,6,FALSE)*$E5,$F5="",0,$E5="",VLOOKUP($F5,objets!$A$2:$L5085,6,FALSE)) -> 4 | L5: =_xlfn.IFS($E5>0,VLOOKUP($F5,objets!$A$2:$L5085,6,FALSE)*$E5,$F5="",0,$E5="",VLOOKUP($F5,objets!$A$2:$L5085,6,FALSE)) -> 4 | M5: =_xlfn.IFS($E5>0,VLOOKUP($F5,objets!$A$2:$L5085,6,FALSE)*$E5,$F5="",0,$E5="",VLOOKUP($F5,objets!$A$2:$L5085,6,FALSE)) -> 4 | N5: =_xlfn.IFS($E5>0,VLOOKUP($F5,objets!$A$2:$L5085,6,FALSE)*$E5,$F5="",0,$E5="",VLOOKUP($F5,objets!$A$2:$L5085,6,FALSE)) -> 4 | P5: 0.8 | Q5: 0.8 | R5: 0.8 | S5: 0.8 | T5: 0.8 | U5: 0.8 | V5: 0.1 | X5: =SUMPRODUCT(H5:N5,P5:V5)/SUM(H5:N5) -> 0.7
A6: P66 | B6: C.RCH01-1 | C6: SVM.RCH.2 Ag6678 | F6: SVM Cadre | G6: =SUM(H6:N6) -> 28 | H6: =_xlfn.IFS($E6>0,VLOOKUP($F6,objets!$A$2:$L5086,6,FALSE)*$E6,$F6="",0,$E6="",VLOOKUP($F6,objets!$A$2:$L5086,6,FALSE)) -> 4 | I6: =_xlfn.IFS($E6>0,VLOOKUP($F6,objets!$A$2:$L5086,6,FALSE)*$E6,$F6="",0,$E6="",VLOOKUP($F6,objets!$A$2:$L5086,6,FALSE)) -> 4 | J6: =_xlfn.IFS($E6>0,VLOOKUP($F6,objets!$A$2:$L5086,6,FALSE)*$E6,$F6="",0,$E6="",VLOOKUP($F6,objets!$A$2:$L5086,6,FALSE)) -> 4 | K6: =_xlfn.IFS($E6>0,VLOOKUP($F6,objets!$A$2:$L5086,6,FALSE)*$E6,$F6="",0,$E6="",VLOOKUP($F6,objets!$A$2:$L5086,6,FALSE)) -> 4 | L6: =_xlfn.IFS($E6>0,VLOOKUP($F6,objets!$A$2:$L5086,6,FALSE)*$E6,$F6="",0,$E6="",VLOOKUP($F6,objets!$A$2:$L5086,6,FALSE)) -> 4 | M6: =_xlfn.IFS($E6>0,VLOOKUP($F6,objets!$A$2:$L5086,6,FALSE)*$E6,$F6="",0,$E6="",VLOOKUP($F6,objets!$A$2:$L5086,6,FALSE)) -> 4 | N6: =_xlfn.IFS($E6>0,VLOOKUP($F6,objets!$A$2:$L5086,6,FALSE)*$E6,$F6="",0,$E6="",VLOOKUP($F6,objets!$A$2:$L5086,6,FALSE)) -> 4 | P6: 0.8 | Q6: 0.8 | R6: 0.8 | S6: 0.8 | T6: 0.8 | U6: 0.8 | V6: 0.1 | X6: =SUMPRODUCT(H6:N6,P6:V6)/SUM(H6:N6) -> 0.7
A7: P66 | B7: C.RCH04-1 | C7: SVM.RCH.1 Ag6677ac | F7: SVM Cadre | G7: =SUM(H7:N7) -> 28 | H7: =_xlfn.IFS($E7>0,VLOOKUP($F7,objets!$A$2:$L5074,6,FALSE)*$E7,$F7="",0,$E7="",VLOOKUP($F7,objets!$A$2:$L5074,6,FALSE)) -> 4 | I7: =_xlfn.IFS($E7>0,VLOOKUP($F7,objets!$A$2:$L5074,6,FALSE)*$E7,$F7="",0,$E7="",VLOOKUP($F7,objets!$A$2:$L5074,6,FALSE)) -> 4 | J7: =_xlfn.IFS($E7>0,VLOOKUP($F7,objets!$A$2:$L5074,6,FALSE)*$E7,$F7="",0,$E7="",VLOOKUP($F7,objets!$A$2:$L5074,6,FALSE)) -> 4 | K7: =_xlfn.IFS($E7>0,VLOOKUP($F7,objets!$A$2:$L5074,6,FALSE)*$E7,$F7="",0,$E7="",VLOOKUP($F7,objets!$A$2:$L5074,6,FALSE)) -> 4 | L7: =_xlfn.IFS($E7>0,VLOOKUP($F7,objets!$A$2:$L5074,6,FALSE)*$E7,$F7="",0,$E7="",VLOOKUP($F7,objets!$A$2:$L5074,6,FALSE)) -> 4 | M7: =_xlfn.IFS($E7>0,VLOOKUP($F7,objets!$A$2:$L5074,6,FALSE)*$E7,$F7="",0,$E7="",VLOOKUP($F7,objets!$A$2:$L5074,6,FALSE)) -> 4 | N7: =_xlfn.IFS($E7>0,VLOOKUP($F7,objets!$A$2:$L5074,6,FALSE)*$E7,$F7="",0,$E7="",VLOOKUP($F7,objets!$A$2:$L5074,6,FALSE)) -> 4 | P7: 0.8 | Q7: 0.8 | R7: 0.8 | S7: 0.8 | T7: 0.8 | U7: 0.8 | V7: 0.1 | X7: =SUMPRODUCT(H7:N7,P7:V7)/SUM(H7:N7) -> 0.7
A8: P66 | B8: C.RCH06-1 | C8: SVM.RCH.2 Ag6677ac | F8: SVM Cadre | G8: =SUM(H8:N8) -> 28 | H8: =_xlfn.IFS($E8>0,VLOOKUP($F8,objets!$A$2:$L4907,6,FALSE)*$E8,$F8="",0,$E8="",VLOOKUP($F8,objets!$A$2:$L4907,6,FALSE)) -> 4 | I8: =_xlfn.IFS($E8>0,VLOOKUP($F8,objets!$A$2:$L4907,6,FALSE)*$E8,$F8="",0,$E8="",VLOOKUP($F8,objets!$A$2:$L4907,6,FALSE)) -> 4 | J8: =_xlfn.IFS($E8>0,VLOOKUP($F8,objets!$A$2:$L4907,6,FALSE)*$E8,$F8="",0,$E8="",VLOOKUP($F8,objets!$A$2:$L4907,6,FALSE)) -> 4 | K8: =_xlfn.IFS($E8>0,VLOOKUP($F8,objets!$A$2:$L4907,6,FALSE)*$E8,$F8="",0,$E8="",VLOOKUP($F8,objets!$A$2:$L4907,6,FALSE)) -> 4 | L8: =_xlfn.IFS($E8>0,VLOOKUP($F8,objets!$A$2:$L4907,6,FALSE)*$E8,$F8="",0,$E8="",VLOOKUP($F8,objets!$A$2:$L4907,6,FALSE)) -> 4 | M8: =_xlfn.IFS($E8>0,VLOOKUP($F8,objets!$A$2:$L4907,6,FALSE)*$E8,$F8="",0,$E8="",VLOOKUP($F8,objets!$A$2:$L4907,6,FALSE)) -> 4 | N8: =_xlfn.IFS($E8>0,VLOOKUP($F8,objets!$A$2:$L4907,6,FALSE)*$E8,$F8="",0,$E8="",VLOOKUP($F8,objets!$A$2:$L4907,6,FALSE)) -> 4 | P8: 0.8 | Q8: 0.8 | R8: 0.8 | S8: 0.8 | T8: 0.8 | U8: 0.8 | V8: 0.1 | X8: =SUMPRODUCT(H8:N8,P8:V8)/SUM(H8:N8) -> 0.7
A9: P66 | B9: CE01-1 | C9: SVM.RCH.1 Ag6672bd | F9: SVM Cadre | G9: =SUM(H9:N9) -> 28 | H9: =_xlfn.IFS($E9>0,VLOOKUP($F9,objets!$A$2:$L4908,6,FALSE)*$E9,$F9="",0,$E9="",VLOOKUP($F9,objets!$A$2:$L4908,6,FALSE)) -> 4 | I9: =_xlfn.IFS($E9>0,VLOOKUP($F9,objets!$A$2:$L4908,6,FALSE)*$E9,$F9="",0,$E9="",VLOOKUP($F9,objets!$A$2:$L4908,6,FALSE)) -> 4 | J9: =_xlfn.IFS($E9>0,VLOOKUP($F9,objets!$A$2:$L4908,6,FALSE)*$E9,$F9="",0,$E9="",VLOOKUP($F9,objets!$A$2:$L4908,6,FALSE)) -> 4 | K9: =_xlfn.IFS($E9>0,VLOOKUP($F9,objets!$A$2:$L4908,6,FALSE)*$E9,$F9="",0,$E9="",VLOOKUP($F9,objets!$A$2:$L4908,6,FALSE)) -> 4 | L9: =_xlfn.IFS($E9>0,VLOOKUP($F9,objets!$A$2:$L4908,6,FALSE)*$E9,$F9="",0,$E9="",VLOOKUP($F9,objets!$A$2:$L4908,6,FALSE)) -> 4 | M9: =_xlfn.IFS($E9>0,VLOOKUP($F9,objets!$A$2:$L4908,6,FALSE)*$E9,$F9="",0,$E9="",VLOOKUP($F9,objets!$A$2:$L4908,6,FALSE)) -> 4 | N9: =_xlfn.IFS($E9>0,VLOOKUP($F9,objets!$A$2:$L4908,6,FALSE)*$E9,$F9="",0,$E9="",VLOOKUP($F9,objets!$A$2:$L4908,6,FALSE)) -> 4 | P9: 0.8 | Q9: 0.8 | R9: 0.8 | S9: 0.8 | T9: 0.8 | U9: 0.8 | V9: 0.1 | X9: =SUMPRODUCT(H9:N9,P9:V9)/SUM(H9:N9) -> 0.7
A10: P66 | B10: CE01-1 | C10: SVM.RCH.1 Dr6678b | F10: SVM Cadre | G10: =SUM(H10:N10) -> 28 | H10: =_xlfn.IFS($E10>0,VLOOKUP($F10,objets!$A$2:$L4909,6,FALSE)*$E10,$F10="",0,$E10="",VLOOKUP($F10,objets!$A$2:$L4909,6,FALSE)) -> 4 | I10: =_xlfn.IFS($E10>0,VLOOKUP($F10,objets!$A$2:$L4909,6,FALSE)*$E10,$F10="",0,$E10="",VLOOKUP($F10,objets!$A$2:$L4909,6,FALSE)) -> 4 | J10: =_xlfn.IFS($E10>0,VLOOKUP($F10,objets!$A$2:$L4909,6,FALSE)*$E10,$F10="",0,$E10="",VLOOKUP($F10,objets!$A$2:$L4909,6,FALSE)) -> 4 | K10: =_xlfn.IFS($E10>0,VLOOKUP($F10,objets!$A$2:$L4909,6,FALSE)*$E10,$F10="",0,$E10="",VLOOKUP($F10,objets!$A$2:$L4909,6,FALSE)) -> 4 | L10: =_xlfn.IFS($E10>0,VLOOKUP($F10,objets!$A$2:$L4909,6,FALSE)*$E10,$F10="",0,$E10="",VLOOKUP($F10,objets!$A$2:$L4909,6,FALSE)) -> 4 | M10: =_xlfn.IFS($E10>0,VLOOKUP($F10,objets!$A$2:$L4909,6,FALSE)*$E10,$F10="",0,$E10="",VLOOKUP($F10,objets!$A$2:$L4909,6,FALSE)) -> 4 | N10: =_xlfn.IFS($E10>0,VLOOKUP($F10,objets!$A$2:$L4909,6,FALSE)*$E10,$F10="",0,$E10="",VLOOKUP($F10,objets!$A$2:$L4909,6,FALSE)) -> 4 | P10: 0.8 | Q10: 0.8 | R10: 0.8 | S10: 0.8 | T10: 0.8 | U10: 0.8 | V10: 0.1 | X10: =SUMPRODUCT(H10:N10,P10:V10)/SUM(H10:N10) -> 0.7
A11: P66 | B11: CE01-1 | C11: C.RCH04-1 | F11: VCM | G11: =SUM(H11:N11) -> 14 | H11: =_xlfn.IFS($E11>0,VLOOKUP($F11,objets!$A$2:$L4908,6,FALSE)*$E11,$F11="",0,$E11="",VLOOKUP($F11,objets!$A$2:$L4908,6,FALSE)) -> 2 | I11: =_xlfn.IFS($E11>0,VLOOKUP($F11,objets!$A$2:$L4908,6,FALSE)*$E11,$F11="",0,$E11="",VLOOKUP($F11,objets!$A$2:$L4908,6,FALSE)) -> 2 | J11: =_xlfn.IFS($E11>0,VLOOKUP($F11,objets!$A$2:$L4908,6,FALSE)*$E11,$F11="",0,$E11="",VLOOKUP($F11,objets!$A$2:$L4908,6,FALSE)) -> 2 | K11: =_xlfn.IFS($E11>0,VLOOKUP($F11,objets!$A$2:$L4908,6,FALSE)*$E11,$F11="",0,$E11="",VLOOKUP($F11,objets!$A$2:$L4908,6,FALSE)) -> 2 | L11: =_xlfn.IFS($E11>0,VLOOKUP($F11,objets!$A$2:$L4908,6,FALSE)*$E11,$F11="",0,$E11="",VLOOKUP($F11,objets!$A$2:$L4908,6,FALSE)) -> 2 | M11: =_xlfn.IFS($E11>0,VLOOKUP($F11,objets!$A$2:$L4908,6,FALSE)*$E11,$F11="",0,$E11="",VLOOKUP($F11,objets!$A$2:$L4908,6,FALSE)) -> 2 | N11: =_xlfn.IFS($E11>0,VLOOKUP($F11,objets!$A$2:$L4908,6,FALSE)*$E11,$F11="",0,$E11="",VLOOKUP($F11,objets!$A$2:$L4908,6,FALSE)) -> 2 | P11: 0.8 | Q11: 0.8 | R11: 0.8 | S11: 0.8 | T11: 0.8 | U11: 0.8 | V11: 0.1 | X11: =SUMPRODUCT(H11:N11,P11:V11)/SUM(H11:N11) -> 0.7
A12: P66 | B12: CENTRE 1 | C12: TH.C.RCH.VCC | F12: RCH VCC | G12: =SUM(H12:N12) -> 14 | H12: =_xlfn.IFS($E12>0,VLOOKUP($F12,objets!$A$2:$L4909,6,FALSE)*$E12,$F12="",0,$E12="",VLOOKUP($F12,objets!$A$2:$L4909,6,FALSE)) -> 2 | I12: =_xlfn.IFS($E12>0,VLOOKUP($F12,objets!$A$2:$L4909,6,FALSE)*$E12,$F12="",0,$E12="",VLOOKUP($F12,objets!$A$2:$L4909,6,FALSE)) -> 2 | J12: =_xlfn.IFS($E12>0,VLOOKUP($F12,objets!$A$2:$L4909,6,FALSE)*$E12,$F12="",0,$E12="",VLOOKUP($F12,objets!$A$2:$L4909,6,FALSE)) -> 2 | K12: =_xlfn.IFS($E12>0,VLOOKUP($F12,objets!$A$2:$L4909,6,FALSE)*$E12,$F12="",0,$E12="",VLOOKUP($F12,objets!$A$2:$L4909,6,FALSE)) -> 2 | L12: =_xlfn.IFS($E12>0,VLOOKUP($F12,objets!$A$2:$L4909,6,FALSE)*$E12,$F12="",0,$E12="",VLOOKUP($F12,objets!$A$2:$L4909,6,FALSE)) -> 2 | M12: =_xlfn.IFS($E12>0,VLOOKUP($F12,objets!$A$2:$L4909,6,FALSE)*$E12,$F12="",0,$E12="",VLOOKUP($F12,objets!$A$2:$L4909,6,FALSE)) -> 2 | N12: =_xlfn.IFS($E12>0,VLOOKUP($F12,objets!$A$2:$L4909,6,FALSE)*$E12,$F12="",0,$E12="",VLOOKUP($F12,objets!$A$2:$L4909,6,FALSE)) -> 2 | P12: 0.8 | Q12: 0.8 | R12: 0.8 | S12: 0.8 | T12: 0.8 | U12: 0.8 | V12: 0.1 | X12: =SUMPRODUCT(H12:N12,P12:V12)/SUM(H12:N12) -> 0.7
A13: P66 | B13: CENTRE 1 | C13: SVM.RCH.1 Ag6683ac | F13: SVM Cadre | G13: =SUM(H13:N13) -> 28 | H13: =_xlfn.IFS($E13>0,VLOOKUP($F13,objets!$A$2:$L4912,6,FALSE)*$E13,$F13="",0,$E13="",VLOOKUP($F13,objets!$A$2:$L4912,6,FALSE)) -> 4 | I13: =_xlfn.IFS($E13>0,VLOOKUP($F13,objets!$A$2:$L4912,6,FALSE)*$E13,$F13="",0,$E13="",VLOOKUP($F13,objets!$A$2:$L4912,6,FALSE)) -> 4 | J13: =_xlfn.IFS($E13>0,VLOOKUP($F13,objets!$A$2:$L4912,6,FALSE)*$E13,$F13="",0,$E13="",VLOOKUP($F13,objets!$A$2:$L4912,6,FALSE)) -> 4 | K13: =_xlfn.IFS($E13>0,VLOOKUP($F13,objets!$A$2:$L4912,6,FALSE)*$E13,$F13="",0,$E13="",VLOOKUP($F13,objets!$A$2:$L4912,6,FALSE)) -> 4 | L13: =_xlfn.IFS($E13>0,VLOOKUP($F13,objets!$A$2:$L4912,6,FALSE)*$E13,$F13="",0,$E13="",VLOOKUP($F13,objets!$A$2:$L4912,6,FALSE)) -> 4 | M13: =_xlfn.IFS($E13>0,VLOOKUP($F13,objets!$A$2:$L4912,6,FALSE)*$E13,$F13="",0,$E13="",VLOOKUP($F13,objets!$A$2:$L4912,6,FALSE)) -> 4 | N13: =_xlfn.IFS($E13>0,VLOOKUP($F13,objets!$A$2:$L4912,6,FALSE)*$E13,$F13="",0,$E13="",VLOOKUP($F13,objets!$A$2:$L4912,6,FALSE)) -> 4 | P13: 0.8 | Q13: 0.8 | R13: 0.8 | S13: 0.8 | T13: 0.8 | U13: 0.8 | V13: 0.1 | X13: =SUMPRODUCT(H13:N13,P13:V13)/SUM(H13:N13) -> 0.7
A14: P66 | B14: CENTRE 1 | C14: SVM.RCH.1 Ag6677b | F14: SVM Cadre | G14: =SUM(H14:N14) -> 28 | H14: =_xlfn.IFS($E14>0,VLOOKUP($F14,objets!$A$2:$L4913,6,FALSE)*$E14,$F14="",0,$E14="",VLOOKUP($F14,objets!$A$2:$L4913,6,FALSE)) -> 4 | I14: =_xlfn.IFS($E14>0,VLOOKUP($F14,objets!$A$2:$L4913,6,FALSE)*$E14,$F14="",0,$E14="",VLOOKUP($F14,objets!$A$2:$L4913,6,FALSE)) -> 4 | J14: =_xlfn.IFS($E14>0,VLOOKUP($F14,objets!$A$2:$L4913,6,FALSE)*$E14,$F14="",0,$E14="",VLOOKUP($F14,objets!$A$2:$L4913,6,FALSE)) -> 4 | K14: =_xlfn.IFS($E14>0,VLOOKUP($F14,objets!$A$2:$L4913,6,FALSE)*$E14,$F14="",0,$E14="",VLOOKUP($F14,objets!$A$2:$L4913,6,FALSE)) -> 4 | L14: =_xlfn.IFS($E14>0,VLOOKUP($F14,objets!$A$2:$L4913,6,FALSE)*$E14,$F14="",0,$E14="",VLOOKUP($F14,objets!$A$2:$L4913,6,FALSE)) -> 4 | M14: =_xlfn.IFS($E14>0,VLOOKUP($F14,objets!$A$2:$L4913,6,FALSE)*$E14,$F14="",0,$E14="",VLOOKUP($F14,objets!$A$2:$L4913,6,FALSE)) -> 4 | N14: =_xlfn.IFS($E14>0,VLOOKUP($F14,objets!$A$2:$L4913,6,FALSE)*$E14,$F14="",0,$E14="",VLOOKUP($F14,objets!$A$2:$L4913,6,FALSE)) -> 4 | P14: 0.8 | Q14: 0.8 | R14: 0.8 | S14: 0.8 | T14: 0.8 | U14: 0.8 | V14: 0.1 | X14: =SUMPRODUCT(H14:N14,P14:V14)/SUM(H14:N14) -> 0.7
A15: P66 | B15: CENTRE 1 | C15: SVM.RCH.1 Ag6683b | F15: SVM Cadre | G15: =SUM(H15:N15) -> 28 | H15: =_xlfn.IFS($E15>0,VLOOKUP($F15,objets!$A$2:$L4914,6,FALSE)*$E15,$F15="",0,$E15="",VLOOKUP($F15,objets!$A$2:$L4914,6,FALSE)) -> 4 | I15: =_xlfn.IFS($E15>0,VLOOKUP($F15,objets!$A$2:$L4914,6,FALSE)*$E15,$F15="",0,$E15="",VLOOKUP($F15,objets!$A$2:$L4914,6,FALSE)) -> 4 | J15: =_xlfn.IFS($E15>0,VLOOKUP($F15,objets!$A$2:$L4914,6,FALSE)*$E15,$F15="",0,$E15="",VLOOKUP($F15,objets!$A$2:$L4914,6,FALSE)) -> 4 | K15: =_xlfn.IFS($E15>0,VLOOKUP($F15,objets!$A$2:$L4914,6,FALSE)*$E15,$F15="",0,$E15="",VLOOKUP($F15,objets!$A$2:$L4914,6,FALSE)) -> 4 | L15: =_xlfn.IFS($E15>0,VLOOKUP($F15,objets!$A$2:$L4914,6,FALSE)*$E15,$F15="",0,$E15="",VLOOKUP($F15,objets!$A$2:$L4914,6,FALSE)) -> 4 | M15: =_xlfn.IFS($E15>0,VLOOKUP($F15,objets!$A$2:$L4914,6,FALSE)*$E15,$F15="",0,$E15="",VLOOKUP($F15,objets!$A$2:$L4914,6,FALSE)) -> 4 | N15: =_xlfn.IFS($E15>0,VLOOKUP($F15,objets!$A$2:$L4914,6,FALSE)*$E15,$F15="",0,$E15="",VLOOKUP($F15,objets!$A$2:$L4914,6,FALSE)) -> 4 | P15: 0.8 | Q15: 0.8 | R15: 0.8 | S15: 0.8 | T15: 0.8 | U15: 0.8 | V15: 0.1 | X15: =SUMPRODUCT(H15:N15,P15:V15)/SUM(H15:N15) -> 0.7
A16: P66 | B16: CENTRE 1 | C16: CE03-1 (Point N) | F16: CRO | G16: =SUM(H16:N16) -> 14 | H16: =_xlfn.IFS($E16>0,VLOOKUP($F16,objets!$A$2:$L4915,6,FALSE)*$E16,$F16="",0,$E16="",VLOOKUP($F16,objets!$A$2:$L4915,6,FALSE)) -> 2 | I16: =_xlfn.IFS($E16>0,VLOOKUP($F16,objets!$A$2:$L4915,6,FALSE)*$E16,$F16="",0,$E16="",VLOOKUP($F16,objets!$A$2:$L4915,6,FALSE)) -> 2 | J16: =_xlfn.IFS($E16>0,VLOOKUP($F16,objets!$A$2:$L4915,6,FALSE)*$E16,$F16="",0,$E16="",VLOOKUP($F16,objets!$A$2:$L4915,6,FALSE)) -> 2 | K16: =_xlfn.IFS($E16>0,VLOOKUP($F16,objets!$A$2:$L4915,6,FALSE)*$E16,$F16="",0,$E16="",VLOOKUP($F16,objets!$A$2:$L4915,6,FALSE)) -> 2 | L16: =_xlfn.IFS($E16>0,VLOOKUP($F16,objets!$A$2:$L4915,6,FALSE)*$E16,$F16="",0,$E16="",VLOOKUP($F16,objets!$A$2:$L4915,6,FALSE)) -> 2 | M16: =_xlfn.IFS($E16>0,VLOOKUP($F16,objets!$A$2:$L4915,6,FALSE)*$E16,$F16="",0,$E16="",VLOOKUP($F16,objets!$A$2:$L4915,6,FALSE)) -> 2 | N16: =_xlfn.IFS($E16>0,VLOOKUP($F16,objets!$A$2:$L4915,6,FALSE)*$E16,$F16="",0,$E16="",VLOOKUP($F16,objets!$A$2:$L4915,6,FALSE)) -> 2 | P16: 0.8 | Q16: 0.8 | R16: 0.8 | S16: 0.8 | T16: 0.8 | U16: 0.8 | V16: 0.1 | X16: =SUMPRODUCT(H16:N16,P16:V16)/SUM(H16:N16) -> 0.7
B17: CENTRE 1 | C17: SVM | F17: SVM Cadre | G17: =SUM(H17:N17) -> 28 | H17: =_xlfn.IFS($E17>0,VLOOKUP($F17,objets!$A$2:$L4916,6,FALSE)*$E17,$F17="",0,$E17="",VLOOKUP($F17,objets!$A$2:$L4916,6,FALSE)) -> 4 | I17: =_xlfn.IFS($E17>0,VLOOKUP($F17,objets!$A$2:$L4916,6,FALSE)*$E17,$F17="",0,$E17="",VLOOKUP($F17,objets!$A$2:$L4916,6,FALSE)) -> 4 | J17: =_xlfn.IFS($E17>0,VLOOKUP($F17,objets!$A$2:$L4916,6,FALSE)*$E17,$F17="",0,$E17="",VLOOKUP($F17,objets!$A$2:$L4916,6,FALSE)) -> 4 | K17: =_xlfn.IFS($E17>0,VLOOKUP($F17,objets!$A$2:$L4916,6,FALSE)*$E17,$F17="",0,$E17="",VLOOKUP($F17,objets!$A$2:$L4916,6,FALSE)) -> 4 | L17: =_xlfn.IFS($E17>0,VLOOKUP($F17,objets!$A$2:$L4916,6,FALSE)*$E17,$F17="",0,$E17="",VLOOKUP($F17,objets!$A$2:$L4916,6,FALSE)) -> 4 | M17: =_xlfn.IFS($E17>0,VLOOKUP($F17,objets!$A$2:$L4916,6,FALSE)*$E17,$F17="",0,$E17="",VLOOKUP($F17,objets!$A$2:$L4916,6,FALSE)) -> 4 | N17: =_xlfn.IFS($E17>0,VLOOKUP($F17,objets!$A$2:$L4916,6,FALSE)*$E17,$F17="",0,$E17="",VLOOKUP($F17,objets!$A$2:$L4916,6,FALSE)) -> 4 | P17: 0.8 | Q17: 0.8 | R17: 0.8 | S17: 0.8 | T17: 0.8 | U17: 0.8 | V17: 0.1
A18: P66 | B18: CENTRE 1 | C18: REZ6651 | F18: CRO | G18: =SUM(H18:N18) -> 14 | H18: =_xlfn.IFS($E18>0,VLOOKUP($F18,objets!$A$2:$L4914,6,FALSE)*$E18,$F18="",0,$E18="",VLOOKUP($F18,objets!$A$2:$L4914,6,FALSE)) -> 2 | I18: =_xlfn.IFS($E18>0,VLOOKUP($F18,objets!$A$2:$L4914,6,FALSE)*$E18,$F18="",0,$E18="",VLOOKUP($F18,objets!$A$2:$L4914,6,FALSE)) -> 2 | J18: =_xlfn.IFS($E18>0,VLOOKUP($F18,objets!$A$2:$L4914,6,FALSE)*$E18,$F18="",0,$E18="",VLOOKUP($F18,objets!$A$2:$L4914,6,FALSE)) -> 2 | K18: =_xlfn.IFS($E18>0,VLOOKUP($F18,objets!$A$2:$L4914,6,FALSE)*$E18,$F18="",0,$E18="",VLOOKUP($F18,objets!$A$2:$L4914,6,FALSE)) -> 2 | L18: =_xlfn.IFS($E18>0,VLOOKUP($F18,objets!$A$2:$L4914,6,FALSE)*$E18,$F18="",0,$E18="",VLOOKUP($F18,objets!$A$2:$L4914,6,FALSE)) -> 2 | M18: =_xlfn.IFS($E18>0,VLOOKUP($F18,objets!$A$2:$L4914,6,FALSE)*$E18,$F18="",0,$E18="",VLOOKUP($F18,objets!$A$2:$L4914,6,FALSE)) -> 2 | N18: =_xlfn.IFS($E18>0,VLOOKUP($F18,objets!$A$2:$L4914,6,FALSE)*$E18,$F18="",0,$E18="",VLOOKUP($F18,objets!$A$2:$L4914,6,FALSE)) -> 2 | P18: 0.8 | Q18: 0.8 | R18: 0.8 | S18: 0.8 | T18: 0.8 | U18: 0.8 | V18: 0.1 | X18: =SUMPRODUCT(H18:N18,P18:V18)/SUM(H18:N18) -> 0.7
A19: P66 | B19: CENTRE 1 | C19: SVM.3E.MOT.C Ag6683ac | F19: SVM Cadre | G19: =SUM(H19:N19) -> 28 | H19: =_xlfn.IFS($E19>0,VLOOKUP($F19,objets!$A$2:$L4915,6,FALSE)*$E19,$F19="",0,$E19="",VLOOKUP($F19,objets!$A$2:$L4915,6,FALSE)) -> 4 | I19: =_xlfn.IFS($E19>0,VLOOKUP($F19,objets!$A$2:$L4915,6,FALSE)*$E19,$F19="",0,$E19="",VLOOKUP($F19,objets!$A$2:$L4915,6,FALSE)) -> 4 | J19: =_xlfn.IFS($E19>0,VLOOKUP($F19,objets!$A$2:$L4915,6,FALSE)*$E19,$F19="",0,$E19="",VLOOKUP($F19,objets!$A$2:$L4915,6,FALSE)) -> 4 | K19: =_xlfn.IFS($E19>0,VLOOKUP($F19,objets!$A$2:$L4915,6,FALSE)*$E19,$F19="",0,$E19="",VLOOKUP($F19,objets!$A$2:$L4915,6,FALSE)) -> 4 | L19: =_xlfn.IFS($E19>0,VLOOKUP($F19,objets!$A$2:$L4915,6,FALSE)*$E19,$F19="",0,$E19="",VLOOKUP($F19,objets!$A$2:$L4915,6,FALSE)) -> 4 | M19: =_xlfn.IFS($E19>0,VLOOKUP($F19,objets!$A$2:$L4915,6,FALSE)*$E19,$F19="",0,$E19="",VLOOKUP($F19,objets!$A$2:$L4915,6,FALSE)) -> 4 | N19: =_xlfn.IFS($E19>0,VLOOKUP($F19,objets!$A$2:$L4915,6,FALSE)*$E19,$F19="",0,$E19="",VLOOKUP($F19,objets!$A$2:$L4915,6,FALSE)) -> 4 | P19: 0.8 | Q19: 0.8 | R19: 0.8 | S19: 0.8 | T19: 0.8 | U19: 0.8 | V19: 0.1 | X19: =SUMPRODUCT(H19:N19,P19:V19)/SUM(H19:N19) -> 0.7
A20: P66 | B20: Centre A-1 | C20: SVM.3E.MOT.K Ag6683ac | F20: SVM Cadre | G20: =SUM(H20:N20) -> 28 | H20: =_xlfn.IFS($E20>0,VLOOKUP($F20,objets!$A$2:$L4918,6,FALSE)*$E20,$F20="",0,$E20="",VLOOKUP($F20,objets!$A$2:$L4918,6,FALSE)) -> 4 | I20: =_xlfn.IFS($E20>0,VLOOKUP($F20,objets!$A$2:$L4918,6,FALSE)*$E20,$F20="",0,$E20="",VLOOKUP($F20,objets!$A$2:$L4918,6,FALSE)) -> 4 | J20: =_xlfn.IFS($E20>0,VLOOKUP($F20,objets!$A$2:$L4918,6,FALSE)*$E20,$F20="",0,$E20="",VLOOKUP($F20,objets!$A$2:$L4918,6,FALSE)) -> 4 | K20: =_xlfn.IFS($E20>0,VLOOKUP($F20,objets!$A$2:$L4918,6,FALSE)*$E20,$F20="",0,$E20="",VLOOKUP($F20,objets!$A$2:$L4918,6,FALSE)) -> 4 | L20: =_xlfn.IFS($E20>0,VLOOKUP($F20,objets!$A$2:$L4918,6,FALSE)*$E20,$F20="",0,$E20="",VLOOKUP($F20,objets!$A$2:$L4918,6,FALSE)) -> 4 | M20: =_xlfn.IFS($E20>0,VLOOKUP($F20,objets!$A$2:$L4918,6,FALSE)*$E20,$F20="",0,$E20="",VLOOKUP($F20,objets!$A$2:$L4918,6,FALSE)) -> 4 | N20: =_xlfn.IFS($E20>0,VLOOKUP($F20,objets!$A$2:$L4918,6,FALSE)*$E20,$F20="",0,$E20="",VLOOKUP($F20,objets!$A$2:$L4918,6,FALSE)) -> 4 | P20: 0.8 | Q20: 0.8 | R20: 0.8 | S20: 0.8 | T20: 0.8 | U20: 0.8 | V20: 0.1 | X20: =SUMPRODUCT(H20:N20,P20:V20)/SUM(H20:N20) -> 0.7
G21: =SUM(H21:N21) -> 0 | H21: =_xlfn.IFS($E21>0,VLOOKUP($F21,objets!$A$2:$L4919,6,FALSE)*$E21,$F21="",0,$E21="",VLOOKUP($F21,objets!$A$2:$L4919,6,FALSE)) -> 0 | I21: =_xlfn.IFS($E21>0,VLOOKUP($F21,objets!$A$2:$L4919,6,FALSE)*$E21,$F21="",0,$E21="",VLOOKUP($F21,objets!$A$2:$L4919,6,FALSE)) -> 0 | J21: =_xlfn.IFS($E21>0,VLOOKUP($F21,objets!$A$2:$L4919,6,FALSE)*$E21,$F21="",0,$E21="",VLOOKUP($F21,objets!$A$2:$L4919,6,FALSE)) -> 0 | K21: =_xlfn.IFS($E21>0,VLOOKUP($F21,objets!$A$2:$L4919,6,FALSE)*$E21,$F21="",0,$E21="",VLOOKUP($F21,objets!$A$2:$L4919,6,FALSE)) -> 0 | L21: =_xlfn.IFS($E21>0,VLOOKUP($F21,objets!$A$2:$L4919,6,FALSE)*$E21,$F21="",0,$E21="",VLOOKUP($F21,objets!$A$2:$L4919,6,FALSE)) -> 0 | M21: =_xlfn.IFS($E21>0,VLOOKUP($F21,objets!$A$2:$L4919,6,FALSE)*$E21,$F21="",0,$E21="",VLOOKUP($F21,objets!$A$2:$L4919,6,FALSE)) -> 0 | N21: =_xlfn.IFS($E21>0,VLOOKUP($F21,objets!$A$2:$L4919,6,FALSE)*$E21,$F21="",0,$E21="",VLOOKUP($F21,objets!$A$2:$L4919,6,FALSE)) -> 0 | X21: =SUMPRODUCT(H21:N21,P21:V21)/SUM(H21:N21) -> #DIV/0!
G22: =SUM(H22:N22) -> 0 | H22: =_xlfn.IFS($E22>0,VLOOKUP($F22,objets!$A$2:$L4920,6,FALSE)*$E22,$F22="",0,$E22="",VLOOKUP($F22,objets!$A$2:$L4920,6,FALSE)) -> 0 | I22: =_xlfn.IFS($E22>0,VLOOKUP($F22,objets!$A$2:$L4920,6,FALSE)*$E22,$F22="",0,$E22="",VLOOKUP($F22,objets!$A$2:$L4920,6,FALSE)) -> 0 | J22: =_xlfn.IFS($E22>0,VLOOKUP($F22,objets!$A$2:$L4920,6,FALSE)*$E22,$F22="",0,$E22="",VLOOKUP($F22,objets!$A$2:$L4920,6,FALSE)) -> 0 | K22: =_xlfn.IFS($E22>0,VLOOKUP($F22,objets!$A$2:$L4920,6,FALSE)*$E22,$F22="",0,$E22="",VLOOKUP($F22,objets!$A$2:$L4920,6,FALSE)) -> 0 | L22: =_xlfn.IFS($E22>0,VLOOKUP($F22,objets!$A$2:$L4920,6,FALSE)*$E22,$F22="",0,$E22="",VLOOKUP($F22,objets!$A$2:$L4920,6,FALSE)) -> 0 | M22: =_xlfn.IFS($E22>0,VLOOKUP($F22,objets!$A$2:$L4920,6,FALSE)*$E22,$F22="",0,$E22="",VLOOKUP($F22,objets!$A$2:$L4920,6,FALSE)) -> 0 | N22: =_xlfn.IFS($E22>0,VLOOKUP($F22,objets!$A$2:$L4920,6,FALSE)*$E22,$F22="",0,$E22="",VLOOKUP($F22,objets!$A$2:$L4920,6,FALSE)) -> 0 | X22: =SUMPRODUCT(H22:N22,P22:V22)/SUM(H22:N22) -> #DIV/0!
G23: =SUM(H23:N23) -> 0 | H23: =_xlfn.IFS($E23>0,VLOOKUP($F23,objets!$A$2:$L4921,6,FALSE)*$E23,$F23="",0,$E23="",VLOOKUP($F23,objets!$A$2:$L4921,6,FALSE)) -> 0 | I23: =_xlfn.IFS($E23>0,VLOOKUP($F23,objets!$A$2:$L4921,6,FALSE)*$E23,$F23="",0,$E23="",VLOOKUP($F23,objets!$A$2:$L4921,6,FALSE)) -> 0 | J23: =_xlfn.IFS($E23>0,VLOOKUP($F23,objets!$A$2:$L4921,6,FALSE)*$E23,$F23="",0,$E23="",VLOOKUP($F23,objets!$A$2:$L4921,6,FALSE)) -> 0 | K23: =_xlfn.IFS($E23>0,VLOOKUP($F23,objets!$A$2:$L4921,6,FALSE)*$E23,$F23="",0,$E23="",VLOOKUP($F23,objets!$A$2:$L4921,6,FALSE)) -> 0 | L23: =_xlfn.IFS($E23>0,VLOOKUP($F23,objets!$A$2:$L4921,6,FALSE)*$E23,$F23="",0,$E23="",VLOOKUP($F23,objets!$A$2:$L4921,6,FALSE)) -> 0 | M23: =_xlfn.IFS($E23>0,VLOOKUP($F23,objets!$A$2:$L4921,6,FALSE)*$E23,$F23="",0,$E23="",VLOOKUP($F23,objets!$A$2:$L4921,6,FALSE)) -> 0 | N23: =_xlfn.IFS($E23>0,VLOOKUP($F23,objets!$A$2:$L4921,6,FALSE)*$E23,$F23="",0,$E23="",VLOOKUP($F23,objets!$A$2:$L4921,6,FALSE)) -> 0 | X23: =SUMPRODUCT(H23:N23,P23:V23)/SUM(H23:N23) -> #DIV/0!
G24: =SUM(H24:N24) -> 0 | H24: =_xlfn.IFS($E24>0,VLOOKUP($F24,objets!$A$2:$L4920,6,FALSE)*$E24,$F24="",0,$E24="",VLOOKUP($F24,objets!$A$2:$L4920,6,FALSE)) -> 0 | I24: =_xlfn.IFS($E24>0,VLOOKUP($F24,objets!$A$2:$L4920,6,FALSE)*$E24,$F24="",0,$E24="",VLOOKUP($F24,objets!$A$2:$L4920,6,FALSE)) -> 0 | J24: =_xlfn.IFS($E24>0,VLOOKUP($F24,objets!$A$2:$L4920,6,FALSE)*$E24,$F24="",0,$E24="",VLOOKUP($F24,objets!$A$2:$L4920,6,FALSE)) -> 0 | K24: =_xlfn.IFS($E24>0,VLOOKUP($F24,objets!$A$2:$L4920,6,FALSE)*$E24,$F24="",0,$E24="",VLOOKUP($F24,objets!$A$2:$L4920,6,FALSE)) -> 0 | L24: =_xlfn.IFS($E24>0,VLOOKUP($F24,objets!$A$2:$L4920,6,FALSE)*$E24,$F24="",0,$E24="",VLOOKUP($F24,objets!$A$2:$L4920,6,FALSE)) -> 0 | M24: =_xlfn.IFS($E24>0,VLOOKUP($F24,objets!$A$2:$L4920,6,FALSE)*$E24,$F24="",0,$E24="",VLOOKUP($F24,objets!$A$2:$L4920,6,FALSE)) -> 0 | N24: =_xlfn.IFS($E24>0,VLOOKUP($F24,objets!$A$2:$L4920,6,FALSE)*$E24,$F24="",0,$E24="",VLOOKUP($F24,objets!$A$2:$L4920,6,FALSE)) -> 0 | X24: =SUMPRODUCT(H24:N24,P24:V24)/SUM(H24:N24) -> #DIV/0!
G25: =SUM(H25:N25) -> 0 | H25: =_xlfn.IFS($E25>0,VLOOKUP($F25,objets!$A$2:$L4921,6,FALSE)*$E25,$F25="",0,$E25="",VLOOKUP($F25,objets!$A$2:$L4921,6,FALSE)) -> 0 | I25: =_xlfn.IFS($E25>0,VLOOKUP($F25,objets!$A$2:$L4921,6,FALSE)*$E25,$F25="",0,$E25="",VLOOKUP($F25,objets!$A$2:$L4921,6,FALSE)) -> 0 | J25: =_xlfn.IFS($E25>0,VLOOKUP($F25,objets!$A$2:$L4921,6,FALSE)*$E25,$F25="",0,$E25="",VLOOKUP($F25,objets!$A$2:$L4921,6,FALSE)) -> 0 | K25: =_xlfn.IFS($E25>0,VLOOKUP($F25,objets!$A$2:$L4921,6,FALSE)*$E25,$F25="",0,$E25="",VLOOKUP($F25,objets!$A$2:$L4921,6,FALSE)) -> 0 | L25: =_xlfn.IFS($E25>0,VLOOKUP($F25,objets!$A$2:$L4921,6,FALSE)*$E25,$F25="",0,$E25="",VLOOKUP($F25,objets!$A$2:$L4921,6,FALSE)) -> 0 | M25: =_xlfn.IFS($E25>0,VLOOKUP($F25,objets!$A$2:$L4921,6,FALSE)*$E25,$F25="",0,$E25="",VLOOKUP($F25,objets!$A$2:$L4921,6,FALSE)) -> 0 | N25: =_xlfn.IFS($E25>0,VLOOKUP($F25,objets!$A$2:$L4921,6,FALSE)*$E25,$F25="",0,$E25="",VLOOKUP($F25,objets!$A$2:$L4921,6,FALSE)) -> 0 | X25: =SUMPRODUCT(H25:N25,P25:V25)/SUM(H25:N25) -> #DIV/0!
G26: =SUM(H26:N26) -> 0 | H26: =_xlfn.IFS($E26>0,VLOOKUP($F26,objets!$A$2:$L4924,6,FALSE)*$E26,$F26="",0,$E26="",VLOOKUP($F26,objets!$A$2:$L4924,6,FALSE)) -> 0 | I26: =_xlfn.IFS($E26>0,VLOOKUP($F26,objets!$A$2:$L4924,6,FALSE)*$E26,$F26="",0,$E26="",VLOOKUP($F26,objets!$A$2:$L4924,6,FALSE)) -> 0 | J26: =_xlfn.IFS($E26>0,VLOOKUP($F26,objets!$A$2:$L4924,6,FALSE)*$E26,$F26="",0,$E26="",VLOOKUP($F26,objets!$A$2:$L4924,6,FALSE)) -> 0 | K26: =_xlfn.IFS($E26>0,VLOOKUP($F26,objets!$A$2:$L4924,6,FALSE)*$E26,$F26="",0,$E26="",VLOOKUP($F26,objets!$A$2:$L4924,6,FALSE)) -> 0 | L26: =_xlfn.IFS($E26>0,VLOOKUP($F26,objets!$A$2:$L4924,6,FALSE)*$E26,$F26="",0,$E26="",VLOOKUP($F26,objets!$A$2:$L4924,6,FALSE)) -> 0 | M26: =_xlfn.IFS($E26>0,VLOOKUP($F26,objets!$A$2:$L4924,6,FALSE)*$E26,$F26="",0,$E26="",VLOOKUP($F26,objets!$A$2:$L4924,6,FALSE)) -> 0 | N26: =_xlfn.IFS($E26>0,VLOOKUP($F26,objets!$A$2:$L4924,6,FALSE)*$E26,$F26="",0,$E26="",VLOOKUP($F26,objets!$A$2:$L4924,6,FALSE)) -> 0 | X26: =SUMPRODUCT(H26:N26,P26:V26)/SUM(H26:N26) -> #DIV/0!
G27: =SUM(H27:N27) -> 0 | H27: =_xlfn.IFS($E27>0,VLOOKUP($F27,objets!$A$2:$L4925,6,FALSE)*$E27,$F27="",0,$E27="",VLOOKUP($F27,objets!$A$2:$L4925,6,FALSE)) -> 0 | I27: =_xlfn.IFS($E27>0,VLOOKUP($F27,objets!$A$2:$L4925,6,FALSE)*$E27,$F27="",0,$E27="",VLOOKUP($F27,objets!$A$2:$L4925,6,FALSE)) -> 0 | J27: =_xlfn.IFS($E27>0,VLOOKUP($F27,objets!$A$2:$L4925,6,FALSE)*$E27,$F27="",0,$E27="",VLOOKUP($F27,objets!$A$2:$L4925,6,FALSE)) -> 0 | K27: =_xlfn.IFS($E27>0,VLOOKUP($F27,objets!$A$2:$L4925,6,FALSE)*$E27,$F27="",0,$E27="",VLOOKUP($F27,objets!$A$2:$L4925,6,FALSE)) -> 0 | L27: =_xlfn.IFS($E27>0,VLOOKUP($F27,objets!$A$2:$L4925,6,FALSE)*$E27,$F27="",0,$E27="",VLOOKUP($F27,objets!$A$2:$L4925,6,FALSE)) -> 0 | M27: =_xlfn.IFS($E27>0,VLOOKUP($F27,objets!$A$2:$L4925,6,FALSE)*$E27,$F27="",0,$E27="",VLOOKUP($F27,objets!$A$2:$L4925,6,FALSE)) -> 0 | N27: =_xlfn.IFS($E27>0,VLOOKUP($F27,objets!$A$2:$L4925,6,FALSE)*$E27,$F27="",0,$E27="",VLOOKUP($F27,objets!$A$2:$L4925,6,FALSE)) -> 0 | X27: =SUMPRODUCT(H27:N27,P27:V27)/SUM(H27:N27) -> #DIV/0!
G28: =SUM(H28:N28) -> 0 | H28: =_xlfn.IFS($E28>0,VLOOKUP($F28,objets!$A$2:$L4926,6,FALSE)*$E28,$F28="",0,$E28="",VLOOKUP($F28,objets!$A$2:$L4926,6,FALSE)) -> 0 | I28: =_xlfn.IFS($E28>0,VLOOKUP($F28,objets!$A$2:$L4926,6,FALSE)*$E28,$F28="",0,$E28="",VLOOKUP($F28,objets!$A$2:$L4926,6,FALSE)) -> 0 | J28: =_xlfn.IFS($E28>0,VLOOKUP($F28,objets!$A$2:$L4926,6,FALSE)*$E28,$F28="",0,$E28="",VLOOKUP($F28,objets!$A$2:$L4926,6,FALSE)) -> 0 | K28: =_xlfn.IFS($E28>0,VLOOKUP($F28,objets!$A$2:$L4926,6,FALSE)*$E28,$F28="",0,$E28="",VLOOKUP($F28,objets!$A$2:$L4926,6,FALSE)) -> 0 | L28: =_xlfn.IFS($E28>0,VLOOKUP($F28,objets!$A$2:$L4926,6,FALSE)*$E28,$F28="",0,$E28="",VLOOKUP($F28,objets!$A$2:$L4926,6,FALSE)) -> 0 | M28: =_xlfn.IFS($E28>0,VLOOKUP($F28,objets!$A$2:$L4926,6,FALSE)*$E28,$F28="",0,$E28="",VLOOKUP($F28,objets!$A$2:$L4926,6,FALSE)) -> 0 | N28: =_xlfn.IFS($E28>0,VLOOKUP($F28,objets!$A$2:$L4926,6,FALSE)*$E28,$F28="",0,$E28="",VLOOKUP($F28,objets!$A$2:$L4926,6,FALSE)) -> 0 | X28: =SUMPRODUCT(H28:N28,P28:V28)/SUM(H28:N28) -> #DIV/0!
G29: =SUM(H29:N29) -> 0 | H29: =_xlfn.IFS($E29>0,VLOOKUP($F29,objets!$A$2:$L4927,6,FALSE)*$E29,$F29="",0,$E29="",VLOOKUP($F29,objets!$A$2:$L4927,6,FALSE)) -> 0 | I29: =_xlfn.IFS($E29>0,VLOOKUP($F29,objets!$A$2:$L4927,6,FALSE)*$E29,$F29="",0,$E29="",VLOOKUP($F29,objets!$A$2:$L4927,6,FALSE)) -> 0 | J29: =_xlfn.IFS($E29>0,VLOOKUP($F29,objets!$A$2:$L4927,6,FALSE)*$E29,$F29="",0,$E29="",VLOOKUP($F29,objets!$A$2:$L4927,6,FALSE)) -> 0 | K29: =_xlfn.IFS($E29>0,VLOOKUP($F29,objets!$A$2:$L4927,6,FALSE)*$E29,$F29="",0,$E29="",VLOOKUP($F29,objets!$A$2:$L4927,6,FALSE)) -> 0 | L29: =_xlfn.IFS($E29>0,VLOOKUP($F29,objets!$A$2:$L4927,6,FALSE)*$E29,$F29="",0,$E29="",VLOOKUP($F29,objets!$A$2:$L4927,6,FALSE)) -> 0 | M29: =_xlfn.IFS($E29>0,VLOOKUP($F29,objets!$A$2:$L4927,6,FALSE)*$E29,$F29="",0,$E29="",VLOOKUP($F29,objets!$A$2:$L4927,6,FALSE)) -> 0 | N29: =_xlfn.IFS($E29>0,VLOOKUP($F29,objets!$A$2:$L4927,6,FALSE)*$E29,$F29="",0,$E29="",VLOOKUP($F29,objets!$A$2:$L4927,6,FALSE)) -> 0 | X29: =SUMPRODUCT(H29:N29,P29:V29)/SUM(H29:N29) -> #DIV/0!
G30: =SUM(H30:N30) -> 0 | H30: =_xlfn.IFS($E30>0,VLOOKUP($F30,objets!$A$2:$L4926,6,FALSE)*$E30,$F30="",0,$E30="",VLOOKUP($F30,objets!$A$2:$L4926,6,FALSE)) -> 0 | I30: =_xlfn.IFS($E30>0,VLOOKUP($F30,objets!$A$2:$L4926,6,FALSE)*$E30,$F30="",0,$E30="",VLOOKUP($F30,objets!$A$2:$L4926,6,FALSE)) -> 0 | J30: =_xlfn.IFS($E30>0,VLOOKUP($F30,objets!$A$2:$L4926,6,FALSE)*$E30,$F30="",0,$E30="",VLOOKUP($F30,objets!$A$2:$L4926,6,FALSE)) -> 0 | K30: =_xlfn.IFS($E30>0,VLOOKUP($F30,objets!$A$2:$L4926,6,FALSE)*$E30,$F30="",0,$E30="",VLOOKUP($F30,objets!$A$2:$L4926,6,FALSE)) -> 0 | L30: =_xlfn.IFS($E30>0,VLOOKUP($F30,objets!$A$2:$L4926,6,FALSE)*$E30,$F30="",0,$E30="",VLOOKUP($F30,objets!$A$2:$L4926,6,FALSE)) -> 0 | M30: =_xlfn.IFS($E30>0,VLOOKUP($F30,objets!$A$2:$L4926,6,FALSE)*$E30,$F30="",0,$E30="",VLOOKUP($F30,objets!$A$2:$L4926,6,FALSE)) -> 0 | N30: =_xlfn.IFS($E30>0,VLOOKUP($F30,objets!$A$2:$L4926,6,FALSE)*$E30,$F30="",0,$E30="",VLOOKUP($F30,objets!$A$2:$L4926,6,FALSE)) -> 0 | X30: =SUMPRODUCT(H30:N30,P30:V30)/SUM(H30:N30) -> #DIV/0!
G31: =SUM(H31:N31) -> 0 | H31: =_xlfn.IFS($E31>0,VLOOKUP($F31,objets!$A$2:$L4927,6,FALSE)*$E31,$F31="",0,$E31="",VLOOKUP($F31,objets!$A$2:$L4927,6,FALSE)) -> 0 | I31: =_xlfn.IFS($E31>0,VLOOKUP($F31,objets!$A$2:$L4927,6,FALSE)*$E31,$F31="",0,$E31="",VLOOKUP($F31,objets!$A$2:$L4927,6,FALSE)) -> 0 | J31: =_xlfn.IFS($E31>0,VLOOKUP($F31,objets!$A$2:$L4927,6,FALSE)*$E31,$F31="",0,$E31="",VLOOKUP($F31,objets!$A$2:$L4927,6,FALSE)) -> 0 | K31: =_xlfn.IFS($E31>0,VLOOKUP($F31,objets!$A$2:$L4927,6,FALSE)*$E31,$F31="",0,$E31="",VLOOKUP($F31,objets!$A$2:$L4927,6,FALSE)) -> 0 | L31: =_xlfn.IFS($E31>0,VLOOKUP($F31,objets!$A$2:$L4927,6,FALSE)*$E31,$F31="",0,$E31="",VLOOKUP($F31,objets!$A$2:$L4927,6,FALSE)) -> 0 | M31: =_xlfn.IFS($E31>0,VLOOKUP($F31,objets!$A$2:$L4927,6,FALSE)*$E31,$F31="",0,$E31="",VLOOKUP($F31,objets!$A$2:$L4927,6,FALSE)) -> 0 | N31: =_xlfn.IFS($E31>0,VLOOKUP($F31,objets!$A$2:$L4927,6,FALSE)*$E31,$F31="",0,$E31="",VLOOKUP($F31,objets!$A$2:$L4927,6,FALSE)) -> 0 | X31: =SUMPRODUCT(H31:N31,P31:V31)/SUM(H31:N31) -> #DIV/0!
G32: =SUM(H32:N32) -> 0 | H32: =_xlfn.IFS($E32>0,VLOOKUP($F32,objets!$A$2:$L4922,6,FALSE)*$E32,$F32="",0,$E32="",VLOOKUP($F32,objets!$A$2:$L4922,6,FALSE)) -> 0 | I32: =_xlfn.IFS($E32>0,VLOOKUP($F32,objets!$A$2:$L4922,6,FALSE)*$E32,$F32="",0,$E32="",VLOOKUP($F32,objets!$A$2:$L4922,6,FALSE)) -> 0 | J32: =_xlfn.IFS($E32>0,VLOOKUP($F32,objets!$A$2:$L4922,6,FALSE)*$E32,$F32="",0,$E32="",VLOOKUP($F32,objets!$A$2:$L4922,6,FALSE)) -> 0 | K32: =_xlfn.IFS($E32>0,VLOOKUP($F32,objets!$A$2:$L4922,6,FALSE)*$E32,$F32="",0,$E32="",VLOOKUP($F32,objets!$A$2:$L4922,6,FALSE)) -> 0 | L32: =_xlfn.IFS($E32>0,VLOOKUP($F32,objets!$A$2:$L4922,6,FALSE)*$E32,$F32="",0,$E32="",VLOOKUP($F32,objets!$A$2:$L4922,6,FALSE)) -> 0 | M32: =_xlfn.IFS($E32>0,VLOOKUP($F32,objets!$A$2:$L4922,6,FALSE)*$E32,$F32="",0,$E32="",VLOOKUP($F32,objets!$A$2:$L4922,6,FALSE)) -> 0 | N32: =_xlfn.IFS($E32>0,VLOOKUP($F32,objets!$A$2:$L4922,6,FALSE)*$E32,$F32="",0,$E32="",VLOOKUP($F32,objets!$A$2:$L4922,6,FALSE)) -> 0 | X32: =SUMPRODUCT(H32:N32,P32:V32)/SUM(H32:N32) -> #DIV/0!
G33: =SUM(H33:N33) -> 0 | H33: =_xlfn.IFS($E33>0,VLOOKUP($F33,objets!$A$2:$L4931,6,FALSE)*$E33,$F33="",0,$E33="",VLOOKUP($F33,objets!$A$2:$L4931,6,FALSE)) -> 0 | I33: =_xlfn.IFS($E33>0,VLOOKUP($F33,objets!$A$2:$L4931,6,FALSE)*$E33,$F33="",0,$E33="",VLOOKUP($F33,objets!$A$2:$L4931,6,FALSE)) -> 0 | J33: =_xlfn.IFS($E33>0,VLOOKUP($F33,objets!$A$2:$L4931,6,FALSE)*$E33,$F33="",0,$E33="",VLOOKUP($F33,objets!$A$2:$L4931,6,FALSE)) -> 0 | K33: =_xlfn.IFS($E33>0,VLOOKUP($F33,objets!$A$2:$L4931,6,FALSE)*$E33,$F33="",0,$E33="",VLOOKUP($F33,objets!$A$2:$L4931,6,FALSE)) -> 0 | L33: =_xlfn.IFS($E33>0,VLOOKUP($F33,objets!$A$2:$L4931,6,FALSE)*$E33,$F33="",0,$E33="",VLOOKUP($F33,objets!$A$2:$L4931,6,FALSE)) -> 0 | M33: =_xlfn.IFS($E33>0,VLOOKUP($F33,objets!$A$2:$L4931,6,FALSE)*$E33,$F33="",0,$E33="",VLOOKUP($F33,objets!$A$2:$L4931,6,FALSE)) -> 0 | N33: =_xlfn.IFS($E33>0,VLOOKUP($F33,objets!$A$2:$L4931,6,FALSE)*$E33,$F33="",0,$E33="",VLOOKUP($F33,objets!$A$2:$L4931,6,FALSE)) -> 0 | X33: =SUMPRODUCT(H33:N33,P33:V33)/SUM(H33:N33) -> #DIV/0!
G34: =SUM(H34:N34) -> 0 | H34: =_xlfn.IFS($E34>0,VLOOKUP($F34,objets!$A$2:$L4932,6,FALSE)*$E34,$F34="",0,$E34="",VLOOKUP($F34,objets!$A$2:$L4932,6,FALSE)) -> 0 | I34: =_xlfn.IFS($E34>0,VLOOKUP($F34,objets!$A$2:$L4932,6,FALSE)*$E34,$F34="",0,$E34="",VLOOKUP($F34,objets!$A$2:$L4932,6,FALSE)) -> 0 | J34: =_xlfn.IFS($E34>0,VLOOKUP($F34,objets!$A$2:$L4932,6,FALSE)*$E34,$F34="",0,$E34="",VLOOKUP($F34,objets!$A$2:$L4932,6,FALSE)) -> 0 | K34: =_xlfn.IFS($E34>0,VLOOKUP($F34,objets!$A$2:$L4932,6,FALSE)*$E34,$F34="",0,$E34="",VLOOKUP($F34,objets!$A$2:$L4932,6,FALSE)) -> 0 | L34: =_xlfn.IFS($E34>0,VLOOKUP($F34,objets!$A$2:$L4932,6,FALSE)*$E34,$F34="",0,$E34="",VLOOKUP($F34,objets!$A$2:$L4932,6,FALSE)) -> 0 | M34: =_xlfn.IFS($E34>0,VLOOKUP($F34,objets!$A$2:$L4932,6,FALSE)*$E34,$F34="",0,$E34="",VLOOKUP($F34,objets!$A$2:$L4932,6,FALSE)) -> 0 | N34: =_xlfn.IFS($E34>0,VLOOKUP($F34,objets!$A$2:$L4932,6,FALSE)*$E34,$F34="",0,$E34="",VLOOKUP($F34,objets!$A$2:$L4932,6,FALSE)) -> 0 | X34: =SUMPRODUCT(H34:N34,P34:V34)/SUM(H34:N34) -> #DIV/0!
G35: =SUM(H35:N35) -> 0 | H35: =_xlfn.IFS($E35>0,VLOOKUP($F35,objets!$A$2:$L4933,6,FALSE)*$E35,$F35="",0,$E35="",VLOOKUP($F35,objets!$A$2:$L4933,6,FALSE)) -> 0 | I35: =_xlfn.IFS($E35>0,VLOOKUP($F35,objets!$A$2:$L4933,6,FALSE)*$E35,$F35="",0,$E35="",VLOOKUP($F35,objets!$A$2:$L4933,6,FALSE)) -> 0 | J35: =_xlfn.IFS($E35>0,VLOOKUP($F35,objets!$A$2:$L4933,6,FALSE)*$E35,$F35="",0,$E35="",VLOOKUP($F35,objets!$A$2:$L4933,6,FALSE)) -> 0 | K35: =_xlfn.IFS($E35>0,VLOOKUP($F35,objets!$A$2:$L4933,6,FALSE)*$E35,$F35="",0,$E35="",VLOOKUP($F35,objets!$A$2:$L4933,6,FALSE)) -> 0 | L35: =_xlfn.IFS($E35>0,VLOOKUP($F35,objets!$A$2:$L4933,6,FALSE)*$E35,$F35="",0,$E35="",VLOOKUP($F35,objets!$A$2:$L4933,6,FALSE)) -> 0 | M35: =_xlfn.IFS($E35>0,VLOOKUP($F35,objets!$A$2:$L4933,6,FALSE)*$E35,$F35="",0,$E35="",VLOOKUP($F35,objets!$A$2:$L4933,6,FALSE)) -> 0 | N35: =_xlfn.IFS($E35>0,VLOOKUP($F35,objets!$A$2:$L4933,6,FALSE)*$E35,$F35="",0,$E35="",VLOOKUP($F35,objets!$A$2:$L4933,6,FALSE)) -> 0 | X35: =SUMPRODUCT(H35:N35,P35:V35)/SUM(H35:N35) -> #DIV/0!
G36: =SUM(H36:N36) -> 0 | H36: =_xlfn.IFS($E36>0,VLOOKUP($F36,objets!$A$2:$L4932,6,FALSE)*$E36,$F36="",0,$E36="",VLOOKUP($F36,objets!$A$2:$L4932,6,FALSE)) -> 0 | I36: =_xlfn.IFS($E36>0,VLOOKUP($F36,objets!$A$2:$L4932,6,FALSE)*$E36,$F36="",0,$E36="",VLOOKUP($F36,objets!$A$2:$L4932,6,FALSE)) -> 0 | J36: =_xlfn.IFS($E36>0,VLOOKUP($F36,objets!$A$2:$L4932,6,FALSE)*$E36,$F36="",0,$E36="",VLOOKUP($F36,objets!$A$2:$L4932,6,FALSE)) -> 0 | K36: =_xlfn.IFS($E36>0,VLOOKUP($F36,objets!$A$2:$L4932,6,FALSE)*$E36,$F36="",0,$E36="",VLOOKUP($F36,objets!$A$2:$L4932,6,FALSE)) -> 0 | L36: =_xlfn.IFS($E36>0,VLOOKUP($F36,objets!$A$2:$L4932,6,FALSE)*$E36,$F36="",0,$E36="",VLOOKUP($F36,objets!$A$2:$L4932,6,FALSE)) -> 0 | M36: =_xlfn.IFS($E36>0,VLOOKUP($F36,objets!$A$2:$L4932,6,FALSE)*$E36,$F36="",0,$E36="",VLOOKUP($F36,objets!$A$2:$L4932,6,FALSE)) -> 0 | N36: =_xlfn.IFS($E36>0,VLOOKUP($F36,objets!$A$2:$L4932,6,FALSE)*$E36,$F36="",0,$E36="",VLOOKUP($F36,objets!$A$2:$L4932,6,FALSE)) -> 0 | X36: =SUMPRODUCT(H36:N36,P36:V36)/SUM(H36:N36) -> #DIV/0!
G37: =SUM(H37:N37) -> 0 | H37: =_xlfn.IFS($E37>0,VLOOKUP($F37,objets!$A$2:$L4933,6,FALSE)*$E37,$F37="",0,$E37="",VLOOKUP($F37,objets!$A$2:$L4933,6,FALSE)) -> 0 | I37: =_xlfn.IFS($E37>0,VLOOKUP($F37,objets!$A$2:$L4933,6,FALSE)*$E37,$F37="",0,$E37="",VLOOKUP($F37,objets!$A$2:$L4933,6,FALSE)) -> 0 | J37: =_xlfn.IFS($E37>0,VLOOKUP($F37,objets!$A$2:$L4933,6,FALSE)*$E37,$F37="",0,$E37="",VLOOKUP($F37,objets!$A$2:$L4933,6,FALSE)) -> 0 | K37: =_xlfn.IFS($E37>0,VLOOKUP($F37,objets!$A$2:$L4933,6,FALSE)*$E37,$F37="",0,$E37="",VLOOKUP($F37,objets!$A$2:$L4933,6,FALSE)) -> 0 | L37: =_xlfn.IFS($E37>0,VLOOKUP($F37,objets!$A$2:$L4933,6,FALSE)*$E37,$F37="",0,$E37="",VLOOKUP($F37,objets!$A$2:$L4933,6,FALSE)) -> 0 | M37: =_xlfn.IFS($E37>0,VLOOKUP($F37,objets!$A$2:$L4933,6,FALSE)*$E37,$F37="",0,$E37="",VLOOKUP($F37,objets!$A$2:$L4933,6,FALSE)) -> 0 | N37: =_xlfn.IFS($E37>0,VLOOKUP($F37,objets!$A$2:$L4933,6,FALSE)*$E37,$F37="",0,$E37="",VLOOKUP($F37,objets!$A$2:$L4933,6,FALSE)) -> 0 | X37: =SUMPRODUCT(H37:N37,P37:V37)/SUM(H37:N37) -> #DIV/0!
G38: =SUM(H38:N38) -> 0 | H38: =_xlfn.IFS($E38>0,VLOOKUP($F38,objets!$A$2:$L4936,6,FALSE)*$E38,$F38="",0,$E38="",VLOOKUP($F38,objets!$A$2:$L4936,6,FALSE)) -> 0 | I38: =_xlfn.IFS($E38>0,VLOOKUP($F38,objets!$A$2:$L4936,6,FALSE)*$E38,$F38="",0,$E38="",VLOOKUP($F38,objets!$A$2:$L4936,6,FALSE)) -> 0 | J38: =_xlfn.IFS($E38>0,VLOOKUP($F38,objets!$A$2:$L4936,6,FALSE)*$E38,$F38="",0,$E38="",VLOOKUP($F38,objets!$A$2:$L4936,6,FALSE)) -> 0 | K38: =_xlfn.IFS($E38>0,VLOOKUP($F38,objets!$A$2:$L4936,6,FALSE)*$E38,$F38="",0,$E38="",VLOOKUP($F38,objets!$A$2:$L4936,6,FALSE)) -> 0 | L38: =_xlfn.IFS($E38>0,VLOOKUP($F38,objets!$A$2:$L4936,6,FALSE)*$E38,$F38="",0,$E38="",VLOOKUP($F38,objets!$A$2:$L4936,6,FALSE)) -> 0 | M38: =_xlfn.IFS($E38>0,VLOOKUP($F38,objets!$A$2:$L4936,6,FALSE)*$E38,$F38="",0,$E38="",VLOOKUP($F38,objets!$A$2:$L4936,6,FALSE)) -> 0 | N38: =_xlfn.IFS($E38>0,VLOOKUP($F38,objets!$A$2:$L4936,6,FALSE)*$E38,$F38="",0,$E38="",VLOOKUP($F38,objets!$A$2:$L4936,6,FALSE)) -> 0 | X38: =SUMPRODUCT(H38:N38,P38:V38)/SUM(H38:N38) -> #DIV/0!
G39: =SUM(H39:N39) -> 0 | H39: =_xlfn.IFS($E39>0,VLOOKUP($F39,objets!$A$2:$L4937,6,FALSE)*$E39,$F39="",0,$E39="",VLOOKUP($F39,objets!$A$2:$L4937,6,FALSE)) -> 0 | I39: =_xlfn.IFS($E39>0,VLOOKUP($F39,objets!$A$2:$L4937,6,FALSE)*$E39,$F39="",0,$E39="",VLOOKUP($F39,objets!$A$2:$L4937,6,FALSE)) -> 0 | J39: =_xlfn.IFS($E39>0,VLOOKUP($F39,objets!$A$2:$L4937,6,FALSE)*$E39,$F39="",0,$E39="",VLOOKUP($F39,objets!$A$2:$L4937,6,FALSE)) -> 0 | K39: =_xlfn.IFS($E39>0,VLOOKUP($F39,objets!$A$2:$L4937,6,FALSE)*$E39,$F39="",0,$E39="",VLOOKUP($F39,objets!$A$2:$L4937,6,FALSE)) -> 0 | L39: =_xlfn.IFS($E39>0,VLOOKUP($F39,objets!$A$2:$L4937,6,FALSE)*$E39,$F39="",0,$E39="",VLOOKUP($F39,objets!$A$2:$L4937,6,FALSE)) -> 0 | M39: =_xlfn.IFS($E39>0,VLOOKUP($F39,objets!$A$2:$L4937,6,FALSE)*$E39,$F39="",0,$E39="",VLOOKUP($F39,objets!$A$2:$L4937,6,FALSE)) -> 0 | N39: =_xlfn.IFS($E39>0,VLOOKUP($F39,objets!$A$2:$L4937,6,FALSE)*$E39,$F39="",0,$E39="",VLOOKUP($F39,objets!$A$2:$L4937,6,FALSE)) -> 0 | X39: =SUMPRODUCT(H39:N39,P39:V39)/SUM(H39:N39) -> #DIV/0!
G40: =SUM(H40:N40) -> 0 | H40: =_xlfn.IFS($E40>0,VLOOKUP($F40,objets!$A$2:$L4938,6,FALSE)*$E40,$F40="",0,$E40="",VLOOKUP($F40,objets!$A$2:$L4938,6,FALSE)) -> 0 | I40: =_xlfn.IFS($E40>0,VLOOKUP($F40,objets!$A$2:$L4938,6,FALSE)*$E40,$F40="",0,$E40="",VLOOKUP($F40,objets!$A$2:$L4938,6,FALSE)) -> 0 | J40: =_xlfn.IFS($E40>0,VLOOKUP($F40,objets!$A$2:$L4938,6,FALSE)*$E40,$F40="",0,$E40="",VLOOKUP($F40,objets!$A$2:$L4938,6,FALSE)) -> 0 | K40: =_xlfn.IFS($E40>0,VLOOKUP($F40,objets!$A$2:$L4938,6,FALSE)*$E40,$F40="",0,$E40="",VLOOKUP($F40,objets!$A$2:$L4938,6,FALSE)) -> 0 | L40: =_xlfn.IFS($E40>0,VLOOKUP($F40,objets!$A$2:$L4938,6,FALSE)*$E40,$F40="",0,$E40="",VLOOKUP($F40,objets!$A$2:$L4938,6,FALSE)) -> 0 | M40: =_xlfn.IFS($E40>0,VLOOKUP($F40,objets!$A$2:$L4938,6,FALSE)*$E40,$F40="",0,$E40="",VLOOKUP($F40,objets!$A$2:$L4938,6,FALSE)) -> 0 | N40: =_xlfn.IFS($E40>0,VLOOKUP($F40,objets!$A$2:$L4938,6,FALSE)*$E40,$F40="",0,$E40="",VLOOKUP($F40,objets!$A$2:$L4938,6,FALSE)) -> 0 | X40: =SUMPRODUCT(H40:N40,P40:V40)/SUM(H40:N40) -> #DIV/0!
G41: =SUM(H41:N41) -> 0 | H41: =_xlfn.IFS($E41>0,VLOOKUP($F41,objets!$A$2:$L4939,6,FALSE)*$E41,$F41="",0,$E41="",VLOOKUP($F41,objets!$A$2:$L4939,6,FALSE)) -> 0 | I41: =_xlfn.IFS($E41>0,VLOOKUP($F41,objets!$A$2:$L4939,6,FALSE)*$E41,$F41="",0,$E41="",VLOOKUP($F41,objets!$A$2:$L4939,6,FALSE)) -> 0 | J41: =_xlfn.IFS($E41>0,VLOOKUP($F41,objets!$A$2:$L4939,6,FALSE)*$E41,$F41="",0,$E41="",VLOOKUP($F41,objets!$A$2:$L4939,6,FALSE)) -> 0 | K41: =_xlfn.IFS($E41>0,VLOOKUP($F41,objets!$A$2:$L4939,6,FALSE)*$E41,$F41="",0,$E41="",VLOOKUP($F41,objets!$A$2:$L4939,6,FALSE)) -> 0 | L41: =_xlfn.IFS($E41>0,VLOOKUP($F41,objets!$A$2:$L4939,6,FALSE)*$E41,$F41="",0,$E41="",VLOOKUP($F41,objets!$A$2:$L4939,6,FALSE)) -> 0 | M41: =_xlfn.IFS($E41>0,VLOOKUP($F41,objets!$A$2:$L4939,6,FALSE)*$E41,$F41="",0,$E41="",VLOOKUP($F41,objets!$A$2:$L4939,6,FALSE)) -> 0 | N41: =_xlfn.IFS($E41>0,VLOOKUP($F41,objets!$A$2:$L4939,6,FALSE)*$E41,$F41="",0,$E41="",VLOOKUP($F41,objets!$A$2:$L4939,6,FALSE)) -> 0 | X41: =SUMPRODUCT(H41:N41,P41:V41)/SUM(H41:N41) -> #DIV/0!
...

Sheet Encadrant Nord
B1: =Zone!B1 -> test | F1: =TODAY() -> 43858
A3: Identification de l'IS | G3: Temps Production - Temps élémentaires | P3: Avancement | Z3: PREPA SUR PARC | AJ3: INSTALLATION EN VOIE ou POSTE | AN3: RACCORDEMENT
A4: Zone | B4: Centres | C4: Travaux | D4: Commentaires : particularité de l'IS | E4: Nbre éléments pour poste | F4: Type IS | G4: TOTAL | H4: Déroulage câble | I4: Equipement poste (Neuf ou Modif) | J4: Prépa Parc | K4: Pose à la voie | L4: Racco voie | M4: Racco Centre | N4: Contrôle | P4: Déroulage câble | Q4: Equipement poste (Neuf ou modif) | R4: Prépa Parc | S4: Pose à la voie | T4: Racco voie | U4: Racco Centre | V4: Contrôle | W4: COMMENTAIRES | Z4: Préparation à réaliser pour | AA4: Relevé terrain | AB4: Méca réalisée par Nom Date | AD4: Câblage réalisé par Nom Date | AF4: Réserves Oui Non | AH4: Réserves | AJ4: Installé par | AK4: Travaux terminé | AL4: Réserves / Commentaires | AN4: Raccordé par | AO4: Travaux terminé | AP4: Réserves / Commentaires
A5: Encadrant Nord | B5: Centre K1 | C5: REZ6663 | F5: CRO | G5: =SUM(H5:N5) -> 14 | H5: =_xlfn.IFS($E5>0,VLOOKUP($F5,objets!$A$2:$L5085,6,FALSE)*$E5,$F5="",0,$E5="",VLOOKUP($F5,objets!$A$2:$L5085,6,FALSE)) -> 2 | I5: =_xlfn.IFS($E5>0,VLOOKUP($F5,objets!$A$2:$L5085,6,FALSE)*$E5,$F5="",0,$E5="",VLOOKUP($F5,objets!$A$2:$L5085,6,FALSE)) -> 2 | J5: =_xlfn.IFS($E5>0,VLOOKUP($F5,objets!$A$2:$L5085,6,FALSE)*$E5,$F5="",0,$E5="",VLOOKUP($F5,objets!$A$2:$L5085,6,FALSE)) -> 2 | K5: =_xlfn.IFS($E5>0,VLOOKUP($F5,objets!$A$2:$L5085,6,FALSE)*$E5,$F5="",0,$E5="",VLOOKUP($F5,objets!$A$2:$L5085,6,FALSE)) -> 2 | L5: =_xlfn.IFS($E5>0,VLOOKUP($F5,objets!$A$2:$L5085,6,FALSE)*$E5,$F5="",0,$E5="",VLOOKUP($F5,objets!$A$2:$L5085,6,FALSE)) -> 2 | M5: =_xlfn.IFS($E5>0,VLOOKUP($F5,objets!$A$2:$L5085,6,FALSE)*$E5,$F5="",0,$E5="",VLOOKUP($F5,objets!$A$2:$L5085,6,FALSE)) -> 2 | N5: =_xlfn.IFS($E5>0,VLOOKUP($F5,objets!$A$2:$L5085,6,FALSE)*$E5,$F5="",0,$E5="",VLOOKUP($F5,objets!$A$2:$L5085,6,FALSE)) -> 2 | X5: =SUMPRODUCT(H5:N5,P5:V5)/SUM(H5:N5) -> 0
A6: Encadrant Nord | B6: Centre K1 | C6: Pd.Déto+A.Cro6620 | F6: Pd méca | G6: =SUM(H6:N6) -> 14 | H6: =_xlfn.IFS($E6>0,VLOOKUP($F6,objets!$A$2:$L5074,6,FALSE)*$E6,$F6="",0,$E6="",VLOOKUP($F6,objets!$A$2:$L5074,6,FALSE)) -> 2 | I6: =_xlfn.IFS($E6>0,VLOOKUP($F6,objets!$A$2:$L5074,6,FALSE)*$E6,$F6="",0,$E6="",VLOOKUP($F6,objets!$A$2:$L5074,6,FALSE)) -> 2 | J6: =_xlfn.IFS($E6>0,VLOOKUP($F6,objets!$A$2:$L5074,6,FALSE)*$E6,$F6="",0,$E6="",VLOOKUP($F6,objets!$A$2:$L5074,6,FALSE)) -> 2 | K6: =_xlfn.IFS($E6>0,VLOOKUP($F6,objets!$A$2:$L5074,6,FALSE)*$E6,$F6="",0,$E6="",VLOOKUP($F6,objets!$A$2:$L5074,6,FALSE)) -> 2 | L6: =_xlfn.IFS($E6>0,VLOOKUP($F6,objets!$A$2:$L5074,6,FALSE)*$E6,$F6="",0,$E6="",VLOOKUP($F6,objets!$A$2:$L5074,6,FALSE)) -> 2 | M6: =_xlfn.IFS($E6>0,VLOOKUP($F6,objets!$A$2:$L5074,6,FALSE)*$E6,$F6="",0,$E6="",VLOOKUP($F6,objets!$A$2:$L5074,6,FALSE)) -> 2 | N6: =_xlfn.IFS($E6>0,VLOOKUP($F6,objets!$A$2:$L5074,6,FALSE)*$E6,$F6="",0,$E6="",VLOOKUP($F6,objets!$A$2:$L5074,6,FALSE)) -> 2 | X6: =SUMPRODUCT(H6:N6,P6:V6)/SUM(H6:N6) -> 0
A7: Encadrant Nord | B7: Centre K1 | C7: CRO 6620 | F7: CRO | G7: =SUM(H7:N7) -> 14 | H7: =_xlfn.IFS($E7>0,VLOOKUP($F7,objets!$A$2:$L4907,6,FALSE)*$E7,$F7="",0,$E7="",VLOOKUP($F7,objets!$A$2:$L4907,6,FALSE)) -> 2 | I7: =_xlfn.IFS($E7>0,VLOOKUP($F7,objets!$A$2:$L4907,6,FALSE)*$E7,$F7="",0,$E7="",VLOOKUP($F7,objets!$A$2:$L4907,6,FALSE)) -> 2 | J7: =_xlfn.IFS($E7>0,VLOOKUP($F7,objets!$A$2:$L4907,6,FALSE)*$E7,$F7="",0,$E7="",VLOOKUP($F7,objets!$A$2:$L4907,6,FALSE)) -> 2 | K7: =_xlfn.IFS($E7>0,VLOOKUP($F7,objets!$A$2:$L4907,6,FALSE)*$E7,$F7="",0,$E7="",VLOOKUP($F7,objets!$A$2:$L4907,6,FALSE)) -> 2 | L7: =_xlfn.IFS($E7>0,VLOOKUP($F7,objets!$A$2:$L4907,6,FALSE)*$E7,$F7="",0,$E7="",VLOOKUP($F7,objets!$A$2:$L4907,6,FALSE)) -> 2 | M7: =_xlfn.IFS($E7>0,VLOOKUP($F7,objets!$A$2:$L4907,6,FALSE)*$E7,$F7="",0,$E7="",VLOOKUP($F7,objets!$A$2:$L4907,6,FALSE)) -> 2 | N7: =_xlfn.IFS($E7>0,VLOOKUP($F7,objets!$A$2:$L4907,6,FALSE)*$E7,$F7="",0,$E7="",VLOOKUP($F7,objets!$A$2:$L4907,6,FALSE)) -> 2 | X7: =SUMPRODUCT(H7:N7,P7:V7)/SUM(H7:N7) -> 0
A8: Encadrant Nord | B8: Centre K1 | C8: Déto C6620 | F8: CRO | G8: =SUM(H8:N8) -> 14 | H8: =_xlfn.IFS($E8>0,VLOOKUP($F8,objets!$A$2:$L4908,6,FALSE)*$E8,$F8="",0,$E8="",VLOOKUP($F8,objets!$A$2:$L4908,6,FALSE)) -> 2 | I8: =_xlfn.IFS($E8>0,VLOOKUP($F8,objets!$A$2:$L4908,6,FALSE)*$E8,$F8="",0,$E8="",VLOOKUP($F8,objets!$A$2:$L4908,6,FALSE)) -> 2 | J8: =_xlfn.IFS($E8>0,VLOOKUP($F8,objets!$A$2:$L4908,6,FALSE)*$E8,$F8="",0,$E8="",VLOOKUP($F8,objets!$A$2:$L4908,6,FALSE)) -> 2 | K8: =_xlfn.IFS($E8>0,VLOOKUP($F8,objets!$A$2:$L4908,6,FALSE)*$E8,$F8="",0,$E8="",VLOOKUP($F8,objets!$A$2:$L4908,6,FALSE)) -> 2 | L8: =_xlfn.IFS($E8>0,VLOOKUP($F8,objets!$A$2:$L4908,6,FALSE)*$E8,$F8="",0,$E8="",VLOOKUP($F8,objets!$A$2:$L4908,6,FALSE)) -> 2 | M8: =_xlfn.IFS($E8>0,VLOOKUP($F8,objets!$A$2:$L4908,6,FALSE)*$E8,$F8="",0,$E8="",VLOOKUP($F8,objets!$A$2:$L4908,6,FALSE)) -> 2 | N8: =_xlfn.IFS($E8>0,VLOOKUP($F8,objets!$A$2:$L4908,6,FALSE)*$E8,$F8="",0,$E8="",VLOOKUP($F8,objets!$A$2:$L4908,6,FALSE)) -> 2 | X8: =SUMPRODUCT(H8:N8,P8:V8)/SUM(H8:N8) -> 0
A9: Encadrant Nord | B9: Centre K1 | C9: Pd.Déto+A.Cro6618 | F9: CRO | G9: =SUM(H9:N9) -> 14 | H9: =_xlfn.IFS($E9>0,VLOOKUP($F9,objets!$A$2:$L4909,6,FALSE)*$E9,$F9="",0,$E9="",VLOOKUP($F9,objets!$A$2:$L4909,6,FALSE)) -> 2 | I9: =_xlfn.IFS($E9>0,VLOOKUP($F9,objets!$A$2:$L4909,6,FALSE)*$E9,$F9="",0,$E9="",VLOOKUP($F9,objets!$A$2:$L4909,6,FALSE)) -> 2 | J9: =_xlfn.IFS($E9>0,VLOOKUP($F9,objets!$A$2:$L4909,6,FALSE)*$E9,$F9="",0,$E9="",VLOOKUP($F9,objets!$A$2:$L4909,6,FALSE)) -> 2 | K9: =_xlfn.IFS($E9>0,VLOOKUP($F9,objets!$A$2:$L4909,6,FALSE)*$E9,$F9="",0,$E9="",VLOOKUP($F9,objets!$A$2:$L4909,6,FALSE)) -> 2 | L9: =_xlfn.IFS($E9>0,VLOOKUP($F9,objets!$A$2:$L4909,6,FALSE)*$E9,$F9="",0,$E9="",VLOOKUP($F9,objets!$A$2:$L4909,6,FALSE)) -> 2 | M9: =_xlfn.IFS($E9>0,VLOOKUP($F9,objets!$A$2:$L4909,6,FALSE)*$E9,$F9="",0,$E9="",VLOOKUP($F9,objets!$A$2:$L4909,6,FALSE)) -> 2 | N9: =_xlfn.IFS($E9>0,VLOOKUP($F9,objets!$A$2:$L4909,6,FALSE)*$E9,$F9="",0,$E9="",VLOOKUP($F9,objets!$A$2:$L4909,6,FALSE)) -> 2 | X9: =SUMPRODUCT(H9:N9,P9:V9)/SUM(H9:N9) -> 0
A10: Encadrant Nord | B10: Centre K1 | C10: CRO 6618 | F10: CRO | G10: =SUM(H10:N10) -> 14 | H10: =_xlfn.IFS($E10>0,VLOOKUP($F10,objets!$A$2:$L4908,6,FALSE)*$E10,$F10="",0,$E10="",VLOOKUP($F10,objets!$A$2:$L4908,6,FALSE)) -> 2 | I10: =_xlfn.IFS($E10>0,VLOOKUP($F10,objets!$A$2:$L4908,6,FALSE)*$E10,$F10="",0,$E10="",VLOOKUP($F10,objets!$A$2:$L4908,6,FALSE)) -> 2 | J10: =_xlfn.IFS($E10>0,VLOOKUP($F10,objets!$A$2:$L4908,6,FALSE)*$E10,$F10="",0,$E10="",VLOOKUP($F10,objets!$A$2:$L4908,6,FALSE)) -> 2 | K10: =_xlfn.IFS($E10>0,VLOOKUP($F10,objets!$A$2:$L4908,6,FALSE)*$E10,$F10="",0,$E10="",VLOOKUP($F10,objets!$A$2:$L4908,6,FALSE)) -> 2 | L10: =_xlfn.IFS($E10>0,VLOOKUP($F10,objets!$A$2:$L4908,6,FALSE)*$E10,$F10="",0,$E10="",VLOOKUP($F10,objets!$A$2:$L4908,6,FALSE)) -> 2 | M10: =_xlfn.IFS($E10>0,VLOOKUP($F10,objets!$A$2:$L4908,6,FALSE)*$E10,$F10="",0,$E10="",VLOOKUP($F10,objets!$A$2:$L4908,6,FALSE)) -> 2 | N10: =_xlfn.IFS($E10>0,VLOOKUP($F10,objets!$A$2:$L4908,6,FALSE)*$E10,$F10="",0,$E10="",VLOOKUP($F10,objets!$A$2:$L4908,6,FALSE)) -> 2 | X10: =SUMPRODUCT(H10:N10,P10:V10)/SUM(H10:N10) -> 0
A11: Encadrant Nord | B11: Centre K1 | C11: Déto C6618 | F11: CRO | G11: =SUM(H11:N11) -> 14 | H11: =_xlfn.IFS($E11>0,VLOOKUP($F11,objets!$A$2:$L4909,6,FALSE)*$E11,$F11="",0,$E11="",VLOOKUP($F11,objets!$A$2:$L4909,6,FALSE)) -> 2 | I11: =_xlfn.IFS($E11>0,VLOOKUP($F11,objets!$A$2:$L4909,6,FALSE)*$E11,$F11="",0,$E11="",VLOOKUP($F11,objets!$A$2:$L4909,6,FALSE)) -> 2 | J11: =_xlfn.IFS($E11>0,VLOOKUP($F11,objets!$A$2:$L4909,6,FALSE)*$E11,$F11="",0,$E11="",VLOOKUP($F11,objets!$A$2:$L4909,6,FALSE)) -> 2 | K11: =_xlfn.IFS($E11>0,VLOOKUP($F11,objets!$A$2:$L4909,6,FALSE)*$E11,$F11="",0,$E11="",VLOOKUP($F11,objets!$A$2:$L4909,6,FALSE)) -> 2 | L11: =_xlfn.IFS($E11>0,VLOOKUP($F11,objets!$A$2:$L4909,6,FALSE)*$E11,$F11="",0,$E11="",VLOOKUP($F11,objets!$A$2:$L4909,6,FALSE)) -> 2 | M11: =_xlfn.IFS($E11>0,VLOOKUP($F11,objets!$A$2:$L4909,6,FALSE)*$E11,$F11="",0,$E11="",VLOOKUP($F11,objets!$A$2:$L4909,6,FALSE)) -> 2 | N11: =_xlfn.IFS($E11>0,VLOOKUP($F11,objets!$A$2:$L4909,6,FALSE)*$E11,$F11="",0,$E11="",VLOOKUP($F11,objets!$A$2:$L4909,6,FALSE)) -> 2 | X11: =SUMPRODUCT(H11:N11,P11:V11)/SUM(H11:N11) -> 0
