Workbook
Name Famille_IS: 'Temps unitaires'!$B$3:$B$72
Name Temps_unit: 'Temps unitaires'!$B$3:$J$72

Sheet Temps unitaires
B1: Récapitulatif temps unitaires Installations
D2: Déroulage câble | E2: Equipement Poste (Neuf ou Modif) | F2: Prépa Parc (sur site) | G2: Pose à la voie | H2: Racco voie | I2: Racco Centre ou modif | J2: Contrôle
A3: CAMPAGNE | B3: U71 (Pose) | D3: 1e-06 | E3: 1e-06 | F3: 1 | G3: 6 | H3: 0 | I3: 1e-06 | J3: 0.25 | L3: 0.1 | M3: =SUM(L3/0.016) -> 6.25
B4: U71 (modif S2) | D4: 1e-06 | E4: 1e-06 | F4: 0.1 | G4: 1e-06 | H4: 0 | I4: 0.1 | J4: 0.035 | L4: 0.2 | M4: =SUM(L4/0.016) -> 12.5
B5: GUERITE (Pose) | D5: 1e-06 | E5: 1e-06 | F5: 1 | G5: 8 | H5: 0 | I5: 1e-06 | J5: 0.5 | L5: 0.3 | M5: =SUM(L5/0.016) -> 18.75
B6: Abri Accu (Pose) | D6: 2 | E6: 1e-06 | F6: 1 | G6: 3 | H6: 0 | I6: 1e-06 | J6: 0.3 | L6: 0.4 | M6: =SUM(L6/0.016) -> 25
B7: Guérite (modif NS1) | D7: 1e-06 | E7: 1e-06 | F7: 0.1 | G7: 1e-06 | H7: 0 | I7: 0.075 | J7: 0.025 | L7: 0.5 | M7: =SUM(L7/0.016) -> 31.25
B8: Guérite (modif S2) | D8: 1e-06 | E8: 1e-06 | F8: 0.1 | G8: 1e-06 | H8: 0 | I8: 0.25 | J8: 0.05 | L8: 0.6 | M8: =SUM(L8/0.016) -> 37.5
B9: Poste (modif NS1) | D9: 1e-06 | E9: 1e-06 | F9: 0.1 | G9: 1e-06 | H9: 0 | I9: 0.075 | J9: 0.025 | L9: 0.7 | M9: =SUM(L9/0.016) -> 43.75
B10: Poste (modif V,X) | D10: 1e-06 | E10: 1e-06 | F10: 0.1 | G10: 1e-06 | H10: 0 | I10: 0.055 | J10: 0.025 | L10: 0.8 | M10: =SUM(L10/0.016) -> 50
B11: Poste (modif S2) | D11: 1e-06 | E11: 1e-06 | F11: 0.1 | G11: 1e-06 | H11: 0 | I11: 0.25 | J11: 0.05 | L11: 0.9 | M11: =SUM(L11/0.016) -> 56.25
B12: Poste (Pose de macarons DP) | D12: 1e-06 | E12: 1e-06 | F12: 0.03 | G12: 1e-06 | H12: 0 | I12: 0.008 | J12: 0.003 | L12: 1 | M12: =SUM(L12/0.016) -> 62.5
B13: Poste (DP/P étiquette GEO) | D13: 1e-06 | E13: 1e-06 | F13: 0.03 | G13: 1e-06 | H13: 0 | I13: 0.05 | J13: 0.025
B14: PN(Moteur,Feu,BCRG) SAL2 | D14: 48 | E14: 1e-06 | F14: 16 | G14: 48 | H14: 28 | I14: 1e-06 | J14: 16
B15: STM GM/MM centre (Pose) | D15: 1e-06 | E15: 1e-06 | F15: 0.5 | G15: 3 | H15: 1e-06 | I15: 1e-06 | J15: 0.3
B16: STM GM/MM centre (modif) | D16: 1e-06 | E16: 1e-06 | F16: 0.1 | G16: 1e-06 | H16: 1e-06 | I16: 0.1 | J16: 0.035
B17: STM CRO | D17: 1e-06 | E17: 1e-06 | F17: 0.5 | G17: 3 | H17: 1e-06 | I17: 1e-06 | J17: 0.3
B18: AIGUILLE (Cmde déjà posée) | D18: 2 | E18: 1e-06 | F18: 1 | G18: 1 | H18: 3 | I18: 1e-06 | J18: 0.5
B19: AIGUILLE (avec RP) | D19: 2 | E19: 1e-06 | F19: 1 | G19: 16 | H19: 4 | I19: 1e-06 | J19: 4
B20: RCH VCC | D20: 2 | E20: 1e-06 | F20: 1 | G20: 6 | H20: 4 | I20: 1e-06 | J20: 2
B21: RCH Ag | D21: 0 | E21: 1e-06 | F21: 1 | G21: 8 | H21: 4 | I21: 1e-06 | J21: 2
B22: Pd.Déto+A.Cro | D22: 3 | E22: 1e-06 | F22: 3 | G22: 12 | H22: 6 | I22: 1e-06 | J22: 3
B23: Cro + Pd méca | D23: 2 | E23: 1e-06 | F23: 2 | G23: 10 | H23: 5 | I23: 1e-06 | J23: 2
B24: CRO | D24: 2 | E24: 1e-06 | F24: 1 | G24: 6 | H24: 2 | I24: 1e-06 | J24: 1
... B58: Câbles Locaux | D58: 1e-06 | E58: 1e-06 | F58: 1e-06 | G58: 1e-06 | H58: 1e-06 | I58: 0.8 | J58: 0.5
A59: POSTE | B59: Cablofil, goulotte ( au M) | D59: 1e-06 | E59: 1 | F59: 0.25 | G59: 1e-06 | H59: 1e-06 | I59: 1e-06 | J59: 0.1
B60: Chaises | D60: 1e-06 | E60: 3 | F60: 0.25 | G60: 1e-06 | H60: 1e-06 | I60: 1e-06 | J60: 0.01
B61: Dér Int Poste | D61: 2 | E61: 1e-06 | F61: 0.25 | G61: 1e-06 | H61: 1e-06 | I61: 1e-06 | J61: 0.01
B62: Mise en place Chassis NS1 | D62: 1e-06 | E62: 1 | F62: 0.25 | G62: 1e-06 | H62: 1e-06 | I62: 1e-06 | J62: 0.01
B63: Mise en place Chassis V | D63: 1e-06 | E63: 1 | F63: 0.25 | G63: 1e-06 | H63: 1e-06 | I63: 1e-06 | J63: 0.01
B64: Mise en place Chassis X | D64: 1e-06 | E64: 1 | F64: 0.25 | G64: 1e-06 | H64: 1e-06 | I64: 1e-06 | J64: 0.01
B65: Armoires alim.ARAG.ARAL.. | D65: 1e-06 | E65: 1 | F65: 0.25 | G65: 1e-06 | H65: 1e-06 | I65: 1e-06 | J65: 0.01
B66: CO24p | D66: 1e-06 | E66: 1e-06 | F66: 0.25 | G66: 1e-06 | H66: 1e-06 | I66: 1 | J66: 0.2
B67: CO60p | D67: 1e-06 | E67: 1e-06 | F67: 0.25 | G67: 1e-06 | H67: 1e-06 | I67: 3.5 | J67: 0.4
B68: CO SBI | D68: 1e-06 | E68: 1e-06 | F68: 0.1 | G68: 1e-06 | H68: 1e-06 | I68: 0.3 | J68: 0.1
B69: Racco ZUG | D69: 1e-06 | E69: 1e-06 | F69: 0.25 | G69: 1e-06 | H69: 1e-06 | I69: 0.7 | J69: 0.1
B70: Racco Alim | D70: 1e-06 | E70: 1e-06 | F70: 0.25 | G70: 1e-06 | H70: 1e-06 | I70: 0.4 | J70: 0.1
D74: 0.1 | E74: =SUM(D74/0.016) -> 6.25
D75: 0.2 | E75: =SUM(D75/0.016) -> 12.5
D76: 0.3 | E76: =SUM(D76/0.016) -> 18.75
D77: 0.4 | E77: =SUM(D77/0.016) -> 25
D78: 0.5 | E78: =SUM(D78/0.016) -> 31.25
D79: 0.6 | E79: =SUM(D79/0.016) -> 37.5
D80: 0.7 | E80: =SUM(D80/0.016) -> 43.75
D81: 0.8 | E81: =SUM(D81/0.016) -> 50
D82: 0.9 | E82: =SUM(D82/0.016) -> 56.25
D83: 1 | E83: =SUM(D83/0.016) -> 62.5

Sheet Centre 1
F1: =TODAY() -> 43853
A3: Identification de l'IS | G3: Temps Production - Temps élémentaires | P3: Avancement | Z3: PREPA SUR PARC | AJ3: INSTALLATION EN VOIE ou POSTE | AN3: RACCORDEMENT
A4: Postes | B4: Centres | C4: Travaux | D4: Commentaires : particularité de l'IS | E4: Nbre éléments pour poste | F4: Type IS | G4: TOTAL | H4: Déroulage câble | I4: Equipement poste (Neuf ou Modif) | J4: Prépa Parc | K4: Pose à la voie | L4: Racco voie | M4: Racco Centre | N4: Contrôle | P4: Déroulage câble | Q4: Equipement poste (Neuf ou modif) | R4: Prépa Parc | S4: Pose à la voie | T4: Racco voie | U4: Racco Centre | V4: Contrôle | W4: COMMENTAIRES | Z4: Préparation à réaliser pour | AA4: Relevé terrain | AB4: Méca réalisée par Nom Date | AD4: Câblage réalisé par Nom Date | AF4: Réserves Oui Non | AH4: Réserves | AJ4: Installé par | AK4: Travaux terminé | AL4: Réserves / Commentaires | AN4: Raccordé par | AO4: Travaux terminé | AP4: Réserves / Commentaires
A5: Centre 1 | B5: CE01-1 | C5: U71 CE01-1 | F5: U71 (Pose) | G5: =SUM(H5:N5) -> 7.250003 | H5: =IF($E5>0,VLOOKUP($F5,'Temps unitaires'!$B$3:$J$72,3,FALSE)*$E5,VLOOKUP($F5,'Temps unitaires'!$B$3:$J$72,3,FALSE)) -> 1e-06 | I5: =IF($E5>0,VLOOKUP($F5,'Temps unitaires'!$B$3:$J$72,4,FALSE)*$E5,VLOOKUP($F5,'Temps unitaires'!$B$3:$J$72,4,FALSE)) -> 1e-06 | J5: =IF($E5>0,VLOOKUP($F5,'Temps unitaires'!$B$3:$J$72,5,FALSE)*$E5,VLOOKUP($F5,'Temps unitaires'!$B$3:$J$72,5,FALSE)) -> 1 | K5: =IF($E5>0,VLOOKUP($F5,'Temps unitaires'!$B$3:$J$72,6,FALSE)*$E5,VLOOKUP($F5,'Temps unitaires'!$B$3:$J$72,6,FALSE)) -> 6 | L5: =IF($E5>0,VLOOKUP($F5,'Temps unitaires'!$B$3:$J$72,7,FALSE)*$E5,VLOOKUP($F5,'Temps unitaires'!$B$3:$J$72,7,FALSE)) -> 0 | M5: =IF($E5>0,VLOOKUP($F5,'Temps unitaires'!$B$3:$J$72,8,FALSE)*$E5,VLOOKUP($F5,'Temps unitaires'!$B$3:$J$72,8,FALSE)) -> 1e-06 | N5: =IF($E5>0,VLOOKUP($F5,'Temps unitaires'!$B$3:$J$72,9,FALSE)*$E5,VLOOKUP($F5,'Temps unitaires'!$B$3:$J$72,9,FALSE)) -> 0.25 | X5: =SUMPRODUCT(H5:N5,P5:V5)/SUM(H5:N5) -> 0
A6: Centre 1 | B6: CE01-1 | C6: U71 CE01-1 | F6: Câbles Princ | G6: =SUM(H6:N6) -> 3.000005 | H6: =IF($E6>0,VLOOKUP($F6,'Temps unitaires'!$B$3:$J$72,3,FALSE)*$E6,VLOOKUP($F6,'Temps unitaires'!$B$3:$J$72,3,FALSE)) -> 1e-06 | I6: =IF($E6>0,VLOOKUP($F6,'Temps unitaires'!$B$3:$J$72,4,FALSE)*$E6,VLOOKUP($F6,'Temps unitaires'!$B$3:$J$72,4,FALSE)) -> 1e-06 | J6: =IF($E6>0,VLOOKUP($F6,'Temps unitaires'!$B$3:$J$72,5,FALSE)*$E6,VLOOKUP($F6,'Temps unitaires'!$B$3:$J$72,5,FALSE)) -> 1e-06 | K6: =IF($E6>0,VLOOKUP($F6,'Temps unitaires'!$B$3:$J$72,6,FALSE)*$E6,VLOOKUP($F6,'Temps unitaires'!$B$3:$J$72,6,FALSE)) -> 1e-06 | L6: =IF($E6>0,VLOOKUP($F6,'Temps unitaires'!$B$3:$J$72,7,FALSE)*$E6,VLOOKUP($F6,'Temps unitaires'!$B$3:$J$72,7,FALSE)) -> 1e-06 | M6: =IF($E6>0,VLOOKUP($F6,'Temps unitaires'!$B$3:$J$72,8,FALSE)*$E6,VLOOKUP($F6,'Temps unitaires'!$B$3:$J$72,8,FALSE)) -> 2 | N6: =IF($E6>0,VLOOKUP($F6,'Temps unitaires'!$B$3:$J$72,9,FALSE)*$E6,VLOOKUP($F6,'Temps unitaires'!$B$3:$J$72,9,FALSE)) -> 1 | X6: =SUMPRODUCT(H6:N6,P6:V6)/SUM(H6:N6) -> 0
A7: Centre 1 | B7: CE01-1 | C7: U71 CE01-1 | E7: 3 | F7: Câbles Locaux | G7: =SUM(H7:N7) -> 3.900015 | H7: =IF($E7>0,VLOOKUP($F7,'Temps unitaires'!$B$3:$J$72,3,FALSE)*$E7,VLOOKUP($F7,'Temps unitaires'!$B$3:$J$72,3,FALSE)) -> 3e-06 | I7: =IF($E7>0,VLOOKUP($F7,'Temps unitaires'!$B$3:$J$72,4,FALSE)*$E7,VLOOKUP($F7,'Temps unitaires'!$B$3:$J$72,4,FALSE)) -> 3e-06 | J7: =IF($E7>0,VLOOKUP($F7,'Temps unitaires'!$B$3:$J$72,5,FALSE)*$E7,VLOOKUP($F7,'Temps unitaires'!$B$3:$J$72,5,FALSE)) -> 3e-06 | K7: =IF($E7>0,VLOOKUP($F7,'Temps unitaires'!$B$3:$J$72,6,FALSE)*$E7,VLOOKUP($F7,'Temps unitaires'!$B$3:$J$72,6,FALSE)) -> 3e-06 | L7: =IF($E7>0,VLOOKUP($F7,'Temps unitaires'!$B$3:$J$72,7,FALSE)*$E7,VLOOKUP($F7,'Temps unitaires'!$B$3:$J$72,7,FALSE)) -> 3e-06 | M7: =IF($E7>0,VLOOKUP($F7,'Temps unitaires'!$B$3:$J$72,8,FALSE)*$E7,VLOOKUP($F7,'Temps unitaires'!$B$3:$J$72,8,FALSE)) -> 2.4 | N7: =IF($E7>0,VLOOKUP($F7,'Temps unitaires'!$B$3:$J$72,9,FALSE)*$E7,VLOOKUP($F7,'Temps unitaires'!$B$3:$J$72,9,FALSE)) -> 1.5 | X7: =SUMPRODUCT(H7:N7,P7:V7)/SUM(H7:N7) -> 0
A8: Centre 1 | B8: CE01-1 | C8: SVM.Pd1702 | F8: Pd méca | G8: =SUM(H8:N8) -> 9.000002 | H8: =IF($E8>0,VLOOKUP($F8,'Temps unitaires'!$B$3:$J$72,3,FALSE)*$E8,VLOOKUP($F8,'Temps unitaires'!$B$3:$J$72,3,FALSE)) -> 2 | I8: =IF($E8>0,VLOOKUP($F8,'Temps unitaires'!$B$3:$J$72,4,FALSE)*$E8,VLOOKUP($F8,'Temps unitaires'!$B$3:$J$72,4,FALSE)) -> 1e-06 | J8: =IF($E8>0,VLOOKUP($F8,'Temps unitaires'!$B$3:$J$72,5,FALSE)*$E8,VLOOKUP($F8,'Temps unitaires'!$B$3:$J$72,5,FALSE)) -> 1 | K8: =IF($E8>0,VLOOKUP($F8,'Temps unitaires'!$B$3:$J$72,6,FALSE)*$E8,VLOOKUP($F8,'Temps unitaires'!$B$3:$J$72,6,FALSE)) -> 2 | L8: =IF($E8>0,VLOOKUP($F8,'Temps unitaires'!$B$3:$J$72,7,FALSE)*$E8,VLOOKUP($F8,'Temps unitaires'!$B$3:$J$72,7,FALSE)) -> 2 | M8: =IF($E8>0,VLOOKUP($F8,'Temps unitaires'!$B$3:$J$72,8,FALSE)*$E8,VLOOKUP($F8,'Temps unitaires'!$B$3:$J$72,8,FALSE)) -> 1e-06 | N8: =IF($E8>0,VLOOKUP($F8,'Temps unitaires'!$B$3:$J$72,9,FALSE)*$E8,VLOOKUP($F8,'Temps unitaires'!$B$3:$J$72,9,FALSE)) -> 2 | X8: =SUMPRODUCT(H8:N8,P8:V8)/SUM(H8:N8) -> 0
A9: Centre 1 | B9: CE01-1 | C9: VCm.Au1702 | F9: VCM | G9: =SUM(H9:N9) -> 6.000002 | H9: =IF($E9>0,VLOOKUP($F9,'Temps unitaires'!$B$3:$J$72,3,FALSE)*$E9,VLOOKUP($F9,'Temps unitaires'!$B$3:$J$72,3,FALSE)) -> 2 | I9: =IF($E9>0,VLOOKUP($F9,'Temps unitaires'!$B$3:$J$72,4,FALSE)*$E9,VLOOKUP($F9,'Temps unitaires'!$B$3:$J$72,4,FALSE)) -> 1e-06 | J9: =IF($E9>0,VLOOKUP($F9,'Temps unitaires'!$B$3:$J$72,5,FALSE)*$E9,VLOOKUP($F9,'Temps unitaires'!$B$3:$J$72,5,FALSE)) -> 1 | K9: =IF($E9>0,VLOOKUP($F9,'Temps unitaires'!$B$3:$J$72,6,FALSE)*$E9,VLOOKUP($F9,'Temps unitaires'!$B$3:$J$72,6,FALSE)) -> 1 | L9: =IF($E9>0,VLOOKUP($F9,'Temps unitaires'!$B$3:$J$72,7,FALSE)*$E9,VLOOKUP($F9,'Temps unitaires'!$B$3:$J$72,7,FALSE)) -> 1 | M9: =IF($E9>0,VLOOKUP($F9,'Temps unitaires'!$B$3:$J$72,8,FALSE)*$E9,VLOOKUP($F9,'Temps unitaires'!$B$3:$J$72,8,FALSE)) -> 1e-06 | N9: =IF($E9>0,VLOOKUP($F9,'Temps unitaires'!$B$3:$J$72,9,FALSE)*$E9,VLOOKUP($F9,'Temps unitaires'!$B$3:$J$72,9,FALSE)) -> 1 | X9: =SUMPRODUCT(H9:N9,P9:V9)/SUM(H9:N9) -> 0
A10: Centre 1 | B10: CE01-1 | C10: Au1702 | F10: Voyant | G10: =SUM(H10:N10) -> 6.000002 | H10: =IF($E10>0,VLOOKUP($F10,'Temps unitaires'!$B$3:$J$72,3,FALSE)*$E10,VLOOKUP($F10,'Temps unitaires'!$B$3:$J$72,3,FALSE)) -> 2 | I10: =IF($E10>0,VLOOKUP($F10,'Temps unitaires'!$B$3:$J$72,4,FALSE)*$E10,VLOOKUP($F10,'Temps unitaires'!$B$3:$J$72,4,FALSE)) -> 1e-06 | J10: =IF($E10>0,VLOOKUP($F10,'Temps unitaires'!$B$3:$J$72,5,FALSE)*$E10,VLOOKUP($F10,'Temps unitaires'!$B$3:$J$72,5,FALSE)) -> 1 | K10: =IF($E10>0,VLOOKUP($F10,'Temps unitaires'!$B$3:$J$72,6,FALSE)*$E10,VLOOKUP($F10,'Temps unitaires'!$B$3:$J$72,6,FALSE)) -> 1 | L10: =IF($E10>0,VLOOKUP($F10,'Temps unitaires'!$B$3:$J$72,7,FALSE)*$E10,VLOOKUP($F10,'Temps unitaires'!$B$3:$J$72,7,FALSE)) -> 1 | M10: =IF($E10>0,VLOOKUP($F10,'Temps unitaires'!$B$3:$J$72,8,FALSE)*$E10,VLOOKUP($F10,'Temps unitaires'!$B$3:$J$72,8,FALSE)) -> 1e-06 | N10: =IF($E10>0,VLOOKUP($F10,'Temps unitaires'!$B$3:$J$72,9,FALSE)*$E10,VLOOKUP($F10,'Temps unitaires'!$B$3:$J$72,9,FALSE)) -> 1 | X10: =SUMPRODUCT(H10:N10,P10:V10)/SUM(H10:N10) -> 0
A11: Centre 1 | B11: CE01-1 | C11: Tel.Pt1702 | F11: Tél | G11: =SUM(H11:N11) -> 6.000002 | H11: =IF($E11>0,VLOOKUP($F11,'Temps unitaires'!$B$3:$J$72,3,FALSE)*$E11,VLOOKUP($F11,'Temps unitaires'!$B$3:$J$72,3,FALSE)) -> 2 | I11: =IF($E11>0,VLOOKUP($F11,'Temps unitaires'!$B$3:$J$72,4,FALSE)*$E11,VLOOKUP($F11,'Temps unitaires'!$B$3:$J$72,4,FALSE)) -> 1e-06 | J11: =IF($E11>0,VLOOKUP($F11,'Temps unitaires'!$B$3:$J$72,5,FALSE)*$E11,VLOOKUP($F11,'Temps unitaires'!$B$3:$J$72,5,FALSE)) -> 1 | K11: =IF($E11>0,VLOOKUP($F11,'Temps unitaires'!$B$3:$J$72,6,FALSE)*$E11,VLOOKUP($F11,'Temps unitaires'!$B$3:$J$72,6,FALSE)) -> 1 | L11: =IF($E11>0,VLOOKUP($F11,'Temps unitaires'!$B$3:$J$72,7,FALSE)*$E11,VLOOKUP($F11,'Temps unitaires'!$B$3:$J$72,7,FALSE)) -> 1 | M11: =IF($E11>0,VLOOKUP($F11,'Temps unitaires'!$B$3:$J$72,8,FALSE)*$E11,VLOOKUP($F11,'Temps unitaires'!$B$3:$J$72,8,FALSE)) -> 1e-06 | N11: =IF($E11>0,VLOOKUP($F11,'Temps unitaires'!$B$3:$J$72,9,FALSE)*$E11,VLOOKUP($F11,'Temps unitaires'!$B$3:$J$72,9,FALSE)) -> 1 | X11: =SUMPRODUCT(H11:N11,P11:V11)/SUM(H11:N11) -> 0
A12: Centre 1 | B12: CE01-1 | C12: TOTAL | G12: =SUM(G5:G11) -> 41.150031 | H12: =SUM(H5:H11) -> 8.000005 | I12: =SUM(I5:I11) -> 9e-06 | J12: =SUM(J5:J11) -> 5.000004 | K12: =SUM(K5:K11) -> 11.000004 | L12: =SUM(L5:L11) -> 5.000004 | M12: =SUM(M5:M11) -> 4.400005 | N12: =SUM(N5:N11) -> 7.75 | P12: =SUMPRODUCT(H5:H11,P5:P11)/H12 -> 0 | R12: =SUMPRODUCT(J5:J11,R5:R11)/J12 -> 0 | S12: =SUMPRODUCT(K5:K11,S5:S11)/K12 -> 0 | T12: =SUMPRODUCT(L5:L11,T5:T11)/L12 -> 0 | U12: =SUMPRODUCT(M5:M11,U5:U11)/M12 -> 0 | V12: =SUMPRODUCT(N5:N11,V5:V11)/N12 -> 0 | X12: =SUMPRODUCT(H5:N11,P5:V11)/SUM(H12:N12) -> 0
A13: Centre 1 | B13: CE02-1 | C13: U71 CE02-1 | F13: U71 (Pose) | G13: =SUM(H13:N13) -> 7.250003 | H13: =IF($E13>0,VLOOKUP($F13,'Temps unitaires'!$B$3:$J$72,3,FALSE)*$E13,VLOOKUP($F13,'Temps unitaires'!$B$3:$J$72,3,FALSE)) -> 1e-06 | I13: =IF($E13>0,VLOOKUP($F13,'Temps unitaires'!$B$3:$J$72,4,FALSE)*$E13,VLOOKUP($F13,'Temps unitaires'!$B$3:$J$72,4,FALSE)) -> 1e-06 | J13: =IF($E13>0,VLOOKUP($F13,'Temps unitaires'!$B$3:$J$72,5,FALSE)*$E13,VLOOKUP($F13,'Temps unitaires'!$B$3:$J$72,5,FALSE)) -> 1 | K13: =IF($E13>0,VLOOKUP($F13,'Temps unitaires'!$B$3:$J$72,6,FALSE)*$E13,VLOOKUP($F13,'Temps unitaires'!$B$3:$J$72,6,FALSE)) -> 6 | L13: =IF($E13>0,VLOOKUP($F13,'Temps unitaires'!$B$3:$J$72,7,FALSE)*$E13,VLOOKUP($F13,'Temps unitaires'!$B$3:$J$72,7,FALSE)) -> 0 | M13: =IF($E13>0,VLOOKUP($F13,'Temps unitaires'!$B$3:$J$72,8,FALSE)*$E13,VLOOKUP($F13,'Temps unitaires'!$B$3:$J$72,8,FALSE)) -> 1e-06 | N13: =IF($E13>0,VLOOKUP($F13,'Temps unitaires'!$B$3:$J$72,9,FALSE)*$E13,VLOOKUP($F13,'Temps unitaires'!$B$3:$J$72,9,FALSE)) -> 0.25 | X13: =SUMPRODUCT(H13:N13,P13:V13)/SUM(H13:N13) -> 0
A14: Centre 1 | B14: CE02-1 | C14: U71 CE02-1 | E14: 2 | F14: Câbles Princ | G14: =SUM(H14:N14) -> 6.00001 | H14: =IF($E14>0,VLOOKUP($F14,'Temps unitaires'!$B$3:$J$72,3,FALSE)*$E14,VLOOKUP($F14,'Temps unitaires'!$B$3:$J$72,3,FALSE)) -> 2e-06 | I14: =IF($E14>0,VLOOKUP($F14,'Temps unitaires'!$B$3:$J$72,4,FALSE)*$E14,VLOOKUP($F14,'Temps unitaires'!$B$3:$J$72,4,FALSE)) -> 2e-06 | J14: =IF($E14>0,VLOOKUP($F14,'Temps unitaires'!$B$3:$J$72,5,FALSE)*$E14,VLOOKUP($F14,'Temps unitaires'!$B$3:$J$72,5,FALSE)) -> 2e-06 | K14: =IF($E14>0,VLOOKUP($F14,'Temps unitaires'!$B$3:$J$72,6,FALSE)*$E14,VLOOKUP($F14,'Temps unitaires'!$B$3:$J$72,6,FALSE)) -> 2e-06 | L14: =IF($E14>0,VLOOKUP($F14,'Temps unitaires'!$B$3:$J$72,7,FALSE)*$E14,VLOOKUP($F14,'Temps unitaires'!$B$3:$J$72,7,FALSE)) -> 2e-06 | M14: =IF($E14>0,VLOOKUP($F14,'Temps unitaires'!$B$3:$J$72,8,FALSE)*$E14,VLOOKUP($F14,'Temps unitaires'!$B$3:$J$72,8,FALSE)) -> 4 | N14: =IF($E14>0,VLOOKUP($F14,'Temps unitaires'!$B$3:$J$72,9,FALSE)*$E14,VLOOKUP($F14,'Temps unitaires'!$B$3:$J$72,9,FALSE)) -> 2 | X14: =SUMPRODUCT(H14:N14,P14:V14)/SUM(H14:N14) -> 0
A15: Centre 1 | B15: CE02-1 | C15: U71 CE02-1 | D15: Cb CE2-1.10 (boulé) | E15: 10 | F15: Câbles Locaux | G15: =SUM(H15:N15) -> 13.00005 | H15: =IF($E15>0,VLOOKUP($F15,'Temps unitaires'!$B$3:$J$72,3,FALSE)*$E15,VLOOKUP($F15,'Temps unitaires'!$B$3:$J$72,3,FALSE)) -> 1e-05 | I15: =IF($E15>0,VLOOKUP($F15,'Temps unitaires'!$B$3:$J$72,4,FALSE)*$E15,VLOOKUP($F15,'Temps unitaires'!$B$3:$J$72,4,FALSE)) -> 1e-05 | J15: =IF($E15>0,VLOOKUP($F15,'Temps unitaires'!$B$3:$J$72,5,FALSE)*$E15,VLOOKUP($F15,'Temps unitaires'!$B$3:$J$72,5,FALSE)) -> 1e-05 | K15: =IF($E15>0,VLOOKUP($F15,'Temps unitaires'!$B$3:$J$72,6,FALSE)*$E15,VLOOKUP($F15,'Temps unitaires'!$B$3:$J$72,6,FALSE)) -> 1e-05 | L15: =IF($E15>0,VLOOKUP($F15,'Temps unitaires'!$B$3:$J$72,7,FALSE)*$E15,VLOOKUP($F15,'Temps unitaires'!$B$3:$J$72,7,FALSE)) -> 1e-05 | M15: =IF($E15>0,VLOOKUP($F15,'Temps unitaires'!$B$3:$J$72,8,FALSE)*$E15,VLOOKUP($F15,'Temps unitaires'!$B$3:$J$72,8,FALSE)) -> 8 | N15: =IF($E15>0,VLOOKUP($F15,'Temps unitaires'!$B$3:$J$72,9,FALSE)*$E15,VLOOKUP($F15,'Temps unitaires'!$B$3:$J$72,9,FALSE)) -> 5 | X15: =SUMPRODUCT(H15:N15,P15:V15)/SUM(H15:N15) -> 0
A16: Centre 1 | B16: CE02-1 | C16: STM.Signal C1005 | F16: Signal (Neuf) | G16: =SUM(H16:N16) -> 50.000002 | H16: =IF($E16>0,VLOOKUP($F16,'Temps unitaires'!$B$3:$J$72,3,FALSE)*$E16,VLOOKUP($F16,'Temps unitaires'!$B$3:$J$72,3,FALSE)) -> 2 | I16: =IF($E16>0,VLOOKUP($F16,'Temps unitaires'!$B$3:$J$72,4,FALSE)*$E16,VLOOKUP($F16,'Temps unitaires'!$B$3:$J$72,4,FALSE)) -> 1e-06 | J16: =IF($E16>0,VLOOKUP($F16,'Temps unitaires'!$B$3:$J$72,5,FALSE)*$E16,VLOOKUP($F16,'Temps unitaires'!$B$3:$J$72,5,FALSE)) -> 35 | K16: =IF($E16>0,VLOOKUP($F16,'Temps unitaires'!$B$3:$J$72,6,FALSE)*$E16,VLOOKUP($F16,'Temps unitaires'!$B$3:$J$72,6,FALSE)) -> 6 | L16: =IF($E16>0,VLOOKUP($F16,'Temps unitaires'!$B$3:$J$72,7,FALSE)*$E16,VLOOKUP($F16,'Temps unitaires'!$B$3:$J$72,7,FALSE)) -> 3 | M16: =IF($E16>0,VLOOKUP($F16,'Temps unitaires'!$B$3:$J$72,8,FALSE)*$E16,VLOOKUP($F16,'Temps unitaires'!$B$3:$J$72,8,FALSE)) -> 1e-06 | N16: =IF($E16>0,VLOOKUP($F16,'Temps unitaires'!$B$3:$J$72,9,FALSE)*$E16,VLOOKUP($F16,'Temps unitaires'!$B$3:$J$72,9,FALSE)) -> 4 | X16: =SUMPRODUCT(H16:N16,P16:V16)/SUM(H16:N16) -> 0
A17: Centre 1 | B17: CE02-1 | C17: Signal G1005 (caisson G) | F17: Caisson (sur Mat) | G17: =SUM(H17:N17) -> 14.000002 | H17: =IF($E17>0,VLOOKUP($F17,'Temps unitaires'!$B$3:$J$72,3,FALSE)*$E17,VLOOKUP($F17,'Temps unitaires'!$B$3:$J$72,3,FALSE)) -> 2 | I17: =IF($E17>0,VLOOKUP($F17,'Temps unitaires'!$B$3:$J$72,4,FALSE)*$E17,VLOOKUP($F17,'Temps unitaires'!$B$3:$J$72,4,FALSE)) -> 1e-06 | J17: =IF($E17>0,VLOOKUP($F17,'Temps unitaires'!$B$3:$J$72,5,FALSE)*$E17,VLOOKUP($F17,'Temps unitaires'!$B$3:$J$72,5,FALSE)) -> 1 | K17: =IF($E17>0,VLOOKUP($F17,'Temps unitaires'!$B$3:$J$72,6,FALSE)*$E17,VLOOKUP($F17,'Temps unitaires'!$B$3:$J$72,6,FALSE)) -> 8 | L17: =IF($E17>0,VLOOKUP($F17,'Temps unitaires'!$B$3:$J$72,7,FALSE)*$E17,VLOOKUP($F17,'Temps unitaires'!$B$3:$J$72,7,FALSE)) -> 2 | M17: =IF($E17>0,VLOOKUP($F17,'Temps unitaires'!$B$3:$J$72,8,FALSE)*$E17,VLOOKUP($F17,'Temps unitaires'!$B$3:$J$72,8,FALSE)) -> 1e-06 | N17: =IF($E17>0,VLOOKUP($F17,'Temps unitaires'!$B$3:$J$72,9,FALSE)*$E17,VLOOKUP($F17,'Temps unitaires'!$B$3:$J$72,9,FALSE)) -> 1 | X17: =SUMPRODUCT(H17:N17,P17:V17)/SUM(H17:N17) -> 0
A18: Centre 1 | B18: CE02-1 | C18: SVM.Pd1005 | F18: Pd méca | G18: =SUM(H18:N18) -> 9.000002 | H18: =IF($E18>0,VLOOKUP($F18,'Temps unitaires'!$B$3:$J$72,3,FALSE)*$E18,VLOOKUP($F18,'Temps unitaires'!$B$3:$J$72,3,FALSE)) -> 2 | I18: =IF($E18>0,VLOOKUP($F18,'Temps unitaires'!$B$3:$J$72,4,FALSE)*$E18,VLOOKUP($F18,'Temps unitaires'!$B$3:$J$72,4,FALSE)) -> 1e-06 | J18: =IF($E18>0,VLOOKUP($F18,'Temps unitaires'!$B$3:$J$72,5,FALSE)*$E18,VLOOKUP($F18,'Temps unitaires'!$B$3:$J$72,5,FALSE)) -> 1 | K18: =IF($E18>0,VLOOKUP($F18,'Temps unitaires'!$B$3:$J$72,6,FALSE)*$E18,VLOOKUP($F18,'Temps unitaires'!$B$3:$J$72,6,FALSE)) -> 2 | L18: =IF($E18>0,VLOOKUP($F18,'Temps unitaires'!$B$3:$J$72,7,FALSE)*$E18,VLOOKUP($F18,'Temps unitaires'!$B$3:$J$72,7,FALSE)) -> 2 | M18: =IF($E18>0,VLOOKUP($F18,'Temps unitaires'!$B$3:$J$72,8,FALSE)*$E18,VLOOKUP($F18,'Temps unitaires'!$B$3:$J$72,8,FALSE)) -> 1e-06 | N18: =IF($E18>0,VLOOKUP($F18,'Temps unitaires'!$B$3:$J$72,9,FALSE)*$E18,VLOOKUP($F18,'Temps unitaires'!$B$3:$J$72,9,FALSE)) -> 2 | X18: =SUMPRODUCT(H18:N18,P18:V18)/SUM(H18:N18) -> 0
A19: Centre 1 | B19: CE02-1 | C19: Tel.C1005 | F19: Tél | G19: =SUM(H19:N19) -> 6.000002 | H19: =IF($E19>0,VLOOKUP($F19,'Temps unitaires'!$B$3:$J$72,3,FALSE)*$E19,VLOOKUP($F19,'Temps unitaires'!$B$3:$J$72,3,FALSE)) -> 2 | I19: =IF($E19>0,VLOOKUP($F19,'Temps unitaires'!$B$3:$J$72,4,FALSE)*$E19,VLOOKUP($F19,'Temps unitaires'!$B$3:$J$72,4,FALSE)) -> 1e-06 | J19: =IF($E19>0,VLOOKUP($F19,'Temps unitaires'!$B$3:$J$72,5,FALSE)*$E19,VLOOKUP($F19,'Temps unitaires'!$B$3:$J$72,5,FALSE)) -> 1 | K19: =IF($E19>0,VLOOKUP($F19,'Temps unitaires'!$B$3:$J$72,6,FALSE)*$E19,VLOOKUP($F19,'Temps unitaires'!$B$3:$J$72,6,FALSE)) -> 1 | L19: =IF($E19>0,VLOOKUP($F19,'Temps unitaires'!$B$3:$J$72,7,FALSE)*$E19,VLOOKUP($F19,'Temps unitaires'!$B$3:$J$72,7,FALSE)) -> 1 | M19: =IF($E19>0,VLOOKUP($F19,'Temps unitaires'!$B$3:$J$72,8,FALSE)*$E19,VLOOKUP($F19,'Temps unitaires'!$B$3:$J$72,8,FALSE)) -> 1e-06 | N19: =IF($E19>0,VLOOKUP($F19,'Temps unitaires'!$B$3:$J$72,9,FALSE)*$E19,VLOOKUP($F19,'Temps unitaires'!$B$3:$J$72,9,FALSE)) -> 1 | X19: =SUMPRODUCT(H19:N19,P19:V19)/SUM(H19:N19) -> 0
A20: Centre 1 | B20: CE02-1 | C20: CI.REZ1004.REZ1008 | F20: CdV CI 25000V | G20: =SUM(H20:N20) -> 17.000002 | H20: =IF($E20>0,VLOOKUP($F20,'Temps unitaires'!$B$3:$J$72,3,FALSE)*$E20,VLOOKUP($F20,'Temps unitaires'!$B$3:$J$72,3,FALSE)) -> 2 | I20: =IF($E20>0,VLOOKUP($F20,'Temps unitaires'!$B$3:$J$72,4,FALSE)*$E20,VLOOKUP($F20,'Temps unitaires'!$B$3:$J$72,4,FALSE)) -> 1e-06 | J20: =IF($E20>0,VLOOKUP($F20,'Temps unitaires'!$B$3:$J$72,5,FALSE)*$E20,VLOOKUP($F20,'Temps unitaires'!$B$3:$J$72,5,FALSE)) -> 2 | K20: =IF($E20>0,VLOOKUP($F20,'Temps unitaires'!$B$3:$J$72,6,FALSE)*$E20,VLOOKUP($F20,'Temps unitaires'!$B$3:$J$72,6,FALSE)) -> 9 | L20: =IF($E20>0,VLOOKUP($F20,'Temps unitaires'!$B$3:$J$72,7,FALSE)*$E20,VLOOKUP($F20,'Temps unitaires'!$B$3:$J$72,7,FALSE)) -> 2 | M20: =IF($E20>0,VLOOKUP($F20,'Temps unitaires'!$B$3:$J$72,8,FALSE)*$E20,VLOOKUP($F20,'Temps unitaires'!$B$3:$J$72,8,FALSE)) -> 1e-06 | N20: =IF($E20>0,VLOOKUP($F20,'Temps unitaires'!$B$3:$J$72,9,FALSE)*$E20,VLOOKUP($F20,'Temps unitaires'!$B$3:$J$72,9,FALSE)) -> 2 | X20: =SUMPRODUCT(H20:N20,P20:V20)/SUM(H20:N20) -> 0
A21: Centre 1 | B21: CE02-1 | C21: ATR1010 (Près du C1005) | F21: Atr | G21: =SUM(H21:N21) -> 6.000002 | H21: =IF($E21>0,VLOOKUP($F21,'Temps unitaires'!$B$3:$J$72,3,FALSE)*$E21,VLOOKUP($F21,'Temps unitaires'!$B$3:$J$72,3,FALSE)) -> 2 | I21: =IF($E21>0,VLOOKUP($F21,'Temps unitaires'!$B$3:$J$72,4,FALSE)*$E21,VLOOKUP($F21,'Temps unitaires'!$B$3:$J$72,4,FALSE)) -> 1e-06 | J21: =IF($E21>0,VLOOKUP($F21,'Temps unitaires'!$B$3:$J$72,5,FALSE)*$E21,VLOOKUP($F21,'Temps unitaires'!$B$3:$J$72,5,FALSE)) -> 1 | K21: =IF($E21>0,VLOOKUP($F21,'Temps unitaires'!$B$3:$J$72,6,FALSE)*$E21,VLOOKUP($F21,'Temps unitaires'!$B$3:$J$72,6,FALSE)) -> 1 | L21: =IF($E21>0,VLOOKUP($F21,'Temps unitaires'!$B$3:$J$72,7,FALSE)*$E21,VLOOKUP($F21,'Temps unitaires'!$B$3:$J$72,7,FALSE)) -> 1 | M21: =IF($E21>0,VLOOKUP($F21,'Temps unitaires'!$B$3:$J$72,8,FALSE)*$E21,VLOOKUP($F21,'Temps unitaires'!$B$3:$J$72,8,FALSE)) -> 1e-06 | N21: =IF($E21>0,VLOOKUP($F21,'Temps unitaires'!$B$3:$J$72,9,FALSE)*$E21,VLOOKUP($F21,'Temps unitaires'!$B$3:$J$72,9,FALSE)) -> 1 | X21: =SUMPRODUCT(H21:N21,P21:V21)/SUM(H21:N21) -> 0
A22: Centre 2 | B22: CE02-1 | C22: ATR1010 (près du C1005) | F22: Atr | G22: =SUM(H22:N22) -> 6.000002 | H22: =IF($E22>0,VLOOKUP($F22,'Temps unitaires'!$B$3:$J$72,3,FALSE)*$E22,VLOOKUP($F22,'Temps unitaires'!$B$3:$J$72,3,FALSE)) -> 2 | I22: =IF($E22>0,VLOOKUP($F22,'Temps unitaires'!$B$3:$J$72,4,FALSE)*$E22,VLOOKUP($F22,'Temps unitaires'!$B$3:$J$72,4,FALSE)) -> 1e-06 | J22: =IF($E22>0,VLOOKUP($F22,'Temps unitaires'!$B$3:$J$72,5,FALSE)*$E22,VLOOKUP($F22,'Temps unitaires'!$B$3:$J$72,5,FALSE)) -> 1 | K22: =IF($E22>0,VLOOKUP($F22,'Temps unitaires'!$B$3:$J$72,6,FALSE)*$E22,VLOOKUP($F22,'Temps unitaires'!$B$3:$J$72,6,FALSE)) -> 1 | L22: =IF($E22>0,VLOOKUP($F22,'Temps unitaires'!$B$3:$J$72,7,FALSE)*$E22,VLOOKUP($F22,'Temps unitaires'!$B$3:$J$72,7,FALSE)) -> 1 | M22: =IF($E22>0,VLOOKUP($F22,'Temps unitaires'!$B$3:$J$72,8,FALSE)*$E22,VLOOKUP($F22,'Temps unitaires'!$B$3:$J$72,8,FALSE)) -> 1e-06 | N22: =IF($E22>0,VLOOKUP($F22,'Temps unitaires'!$B$3:$J$72,9,FALSE)*$E22,VLOOKUP($F22,'Temps unitaires'!$B$3:$J$72,9,FALSE)) -> 1 | X22: =SUMPRODUCT(H22:N22,P22:V22)/SUM(H22:N22) -> 0
A23: Centre 1 | B23: CE02-1 | C23: SVM.Pd+A.Cro1005 | F23: Pd.Déto+A.Cro | G23: =SUM(H23:N23) -> 27.000002 | H23: =IF($E23>0,VLOOKUP($F23,'Temps unitaires'!$B$3:$J$72,3,FALSE)*$E23,VLOOKUP($F23,'Temps unitaires'!$B$3:$J$72,3,FALSE)) -> 3 | I23: =IF($E23>0,VLOOKUP($F23,'Temps unitaires'!$B$3:$J$72,4,FALSE)*$E23,VLOOKUP($F23,'Temps unitaires'!$B$3:$J$72,4,FALSE)) -> 1e-06 | J23: =IF($E23>0,VLOOKUP($F23,'Temps unitaires'!$B$3:$J$72,5,FALSE)*$E23,VLOOKUP($F23,'Temps unitaires'!$B$3:$J$72,5,FALSE)) -> 3 | K23: =IF($E23>0,VLOOKUP($F23,'Temps unitaires'!$B$3:$J$72,6,FALSE)*$E23,VLOOKUP($F23,'Temps unitaires'!$B$3:$J$72,6,FALSE)) -> 12 | L23: =IF($E23>0,VLOOKUP($F23,'Temps unitaires'!$B$3:$J$72,7,FALSE)*$E23,VLOOKUP($F23,'Temps unitaires'!$B$3:$J$72,7,FALSE)) -> 6 | M23: =IF($E23>0,VLOOKUP($F23,'Temps unitaires'!$B$3:$J$72,8,FALSE)*$E23,VLOOKUP($F23,'Temps unitaires'!$B$3:$J$72,8,FALSE)) -> 1e-06 | N23: =IF($E23>0,VLOOKUP($F23,'Temps unitaires'!$B$3:$J$72,9,FALSE)*$E23,VLOOKUP($F23,'Temps unitaires'!$B$3:$J$72,9,FALSE)) -> 3 | X23: =SUMPRODUCT(H23:N23,P23:V23)/SUM(H23:N23) -> 0
A24: Centre 2 | B24: CE02-1 | C24: SVM.Feu rouge V2C | D24: Cb CE2-1.10 (boulé) | F24: Heurtoir | G24: =SUM(H24:N24) -> 9.000002 | H24: =IF($E24>0,VLOOKUP($F24,'Temps unitaires'!$B$3:$J$72,3,FALSE)*$E24,VLOOKUP($F24,'Temps unitaires'!$B$3:$J$72,3,FALSE)) -> 2 | I24: =IF($E24>0,VLOOKUP($F24,'Temps unitaires'!$B$3:$J$72,4,FALSE)*$E24,VLOOKUP($F24,'Temps unitaires'!$B$3:$J$72,4,FALSE)) -> 1e-06 | J24: =IF($E24>0,VLOOKUP($F24,'Temps unitaires'!$B$3:$J$72,5,FALSE)*$E24,VLOOKUP($F24,'Temps unitaires'!$B$3:$J$72,5,FALSE)) -> 1 | K24: =IF($E24>0,VLOOKUP($F24,'Temps unitaires'!$B$3:$J$72,6,FALSE)*$E24,VLOOKUP($F24,'Temps unitaires'!$B$3:$J$72,6,FALSE)) -> 3 | L24: =IF($E24>0,VLOOKUP($F24,'Temps unitaires'!$B$3:$J$72,7,FALSE)*$E24,VLOOKUP($F24,'Temps unitaires'!$B$3:$J$72,7,FALSE)) -> 2 | M24: =IF($E24>0,VLOOKUP($F24,'Temps unitaires'!$B$3:$J$72,8,FALSE)*$E24,VLOOKUP($F24,'Temps unitaires'!$B$3:$J$72,8,FALSE)) -> 1e-06 | N24: =IF($E24>0,VLOOKUP($F24,'Temps unitaires'!$B$3:$J$72,9,FALSE)*$E24,VLOOKUP($F24,'Temps unitaires'!$B$3:$J$72,9,FALSE)) -> 1 | X24: =SUMPRODUCT(H24:N24,P24:V24)/SUM(H24:N24) -> 0
A25: Centre 1 | B25: CE02-1 | C25: TOTAL | G25: =SUM(G13:G24) -> 170.25008 | H25: =SUM(H13:H24) -> 19.000013 | I25: =SUM(I13:I23) -> 2.1e-05 | J25: =SUM(J13:J24) -> 47.000012 | K25: =SUM(K13:K24) -> 49.000012 | L25: =SUM(L13:L24) -> 20.000012 | M25: =SUM(M13:M24) -> 12.00001 | N25: =SUM(N13:N24) -> 23.25 | P25: =SUMPRODUCT(H13:H24,P13:P24)/H25 -> 0 | R25: =SUMPRODUCT(J13:J24,R13:R24)/J25 -> 0 | S25: =SUMPRODUCT(K13:K24,S13:S24)/K25 -> 0 | T25: =SUMPRODUCT(L13:L24,T13:T24)/L25 -> 0 | U25: =SUMPRODUCT(M13:M24,U13:U24)/M25 -> 0 | V25: =SUMPRODUCT(N13:N24,V13:V24)/N25 -> 0 | X25: =SUMPRODUCT(H13:N24,P13:V24)/SUM(H25:N25) -> 0
A26: Centre 1 | B26: CE03-1 | C26: U71 CE03-01 | F26: U71 (Pose) | G26: =SUM(H26:N26) -> 50.250044 | H26: =IF($E26>0,VLOOKUP($F26,'Temps unitaires'!$B$3:$J$72,3,FALSE)*$E26,VLOOKUP($F26,'Temps unitaires'!$B$3:$J$72,3,FALSE)) -> 1e-06 | I26: =SUM(I25,I12) -> 3e-05 | J26: =IF($E26>0,VLOOKUP($F26,'Temps unitaires'!$B$3:$J$72,5,FALSE)*$E26,VLOOKUP($F26,'Temps unitaires'!$B$3:$J$72,5,FALSE)) -> 1 | K26: =SUM(K25) -> 49.000012 | L26: =IF($E26>0,VLOOKUP($F26,'Temps unitaires'!$B$3:$J$72,7,FALSE)*$E26,VLOOKUP($F26,'Temps unitaires'!$B$3:$J$72,7,FALSE)) -> 0 | M26: =IF($E26>0,VLOOKUP($F26,'Temps unitaires'!$B$3:$J$72,8,FALSE)*$E26,VLOOKUP($F26,'Temps unitaires'!$B$3:$J$72,8,FALSE)) -> 1e-06 | N26: =IF($E26>0,VLOOKUP($F26,'Temps unitaires'!$B$3:$J$72,9,FALSE)*$E26,VLOOKUP($F26,'Temps unitaires'!$B$3:$J$72,9,FALSE)) -> 0.25 | X26: =SUMPRODUCT(H26:N26,P26:V26)/SUM(H26:N26) -> 0
A27: Centre 1 | B27: CE03-1 | C27: U71 CE03-01 | E27: 2 | F27: Câbles Princ | G27: =SUM(H27:N27) -> 6.00001 | H27: =IF($E27>0,VLOOKUP($F27,'Temps unitaires'!$B$3:$J$72,3,FALSE)*$E27,VLOOKUP($F27,'Temps unitaires'!$B$3:$J$72,3,FALSE)) -> 2e-06 | I27: =IF($E27>0,VLOOKUP($F27,'Temps unitaires'!$B$3:$J$72,4,FALSE)*$E27,VLOOKUP($F27,'Temps unitaires'!$B$3:$J$72,4,FALSE)) -> 2e-06 | J27: =IF($E27>0,VLOOKUP($F27,'Temps unitaires'!$B$3:$J$72,5,FALSE)*$E27,VLOOKUP($F27,'Temps unitaires'!$B$3:$J$72,5,FALSE)) -> 2e-06 | K27: =IF($E27>0,VLOOKUP($F27,'Temps unitaires'!$B$3:$J$72,6,FALSE)*$E27,VLOOKUP($F27,'Temps unitaires'!$B$3:$J$72,6,FALSE)) -> 2e-06 | L27: =IF($E27>0,VLOOKUP($F27,'Temps unitaires'!$B$3:$J$72,7,FALSE)*$E27,VLOOKUP($F27,'Temps unitaires'!$B$3:$J$72,7,FALSE)) -> 2e-06 | M27: =IF($E27>0,VLOOKUP($F27,'Temps unitaires'!$B$3:$J$72,8,FALSE)*$E27,VLOOKUP($F27,'Temps unitaires'!$B$3:$J$72,8,FALSE)) -> 4 | N27: =IF($E27>0,VLOOKUP($F27,'Temps unitaires'!$B$3:$J$72,9,FALSE)*$E27,VLOOKUP($F27,'Temps unitaires'!$B$3:$J$72,9,FALSE)) -> 2 | X27: =SUMPRODUCT(H27:N27,P27:V27)/SUM(H27:N27) -> 0
A28: Centre 1 | B28: CE03-1 | C28: U71 CE03-01 | D28: Cb CE2-1.11 (boulé) | E28: 11 | F28: Câbles Locaux | G28: =SUM(H28:N28) -> 14.300055 | H28: =IF($E28>0,VLOOKUP($F28,'Temps unitaires'!$B$3:$J$72,3,FALSE)*$E28,VLOOKUP($F28,'Temps unitaires'!$B$3:$J$72,3,FALSE)) -> 1.1e-05 | I28: =IF($E28>0,VLOOKUP($F28,'Temps unitaires'!$B$3:$J$72,4,FALSE)*$E28,VLOOKUP($F28,'Temps unitaires'!$B$3:$J$72,4,FALSE)) -> 1.1e-05 | J28: =IF($E28>0,VLOOKUP($F28,'Temps unitaires'!$B$3:$J$72,5,FALSE)*$E28,VLOOKUP($F28,'Temps unitaires'!$B$3:$J$72,5,FALSE)) -> 1.1e-05 | K28: =IF($E28>0,VLOOKUP($F28,'Temps unitaires'!$B$3:$J$72,6,FALSE)*$E28,VLOOKUP($F28,'Temps unitaires'!$B$3:$J$72,6,FALSE)) -> 1.1e-05 | L28: =IF($E28>0,VLOOKUP($F28,'Temps unitaires'!$B$3:$J$72,7,FALSE)*$E28,VLOOKUP($F28,'Temps unitaires'!$B$3:$J$72,7,FALSE)) -> 1.1e-05 | M28: =IF($E28>0,VLOOKUP($F28,'Temps unitaires'!$B$3:$J$72,8,FALSE)*$E28,VLOOKUP($F28,'Temps unitaires'!$B$3:$J$72,8,FALSE)) -> 8.8 | N28: =IF($E28>0,VLOOKUP($F28,'Temps unitaires'!$B$3:$J$72,9,FALSE)*$E28,VLOOKUP($F28,'Temps unitaires'!$B$3:$J$72,9,FALSE)) -> 5.5 | X28: =SUMPRODUCT(H28:N28,P28:V28)/SUM(H28:N28) -> 0
A29: Centre 1 | B29: CE03-1 | C29: STM.Signal C1007 | F29: Signal (Neuf) | G29: =SUM(H29:N29) -> 50.000002 | H29: =IF($E29>0,VLOOKUP($F29,'Temps unitaires'!$B$3:$J$72,3,FALSE)*$E29,VLOOKUP($F29,'Temps unitaires'!$B$3:$J$72,3,FALSE)) -> 2 | I29: =IF($E29>0,VLOOKUP($F29,'Temps unitaires'!$B$3:$J$72,4,FALSE)*$E29,VLOOKUP($F29,'Temps unitaires'!$B$3:$J$72,4,FALSE)) -> 1e-06 | J29: =IF($E29>0,VLOOKUP($F29,'Temps unitaires'!$B$3:$J$72,5,FALSE)*$E29,VLOOKUP($F29,'Temps unitaires'!$B$3:$J$72,5,FALSE)) -> 35 | K29: =IF($E29>0,VLOOKUP($F29,'Temps unitaires'!$B$3:$J$72,6,FALSE)*$E29,VLOOKUP($F29,'Temps unitaires'!$B$3:$J$72,6,FALSE)) -> 6 | L29: =IF($E29>0,VLOOKUP($F29,'Temps unitaires'!$B$3:$J$72,7,FALSE)*$E29,VLOOKUP($F29,'Temps unitaires'!$B$3:$J$72,7,FALSE)) -> 3 | M29: =IF($E29>0,VLOOKUP($F29,'Temps unitaires'!$B$3:$J$72,8,FALSE)*$E29,VLOOKUP($F29,'Temps unitaires'!$B$3:$J$72,8,FALSE)) -> 1e-06 | N29: =IF($E29>0,VLOOKUP($F29,'Temps unitaires'!$B$3:$J$72,9,FALSE)*$E29,VLOOKUP($F29,'Temps unitaires'!$B$3:$J$72,9,FALSE)) -> 4 | X29: =SUMPRODUCT(H29:N29,P29:V29)/SUM(H29:N29) -> 0
A30: Centre 1 | B30: CE03-1 | C30: Signal G1007 (caisson G) | F30: Caisson (sur Mat) | G30: =SUM(H30:N30) -> 14.000002 | H30: =IF($E30>0,VLOOKUP($F30,'Temps unitaires'!$B$3:$J$72,3,FALSE)*$E30,VLOOKUP($F30,'Temps unitaires'!$B$3:$J$72,3,FALSE)) -> 2 | I30: =IF($E30>0,VLOOKUP($F30,'Temps unitaires'!$B$3:$J$72,4,FALSE)*$E30,VLOOKUP($F30,'Temps unitaires'!$B$3:$J$72,4,FALSE)) -> 1e-06 | J30: =IF($E30>0,VLOOKUP($F30,'Temps unitaires'!$B$3:$J$72,5,FALSE)*$E30,VLOOKUP($F30,'Temps unitaires'!$B$3:$J$72,5,FALSE)) -> 1 | K30: =IF($E30>0,VLOOKUP($F30,'Temps unitaires'!$B$3:$J$72,6,FALSE)*$E30,VLOOKUP($F30,'Temps unitaires'!$B$3:$J$72,6,FALSE)) -> 8 | L30: =IF($E30>0,VLOOKUP($F30,'Temps unitaires'!$B$3:$J$72,7,FALSE)*$E30,VLOOKUP($F30,'Temps unitaires'!$B$3:$J$72,7,FALSE)) -> 2 | M30: =IF($E30>0,VLOOKUP($F30,'Temps unitaires'!$B$3:$J$72,8,FALSE)*$E30,VLOOKUP($F30,'Temps unitaires'!$B$3:$J$72,8,FALSE)) -> 1e-06 | N30: =IF($E30>0,VLOOKUP($F30,'Temps unitaires'!$B$3:$J$72,9,FALSE)*$E30,VLOOKUP($F30,'Temps unitaires'!$B$3:$J$72,9,FALSE)) -> 1 | X30: =SUMPRODUCT(H30:N30,P30:V30)/SUM(H30:N30) -> 0
A31: Centre 1 | B31: CE03-1 | C31: SVM.Pd1007 | F31: Pd méca | G31: =SUM(H31:N31) -> 9.000002 | H31: =IF($E31>0,VLOOKUP($F31,'Temps unitaires'!$B$3:$J$72,3,FALSE)*$E31,VLOOKUP($F31,'Temps unitaires'!$B$3:$J$72,3,FALSE)) -> 2 | I31: =IF($E31>0,VLOOKUP($F31,'Temps unitaires'!$B$3:$J$72,4,FALSE)*$E31,VLOOKUP($F31,'Temps unitaires'!$B$3:$J$72,4,FALSE)) -> 1e-06 | J31: =IF($E31>0,VLOOKUP($F31,'Temps unitaires'!$B$3:$J$72,5,FALSE)*$E31,VLOOKUP($F31,'Temps unitaires'!$B$3:$J$72,5,FALSE)) -> 1 | K31: =IF($E31>0,VLOOKUP($F31,'Temps unitaires'!$B$3:$J$72,6,FALSE)*$E31,VLOOKUP($F31,'Temps unitaires'!$B$3:$J$72,6,FALSE)) -> 2 | L31: =IF($E31>0,VLOOKUP($F31,'Temps unitaires'!$B$3:$J$72,7,FALSE)*$E31,VLOOKUP($F31,'Temps unitaires'!$B$3:$J$72,7,FALSE)) -> 2 | M31: =IF($E31>0,VLOOKUP($F31,'Temps unitaires'!$B$3:$J$72,8,FALSE)*$E31,VLOOKUP($F31,'Temps unitaires'!$B$3:$J$72,8,FALSE)) -> 1e-06 | N31: =IF($E31>0,VLOOKUP($F31,'Temps unitaires'!$B$3:$J$72,9,FALSE)*$E31,VLOOKUP($F31,'Temps unitaires'!$B$3:$J$72,9,FALSE)) -> 2 | X31: =SUMPRODUCT(H31:N31,P31:V31)/SUM(H31:N31) -> 0
A32: Centre 1 | B32: CE03-1 | C32: Tel.C1007 | F32: Tél | G32: =SUM(H32:N32) -> 6.000002 | H32: =IF($E32>0,VLOOKUP($F32,'Temps unitaires'!$B$3:$J$72,3,FALSE)*$E32,VLOOKUP($F32,'Temps unitaires'!$B$3:$J$72,3,FALSE)) -> 2 | I32: =IF($E32>0,VLOOKUP($F32,'Temps unitaires'!$B$3:$J$72,4,FALSE)*$E32,VLOOKUP($F32,'Temps unitaires'!$B$3:$J$72,4,FALSE)) -> 1e-06 | J32: =IF($E32>0,VLOOKUP($F32,'Temps unitaires'!$B$3:$J$72,5,FALSE)*$E32,VLOOKUP($F32,'Temps unitaires'!$B$3:$J$72,5,FALSE)) -> 1 | K32: =IF($E32>0,VLOOKUP($F32,'Temps unitaires'!$B$3:$J$72,6,FALSE)*$E32,VLOOKUP($F32,'Temps unitaires'!$B$3:$J$72,6,FALSE)) -> 1 | L32: =IF($E32>0,VLOOKUP($F32,'Temps unitaires'!$B$3:$J$72,7,FALSE)*$E32,VLOOKUP($F32,'Temps unitaires'!$B$3:$J$72,7,FALSE)) -> 1 | M32: =IF($E32>0,VLOOKUP($F32,'Temps unitaires'!$B$3:$J$72,8,FALSE)*$E32,VLOOKUP($F32,'Temps unitaires'!$B$3:$J$72,8,FALSE)) -> 1e-06 | N32: =IF($E32>0,VLOOKUP($F32,'Temps unitaires'!$B$3:$J$72,9,FALSE)*$E32,VLOOKUP($F32,'Temps unitaires'!$B$3:$J$72,9,FALSE)) -> 1 | X32: =SUMPRODUCT(H32:N32,P32:V32)/SUM(H32:N32) -> 0
A33: Centre 1 | B33: CE03-1 | C33: SDCP2.Cro1007 | F33: CRO | G33: =SUM(H33:N33) -> 12.000002 | H33: =IF($E33>0,VLOOKUP($F33,'Temps unitaires'!$B$3:$J$72,3,FALSE)*$E33,VLOOKUP($F33,'Temps unitaires'!$B$3:$J$72,3,FALSE)) -> 2 | I33: =IF($E33>0,VLOOKUP($F33,'Temps unitaires'!$B$3:$J$72,4,FALSE)*$E33,VLOOKUP($F33,'Temps unitaires'!$B$3:$J$72,4,FALSE)) -> 1e-06 | J33: =IF($E33>0,VLOOKUP($F33,'Temps unitaires'!$B$3:$J$72,5,FALSE)*$E33,VLOOKUP($F33,'Temps unitaires'!$B$3:$J$72,5,FALSE)) -> 1 | K33: =IF($E33>0,VLOOKUP($F33,'Temps unitaires'!$B$3:$J$72,6,FALSE)*$E33,VLOOKUP($F33,'Temps unitaires'!$B$3:$J$72,6,FALSE)) -> 6 | L33: =IF($E33>0,VLOOKUP($F33,'Temps unitaires'!$B$3:$J$72,7,FALSE)*$E33,VLOOKUP($F33,'Temps unitaires'!$B$3:$J$72,7,FALSE)) -> 2 | M33: =IF($E33>0,VLOOKUP($F33,'Temps unitaires'!$B$3:$J$72,8,FALSE)*$E33,VLOOKUP($F33,'Temps unitaires'!$B$3:$J$72,8,FALSE)) -> 1e-06 | N33: =IF($E33>0,VLOOKUP($F33,'Temps unitaires'!$B$3:$J$72,9,FALSE)*$E33,VLOOKUP($F33,'Temps unitaires'!$B$3:$J$72,9,FALSE)) -> 1 | X33: =SUMPRODUCT(H33:N33,P33:V33)/SUM(H33:N33) -> 0
A34: Centre 1 | B34: CE03-1 | C34: CI.REZ1007 | E34: 0.5 | F34: CdV CI 25000V | G34: =SUM(H34:N34) -> 8.500001 | H34: =IF($E34>0,VLOOKUP($F34,'Temps unitaires'!$B$3:$J$72,3,FALSE)*$E34,VLOOKUP($F34,'Temps unitaires'!$B$3:$J$72,3,FALSE)) -> 1 | I34: =IF($E34>0,VLOOKUP($F34,'Temps unitaires'!$B$3:$J$72,4,FALSE)*$E34,VLOOKUP($F34,'Temps unitaires'!$B$3:$J$72,4,FALSE)) -> 5e-07 | J34: =IF($E34>0,VLOOKUP($F34,'Temps unitaires'!$B$3:$J$72,5,FALSE)*$E34,VLOOKUP($F34,'Temps unitaires'!$B$3:$J$72,5,FALSE)) -> 1 | K34: =IF($E34>0,VLOOKUP($F34,'Temps unitaires'!$B$3:$J$72,6,FALSE)*$E34,VLOOKUP($F34,'Temps unitaires'!$B$3:$J$72,6,FALSE)) -> 4.5 | L34: =IF($E34>0,VLOOKUP($F34,'Temps unitaires'!$B$3:$J$72,7,FALSE)*$E34,VLOOKUP($F34,'Temps unitaires'!$B$3:$J$72,7,FALSE)) -> 1 | M34: =IF($E34>0,VLOOKUP($F34,'Temps unitaires'!$B$3:$J$72,8,FALSE)*$E34,VLOOKUP($F34,'Temps unitaires'!$B$3:$J$72,8,FALSE)) -> 5e-07 | N34: =IF($E34>0,VLOOKUP($F34,'Temps unitaires'!$B$3:$J$72,9,FALSE)*$E34,VLOOKUP($F34,'Temps unitaires'!$B$3:$J$72,9,FALSE)) -> 1 | X34: =SUMPRODUCT(H34:N34,P34:V34)/SUM(H34:N34) -> 0
A35: Centre 1 | B35: CE03-1 | C35: ATR1007 (Près du C1007) | F35: Atr | G35: =SUM(H35:N35) -> 6.000002 | H35: =IF($E35>0,VLOOKUP($F35,'Temps unitaires'!$B$3:$J$72,3,FALSE)*$E35,VLOOKUP($F35,'Temps unitaires'!$B$3:$J$72,3,FALSE)) -> 2 | I35: =IF($E35>0,VLOOKUP($F35,'Temps unitaires'!$B$3:$J$72,4,FALSE)*$E35,VLOOKUP($F35,'Temps unitaires'!$B$3:$J$72,4,FALSE)) -> 1e-06 | J35: =IF($E35>0,VLOOKUP($F35,'Temps unitaires'!$B$3:$J$72,5,FALSE)*$E35,VLOOKUP($F35,'Temps unitaires'!$B$3:$J$72,5,FALSE)) -> 1 | K35: =IF($E35>0,VLOOKUP($F35,'Temps unitaires'!$B$3:$J$72,6,FALSE)*$E35,VLOOKUP($F35,'Temps unitaires'!$B$3:$J$72,6,FALSE)) -> 1 | L35: =IF($E35>0,VLOOKUP($F35,'Temps unitaires'!$B$3:$J$72,7,FALSE)*$E35,VLOOKUP($F35,'Temps unitaires'!$B$3:$J$72,7,FALSE)) -> 1 | M35: =IF($E35>0,VLOOKUP($F35,'Temps unitaires'!$B$3:$J$72,8,FALSE)*$E35,VLOOKUP($F35,'Temps unitaires'!$B$3:$J$72,8,FALSE)) -> 1e-06 | N35: =IF($E35>0,VLOOKUP($F35,'Temps unitaires'!$B$3:$J$72,9,FALSE)*$E35,VLOOKUP($F35,'Temps unitaires'!$B$3:$J$72,9,FALSE)) -> 1 | X35: =SUMPRODUCT(H35:N35,P35:V35)/SUM(H35:N35) -> 0
A36: Centre 1 | B36: CE03-1 | C36: ATR1008 (Près du C1007) | F36: Atr | G36: =SUM(H36:N36) -> 6.000002 | H36: =IF($E36>0,VLOOKUP($F36,'Temps unitaires'!$B$3:$J$72,3,FALSE)*$E36,VLOOKUP($F36,'Temps unitaires'!$B$3:$J$72,3,FALSE)) -> 2 | I36: =IF($E36>0,VLOOKUP($F36,'Temps unitaires'!$B$3:$J$72,4,FALSE)*$E36,VLOOKUP($F36,'Temps unitaires'!$B$3:$J$72,4,FALSE)) -> 1e-06 | J36: =IF($E36>0,VLOOKUP($F36,'Temps unitaires'!$B$3:$J$72,5,FALSE)*$E36,VLOOKUP($F36,'Temps unitaires'!$B$3:$J$72,5,FALSE)) -> 1 | K36: =IF($E36>0,VLOOKUP($F36,'Temps unitaires'!$B$3:$J$72,6,FALSE)*$E36,VLOOKUP($F36,'Temps unitaires'!$B$3:$J$72,6,FALSE)) -> 1 | L36: =IF($E36>0,VLOOKUP($F36,'Temps unitaires'!$B$3:$J$72,7,FALSE)*$E36,VLOOKUP($F36,'Temps unitaires'!$B$3:$J$72,7,FALSE)) -> 1 | M36: =IF($E36>0,VLOOKUP($F36,'Temps unitaires'!$B$3:$J$72,8,FALSE)*$E36,VLOOKUP($F36,'Temps unitaires'!$B$3:$J$72,8,FALSE)) -> 1e-06 | N36: =IF($E36>0,VLOOKUP($F36,'Temps unitaires'!$B$3:$J$72,9,FALSE)*$E36,VLOOKUP($F36,'Temps unitaires'!$B$3:$J$72,9,FALSE)) -> 1 | X36: =SUMPRODUCT(H36:N36,P36:V36)/SUM(H36:N36) -> 0
A37: Centre 1 | B37: CE03-1 | C37: ATR1010 (Près du C1007) | F37: Atr | G37: =SUM(H37:N37) -> 6.000002 | H37: =IF($E37>0,VLOOKUP($F37,'Temps unitaires'!$B$3:$J$72,3,FALSE)*$E37,VLOOKUP($F37,'Temps unitaires'!$B$3:$J$72,3,FALSE)) -> 2 | I37: =IF($E37>0,VLOOKUP($F37,'Temps unitaires'!$B$3:$J$72,4,FALSE)*$E37,VLOOKUP($F37,'Temps unitaires'!$B$3:$J$72,4,FALSE)) -> 1e-06 | J37: =IF($E37>0,VLOOKUP($F37,'Temps unitaires'!$B$3:$J$72,5,FALSE)*$E37,VLOOKUP($F37,'Temps unitaires'!$B$3:$J$72,5,FALSE)) -> 1 | K37: =IF($E37>0,VLOOKUP($F37,'Temps unitaires'!$B$3:$J$72,6,FALSE)*$E37,VLOOKUP($F37,'Temps unitaires'!$B$3:$J$72,6,FALSE)) -> 1 | L37: =IF($E37>0,VLOOKUP($F37,'Temps unitaires'!$B$3:$J$72,7,FALSE)*$E37,VLOOKUP($F37,'Temps unitaires'!$B$3:$J$72,7,FALSE)) -> 1 | M37: =IF($E37>0,VLOOKUP($F37,'Temps unitaires'!$B$3:$J$72,8,FALSE)*$E37,VLOOKUP($F37,'Temps unitaires'!$B$3:$J$72,8,FALSE)) -> 1e-06 | N37: =IF($E37>0,VLOOKUP($F37,'Temps unitaires'!$B$3:$J$72,9,FALSE)*$E37,VLOOKUP($F37,'Temps unitaires'!$B$3:$J$72,9,FALSE)) -> 1 | X37: =SUMPRODUCT(H37:N37,P37:V37)/SUM(H37:N37) -> 0
A38: Centre 1 | B38: CE03-1 | C38: Cm.ZEP1203 (près du C1007) | F38: Commut | G38: =SUM(H38:N38) -> 6.000002 | H38: =IF($E38>0,VLOOKUP($F38,'Temps unitaires'!$B$3:$J$72,3,FALSE)*$E38,VLOOKUP($F38,'Temps unitaires'!$B$3:$J$72,3,FALSE)) -> 2 | I38: =IF($E38>0,VLOOKUP($F38,'Temps unitaires'!$B$3:$J$72,4,FALSE)*$E38,VLOOKUP($F38,'Temps unitaires'!$B$3:$J$72,4,FALSE)) -> 1e-06 | J38: =IF($E38>0,VLOOKUP($F38,'Temps unitaires'!$B$3:$J$72,5,FALSE)*$E38,VLOOKUP($F38,'Temps unitaires'!$B$3:$J$72,5,FALSE)) -> 1 | K38: =IF($E38>0,VLOOKUP($F38,'Temps unitaires'!$B$3:$J$72,6,FALSE)*$E38,VLOOKUP($F38,'Temps unitaires'!$B$3:$J$72,6,FALSE)) -> 1 | L38: =IF($E38>0,VLOOKUP($F38,'Temps unitaires'!$B$3:$J$72,7,FALSE)*$E38,VLOOKUP($F38,'Temps unitaires'!$B$3:$J$72,7,FALSE)) -> 1 | M38: =IF($E38>0,VLOOKUP($F38,'Temps unitaires'!$B$3:$J$72,8,FALSE)*$E38,VLOOKUP($F38,'Temps unitaires'!$B$3:$J$72,8,FALSE)) -> 1e-06 | N38: =IF($E38>0,VLOOKUP($F38,'Temps unitaires'!$B$3:$J$72,9,FALSE)*$E38,VLOOKUP($F38,'Temps unitaires'!$B$3:$J$72,9,FALSE)) -> 1 | X38: =SUMPRODUCT(H38:N38,P38:V38)/SUM(H38:N38) -> 0
A39: Centre 1 | B39: CE03-1 | C39: SVM.Feu rouge V1C | D39: Cb CE2-1.11 (boulé) | F39: Heurtoir | G39: =SUM(H39:N39) -> 9.000002 | H39: =IF($E39>0,VLOOKUP($F39,'Temps unitaires'!$B$3:$J$72,3,FALSE)*$E39,VLOOKUP($F39,'Temps unitaires'!$B$3:$J$72,3,FALSE)) -> 2 | I39: =IF($E39>0,VLOOKUP($F39,'Temps unitaires'!$B$3:$J$72,4,FALSE)*$E39,VLOOKUP($F39,'Temps unitaires'!$B$3:$J$72,4,FALSE)) -> 1e-06 | J39: =IF($E39>0,VLOOKUP($F39,'Temps unitaires'!$B$3:$J$72,5,FALSE)*$E39,VLOOKUP($F39,'Temps unitaires'!$B$3:$J$72,5,FALSE)) -> 1 | K39: =IF($E39>0,VLOOKUP($F39,'Temps unitaires'!$B$3:$J$72,6,FALSE)*$E39,VLOOKUP($F39,'Temps unitaires'!$B$3:$J$72,6,FALSE)) -> 3 | L39: =IF($E39>0,VLOOKUP($F39,'Temps unitaires'!$B$3:$J$72,7,FALSE)*$E39,VLOOKUP($F39,'Temps unitaires'!$B$3:$J$72,7,FALSE)) -> 2 | M39: =IF($E39>0,VLOOKUP($F39,'Temps unitaires'!$B$3:$J$72,8,FALSE)*$E39,VLOOKUP($F39,'Temps unitaires'!$B$3:$J$72,8,FALSE)) -> 1e-06 | N39: =IF($E39>0,VLOOKUP($F39,'Temps unitaires'!$B$3:$J$72,9,FALSE)*$E39,VLOOKUP($F39,'Temps unitaires'!$B$3:$J$72,9,FALSE)) -> 1 | X39: =SUMPRODUCT(H39:N39,P39:V39)/SUM(H39:N39) -> 0
A40: Centre 1 | B40: CE03-1 | C40: TOTAL | G40: =SUM(G26:G39) -> 203.05013 | H40: =SUM(H26:H39) -> 21.000014 | I40: =SUM(I27:I39) -> 2.35e-05 | J40: =SUM(J26:J39) -> 46.000013 | K40: =SUM(K26:K39) -> 83.500025 | L40: =SUM(L26:L39) -> 17.000013 | M40: =SUM(M26:M39) -> 12.800011 | N40: =SUM(N26:N39) -> 22.75 | P40: =SUMPRODUCT(H26:H39,P26:P39)/H40 -> 0 | R40: =SUMPRODUCT(J26:J39,R26:R39)/J40 -> 0 | S40: =SUMPRODUCT(K26:K39,S26:S39)/K40 -> 0 | T40: =SUMPRODUCT(L26:L39,T26:T39)/L40 -> 0 | U40: =SUMPRODUCT(M26:M39,U26:U39)/M40 -> 0 | V40: =SUMPRODUCT(N26:N39,V26:V39)/N40 -> 0 | X40: =SUMPRODUCT(H26:N39,P26:V39)/SUM(H26:N39) -> 0
A41: Centre 1 | B41: CE04-1 | C41: U71 CE04-01 | F41: U71 (Pose) | G41: =SUM(H41:N41) -> 7.250003 | H41: =IF($E41>0,VLOOKUP($F41,'Temps unitaires'!$B$3:$J$72,3,FALSE)*$E41,VLOOKUP($F41,'Temps unitaires'!$B$3:$J$72,3,FALSE)) -> 1e-06 | I41: =IF($E41>0,VLOOKUP($F41,'Temps unitaires'!$B$3:$J$72,4,FALSE)*$E41,VLOOKUP($F41,'Temps unitaires'!$B$3:$J$72,4,FALSE)) -> 1e-06 | J41: =IF($E41>0,VLOOKUP($F41,'Temps unitaires'!$B$3:$J$72,5,FALSE)*$E41,VLOOKUP($F41,'Temps unitaires'!$B$3:$J$72,5,FALSE)) -> 1 | K41: =IF($E41>0,VLOOKUP($F41,'Temps unitaires'!$B$3:$J$72,6,FALSE)*$E41,VLOOKUP($F41,'Temps unitaires'!$B$3:$J$72,6,FALSE)) -> 6 | L41: =IF($E41>0,VLOOKUP($F41,'Temps unitaires'!$B$3:$J$72,7,FALSE)*$E41,VLOOKUP($F41,'Temps unitaires'!$B$3:$J$72,7,FALSE)) -> 0 | M41: =IF($E41>0,VLOOKUP($F41,'Temps unitaires'!$B$3:$J$72,8,FALSE)*$E41,VLOOKUP($F41,'Temps unitaires'!$B$3:$J$72,8,FALSE)) -> 1e-06 | N41: =IF($E41>0,VLOOKUP($F41,'Temps unitaires'!$B$3:$J$72,9,FALSE)*$E41,VLOOKUP($F41,'Temps unitaires'!$B$3:$J$72,9,FALSE)) -> 0.25 | X41: =SUMPRODUCT(H41:N41,P41:V41)/SUM(H41:N41) -> 0
A42: Centre 1 | B42: CE04-1 | C42: U71 CE04-01 | E42: 2 | F42: Câbles Princ | G42: =SUM(H42:N42) -> 6.00001 | H42: =IF($E42>0,VLOOKUP($F42,'Temps unitaires'!$B$3:$J$72,3,FALSE)*$E42,VLOOKUP($F42,'Temps unitaires'!$B$3:$J$72,3,FALSE)) -> 2e-06 | I42: =IF($E42>0,VLOOKUP($F42,'Temps unitaires'!$B$3:$J$72,4,FALSE)*$E42,VLOOKUP($F42,'Temps unitaires'!$B$3:$J$72,4,FALSE)) -> 2e-06 | J42: =IF($E42>0,VLOOKUP($F42,'Temps unitaires'!$B$3:$J$72,5,FALSE)*$E42,VLOOKUP($F42,'Temps unitaires'!$B$3:$J$72,5,FALSE)) -> 2e-06 | K42: =IF($E42>0,VLOOKUP($F42,'Temps unitaires'!$B$3:$J$72,6,FALSE)*$E42,VLOOKUP($F42,'Temps unitaires'!$B$3:$J$72,6,FALSE)) -> 2e-06 | L42: =IF($E42>0,VLOOKUP($F42,'Temps unitaires'!$B$3:$J$72,7,FALSE)*$E42,VLOOKUP($F42,'Temps unitaires'!$B$3:$J$72,7,FALSE)) -> 2e-06 | M42: =IF($E42>0,VLOOKUP($F42,'Temps unitaires'!$B$3:$J$72,8,FALSE)*$E42,VLOOKUP($F42,'Temps unitaires'!$B$3:$J$72,8,FALSE)) -> 4 | N42: =IF($E42>0,VLOOKUP($F42,'Temps unitaires'!$B$3:$J$72,9,FALSE)*$E42,VLOOKUP($F42,'Temps unitaires'!$B$3:$J$72,9,FALSE)) -> 2 | S42: , | X42: =SUMPRODUCT(H42:N42,P42:V42)/SUM(H42:N42) -> 0
A43: Centre 1 | B43: CE04-1 | C43: U71 CE04-01 | E43: 12 | F43: Câbles Locaux | G43: =SUM(H43:N43) -> 15.60006 | H43: =IF($E43>0,VLOOKUP($F43,'Temps unitaires'!$B$3:$J$72,3,FALSE)*$E43,VLOOKUP($F43,'Temps unitaires'!$B$3:$J$72,3,FALSE)) -> 1.2e-05 | I43: =IF($E43>0,VLOOKUP($F43,'Temps unitaires'!$B$3:$J$72,4,FALSE)*$E43,VLOOKUP($F43,'Temps unitaires'!$B$3:$J$72,4,FALSE)) -> 1.2e-05 | J43: =IF($E43>0,VLOOKUP($F43,'Temps unitaires'!$B$3:$J$72,5,FALSE)*$E43,VLOOKUP($F43,'Temps unitaires'!$B$3:$J$72,5,FALSE)) -> 1.2e-05 | K43: =IF($E43>0,VLOOKUP($F43,'Temps unitaires'!$B$3:$J$72,6,FALSE)*$E43,VLOOKUP($F43,'Temps unitaires'!$B$3:$J$72,6,FALSE)) -> 1.2e-05 | L43: =IF($E43>0,VLOOKUP($F43,'Temps unitaires'!$B$3:$J$72,7,FALSE)*$E43,VLOOKUP($F43,'Temps unitaires'!$B$3:$J$72,7,FALSE)) -> 1.2e-05 | M43: =IF($E43>0,VLOOKUP($F43,'Temps unitaires'!$B$3:$J$72,8,FALSE)*$E43,VLOOKUP($F43,'Temps unitaires'!$B$3:$J$72,8,FALSE)) -> 9.6 | N43: =IF($E43>0,VLOOKUP($F43,'Temps unitaires'!$B$3:$J$72,9,FALSE)*$E43,VLOOKUP($F43,'Temps unitaires'!$B$3:$J$72,9,FALSE)) -> 6 | X43: =SUMPRODUCT(H43:N43,P43:V43)/SUM(H43:N43) -> 0
A44: Centre 1 | B44: CE04-1 | C44: SVM.Ag1002 | F44: AIGUILLE (avec RP) | G44: =SUM(H44:N44) -> 27.000002 | H44: =IF($E44>0,VLOOKUP($F44,'Temps unitaires'!$B$3:$J$72,3,FALSE)*$E44,VLOOKUP($F44,'Temps unitaires'!$B$3:$J$72,3,FALSE)) -> 2 | I44: =IF($E44>0,VLOOKUP($F44,'Temps unitaires'!$B$3:$J$72,4,FALSE)*$E44,VLOOKUP($F44,'Temps unitaires'!$B$3:$J$72,4,FALSE)) -> 1e-06 | J44: =IF($E44>0,VLOOKUP($F44,'Temps unitaires'!$B$3:$J$72,5,FALSE)*$E44,VLOOKUP($F44,'Temps unitaires'!$B$3:$J$72,5,FALSE)) -> 1 | K44: =IF($E44>0,VLOOKUP($F44,'Temps unitaires'!$B$3:$J$72,6,FALSE)*$E44,VLOOKUP($F44,'Temps unitaires'!$B$3:$J$72,6,FALSE)) -> 16 | L44: =IF($E44>0,VLOOKUP($F44,'Temps unitaires'!$B$3:$J$72,7,FALSE)*$E44,VLOOKUP($F44,'Temps unitaires'!$B$3:$J$72,7,FALSE)) -> 4 | M44: =IF($E44>0,VLOOKUP($F44,'Temps unitaires'!$B$3:$J$72,8,FALSE)*$E44,VLOOKUP($F44,'Temps unitaires'!$B$3:$J$72,8,FALSE)) -> 1e-06 | N44: =IF($E44>0,VLOOKUP($F44,'Temps unitaires'!$B$3:$J$72,9,FALSE)*$E44,VLOOKUP($F44,'Temps unitaires'!$B$3:$J$72,9,FALSE)) -> 4 | X44: =SUMPRODUCT(H44:N44,P44:V44)/SUM(H44:N44) -> 0
A45: Centre 1 | B45: CE04-1 | C45: SVM.Ag1003A | F45: AIGUILLE (avec RP) | G45: =SUM(H45:N45) -> 27.000002 | H45: =IF($E45>0,VLOOKUP($F45,'Temps unitaires'!$B$3:$J$72,3,FALSE)*$E45,VLOOKUP($F45,'Temps unitaires'!$B$3:$J$72,3,FALSE)) -> 2 | I45: =IF($E45>0,VLOOKUP($F45,'Temps unitaires'!$B$3:$J$72,4,FALSE)*$E45,VLOOKUP($F45,'Temps unitaires'!$B$3:$J$72,4,FALSE)) -> 1e-06 | J45: =IF($E45>0,VLOOKUP($F45,'Temps unitaires'!$B$3:$J$72,5,FALSE)*$E45,VLOOKUP($F45,'Temps unitaires'!$B$3:$J$72,5,FALSE)) -> 1 | K45: =IF($E45>0,VLOOKUP($F45,'Temps unitaires'!$B$3:$J$72,6,FALSE)*$E45,VLOOKUP($F45,'Temps unitaires'!$B$3:$J$72,6,FALSE)) -> 16 | L45: =IF($E45>0,VLOOKUP($F45,'Temps unitaires'!$B$3:$J$72,7,FALSE)*$E45,VLOOKUP($F45,'Temps unitaires'!$B$3:$J$72,7,FALSE)) -> 4 | M45: =IF($E45>0,VLOOKUP($F45,'Temps unitaires'!$B$3:$J$72,8,FALSE)*$E45,VLOOKUP($F45,'Temps unitaires'!$B$3:$J$72,8,FALSE)) -> 1e-06 | N45: =IF($E45>0,VLOOKUP($F45,'Temps unitaires'!$B$3:$J$72,9,FALSE)*$E45,VLOOKUP($F45,'Temps unitaires'!$B$3:$J$72,9,FALSE)) -> 4 | X45: =SUMPRODUCT(H45:N45,P45:V45)/SUM(H45:N45) -> 0
A46: Centre 1 | B46: CE04-1 | C46: SVM.Ag1005B | F46: AIGUILLE (avec RP) | G46: =SUM(H46:N46) -> 27.000002 | H46: =IF($E46>0,VLOOKUP($F46,'Temps unitaires'!$B$3:$J$72,3,FALSE)*$E46,VLOOKUP($F46,'Temps unitaires'!$B$3:$J$72,3,FALSE)) -> 2 | I46: =IF($E46>0,VLOOKUP($F46,'Temps unitaires'!$B$3:$J$72,4,FALSE)*$E46,VLOOKUP($F46,'Temps unitaires'!$B$3:$J$72,4,FALSE)) -> 1e-06 | J46: =IF($E46>0,VLOOKUP($F46,'Temps unitaires'!$B$3:$J$72,5,FALSE)*$E46,VLOOKUP($F46,'Temps unitaires'!$B$3:$J$72,5,FALSE)) -> 1 | K46: =IF($E46>0,VLOOKUP($F46,'Temps unitaires'!$B$3:$J$72,6,FALSE)*$E46,VLOOKUP($F46,'Temps unitaires'!$B$3:$J$72,6,FALSE)) -> 16 | L46: =IF($E46>0,VLOOKUP($F46,'Temps unitaires'!$B$3:$J$72,7,FALSE)*$E46,VLOOKUP($F46,'Temps unitaires'!$B$3:$J$72,7,FALSE)) -> 4 | M46: =IF($E46>0,VLOOKUP($F46,'Temps unitaires'!$B$3:$J$72,8,FALSE)*$E46,VLOOKUP($F46,'Temps unitaires'!$B$3:$J$72,8,FALSE)) -> 1e-06 | N46: =IF($E46>0,VLOOKUP($F46,'Temps unitaires'!$B$3:$J$72,9,FALSE)*$E46,VLOOKUP($F46,'Temps unitaires'!$B$3:$J$72,9,FALSE)) -> 4 | X46: =SUMPRODUCT(H46:N46,P46:V46)/SUM(H46:N46) -> 0
A47: Centre 1 | B47: CE04-1 | C47: Cm.Ag1002-1003a (Près de Ag1003a) | F47: Cm.Ag | G47: =SUM(H47:N47) -> 6.000002 | H47: =IF($E47>0,VLOOKUP($F47,'Temps unitaires'!$B$3:$J$72,3,FALSE)*$E47,VLOOKUP($F47,'Temps unitaires'!$B$3:$J$72,3,FALSE)) -> 2 | I47: =IF($E47>0,VLOOKUP($F47,'Temps unitaires'!$B$3:$J$72,4,FALSE)*$E47,VLOOKUP($F47,'Temps unitaires'!$B$3:$J$72,4,FALSE)) -> 1e-06 | J47: =IF($E47>0,VLOOKUP($F47,'Temps unitaires'!$B$3:$J$72,5,FALSE)*$E47,VLOOKUP($F47,'Temps unitaires'!$B$3:$J$72,5,FALSE)) -> 1 | K47: =IF($E47>0,VLOOKUP($F47,'Temps unitaires'!$B$3:$J$72,6,FALSE)*$E47,VLOOKUP($F47,'Temps unitaires'!$B$3:$J$72,6,FALSE)) -> 1 | L47: =IF($E47>0,VLOOKUP($F47,'Temps unitaires'!$B$3:$J$72,7,FALSE)*$E47,VLOOKUP($F47,'Temps unitaires'!$B$3:$J$72,7,FALSE)) -> 1 | M47: =IF($E47>0,VLOOKUP($F47,'Temps unitaires'!$B$3:$J$72,8,FALSE)*$E47,VLOOKUP($F47,'Temps unitaires'!$B$3:$J$72,8,FALSE)) -> 1e-06 | N47: =IF($E47>0,VLOOKUP($F47,'Temps unitaires'!$B$3:$J$72,9,FALSE)*$E47,VLOOKUP($F47,'Temps unitaires'!$B$3:$J$72,9,FALSE)) -> 1 | X47: =SUMPRODUCT(H47:N47,P47:V47)/SUM(H47:N47) -> 0
A48: Centre 1 | B48: CE04-1 | C48: Cm.Ag1005b-1007a (Près de Ag1003a) | F48: Cm.Ag | G48: =SUM(H48:N48) -> 6.000002 | H48: =IF($E48>0,VLOOKUP($F48,'Temps unitaires'!$B$3:$J$72,3,FALSE)*$E48,VLOOKUP($F48,'Temps unitaires'!$B$3:$J$72,3,FALSE)) -> 2 | I48: =IF($E48>0,VLOOKUP($F48,'Temps unitaires'!$B$3:$J$72,4,FALSE)*$E48,VLOOKUP($F48,'Temps unitaires'!$B$3:$J$72,4,FALSE)) -> 1e-06 | J48: =IF($E48>0,VLOOKUP($F48,'Temps unitaires'!$B$3:$J$72,5,FALSE)*$E48,VLOOKUP($F48,'Temps unitaires'!$B$3:$J$72,5,FALSE)) -> 1 | K48: =IF($E48>0,VLOOKUP($F48,'Temps unitaires'!$B$3:$J$72,6,FALSE)*$E48,VLOOKUP($F48,'Temps unitaires'!$B$3:$J$72,6,FALSE)) -> 1 | L48: =IF($E48>0,VLOOKUP($F48,'Temps unitaires'!$B$3:$J$72,7,FALSE)*$E48,VLOOKUP($F48,'Temps unitaires'!$B$3:$J$72,7,FALSE)) -> 1 | M48: =IF($E48>0,VLOOKUP($F48,'Temps unitaires'!$B$3:$J$72,8,FALSE)*$E48,VLOOKUP($F48,'Temps unitaires'!$B$3:$J$72,8,FALSE)) -> 1e-06 | N48: =IF($E48>0,VLOOKUP($F48,'Temps unitaires'!$B$3:$J$72,9,FALSE)*$E48,VLOOKUP($F48,'Temps unitaires'!$B$3:$J$72,9,FALSE)) -> 1 | X48: =SUMPRODUCT(H48:N48,P48:V48)/SUM(H48:N48) -> 0
A49: Centre 1 | B49: CE04-1 | C49: Tel.Ag1003a | F49: Tél | G49: =SUM(H49:N49) -> 6.000002 | H49: =IF($E49>0,VLOOKUP($F49,'Temps unitaires'!$B$3:$J$72,3,FALSE)*$E49,VLOOKUP($F49,'Temps unitaires'!$B$3:$J$72,3,FALSE)) -> 2 | I49: =IF($E49>0,VLOOKUP($F49,'Temps unitaires'!$B$3:$J$72,4,FALSE)*$E49,VLOOKUP($F49,'Temps unitaires'!$B$3:$J$72,4,FALSE)) -> 1e-06 | J49: =IF($E49>0,VLOOKUP($F49,'Temps unitaires'!$B$3:$J$72,5,FALSE)*$E49,VLOOKUP($F49,'Temps unitaires'!$B$3:$J$72,5,FALSE)) -> 1 | K49: =IF($E49>0,VLOOKUP($F49,'Temps unitaires'!$B$3:$J$72,6,FALSE)*$E49,VLOOKUP($F49,'Temps unitaires'!$B$3:$J$72,6,FALSE)) -> 1 | L49: =IF($E49>0,VLOOKUP($F49,'Temps unitaires'!$B$3:$J$72,7,FALSE)*$E49,VLOOKUP($F49,'Temps unitaires'!$B$3:$J$72,7,FALSE)) -> 1 | M49: =IF($E49>0,VLOOKUP($F49,'Temps unitaires'!$B$3:$J$72,8,FALSE)*$E49,VLOOKUP($F49,'Temps unitaires'!$B$3:$J$72,8,FALSE)) -> 1e-06 | N49: =IF($E49>0,VLOOKUP($F49,'Temps unitaires'!$B$3:$J$72,9,FALSE)*$E49,VLOOKUP($F49,'Temps unitaires'!$B$3:$J$72,9,FALSE)) -> 1 | X49: =SUMPRODUCT(H49:N49,P49:V49)/SUM(H49:N49) -> 0
A50: Centre 1 | B50: CE04-1 | C50: CI.REZ1010.EM1008 | F50: CdV CI 25000V | G50: =SUM(H50:N50) -> 17.000002 | H50: =IF($E50>0,VLOOKUP($F50,'Temps unitaires'!$B$3:$J$72,3,FALSE)*$E50,VLOOKUP($F50,'Temps unitaires'!$B$3:$J$72,3,FALSE)) -> 2 | I50: =IF($E50>0,VLOOKUP($F50,'Temps unitaires'!$B$3:$J$72,4,FALSE)*$E50,VLOOKUP($F50,'Temps unitaires'!$B$3:$J$72,4,FALSE)) -> 1e-06 | J50: =IF($E50>0,VLOOKUP($F50,'Temps unitaires'!$B$3:$J$72,5,FALSE)*$E50,VLOOKUP($F50,'Temps unitaires'!$B$3:$J$72,5,FALSE)) -> 2 | K50: =IF($E50>0,VLOOKUP($F50,'Temps unitaires'!$B$3:$J$72,6,FALSE)*$E50,VLOOKUP($F50,'Temps unitaires'!$B$3:$J$72,6,FALSE)) -> 9 | L50: =IF($E50>0,VLOOKUP($F50,'Temps unitaires'!$B$3:$J$72,7,FALSE)*$E50,VLOOKUP($F50,'Temps unitaires'!$B$3:$J$72,7,FALSE)) -> 2 | M50: =IF($E50>0,VLOOKUP($F50,'Temps unitaires'!$B$3:$J$72,8,FALSE)*$E50,VLOOKUP($F50,'Temps unitaires'!$B$3:$J$72,8,FALSE)) -> 1e-06 | N50: =IF($E50>0,VLOOKUP($F50,'Temps unitaires'!$B$3:$J$72,9,FALSE)*$E50,VLOOKUP($F50,'Temps unitaires'!$B$3:$J$72,9,FALSE)) -> 2 | X50: =SUMPRODUCT(H50:N50,P50:V50)/SUM(H50:N50) -> 0
A51: Centre 1 | B51: CE04-1 | C51: SVM.Ag1007A | F51: AIGUILLE (avec RP) | G51: =SUM(H51:N51) -> 27.000002 | H51: =IF($E51>0,VLOOKUP($F51,'Temps unitaires'!$B$3:$J$72,3,FALSE)*$E51,VLOOKUP($F51,'Temps unitaires'!$B$3:$J$72,3,FALSE)) -> 2 | I51: =IF($E51>0,VLOOKUP($F51,'Temps unitaires'!$B$3:$J$72,4,FALSE)*$E51,VLOOKUP($F51,'Temps unitaires'!$B$3:$J$72,4,FALSE)) -> 1e-06 | J51: =IF($E51>0,VLOOKUP($F51,'Temps unitaires'!$B$3:$J$72,5,FALSE)*$E51,VLOOKUP($F51,'Temps unitaires'!$B$3:$J$72,5,FALSE)) -> 1 | K51: =IF($E51>0,VLOOKUP($F51,'Temps unitaires'!$B$3:$J$72,6,FALSE)*$E51,VLOOKUP($F51,'Temps unitaires'!$B$3:$J$72,6,FALSE)) -> 16 | L51: =IF($E51>0,VLOOKUP($F51,'Temps unitaires'!$B$3:$J$72,7,FALSE)*$E51,VLOOKUP($F51,'Temps unitaires'!$B$3:$J$72,7,FALSE)) -> 4 | M51: =IF($E51>0,VLOOKUP($F51,'Temps unitaires'!$B$3:$J$72,8,FALSE)*$E51,VLOOKUP($F51,'Temps unitaires'!$B$3:$J$72,8,FALSE)) -> 1e-06 | N51: =IF($E51>0,VLOOKUP($F51,'Temps unitaires'!$B$3:$J$72,9,FALSE)*$E51,VLOOKUP($F51,'Temps unitaires'!$B$3:$J$72,9,FALSE)) -> 4 | X51: =SUMPRODUCT(H51:N51,P51:V51)/SUM(H51:N51) -> 0
A52: Centre 1 | B52: CE04-1 | C52: Cm.ZEP1206 (Près de Ag1003a) | F52: Commut | G52: =SUM(H52:N52) -> 6.000002 | H52: =IF($E52>0,VLOOKUP($F52,'Temps unitaires'!$B$3:$J$72,3,FALSE)*$E52,VLOOKUP($F52,'Temps unitaires'!$B$3:$J$72,3,FALSE)) -> 2 | I52: =IF($E52>0,VLOOKUP($F52,'Temps unitaires'!$B$3:$J$72,4,FALSE)*$E52,VLOOKUP($F52,'Temps unitaires'!$B$3:$J$72,4,FALSE)) -> 1e-06 | J52: =IF($E52>0,VLOOKUP($F52,'Temps unitaires'!$B$3:$J$72,5,FALSE)*$E52,VLOOKUP($F52,'Temps unitaires'!$B$3:$J$72,5,FALSE)) -> 1 | K52: =IF($E52>0,VLOOKUP($F52,'Temps unitaires'!$B$3:$J$72,6,FALSE)*$E52,VLOOKUP($F52,'Temps unitaires'!$B$3:$J$72,6,FALSE)) -> 1 | L52: =IF($E52>0,VLOOKUP($F52,'Temps unitaires'!$B$3:$J$72,7,FALSE)*$E52,VLOOKUP($F52,'Temps unitaires'!$B$3:$J$72,7,FALSE)) -> 1 | M52: =IF($E52>0,VLOOKUP($F52,'Temps unitaires'!$B$3:$J$72,8,FALSE)*$E52,VLOOKUP($F52,'Temps unitaires'!$B$3:$J$72,8,FALSE)) -> 1e-06 | N52: =IF($E52>0,VLOOKUP($F52,'Temps unitaires'!$B$3:$J$72,9,FALSE)*$E52,VLOOKUP($F52,'Temps unitaires'!$B$3:$J$72,9,FALSE)) -> 1 | X52: =SUMPRODUCT(H52:N52,P52:V52)/SUM(H52:N52) -> 0
A53: Centre 1 | B53: CE04-1 | C53: Cm.ZEP1208 (Près de Ag1003a) | F53: Commut | G53: =SUM(H53:N53) -> 6.000002 | H53: =IF($E53>0,VLOOKUP($F53,'Temps unitaires'!$B$3:$J$72,3,FALSE)*$E53,VLOOKUP($F53,'Temps unitaires'!$B$3:$J$72,3,FALSE)) -> 2 | I53: =IF($E53>0,VLOOKUP($F53,'Temps unitaires'!$B$3:$J$72,4,FALSE)*$E53,VLOOKUP($F53,'Temps unitaires'!$B$3:$J$72,4,FALSE)) -> 1e-06 | J53: =IF($E53>0,VLOOKUP($F53,'Temps unitaires'!$B$3:$J$72,5,FALSE)*$E53,VLOOKUP($F53,'Temps unitaires'!$B$3:$J$72,5,FALSE)) -> 1 | K53: =IF($E53>0,VLOOKUP($F53,'Temps unitaires'!$B$3:$J$72,6,FALSE)*$E53,VLOOKUP($F53,'Temps unitaires'!$B$3:$J$72,6,FALSE)) -> 1 | L53: =IF($E53>0,VLOOKUP($F53,'Temps unitaires'!$B$3:$J$72,7,FALSE)*$E53,VLOOKUP($F53,'Temps unitaires'!$B$3:$J$72,7,FALSE)) -> 1 | M53: =IF($E53>0,VLOOKUP($F53,'Temps unitaires'!$B$3:$J$72,8,FALSE)*$E53,VLOOKUP($F53,'Temps unitaires'!$B$3:$J$72,8,FALSE)) -> 1e-06 | N53: =IF($E53>0,VLOOKUP($F53,'Temps unitaires'!$B$3:$J$72,9,FALSE)*$E53,VLOOKUP($F53,'Temps unitaires'!$B$3:$J$72,9,FALSE)) -> 1 | X53: =SUMPRODUCT(H53:N53,P53:V53)/SUM(H53:N53) -> 0
A54: Centre 1 | B54: CE04-1 | C54: SVM.Pd1008-1010 | F54: Pd méca | G54: =SUM(H54:N54) -> 9.000002 | H54: =IF($E54>0,VLOOKUP($F54,'Temps unitaires'!$B$3:$J$72,3,FALSE)*$E54,VLOOKUP($F54,'Temps unitaires'!$B$3:$J$72,3,FALSE)) -> 2 | I54: =IF($E54>0,VLOOKUP($F54,'Temps unitaires'!$B$3:$J$72,4,FALSE)*$E54,VLOOKUP($F54,'Temps unitaires'!$B$3:$J$72,4,FALSE)) -> 1e-06 | J54: =IF($E54>0,VLOOKUP($F54,'Temps unitaires'!$B$3:$J$72,5,FALSE)*$E54,VLOOKUP($F54,'Temps unitaires'!$B$3:$J$72,5,FALSE)) -> 1 | K54: =IF($E54>0,VLOOKUP($F54,'Temps unitaires'!$B$3:$J$72,6,FALSE)*$E54,VLOOKUP($F54,'Temps unitaires'!$B$3:$J$72,6,FALSE)) -> 2 | L54: =IF($E54>0,VLOOKUP($F54,'Temps unitaires'!$B$3:$J$72,7,FALSE)*$E54,VLOOKUP($F54,'Temps unitaires'!$B$3:$J$72,7,FALSE)) -> 2 | M54: =IF($E54>0,VLOOKUP($F54,'Temps unitaires'!$B$3:$J$72,8,FALSE)*$E54,VLOOKUP($F54,'Temps unitaires'!$B$3:$J$72,8,FALSE)) -> 1e-06 | N54: =IF($E54>0,VLOOKUP($F54,'Temps unitaires'!$B$3:$J$72,9,FALSE)*$E54,VLOOKUP($F54,'Temps unitaires'!$B$3:$J$72,9,FALSE)) -> 2 | X54: =SUMPRODUCT(H54:N54,P54:V54)/SUM(H54:N54) -> 0
A55: Centre 1 | B55: CE04-1 | C55: TOTAL | G55: =SUM(G41:G54) -> 192.85009 | H55: =SUM(H41:H54) -> 22.000015 | I55: =SUM(I41:I54) -> 2.6e-05 | J55: =SUM(J41:J54) -> 13.000014 | K55: =SUM(K41:K54) -> 86.000014 | L55: =SUM(L41:L54) -> 25.000014 | M55: =SUM(M41:M54) -> 13.600012 | N55: =SUM(N41:N54) -> 33.25 | P55: =SUMPRODUCT(H41:H54,P41:P54)/H55 -> 0 | R55: =SUMPRODUCT(J41:J54,R41:R54)/J55 -> 0 | S55: =SUMPRODUCT(K41:K54,S41:S54)/K55 -> 0 | T55: =SUMPRODUCT(L41:L54,T41:T54)/L55 -> 0 | U55: =SUMPRODUCT(M41:M54,U41:U54)/M55 -> 0 | V55: =SUMPRODUCT(N41:N54,V41:V54)/N55 -> 0 | X55: =SUMPRODUCT(H41:N54,P41:V54)/SUM(H41:N54) -> 0
A56: Centre 1 | B56: CE05-1 | C56: STM CE05-01 | F56: STM GM/MM centre (Pose) | G56: =SUM(H56:N56) -> 3.800004 | H56: =IF($E56>0,VLOOKUP($F56,'Temps unitaires'!$B$3:$J$72,3,FALSE)*$E56,VLOOKUP($F56,'Temps unitaires'!$B$3:$J$72,3,FALSE)) -> 1e-06 | I56: =IF($E56>0,VLOOKUP($F56,'Temps unitaires'!$B$3:$J$72,4,FALSE)*$E56,VLOOKUP($F56,'Temps unitaires'!$B$3:$J$72,4,FALSE)) -> 1e-06 | J56: =IF($E56>0,VLOOKUP($F56,'Temps unitaires'!$B$3:$J$72,5,FALSE)*$E56,VLOOKUP($F56,'Temps unitaires'!$B$3:$J$72,5,FALSE)) -> 0.5 | K56: =IF($E56>0,VLOOKUP($F56,'Temps unitaires'!$B$3:$J$72,6,FALSE)*$E56,VLOOKUP($F56,'Temps unitaires'!$B$3:$J$72,6,FALSE)) -> 3 | L56: =IF($E56>0,VLOOKUP($F56,'Temps unitaires'!$B$3:$J$72,7,FALSE)*$E56,VLOOKUP($F56,'Temps unitaires'!$B$3:$J$72,7,FALSE)) -> 1e-06 | M56: =IF($E56>0,VLOOKUP($F56,'Temps unitaires'!$B$3:$J$72,8,FALSE)*$E56,VLOOKUP($F56,'Temps unitaires'!$B$3:$J$72,8,FALSE)) -> 1e-06 | N56: =IF($E56>0,VLOOKUP($F56,'Temps unitaires'!$B$3:$J$72,9,FALSE)*$E56,VLOOKUP($F56,'Temps unitaires'!$B$3:$J$72,9,FALSE)) -> 0.3 | X56: =SUMPRODUCT(H56:N56,P56:V56)/SUM(H56:N56) -> 0
A57: Centre 1 | B57: CE05-1 | C57: STM CE05-01 | E57: 2 | F57: Câbles Princ | G57: =SUM(H57:N57) -> 6.00001 | H57: =IF($E57>0,VLOOKUP($F57,'Temps unitaires'!$B$3:$J$72,3,FALSE)*$E57,VLOOKUP($F57,'Temps unitaires'!$B$3:$J$72,3,FALSE)) -> 2e-06 | I57: =IF($E57>0,VLOOKUP($F57,'Temps unitaires'!$B$3:$J$72,4,FALSE)*$E57,VLOOKUP($F57,'Temps unitaires'!$B$3:$J$72,4,FALSE)) -> 2e-06 | J57: =IF($E57>0,VLOOKUP($F57,'Temps unitaires'!$B$3:$J$72,5,FALSE)*$E57,VLOOKUP($F57,'Temps unitaires'!$B$3:$J$72,5,FALSE)) -> 2e-06 | K57: =IF($E57>0,VLOOKUP($F57,'Temps unitaires'!$B$3:$J$72,6,FALSE)*$E57,VLOOKUP($F57,'Temps unitaires'!$B$3:$J$72,6,FALSE)) -> 2e-06 | L57: =IF($E57>0,VLOOKUP($F57,'Temps unitaires'!$B$3:$J$72,7,FALSE)*$E57,VLOOKUP($F57,'Temps unitaires'!$B$3:$J$72,7,FALSE)) -> 2e-06 | M57: =IF($E57>0,VLOOKUP($F57,'Temps unitaires'!$B$3:$J$72,8,FALSE)*$E57,VLOOKUP($F57,'Temps unitaires'!$B$3:$J$72,8,FALSE)) -> 4 | N57: =IF($E57>0,VLOOKUP($F57,'Temps unitaires'!$B$3:$J$72,9,FALSE)*$E57,VLOOKUP($F57,'Temps unitaires'!$B$3:$J$72,9,FALSE)) -> 2 | X57: =SUMPRODUCT(H57:N57,P57:V57)/SUM(H57:N57) -> 0
A58: Centre 1 | B58: CE05-1 | C58: STM CE05-01 | E58: 7 | F58: Câbles Locaux | G58: =SUM(H58:N58) -> 9.100035 | H58: =IF($E58>0,VLOOKUP($F58,'Temps unitaires'!$B$3:$J$72,3,FALSE)*$E58,VLOOKUP($F58,'Temps unitaires'!$B$3:$J$72,3,FALSE)) -> 7e-06 | I58: =IF($E58>0,VLOOKUP($F58,'Temps unitaires'!$B$3:$J$72,4,FALSE)*$E58,VLOOKUP($F58,'Temps unitaires'!$B$3:$J$72,4,FALSE)) -> 7e-06 | J58: =IF($E58>0,VLOOKUP($F58,'Temps unitaires'!$B$3:$J$72,5,FALSE)*$E58,VLOOKUP($F58,'Temps unitaires'!$B$3:$J$72,5,FALSE)) -> 7e-06 | K58: =IF($E58>0,VLOOKUP($F58,'Temps unitaires'!$B$3:$J$72,6,FALSE)*$E58,VLOOKUP($F58,'Temps unitaires'!$B$3:$J$72,6,FALSE)) -> 7e-06 | L58: =IF($E58>0,VLOOKUP($F58,'Temps unitaires'!$B$3:$J$72,7,FALSE)*$E58,VLOOKUP($F58,'Temps unitaires'!$B$3:$J$72,7,FALSE)) -> 7e-06 | M58: =IF($E58>0,VLOOKUP($F58,'Temps unitaires'!$B$3:$J$72,8,FALSE)*$E58,VLOOKUP($F58,'Temps unitaires'!$B$3:$J$72,8,FALSE)) -> 5.6 | N58: =IF($E58>0,VLOOKUP($F58,'Temps unitaires'!$B$3:$J$72,9,FALSE)*$E58,VLOOKUP($F58,'Temps unitaires'!$B$3:$J$72,9,FALSE)) -> 3.5 | X58: =SUMPRODUCT(H58:N58,P58:V58)/SUM(H58:N58) -> 0
A59: Centre 1 | B59: CE05-1 | C59: SVM.Ag1003B | F59: AIGUILLE (avec RP) | G59: =SUM(H59:N59) -> 27.000002 | H59: =IF($E59>0,VLOOKUP($F59,'Temps unitaires'!$B$3:$J$72,3,FALSE)*$E59,VLOOKUP($F59,'Temps unitaires'!$B$3:$J$72,3,FALSE)) -> 2 | I59: =IF($E59>0,VLOOKUP($F59,'Temps unitaires'!$B$3:$J$72,4,FALSE)*$E59,VLOOKUP($F59,'Temps unitaires'!$B$3:$J$72,4,FALSE)) -> 1e-06 | J59: =IF($E59>0,VLOOKUP($F59,'Temps unitaires'!$B$3:$J$72,5,FALSE)*$E59,VLOOKUP($F59,'Temps unitaires'!$B$3:$J$72,5,FALSE)) -> 1 | K59: =IF($E59>0,VLOOKUP($F59,'Temps unitaires'!$B$3:$J$72,6,FALSE)*$E59,VLOOKUP($F59,'Temps unitaires'!$B$3:$J$72,6,FALSE)) -> 16 | L59: =IF($E59>0,VLOOKUP($F59,'Temps unitaires'!$B$3:$J$72,7,FALSE)*$E59,VLOOKUP($F59,'Temps unitaires'!$B$3:$J$72,7,FALSE)) -> 4 | M59: =IF($E59>0,VLOOKUP($F59,'Temps unitaires'!$B$3:$J$72,8,FALSE)*$E59,VLOOKUP($F59,'Temps unitaires'!$B$3:$J$72,8,FALSE)) -> 1e-06 | N59: =IF($E59>0,VLOOKUP($F59,'Temps unitaires'!$B$3:$J$72,9,FALSE)*$E59,VLOOKUP($F59,'Temps unitaires'!$B$3:$J$72,9,FALSE)) -> 4 | X59: =SUMPRODUCT(H59:N59,P59:V59)/SUM(H59:N59) -> 0
A60: Centre 1 | B60: CE05-1 | C60: Cm.Ag1003b-1005a (Près de Ag1003b et 1005a) | F60: Cm.Ag | G60: =SUM(H60:N60) -> 6.000002 | H60: =IF($E60>0,VLOOKUP($F60,'Temps unitaires'!$B$3:$J$72,3,FALSE)*$E60,VLOOKUP($F60,'Temps unitaires'!$B$3:$J$72,3,FALSE)) -> 2 | I60: =IF($E60>0,VLOOKUP($F60,'Temps unitaires'!$B$3:$J$72,4,FALSE)*$E60,VLOOKUP($F60,'Temps unitaires'!$B$3:$J$72,4,FALSE)) -> 1e-06 | J60: =IF($E60>0,VLOOKUP($F60,'Temps unitaires'!$B$3:$J$72,5,FALSE)*$E60,VLOOKUP($F60,'Temps unitaires'!$B$3:$J$72,5,FALSE)) -> 1 | K60: =IF($E60>0,VLOOKUP($F60,'Temps unitaires'!$B$3:$J$72,6,FALSE)*$E60,VLOOKUP($F60,'Temps unitaires'!$B$3:$J$72,6,FALSE)) -> 1 | L60: =IF($E60>0,VLOOKUP($F60,'Temps unitaires'!$B$3:$J$72,7,FALSE)*$E60,VLOOKUP($F60,'Temps unitaires'!$B$3:$J$72,7,FALSE)) -> 1 | M60: =IF($E60>0,VLOOKUP($F60,'Temps unitaires'!$B$3:$J$72,8,FALSE)*$E60,VLOOKUP($F60,'Temps unitaires'!$B$3:$J$72,8,FALSE)) -> 1e-06 | N60: =IF($E60>0,VLOOKUP($F60,'Temps unitaires'!$B$3:$J$72,9,FALSE)*$E60,VLOOKUP($F60,'Temps unitaires'!$B$3:$J$72,9,FALSE)) -> 1 | X60: =SUMPRODUCT(H60:N60,P60:V60)/SUM(H60:N60) -> 0
A61: Centre 1 | B61: CE05-1 | C61: Tel.Ag1003b-5a | F61: Tél | G61: =SUM(H61:N61) -> 6.000002 | H61: =IF($E61>0,VLOOKUP($F61,'Temps unitaires'!$B$3:$J$72,3,FALSE)*$E61,VLOOKUP($F61,'Temps unitaires'!$B$3:$J$72,3,FALSE)) -> 2 | I61: =IF($E61>0,VLOOKUP($F61,'Temps unitaires'!$B$3:$J$72,4,FALSE)*$E61,VLOOKUP($F61,'Temps unitaires'!$B$3:$J$72,4,FALSE)) -> 1e-06 | J61: =IF($E61>0,VLOOKUP($F61,'Temps unitaires'!$B$3:$J$72,5,FALSE)*$E61,VLOOKUP($F61,'Temps unitaires'!$B$3:$J$72,5,FALSE)) -> 1 | K61: =IF($E61>0,VLOOKUP($F61,'Temps unitaires'!$B$3:$J$72,6,FALSE)*$E61,VLOOKUP($F61,'Temps unitaires'!$B$3:$J$72,6,FALSE)) -> 1 | L61: =IF($E61>0,VLOOKUP($F61,'Temps unitaires'!$B$3:$J$72,7,FALSE)*$E61,VLOOKUP($F61,'Temps unitaires'!$B$3:$J$72,7,FALSE)) -> 1 | M61: =IF($E61>0,VLOOKUP($F61,'Temps unitaires'!$B$3:$J$72,8,FALSE)*$E61,VLOOKUP($F61,'Temps unitaires'!$B$3:$J$72,8,FALSE)) -> 1e-06 | N61: =IF($E61>0,VLOOKUP($F61,'Temps unitaires'!$B$3:$J$72,9,FALSE)*$E61,VLOOKUP($F61,'Temps unitaires'!$B$3:$J$72,9,FALSE)) -> 1 | X61: =SUMPRODUCT(H61:N61,P61:V61)/SUM(H61:N61) -> 0
A62: Centre 1 | B62: CE05-1 | C62: CI.REZ1013.EMZ1007 | F62: CdV CI 25000V | G62: =SUM(H62:N62) -> 17.000002 | H62: =IF($E62>0,VLOOKUP($F62,'Temps unitaires'!$B$3:$J$72,3,FALSE)*$E62,VLOOKUP($F62,'Temps unitaires'!$B$3:$J$72,3,FALSE)) -> 2 | I62: =IF($E62>0,VLOOKUP($F62,'Temps unitaires'!$B$3:$J$72,4,FALSE)*$E62,VLOOKUP($F62,'Temps unitaires'!$B$3:$J$72,4,FALSE)) -> 1e-06 | J62: =IF($E62>0,VLOOKUP($F62,'Temps unitaires'!$B$3:$J$72,5,FALSE)*$E62,VLOOKUP($F62,'Temps unitaires'!$B$3:$J$72,5,FALSE)) -> 2 | K62: =IF($E62>0,VLOOKUP($F62,'Temps unitaires'!$B$3:$J$72,6,FALSE)*$E62,VLOOKUP($F62,'Temps unitaires'!$B$3:$J$72,6,FALSE)) -> 9 | L62: =IF($E62>0,VLOOKUP($F62,'Temps unitaires'!$B$3:$J$72,7,FALSE)*$E62,VLOOKUP($F62,'Temps unitaires'!$B$3:$J$72,7,FALSE)) -> 2 | M62: =IF($E62>0,VLOOKUP($F62,'Temps unitaires'!$B$3:$J$72,8,FALSE)*$E62,VLOOKUP($F62,'Temps unitaires'!$B$3:$J$72,8,FALSE)) -> 1e-06 | N62: =IF($E62>0,VLOOKUP($F62,'Temps unitaires'!$B$3:$J$72,9,FALSE)*$E62,VLOOKUP($F62,'Temps unitaires'!$B$3:$J$72,9,FALSE)) -> 2 | X62: =SUMPRODUCT(H62:N62,P62:V62)/SUM(H62:N62) -> 0
A63: Centre 1 | B63: CE05-1 | C63: SVM.Ag1005a | F63: AIGUILLE (avec RP) | G63: =SUM(H63:N63) -> 27.000002 | H63: =IF($E63>0,VLOOKUP($F63,'Temps unitaires'!$B$3:$J$72,3,FALSE)*$E63,VLOOKUP($F63,'Temps unitaires'!$B$3:$J$72,3,FALSE)) -> 2 | I63: =IF($E63>0,VLOOKUP($F63,'Temps unitaires'!$B$3:$J$72,4,FALSE)*$E63,VLOOKUP($F63,'Temps unitaires'!$B$3:$J$72,4,FALSE)) -> 1e-06 | J63: =IF($E63>0,VLOOKUP($F63,'Temps unitaires'!$B$3:$J$72,5,FALSE)*$E63,VLOOKUP($F63,'Temps unitaires'!$B$3:$J$72,5,FALSE)) -> 1 | K63: =IF($E63>0,VLOOKUP($F63,'Temps unitaires'!$B$3:$J$72,6,FALSE)*$E63,VLOOKUP($F63,'Temps unitaires'!$B$3:$J$72,6,FALSE)) -> 16 | L63: =IF($E63>0,VLOOKUP($F63,'Temps unitaires'!$B$3:$J$72,7,FALSE)*$E63,VLOOKUP($F63,'Temps unitaires'!$B$3:$J$72,7,FALSE)) -> 4 | M63: =IF($E63>0,VLOOKUP($F63,'Temps unitaires'!$B$3:$J$72,8,FALSE)*$E63,VLOOKUP($F63,'Temps unitaires'!$B$3:$J$72,8,FALSE)) -> 1e-06 | N63: =IF($E63>0,VLOOKUP($F63,'Temps unitaires'!$B$3:$J$72,9,FALSE)*$E63,VLOOKUP($F63,'Temps unitaires'!$B$3:$J$72,9,FALSE)) -> 4 | X63: =SUMPRODUCT(H63:N63,P63:V63)/SUM(H63:N63) -> 0
A64: Centre 1 | B64: CE05-1 | C64: Cm.ZEP1205 (Près de Ag1003b et 1005a) | F64: Commut | G64: =SUM(H64:N64) -> 6.000002 | H64: =IF($E64>0,VLOOKUP($F64,'Temps unitaires'!$B$3:$J$72,3,FALSE)*$E64,VLOOKUP($F64,'Temps unitaires'!$B$3:$J$72,3,FALSE)) -> 2 | I64: =IF($E64>0,VLOOKUP($F64,'Temps unitaires'!$B$3:$J$72,4,FALSE)*$E64,VLOOKUP($F64,'Temps unitaires'!$B$3:$J$72,4,FALSE)) -> 1e-06 | J64: =IF($E64>0,VLOOKUP($F64,'Temps unitaires'!$B$3:$J$72,5,FALSE)*$E64,VLOOKUP($F64,'Temps unitaires'!$B$3:$J$72,5,FALSE)) -> 1 | K64: =IF($E64>0,VLOOKUP($F64,'Temps unitaires'!$B$3:$J$72,6,FALSE)*$E64,VLOOKUP($F64,'Temps unitaires'!$B$3:$J$72,6,FALSE)) -> 1 | L64: =IF($E64>0,VLOOKUP($F64,'Temps unitaires'!$B$3:$J$72,7,FALSE)*$E64,VLOOKUP($F64,'Temps unitaires'!$B$3:$J$72,7,FALSE)) -> 1 | M64: =IF($E64>0,VLOOKUP($F64,'Temps unitaires'!$B$3:$J$72,8,FALSE)*$E64,VLOOKUP($F64,'Temps unitaires'!$B$3:$J$72,8,FALSE)) -> 1e-06 | N64: =IF($E64>0,VLOOKUP($F64,'Temps unitaires'!$B$3:$J$72,9,FALSE)*$E64,VLOOKUP($F64,'Temps unitaires'!$B$3:$J$72,9,FALSE)) -> 1 | X64: =SUMPRODUCT(H64:N64,P64:V64)/SUM(H64:N64) -> 0
A65: Centre 1 | B65: CE05-1 | C65: TOTAL | G65: =SUM(H65:N65) -> 107.90006 | H65: =SUM(H56:H64) -> 12.00001 | I65: =SUM(I56:I64) -> 1.6e-05 | J65: =SUM(J56:J64) -> 7.500009 | K65: =SUM(K56:K64) -> 47.000009 | L65: =SUM(L56:L64) -> 13.00001 | M65: =SUM(M56:M64) -> 9.600007 | N65: =SUM(N56:N64) -> 18.8 | P65: =SUMPRODUCT(H56:H64,P56:P64)/H65 -> 0 | R65: =SUMPRODUCT(J56:J64,R56:R64)/J65 -> 0 | S65: =SUMPRODUCT(K56:K64,S56:S64)/K65 -> 0 | T65: =SUMPRODUCT(L56:L64,T56:T64)/L65 -> 0 | U65: =SUMPRODUCT(M56:M64,U56:U64)/M65 -> 0 | V65: =SUMPRODUCT(N56:N64,V56:V64)/N65 -> 0 | X65: =SUMPRODUCT(H56:N64,P56:V64)/SUM(H56:N64) -> 0
A66: Centre 1 | B66: CE06-1 | C66: U71 CE06-01 | F66: U71 (Pose) | G66: =SUM(H66:N66) -> 7.250003 | H66: =IF($E66>0,VLOOKUP($F66,'Temps unitaires'!$B$3:$J$72,3,FALSE)*$E66,VLOOKUP($F66,'Temps unitaires'!$B$3:$J$72,3,FALSE)) -> 1e-06 | I66: =IF($E66>0,VLOOKUP($F66,'Temps unitaires'!$B$3:$J$72,4,FALSE)*$E66,VLOOKUP($F66,'Temps unitaires'!$B$3:$J$72,4,FALSE)) -> 1e-06 | J66: =IF($E66>0,VLOOKUP($F66,'Temps unitaires'!$B$3:$J$72,5,FALSE)*$E66,VLOOKUP($F66,'Temps unitaires'!$B$3:$J$72,5,FALSE)) -> 1 | K66: =IF($E66>0,VLOOKUP($F66,'Temps unitaires'!$B$3:$J$72,6,FALSE)*$E66,VLOOKUP($F66,'Temps unitaires'!$B$3:$J$72,6,FALSE)) -> 6 | L66: =IF($E66>0,VLOOKUP($F66,'Temps unitaires'!$B$3:$J$72,7,FALSE)*$E66,VLOOKUP($F66,'Temps unitaires'!$B$3:$J$72,7,FALSE)) -> 0 | M66: =IF($E66>0,VLOOKUP($F66,'Temps unitaires'!$B$3:$J$72,8,FALSE)*$E66,VLOOKUP($F66,'Temps unitaires'!$B$3:$J$72,8,FALSE)) -> 1e-06 | N66: =IF($E66>0,VLOOKUP($F66,'Temps unitaires'!$B$3:$J$72,9,FALSE)*$E66,VLOOKUP($F66,'Temps unitaires'!$B$3:$J$72,9,FALSE)) -> 0.25 | X66: =SUMPRODUCT(H66:N66,P66:V66)/SUM(H66:N66) -> 0
A67: Centre 1 | B67: CE06-1 | C67: U71 CE06-01 | E67: 3 | F67: Câbles Princ | G67: =SUM(H67:N67) -> 9.000015 | H67: =IF($E67>0,VLOOKUP($F67,'Temps unitaires'!$B$3:$J$72,3,FALSE)*$E67,VLOOKUP($F67,'Temps unitaires'!$B$3:$J$72,3,FALSE)) -> 3e-06 | I67: =IF($E67>0,VLOOKUP($F67,'Temps unitaires'!$B$3:$J$72,4,FALSE)*$E67,VLOOKUP($F67,'Temps unitaires'!$B$3:$J$72,4,FALSE)) -> 3e-06 | J67: =IF($E67>0,VLOOKUP($F67,'Temps unitaires'!$B$3:$J$72,5,FALSE)*$E67,VLOOKUP($F67,'Temps unitaires'!$B$3:$J$72,5,FALSE)) -> 3e-06 | K67: =IF($E67>0,VLOOKUP($F67,'Temps unitaires'!$B$3:$J$72,6,FALSE)*$E67,VLOOKUP($F67,'Temps unitaires'!$B$3:$J$72,6,FALSE)) -> 3e-06 | L67: =IF($E67>0,VLOOKUP($F67,'Temps unitaires'!$B$3:$J$72,7,FALSE)*$E67,VLOOKUP($F67,'Temps unitaires'!$B$3:$J$72,7,FALSE)) -> 3e-06 | M67: =IF($E67>0,VLOOKUP($F67,'Temps unitaires'!$B$3:$J$72,8,FALSE)*$E67,VLOOKUP($F67,'Temps unitaires'!$B$3:$J$72,8,FALSE)) -> 6 | N67: =IF($E67>0,VLOOKUP($F67,'Temps unitaires'!$B$3:$J$72,9,FALSE)*$E67,VLOOKUP($F67,'Temps unitaires'!$B$3:$J$72,9,FALSE)) -> 3 | X67: =SUMPRODUCT(H67:N67,P67:V67)/SUM(H67:N67) -> 0
A68: Centre 1 | B68: CE06-1 | C68: U71 CE06-01 | E68: 22 | F68: Câbles Locaux | G68: =SUM(H68:N68) -> 28.60011 | H68: =IF($E68>0,VLOOKUP($F68,'Temps unitaires'!$B$3:$J$72,3,FALSE)*$E68,VLOOKUP($F68,'Temps unitaires'!$B$3:$J$72,3,FALSE)) -> 2.2e-05 | I68: =IF($E68>0,VLOOKUP($F68,'Temps unitaires'!$B$3:$J$72,4,FALSE)*$E68,VLOOKUP($F68,'Temps unitaires'!$B$3:$J$72,4,FALSE)) -> 2.2e-05 | J68: =IF($E68>0,VLOOKUP($F68,'Temps unitaires'!$B$3:$J$72,5,FALSE)*$E68,VLOOKUP($F68,'Temps unitaires'!$B$3:$J$72,5,FALSE)) -> 2.2e-05 | K68: =IF($E68>0,VLOOKUP($F68,'Temps unitaires'!$B$3:$J$72,6,FALSE)*$E68,VLOOKUP($F68,'Temps unitaires'!$B$3:$J$72,6,FALSE)) -> 2.2e-05 | L68: =IF($E68>0,VLOOKUP($F68,'Temps unitaires'!$B$3:$J$72,7,FALSE)*$E68,VLOOKUP($F68,'Temps unitaires'!$B$3:$J$72,7,FALSE)) -> 2.2e-05 | M68: =IF($E68>0,VLOOKUP($F68,'Temps unitaires'!$B$3:$J$72,8,FALSE)*$E68,VLOOKUP($F68,'Temps unitaires'!$B$3:$J$72,8,FALSE)) -> 17.6 | N68: =IF($E68>0,VLOOKUP($F68,'Temps unitaires'!$B$3:$J$72,9,FALSE)*$E68,VLOOKUP($F68,'Temps unitaires'!$B$3:$J$72,9,FALSE)) -> 11 | X68: =SUMPRODUCT(H68:N68,P68:V68)/SUM(H68:N68) -> 0
A69: Centre 1 | B69: CE06-1 | C69: STM.Signal Cv1008+ID1.ID2 | F69: Signal (Neuf) | G69: =SUM(H69:N69) -> 50.000002 | H69: =IF($E69>0,VLOOKUP($F69,'Temps unitaires'!$B$3:$J$72,3,FALSE)*$E69,VLOOKUP($F69,'Temps unitaires'!$B$3:$J$72,3,FALSE)) -> 2 | I69: =IF($E69>0,VLOOKUP($F69,'Temps unitaires'!$B$3:$J$72,4,FALSE)*$E69,VLOOKUP($F69,'Temps unitaires'!$B$3:$J$72,4,FALSE)) -> 1e-06 | J69: =IF($E69>0,VLOOKUP($F69,'Temps unitaires'!$B$3:$J$72,5,FALSE)*$E69,VLOOKUP($F69,'Temps unitaires'!$B$3:$J$72,5,FALSE)) -> 35 | K69: =IF($E69>0,VLOOKUP($F69,'Temps unitaires'!$B$3:$J$72,6,FALSE)*$E69,VLOOKUP($F69,'Temps unitaires'!$B$3:$J$72,6,FALSE)) -> 6 | L69: =IF($E69>0,VLOOKUP($F69,'Temps unitaires'!$B$3:$J$72,7,FALSE)*$E69,VLOOKUP($F69,'Temps unitaires'!$B$3:$J$72,7,FALSE)) -> 3 | M69: =IF($E69>0,VLOOKUP($F69,'Temps unitaires'!$B$3:$J$72,8,FALSE)*$E69,VLOOKUP($F69,'Temps unitaires'!$B$3:$J$72,8,FALSE)) -> 1e-06 | N69: =IF($E69>0,VLOOKUP($F69,'Temps unitaires'!$B$3:$J$72,9,FALSE)*$E69,VLOOKUP($F69,'Temps unitaires'!$B$3:$J$72,9,FALSE)) -> 4 | X69: =SUMPRODUCT(H69:N69,P69:V69)/SUM(H69:N69) -> 0
A70: Centre 1 | B70: CE06-1 | C70: SDCP6.Pd.A+Cro1008 | E70: 1.2 | F70: Cro + Pd méca | G70: =SUM(H70:N70) -> 25.200002 | H70: =IF($E70>0,VLOOKUP($F70,'Temps unitaires'!$B$3:$J$72,3,FALSE)*$E70,VLOOKUP($F70,'Temps unitaires'!$B$3:$J$72,3,FALSE)) -> 2.4 | I70: =IF($E70>0,VLOOKUP($F70,'Temps unitaires'!$B$3:$J$72,4,FALSE)*$E70,VLOOKUP($F70,'Temps unitaires'!$B$3:$J$72,4,FALSE)) -> 1.2e-06 | J70: =IF($E70>0,VLOOKUP($F70,'Temps unitaires'!$B$3:$J$72,5,FALSE)*$E70,VLOOKUP($F70,'Temps unitaires'!$B$3:$J$72,5,FALSE)) -> 2.4 | K70: =IF($E70>0,VLOOKUP($F70,'Temps unitaires'!$B$3:$J$72,6,FALSE)*$E70,VLOOKUP($F70,'Temps unitaires'!$B$3:$J$72,6,FALSE)) -> 12 | L70: =IF($E70>0,VLOOKUP($F70,'Temps unitaires'!$B$3:$J$72,7,FALSE)*$E70,VLOOKUP($F70,'Temps unitaires'!$B$3:$J$72,7,FALSE)) -> 6 | M70: =IF($E70>0,VLOOKUP($F70,'Temps unitaires'!$B$3:$J$72,8,FALSE)*$E70,VLOOKUP($F70,'Temps unitaires'!$B$3:$J$72,8,FALSE)) -> 1.2e-06 | N70: =IF($E70>0,VLOOKUP($F70,'Temps unitaires'!$B$3:$J$72,9,FALSE)*$E70,VLOOKUP($F70,'Temps unitaires'!$B$3:$J$72,9,FALSE)) -> 2.4 | X70: =SUMPRODUCT(H70:N70,P70:V70)/SUM(H70:N70) -> 0
A71: Centre 1 | B71: CE06-1 | C71: SVM.Cv1004+SLD1004 | F71: Cv nain, SLD | G71: =SUM(H71:N71) -> 12.000002 | H71: =IF($E71>0,VLOOKUP($F71,'Temps unitaires'!$B$3:$J$72,3,FALSE)*$E71,VLOOKUP($F71,'Temps unitaires'!$B$3:$J$72,3,FALSE)) -> 2 | I71: =IF($E71>0,VLOOKUP($F71,'Temps unitaires'!$B$3:$J$72,4,FALSE)*$E71,VLOOKUP($F71,'Temps unitaires'!$B$3:$J$72,4,FALSE)) -> 1e-06 | J71: =IF($E71>0,VLOOKUP($F71,'Temps unitaires'!$B$3:$J$72,5,FALSE)*$E71,VLOOKUP($F71,'Temps unitaires'!$B$3:$J$72,5,FALSE)) -> 1 | K71: =IF($E71>0,VLOOKUP($F71,'Temps unitaires'!$B$3:$J$72,6,FALSE)*$E71,VLOOKUP($F71,'Temps unitaires'!$B$3:$J$72,6,FALSE)) -> 4 | L71: =IF($E71>0,VLOOKUP($F71,'Temps unitaires'!$B$3:$J$72,7,FALSE)*$E71,VLOOKUP($F71,'Temps unitaires'!$B$3:$J$72,7,FALSE)) -> 3 | M71: =IF($E71>0,VLOOKUP($F71,'Temps unitaires'!$B$3:$J$72,8,FALSE)*$E71,VLOOKUP($F71,'Temps unitaires'!$B$3:$J$72,8,FALSE)) -> 1e-06 | N71: =IF($E71>0,VLOOKUP($F71,'Temps unitaires'!$B$3:$J$72,9,FALSE)*$E71,VLOOKUP($F71,'Temps unitaires'!$B$3:$J$72,9,FALSE)) -> 2 | X71: =SUMPRODUCT(H71:N71,P71:V71)/SUM(H71:N71) -> 0
A72: Centre 1 | B72: CE06-1 | C72: SVM.Cv1006+SLD1006 | F72: Cv nain, SLD | G72: =SUM(H72:N72) -> 12.000002 | H72: =IF($E72>0,VLOOKUP($F72,'Temps unitaires'!$B$3:$J$72,3,FALSE)*$E72,VLOOKUP($F72,'Temps unitaires'!$B$3:$J$72,3,FALSE)) -> 2 | I72: =IF($E72>0,VLOOKUP($F72,'Temps unitaires'!$B$3:$J$72,4,FALSE)*$E72,VLOOKUP($F72,'Temps unitaires'!$B$3:$J$72,4,FALSE)) -> 1e-06 | J72: =IF($E72>0,VLOOKUP($F72,'Temps unitaires'!$B$3:$J$72,5,FALSE)*$E72,VLOOKUP($F72,'Temps unitaires'!$B$3:$J$72,5,FALSE)) -> 1 | K72: =IF($E72>0,VLOOKUP($F72,'Temps unitaires'!$B$3:$J$72,6,FALSE)*$E72,VLOOKUP($F72,'Temps unitaires'!$B$3:$J$72,6,FALSE)) -> 4 | L72: =IF($E72>0,VLOOKUP($F72,'Temps unitaires'!$B$3:$J$72,7,FALSE)*$E72,VLOOKUP($F72,'Temps unitaires'!$B$3:$J$72,7,FALSE)) -> 3 | M72: =IF($E72>0,VLOOKUP($F72,'Temps unitaires'!$B$3:$J$72,8,FALSE)*$E72,VLOOKUP($F72,'Temps unitaires'!$B$3:$J$72,8,FALSE)) -> 1e-06 | N72: =IF($E72>0,VLOOKUP($F72,'Temps unitaires'!$B$3:$J$72,9,FALSE)*$E72,VLOOKUP($F72,'Temps unitaires'!$B$3:$J$72,9,FALSE)) -> 2 | X72: =SUMPRODUCT(H72:N72,P72:V72)/SUM(H72:N72) -> 0
A73: Centre 1 | B73: CE06-1 | C73: SVM.Feu violet V4 Tiroir | F73: Heurtoir | G73: =SUM(H73:N73) -> 9.000002 | H73: =IF($E73>0,VLOOKUP($F73,'Temps unitaires'!$B$3:$J$72,3,FALSE)*$E73,VLOOKUP($F73,'Temps unitaires'!$B$3:$J$72,3,FALSE)) -> 2 | I73: =IF($E73>0,VLOOKUP($F73,'Temps unitaires'!$B$3:$J$72,4,FALSE)*$E73,VLOOKUP($F73,'Temps unitaires'!$B$3:$J$72,4,FALSE)) -> 1e-06 | J73: =IF($E73>0,VLOOKUP($F73,'Temps unitaires'!$B$3:$J$72,5,FALSE)*$E73,VLOOKUP($F73,'Temps unitaires'!$B$3:$J$72,5,FALSE)) -> 1 | K73: =IF($E73>0,VLOOKUP($F73,'Temps unitaires'!$B$3:$J$72,6,FALSE)*$E73,VLOOKUP($F73,'Temps unitaires'!$B$3:$J$72,6,FALSE)) -> 3 | L73: =IF($E73>0,VLOOKUP($F73,'Temps unitaires'!$B$3:$J$72,7,FALSE)*$E73,VLOOKUP($F73,'Temps unitaires'!$B$3:$J$72,7,FALSE)) -> 2 | M73: =IF($E73>0,VLOOKUP($F73,'Temps unitaires'!$B$3:$J$72,8,FALSE)*$E73,VLOOKUP($F73,'Temps unitaires'!$B$3:$J$72,8,FALSE)) -> 1e-06 | N73: =IF($E73>0,VLOOKUP($F73,'Temps unitaires'!$B$3:$J$72,9,FALSE)*$E73,VLOOKUP($F73,'Temps unitaires'!$B$3:$J$72,9,FALSE)) -> 1 | X73: =SUMPRODUCT(H73:N73,P73:V73)/SUM(H73:N73) -> 0
A74: Centre 1 | B74: CE06-1 | C74: SVM.Feu violet V6 Tiroir | F74: Heurtoir | G74: =SUM(H74:N74) -> 9.000002 | H74: =IF($E74>0,VLOOKUP($F74,'Temps unitaires'!$B$3:$J$72,3,FALSE)*$E74,VLOOKUP($F74,'Temps unitaires'!$B$3:$J$72,3,FALSE)) -> 2 | I74: =IF($E74>0,VLOOKUP($F74,'Temps unitaires'!$B$3:$J$72,4,FALSE)*$E74,VLOOKUP($F74,'Temps unitaires'!$B$3:$J$72,4,FALSE)) -> 1e-06 | J74: =IF($E74>0,VLOOKUP($F74,'Temps unitaires'!$B$3:$J$72,5,FALSE)*$E74,VLOOKUP($F74,'Temps unitaires'!$B$3:$J$72,5,FALSE)) -> 1 | K74: =IF($E74>0,VLOOKUP($F74,'Temps unitaires'!$B$3:$J$72,6,FALSE)*$E74,VLOOKUP($F74,'Temps unitaires'!$B$3:$J$72,6,FALSE)) -> 3 | L74: =IF($E74>0,VLOOKUP($F74,'Temps unitaires'!$B$3:$J$72,7,FALSE)*$E74,VLOOKUP($F74,'Temps unitaires'!$B$3:$J$72,7,FALSE)) -> 2 | M74: =IF($E74>0,VLOOKUP($F74,'Temps unitaires'!$B$3:$J$72,8,FALSE)*$E74,VLOOKUP($F74,'Temps unitaires'!$B$3:$J$72,8,FALSE)) -> 1e-06 | N74: =IF($E74>0,VLOOKUP($F74,'Temps unitaires'!$B$3:$J$72,9,FALSE)*$E74,VLOOKUP($F74,'Temps unitaires'!$B$3:$J$72,9,FALSE)) -> 1 | X74: =SUMPRODUCT(H74:N74,P74:V74)/SUM(H74:N74) -> 0
A75: Centre 1 | B75: CE06-1 | C75: Tel.Cv1008 | F75: Tél | G75: =SUM(H75:N75) -> 6.000002 | H75: =IF($E75>0,VLOOKUP($F75,'Temps unitaires'!$B$3:$J$72,3,FALSE)*$E75,VLOOKUP($F75,'Temps unitaires'!$B$3:$J$72,3,FALSE)) -> 2 | I75: =IF($E75>0,VLOOKUP($F75,'Temps unitaires'!$B$3:$J$72,4,FALSE)*$E75,VLOOKUP($F75,'Temps unitaires'!$B$3:$J$72,4,FALSE)) -> 1e-06 | J75: =IF($E75>0,VLOOKUP($F75,'Temps unitaires'!$B$3:$J$72,5,FALSE)*$E75,VLOOKUP($F75,'Temps unitaires'!$B$3:$J$72,5,FALSE)) -> 1 | K75: =IF($E75>0,VLOOKUP($F75,'Temps unitaires'!$B$3:$J$72,6,FALSE)*$E75,VLOOKUP($F75,'Temps unitaires'!$B$3:$J$72,6,FALSE)) -> 1 | L75: =IF($E75>0,VLOOKUP($F75,'Temps unitaires'!$B$3:$J$72,7,FALSE)*$E75,VLOOKUP($F75,'Temps unitaires'!$B$3:$J$72,7,FALSE)) -> 1 | M75: =IF($E75>0,VLOOKUP($F75,'Temps unitaires'!$B$3:$J$72,8,FALSE)*$E75,VLOOKUP($F75,'Temps unitaires'!$B$3:$J$72,8,FALSE)) -> 1e-06 | N75: =IF($E75>0,VLOOKUP($F75,'Temps unitaires'!$B$3:$J$72,9,FALSE)*$E75,VLOOKUP($F75,'Temps unitaires'!$B$3:$J$72,9,FALSE)) -> 1 | X75: =SUMPRODUCT(H75:N75,P75:V75)/SUM(H75:N75) -> 0
A76: Centre 1 | B76: CE06-1 | C76: CI.EMZ1014 | E76: 0.5 | F76: CdV CI 25000V | G76: =SUM(H76:N76) -> 8.500001 | H76: =IF($E76>0,VLOOKUP($F76,'Temps unitaires'!$B$3:$J$72,3,FALSE)*$E76,VLOOKUP($F76,'Temps unitaires'!$B$3:$J$72,3,FALSE)) -> 1 | I76: =IF($E76>0,VLOOKUP($F76,'Temps unitaires'!$B$3:$J$72,4,FALSE)*$E76,VLOOKUP($F76,'Temps unitaires'!$B$3:$J$72,4,FALSE)) -> 5e-07 | J76: =IF($E76>0,VLOOKUP($F76,'Temps unitaires'!$B$3:$J$72,5,FALSE)*$E76,VLOOKUP($F76,'Temps unitaires'!$B$3:$J$72,5,FALSE)) -> 1 | K76: =IF($E76>0,VLOOKUP($F76,'Temps unitaires'!$B$3:$J$72,6,FALSE)*$E76,VLOOKUP($F76,'Temps unitaires'!$B$3:$J$72,6,FALSE)) -> 4.5 | L76: =IF($E76>0,VLOOKUP($F76,'Temps unitaires'!$B$3:$J$72,7,FALSE)*$E76,VLOOKUP($F76,'Temps unitaires'!$B$3:$J$72,7,FALSE)) -> 1 | M76: =IF($E76>0,VLOOKUP($F76,'Temps unitaires'!$B$3:$J$72,8,FALSE)*$E76,VLOOKUP($F76,'Temps unitaires'!$B$3:$J$72,8,FALSE)) -> 5e-07 | N76: =IF($E76>0,VLOOKUP($F76,'Temps unitaires'!$B$3:$J$72,9,FALSE)*$E76,VLOOKUP($F76,'Temps unitaires'!$B$3:$J$72,9,FALSE)) -> 1 | X76: =SUMPRODUCT(H76:N76,P76:V76)/SUM(H76:N76) -> 0
A77: Centre 1 | B77: CE06-1 | C77: CI.REZ1014.REZ1016 | F77: CdV CI 25000V | G77: =SUM(H77:N77) -> 17.000002 | H77: =IF($E77>0,VLOOKUP($F77,'Temps unitaires'!$B$3:$J$72,3,FALSE)*$E77,VLOOKUP($F77,'Temps unitaires'!$B$3:$J$72,3,FALSE)) -> 2 | I77: =IF($E77>0,VLOOKUP($F77,'Temps unitaires'!$B$3:$J$72,4,FALSE)*$E77,VLOOKUP($F77,'Temps unitaires'!$B$3:$J$72,4,FALSE)) -> 1e-06 | J77: =IF($E77>0,VLOOKUP($F77,'Temps unitaires'!$B$3:$J$72,5,FALSE)*$E77,VLOOKUP($F77,'Temps unitaires'!$B$3:$J$72,5,FALSE)) -> 2 | K77: =IF($E77>0,VLOOKUP($F77,'Temps unitaires'!$B$3:$J$72,6,FALSE)*$E77,VLOOKUP($F77,'Temps unitaires'!$B$3:$J$72,6,FALSE)) -> 9 | L77: =IF($E77>0,VLOOKUP($F77,'Temps unitaires'!$B$3:$J$72,7,FALSE)*$E77,VLOOKUP($F77,'Temps unitaires'!$B$3:$J$72,7,FALSE)) -> 2 | M77: =IF($E77>0,VLOOKUP($F77,'Temps unitaires'!$B$3:$J$72,8,FALSE)*$E77,VLOOKUP($F77,'Temps unitaires'!$B$3:$J$72,8,FALSE)) -> 1e-06 | N77: =IF($E77>0,VLOOKUP($F77,'Temps unitaires'!$B$3:$J$72,9,FALSE)*$E77,VLOOKUP($F77,'Temps unitaires'!$B$3:$J$72,9,FALSE)) -> 2 | X77: =SUMPRODUCT(H77:N77,P77:V77)/SUM(H77:N77) -> 0
A78: Centre 1 | B78: CE06-1 | C78: CI.EMZ1016 | E78: 0.5 | F78: CdV CI 25000V | G78: =SUM(H78:N78) -> 8.500001 | H78: =IF($E78>0,VLOOKUP($F78,'Temps unitaires'!$B$3:$J$72,3,FALSE)*$E78,VLOOKUP($F78,'Temps unitaires'!$B$3:$J$72,3,FALSE)) -> 1 | I78: =IF($E78>0,VLOOKUP($F78,'Temps unitaires'!$B$3:$J$72,4,FALSE)*$E78,VLOOKUP($F78,'Temps unitaires'!$B$3:$J$72,4,FALSE)) -> 5e-07 | J78: =IF($E78>0,VLOOKUP($F78,'Temps unitaires'!$B$3:$J$72,5,FALSE)*$E78,VLOOKUP($F78,'Temps unitaires'!$B$3:$J$72,5,FALSE)) -> 1 | K78: =IF($E78>0,VLOOKUP($F78,'Temps unitaires'!$B$3:$J$72,6,FALSE)*$E78,VLOOKUP($F78,'Temps unitaires'!$B$3:$J$72,6,FALSE)) -> 4.5 | L78: =IF($E78>0,VLOOKUP($F78,'Temps unitaires'!$B$3:$J$72,7,FALSE)*$E78,VLOOKUP($F78,'Temps unitaires'!$B$3:$J$72,7,FALSE)) -> 1 | M78: =IF($E78>0,VLOOKUP($F78,'Temps unitaires'!$B$3:$J$72,8,FALSE)*$E78,VLOOKUP($F78,'Temps unitaires'!$B$3:$J$72,8,FALSE)) -> 5e-07 | N78: =IF($E78>0,VLOOKUP($F78,'Temps unitaires'!$B$3:$J$72,9,FALSE)*$E78,VLOOKUP($F78,'Temps unitaires'!$B$3:$J$72,9,FALSE)) -> 1 | X78: =SUMPRODUCT(H78:N78,P78:V78)/SUM(H78:N78) -> 0
A79: Centre 1 | B79: CE06-1 | C79: CI.REZ1020.EMZ1018 | F79: CdV CI 25000V | G79: =SUM(H79:N79) -> 17.000002 | H79: =IF($E79>0,VLOOKUP($F79,'Temps unitaires'!$B$3:$J$72,3,FALSE)*$E79,VLOOKUP($F79,'Temps unitaires'!$B$3:$J$72,3,FALSE)) -> 2 | I79: =IF($E79>0,VLOOKUP($F79,'Temps unitaires'!$B$3:$J$72,4,FALSE)*$E79,VLOOKUP($F79,'Temps unitaires'!$B$3:$J$72,4,FALSE)) -> 1e-06 | J79: =IF($E79>0,VLOOKUP($F79,'Temps unitaires'!$B$3:$J$72,5,FALSE)*$E79,VLOOKUP($F79,'Temps unitaires'!$B$3:$J$72,5,FALSE)) -> 2 | K79: =IF($E79>0,VLOOKUP($F79,'Temps unitaires'!$B$3:$J$72,6,FALSE)*$E79,VLOOKUP($F79,'Temps unitaires'!$B$3:$J$72,6,FALSE)) -> 9 | L79: =IF($E79>0,VLOOKUP($F79,'Temps unitaires'!$B$3:$J$72,7,FALSE)*$E79,VLOOKUP($F79,'Temps unitaires'!$B$3:$J$72,7,FALSE)) -> 2 | M79: =IF($E79>0,VLOOKUP($F79,'Temps unitaires'!$B$3:$J$72,8,FALSE)*$E79,VLOOKUP($F79,'Temps unitaires'!$B$3:$J$72,8,FALSE)) -> 1e-06 | N79: =IF($E79>0,VLOOKUP($F79,'Temps unitaires'!$B$3:$J$72,9,FALSE)*$E79,VLOOKUP($F79,'Temps unitaires'!$B$3:$J$72,9,FALSE)) -> 2 | X79: =SUMPRODUCT(H79:N79,P79:V79)/SUM(H79:N79) -> 0
A80: Centre 1 | B80: CE06-1 | C80: CI.REZ1018 | E80: 0.5 | F80: CdV CI 25000V | G80: =SUM(H80:N80) -> 8.500001 | H80: =IF($E80>0,VLOOKUP($F80,'Temps unitaires'!$B$3:$J$72,3,FALSE)*$E80,VLOOKUP($F80,'Temps unitaires'!$B$3:$J$72,3,FALSE)) -> 1 | I80: =IF($E80>0,VLOOKUP($F80,'Temps unitaires'!$B$3:$J$72,4,FALSE)*$E80,VLOOKUP($F80,'Temps unitaires'!$B$3:$J$72,4,FALSE)) -> 5e-07 | J80: =IF($E80>0,VLOOKUP($F80,'Temps unitaires'!$B$3:$J$72,5,FALSE)*$E80,VLOOKUP($F80,'Temps unitaires'!$B$3:$J$72,5,FALSE)) -> 1 | K80: =IF($E80>0,VLOOKUP($F80,'Temps unitaires'!$B$3:$J$72,6,FALSE)*$E80,VLOOKUP($F80,'Temps unitaires'!$B$3:$J$72,6,FALSE)) -> 4.5 | L80: =IF($E80>0,VLOOKUP($F80,'Temps unitaires'!$B$3:$J$72,7,FALSE)*$E80,VLOOKUP($F80,'Temps unitaires'!$B$3:$J$72,7,FALSE)) -> 1 | M80: =IF($E80>0,VLOOKUP($F80,'Temps unitaires'!$B$3:$J$72,8,FALSE)*$E80,VLOOKUP($F80,'Temps unitaires'!$B$3:$J$72,8,FALSE)) -> 5e-07 | N80: =IF($E80>0,VLOOKUP($F80,'Temps unitaires'!$B$3:$J$72,9,FALSE)*$E80,VLOOKUP($F80,'Temps unitaires'!$B$3:$J$72,9,FALSE)) -> 1 | X80: =SUMPRODUCT(H80:N80,P80:V80)/SUM(H80:N80) -> 0
A81: Centre 1 | B81: CE06-1 | C81: SVM.Ag1007B | F81: AIGUILLE (avec RP) | G81: =SUM(H81:N81) -> 27.000002 | H81: =IF($E81>0,VLOOKUP($F81,'Temps unitaires'!$B$3:$J$72,3,FALSE)*$E81,VLOOKUP($F81,'Temps unitaires'!$B$3:$J$72,3,FALSE)) -> 2 | I81: =IF($E81>0,VLOOKUP($F81,'Temps unitaires'!$B$3:$J$72,4,FALSE)*$E81,VLOOKUP($F81,'Temps unitaires'!$B$3:$J$72,4,FALSE)) -> 1e-06 | J81: =IF($E81>0,VLOOKUP($F81,'Temps unitaires'!$B$3:$J$72,5,FALSE)*$E81,VLOOKUP($F81,'Temps unitaires'!$B$3:$J$72,5,FALSE)) -> 1 | K81: =IF($E81>0,VLOOKUP($F81,'Temps unitaires'!$B$3:$J$72,6,FALSE)*$E81,VLOOKUP($F81,'Temps unitaires'!$B$3:$J$72,6,FALSE)) -> 16 | L81: =IF($E81>0,VLOOKUP($F81,'Temps unitaires'!$B$3:$J$72,7,FALSE)*$E81,VLOOKUP($F81,'Temps unitaires'!$B$3:$J$72,7,FALSE)) -> 4 | M81: =IF($E81>0,VLOOKUP($F81,'Temps unitaires'!$B$3:$J$72,8,FALSE)*$E81,VLOOKUP($F81,'Temps unitaires'!$B$3:$J$72,8,FALSE)) -> 1e-06 | N81: =IF($E81>0,VLOOKUP($F81,'Temps unitaires'!$B$3:$J$72,9,FALSE)*$E81,VLOOKUP($F81,'Temps unitaires'!$B$3:$J$72,9,FALSE)) -> 4 | X81: =SUMPRODUCT(H81:N81,P81:V81)/SUM(H81:N81) -> 0
A82: Centre 1 | B82: CE06-1 | C82: SVM.Ag1008 | F82: AIGUILLE (avec RP) | G82: =SUM(H82:N82) -> 27.000002 | H82: =IF($E82>0,VLOOKUP($F82,'Temps unitaires'!$B$3:$J$72,3,FALSE)*$E82,VLOOKUP($F82,'Temps unitaires'!$B$3:$J$72,3,FALSE)) -> 2 | I82: =IF($E82>0,VLOOKUP($F82,'Temps unitaires'!$B$3:$J$72,4,FALSE)*$E82,VLOOKUP($F82,'Temps unitaires'!$B$3:$J$72,4,FALSE)) -> 1e-06 | J82: =IF($E82>0,VLOOKUP($F82,'Temps unitaires'!$B$3:$J$72,5,FALSE)*$E82,VLOOKUP($F82,'Temps unitaires'!$B$3:$J$72,5,FALSE)) -> 1 | K82: =IF($E82>0,VLOOKUP($F82,'Temps unitaires'!$B$3:$J$72,6,FALSE)*$E82,VLOOKUP($F82,'Temps unitaires'!$B$3:$J$72,6,FALSE)) -> 16 | L82: =IF($E82>0,VLOOKUP($F82,'Temps unitaires'!$B$3:$J$72,7,FALSE)*$E82,VLOOKUP($F82,'Temps unitaires'!$B$3:$J$72,7,FALSE)) -> 4 | M82: =IF($E82>0,VLOOKUP($F82,'Temps unitaires'!$B$3:$J$72,8,FALSE)*$E82,VLOOKUP($F82,'Temps unitaires'!$B$3:$J$72,8,FALSE)) -> 1e-06 | N82: =IF($E82>0,VLOOKUP($F82,'Temps unitaires'!$B$3:$J$72,9,FALSE)*$E82,VLOOKUP($F82,'Temps unitaires'!$B$3:$J$72,9,FALSE)) -> 4 | X82: =SUMPRODUCT(H82:N82,P82:V82)/SUM(H82:N82) -> 0
A83: Centre 1 | B83: CE06-1 | C83: Cm.Ag1007b-1008 (Près de Tel.Cv1008) | F83: Cm.Ag | G83: =SUM(H83:N83) -> 6.000002 | H83: =IF($E83>0,VLOOKUP($F83,'Temps unitaires'!$B$3:$J$72,3,FALSE)*$E83,VLOOKUP($F83,'Temps unitaires'!$B$3:$J$72,3,FALSE)) -> 2 | I83: =IF($E83>0,VLOOKUP($F83,'Temps unitaires'!$B$3:$J$72,4,FALSE)*$E83,VLOOKUP($F83,'Temps unitaires'!$B$3:$J$72,4,FALSE)) -> 1e-06 | J83: =IF($E83>0,VLOOKUP($F83,'Temps unitaires'!$B$3:$J$72,5,FALSE)*$E83,VLOOKUP($F83,'Temps unitaires'!$B$3:$J$72,5,FALSE)) -> 1 | K83: =IF($E83>0,VLOOKUP($F83,'Temps unitaires'!$B$3:$J$72,6,FALSE)*$E83,VLOOKUP($F83,'Temps unitaires'!$B$3:$J$72,6,FALSE)) -> 1 | L83: =IF($E83>0,VLOOKUP($F83,'Temps unitaires'!$B$3:$J$72,7,FALSE)*$E83,VLOOKUP($F83,'Temps unitaires'!$B$3:$J$72,7,FALSE)) -> 1 | M83: =IF($E83>0,VLOOKUP($F83,'Temps unitaires'!$B$3:$J$72,8,FALSE)*$E83,VLOOKUP($F83,'Temps unitaires'!$B$3:$J$72,8,FALSE)) -> 1e-06 | N83: =IF($E83>0,VLOOKUP($F83,'Temps unitaires'!$B$3:$J$72,9,FALSE)*$E83,VLOOKUP($F83,'Temps unitaires'!$B$3:$J$72,9,FALSE)) -> 1 | X83: =SUMPRODUCT(H83:N83,P83:V83)/SUM(H83:N83) -> 0
A84: Centre 1 | B84: CE06-1 | C84: Cm.ZEP1250 (Près du Cv1008) | F84: Commut | G84: =SUM(H84:N84) -> 6.000002 | H84: =IF($E84>0,VLOOKUP($F84,'Temps unitaires'!$B$3:$J$72,3,FALSE)*$E84,VLOOKUP($F84,'Temps unitaires'!$B$3:$J$72,3,FALSE)) -> 2 | I84: =IF($E84>0,VLOOKUP($F84,'Temps unitaires'!$B$3:$J$72,4,FALSE)*$E84,VLOOKUP($F84,'Temps unitaires'!$B$3:$J$72,4,FALSE)) -> 1e-06 | J84: =IF($E84>0,VLOOKUP($F84,'Temps unitaires'!$B$3:$J$72,5,FALSE)*$E84,VLOOKUP($F84,'Temps unitaires'!$B$3:$J$72,5,FALSE)) -> 1 | K84: =IF($E84>0,VLOOKUP($F84,'Temps unitaires'!$B$3:$J$72,6,FALSE)*$E84,VLOOKUP($F84,'Temps unitaires'!$B$3:$J$72,6,FALSE)) -> 1 | L84: =IF($E84>0,VLOOKUP($F84,'Temps unitaires'!$B$3:$J$72,7,FALSE)*$E84,VLOOKUP($F84,'Temps unitaires'!$B$3:$J$72,7,FALSE)) -> 1 | M84: =IF($E84>0,VLOOKUP($F84,'Temps unitaires'!$B$3:$J$72,8,FALSE)*$E84,VLOOKUP($F84,'Temps unitaires'!$B$3:$J$72,8,FALSE)) -> 1e-06 | N84: =IF($E84>0,VLOOKUP($F84,'Temps unitaires'!$B$3:$J$72,9,FALSE)*$E84,VLOOKUP($F84,'Temps unitaires'!$B$3:$J$72,9,FALSE)) -> 1 | X84: =SUMPRODUCT(H84:N84,P84:V84)/SUM(H84:N84) -> 0
A85: Centre 1 | B85: CE06-1 | C85: CI.EMZ1020 | E85: 0.5 | F85: CdV CI 25000V | G85: =SUM(H85:N85) -> 8.500001 | H85: =IF($E85>0,VLOOKUP($F85,'Temps unitaires'!$B$3:$J$72,3,FALSE)*$E85,VLOOKUP($F85,'Temps unitaires'!$B$3:$J$72,3,FALSE)) -> 1 | I85: =IF($E85>0,VLOOKUP($F85,'Temps unitaires'!$B$3:$J$72,4,FALSE)*$E85,VLOOKUP($F85,'Temps unitaires'!$B$3:$J$72,4,FALSE)) -> 5e-07 | J85: =IF($E85>0,VLOOKUP($F85,'Temps unitaires'!$B$3:$J$72,5,FALSE)*$E85,VLOOKUP($F85,'Temps unitaires'!$B$3:$J$72,5,FALSE)) -> 1 | K85: =IF($E85>0,VLOOKUP($F85,'Temps unitaires'!$B$3:$J$72,6,FALSE)*$E85,VLOOKUP($F85,'Temps unitaires'!$B$3:$J$72,6,FALSE)) -> 4.5 | L85: =IF($E85>0,VLOOKUP($F85,'Temps unitaires'!$B$3:$J$72,7,FALSE)*$E85,VLOOKUP($F85,'Temps unitaires'!$B$3:$J$72,7,FALSE)) -> 1 | M85: =IF($E85>0,VLOOKUP($F85,'Temps unitaires'!$B$3:$J$72,8,FALSE)*$E85,VLOOKUP($F85,'Temps unitaires'!$B$3:$J$72,8,FALSE)) -> 5e-07 | N85: =IF($E85>0,VLOOKUP($F85,'Temps unitaires'!$B$3:$J$72,9,FALSE)*$E85,VLOOKUP($F85,'Temps unitaires'!$B$3:$J$72,9,FALSE)) -> 1 | X85: =SUMPRODUCT(H85:N85,P85:V85)/SUM(H85:N85) -> 0
A86: Centre 1 | B86: CE06-1 | C86: TOTAL | G86: =SUM(H86:N86) -> 302.05016 | H86: =SUM(H66:H85) -> 30.400026 | I86: =SUM(I66:I85) -> 4.12e-05 | J86: =SUM(J66:J85) -> 55.400025 | K86: =SUM(K66:K85) -> 109.00002 | L86: =SUM(L66:L85) -> 38.000025 | M86: =SUM(M66:M85) -> 23.600016 | N86: =SUM(N66:N85) -> 45.65 | P86: =SUMPRODUCT(H66:H85,P66:P85)/H86 -> 0 | R86: =SUMPRODUCT(J66:J85,R66:R85)/J86 -> 0 | S86: =SUMPRODUCT(K66:K85,S66:S85)/K86 -> 0 | T86: =SUMPRODUCT(L66:L85,T66:T85)/L86 -> 0 | U86: =SUMPRODUCT(M66:M85,U66:U85)/M86 -> 0 | V86: =SUMPRODUCT(N66:N85,V66:V85)/N86 -> 0 | X86: =SUMPRODUCT(H66:N85,P66:V85)/SUM(H66:N85) -> 0
A87: Centre 1 | B87: CE07-1 | C87: STM CE07-01 | F87: STM GM/MM centre (Pose) | G87: =SUM(H87:N87) -> 3.800004 | H87: =IF($E87>0,VLOOKUP($F87,'Temps unitaires'!$B$3:$J$72,3,FALSE)*$E87,VLOOKUP($F87,'Temps unitaires'!$B$3:$J$72,3,FALSE)) -> 1e-06 | I87: =IF($E87>0,VLOOKUP($F87,'Temps unitaires'!$B$3:$J$72,4,FALSE)*$E87,VLOOKUP($F87,'Temps unitaires'!$B$3:$J$72,4,FALSE)) -> 1e-06 | J87: =IF($E87>0,VLOOKUP($F87,'Temps unitaires'!$B$3:$J$72,5,FALSE)*$E87,VLOOKUP($F87,'Temps unitaires'!$B$3:$J$72,5,FALSE)) -> 0.5 | K87: =IF($E87>0,VLOOKUP($F87,'Temps unitaires'!$B$3:$J$72,6,FALSE)*$E87,VLOOKUP($F87,'Temps unitaires'!$B$3:$J$72,6,FALSE)) -> 3 | L87: =IF($E87>0,VLOOKUP($F87,'Temps unitaires'!$B$3:$J$72,7,FALSE)*$E87,VLOOKUP($F87,'Temps unitaires'!$B$3:$J$72,7,FALSE)) -> 1e-06 | M87: =IF($E87>0,VLOOKUP($F87,'Temps unitaires'!$B$3:$J$72,8,FALSE)*$E87,VLOOKUP($F87,'Temps unitaires'!$B$3:$J$72,8,FALSE)) -> 1e-06 | N87: =IF($E87>0,VLOOKUP($F87,'Temps unitaires'!$B$3:$J$72,9,FALSE)*$E87,VLOOKUP($F87,'Temps unitaires'!$B$3:$J$72,9,FALSE)) -> 0.3 | X87: =SUMPRODUCT(H87:N87,P87:V87)/SUM(H87:N87) -> 0
A88: Centre 1 | B88: CE07-1 | C88: STM CE07-01 | E88: 2 | F88: Câbles Princ | G88: =SUM(H88:N88) -> 6.00001 | H88: =IF($E88>0,VLOOKUP($F88,'Temps unitaires'!$B$3:$J$72,3,FALSE)*$E88,VLOOKUP($F88,'Temps unitaires'!$B$3:$J$72,3,FALSE)) -> 2e-06 | I88: =IF($E88>0,VLOOKUP($F88,'Temps unitaires'!$B$3:$J$72,4,FALSE)*$E88,VLOOKUP($F88,'Temps unitaires'!$B$3:$J$72,4,FALSE)) -> 2e-06 | J88: =IF($E88>0,VLOOKUP($F88,'Temps unitaires'!$B$3:$J$72,5,FALSE)*$E88,VLOOKUP($F88,'Temps unitaires'!$B$3:$J$72,5,FALSE)) -> 2e-06 | K88: =IF($E88>0,VLOOKUP($F88,'Temps unitaires'!$B$3:$J$72,6,FALSE)*$E88,VLOOKUP($F88,'Temps unitaires'!$B$3:$J$72,6,FALSE)) -> 2e-06 | L88: =IF($E88>0,VLOOKUP($F88,'Temps unitaires'!$B$3:$J$72,7,FALSE)*$E88,VLOOKUP($F88,'Temps unitaires'!$B$3:$J$72,7,FALSE)) -> 2e-06 | M88: =IF($E88>0,VLOOKUP($F88,'Temps unitaires'!$B$3:$J$72,8,FALSE)*$E88,VLOOKUP($F88,'Temps unitaires'!$B$3:$J$72,8,FALSE)) -> 4 | N88: =IF($E88>0,VLOOKUP($F88,'Temps unitaires'!$B$3:$J$72,9,FALSE)*$E88,VLOOKUP($F88,'Temps unitaires'!$B$3:$J$72,9,FALSE)) -> 2 | X88: =SUMPRODUCT(H88:N88,P88:V88)/SUM(H88:N88) -> 0
A89: Centre 1 | B89: CE07-1 | C89: STM CE07-01 | E89: 8 | F89: Câbles Locaux | G89: =SUM(H89:N89) -> 10.40004 | H89: =IF($E89>0,VLOOKUP($F89,'Temps unitaires'!$B$3:$J$72,3,FALSE)*$E89,VLOOKUP($F89,'Temps unitaires'!$B$3:$J$72,3,FALSE)) -> 8e-06 | I89: =IF($E89>0,VLOOKUP($F89,'Temps unitaires'!$B$3:$J$72,4,FALSE)*$E89,VLOOKUP($F89,'Temps unitaires'!$B$3:$J$72,4,FALSE)) -> 8e-06 | J89: =IF($E89>0,VLOOKUP($F89,'Temps unitaires'!$B$3:$J$72,5,FALSE)*$E89,VLOOKUP($F89,'Temps unitaires'!$B$3:$J$72,5,FALSE)) -> 8e-06 | K89: =IF($E89>0,VLOOKUP($F89,'Temps unitaires'!$B$3:$J$72,6,FALSE)*$E89,VLOOKUP($F89,'Temps unitaires'!$B$3:$J$72,6,FALSE)) -> 8e-06 | L89: =IF($E89>0,VLOOKUP($F89,'Temps unitaires'!$B$3:$J$72,7,FALSE)*$E89,VLOOKUP($F89,'Temps unitaires'!$B$3:$J$72,7,FALSE)) -> 8e-06 | M89: =IF($E89>0,VLOOKUP($F89,'Temps unitaires'!$B$3:$J$72,8,FALSE)*$E89,VLOOKUP($F89,'Temps unitaires'!$B$3:$J$72,8,FALSE)) -> 6.4 | N89: =IF($E89>0,VLOOKUP($F89,'Temps unitaires'!$B$3:$J$72,9,FALSE)*$E89,VLOOKUP($F89,'Temps unitaires'!$B$3:$J$72,9,FALSE)) -> 4 | X89: =SUMPRODUCT(H89:N89,P89:V89)/SUM(H89:N89) -> 0
A90: Centre 1 | B90: CE07-1 | C90: STM.Signal C1010 | F90: Signal (Neuf) | G90: =SUM(H90:N90) -> 50.000002 | H90: =IF($E90>0,VLOOKUP($F90,'Temps unitaires'!$B$3:$J$72,3,FALSE)*$E90,VLOOKUP($F90,'Temps unitaires'!$B$3:$J$72,3,FALSE)) -> 2 | I90: =IF($E90>0,VLOOKUP($F90,'Temps unitaires'!$B$3:$J$72,4,FALSE)*$E90,VLOOKUP($F90,'Temps unitaires'!$B$3:$J$72,4,FALSE)) -> 1e-06 | J90: =IF($E90>0,VLOOKUP($F90,'Temps unitaires'!$B$3:$J$72,5,FALSE)*$E90,VLOOKUP($F90,'Temps unitaires'!$B$3:$J$72,5,FALSE)) -> 35 | K90: =IF($E90>0,VLOOKUP($F90,'Temps unitaires'!$B$3:$J$72,6,FALSE)*$E90,VLOOKUP($F90,'Temps unitaires'!$B$3:$J$72,6,FALSE)) -> 6 | L90: =IF($E90>0,VLOOKUP($F90,'Temps unitaires'!$B$3:$J$72,7,FALSE)*$E90,VLOOKUP($F90,'Temps unitaires'!$B$3:$J$72,7,FALSE)) -> 3 | M90: =IF($E90>0,VLOOKUP($F90,'Temps unitaires'!$B$3:$J$72,8,FALSE)*$E90,VLOOKUP($F90,'Temps unitaires'!$B$3:$J$72,8,FALSE)) -> 1e-06 | N90: =IF($E90>0,VLOOKUP($F90,'Temps unitaires'!$B$3:$J$72,9,FALSE)*$E90,VLOOKUP($F90,'Temps unitaires'!$B$3:$J$72,9,FALSE)) -> 4 | X90: =SUMPRODUCT(H90:N90,P90:V90)/SUM(H90:N90) -> 0
A91: Centre 1 | B91: CE07-1 | C91: SDCP10.Pd.Déto+A.Cro1010 | F91: Pd.Déto+A.Cro | G91: =SUM(H91:N91) -> 27.000002 | H91: =IF($E91>0,VLOOKUP($F91,'Temps unitaires'!$B$3:$J$72,3,FALSE)*$E91,VLOOKUP($F91,'Temps unitaires'!$B$3:$J$72,3,FALSE)) -> 3 | I91: =IF($E91>0,VLOOKUP($F91,'Temps unitaires'!$B$3:$J$72,4,FALSE)*$E91,VLOOKUP($F91,'Temps unitaires'!$B$3:$J$72,4,FALSE)) -> 1e-06 | J91: =IF($E91>0,VLOOKUP($F91,'Temps unitaires'!$B$3:$J$72,5,FALSE)*$E91,VLOOKUP($F91,'Temps unitaires'!$B$3:$J$72,5,FALSE)) -> 3 | K91: =IF($E91>0,VLOOKUP($F91,'Temps unitaires'!$B$3:$J$72,6,FALSE)*$E91,VLOOKUP($F91,'Temps unitaires'!$B$3:$J$72,6,FALSE)) -> 12 | L91: =IF($E91>0,VLOOKUP($F91,'Temps unitaires'!$B$3:$J$72,7,FALSE)*$E91,VLOOKUP($F91,'Temps unitaires'!$B$3:$J$72,7,FALSE)) -> 6 | M91: =IF($E91>0,VLOOKUP($F91,'Temps unitaires'!$B$3:$J$72,8,FALSE)*$E91,VLOOKUP($F91,'Temps unitaires'!$B$3:$J$72,8,FALSE)) -> 1e-06 | N91: =IF($E91>0,VLOOKUP($F91,'Temps unitaires'!$B$3:$J$72,9,FALSE)*$E91,VLOOKUP($F91,'Temps unitaires'!$B$3:$J$72,9,FALSE)) -> 3 | X91: =SUMPRODUCT(H91:N91,P91:V91)/SUM(H91:N91) -> 0
A92: Centre 1 | B92: CE07-1 | C92: Tel.C1010 | F92: Tél | G92: =SUM(H92:N92) -> 6.000002 | H92: =IF($E92>0,VLOOKUP($F92,'Temps unitaires'!$B$3:$J$72,3,FALSE)*$E92,VLOOKUP($F92,'Temps unitaires'!$B$3:$J$72,3,FALSE)) -> 2 | I92: =IF($E92>0,VLOOKUP($F92,'Temps unitaires'!$B$3:$J$72,4,FALSE)*$E92,VLOOKUP($F92,'Temps unitaires'!$B$3:$J$72,4,FALSE)) -> 1e-06 | J92: =IF($E92>0,VLOOKUP($F92,'Temps unitaires'!$B$3:$J$72,5,FALSE)*$E92,VLOOKUP($F92,'Temps unitaires'!$B$3:$J$72,5,FALSE)) -> 1 | K92: =IF($E92>0,VLOOKUP($F92,'Temps unitaires'!$B$3:$J$72,6,FALSE)*$E92,VLOOKUP($F92,'Temps unitaires'!$B$3:$J$72,6,FALSE)) -> 1 | L92: =IF($E92>0,VLOOKUP($F92,'Temps unitaires'!$B$3:$J$72,7,FALSE)*$E92,VLOOKUP($F92,'Temps unitaires'!$B$3:$J$72,7,FALSE)) -> 1 | M92: =IF($E92>0,VLOOKUP($F92,'Temps unitaires'!$B$3:$J$72,8,FALSE)*$E92,VLOOKUP($F92,'Temps unitaires'!$B$3:$J$72,8,FALSE)) -> 1e-06 | N92: =IF($E92>0,VLOOKUP($F92,'Temps unitaires'!$B$3:$J$72,9,FALSE)*$E92,VLOOKUP($F92,'Temps unitaires'!$B$3:$J$72,9,FALSE)) -> 1 | X92: =SUMPRODUCT(H92:N92,P92:V92)/SUM(H92:N92) -> 0
A93: Centre 1 | B93: CE07-1 | C93: CI.EMZ1010.EMZ1022 | F93: CdV CI 25000V | G93: =SUM(H93:N93) -> 17.000002 | H93: =IF($E93>0,VLOOKUP($F93,'Temps unitaires'!$B$3:$J$72,3,FALSE)*$E93,VLOOKUP($F93,'Temps unitaires'!$B$3:$J$72,3,FALSE)) -> 2 | I93: =IF($E93>0,VLOOKUP($F93,'Temps unitaires'!$B$3:$J$72,4,FALSE)*$E93,VLOOKUP($F93,'Temps unitaires'!$B$3:$J$72,4,FALSE)) -> 1e-06 | J93: =IF($E93>0,VLOOKUP($F93,'Temps unitaires'!$B$3:$J$72,5,FALSE)*$E93,VLOOKUP($F93,'Temps unitaires'!$B$3:$J$72,5,FALSE)) -> 2 | K93: =IF($E93>0,VLOOKUP($F93,'Temps unitaires'!$B$3:$J$72,6,FALSE)*$E93,VLOOKUP($F93,'Temps unitaires'!$B$3:$J$72,6,FALSE)) -> 9 | L93: =IF($E93>0,VLOOKUP($F93,'Temps unitaires'!$B$3:$J$72,7,FALSE)*$E93,VLOOKUP($F93,'Temps unitaires'!$B$3:$J$72,7,FALSE)) -> 2 | M93: =IF($E93>0,VLOOKUP($F93,'Temps unitaires'!$B$3:$J$72,8,FALSE)*$E93,VLOOKUP($F93,'Temps unitaires'!$B$3:$J$72,8,FALSE)) -> 1e-06 | N93: =IF($E93>0,VLOOKUP($F93,'Temps unitaires'!$B$3:$J$72,9,FALSE)*$E93,VLOOKUP($F93,'Temps unitaires'!$B$3:$J$72,9,FALSE)) -> 2 | X93: =SUMPRODUCT(H93:N93,P93:V93)/SUM(H93:N93) -> 0
A94: Centre 1 | B94: CE07-1 | C94: ATR1007 (Près du C1010) | F94: Atr | G94: =SUM(H94:N94) -> 6.000002 | H94: =IF($E94>0,VLOOKUP($F94,'Temps unitaires'!$B$3:$J$72,3,FALSE)*$E94,VLOOKUP($F94,'Temps unitaires'!$B$3:$J$72,3,FALSE)) -> 2 | I94: =IF($E94>0,VLOOKUP($F94,'Temps unitaires'!$B$3:$J$72,4,FALSE)*$E94,VLOOKUP($F94,'Temps unitaires'!$B$3:$J$72,4,FALSE)) -> 1e-06 | J94: =IF($E94>0,VLOOKUP($F94,'Temps unitaires'!$B$3:$J$72,5,FALSE)*$E94,VLOOKUP($F94,'Temps unitaires'!$B$3:$J$72,5,FALSE)) -> 1 | K94: =IF($E94>0,VLOOKUP($F94,'Temps unitaires'!$B$3:$J$72,6,FALSE)*$E94,VLOOKUP($F94,'Temps unitaires'!$B$3:$J$72,6,FALSE)) -> 1 | L94: =IF($E94>0,VLOOKUP($F94,'Temps unitaires'!$B$3:$J$72,7,FALSE)*$E94,VLOOKUP($F94,'Temps unitaires'!$B$3:$J$72,7,FALSE)) -> 1 | M94: =IF($E94>0,VLOOKUP($F94,'Temps unitaires'!$B$3:$J$72,8,FALSE)*$E94,VLOOKUP($F94,'Temps unitaires'!$B$3:$J$72,8,FALSE)) -> 1e-06 | N94: =IF($E94>0,VLOOKUP($F94,'Temps unitaires'!$B$3:$J$72,9,FALSE)*$E94,VLOOKUP($F94,'Temps unitaires'!$B$3:$J$72,9,FALSE)) -> 1 | X94: =SUMPRODUCT(H94:N94,P94:V94)/SUM(H94:N94) -> 0
A95: Centre 1 | B95: CE07-1 | C95: ATR1008 (Près du C1010) | F95: Atr | G95: =SUM(H95:N95) -> 6.000002 | H95: =IF($E95>0,VLOOKUP($F95,'Temps unitaires'!$B$3:$J$72,3,FALSE)*$E95,VLOOKUP($F95,'Temps unitaires'!$B$3:$J$72,3,FALSE)) -> 2 | I95: =IF($E95>0,VLOOKUP($F95,'Temps unitaires'!$B$3:$J$72,4,FALSE)*$E95,VLOOKUP($F95,'Temps unitaires'!$B$3:$J$72,4,FALSE)) -> 1e-06 | J95: =IF($E95>0,VLOOKUP($F95,'Temps unitaires'!$B$3:$J$72,5,FALSE)*$E95,VLOOKUP($F95,'Temps unitaires'!$B$3:$J$72,5,FALSE)) -> 1 | K95: =IF($E95>0,VLOOKUP($F95,'Temps unitaires'!$B$3:$J$72,6,FALSE)*$E95,VLOOKUP($F95,'Temps unitaires'!$B$3:$J$72,6,FALSE)) -> 1 | L95: =IF($E95>0,VLOOKUP($F95,'Temps unitaires'!$B$3:$J$72,7,FALSE)*$E95,VLOOKUP($F95,'Temps unitaires'!$B$3:$J$72,7,FALSE)) -> 1 | M95: =IF($E95>0,VLOOKUP($F95,'Temps unitaires'!$B$3:$J$72,8,FALSE)*$E95,VLOOKUP($F95,'Temps unitaires'!$B$3:$J$72,8,FALSE)) -> 1e-06 | N95: =IF($E95>0,VLOOKUP($F95,'Temps unitaires'!$B$3:$J$72,9,FALSE)*$E95,VLOOKUP($F95,'Temps unitaires'!$B$3:$J$72,9,FALSE)) -> 1 | X95: =SUMPRODUCT(H95:N95,P95:V95)/SUM(H95:N95) -> 0
A96: Centre 1 | B96: CE07-1 | C96: ATR1010 (Près du C1010) | F96: Atr | G96: =SUM(H96:N96) -> 6.000002 | H96: =IF($E96>0,VLOOKUP($F96,'Temps unitaires'!$B$3:$J$72,3,FALSE)*$E96,VLOOKUP($F96,'Temps unitaires'!$B$3:$J$72,3,FALSE)) -> 2 | I96: =IF($E96>0,VLOOKUP($F96,'Temps unitaires'!$B$3:$J$72,4,FALSE)*$E96,VLOOKUP($F96,'Temps unitaires'!$B$3:$J$72,4,FALSE)) -> 1e-06 | J96: =IF($E96>0,VLOOKUP($F96,'Temps unitaires'!$B$3:$J$72,5,FALSE)*$E96,VLOOKUP($F96,'Temps unitaires'!$B$3:$J$72,5,FALSE)) -> 1 | K96: =IF($E96>0,VLOOKUP($F96,'Temps unitaires'!$B$3:$J$72,6,FALSE)*$E96,VLOOKUP($F96,'Temps unitaires'!$B$3:$J$72,6,FALSE)) -> 1 | L96: =IF($E96>0,VLOOKUP($F96,'Temps unitaires'!$B$3:$J$72,7,FALSE)*$E96,VLOOKUP($F96,'Temps unitaires'!$B$3:$J$72,7,FALSE)) -> 1 | M96: =IF($E96>0,VLOOKUP($F96,'Temps unitaires'!$B$3:$J$72,8,FALSE)*$E96,VLOOKUP($F96,'Temps unitaires'!$B$3:$J$72,8,FALSE)) -> 1e-06 | N96: =IF($E96>0,VLOOKUP($F96,'Temps unitaires'!$B$3:$J$72,9,FALSE)*$E96,VLOOKUP($F96,'Temps unitaires'!$B$3:$J$72,9,FALSE)) -> 1 | X96: =SUMPRODUCT(H96:N96,P96:V96)/SUM(H96:N96) -> 0
A97: Centre 1 | B97: CE07-1 | C97: TOTAL | G97: =SUM(H97:N97) -> 138.20007 | H97: =SUM(H87:H96) -> 15.000011 | I97: =SUM(I87:I96) -> 1.8e-05 | J97: =SUM(J87:J96) -> 44.50001 | K97: =SUM(K87:K96) -> 34.00001 | L97: =SUM(L87:L96) -> 15.000011 | M97: =SUM(M87:M96) -> 10.400008 | N97: =SUM(N87:N96) -> 19.3 | P97: =SUMPRODUCT(H87:H96,P87:P96)/H97 -> 0 | R97: =SUMPRODUCT(J87:J96,R87:R96)/J97 -> 0 | S97: =SUMPRODUCT(K87:K96,S87:S96)/K97 -> 0 | T97: =SUMPRODUCT(L87:L96,T87:T96)/L97 -> 0 | U97: =SUMPRODUCT(M87:M96,U87:U96)/M97 -> 0 | V97: =SUMPRODUCT(N87:N96,V87:V96)/N97 -> 0 | X97: =SUMPRODUCT(H87:N96,P87:V96)/SUM(H87:N96) -> 0
A98: Centre 1 | B98: CE08-1 | C98: U71 CE08-01 | F98: U71 (Pose) | G98: =SUM(H98:N98) -> 7.250003 | H98: =IF($E98>0,VLOOKUP($F98,'Temps unitaires'!$B$3:$J$72,3,FALSE)*$E98,VLOOKUP($F98,'Temps unitaires'!$B$3:$J$72,3,FALSE)) -> 1e-06 | I98: =IF($E98>0,VLOOKUP($F98,'Temps unitaires'!$B$3:$J$72,4,FALSE)*$E98,VLOOKUP($F98,'Temps unitaires'!$B$3:$J$72,4,FALSE)) -> 1e-06 | J98: =IF($E98>0,VLOOKUP($F98,'Temps unitaires'!$B$3:$J$72,5,FALSE)*$E98,VLOOKUP($F98,'Temps unitaires'!$B$3:$J$72,5,FALSE)) -> 1 | K98: =IF($E98>0,VLOOKUP($F98,'Temps unitaires'!$B$3:$J$72,6,FALSE)*$E98,VLOOKUP($F98,'Temps unitaires'!$B$3:$J$72,6,FALSE)) -> 6 | L98: =IF($E98>0,VLOOKUP($F98,'Temps unitaires'!$B$3:$J$72,7,FALSE)*$E98,VLOOKUP($F98,'Temps unitaires'!$B$3:$J$72,7,FALSE)) -> 0 | M98: =IF($E98>0,VLOOKUP($F98,'Temps unitaires'!$B$3:$J$72,8,FALSE)*$E98,VLOOKUP($F98,'Temps unitaires'!$B$3:$J$72,8,FALSE)) -> 1e-06 | N98: =IF($E98>0,VLOOKUP($F98,'Temps unitaires'!$B$3:$J$72,9,FALSE)*$E98,VLOOKUP($F98,'Temps unitaires'!$B$3:$J$72,9,FALSE)) -> 0.25 | X98: =SUMPRODUCT(H98:N98,P98:V98)/SUM(H98:N98) -> 0
A99: Centre 1 | B99: CE08-1 | C99: U71 CE08-01 | E99: 3 | F99: Câbles Princ | G99: =SUM(H99:N99) -> 9.000015 | H99: =IF($E99>0,VLOOKUP($F99,'Temps unitaires'!$B$3:$J$72,3,FALSE)*$E99,VLOOKUP($F99,'Temps unitaires'!$B$3:$J$72,3,FALSE)) -> 3e-06 | I99: =IF($E99>0,VLOOKUP($F99,'Temps unitaires'!$B$3:$J$72,4,FALSE)*$E99,VLOOKUP($F99,'Temps unitaires'!$B$3:$J$72,4,FALSE)) -> 3e-06 | J99: =IF($E99>0,VLOOKUP($F99,'Temps unitaires'!$B$3:$J$72,5,FALSE)*$E99,VLOOKUP($F99,'Temps unitaires'!$B$3:$J$72,5,FALSE)) -> 3e-06 | K99: =IF($E99>0,VLOOKUP($F99,'Temps unitaires'!$B$3:$J$72,6,FALSE)*$E99,VLOOKUP($F99,'Temps unitaires'!$B$3:$J$72,6,FALSE)) -> 3e-06 | L99: =IF($E99>0,VLOOKUP($F99,'Temps unitaires'!$B$3:$J$72,7,FALSE)*$E99,VLOOKUP($F99,'Temps unitaires'!$B$3:$J$72,7,FALSE)) -> 3e-06 | M99: =IF($E99>0,VLOOKUP($F99,'Temps unitaires'!$B$3:$J$72,8,FALSE)*$E99,VLOOKUP($F99,'Temps unitaires'!$B$3:$J$72,8,FALSE)) -> 6 | N99: =IF($E99>0,VLOOKUP($F99,'Temps unitaires'!$B$3:$J$72,9,FALSE)*$E99,VLOOKUP($F99,'Temps unitaires'!$B$3:$J$72,9,FALSE)) -> 3 | X99: =SUMPRODUCT(H99:N99,P99:V99)/SUM(H99:N99) -> 0
A100: Centre 1 | B100: CE08-1 | C100: U71 CE08-01 | E100: 27 | F100: Câbles Locaux | G100: =SUM(H100:N100) -> 35.100135 | H100: =IF($E100>0,VLOOKUP($F100,'Temps unitaires'!$B$3:$J$72,3,FALSE)*$E100,VLOOKUP($F100,'Temps unitaires'!$B$3:$J$72,3,FALSE)) -> 2.7e-05 | I100: =IF($E100>0,VLOOKUP($F100,'Temps unitaires'!$B$3:$J$72,4,FALSE)*$E100,VLOOKUP($F100,'Temps unitaires'!$B$3:$J$72,4,FALSE)) -> 2.7e-05 | J100: =IF($E100>0,VLOOKUP($F100,'Temps unitaires'!$B$3:$J$72,5,FALSE)*$E100,VLOOKUP($F100,'Temps unitaires'!$B$3:$J$72,5,FALSE)) -> 2.7e-05 | K100: =IF($E100>0,VLOOKUP($F100,'Temps unitaires'!$B$3:$J$72,6,FALSE)*$E100,VLOOKUP($F100,'Temps unitaires'!$B$3:$J$72,6,FALSE)) -> 2.7e-05 | L100: =IF($E100>0,VLOOKUP($F100,'Temps unitaires'!$B$3:$J$72,7,FALSE)*$E100,VLOOKUP($F100,'Temps unitaires'!$B$3:$J$72,7,FALSE)) -> 2.7e-05 | M100: =IF($E100>0,VLOOKUP($F100,'Temps unitaires'!$B$3:$J$72,8,FALSE)*$E100,VLOOKUP($F100,'Temps unitaires'!$B$3:$J$72,8,FALSE)) -> 21.6 | N100: =IF($E100>0,VLOOKUP($F100,'Temps unitaires'!$B$3:$J$72,9,FALSE)*$E100,VLOOKUP($F100,'Temps unitaires'!$B$3:$J$72,9,FALSE)) -> 13.5 | X100: =SUMPRODUCT(H100:N100,P100:V100)/SUM(H100:N100) -> 0
A101: Centre 1 | B101: CE08-1 | C101: STM.Signal C1009 | F101: Signal (Neuf) | G101: =SUM(H101:N101) -> 50.000002 | H101: =IF($E101>0,VLOOKUP($F101,'Temps unitaires'!$B$3:$J$72,3,FALSE)*$E101,VLOOKUP($F101,'Temps unitaires'!$B$3:$J$72,3,FALSE)) -> 2 | I101: =IF($E101>0,VLOOKUP($F101,'Temps unitaires'!$B$3:$J$72,4,FALSE)*$E101,VLOOKUP($F101,'Temps unitaires'!$B$3:$J$72,4,FALSE)) -> 1e-06 | J101: =IF($E101>0,VLOOKUP($F101,'Temps unitaires'!$B$3:$J$72,5,FALSE)*$E101,VLOOKUP($F101,'Temps unitaires'!$B$3:$J$72,5,FALSE)) -> 35 | K101: =IF($E101>0,VLOOKUP($F101,'Temps unitaires'!$B$3:$J$72,6,FALSE)*$E101,VLOOKUP($F101,'Temps unitaires'!$B$3:$J$72,6,FALSE)) -> 6 | L101: =IF($E101>0,VLOOKUP($F101,'Temps unitaires'!$B$3:$J$72,7,FALSE)*$E101,VLOOKUP($F101,'Temps unitaires'!$B$3:$J$72,7,FALSE)) -> 3 | M101: =IF($E101>0,VLOOKUP($F101,'Temps unitaires'!$B$3:$J$72,8,FALSE)*$E101,VLOOKUP($F101,'Temps unitaires'!$B$3:$J$72,8,FALSE)) -> 1e-06 | N101: =IF($E101>0,VLOOKUP($F101,'Temps unitaires'!$B$3:$J$72,9,FALSE)*$E101,VLOOKUP($F101,'Temps unitaires'!$B$3:$J$72,9,FALSE)) -> 4 | X101: =SUMPRODUCT(H101:N101,P101:V101)/SUM(H101:N101) -> 0
...

Sheet Centre 2
F1: =TODAY() -> 43853
A3: Identification de l'IS | G3: Temps Production - Temps élémentaires | P3: Avancement | Z3: PREPA SUR PARC | AJ3: INSTALLATION EN VOIE ou POSTE | AN3: RACCORDEMENT
A4: Postes | B4: Centres | C4: Travaux | D4: Commentaires : particularité de l'IS | E4: Nbre éléments pour poste | F4: Type IS | G4: TOTAL | H4: Déroulage câble | I4: Equipement poste (Neuf ou Modif) | J4: Prépa Parc | K4: Pose à la voie | L4: Racco voie | M4: Racco Centre | N4: Contrôle | P4: Déroulage câble | Q4: Equipement poste (Neuf ou modif) | R4: Prépa Parc | S4: Pose à la voie | T4: Racco voie | U4: Racco Centre | V4: Contrôle | W4: COMMENTAIRES | Z4: Préparation à réaliser pour | AA4: Relevé terrain | AB4: Méca réalisée par Nom Date | AD4: Câblage réalisé par Nom Date | AF4: Réserves Oui Non | AH4: Réserves | AJ4: Installé par | AK4: Travaux terminé | AL4: Réserves / Commentaires | AN4: Raccordé par | AO4: Travaux terminé | AP4: Réserves / Commentaires
A5: Centre 2 | B5: CE01-1 | C5: U71 CE01-1 | F5: U71 (Pose) | G5: =SUM(H5:N5) -> 7.250003 | H5: =IF($E5>0,VLOOKUP($F5,'Temps unitaires'!$B$3:$J$72,3,FALSE)*$E5,VLOOKUP($F5,'Temps unitaires'!$B$3:$J$72,3,FALSE)) -> 1e-06 | I5: =IF($E5>0,VLOOKUP($F5,'Temps unitaires'!$B$3:$J$72,4,FALSE)*$E5,VLOOKUP($F5,'Temps unitaires'!$B$3:$J$72,4,FALSE)) -> 1e-06 | J5: =IF($E5>0,VLOOKUP($F5,'Temps unitaires'!$B$3:$J$72,5,FALSE)*$E5,VLOOKUP($F5,'Temps unitaires'!$B$3:$J$72,5,FALSE)) -> 1 | K5: =IF($E5>0,VLOOKUP($F5,'Temps unitaires'!$B$3:$J$72,6,FALSE)*$E5,VLOOKUP($F5,'Temps unitaires'!$B$3:$J$72,6,FALSE)) -> 6 | L5: =IF($E5>0,VLOOKUP($F5,'Temps unitaires'!$B$3:$J$72,7,FALSE)*$E5,VLOOKUP($F5,'Temps unitaires'!$B$3:$J$72,7,FALSE)) -> 0 | M5: =IF($E5>0,VLOOKUP($F5,'Temps unitaires'!$B$3:$J$72,8,FALSE)*$E5,VLOOKUP($F5,'Temps unitaires'!$B$3:$J$72,8,FALSE)) -> 1e-06 | N5: =IF($E5>0,VLOOKUP($F5,'Temps unitaires'!$B$3:$J$72,9,FALSE)*$E5,VLOOKUP($F5,'Temps unitaires'!$B$3:$J$72,9,FALSE)) -> 0.25 | X5: =SUMPRODUCT(H5:N5,P5:V5)/SUM(H5:N5) -> 0
A6: Centre 2 | B6: CE01-1 | C6: U71 CE01-1 | F6: Câbles Princ | G6: =SUM(H6:N6) -> 3.000005 | H6: =IF($E6>0,VLOOKUP($F6,'Temps unitaires'!$B$3:$J$72,3,FALSE)*$E6,VLOOKUP($F6,'Temps unitaires'!$B$3:$J$72,3,FALSE)) -> 1e-06 | I6: =IF($E6>0,VLOOKUP($F6,'Temps unitaires'!$B$3:$J$72,4,FALSE)*$E6,VLOOKUP($F6,'Temps unitaires'!$B$3:$J$72,4,FALSE)) -> 1e-06 | J6: =IF($E6>0,VLOOKUP($F6,'Temps unitaires'!$B$3:$J$72,5,FALSE)*$E6,VLOOKUP($F6,'Temps unitaires'!$B$3:$J$72,5,FALSE)) -> 1e-06 | K6: =IF($E6>0,VLOOKUP($F6,'Temps unitaires'!$B$3:$J$72,6,FALSE)*$E6,VLOOKUP($F6,'Temps unitaires'!$B$3:$J$72,6,FALSE)) -> 1e-06 | L6: =IF($E6>0,VLOOKUP($F6,'Temps unitaires'!$B$3:$J$72,7,FALSE)*$E6,VLOOKUP($F6,'Temps unitaires'!$B$3:$J$72,7,FALSE)) -> 1e-06 | M6: =IF($E6>0,VLOOKUP($F6,'Temps unitaires'!$B$3:$J$72,8,FALSE)*$E6,VLOOKUP($F6,'Temps unitaires'!$B$3:$J$72,8,FALSE)) -> 2 | N6: =IF($E6>0,VLOOKUP($F6,'Temps unitaires'!$B$3:$J$72,9,FALSE)*$E6,VLOOKUP($F6,'Temps unitaires'!$B$3:$J$72,9,FALSE)) -> 1 | X6: =SUMPRODUCT(H6:N6,P6:V6)/SUM(H6:N6) -> 0
A7: Centre 2 | B7: CE01-1 | C7: U71 CE01-1 | E7: 3 | F7: Câbles Locaux | G7: =SUM(H7:N7) -> 3.900015 | H7: =IF($E7>0,VLOOKUP($F7,'Temps unitaires'!$B$3:$J$72,3,FALSE)*$E7,VLOOKUP($F7,'Temps unitaires'!$B$3:$J$72,3,FALSE)) -> 3e-06 | I7: =IF($E7>0,VLOOKUP($F7,'Temps unitaires'!$B$3:$J$72,4,FALSE)*$E7,VLOOKUP($F7,'Temps unitaires'!$B$3:$J$72,4,FALSE)) -> 3e-06 | J7: =IF($E7>0,VLOOKUP($F7,'Temps unitaires'!$B$3:$J$72,5,FALSE)*$E7,VLOOKUP($F7,'Temps unitaires'!$B$3:$J$72,5,FALSE)) -> 3e-06 | K7: =IF($E7>0,VLOOKUP($F7,'Temps unitaires'!$B$3:$J$72,6,FALSE)*$E7,VLOOKUP($F7,'Temps unitaires'!$B$3:$J$72,6,FALSE)) -> 3e-06 | L7: =IF($E7>0,VLOOKUP($F7,'Temps unitaires'!$B$3:$J$72,7,FALSE)*$E7,VLOOKUP($F7,'Temps unitaires'!$B$3:$J$72,7,FALSE)) -> 3e-06 | M7: =IF($E7>0,VLOOKUP($F7,'Temps unitaires'!$B$3:$J$72,8,FALSE)*$E7,VLOOKUP($F7,'Temps unitaires'!$B$3:$J$72,8,FALSE)) -> 2.4 | N7: =IF($E7>0,VLOOKUP($F7,'Temps unitaires'!$B$3:$J$72,9,FALSE)*$E7,VLOOKUP($F7,'Temps unitaires'!$B$3:$J$72,9,FALSE)) -> 1.5 | X7: =SUMPRODUCT(H7:N7,P7:V7)/SUM(H7:N7) -> 0
A8: Centre 2 | B8: CE01-1 | C8: SVM.Pd1702 | F8: Pd méca | G8: =SUM(H8:N8) -> 9.000002 | H8: =IF($E8>0,VLOOKUP($F8,'Temps unitaires'!$B$3:$J$72,3,FALSE)*$E8,VLOOKUP($F8,'Temps unitaires'!$B$3:$J$72,3,FALSE)) -> 2 | I8: =IF($E8>0,VLOOKUP($F8,'Temps unitaires'!$B$3:$J$72,4,FALSE)*$E8,VLOOKUP($F8,'Temps unitaires'!$B$3:$J$72,4,FALSE)) -> 1e-06 | J8: =IF($E8>0,VLOOKUP($F8,'Temps unitaires'!$B$3:$J$72,5,FALSE)*$E8,VLOOKUP($F8,'Temps unitaires'!$B$3:$J$72,5,FALSE)) -> 1 | K8: =IF($E8>0,VLOOKUP($F8,'Temps unitaires'!$B$3:$J$72,6,FALSE)*$E8,VLOOKUP($F8,'Temps unitaires'!$B$3:$J$72,6,FALSE)) -> 2 | L8: =IF($E8>0,VLOOKUP($F8,'Temps unitaires'!$B$3:$J$72,7,FALSE)*$E8,VLOOKUP($F8,'Temps unitaires'!$B$3:$J$72,7,FALSE)) -> 2 | M8: =IF($E8>0,VLOOKUP($F8,'Temps unitaires'!$B$3:$J$72,8,FALSE)*$E8,VLOOKUP($F8,'Temps unitaires'!$B$3:$J$72,8,FALSE)) -> 1e-06 | N8: =IF($E8>0,VLOOKUP($F8,'Temps unitaires'!$B$3:$J$72,9,FALSE)*$E8,VLOOKUP($F8,'Temps unitaires'!$B$3:$J$72,9,FALSE)) -> 2 | X8: =SUMPRODUCT(H8:N8,P8:V8)/SUM(H8:N8) -> 0
A9: Centre 2 | B9: CE01-1 | C9: VCm.Au1702 | F9: VCM | G9: =SUM(H9:N9) -> 6.000002 | H9: =IF($E9>0,VLOOKUP($F9,'Temps unitaires'!$B$3:$J$72,3,FALSE)*$E9,VLOOKUP($F9,'Temps unitaires'!$B$3:$J$72,3,FALSE)) -> 2 | I9: =IF($E9>0,VLOOKUP($F9,'Temps unitaires'!$B$3:$J$72,4,FALSE)*$E9,VLOOKUP($F9,'Temps unitaires'!$B$3:$J$72,4,FALSE)) -> 1e-06 | J9: =IF($E9>0,VLOOKUP($F9,'Temps unitaires'!$B$3:$J$72,5,FALSE)*$E9,VLOOKUP($F9,'Temps unitaires'!$B$3:$J$72,5,FALSE)) -> 1 | K9: =IF($E9>0,VLOOKUP($F9,'Temps unitaires'!$B$3:$J$72,6,FALSE)*$E9,VLOOKUP($F9,'Temps unitaires'!$B$3:$J$72,6,FALSE)) -> 1 | L9: =IF($E9>0,VLOOKUP($F9,'Temps unitaires'!$B$3:$J$72,7,FALSE)*$E9,VLOOKUP($F9,'Temps unitaires'!$B$3:$J$72,7,FALSE)) -> 1 | M9: =IF($E9>0,VLOOKUP($F9,'Temps unitaires'!$B$3:$J$72,8,FALSE)*$E9,VLOOKUP($F9,'Temps unitaires'!$B$3:$J$72,8,FALSE)) -> 1e-06 | N9: =IF($E9>0,VLOOKUP($F9,'Temps unitaires'!$B$3:$J$72,9,FALSE)*$E9,VLOOKUP($F9,'Temps unitaires'!$B$3:$J$72,9,FALSE)) -> 1 | X9: =SUMPRODUCT(H9:N9,P9:V9)/SUM(H9:N9) -> 0
A10: Centre 2 | B10: CE01-1 | C10: Au1702 | F10: Voyant | G10: =SUM(H10:N10) -> 6.000002 | H10: =IF($E10>0,VLOOKUP($F10,'Temps unitaires'!$B$3:$J$72,3,FALSE)*$E10,VLOOKUP($F10,'Temps unitaires'!$B$3:$J$72,3,FALSE)) -> 2 | I10: =IF($E10>0,VLOOKUP($F10,'Temps unitaires'!$B$3:$J$72,4,FALSE)*$E10,VLOOKUP($F10,'Temps unitaires'!$B$3:$J$72,4,FALSE)) -> 1e-06 | J10: =IF($E10>0,VLOOKUP($F10,'Temps unitaires'!$B$3:$J$72,5,FALSE)*$E10,VLOOKUP($F10,'Temps unitaires'!$B$3:$J$72,5,FALSE)) -> 1 | K10: =IF($E10>0,VLOOKUP($F10,'Temps unitaires'!$B$3:$J$72,6,FALSE)*$E10,VLOOKUP($F10,'Temps unitaires'!$B$3:$J$72,6,FALSE)) -> 1 | L10: =IF($E10>0,VLOOKUP($F10,'Temps unitaires'!$B$3:$J$72,7,FALSE)*$E10,VLOOKUP($F10,'Temps unitaires'!$B$3:$J$72,7,FALSE)) -> 1 | M10: =IF($E10>0,VLOOKUP($F10,'Temps unitaires'!$B$3:$J$72,8,FALSE)*$E10,VLOOKUP($F10,'Temps unitaires'!$B$3:$J$72,8,FALSE)) -> 1e-06 | N10: =IF($E10>0,VLOOKUP($F10,'Temps unitaires'!$B$3:$J$72,9,FALSE)*$E10,VLOOKUP($F10,'Temps unitaires'!$B$3:$J$72,9,FALSE)) -> 1 | X10: =SUMPRODUCT(H10:N10,P10:V10)/SUM(H10:N10) -> 0
A11: Centre 2 | B11: CE01-1 | C11: Tel.Pt1702 | F11: Tél | G11: =SUM(H11:N11) -> 6.000002 | H11: =IF($E11>0,VLOOKUP($F11,'Temps unitaires'!$B$3:$J$72,3,FALSE)*$E11,VLOOKUP($F11,'Temps unitaires'!$B$3:$J$72,3,FALSE)) -> 2 | I11: =IF($E11>0,VLOOKUP($F11,'Temps unitaires'!$B$3:$J$72,4,FALSE)*$E11,VLOOKUP($F11,'Temps unitaires'!$B$3:$J$72,4,FALSE)) -> 1e-06 | J11: =IF($E11>0,VLOOKUP($F11,'Temps unitaires'!$B$3:$J$72,5,FALSE)*$E11,VLOOKUP($F11,'Temps unitaires'!$B$3:$J$72,5,FALSE)) -> 1 | K11: =IF($E11>0,VLOOKUP($F11,'Temps unitaires'!$B$3:$J$72,6,FALSE)*$E11,VLOOKUP($F11,'Temps unitaires'!$B$3:$J$72,6,FALSE)) -> 1 | L11: =IF($E11>0,VLOOKUP($F11,'Temps unitaires'!$B$3:$J$72,7,FALSE)*$E11,VLOOKUP($F11,'Temps unitaires'!$B$3:$J$72,7,FALSE)) -> 1 | M11: =IF($E11>0,VLOOKUP($F11,'Temps unitaires'!$B$3:$J$72,8,FALSE)*$E11,VLOOKUP($F11,'Temps unitaires'!$B$3:$J$72,8,FALSE)) -> 1e-06 | N11: =IF($E11>0,VLOOKUP($F11,'Temps unitaires'!$B$3:$J$72,9,FALSE)*$E11,VLOOKUP($F11,'Temps unitaires'!$B$3:$J$72,9,FALSE)) -> 1 | X11: =SUMPRODUCT(H11:N11,P11:V11)/SUM(H11:N11) -> 0
A12: Centre 2 | B12: CE01-1 | C12: TOTAL | G12: =SUM(G5:G11) -> 41.150031 | H12: =SUM(H5:H11) -> 8.000005 | I12: =SUM(I5:I11) -> 9e-06 | J12: =SUM(J5:J11) -> 5.000004 | K12: =SUM(K5:K11) -> 11.000004 | L12: =SUM(L5:L11) -> 5.000004 | M12: =SUM(M5:M11) -> 4.400005 | N12: =SUM(N5:N11) -> 7.75 | P12: =SUMPRODUCT(H5:H11,P5:P11)/H12 -> 0 | R12: =SUMPRODUCT(J5:J11,R5:R11)/J12 -> 0 | S12: =SUMPRODUCT(K5:K11,S5:S11)/K12 -> 0 | T12: =SUMPRODUCT(L5:L11,T5:T11)/L12 -> 0 | U12: =SUMPRODUCT(M5:M11,U5:U11)/M12 -> 0 | V12: =SUMPRODUCT(N5:N11,V5:V11)/N12 -> 0 | X12: =SUMPRODUCT(H5:N11,P5:V11)/SUM(H12:N12) -> 0
A13: Centre 2 | B13: CE02-1 | C13: U71 CE02-1 | F13: U71 (Pose) | G13: =SUM(H13:N13) -> 7.250003 | H13: =IF($E13>0,VLOOKUP($F13,'Temps unitaires'!$B$3:$J$72,3,FALSE)*$E13,VLOOKUP($F13,'Temps unitaires'!$B$3:$J$72,3,FALSE)) -> 1e-06 | I13: =IF($E13>0,VLOOKUP($F13,'Temps unitaires'!$B$3:$J$72,4,FALSE)*$E13,VLOOKUP($F13,'Temps unitaires'!$B$3:$J$72,4,FALSE)) -> 1e-06 | J13: =IF($E13>0,VLOOKUP($F13,'Temps unitaires'!$B$3:$J$72,5,FALSE)*$E13,VLOOKUP($F13,'Temps unitaires'!$B$3:$J$72,5,FALSE)) -> 1 | K13: =IF($E13>0,VLOOKUP($F13,'Temps unitaires'!$B$3:$J$72,6,FALSE)*$E13,VLOOKUP($F13,'Temps unitaires'!$B$3:$J$72,6,FALSE)) -> 6 | L13: =IF($E13>0,VLOOKUP($F13,'Temps unitaires'!$B$3:$J$72,7,FALSE)*$E13,VLOOKUP($F13,'Temps unitaires'!$B$3:$J$72,7,FALSE)) -> 0 | M13: =IF($E13>0,VLOOKUP($F13,'Temps unitaires'!$B$3:$J$72,8,FALSE)*$E13,VLOOKUP($F13,'Temps unitaires'!$B$3:$J$72,8,FALSE)) -> 1e-06 | N13: =IF($E13>0,VLOOKUP($F13,'Temps unitaires'!$B$3:$J$72,9,FALSE)*$E13,VLOOKUP($F13,'Temps unitaires'!$B$3:$J$72,9,FALSE)) -> 0.25 | X13: =SUMPRODUCT(H13:N13,P13:V13)/SUM(H13:N13) -> 0
A14: Centre 2 | B14: CE02-1 | C14: U71 CE02-1 | E14: 2 | F14: Câbles Princ | G14: =SUM(H14:N14) -> 6.00001 | H14: =IF($E14>0,VLOOKUP($F14,'Temps unitaires'!$B$3:$J$72,3,FALSE)*$E14,VLOOKUP($F14,'Temps unitaires'!$B$3:$J$72,3,FALSE)) -> 2e-06 | I14: =IF($E14>0,VLOOKUP($F14,'Temps unitaires'!$B$3:$J$72,4,FALSE)*$E14,VLOOKUP($F14,'Temps unitaires'!$B$3:$J$72,4,FALSE)) -> 2e-06 | J14: =IF($E14>0,VLOOKUP($F14,'Temps unitaires'!$B$3:$J$72,5,FALSE)*$E14,VLOOKUP($F14,'Temps unitaires'!$B$3:$J$72,5,FALSE)) -> 2e-06 | K14: =IF($E14>0,VLOOKUP($F14,'Temps unitaires'!$B$3:$J$72,6,FALSE)*$E14,VLOOKUP($F14,'Temps unitaires'!$B$3:$J$72,6,FALSE)) -> 2e-06 | L14: =IF($E14>0,VLOOKUP($F14,'Temps unitaires'!$B$3:$J$72,7,FALSE)*$E14,VLOOKUP($F14,'Temps unitaires'!$B$3:$J$72,7,FALSE)) -> 2e-06 | M14: =IF($E14>0,VLOOKUP($F14,'Temps unitaires'!$B$3:$J$72,8,FALSE)*$E14,VLOOKUP($F14,'Temps unitaires'!$B$3:$J$72,8,FALSE)) -> 4 | N14: =IF($E14>0,VLOOKUP($F14,'Temps unitaires'!$B$3:$J$72,9,FALSE)*$E14,VLOOKUP($F14,'Temps unitaires'!$B$3:$J$72,9,FALSE)) -> 2 | X14: =SUMPRODUCT(H14:N14,P14:V14)/SUM(H14:N14) -> 0
A15: Centre 2 | B15: CE02-1 | C15: U71 CE02-1 | D15: Cb CE2-1.10 (boulé) | E15: 10 | F15: Câbles Locaux | G15: =SUM(H15:N15) -> 13.00005 | H15: =IF($E15>0,VLOOKUP($F15,'Temps unitaires'!$B$3:$J$72,3,FALSE)*$E15,VLOOKUP($F15,'Temps unitaires'!$B$3:$J$72,3,FALSE)) -> 1e-05 | I15: =IF($E15>0,VLOOKUP($F15,'Temps unitaires'!$B$3:$J$72,4,FALSE)*$E15,VLOOKUP($F15,'Temps unitaires'!$B$3:$J$72,4,FALSE)) -> 1e-05 | J15: =IF($E15>0,VLOOKUP($F15,'Temps unitaires'!$B$3:$J$72,5,FALSE)*$E15,VLOOKUP($F15,'Temps unitaires'!$B$3:$J$72,5,FALSE)) -> 1e-05 | K15: =IF($E15>0,VLOOKUP($F15,'Temps unitaires'!$B$3:$J$72,6,FALSE)*$E15,VLOOKUP($F15,'Temps unitaires'!$B$3:$J$72,6,FALSE)) -> 1e-05 | L15: =IF($E15>0,VLOOKUP($F15,'Temps unitaires'!$B$3:$J$72,7,FALSE)*$E15,VLOOKUP($F15,'Temps unitaires'!$B$3:$J$72,7,FALSE)) -> 1e-05 | M15: =IF($E15>0,VLOOKUP($F15,'Temps unitaires'!$B$3:$J$72,8,FALSE)*$E15,VLOOKUP($F15,'Temps unitaires'!$B$3:$J$72,8,FALSE)) -> 8 | N15: =IF($E15>0,VLOOKUP($F15,'Temps unitaires'!$B$3:$J$72,9,FALSE)*$E15,VLOOKUP($F15,'Temps unitaires'!$B$3:$J$72,9,FALSE)) -> 5 | X15: =SUMPRODUCT(H15:N15,P15:V15)/SUM(H15:N15) -> 0
A16: Centre 2 | B16: CE02-1 | C16: STM.Signal C1005 | F16: Signal (Neuf) | G16: =SUM(H16:N16) -> 50.000002 | H16: =IF($E16>0,VLOOKUP($F16,'Temps unitaires'!$B$3:$J$72,3,FALSE)*$E16,VLOOKUP($F16,'Temps unitaires'!$B$3:$J$72,3,FALSE)) -> 2 | I16: =IF($E16>0,VLOOKUP($F16,'Temps unitaires'!$B$3:$J$72,4,FALSE)*$E16,VLOOKUP($F16,'Temps unitaires'!$B$3:$J$72,4,FALSE)) -> 1e-06 | J16: =IF($E16>0,VLOOKUP($F16,'Temps unitaires'!$B$3:$J$72,5,FALSE)*$E16,VLOOKUP($F16,'Temps unitaires'!$B$3:$J$72,5,FALSE)) -> 35 | K16: =IF($E16>0,VLOOKUP($F16,'Temps unitaires'!$B$3:$J$72,6,FALSE)*$E16,VLOOKUP($F16,'Temps unitaires'!$B$3:$J$72,6,FALSE)) -> 6 | L16: =IF($E16>0,VLOOKUP($F16,'Temps unitaires'!$B$3:$J$72,7,FALSE)*$E16,VLOOKUP($F16,'Temps unitaires'!$B$3:$J$72,7,FALSE)) -> 3 | M16: =IF($E16>0,VLOOKUP($F16,'Temps unitaires'!$B$3:$J$72,8,FALSE)*$E16,VLOOKUP($F16,'Temps unitaires'!$B$3:$J$72,8,FALSE)) -> 1e-06 | N16: =IF($E16>0,VLOOKUP($F16,'Temps unitaires'!$B$3:$J$72,9,FALSE)*$E16,VLOOKUP($F16,'Temps unitaires'!$B$3:$J$72,9,FALSE)) -> 4 | X16: =SUMPRODUCT(H16:N16,P16:V16)/SUM(H16:N16) -> 0
A17: Centre 2 | B17: CE02-1 | C17: Signal G1005 (caisson G) | F17: Caisson (sur Mat) | G17: =SUM(H17:N17) -> 14.000002 | H17: =IF($E17>0,VLOOKUP($F17,'Temps unitaires'!$B$3:$J$72,3,FALSE)*$E17,VLOOKUP($F17,'Temps unitaires'!$B$3:$J$72,3,FALSE)) -> 2 | I17: =IF($E17>0,VLOOKUP($F17,'Temps unitaires'!$B$3:$J$72,4,FALSE)*$E17,VLOOKUP($F17,'Temps unitaires'!$B$3:$J$72,4,FALSE)) -> 1e-06 | J17: =IF($E17>0,VLOOKUP($F17,'Temps unitaires'!$B$3:$J$72,5,FALSE)*$E17,VLOOKUP($F17,'Temps unitaires'!$B$3:$J$72,5,FALSE)) -> 1 | K17: =IF($E17>0,VLOOKUP($F17,'Temps unitaires'!$B$3:$J$72,6,FALSE)*$E17,VLOOKUP($F17,'Temps unitaires'!$B$3:$J$72,6,FALSE)) -> 8 | L17: =IF($E17>0,VLOOKUP($F17,'Temps unitaires'!$B$3:$J$72,7,FALSE)*$E17,VLOOKUP($F17,'Temps unitaires'!$B$3:$J$72,7,FALSE)) -> 2 | M17: =IF($E17>0,VLOOKUP($F17,'Temps unitaires'!$B$3:$J$72,8,FALSE)*$E17,VLOOKUP($F17,'Temps unitaires'!$B$3:$J$72,8,FALSE)) -> 1e-06 | N17: =IF($E17>0,VLOOKUP($F17,'Temps unitaires'!$B$3:$J$72,9,FALSE)*$E17,VLOOKUP($F17,'Temps unitaires'!$B$3:$J$72,9,FALSE)) -> 1 | X17: =SUMPRODUCT(H17:N17,P17:V17)/SUM(H17:N17) -> 0
A18: Centre 2 | B18: CE02-1 | C18: SVM.Pd1005 | F18: Pd méca | G18: =SUM(H18:N18) -> 9.000002 | H18: =IF($E18>0,VLOOKUP($F18,'Temps unitaires'!$B$3:$J$72,3,FALSE)*$E18,VLOOKUP($F18,'Temps unitaires'!$B$3:$J$72,3,FALSE)) -> 2 | I18: =IF($E18>0,VLOOKUP($F18,'Temps unitaires'!$B$3:$J$72,4,FALSE)*$E18,VLOOKUP($F18,'Temps unitaires'!$B$3:$J$72,4,FALSE)) -> 1e-06 | J18: =IF($E18>0,VLOOKUP($F18,'Temps unitaires'!$B$3:$J$72,5,FALSE)*$E18,VLOOKUP($F18,'Temps unitaires'!$B$3:$J$72,5,FALSE)) -> 1 | K18: =IF($E18>0,VLOOKUP($F18,'Temps unitaires'!$B$3:$J$72,6,FALSE)*$E18,VLOOKUP($F18,'Temps unitaires'!$B$3:$J$72,6,FALSE)) -> 2 | L18: =IF($E18>0,VLOOKUP($F18,'Temps unitaires'!$B$3:$J$72,7,FALSE)*$E18,VLOOKUP($F18,'Temps unitaires'!$B$3:$J$72,7,FALSE)) -> 2 | M18: =IF($E18>0,VLOOKUP($F18,'Temps unitaires'!$B$3:$J$72,8,FALSE)*$E18,VLOOKUP($F18,'Temps unitaires'!$B$3:$J$72,8,FALSE)) -> 1e-06 | N18: =IF($E18>0,VLOOKUP($F18,'Temps unitaires'!$B$3:$J$72,9,FALSE)*$E18,VLOOKUP($F18,'Temps unitaires'!$B$3:$J$72,9,FALSE)) -> 2 | X18: =SUMPRODUCT(H18:N18,P18:V18)/SUM(H18:N18) -> 0
A19: Centre 2 | B19: CE02-1 | C19: Tel.C1005 | F19: Tél | G19: =SUM(H19:N19) -> 6.000002 | H19: =IF($E19>0,VLOOKUP($F19,'Temps unitaires'!$B$3:$J$72,3,FALSE)*$E19,VLOOKUP($F19,'Temps unitaires'!$B$3:$J$72,3,FALSE)) -> 2 | I19: =IF($E19>0,VLOOKUP($F19,'Temps unitaires'!$B$3:$J$72,4,FALSE)*$E19,VLOOKUP($F19,'Temps unitaires'!$B$3:$J$72,4,FALSE)) -> 1e-06 | J19: =IF($E19>0,VLOOKUP($F19,'Temps unitaires'!$B$3:$J$72,5,FALSE)*$E19,VLOOKUP($F19,'Temps unitaires'!$B$3:$J$72,5,FALSE)) -> 1 | K19: =IF($E19>0,VLOOKUP($F19,'Temps unitaires'!$B$3:$J$72,6,FALSE)*$E19,VLOOKUP($F19,'Temps unitaires'!$B$3:$J$72,6,FALSE)) -> 1 | L19: =IF($E19>0,VLOOKUP($F19,'Temps unitaires'!$B$3:$J$72,7,FALSE)*$E19,VLOOKUP($F19,'Temps unitaires'!$B$3:$J$72,7,FALSE)) -> 1 | M19: =IF($E19>0,VLOOKUP($F19,'Temps unitaires'!$B$3:$J$72,8,FALSE)*$E19,VLOOKUP($F19,'Temps unitaires'!$B$3:$J$72,8,FALSE)) -> 1e-06 | N19: =IF($E19>0,VLOOKUP($F19,'Temps unitaires'!$B$3:$J$72,9,FALSE)*$E19,VLOOKUP($F19,'Temps unitaires'!$B$3:$J$72,9,FALSE)) -> 1 | X19: =SUMPRODUCT(H19:N19,P19:V19)/SUM(H19:N19) -> 0
A20: Centre 2 | B20: CE02-1 | C20: CI.REZ1004.REZ1008 | F20: CdV CI 25000V | G20: =SUM(H20:N20) -> 17.000002 | H20: =IF($E20>0,VLOOKUP($F20,'Temps unitaires'!$B$3:$J$72,3,FALSE)*$E20,VLOOKUP($F20,'Temps unitaires'!$B$3:$J$72,3,FALSE)) -> 2 | I20: =IF($E20>0,VLOOKUP($F20,'Temps unitaires'!$B$3:$J$72,4,FALSE)*$E20,VLOOKUP($F20,'Temps unitaires'!$B$3:$J$72,4,FALSE)) -> 1e-06 | J20: =IF($E20>0,VLOOKUP($F20,'Temps unitaires'!$B$3:$J$72,5,FALSE)*$E20,VLOOKUP($F20,'Temps unitaires'!$B$3:$J$72,5,FALSE)) -> 2 | K20: =IF($E20>0,VLOOKUP($F20,'Temps unitaires'!$B$3:$J$72,6,FALSE)*$E20,VLOOKUP($F20,'Temps unitaires'!$B$3:$J$72,6,FALSE)) -> 9 | L20: =IF($E20>0,VLOOKUP($F20,'Temps unitaires'!$B$3:$J$72,7,FALSE)*$E20,VLOOKUP($F20,'Temps unitaires'!$B$3:$J$72,7,FALSE)) -> 2 | M20: =IF($E20>0,VLOOKUP($F20,'Temps unitaires'!$B$3:$J$72,8,FALSE)*$E20,VLOOKUP($F20,'Temps unitaires'!$B$3:$J$72,8,FALSE)) -> 1e-06 | N20: =IF($E20>0,VLOOKUP($F20,'Temps unitaires'!$B$3:$J$72,9,FALSE)*$E20,VLOOKUP($F20,'Temps unitaires'!$B$3:$J$72,9,FALSE)) -> 2 | X20: =SUMPRODUCT(H20:N20,P20:V20)/SUM(H20:N20) -> 0
A21: Centre 2 | B21: CE02-1 | C21: ATR1010 (Près du C1005) | F21: Atr | G21: =SUM(H21:N21) -> 6.000002 | H21: =IF($E21>0,VLOOKUP($F21,'Temps unitaires'!$B$3:$J$72,3,FALSE)*$E21,VLOOKUP($F21,'Temps unitaires'!$B$3:$J$72,3,FALSE)) -> 2 | I21: =IF($E21>0,VLOOKUP($F21,'Temps unitaires'!$B$3:$J$72,4,FALSE)*$E21,VLOOKUP($F21,'Temps unitaires'!$B$3:$J$72,4,FALSE)) -> 1e-06 | J21: =IF($E21>0,VLOOKUP($F21,'Temps unitaires'!$B$3:$J$72,5,FALSE)*$E21,VLOOKUP($F21,'Temps unitaires'!$B$3:$J$72,5,FALSE)) -> 1 | K21: =IF($E21>0,VLOOKUP($F21,'Temps unitaires'!$B$3:$J$72,6,FALSE)*$E21,VLOOKUP($F21,'Temps unitaires'!$B$3:$J$72,6,FALSE)) -> 1 | L21: =IF($E21>0,VLOOKUP($F21,'Temps unitaires'!$B$3:$J$72,7,FALSE)*$E21,VLOOKUP($F21,'Temps unitaires'!$B$3:$J$72,7,FALSE)) -> 1 | M21: =IF($E21>0,VLOOKUP($F21,'Temps unitaires'!$B$3:$J$72,8,FALSE)*$E21,VLOOKUP($F21,'Temps unitaires'!$B$3:$J$72,8,FALSE)) -> 1e-06 | N21: =IF($E21>0,VLOOKUP($F21,'Temps unitaires'!$B$3:$J$72,9,FALSE)*$E21,VLOOKUP($F21,'Temps unitaires'!$B$3:$J$72,9,FALSE)) -> 1 | X21: =SUMPRODUCT(H21:N21,P21:V21)/SUM(H21:N21) -> 0
A22: Centre 2 | B22: CE02-1 | C22: ATR1010 (près du C1005) | F22: Atr | G22: =SUM(H22:N22) -> 6.000002 | H22: =IF($E22>0,VLOOKUP($F22,'Temps unitaires'!$B$3:$J$72,3,FALSE)*$E22,VLOOKUP($F22,'Temps unitaires'!$B$3:$J$72,3,FALSE)) -> 2 | I22: =IF($E22>0,VLOOKUP($F22,'Temps unitaires'!$B$3:$J$72,4,FALSE)*$E22,VLOOKUP($F22,'Temps unitaires'!$B$3:$J$72,4,FALSE)) -> 1e-06 | J22: =IF($E22>0,VLOOKUP($F22,'Temps unitaires'!$B$3:$J$72,5,FALSE)*$E22,VLOOKUP($F22,'Temps unitaires'!$B$3:$J$72,5,FALSE)) -> 1 | K22: =IF($E22>0,VLOOKUP($F22,'Temps unitaires'!$B$3:$J$72,6,FALSE)*$E22,VLOOKUP($F22,'Temps unitaires'!$B$3:$J$72,6,FALSE)) -> 1 | L22: =IF($E22>0,VLOOKUP($F22,'Temps unitaires'!$B$3:$J$72,7,FALSE)*$E22,VLOOKUP($F22,'Temps unitaires'!$B$3:$J$72,7,FALSE)) -> 1 | M22: =IF($E22>0,VLOOKUP($F22,'Temps unitaires'!$B$3:$J$72,8,FALSE)*$E22,VLOOKUP($F22,'Temps unitaires'!$B$3:$J$72,8,FALSE)) -> 1e-06 | N22: =IF($E22>0,VLOOKUP($F22,'Temps unitaires'!$B$3:$J$72,9,FALSE)*$E22,VLOOKUP($F22,'Temps unitaires'!$B$3:$J$72,9,FALSE)) -> 1 | X22: =SUMPRODUCT(H22:N22,P22:V22)/SUM(H22:N22) -> 0
A23: Centre 2 | B23: CE02-1 | C23: SVM.Pd+A.Cro1005 | F23: Pd.Déto+A.Cro | G23: =SUM(H23:N23) -> 27.000002 | H23: =IF($E23>0,VLOOKUP($F23,'Temps unitaires'!$B$3:$J$72,3,FALSE)*$E23,VLOOKUP($F23,'Temps unitaires'!$B$3:$J$72,3,FALSE)) -> 3 | I23: =IF($E23>0,VLOOKUP($F23,'Temps unitaires'!$B$3:$J$72,4,FALSE)*$E23,VLOOKUP($F23,'Temps unitaires'!$B$3:$J$72,4,FALSE)) -> 1e-06 | J23: =IF($E23>0,VLOOKUP($F23,'Temps unitaires'!$B$3:$J$72,5,FALSE)*$E23,VLOOKUP($F23,'Temps unitaires'!$B$3:$J$72,5,FALSE)) -> 3 | K23: =IF($E23>0,VLOOKUP($F23,'Temps unitaires'!$B$3:$J$72,6,FALSE)*$E23,VLOOKUP($F23,'Temps unitaires'!$B$3:$J$72,6,FALSE)) -> 12 | L23: =IF($E23>0,VLOOKUP($F23,'Temps unitaires'!$B$3:$J$72,7,FALSE)*$E23,VLOOKUP($F23,'Temps unitaires'!$B$3:$J$72,7,FALSE)) -> 6 | M23: =IF($E23>0,VLOOKUP($F23,'Temps unitaires'!$B$3:$J$72,8,FALSE)*$E23,VLOOKUP($F23,'Temps unitaires'!$B$3:$J$72,8,FALSE)) -> 1e-06 | N23: =IF($E23>0,VLOOKUP($F23,'Temps unitaires'!$B$3:$J$72,9,FALSE)*$E23,VLOOKUP($F23,'Temps unitaires'!$B$3:$J$72,9,FALSE)) -> 3 | X23: =SUMPRODUCT(H23:N23,P23:V23)/SUM(H23:N23) -> 0
A24: Centre 2 | B24: CE02-1 | C24: SVM.Feu rouge V2C | D24: Cb CE2-1.10 (boulé) | F24: Heurtoir | G24: =SUM(H24:N24) -> 9.000002 | H24: =IF($E24>0,VLOOKUP($F24,'Temps unitaires'!$B$3:$J$72,3,FALSE)*$E24,VLOOKUP($F24,'Temps unitaires'!$B$3:$J$72,3,FALSE)) -> 2 | I24: =IF($E24>0,VLOOKUP($F24,'Temps unitaires'!$B$3:$J$72,4,FALSE)*$E24,VLOOKUP($F24,'Temps unitaires'!$B$3:$J$72,4,FALSE)) -> 1e-06 | J24: =IF($E24>0,VLOOKUP($F24,'Temps unitaires'!$B$3:$J$72,5,FALSE)*$E24,VLOOKUP($F24,'Temps unitaires'!$B$3:$J$72,5,FALSE)) -> 1 | K24: =IF($E24>0,VLOOKUP($F24,'Temps unitaires'!$B$3:$J$72,6,FALSE)*$E24,VLOOKUP($F24,'Temps unitaires'!$B$3:$J$72,6,FALSE)) -> 3 | L24: =IF($E24>0,VLOOKUP($F24,'Temps unitaires'!$B$3:$J$72,7,FALSE)*$E24,VLOOKUP($F24,'Temps unitaires'!$B$3:$J$72,7,FALSE)) -> 2 | M24: =IF($E24>0,VLOOKUP($F24,'Temps unitaires'!$B$3:$J$72,8,FALSE)*$E24,VLOOKUP($F24,'Temps unitaires'!$B$3:$J$72,8,FALSE)) -> 1e-06 | N24: =IF($E24>0,VLOOKUP($F24,'Temps unitaires'!$B$3:$J$72,9,FALSE)*$E24,VLOOKUP($F24,'Temps unitaires'!$B$3:$J$72,9,FALSE)) -> 1 | X24: =SUMPRODUCT(H24:N24,P24:V24)/SUM(H24:N24) -> 0
A25: Centre 2 | B25: CE02-1 | C25: TOTAL | G25: =SUM(G13:G24) -> 170.25008 | H25: =SUM(H13:H24) -> 19.000013 | I25: =SUM(I13:I23) -> 2.1e-05 | J25: =SUM(J13:J24) -> 47.000012 | K25: =SUM(K13:K24) -> 49.000012 | L25: =SUM(L13:L24) -> 20.000012 | M25: =SUM(M13:M24) -> 12.00001 | N25: =SUM(N13:N24) -> 23.25 | P25: =SUMPRODUCT(H13:H24,P13:P24)/H25 -> 0 | R25: =SUMPRODUCT(J13:J24,R13:R24)/J25 -> 0 | S25: =SUMPRODUCT(K13:K24,S13:S24)/K25 -> 0 | T25: =SUMPRODUCT(L13:L24,T13:T24)/L25 -> 0 | U25: =SUMPRODUCT(M13:M24,U13:U24)/M25 -> 0 | V25: =SUMPRODUCT(N13:N24,V13:V24)/N25 -> 0 | X25: =SUMPRODUCT(H13:N24,P13:V24)/SUM(H25:N25) -> 0

Sheet Chantier Global
E9: =TODAY() -> 43853
A11: Identification de l'IS | E11: Avancement % par centres et par taches
A12: Postes | B12: Centres | C12: SOUS- TOTAL | D12: Temps de production par centre | E12: Déroulage câble | F12: Equipement poste (Neuf ou modif) | G12: Prépa Parc | H12: Pose à la voie | I12: Racco voie | J12: Racco Centre | K12: Contrôle | L12: COMMENTAIRES | M12: % AV
A13: CENTRE 1 | B13: CE01-1(U71) | C13: SOUS-TOTAL | D13: ='Centre 1'!G12 -> 41.150031 | E13: ='Centre 1'!P12 -> 0 | G13: ='Centre 1'!R12 -> 0 | H13: ='Centre 1'!S12 -> 0 | I13: ='Centre 1'!T12 -> 0 | J13: ='Centre 1'!U12 -> 0 | K13: ='Centre 1'!V12 -> 0 | M13: ='Centre 1'!X12 -> 0
A14: CENTRE 1 | B14: CE02-1(U71) | C14: SOUS-TOTAL | D14: ='Centre 1'!G25 -> 170.25008 | E14: ='Centre 1'!P25 -> 0 | G14: ='Centre 1'!R25 -> 0 | H14: ='Centre 1'!S25 -> 0 | I14: ='Centre 1'!T25 -> 0 | J14: ='Centre 1'!U25 -> 0 | K14: ='Centre 1'!V25 -> 0 | M14: ='Centre 1'!X25 -> 0
A15: CENTRE 1 | B15: CE03-1(U71) | C15: SOUS-TOTAL | D15: ='Centre 1'!G40 -> 203.05013 | E15: ='Centre 1'!P40 -> 0 | G15: ='Centre 1'!R40 -> 0 | H15: ='Centre 1'!S40 -> 0 | I15: ='Centre 1'!T40 -> 0 | J15: ='Centre 1'!U40 -> 0 | K15: ='Centre 1'!V40 -> 0 | M15: ='Centre 1'!X40 -> 0
A16: CENTRE 1 | B16: CE04-1(U71) | C16: SOUS-TOTAL | D16: ='Centre 1'!G55 -> 192.85009 | E16: ='Centre 1'!P55 -> 0 | G16: ='Centre 1'!R55 -> 0 | H16: ='Centre 1'!S55 -> 0 | I16: ='Centre 1'!T55 -> 0 | J16: ='Centre 1'!U55 -> 0 | K16: ='Centre 1'!V55 -> 0 | M16: ='Centre 1'!X55 -> 0
A17: CENTRE 1 | B17: CE05-1(STM) | C17: SOUS-TOTAL | D17: ='Centre 1'!G65 -> 107.90006 | E17: ='Centre 1'!P65 -> 0 | G17: ='Centre 1'!R65 -> 0 | H17: ='Centre 1'!S65 -> 0 | I17: ='Centre 1'!T65 -> 0 | J17: ='Centre 1'!U65 -> 0 | K17: ='Centre 1'!V65 -> 0 | M17: ='Centre 1'!X65 -> 0
A18: CENTRE 1 | B18: CE06-1(U71) | C18: SOUS-TOTAL | D18: ='Centre 1'!G86 -> 302.05016 | E18: ='Centre 1'!P86 -> 0 | G18: ='Centre 1'!R86 -> 0 | H18: ='Centre 1'!S86 -> 0 | I18: ='Centre 1'!T86 -> 0 | J18: ='Centre 1'!U86 -> 0 | K18: ='Centre 1'!V86 -> 0 | M18: ='Centre 1'!X86 -> 0
A19: CENTRE 1 | B19: CE07-1(STM) | C19: SOUS-TOTAL | D19: ='Centre 1'!G97 -> 138.20007 | E19: ='Centre 1'!P97 -> 0 | G19: ='Centre 1'!R97 -> 0 | H19: ='Centre 1'!S97 -> 0 | I19: ='Centre 1'!T97 -> 0 | J19: ='Centre 1'!U97 -> 0 | K19: ='Centre 1'!V97 -> 0 | M19: ='Centre 1'!X97 -> 0
A20: CENTRE 1 | B20: CE08-1(U71) | C20: SOUS-TOTAL | D20: ='Centre 1'!G125 -> 416.3502 | E20: ='Centre 1'!P125 -> 0 | G20: ='Centre 1'!R125 -> 0 | H20: ='Centre 1'!S125 -> 0 | I20: ='Centre 1'!T125 -> 0 | J20: ='Centre 1'!U125 -> 0 | K20: ='Centre 1'!V125 -> 0 | M20: ='Centre 1'!X125 -> 0
A21: CENTRE 1 | B21: CE09-1(STM) | C21: SOUS-TOTAL | D21: ='Centre 1'!G140 -> 165.10009 | E21: ='Centre 1'!P140 -> 0 | G21: ='Centre 1'!R140 -> 0 | H21: ='Centre 1'!S140 -> 0 | I21: ='Centre 1'!T140 -> 0 | J21: ='Centre 1'!U140 -> 0 | K21: ='Centre 1'!V140 -> 0 | M21: ='Centre 1'!X140 -> 0
A22: CENTRE 1 | B22: CE010-1(STM) | C22: SOUS-TOTAL | D22: ='Centre 1'!G151 -> 131.30007 | E22: ='Centre 1'!P151 -> 0 | G22: ='Centre 1'!R151 -> 0 | H22: ='Centre 1'!S151 -> 0 | I22: ='Centre 1'!T151 -> 0 | J22: ='Centre 1'!U151 -> 0 | K22: ='Centre 1'!V151 -> 0 | M22: ='Centre 1'!X151 -> 0
A23: CENTRE 1 | B23: Centre A-1 (Shelter 1) | C23: SOUS-TOTAL | D23: ='Centre 1'!G212 -> 581.45068 | E23: ='Centre 1'!P212 -> 0 | F23: ='Centre 1'!Q212 -> 0 | G23: ='Centre 1'!R212 -> 0 | H23: ='Centre 1'!S212 -> 0 | I23: ='Centre 1'!T212 -> 0 | J23: ='Centre 1'!U212 -> 0 | K23: ='Centre 1'!V212 -> 0 | M23: ='Centre 1'!X212 -> 0
A24: CENTRE 1 | B24: Centre B-1 (Shelter 1) | C24: SOUS-TOTAL | D24: ='Centre 1'!G246 -> 493.70073 | E24: ='Centre 1'!P246 -> 0 | F24: ='Centre 1'!Q246 -> 0 | G24: ='Centre 1'!R246 -> 0 | H24: ='Centre 1'!S246 -> 0 | I24: ='Centre 1'!T246 -> 0 | J24: ='Centre 1'!U246 -> 0 | K24: ='Centre 1'!V246 -> 0 | M24: ='Centre 1'!X246 -> 0
A25: CENTRE 1 | B25: CRCH01-1 (SARA8) | C25: SOUS-TOTAL | D25: ='Centre 1'!G162 -> 142.50007 | G25: ='Centre 1'!R162 -> 0 | H25: ='Centre 1'!S162 -> 0 | I25: ='Centre 1'!T162 -> 0 | J25: ='Centre 1'!U162 -> 0 | K25: ='Centre 1'!V162 -> 0 | M25: ='Centre 1'!X162 -> 0
A26: CENTRE 1 | B26: CRCH02-1 (SARA4) | C26: SOUS-TOTAL | D26: ='Centre 1'!G167 -> 44.700027 | G26: ='Centre 1'!R167 -> 0 | H26: ='Centre 1'!S167 -> 0 | I26: ='Centre 1'!T167 -> 0 | J26: ='Centre 1'!U167 -> 0 | K26: ='Centre 1'!V167 -> 0 | M26: ='Centre 1'!X167 -> 0
A27: CENTRE 1 | B27: Centre 1 (poste) | C27: SOUS-TOTAL | D27: ='Centre 1'!G332 -> 1389.2633 | E27: ='Centre 1'!P332 -> 0.89999858 | F27: ='Centre 1'!Q332 -> 0.99999654 | G27: ='Centre 1'!R332 -> 0.88562469 | J27: ='Centre 1'!U332 -> 0.3769625 | K27: ='Centre 1'!V332 -> 0 | M27: ='Centre 1'!X332 -> 0.6257345
A28: CENTRE 1 | B28: Pancartes | C28: SOUS-TOTAL | D28: ='Centre 1'!G275 -> 190.00015 | G28: ='Centre 1'!R275 -> 0 | H28: ='Centre 1'!S275 -> 0 | K28: ='Centre 1'!V275 -> 0 | M28: ='Centre 1'!X275 -> 0
A29: CENTRE 1 | B29: Balise (fixe) | C29: SOUS-TOTAL | D29: ='Centre 1'!G295 -> 133.00006 | G29: ='Centre 1'!R156 -> 0 | H29: ='Centre 1'!S156 -> 0 | I29: ='Centre 1'!T156 -> 0 | K29: ='Centre 1'!V156 -> 0 | M29: ='Centre 1'!X295 -> 0
A30: ='Centre 2'!A12 -> Centre 2 | B30: ='Centre 2'!B12 -> CE01-1 | C30: SOUS-TOTAL | D30: ='Centre 2'!G12 -> 41.150031 | E30: ='Centre 2'!P12 -> 0 | F30: ='Centre 2'!Q12 -> 0 | G30: ='Centre 2'!R12 -> 0 | H30: ='Centre 2'!S12 -> 0 | I30: ='Centre 2'!T12 -> 0 | J30: ='Centre 2'!U12 -> 0 | K30: ='Centre 2'!V12 -> 0 | M30: =SUMPRODUCT('Centre 2'!H5:N11,P5:V11)/SUM('Centre 2'!H12:N12) -> 0
A31: ='Centre 2'!A25 -> Centre 2 | B31: ='Centre 2'!B25 -> CE02-1 | C31: SOUS-TOTAL | D31: ='Centre 2'!G25 -> 170.25008 | E31: ='Centre 2'!P25 -> 0 | F31: ='Centre 2'!Q25 -> 0 | G31: ='Centre 2'!R25 -> 0 | H31: ='Centre 2'!S25 -> 0 | I31: ='Centre 2'!T25 -> 0 | J31: ='Centre 2'!U25 -> 0 | K31: ='Centre 2'!V25 -> 0 | M31: =SUMPRODUCT('Centre 2'!H13:N24,P13:V24)/SUM('Centre 2'!H25:N25) -> 0
A32: TOTAL GENERAL | D32: =SUM(D13:D31) -> 5054.2162 | E32: =SUM(E13:E31)/13 -> 0.06923066 | F32: =SUM(F13:F31)/13 -> 0.076922811 | G32: =SUM(G13:G31)/13 -> 0.068124976 | H32: =SUM(H13:H31)/13 -> 0 | I32: =SUM(I13:I31)/13 -> 0 | J32: =SUM(J13:J31)/13 -> 0.028997115 | K32: =SUM(K13:K31)/13 -> 0 | M32: =SUM(M13:M29)/17 -> 0.036807912
H43: ²
