Workbook
Name Famille_IS: 'Temps unitaires'!$B$3:$B$72
Name Temps_unit: 'Temps unitaires'!$B$3:$J$72

Sheet Temps unitaires
B1: Récapitulatif temps unitaires Installations
D2: Déroulage câble | E2: Equipement Poste (Neuf ou Modif) | F2: Prépa Parc (sur site) | G2: Pose à la voie | H2: Racco voie | I2: Racco Centre ou modif | J2: Contrôle
A3: CAMPAGNE | B3: U71 (Pose) | D3: 1e-06 | E3: 1e-06 | F3: 1 | G3: 6 | H3: 0 | I3: 1e-06 | J3: 0.25 | L3: 0.1 | M3: =SUM(L3/0.016) -> 6.25
B4: U71 (modif S2) | D4: 1e-06 | E4: 1e-06 | F4: 0.1 | G4: 1e-06 | H4: 0 | I4: 0.1 | J4: 0.035 | L4: 0.2 | M4: =SUM(L4/0.016) -> 12.5
B5: GUERITE (Pose) | D5: 1e-06 | E5: 1e-06 | F5: 1 | G5: 8 | H5: 0 | I5: 1e-06 | J5: 0.5 | L5: 0.3 | M5: =SUM(L5/0.016) -> 18.75
B6: Abri Accu (Pose) | D6: 2 | E6: 1e-06 | F6: 1 | G6: 3 | H6: 0 | I6: 1e-06 | J6: 0.3 | L6: 0.4 | M6: =SUM(L6/0.016) -> 25
B7: Guérite (modif NS1) | D7: 1e-06 | E7: 1e-06 | F7: 0.1 | G7: 1e-06 | H7: 0 | I7: 0.075 | J7: 0.025 | L7: 0.5 | M7: =SUM(L7/0.016) -> 31.25
B8: Guérite (modif S2) | D8: 1e-06 | E8: 1e-06 | F8: 0.1 | G8: 1e-06 | H8: 0 | I8: 0.25 | J8: 0.05 | L8: 0.6 | M8: =SUM(L8/0.016) -> 37.5
B9: Poste (modif NS1) | D9: 1e-06 | E9: 1e-06 | F9: 0.1 | G9: 1e-06 | H9: 0 | I9: 0.075 | J9: 0.025 | L9: 0.7 | M9: =SUM(L9/0.016) -> 43.75
B10: Poste (modif V,X) | D10: 1e-06 | E10: 1e-06 | F10: 0.1 | G10: 1e-06 | H10: 0 | I10: 0.055 | J10: 0.025 | L10: 0.8 | M10: =SUM(L10/0.016) -> 50
B11: Poste (modif S2) | D11: 1e-06 | E11: 1e-06 | F11: 0.1 | G11: 1e-06 | H11: 0 | I11: 0.25 | J11: 0.05 | L11: 0.9 | M11: =SUM(L11/0.016) -> 56.25
B12: Poste (Pose de macarons DP) | D12: 1e-06 | E12: 1e-06 | F12: 0.03 | G12: 1e-06 | H12: 0 | I12: 0.008 | J12: 0.003 | L12: 1 | M12: =SUM(L12/0.016) -> 62.5
B13: Poste (DP/P étiquette GEO) | D13: 1e-06 | E13: 1e-06 | F13: 0.03 | G13: 1e-06 | H13: 0 | I13: 0.05 | J13: 0.025
B14: PN(Moteur,Feu,BCRG) SAL2 | D14: 48 | E14: 1e-06 | F14: 16 | G14: 48 | H14: 28 | I14: 1e-06 | J14: 16
B15: STM GM/MM centre (Pose) | D15: 1e-06 | E15: 1e-06 | F15: 0.5 | G15: 3 | H15: 1e-06 | I15: 1e-06 | J15: 0.3
B16: STM GM/MM centre (modif) | D16: 1e-06 | E16: 1e-06 | F16: 0.1 | G16: 1e-06 | H16: 1e-06 | I16: 0.1 | J16: 0.035
B17: STM CRO | D17: 1e-06 | E17: 1e-06 | F17: 0.5 | G17: 3 | H17: 1e-06 | I17: 1e-06 | J17: 0.3
B18: AIGUILLE (Cmde déjà posée) | D18: 2 | E18: 1e-06 | F18: 1 | G18: 1 | H18: 3 | I18: 1e-06 | J18: 0.5
B19: AIGUILLE (avec RP) | D19: 2 | E19: 1e-06 | F19: 1 | G19: 16 | H19: 4 | I19: 1e-06 | J19: 4
B20: RCH VCC | D20: 2 | E20: 1e-06 | F20: 1 | G20: 6 | H20: 4 | I20: 1e-06 | J20: 2
B21: RCH Ag | D21: 0 | E21: 1e-06 | F21: 1 | G21: 8 | H21: 4 | I21: 1e-06 | J21: 2
B22: Pd.Déto+A.Cro | D22: 3 | E22: 1e-06 | F22: 3 | G22: 12 | H22: 6 | I22: 1e-06 | J22: 3
B23: Cro + Pd méca | D23: 2 | E23: 1e-06 | F23: 2 | G23: 10 | H23: 5 | I23: 1e-06 | J23: 2
B24: CRO | D24: 2 | E24: 1e-06 | F24: 1 | G24: 6 | H24: 2 | I24: 1e-06 | J24: 1
... B58: Câbles Locaux | D58: 1e-06 | E58: 1e-06 | F58: 1e-06 | G58: 1e-06 | H58: 1e-06 | I58: 0.8 | J58: 0.5
A59: POSTE | B59: Cablofil, goulotte ( au M) | D59: 1e-06 | E59: 1 | F59: 0.25 | G59: 1e-06 | H59: 1e-06 | I59: 1e-06 | J59: 0.1
B60: Chaises | D60: 1e-06 | E60: 3 | F60: 0.25 | G60: 1e-06 | H60: 1e-06 | I60: 1e-06 | J60: 0.01
B61: Dér Int Poste | D61: 2 | E61: 1e-06 | F61: 0.25 | G61: 1e-06 | H61: 1e-06 | I61: 1e-06 | J61: 0.01
B62: Mise en place Chassis NS1 | D62: 1e-06 | E62: 1 | F62: 0.25 | G62: 1e-06 | H62: 1e-06 | I62: 1e-06 | J62: 0.01
B63: Mise en place Chassis V | D63: 1e-06 | E63: 1 | F63: 0.25 | G63: 1e-06 | H63: 1e-06 | I63: 1e-06 | J63: 0.01
B64: Mise en place Chassis X | D64: 1e-06 | E64: 1 | F64: 0.25 | G64: 1e-06 | H64: 1e-06 | I64: 1e-06 | J64: 0.01
B65: Armoires alim.ARAG.ARAL.. | D65: 1e-06 | E65: 1 | F65: 0.25 | G65: 1e-06 | H65: 1e-06 | I65: 1e-06 | J65: 0.01
B66: CO24p | D66: 1e-06 | E66: 1e-06 | F66: 0.25 | G66: 1e-06 | H66: 1e-06 | I66: 1 | J66: 0.2
B67: CO60p | D67: 1e-06 | E67: 1e-06 | F67: 0.25 | G67: 1e-06 | H67: 1e-06 | I67: 3.5 | J67: 0.4
B68: CO SBI | D68: 1e-06 | E68: 1e-06 | F68: 0.1 | G68: 1e-06 | H68: 1e-06 | I68: 0.3 | J68: 0.1
B69: Racco ZUG | D69: 1e-06 | E69: 1e-06 | F69: 0.25 | G69: 1e-06 | H69: 1e-06 | I69: 0.7 | J69: 0.1
B70: Racco Alim | D70: 1e-06 | E70: 1e-06 | F70: 0.25 | G70: 1e-06 | H70: 1e-06 | I70: 0.4 | J70: 0.1
D74: 0.1 | E74: =SUM(D74/0.016) -> 6.25
D75: 0.2 | E75: =SUM(D75/0.016) -> 12.5
D76: 0.3 | E76: =SUM(D76/0.016) -> 18.75
...

Sheet Centre 1
F1: =TODAY() -> 43853
A3: Identification de l'IS | G3: Temps Production - Temps élémentaires | P3: Avancement | Z3: PREPA SUR PARC | AJ3: INSTALLATION EN VOIE ou POSTE | AN3: RACCORDEMENT
A4: Postes | B4: Centres | C4: Travaux | D4: Commentaires : particularité de l'IS | E4: Nbre éléments pour poste | F4: Type IS | G4: TOTAL | H4: Déroulage câble | I4: Equipement poste (Neuf ou Modif) | J4: Prépa Parc | K4: Pose à la voie | L4: Racco voie | M4: Racco Centre | N4: Contrôle | P4: Déroulage câble | Q4: Equipement poste (Neuf ou modif) | R4: Prépa Parc | S4: Pose à la voie | T4: Racco voie | U4: Racco Centre | V4: Contrôle | W4: COMMENTAIRES | Z4: Préparation à réaliser pour | AA4: Relevé terrain | AB4: Méca réalisée par Nom Date | AD4: Câblage réalisé par Nom Date | AF4: Réserves Oui Non | AH4: Réserves | AJ4: Installé par | AK4: Travaux terminé | AL4: Réserves / Commentaires | AN4: Raccordé par | AO4: Travaux terminé | AP4: Réserves / Commentaires
A5: Centre 1 | B5: CE01-1 | C5: U71 CE01-1 | F5: U71 (Pose) | G5: =SUM(H5:N5) -> 7.250003 | H5: =IF($E5>0,VLOOKUP($F5,'Temps unitaires'!$B$3:$J$72,3,FALSE)*$E5,VLOOKUP($F5,'Temps unitaires'!$B$3:$J$72,3,FALSE)) -> 1e-06 | I5: =IF($E5>0,VLOOKUP($F5,'Temps unitaires'!$B$3:$J$72,4,FALSE)*$E5,VLOOKUP($F5,'Temps unitaires'!$B$3:$J$72,4,FALSE)) -> 1e-06 | J5: =IF($E5>0,VLOOKUP($F5,'Temps unitaires'!$B$3:$J$72,5,FALSE)*$E5,VLOOKUP($F5,'Temps unitaires'!$B$3:$J$72,5,FALSE)) -> 1 | K5: =IF($E5>0,VLOOKUP($F5,'Temps unitaires'!$B$3:$J$72,6,FALSE)*$E5,VLOOKUP($F5,'Temps unitaires'!$B$3:$J$72,6,FALSE)) -> 6 | L5: =IF($E5>0,VLOOKUP($F5,'Temps unitaires'!$B$3:$J$72,7,FALSE)*$E5,VLOOKUP($F5,'Temps unitaires'!$B$3:$J$72,7,FALSE)) -> 0 | M5: =IF($E5>0,VLOOKUP($F5,'Temps unitaires'!$B$3:$J$72,8,FALSE)*$E5,VLOOKUP($F5,'Temps unitaires'!$B$3:$J$72,8,FALSE)) -> 1e-06 | N5: =IF($E5>0,VLOOKUP($F5,'Temps unitaires'!$B$3:$J$72,9,FALSE)*$E5,VLOOKUP($F5,'Temps unitaires'!$B$3:$J$72,9,FALSE)) -> 0.25 | X5: =SUMPRODUCT(H5:N5,P5:V5)/SUM(H5:N5) -> 0
A6: Centre 1 | B6: CE01-1 | C6: U71 CE01-1 | F6: Câbles Princ | G6: =SUM(H6:N6) -> 3.000005 | H6: =IF($E6>0,VLOOKUP($F6,'Temps unitaires'!$B$3:$J$72,3,FALSE)*$E6,VLOOKUP($F6,'Temps unitaires'!$B$3:$J$72,3,FALSE)) -> 1e-06 | I6: =IF($E6>0,VLOOKUP($F6,'Temps unitaires'!$B$3:$J$72,4,FALSE)*$E6,VLOOKUP($F6,'Temps unitaires'!$B$3:$J$72,4,FALSE)) -> 1e-06 | J6: =IF($E6>0,VLOOKUP($F6,'Temps unitaires'!$B$3:$J$72,5,FALSE)*$E6,VLOOKUP($F6,'Temps unitaires'!$B$3:$J$72,5,FALSE)) -> 1e-06 | K6: =IF($E6>0,VLOOKUP($F6,'Temps unitaires'!$B$3:$J$72,6,FALSE)*$E6,VLOOKUP($F6,'Temps unitaires'!$B$3:$J$72,6,FALSE)) -> 1e-06 | L6: =IF($E6>0,VLOOKUP($F6,'Temps unitaires'!$B$3:$J$72,7,FALSE)*$E6,VLOOKUP($F6,'Temps unitaires'!$B$3:$J$72,7,FALSE)) -> 1e-06 | M6: =IF($E6>0,VLOOKUP($F6,'Temps unitaires'!$B$3:$J$72,8,FALSE)*$E6,VLOOKUP($F6,'Temps unitaires'!$B$3:$J$72,8,FALSE)) -> 2 | N6: =IF($E6>0,VLOOKUP($F6,'Temps unitaires'!$B$3:$J$72,9,FALSE)*$E6,VLOOKUP($F6,'Temps unitaires'!$B$3:$J$72,9,FALSE)) -> 1 | X6: =SUMPRODUCT(H6:N6,P6:V6)/SUM(H6:N6) -> 0
A7: Centre 1 | B7: CE01-1 | C7: U71 CE01-1 | E7: 3 | F7: Câbles Locaux | G7: =SUM(H7:N7) -> 3.900015 | H7: =IF($E7>0,VLOOKUP($F7,'Temps unitaires'!$B$3:$J$72,3,FALSE)*$E7,VLOOKUP($F7,'Temps unitaires'!$B$3:$J$72,3,FALSE)) -> 3e-06 | I7: =IF($E7>0,VLOOKUP($F7,'Temps unitaires'!$B$3:$J$72,4,FALSE)*$E7,VLOOKUP($F7,'Temps unitaires'!$B$3:$J$72,4,FALSE)) -> 3e-06 | J7: =IF($E7>0,VLOOKUP($F7,'Temps unitaires'!$B$3:$J$72,5,FALSE)*$E7,VLOOKUP($F7,'Temps unitaires'!$B$3:$J$72,5,FALSE)) -> 3e-06 | K7: =IF($E7>0,VLOOKUP($F7,'Temps unitaires'!$B$3:$J$72,6,FALSE)*$E7,VLOOKUP($F7,'Temps unitaires'!$B$3:$J$72,6,FALSE)) -> 3e-06 | L7: =IF($E7>0,VLOOKUP($F7,'Temps unitaires'!$B$3:$J$72,7,FALSE)*$E7,VLOOKUP($F7,'Temps unitaires'!$B$3:$J$72,7,FALSE)) -> 3e-06 | M7: =IF($E7>0,VLOOKUP($F7,'Temps unitaires'!$B$3:$J$72,8,FALSE)*$E7,VLOOKUP($F7,'Temps unitaires'!$B$3:$J$72,8,FALSE)) -> 2.4 | N7: =IF($E7>0,VLOOKUP($F7,'Temps unitaires'!$B$3:$J$72,9,FALSE)*$E7,VLOOKUP($F7,'Temps unitaires'!$B$3:$J$72,9,FALSE)) -> 1.5 | X7: =SUMPRODUCT(H7:N7,P7:V7)/SUM(H7:N7) -> 0
A8: Centre 1 | B8: CE01-1 | C8: SVM.Pd1702 | F8: Pd méca | G8: =SUM(H8:N8) -> 9.000002 | H8: =IF($E8>0,VLOOKUP($F8,'Temps unitaires'!$B$3:$J$72,3,FALSE)*$E8,VLOOKUP($F8,'Temps unitaires'!$B$3:$J$72,3,FALSE)) -> 2 | I8: =IF($E8>0,VLOOKUP($F8,'Temps unitaires'!$B$3:$J$72,4,FALSE)*$E8,VLOOKUP($F8,'Temps unitaires'!$B$3:$J$72,4,FALSE)) -> 1e-06 | J8: =IF($E8>0,VLOOKUP($F8,'Temps unitaires'!$B$3:$J$72,5,FALSE)*$E8,VLOOKUP($F8,'Temps unitaires'!$B$3:$J$72,5,FALSE)) -> 1 | K8: =IF($E8>0,VLOOKUP($F8,'Temps unitaires'!$B$3:$J$72,6,FALSE)*$E8,VLOOKUP($F8,'Temps unitaires'!$B$3:$J$72,6,FALSE)) -> 2 | L8: =IF($E8>0,VLOOKUP($F8,'Temps unitaires'!$B$3:$J$72,7,FALSE)*$E8,VLOOKUP($F8,'Temps unitaires'!$B$3:$J$72,7,FALSE)) -> 2 | M8: =IF($E8>0,VLOOKUP($F8,'Temps unitaires'!$B$3:$J$72,8,FALSE)*$E8,VLOOKUP($F8,'Temps unitaires'!$B$3:$J$72,8,FALSE)) -> 1e-06 | N8: =IF($E8>0,VLOOKUP($F8,'Temps unitaires'!$B$3:$J$72,9,FALSE)*$E8,VLOOKUP($F8,'Temps unitaires'!$B$3:$J$72,9,FALSE)) -> 2 | X8: =SUMPRODUCT(H8:N8,P8:V8)/SUM(H8:N8) -> 0
A9: Centre 1 | B9: CE01-1 | C9: VCm.Au1702 | F9: VCM | G9: =SUM(H9:N9) -> 6.000002 | H9: =IF($E9>0,VLOOKUP($F9,'Temps unitaires'!$B$3:$J$72,3,FALSE)*$E9,VLOOKUP($F9,'Temps unitaires'!$B$3:$J$72,3,FALSE)) -> 2 | I9: =IF($E9>0,VLOOKUP($F9,'Temps unitaires'!$B$3:$J$72,4,FALSE)*$E9,VLOOKUP($F9,'Temps unitaires'!$B$3:$J$72,4,FALSE)) -> 1e-06 | J9: =IF($E9>0,VLOOKUP($F9,'Temps unitaires'!$B$3:$J$72,5,FALSE)*$E9,VLOOKUP($F9,'Temps unitaires'!$B$3:$J$72,5,FALSE)) -> 1 | K9: =IF($E9>0,VLOOKUP($F9,'Temps unitaires'!$B$3:$J$72,6,FALSE)*$E9,VLOOKUP($F9,'Temps unitaires'!$B$3:$J$72,6,FALSE)) -> 1 | L9: =IF($E9>0,VLOOKUP($F9,'Temps unitaires'!$B$3:$J$72,7,FALSE)*$E9,VLOOKUP($F9,'Temps unitaires'!$B$3:$J$72,7,FALSE)) -> 1 | M9: =IF($E9>0,VLOOKUP($F9,'Temps unitaires'!$B$3:$J$72,8,FALSE)*$E9,VLOOKUP($F9,'Temps unitaires'!$B$3:$J$72,8,FALSE)) -> 1e-06 | N9: =IF($E9>0,VLOOKUP($F9,'Temps unitaires'!$B$3:$J$72,9,FALSE)*$E9,VLOOKUP($F9,'Temps unitaires'!$B$3:$J$72,9,FALSE)) -> 1 | X9: =SUMPRODUCT(H9:N9,P9:V9)/SUM(H9:N9) -> 0
A10: Centre 1 | B10: CE01-1 | C10: Au1702 | F10: Voyant | G10: =SUM(H10:N10) -> 6.000002 | H10: =IF($E10>0,VLOOKUP($F10,'Temps unitaires'!$B$3:$J$72,3,FALSE)*$E10,VLOOKUP($F10,'Temps unitaires'!$B$3:$J$72,3,FALSE)) -> 2 | I10: =IF($E10>0,VLOOKUP($F10,'Temps unitaires'!$B$3:$J$72,4,FALSE)*$E10,VLOOKUP($F10,'Temps unitaires'!$B$3:$J$72,4,FALSE)) -> 1e-06 | J10: =IF($E10>0,VLOOKUP($F10,'Temps unitaires'!$B$3:$J$72,5,FALSE)*$E10,VLOOKUP($F10,'Temps unitaires'!$B$3:$J$72,5,FALSE)) -> 1 | K10: =IF($E10>0,VLOOKUP($F10,'Temps unitaires'!$B$3:$J$72,6,FALSE)*$E10,VLOOKUP($F10,'Temps unitaires'!$B$3:$J$72,6,FALSE)) -> 1 | L10: =IF($E10>0,VLOOKUP($F10,'Temps unitaires'!$B$3:$J$72,7,FALSE)*$E10,VLOOKUP($F10,'Temps unitaires'!$B$3:$J$72,7,FALSE)) -> 1 | M10: =IF($E10>0,VLOOKUP($F10,'Temps unitaires'!$B$3:$J$72,8,FALSE)*$E10,VLOOKUP($F10,'Temps unitaires'!$B$3:$J$72,8,FALSE)) -> 1e-06 | N10: =IF($E10>0,VLOOKUP($F10,'Temps unitaires'!$B$3:$J$72,9,FALSE)*$E10,VLOOKUP($F10,'Temps unitaires'!$B$3:$J$72,9,FALSE)) -> 1 | X10: =SUMPRODUCT(H10:N10,P10:V10)/SUM(H10:N10) -> 0
A11: Centre 1 | B11: CE01-1 | C11: Tel.Pt1702 | F11: Tél | G11: =SUM(H11:N11) -> 6.000002 | H11: =IF($E11>0,VLOOKUP($F11,'Temps unitaires'!$B$3:$J$72,3,FALSE)*$E11,VLOOKUP($F11,'Temps unitaires'!$B$3:$J$72,3,FALSE)) -> 2 | I11: =IF($E11>0,VLOOKUP($F11,'Temps unitaires'!$B$3:$J$72,4,FALSE)*$E11,VLOOKUP($F11,'Temps unitaires'!$B$3:$J$72,4,FALSE)) -> 1e-06 | J11: =IF($E11>0,VLOOKUP($F11,'Temps unitaires'!$B$3:$J$72,5,FALSE)*$E11,VLOOKUP($F11,'Temps unitaires'!$B$3:$J$72,5,FALSE)) -> 1 | K11: =IF($E11>0,VLOOKUP($F11,'Temps unitaires'!$B$3:$J$72,6,FALSE)*$E11,VLOOKUP($F11,'Temps unitaires'!$B$3:$J$72,6,FALSE)) -> 1 | L11: =IF($E11>0,VLOOKUP($F11,'Temps unitaires'!$B$3:$J$72,7,FALSE)*$E11,VLOOKUP($F11,'Temps unitaires'!$B$3:$J$72,7,FALSE)) -> 1 | M11: =IF($E11>0,VLOOKUP($F11,'Temps unitaires'!$B$3:$J$72,8,FALSE)*$E11,VLOOKUP($F11,'Temps unitaires'!$B$3:$J$72,8,FALSE)) -> 1e-06 | N11: =IF($E11>0,VLOOKUP($F11,'Temps unitaires'!$B$3:$J$72,9,FALSE)*$E11,VLOOKUP($F11,'Temps unitaires'!$B$3:$J$72,9,FALSE)) -> 1 | X11: =SUMPRODUCT(H11:N11,P11:V11)/SUM(H11:N11) -> 0
A12: Centre 1 | B12: CE01-1 | C12: TOTAL | G12: =SUM(G5:G11) -> 41.150031 | H12: =SUM(H5:H11) -> 8.000005 | I12: =SUM(I5:I11) -> 9e-06 | J12: =SUM(J5:J11) -> 5.000004 | K12: =SUM(K5:K11) -> 11.000004 | L12: =SUM(L5:L11) -> 5.000004 | M12: =SUM(M5:M11) -> 4.400005 | N12: =SUM(N5:N11) -> 7.75 | P12: =SUMPRODUCT(H5:H11,P5:P11)/H12 -> 0 | R12: =SUMPRODUCT(J5:J11,R5:R11)/J12 -> 0 | S12: =SUMPRODUCT(K5:K11,S5:S11)/K12 -> 0 | T12: =SUMPRODUCT(L5:L11,T5:T11)/L12 -> 0 | U12: =SUMPRODUCT(M5:M11,U5:U11)/M12 -> 0 | V12: =SUMPRODUCT(N5:N11,V5:V11)/N12 -> 0 | X12: =SUMPRODUCT(H5:N11,P5:V11)/SUM(H12:N12) -> 0
A13: Centre 1 | B13: CE02-1 | C13: U71 CE02-1 | F13: U71 (Pose) | G13: =SUM(H13:N13) -> 7.250003 | H13: =IF($E13>0,VLOOKUP($F13,'Temps unitaires'!$B$3:$J$72,3,FALSE)*$E13,VLOOKUP($F13,'Temps unitaires'!$B$3:$J$72,3,FALSE)) -> 1e-06 | I13: =IF($E13>0,VLOOKUP($F13,'Temps unitaires'!$B$3:$J$72,4,FALSE)*$E13,VLOOKUP($F13,'Temps unitaires'!$B$3:$J$72,4,FALSE)) -> 1e-06 | J13: =IF($E13>0,VLOOKUP($F13,'Temps unitaires'!$B$3:$J$72,5,FALSE)*$E13,VLOOKUP($F13,'Temps unitaires'!$B$3:$J$72,5,FALSE)) -> 1 | K13: =IF($E13>0,VLOOKUP($F13,'Temps unitaires'!$B$3:$J$72,6,FALSE)*$E13,VLOOKUP($F13,'Temps unitaires'!$B$3:$J$72,6,FALSE)) -> 6 | L13: =IF($E13>0,VLOOKUP($F13,'Temps unitaires'!$B$3:$J$72,7,FALSE)*$E13,VLOOKUP($F13,'Temps unitaires'!$B$3:$J$72,7,FALSE)) -> 0 | M13: =IF($E13>0,VLOOKUP($F13,'Temps unitaires'!$B$3:$J$72,8,FALSE)*$E13,VLOOKUP($F13,'Temps unitaires'!$B$3:$J$72,8,FALSE)) -> 1e-06 | N13: =IF($E13>0,VLOOKUP($F13,'Temps unitaires'!$B$3:$J$72,9,FALSE)*$E13,VLOOKUP($F13,'Temps unitaires'!$B$3:$J$72,9,FALSE)) -> 0.25 | X13: =SUMPRODUCT(H13:N13,P13:V13)/SUM(H13:N13) -> 0
A14: Centre 1 | B14: CE02-1 | C14: U71 CE02-1 | E14: 2 | F14: Câbles Princ | G14: =SUM(H14:N14) -> 6.00001 | H14: =IF($E14>0,VLOOKUP($F14,'Temps unitaires'!$B$3:$J$72,3,FALSE)*$E14,VLOOKUP($F14,'Temps unitaires'!$B$3:$J$72,3,FALSE)) -> 2e-06 | I14: =IF($E14>0,VLOOKUP($F14,'Temps unitaires'!$B$3:$J$72,4,FALSE)*$E14,VLOOKUP($F14,'Temps unitaires'!$B$3:$J$72,4,FALSE)) -> 2e-06 | J14: =IF($E14>0,VLOOKUP($F14,'Temps unitaires'!$B$3:$J$72,5,FALSE)*$E14,VLOOKUP($F14,'Temps unitaires'!$B$3:$J$72,5,FALSE)) -> 2e-06 | K14: =IF($E14>0,VLOOKUP($F14,'Temps unitaires'!$B$3:$J$72,6,FALSE)*$E14,VLOOKUP($F14,'Temps unitaires'!$B$3:$J$72,6,FALSE)) -> 2e-06 | L14: =IF($E14>0,VLOOKUP($F14,'Temps unitaires'!$B$3:$J$72,7,FALSE)*$E14,VLOOKUP($F14,'Temps unitaires'!$B$3:$J$72,7,FALSE)) -> 2e-06 | M14: =IF($E14>0,VLOOKUP($F14,'Temps unitaires'!$B$3:$J$72,8,FALSE)*$E14,VLOOKUP($F14,'Temps unitaires'!$B$3:$J$72,8,FALSE)) -> 4 | N14: =IF($E14>0,VLOOKUP($F14,'Temps unitaires'!$B$3:$J$72,9,FALSE)*$E14,VLOOKUP($F14,'Temps unitaires'!$B$3:$J$72,9,FALSE)) -> 2 | X14: =SUMPRODUCT(H14:N14,P14:V14)/SUM(H14:N14) -> 0
A15: Centre 1 | B15: CE02-1 | C15: U71 CE02-1 | D15: Cb CE2-1.10 (boulé) | E15: 10 | F15: Câbles Locaux | G15: =SUM(H15:N15) -> 13.00005 | H15: =IF($E15>0,VLOOKUP($F15,'Temps unitaires'!$B$3:$J$72,3,FALSE)*$E15,VLOOKUP($F15,'Temps unitaires'!$B$3:$J$72,3,FALSE)) -> 1e-05 | I15: =IF($E15>0,VLOOKUP($F15,'Temps unitaires'!$B$3:$J$72,4,FALSE)*$E15,VLOOKUP($F15,'Temps unitaires'!$B$3:$J$72,4,FALSE)) -> 1e-05 | J15: =IF($E15>0,VLOOKUP($F15,'Temps unitaires'!$B$3:$J$72,5,FALSE)*$E15,VLOOKUP($F15,'Temps unitaires'!$B$3:$J$72,5,FALSE)) -> 1e-05 | K15: =IF($E15>0,VLOOKUP($F15,'Temps unitaires'!$B$3:$J$72,6,FALSE)*$E15,VLOOKUP($F15,'Temps unitaires'!$B$3:$J$72,6,FALSE)) -> 1e-05 | L15: =IF($E15>0,VLOOKUP($F15,'Temps unitaires'!$B$3:$J$72,7,FALSE)*$E15,VLOOKUP($F15,'Temps unitaires'!$B$3:$J$72,7,FALSE)) -> 1e-05 | M15: =IF($E15>0,VLOOKUP($F15,'Temps unitaires'!$B$3:$J$72,8,FALSE)*$E15,VLOOKUP($F15,'Temps unitaires'!$B$3:$J$72,8,FALSE)) -> 8 | N15: =IF($E15>0,VLOOKUP($F15,'Temps unitaires'!$B$3:$J$72,9,FALSE)*$E15,VLOOKUP($F15,'Temps unitaires'!$B$3:$J$72,9,FALSE)) -> 5 | X15: =SUMPRODUCT(H15:N15,P15:V15)/SUM(H15:N15) -> 0
A16: Centre 1 | B16: CE02-1 | C16: STM.Signal C1005 | F16: Signal (Neuf) | G16: =SUM(H16:N16) -> 50.000002 | H16: =IF($E16>0,VLOOKUP($F16,'Temps unitaires'!$B$3:$J$72,3,FALSE)*$E16,VLOOKUP($F16,'Temps unitaires'!$B$3:$J$72,3,FALSE)) -> 2 | I16: =IF($E16>0,VLOOKUP($F16,'Temps unitaires'!$B$3:$J$72,4,FALSE)*$E16,VLOOKUP($F16,'Temps unitaires'!$B$3:$J$72,4,FALSE)) -> 1e-06 | J16: =IF($E16>0,VLOOKUP($F16,'Temps unitaires'!$B$3:$J$72,5,FALSE)*$E16,VLOOKUP($F16,'Temps unitaires'!$B$3:$J$72,5,FALSE)) -> 35 | K16: =IF($E16>0,VLOOKUP($F16,'Temps unitaires'!$B$3:$J$72,6,FALSE)*$E16,VLOOKUP($F16,'Temps unitaires'!$B$3:$J$72,6,FALSE)) -> 6 | L16: =IF($E16>0,VLOOKUP($F16,'Temps unitaires'!$B$3:$J$72,7,FALSE)*$E16,VLOOKUP($F16,'Temps unitaires'!$B$3:$J$72,7,FALSE)) -> 3 | M16: =IF($E16>0,VLOOKUP($F16,'Temps unitaires'!$B$3:$J$72,8,FALSE)*$E16,VLOOKUP($F16,'Temps unitaires'!$B$3:$J$72,8,FALSE)) -> 1e-06 | N16: =IF($E16>0,VLOOKUP($F16,'Temps unitaires'!$B$3:$J$72,9,FALSE)*$E16,VLOOKUP($F16,'Temps unitaires'!$B$3:$J$72,9,FALSE)) -> 4 | X16: =SUMPRODUCT(H16:N16,P16:V16)/SUM(H16:N16) -> 0
A17: Centre 1 | B17: CE02-1 | C17: Signal G1005 (caisson G) | F17: Caisson (sur Mat) | G17: =SUM(H17:N17) -> 14.000002 | H17: =IF($E17>0,VLOOKUP($F17,'Temps unitaires'!$B$3:$J$72,3,FALSE)*$E17,VLOOKUP($F17,'Temps unitaires'!$B$3:$J$72,3,FALSE)) -> 2 | I17: =IF($E17>0,VLOOKUP($F17,'Temps unitaires'!$B$3:$J$72,4,FALSE)*$E17,VLOOKUP($F17,'Temps unitaires'!$B$3:$J$72,4,FALSE)) -> 1e-06 | J17: =IF($E17>0,VLOOKUP($F17,'Temps unitaires'!$B$3:$J$72,5,FALSE)*$E17,VLOOKUP($F17,'Temps unitaires'!$B$3:$J$72,5,FALSE)) -> 1 | K17: =IF($E17>0,VLOOKUP($F17,'Temps unitaires'!$B$3:$J$72,6,FALSE)*$E17,VLOOKUP($F17,'Temps unitaires'!$B$3:$J$72,6,FALSE)) -> 8 | L17: =IF($E17>0,VLOOKUP($F17,'Temps unitaires'!$B$3:$J$72,7,FALSE)*$E17,VLOOKUP($F17,'Temps unitaires'!$B$3:$J$72,7,FALSE)) -> 2 | M17: =IF($E17>0,VLOOKUP($F17,'Temps unitaires'!$B$3:$J$72,8,FALSE)*$E17,VLOOKUP($F17,'Temps unitaires'!$B$3:$J$72,8,FALSE)) -> 1e-06 | N17: =IF($E17>0,VLOOKUP($F17,'Temps unitaires'!$B$3:$J$72,9,FALSE)*$E17,VLOOKUP($F17,'Temps unitaires'!$B$3:$J$72,9,FALSE)) -> 1 | X17: =SUMPRODUCT(H17:N17,P17:V17)/SUM(H17:N17) -> 0
A18: Centre 1 | B18: CE02-1 | C18: SVM.Pd1005 | F18: Pd méca | G18: =SUM(H18:N18) -> 9.000002 | H18: =IF($E18>0,VLOOKUP($F18,'Temps unitaires'!$B$3:$J$72,3,FALSE)*$E18,VLOOKUP($F18,'Temps unitaires'!$B$3:$J$72,3,FALSE)) -> 2 | I18: =IF($E18>0,VLOOKUP($F18,'Temps unitaires'!$B$3:$J$72,4,FALSE)*$E18,VLOOKUP($F18,'Temps unitaires'!$B$3:$J$72,4,FALSE)) -> 1e-06 | J18: =IF($E18>0,VLOOKUP($F18,'Temps unitaires'!$B$3:$J$72,5,FALSE)*$E18,VLOOKUP($F18,'Temps unitaires'!$B$3:$J$72,5,FALSE)) -> 1 | K18: =IF($E18>0,VLOOKUP($F18,'Temps unitaires'!$B$3:$J$72,6,FALSE)*$E18,VLOOKUP($F18,'Temps unitaires'!$B$3:$J$72,6,FALSE)) -> 2 | L18: =IF($E18>0,VLOOKUP($F18,'Temps unitaires'!$B$3:$J$72,7,FALSE)*$E18,VLOOKUP($F18,'Temps unitaires'!$B$3:$J$72,7,FALSE)) -> 2 | M18: =IF($E18>0,VLOOKUP($F18,'Temps unitaires'!$B$3:$J$72,8,FALSE)*$E18,VLOOKUP($F18,'Temps unitaires'!$B$3:$J$72,8,FALSE)) -> 1e-06 | N18: =IF($E18>0,VLOOKUP($F18,'Temps unitaires'!$B$3:$J$72,9,FALSE)*$E18,VLOOKUP($F18,'Temps unitaires'!$B$3:$J$72,9,FALSE)) -> 2 | X18: =SUMPRODUCT(H18:N18,P18:V18)/SUM(H18:N18) -> 0
A19: Centre 1 | B19: CE02-1 | C19: Tel.C1005 | F19: Tél | G19: =SUM(H19:N19) -> 6.000002 | H19: =IF($E19>0,VLOOKUP($F19,'Temps unitaires'!$B$3:$J$72,3,FALSE)*$E19,VLOOKUP($F19,'Temps unitaires'!$B$3:$J$72,3,FALSE)) -> 2 | I19: =IF($E19>0,VLOOKUP($F19,'Temps unitaires'!$B$3:$J$72,4,FALSE)*$E19,VLOOKUP($F19,'Temps unitaires'!$B$3:$J$72,4,FALSE)) -> 1e-06 | J19: =IF($E19>0,VLOOKUP($F19,'Temps unitaires'!$B$3:$J$72,5,FALSE)*$E19,VLOOKUP($F19,'Temps unitaires'!$B$3:$J$72,5,FALSE)) -> 1 | K19: =IF($E19>0,VLOOKUP($F19,'Temps unitaires'!$B$3:$J$72,6,FALSE)*$E19,VLOOKUP($F19,'Temps unitaires'!$B$3:$J$72,6,FALSE)) -> 1 | L19: =IF($E19>0,VLOOKUP($F19,'Temps unitaires'!$B$3:$J$72,7,FALSE)*$E19,VLOOKUP($F19,'Temps unitaires'!$B$3:$J$72,7,FALSE)) -> 1 | M19: =IF($E19>0,VLOOKUP($F19,'Temps unitaires'!$B$3:$J$72,8,FALSE)*$E19,VLOOKUP($F19,'Temps unitaires'!$B$3:$J$72,8,FALSE)) -> 1e-06 | N19: =IF($E19>0,VLOOKUP($F19,'Temps unitaires'!$B$3:$J$72,9,FALSE)*$E19,VLOOKUP($F19,'Temps unitaires'!$B$3:$J$72,9,FALSE)) -> 1 | X19: =SUMPRODUCT(H19:N19,P19:V19)/SUM(H19:N19) -> 0
A20: Centre 1 | B20: CE02-1 | C20: CI.REZ1004.REZ1008 | F20: CdV CI 25000V | G20: =SUM(H20:N20) -> 17.000002 | H20: =IF($E20>0,VLOOKUP($F20,'Temps unitaires'!$B$3:$J$72,3,FALSE)*$E20,VLOOKUP($F20,'Temps unitaires'!$B$3:$J$72,3,FALSE)) -> 2 | I20: =IF($E20>0,VLOOKUP($F20,'Temps unitaires'!$B$3:$J$72,4,FALSE)*$E20,VLOOKUP($F20,'Temps unitaires'!$B$3:$J$72,4,FALSE)) -> 1e-06 | J20: =IF($E20>0,VLOOKUP($F20,'Temps unitaires'!$B$3:$J$72,5,FALSE)*$E20,VLOOKUP($F20,'Temps unitaires'!$B$3:$J$72,5,FALSE)) -> 2 | K20: =IF($E20>0,VLOOKUP($F20,'Temps unitaires'!$B$3:$J$72,6,FALSE)*$E20,VLOOKUP($F20,'Temps unitaires'!$B$3:$J$72,6,FALSE)) -> 9 | L20: =IF($E20>0,VLOOKUP($F20,'Temps unitaires'!$B$3:$J$72,7,FALSE)*$E20,VLOOKUP($F20,'Temps unitaires'!$B$3:$J$72,7,FALSE)) -> 2 | M20: =IF($E20>0,VLOOKUP($F20,'Temps unitaires'!$B$3:$J$72,8,FALSE)*$E20,VLOOKUP($F20,'Temps unitaires'!$B$3:$J$72,8,FALSE)) -> 1e-06 | N20: =IF($E20>0,VLOOKUP($F20,'Temps unitaires'!$B$3:$J$72,9,FALSE)*$E20,VLOOKUP($F20,'Temps unitaires'!$B$3:$J$72,9,FALSE)) -> 2 | X20: =SUMPRODUCT(H20:N20,P20:V20)/SUM(H20:N20) -> 0
A21: Centre 1 | B21: CE02-1 | C21: ATR1010 (Près du C1005) | F21: Atr | G21: =SUM(H21:N21) -> 6.000002 | H21: =IF($E21>0,VLOOKUP($F21,'Temps unitaires'!$B$3:$J$72,3,FALSE)*$E21,VLOOKUP($F21,'Temps unitaires'!$B$3:$J$72,3,FALSE)) -> 2 | I21: =IF($E21>0,VLOOKUP($F21,'Temps unitaires'!$B$3:$J$72,4,FALSE)*$E21,VLOOKUP($F21,'Temps unitaires'!$B$3:$J$72,4,FALSE)) -> 1e-06 | J21: =IF($E21>0,VLOOKUP($F21,'Temps unitaires'!$B$3:$J$72,5,FALSE)*$E21,VLOOKUP($F21,'Temps unitaires'!$B$3:$J$72,5,FALSE)) -> 1 | K21: =IF($E21>0,VLOOKUP($F21,'Temps unitaires'!$B$3:$J$72,6,FALSE)*$E21,VLOOKUP($F21,'Temps unitaires'!$B$3:$J$72,6,FALSE)) -> 1 | L21: =IF($E21>0,VLOOKUP($F21,'Temps unitaires'!$B$3:$J$72,7,FALSE)*$E21,VLOOKUP($F21,'Temps unitaires'!$B$3:$J$72,7,FALSE)) -> 1 | M21: =IF($E21>0,VLOOKUP($F21,'Temps unitaires'!$B$3:$J$72,8,FALSE)*$E21,VLOOKUP($F21,'Temps unitaires'!$B$3:$J$72,8,FALSE)) -> 1e-06 | N21: =IF($E21>0,VLOOKUP($F21,'Temps unitaires'!$B$3:$J$72,9,FALSE)*$E21,VLOOKUP($F21,'Temps unitaires'!$B$3:$J$72,9,FALSE)) -> 1 | X21: =SUMPRODUCT(H21:N21,P21:V21)/SUM(H21:N21) -> 0
A22: Centre 2 | B22: CE02-1 | C22: ATR1010 (près du C1005) | F22: Atr | G22: =SUM(H22:N22) -> 6.000002 | H22: =IF($E22>0,VLOOKUP($F22,'Temps unitaires'!$B$3:$J$72,3,FALSE)*$E22,VLOOKUP($F22,'Temps unitaires'!$B$3:$J$72,3,FALSE)) -> 2 | I22: =IF($E22>0,VLOOKUP($F22,'Temps unitaires'!$B$3:$J$72,4,FALSE)*$E22,VLOOKUP($F22,'Temps unitaires'!$B$3:$J$72,4,FALSE)) -> 1e-06 | J22: =IF($E22>0,VLOOKUP($F22,'Temps unitaires'!$B$3:$J$72,5,FALSE)*$E22,VLOOKUP($F22,'Temps unitaires'!$B$3:$J$72,5,FALSE)) -> 1 | K22: =IF($E22>0,VLOOKUP($F22,'Temps unitaires'!$B$3:$J$72,6,FALSE)*$E22,VLOOKUP($F22,'Temps unitaires'!$B$3:$J$72,6,FALSE)) -> 1 | L22: =IF($E22>0,VLOOKUP($F22,'Temps unitaires'!$B$3:$J$72,7,FALSE)*$E22,VLOOKUP($F22,'Temps unitaires'!$B$3:$J$72,7,FALSE)) -> 1 | M22: =IF($E22>0,VLOOKUP($F22,'Temps unitaires'!$B$3:$J$72,8,FALSE)*$E22,VLOOKUP($F22,'Temps unitaires'!$B$3:$J$72,8,FALSE)) -> 1e-06 | N22: =IF($E22>0,VLOOKUP($F22,'Temps unitaires'!$B$3:$J$72,9,FALSE)*$E22,VLOOKUP($F22,'Temps unitaires'!$B$3:$J$72,9,FALSE)) -> 1 | X22: =SUMPRODUCT(H22:N22,P22:V22)/SUM(H22:N22) -> 0
A23: Centre 1 | B23: CE02-1 | C23: SVM.Pd+A.Cro1005 | F23: Pd.Déto+A.Cro | G23: =SUM(H23:N23) -> 27.000002 | H23: =IF($E23>0,VLOOKUP($F23,'Temps unitaires'!$B$3:$J$72,3,FALSE)*$E23,VLOOKUP($F23,'Temps unitaires'!$B$3:$J$72,3,FALSE)) -> 3 | I23: =IF($E23>0,VLOOKUP($F23,'Temps unitaires'!$B$3:$J$72,4,FALSE)*$E23,VLOOKUP($F23,'Temps unitaires'!$B$3:$J$72,4,FALSE)) -> 1e-06 | J23: =IF($E23>0,VLOOKUP($F23,'Temps unitaires'!$B$3:$J$72,5,FALSE)*$E23,VLOOKUP($F23,'Temps unitaires'!$B$3:$J$72,5,FALSE)) -> 3 | K23: =IF($E23>0,VLOOKUP($F23,'Temps unitaires'!$B$3:$J$72,6,FALSE)*$E23,VLOOKUP($F23,'Temps unitaires'!$B$3:$J$72,6,FALSE)) -> 12 | L23: =IF($E23>0,VLOOKUP($F23,'Temps unitaires'!$B$3:$J$72,7,FALSE)*$E23,VLOOKUP($F23,'Temps unitaires'!$B$3:$J$72,7,FALSE)) -> 6 | M23: =IF($E23>0,VLOOKUP($F23,'Temps unitaires'!$B$3:$J$72,8,FALSE)*$E23,VLOOKUP($F23,'Temps unitaires'!$B$3:$J$72,8,FALSE)) -> 1e-06 | N23: =IF($E23>0,VLOOKUP($F23,'Temps unitaires'!$B$3:$J$72,9,FALSE)*$E23,VLOOKUP($F23,'Temps unitaires'!$B$3:$J$72,9,FALSE)) -> 3 | X23: =SUMPRODUCT(H23:N23,P23:V23)/SUM(H23:N23) -> 0
A24: Centre 2 | B24: CE02-1 | C24: SVM.Feu rouge V2C | D24: Cb CE2-1.10 (boulé) | F24: Heurtoir | G24: =SUM(H24:N24) -> 9.000002 | H24: =IF($E24>0,VLOOKUP($F24,'Temps unitaires'!$B$3:$J$72,3,FALSE)*$E24,VLOOKUP($F24,'Temps unitaires'!$B$3:$J$72,3,FALSE)) -> 2 | I24: =IF($E24>0,VLOOKUP($F24,'Temps unitaires'!$B$3:$J$72,4,FALSE)*$E24,VLOOKUP($F24,'Temps unitaires'!$B$3:$J$72,4,FALSE)) -> 1e-06 | J24: =IF($E24>0,VLOOKUP($F24,'Temps unitaires'!$B$3:$J$72,5,FALSE)*$E24,VLOOKUP($F24,'Temps unitaires'!$B$3:$J$72,5,FALSE)) -> 1 | K24: =IF($E24>0,VLOOKUP($F24,'Temps unitaires'!$B$3:$J$72,6,FALSE)*$E24,VLOOKUP($F24,'Temps unitaires'!$B$3:$J$72,6,FALSE)) -> 3 | L24: =IF($E24>0,VLOOKUP($F24,'Temps unitaires'!$B$3:$J$72,7,FALSE)*$E24,VLOOKUP($F24,'Temps unitaires'!$B$3:$J$72,7,FALSE)) -> 2 | M24: =IF($E24>0,VLOOKUP($F24,'Temps unitaires'!$B$3:$J$72,8,FALSE)*$E24,VLOOKUP($F24,'Temps unitaires'!$B$3:$J$72,8,FALSE)) -> 1e-06 | N24: =IF($E24>0,VLOOKUP($F24,'Temps unitaires'!$B$3:$J$72,9,FALSE)*$E24,VLOOKUP($F24,'Temps unitaires'!$B$3:$J$72,9,FALSE)) -> 1 | X24: =SUMPRODUCT(H24:N24,P24:V24)/SUM(H24:N24) -> 0
A25: Centre 1 | B25: CE02-1 | C25: TOTAL | G25: =SUM(G13:G24) -> 170.25008 | H25: =SUM(H13:H24) -> 19.000013 | I25: =SUM(I13:I23) -> 2.1e-05 | J25: =SUM(J13:J24) -> 47.000012 | K25: =SUM(K13:K24) -> 49.000012 | L25: =SUM(L13:L24) -> 20.000012 | M25: =SUM(M13:M24) -> 12.00001 | N25: =SUM(N13:N24) -> 23.25 | P25: =SUMPRODUCT(H13:H24,P13:P24)/H25 -> 0 | R25: =SUMPRODUCT(J13:J24,R13:R24)/J25 -> 0 | S25: =SUMPRODUCT(K13:K24,S13:S24)/K25 -> 0 | T25: =SUMPRODUCT(L13:L24,T13:T24)/L25 -> 0 | U25: =SUMPRODUCT(M13:M24,U13:U24)/M25 -> 0 | V25: =SUMPRODUCT(N13:N24,V13:V24)/N25 -> 0 | X25: =SUMPRODUCT(H13:N24,P13:V24)/SUM(H25:N25) -> 0
A26: Centre 1 | B26: CE03-1 | C26: U71 CE03-01 | F26: U71 (Pose) | G26: =SUM(H26:N26) -> 50.250044 | H26: =IF($E26>0,VLOOKUP($F26,'Temps unitaires'!$B$3:$J$72,3,FALSE)*$E26,VLOOKUP($F26,'Temps unitaires'!$B$3:$J$72,3,FALSE)) -> 1e-06 | I26: =SUM(I25,I12) -> 3e-05 | J26: =IF($E26>0,VLOOKUP($F26,'Temps unitaires'!$B$3:$J$72,5,FALSE)*$E26,VLOOKUP($F26,'Temps unitaires'!$B$3:$J$72,5,FALSE)) -> 1 | K26: =SUM(K25) -> 49.000012 | L26: =IF($E26>0,VLOOKUP($F26,'Temps unitaires'!$B$3:$J$72,7,FALSE)*$E26,VLOOKUP($F26,'Temps unitaires'!$B$3:$J$72,7,FALSE)) -> 0 | M26: =IF($E26>0,VLOOKUP($F26,'Temps unitaires'!$B$3:$J$72,8,FALSE)*$E26,VLOOKUP($F26,'Temps unitaires'!$B$3:$J$72,8,FALSE)) -> 1e-06 | N26: =IF($E26>0,VLOOKUP($F26,'Temps unitaires'!$B$3:$J$72,9,FALSE)*$E26,VLOOKUP($F26,'Temps unitaires'!$B$3:$J$72,9,FALSE)) -> 0.25 | X26: =SUMPRODUCT(H26:N26,P26:V26)/SUM(H26:N26) -> 0
A27: Centre 1 | B27: CE03-1 | C27: U71 CE03-01 | E27: 2 | F27: Câbles Princ | G27: =SUM(H27:N27) -> 6.00001 | H27: =IF($E27>0,VLOOKUP($F27,'Temps unitaires'!$B$3:$J$72,3,FALSE)*$E27,VLOOKUP($F27,'Temps unitaires'!$B$3:$J$72,3,FALSE)) -> 2e-06 | I27: =IF($E27>0,VLOOKUP($F27,'Temps unitaires'!$B$3:$J$72,4,FALSE)*$E27,VLOOKUP($F27,'Temps unitaires'!$B$3:$J$72,4,FALSE)) -> 2e-06 | J27: =IF($E27>0,VLOOKUP($F27,'Temps unitaires'!$B$3:$J$72,5,FALSE)*$E27,VLOOKUP($F27,'Temps unitaires'!$B$3:$J$72,5,FALSE)) -> 2e-06 | K27: =IF($E27>0,VLOOKUP($F27,'Temps unitaires'!$B$3:$J$72,6,FALSE)*$E27,VLOOKUP($F27,'Temps unitaires'!$B$3:$J$72,6,FALSE)) -> 2e-06 | L27: =IF($E27>0,VLOOKUP($F27,'Temps unitaires'!$B$3:$J$72,7,FALSE)*$E27,VLOOKUP($F27,'Temps unitaires'!$B$3:$J$72,7,FALSE)) -> 2e-06 | M27: =IF($E27>0,VLOOKUP($F27,'Temps unitaires'!$B$3:$J$72,8,FALSE)*$E27,VLOOKUP($F27,'Temps unitaires'!$B$3:$J$72,8,FALSE)) -> 4 | N27: =IF($E27>0,VLOOKUP($F27,'Temps unitaires'!$B$3:$J$72,9,FALSE)*$E27,VLOOKUP($F27,'Temps unitaires'!$B$3:$J$72,9,FALSE)) -> 2 | X27: =SUMPRODUCT(H27:N27,P27:V27)/SUM(H27:N27) -> 0
A28: Centre 1 | B28: CE03-1 | C28: U71 CE03-01 | D28: Cb CE2-1.11 (boulé) | E28: 11 | F28: Câbles Locaux | G28: =SUM(H28:N28) -> 14.300055 | H28: =IF($E28>0,VLOOKUP($F28,'Temps unitaires'!$B$3:$J$72,3,FALSE)*$E28,VLOOKUP($F28,'Temps unitaires'!$B$3:$J$72,3,FALSE)) -> 1.1e-05 | I28: =IF($E28>0,VLOOKUP($F28,'Temps unitaires'!$B$3:$J$72,4,FALSE)*$E28,VLOOKUP($F28,'Temps unitaires'!$B$3:$J$72,4,FALSE)) -> 1.1e-05 | J28: =IF($E28>0,VLOOKUP($F28,'Temps unitaires'!$B$3:$J$72,5,FALSE)*$E28,VLOOKUP($F28,'Temps unitaires'!$B$3:$J$72,5,FALSE)) -> 1.1e-05 | K28: =IF($E28>0,VLOOKUP($F28,'Temps unitaires'!$B$3:$J$72,6,FALSE)*$E28,VLOOKUP($F28,'Temps unitaires'!$B$3:$J$72,6,FALSE)) -> 1.1e-05 | L28: =IF($E28>0,VLOOKUP($F28,'Temps unitaires'!$B$3:$J$72,7,FALSE)*$E28,VLOOKUP($F28,'Temps unitaires'!$B$3:$J$72,7,FALSE)) -> 1.1e-05 | M28: =IF($E28>0,VLOOKUP($F28,'Temps unitaires'!$B$3:$J$72,8,FALSE)*$E28,VLOOKUP($F28,'Temps unitaires'!$B$3:$J$72,8,FALSE)) -> 8.8 | N28: =IF($E28>0,VLOOKUP($F28,'Temps unitaires'!$B$3:$J$72,9,FALSE)*$E28,VLOOKUP($F28,'Temps unitaires'!$B$3:$J$72,9,FALSE)) -> 5.5 | X28: =SUMPRODUCT(H28:N28,P28:V28)/SUM(H28:N28) -> 0
A29: Centre 1 | B29: CE03-1 | C29: STM.Signal C1007 | F29: Signal (Neuf) | G29: =SUM(H29:N29) -> 50.000002 | H29: =IF($E29>0,VLOOKUP($F29,'Temps unitaires'!$B$3:$J$72,3,FALSE)*$E29,VLOOKUP($F29,'Temps unitaires'!$B$3:$J$72,3,FALSE)) -> 2 | I29: =IF($E29>0,VLOOKUP($F29,'Temps unitaires'!$B$3:$J$72,4,FALSE)*$E29,VLOOKUP($F29,'Temps unitaires'!$B$3:$J$72,4,FALSE)) -> 1e-06 | J29: =IF($E29>0,VLOOKUP($F29,'Temps unitaires'!$B$3:$J$72,5,FALSE)*$E29,VLOOKUP($F29,'Temps unitaires'!$B$3:$J$72,5,FALSE)) -> 35 | K29: =IF($E29>0,VLOOKUP($F29,'Temps unitaires'!$B$3:$J$72,6,FALSE)*$E29,VLOOKUP($F29,'Temps unitaires'!$B$3:$J$72,6,FALSE)) -> 6 | L29: =IF($E29>0,VLOOKUP($F29,'Temps unitaires'!$B$3:$J$72,7,FALSE)*$E29,VLOOKUP($F29,'Temps unitaires'!$B$3:$J$72,7,FALSE)) -> 3 | M29: =IF($E29>0,VLOOKUP($F29,'Temps unitaires'!$B$3:$J$72,8,FALSE)*$E29,VLOOKUP($F29,'Temps unitaires'!$B$3:$J$72,8,FALSE)) -> 1e-06 | N29: =IF($E29>0,VLOOKUP($F29,'Temps unitaires'!$B$3:$J$72,9,FALSE)*$E29,VLOOKUP($F29,'Temps unitaires'!$B$3:$J$72,9,FALSE)) -> 4 | X29: =SUMPRODUCT(H29:N29,P29:V29)/SUM(H29:N29) -> 0
A30: Centre 1 | B30: CE03-1 | C30: Signal G1007 (caisson G) | F30: Caisson (sur Mat) | G30: =SUM(H30:N30) -> 14.000002 | H30: =IF($E30>0,VLOOKUP($F30,'Temps unitaires'!$B$3:$J$72,3,FALSE)*$E30,VLOOKUP($F30,'Temps unitaires'!$B$3:$J$72,3,FALSE)) -> 2 | I30: =IF($E30>0,VLOOKUP($F30,'Temps unitaires'!$B$3:$J$72,4,FALSE)*$E30,VLOOKUP($F30,'Temps unitaires'!$B$3:$J$72,4,FALSE)) -> 1e-06 | J30: =IF($E30>0,VLOOKUP($F30,'Temps unitaires'!$B$3:$J$72,5,FALSE)*$E30,VLOOKUP($F30,'Temps unitaires'!$B$3:$J$72,5,FALSE)) -> 1 | K30: =IF($E30>0,VLOOKUP($F30,'Temps unitaires'!$B$3:$J$72,6,FALSE)*$E30,VLOOKUP($F30,'Temps unitaires'!$B$3:$J$72,6,FALSE)) -> 8 | L30: =IF($E30>0,VLOOKUP($F30,'Temps unitaires'!$B$3:$J$72,7,FALSE)*$E30,VLOOKUP($F30,'Temps unitaires'!$B$3:$J$72,7,FALSE)) -> 2 | M30: =IF($E30>0,VLOOKUP($F30,'Temps unitaires'!$B$3:$J$72,8,FALSE)*$E30,VLOOKUP($F30,'Temps unitaires'!$B$3:$J$72,8,FALSE)) -> 1e-06 | N30: =IF($E30>0,VLOOKUP($F30,'Temps unitaires'!$B$3:$J$72,9,FALSE)*$E30,VLOOKUP($F30,'Temps unitaires'!$B$3:$J$72,9,FALSE)) -> 1 | X30: =SUMPRODUCT(H30:N30,P30:V30)/SUM(H30:N30) -> 0
A31: Centre 1 | B31: CE03-1 | C31: SVM.Pd1007 | F31: Pd méca | G31: =SUM(H31:N31) -> 9.000002 | H31: =IF($E31>0,VLOOKUP($F31,'Temps unitaires'!$B$3:$J$72,3,FALSE)*$E31,VLOOKUP($F31,'Temps unitaires'!$B$3:$J$72,3,FALSE)) -> 2 | I31: =IF($E31>0,VLOOKUP($F31,'Temps unitaires'!$B$3:$J$72,4,FALSE)*$E31,VLOOKUP($F31,'Temps unitaires'!$B$3:$J$72,4,FALSE)) -> 1e-06 | J31: =IF($E31>0,VLOOKUP($F31,'Temps unitaires'!$B$3:$J$72,5,FALSE)*$E31,VLOOKUP($F31,'Temps unitaires'!$B$3:$J$72,5,FALSE)) -> 1 | K31: =IF($E31>0,VLOOKUP($F31,'Temps unitaires'!$B$3:$J$72,6,FALSE)*$E31,VLOOKUP($F31,'Temps unitaires'!$B$3:$J$72,6,FALSE)) -> 2 | L31: =IF($E31>0,VLOOKUP($F31,'Temps unitaires'!$B$3:$J$72,7,FALSE)*$E31,VLOOKUP($F31,'Temps unitaires'!$B$3:$J$72,7,FALSE)) -> 2 | M31: =IF($E31>0,VLOOKUP($F31,'Temps unitaires'!$B$3:$J$72,8,FALSE)*$E31,VLOOKUP($F31,'Temps unitaires'!$B$3:$J$72,8,FALSE)) -> 1e-06 | N31: =IF($E31>0,VLOOKUP($F31,'Temps unitaires'!$B$3:$J$72,9,FALSE)*$E31,VLOOKUP($F31,'Temps unitaires'!$B$3:$J$72,9,FALSE)) -> 2 | X31: =SUMPRODUCT(H31:N31,P31:V31)/SUM(H31:N31) -> 0
A32: Centre 1 | B32: CE03-1 | C32: Tel.C1007 | F32: Tél | G32: =SUM(H32:N32) -> 6.000002 | H32: =IF($E32>0,VLOOKUP($F32,'Temps unitaires'!$B$3:$J$72,3,FALSE)*$E32,VLOOKUP($F32,'Temps unitaires'!$B$3:$J$72,3,FALSE)) -> 2 | I32: =IF($E32>0,VLOOKUP($F32,'Temps unitaires'!$B$3:$J$72,4,FALSE)*$E32,VLOOKUP($F32,'Temps unitaires'!$B$3:$J$72,4,FALSE)) -> 1e-06 | J32: =IF($E32>0,VLOOKUP($F32,'Temps unitaires'!$B$3:$J$72,5,FALSE)*$E32,VLOOKUP($F32,'Temps unitaires'!$B$3:$J$72,5,FALSE)) -> 1 | K32: =IF($E32>0,VLOOKUP($F32,'Temps unitaires'!$B$3:$J$72,6,FALSE)*$E32,VLOOKUP($F32,'Temps unitaires'!$B$3:$J$72,6,FALSE)) -> 1 | L32: =IF($E32>0,VLOOKUP($F32,'Temps unitaires'!$B$3:$J$72,7,FALSE)*$E32,VLOOKUP($F32,'Temps unitaires'!$B$3:$J$72,7,FALSE)) -> 1 | M32: =IF($E32>0,VLOOKUP($F32,'Temps unitaires'!$B$3:$J$72,8,FALSE)*$E32,VLOOKUP($F32,'Temps unitaires'!$B$3:$J$72,8,FALSE)) -> 1e-06 | N32: =IF($E32>0,VLOOKUP($F32,'Temps unitaires'!$B$3:$J$72,9,FALSE)*$E32,VLOOKUP($F32,'Temps unitaires'!$B$3:$J$72,9,FALSE)) -> 1 | X32: =SUMPRODUCT(H32:N32,P32:V32)/SUM(H32:N32) -> 0
A33: Centre 1 | B33: CE03-1 | C33: SDCP2.Cro1007 | F33: CRO | G33: =SUM(H33:N33) -> 12.000002 | H33: =IF($E33>0,VLOOKUP($F33,'Temps unitaires'!$B$3:$J$72,3,FALSE)*$E33,VLOOKUP($F33,'Temps unitaires'!$B$3:$J$72,3,FALSE)) -> 2 | I33: =IF($E33>0,VLOOKUP($F33,'Temps unitaires'!$B$3:$J$72,4,FALSE)*$E33,VLOOKUP($F33,'Temps unitaires'!$B$3:$J$72,4,FALSE)) -> 1e-06 | J33: =IF($E33>0,VLOOKUP($F33,'Temps unitaires'!$B$3:$J$72,5,FALSE)*$E33,VLOOKUP($F33,'Temps unitaires'!$B$3:$J$72,5,FALSE)) -> 1 | K33: =IF($E33>0,VLOOKUP($F33,'Temps unitaires'!$B$3:$J$72,6,FALSE)*$E33,VLOOKUP($F33,'Temps unitaires'!$B$3:$J$72,6,FALSE)) -> 6 | L33: =IF($E33>0,VLOOKUP($F33,'Temps unitaires'!$B$3:$J$72,7,FALSE)*$E33,VLOOKUP($F33,'Temps unitaires'!$B$3:$J$72,7,FALSE)) -> 2 | M33: =IF($E33>0,VLOOKUP($F33,'Temps unitaires'!$B$3:$J$72,8,FALSE)*$E33,VLOOKUP($F33,'Temps unitaires'!$B$3:$J$72,8,FALSE)) -> 1e-06 | N33: =IF($E33>0,VLOOKUP($F33,'Temps unitaires'!$B$3:$J$72,9,FALSE)*$E33,VLOOKUP($F33,'Temps unitaires'!$B$3:$J$72,9,FALSE)) -> 1 | X33: =SUMPRODUCT(H33:N33,P33:V33)/SUM(H33:N33) -> 0
A34: Centre 1 | B34: CE03-1 | C34: CI.REZ1007 | E34: 0.5 | F34: CdV CI 25000V | G34: =SUM(H34:N34) -> 8.500001 | H34: =IF($E34>0,VLOOKUP($F34,'Temps unitaires'!$B$3:$J$72,3,FALSE)*$E34,VLOOKUP($F34,'Temps unitaires'!$B$3:$J$72,3,FALSE)) -> 1 | I34: =IF($E34>0,VLOOKUP($F34,'Temps unitaires'!$B$3:$J$72,4,FALSE)*$E34,VLOOKUP($F34,'Temps unitaires'!$B$3:$J$72,4,FALSE)) -> 5e-07 | J34: =IF($E34>0,VLOOKUP($F34,'Temps unitaires'!$B$3:$J$72,5,FALSE)*$E34,VLOOKUP($F34,'Temps unitaires'!$B$3:$J$72,5,FALSE)) -> 1 | K34: =IF($E34>0,VLOOKUP($F34,'Temps unitaires'!$B$3:$J$72,6,FALSE)*$E34,VLOOKUP($F34,'Temps unitaires'!$B$3:$J$72,6,FALSE)) -> 4.5 | L34: =IF($E34>0,VLOOKUP($F34,'Temps unitaires'!$B$3:$J$72,7,FALSE)*$E34,VLOOKUP($F34,'Temps unitaires'!$B$3:$J$72,7,FALSE)) -> 1 | M34: =IF($E34>0,VLOOKUP($F34,'Temps unitaires'!$B$3:$J$72,8,FALSE)*$E34,VLOOKUP($F34,'Temps unitaires'!$B$3:$J$72,8,FALSE)) -> 5e-07 | N34: =IF($E34>0,VLOOKUP($F34,'Temps unitaires'!$B$3:$J$72,9,FALSE)*$E34,VLOOKUP($F34,'Temps unitaires'!$B$3:$J$72,9,FALSE)) -> 1 | X34: =SUMPRODUCT(H34:N34,P34:V34)/SUM(H34:N34) -> 0
A35: Centre 1 | B35: CE03-1 | C35: ATR1007 (Près du C1007) | F35: Atr | G35: =SUM(H35:N35) -> 6.000002 | H35: =IF($E35>0,VLOOKUP($F35,'Temps unitaires'!$B$3:$J$72,3,FALSE)*$E35,VLOOKUP($F35,'Temps unitaires'!$B$3:$J$72,3,FALSE)) -> 2 | I35: =IF($E35>0,VLOOKUP($F35,'Temps unitaires'!$B$3:$J$72,4,FALSE)*$E35,VLOOKUP($F35,'Temps unitaires'!$B$3:$J$72,4,FALSE)) -> 1e-06 | J35: =IF($E35>0,VLOOKUP($F35,'Temps unitaires'!$B$3:$J$72,5,FALSE)*$E35,VLOOKUP($F35,'Temps unitaires'!$B$3:$J$72,5,FALSE)) -> 1 | K35: =IF($E35>0,VLOOKUP($F35,'Temps unitaires'!$B$3:$J$72,6,FALSE)*$E35,VLOOKUP($F35,'Temps unitaires'!$B$3:$J$72,6,FALSE)) -> 1 | L35: =IF($E35>0,VLOOKUP($F35,'Temps unitaires'!$B$3:$J$72,7,FALSE)*$E35,VLOOKUP($F35,'Temps unitaires'!$B$3:$J$72,7,FALSE)) -> 1 | M35: =IF($E35>0,VLOOKUP($F35,'Temps unitaires'!$B$3:$J$72,8,FALSE)*$E35,VLOOKUP($F35,'Temps unitaires'!$B$3:$J$72,8,FALSE)) -> 1e-06 | N35: =IF($E35>0,VLOOKUP($F35,'Temps unitaires'!$B$3:$J$72,9,FALSE)*$E35,VLOOKUP($F35,'Temps unitaires'!$B$3:$J$72,9,FALSE)) -> 1 | X35: =SUMPRODUCT(H35:N35,P35:V35)/SUM(H35:N35) -> 0
A36: Centre 1 | B36: CE03-1 | C36: ATR1008 (Près du C1007) | F36: Atr | G36: =SUM(H36:N36) -> 6.000002 | H36: =IF($E36>0,VLOOKUP($F36,'Temps unitaires'!$B$3:$J$72,3,FALSE)*$E36,VLOOKUP($F36,'Temps unitaires'!$B$3:$J$72,3,FALSE)) -> 2 | I36: =IF($E36>0,VLOOKUP($F36,'Temps unitaires'!$B$3:$J$72,4,FALSE)*$E36,VLOOKUP($F36,'Temps unitaires'!$B$3:$J$72,4,FALSE)) -> 1e-06 | J36: =IF($E36>0,VLOOKUP($F36,'Temps unitaires'!$B$3:$J$72,5,FALSE)*$E36,VLOOKUP($F36,'Temps unitaires'!$B$3:$J$72,5,FALSE)) -> 1 | K36: =IF($E36>0,VLOOKUP($F36,'Temps unitaires'!$B$3:$J$72,6,FALSE)*$E36,VLOOKUP($F36,'Temps unitaires'!$B$3:$J$72,6,FALSE)) -> 1 | L36: =IF($E36>0,VLOOKUP($F36,'Temps unitaires'!$B$3:$J$72,7,FALSE)*$E36,VLOOKUP($F36,'Temps unitaires'!$B$3:$J$72,7,FALSE)) -> 1 | M36: =IF($E36>0,VLOOKUP($F36,'Temps unitaires'!$B$3:$J$72,8,FALSE)*$E36,VLOOKUP($F36,'Temps unitaires'!$B$3:$J$72,8,FALSE)) -> 1e-06 | N36: =IF($E36>0,VLOOKUP($F36,'Temps unitaires'!$B$3:$J$72,9,FALSE)*$E36,VLOOKUP($F36,'Temps unitaires'!$B$3:$J$72,9,FALSE)) -> 1 | X36: =SUMPRODUCT(H36:N36,P36:V36)/SUM(H36:N36) -> 0
A37: Centre 1 | B37: CE03-1 | C37: ATR1010 (Près du C1007) | F37: Atr | G37: =SUM(H37:N37) -> 6.000002 | H37: =IF($E37>0,VLOOKUP($F37,'Temps unitaires'!$B$3:$J$72,3,FALSE)*$E37,VLOOKUP($F37,'Temps unitaires'!$B$3:$J$72,3,FALSE)) -> 2 | I37: =IF($E37>0,VLOOKUP($F37,'Temps unitaires'!$B$3:$J$72,4,FALSE)*$E37,VLOOKUP($F37,'Temps unitaires'!$B$3:$J$72,4,FALSE)) -> 1e-06 | J37: =IF($E37>0,VLOOKUP($F37,'Temps unitaires'!$B$3:$J$72,5,FALSE)*$E37,VLOOKUP($F37,'Temps unitaires'!$B$3:$J$72,5,FALSE)) -> 1 | K37: =IF($E37>0,VLOOKUP($F37,'Temps unitaires'!$B$3:$J$72,6,FALSE)*$E37,VLOOKUP($F37,'Temps unitaires'!$B$3:$J$72,6,FALSE)) -> 1 | L37: =IF($E37>0,VLOOKUP($F37,'Temps unitaires'!$B$3:$J$72,7,FALSE)*$E37,VLOOKUP($F37,'Temps unitaires'!$B$3:$J$72,7,FALSE)) -> 1 | M37: =IF($E37>0,VLOOKUP($F37,'Temps unitaires'!$B$3:$J$72,8,FALSE)*$E37,VLOOKUP($F37,'Temps unitaires'!$B$3:$J$72,8,FALSE)) -> 1e-06 | N37: =IF($E37>0,VLOOKUP($F37,'Temps unitaires'!$B$3:$J$72,9,FALSE)*$E37,VLOOKUP($F37,'Temps unitaires'!$B$3:$J$72,9,FALSE)) -> 1 | X37: =SUMPRODUCT(H37:N37,P37:V37)/SUM(H37:N37) -> 0
A38: Centre 1 | B38: CE03-1 | C38: Cm.ZEP1203 (près du C1007) | F38: Commut | G38: =SUM(H38:N38) -> 6.000002 | H38: =IF($E38>0,VLOOKUP($F38,'Temps unitaires'!$B$3:$J$72,3,FALSE)*$E38,VLOOKUP($F38,'Temps unitaires'!$B$3:$J$72,3,FALSE)) -> 2 | I38: =IF($E38>0,VLOOKUP($F38,'Temps unitaires'!$B$3:$J$72,4,FALSE)*$E38,VLOOKUP($F38,'Temps unitaires'!$B$3:$J$72,4,FALSE)) -> 1e-06 | J38: =IF($E38>0,VLOOKUP($F38,'Temps unitaires'!$B$3:$J$72,5,FALSE)*$E38,VLOOKUP($F38,'Temps unitaires'!$B$3:$J$72,5,FALSE)) -> 1 | K38: =IF($E38>0,VLOOKUP($F38,'Temps unitaires'!$B$3:$J$72,6,FALSE)*$E38,VLOOKUP($F38,'Temps unitaires'!$B$3:$J$72,6,FALSE)) -> 1 | L38: =IF($E38>0,VLOOKUP($F38,'Temps unitaires'!$B$3:$J$72,7,FALSE)*$E38,VLOOKUP($F38,'Temps unitaires'!$B$3:$J$72,7,FALSE)) -> 1 | M38: =IF($E38>0,VLOOKUP($F38,'Temps unitaires'!$B$3:$J$72,8,FALSE)*$E38,VLOOKUP($F38,'Temps unitaires'!$B$3:$J$72,8,FALSE)) -> 1e-06 | N38: =IF($E38>0,VLOOKUP($F38,'Temps unitaires'!$B$3:$J$72,9,FALSE)*$E38,VLOOKUP($F38,'Temps unitaires'!$B$3:$J$72,9,FALSE)) -> 1 | X38: =SUMPRODUCT(H38:N38,P38:V38)/SUM(H38:N38) -> 0
A39: Centre 1 | B39: CE03-1 | C39: SVM.Feu rouge V1C | D39: Cb CE2-1.11 (boulé) | F39: Heurtoir | G39: =SUM(H39:N39) -> 9.000002 | H39: =IF($E39>0,VLOOKUP($F39,'Temps unitaires'!$B$3:$J$72,3,FALSE)*$E39,VLOOKUP($F39,'Temps unitaires'!$B$3:$J$72,3,FALSE)) -> 2 | I39: =IF($E39>0,VLOOKUP($F39,'Temps unitaires'!$B$3:$J$72,4,FALSE)*$E39,VLOOKUP($F39,'Temps unitaires'!$B$3:$J$72,4,FALSE)) -> 1e-06 | J39: =IF($E39>0,VLOOKUP($F39,'Temps unitaires'!$B$3:$J$72,5,FALSE)*$E39,VLOOKUP($F39,'Temps unitaires'!$B$3:$J$72,5,FALSE)) -> 1 | K39: =IF($E39>0,VLOOKUP($F39,'Temps unitaires'!$B$3:$J$72,6,FALSE)*$E39,VLOOKUP($F39,'Temps unitaires'!$B$3:$J$72,6,FALSE)) -> 3 | L39: =IF($E39>0,VLOOKUP($F39,'Temps unitaires'!$B$3:$J$72,7,FALSE)*$E39,VLOOKUP($F39,'Temps unitaires'!$B$3:$J$72,7,FALSE)) -> 2 | M39: =IF($E39>0,VLOOKUP($F39,'Temps unitaires'!$B$3:$J$72,8,FALSE)*$E39,VLOOKUP($F39,'Temps unitaires'!$B$3:$J$72,8,FALSE)) -> 1e-06 | N39: =IF($E39>0,VLOOKUP($F39,'Temps unitaires'!$B$3:$J$72,9,FALSE)*$E39,VLOOKUP($F39,'Temps unitaires'!$B$3:$J$72,9,FALSE)) -> 1 | X39: =SUMPRODUCT(H39:N39,P39:V39)/SUM(H39:N39) -> 0
A40: Centre 1 | B40: CE03-1 | C40: TOTAL | G40: =SUM(G26:G39) -> 203.05013 | H40: =SUM(H26:H39) -> 21.000014 | I40: =SUM(I27:I39) -> 2.35e-05 | J40: =SUM(J26:J39) -> 46.000013 | K40: =SUM(K26:K39) -> 83.500025 | L40: =SUM(L26:L39) -> 17.000013 | M40: =SUM(M26:M39) -> 12.800011 | N40: =SUM(N26:N39) -> 22.75 | P40: =SUMPRODUCT(H26:H39,P26:P39)/H40 -> 0 | R40: =SUMPRODUCT(J26:J39,R26:R39)/J40 -> 0 | S40: =SUMPRODUCT(K26:K39,S26:S39)/K40 -> 0 | T40: =SUMPRODUCT(L26:L39,T26:T39)/L40 -> 0 | U40: =SUMPRODUCT(M26:M39,U26:U39)/M40 -> 0 | V40: =SUMPRODUCT(N26:N39,V26:V39)/N40 -> 0 | X40: =SUMPRODUCT(H26:N39,P26:V39)/SUM(H26:N39) -> 0
A41: Centre 1 | B41: CE04-1 | C41: U71 CE04-01 | F41: U71 (Pose) | G41: =SUM(H41:N41) -> 7.250003 | H41: =IF($E41>0,VLOOKUP($F41,'Temps unitaires'!$B$3:$J$72,3,FALSE)*$E41,VLOOKUP($F41,'Temps unitaires'!$B$3:$J$72,3,FALSE)) -> 1e-06 | I41: =IF($E41>0,VLOOKUP($F41,'Temps unitaires'!$B$3:$J$72,4,FALSE)*$E41,VLOOKUP($F41,'Temps unitaires'!$B$3:$J$72,4,FALSE)) -> 1e-06 | J41: =IF($E41>0,VLOOKUP($F41,'Temps unitaires'!$B$3:$J$72,5,FALSE)*$E41,VLOOKUP($F41,'Temps unitaires'!$B$3:$J$72,5,FALSE)) -> 1 | K41: =IF($E41>0,VLOOKUP($F41,'Temps unitaires'!$B$3:$J$72,6,FALSE)*$E41,VLOOKUP($F41,'Temps unitaires'!$B$3:$J$72,6,FALSE)) -> 6 | L41: =IF($E41>0,VLOOKUP($F41,'Temps unitaires'!$B$3:$J$72,7,FALSE)*$E41,VLOOKUP($F41,'Temps unitaires'!$B$3:$J$72,7,FALSE)) -> 0 | M41: =IF($E41>0,VLOOKUP($F41,'Temps unitaires'!$B$3:$J$72,8,FALSE)*$E41,VLOOKUP($F41,'Temps unitaires'!$B$3:$J$72,8,FALSE)) -> 1e-06 | N41: =IF($E41>0,VLOOKUP($F41,'Temps unitaires'!$B$3:$J$72,9,FALSE)*$E41,VLOOKUP($F41,'Temps unitaires'!$B$3:$J$72,9,FALSE)) -> 0.25 | X41: =SUMPRODUCT(H41:N41,P41:V41)/SUM(H41:N41) -> 0
...

Sheet Centre 2
F1: =TODAY() -> 43853
A3: Identification de l'IS | G3: Temps Production - Temps élémentaires | P3: Avancement | Z3: PREPA SUR PARC | AJ3: INSTALLATION EN VOIE ou POSTE | AN3: RACCORDEMENT
A4: Postes | B4: Centres | C4: Travaux | D4: Commentaires : particularité de l'IS | E4: Nbre éléments pour poste | F4: Type IS | G4: TOTAL | H4: Déroulage câble | I4: Equipement poste (Neuf ou Modif) | J4: Prépa Parc | K4: Pose à la voie | L4: Racco voie | M4: Racco Centre | N4: Contrôle | P4: Déroulage câble | Q4: Equipement poste (Neuf ou modif) | R4: Prépa Parc | S4: Pose à la voie | T4: Racco voie | U4: Racco Centre | V4: Contrôle | W4: COMMENTAIRES | Z4: Préparation à réaliser pour | AA4: Relevé terrain | AB4: Méca réalisée par Nom Date | AD4: Câblage réalisé par Nom Date | AF4: Réserves Oui Non | AH4: Réserves | AJ4: Installé par | AK4: Travaux terminé | AL4: Réserves / Commentaires | AN4: Raccordé par | AO4: Travaux terminé | AP4: Réserves / Commentaires
A5: Centre 2 | B5: CE01-1 | C5: U71 CE01-1 | F5: U71 (Pose) | G5: =SUM(H5:N5) -> 7.250003 | H5: =IF($E5>0,VLOOKUP($F5,'Temps unitaires'!$B$3:$J$72,3,FALSE)*$E5,VLOOKUP($F5,'Temps unitaires'!$B$3:$J$72,3,FALSE)) -> 1e-06 | I5: =IF($E5>0,VLOOKUP($F5,'Temps unitaires'!$B$3:$J$72,4,FALSE)*$E5,VLOOKUP($F5,'Temps unitaires'!$B$3:$J$72,4,FALSE)) -> 1e-06 | J5: =IF($E5>0,VLOOKUP($F5,'Temps unitaires'!$B$3:$J$72,5,FALSE)*$E5,VLOOKUP($F5,'Temps unitaires'!$B$3:$J$72,5,FALSE)) -> 1 | K5: =IF($E5>0,VLOOKUP($F5,'Temps unitaires'!$B$3:$J$72,6,FALSE)*$E5,VLOOKUP($F5,'Temps unitaires'!$B$3:$J$72,6,FALSE)) -> 6 | L5: =IF($E5>0,VLOOKUP($F5,'Temps unitaires'!$B$3:$J$72,7,FALSE)*$E5,VLOOKUP($F5,'Temps unitaires'!$B$3:$J$72,7,FALSE)) -> 0 | M5: =IF($E5>0,VLOOKUP($F5,'Temps unitaires'!$B$3:$J$72,8,FALSE)*$E5,VLOOKUP($F5,'Temps unitaires'!$B$3:$J$72,8,FALSE)) -> 1e-06 | N5: =IF($E5>0,VLOOKUP($F5,'Temps unitaires'!$B$3:$J$72,9,FALSE)*$E5,VLOOKUP($F5,'Temps unitaires'!$B$3:$J$72,9,FALSE)) -> 0.25 | X5: =SUMPRODUCT(H5:N5,P5:V5)/SUM(H5:N5) -> 0
A6: Centre 2 | B6: CE01-1 | C6: U71 CE01-1 | F6: Câbles Princ | G6: =SUM(H6:N6) -> 3.000005 | H6: =IF($E6>0,VLOOKUP($F6,'Temps unitaires'!$B$3:$J$72,3,FALSE)*$E6,VLOOKUP($F6,'Temps unitaires'!$B$3:$J$72,3,FALSE)) -> 1e-06 | I6: =IF($E6>0,VLOOKUP($F6,'Temps unitaires'!$B$3:$J$72,4,FALSE)*$E6,VLOOKUP($F6,'Temps unitaires'!$B$3:$J$72,4,FALSE)) -> 1e-06 | J6: =IF($E6>0,VLOOKUP($F6,'Temps unitaires'!$B$3:$J$72,5,FALSE)*$E6,VLOOKUP($F6,'Temps unitaires'!$B$3:$J$72,5,FALSE)) -> 1e-06 | K6: =IF($E6>0,VLOOKUP($F6,'Temps unitaires'!$B$3:$J$72,6,FALSE)*$E6,VLOOKUP($F6,'Temps unitaires'!$B$3:$J$72,6,FALSE)) -> 1e-06 | L6: =IF($E6>0,VLOOKUP($F6,'Temps unitaires'!$B$3:$J$72,7,FALSE)*$E6,VLOOKUP($F6,'Temps unitaires'!$B$3:$J$72,7,FALSE)) -> 1e-06 | M6: =IF($E6>0,VLOOKUP($F6,'Temps unitaires'!$B$3:$J$72,8,FALSE)*$E6,VLOOKUP($F6,'Temps unitaires'!$B$3:$J$72,8,FALSE)) -> 2 | N6: =IF($E6>0,VLOOKUP($F6,'Temps unitaires'!$B$3:$J$72,9,FALSE)*$E6,VLOOKUP($F6,'Temps unitaires'!$B$3:$J$72,9,FALSE)) -> 1 | X6: =SUMPRODUCT(H6:N6,P6:V6)/SUM(H6:N6) -> 0
A7: Centre 2 | B7: CE01-1 | C7: U71 CE01-1 | E7: 3 | F7: Câbles Locaux | G7: =SUM(H7:N7) -> 3.900015 | H7: =IF($E7>0,VLOOKUP($F7,'Temps unitaires'!$B$3:$J$72,3,FALSE)*$E7,VLOOKUP($F7,'Temps unitaires'!$B$3:$J$72,3,FALSE)) -> 3e-06 | I7: =IF($E7>0,VLOOKUP($F7,'Temps unitaires'!$B$3:$J$72,4,FALSE)*$E7,VLOOKUP($F7,'Temps unitaires'!$B$3:$J$72,4,FALSE)) -> 3e-06 | J7: =IF($E7>0,VLOOKUP($F7,'Temps unitaires'!$B$3:$J$72,5,FALSE)*$E7,VLOOKUP($F7,'Temps unitaires'!$B$3:$J$72,5,FALSE)) -> 3e-06 | K7: =IF($E7>0,VLOOKUP($F7,'Temps unitaires'!$B$3:$J$72,6,FALSE)*$E7,VLOOKUP($F7,'Temps unitaires'!$B$3:$J$72,6,FALSE)) -> 3e-06 | L7: =IF($E7>0,VLOOKUP($F7,'Temps unitaires'!$B$3:$J$72,7,FALSE)*$E7,VLOOKUP($F7,'Temps unitaires'!$B$3:$J$72,7,FALSE)) -> 3e-06 | M7: =IF($E7>0,VLOOKUP($F7,'Temps unitaires'!$B$3:$J$72,8,FALSE)*$E7,VLOOKUP($F7,'Temps unitaires'!$B$3:$J$72,8,FALSE)) -> 2.4 | N7: =IF($E7>0,VLOOKUP($F7,'Temps unitaires'!$B$3:$J$72,9,FALSE)*$E7,VLOOKUP($F7,'Temps unitaires'!$B$3:$J$72,9,FALSE)) -> 1.5 | X7: =SUMPRODUCT(H7:N7,P7:V7)/SUM(H7:N7) -> 0
A8: Centre 2 | B8: CE01-1 | C8: SVM.Pd1702 | F8: Pd méca | G8: =SUM(H8:N8) -> 9.000002 | H8: =IF($E8>0,VLOOKUP($F8,'Temps unitaires'!$B$3:$J$72,3,FALSE)*$E8,VLOOKUP($F8,'Temps unitaires'!$B$3:$J$72,3,FALSE)) -> 2 | I8: =IF($E8>0,VLOOKUP($F8,'Temps unitaires'!$B$3:$J$72,4,FALSE)*$E8,VLOOKUP($F8,'Temps unitaires'!$B$3:$J$72,4,FALSE)) -> 1e-06 | J8: =IF($E8>0,VLOOKUP($F8,'Temps unitaires'!$B$3:$J$72,5,FALSE)*$E8,VLOOKUP($F8,'Temps unitaires'!$B$3:$J$72,5,FALSE)) -> 1 | K8: =IF($E8>0,VLOOKUP($F8,'Temps unitaires'!$B$3:$J$72,6,FALSE)*$E8,VLOOKUP($F8,'Temps unitaires'!$B$3:$J$72,6,FALSE)) -> 2 | L8: =IF($E8>0,VLOOKUP($F8,'Temps unitaires'!$B$3:$J$72,7,FALSE)*$E8,VLOOKUP($F8,'Temps unitaires'!$B$3:$J$72,7,FALSE)) -> 2 | M8: =IF($E8>0,VLOOKUP($F8,'Temps unitaires'!$B$3:$J$72,8,FALSE)*$E8,VLOOKUP($F8,'Temps unitaires'!$B$3:$J$72,8,FALSE)) -> 1e-06 | N8: =IF($E8>0,VLOOKUP($F8,'Temps unitaires'!$B$3:$J$72,9,FALSE)*$E8,VLOOKUP($F8,'Temps unitaires'!$B$3:$J$72,9,FALSE)) -> 2 | X8: =SUMPRODUCT(H8:N8,P8:V8)/SUM(H8:N8) -> 0
A9: Centre 2 | B9: CE01-1 | C9: VCm.Au1702 | F9: VCM | G9: =SUM(H9:N9) -> 6.000002 | H9: =IF($E9>0,VLOOKUP($F9,'Temps unitaires'!$B$3:$J$72,3,FALSE)*$E9,VLOOKUP($F9,'Temps unitaires'!$B$3:$J$72,3,FALSE)) -> 2 | I9: =IF($E9>0,VLOOKUP($F9,'Temps unitaires'!$B$3:$J$72,4,FALSE)*$E9,VLOOKUP($F9,'Temps unitaires'!$B$3:$J$72,4,FALSE)) -> 1e-06 | J9: =IF($E9>0,VLOOKUP($F9,'Temps unitaires'!$B$3:$J$72,5,FALSE)*$E9,VLOOKUP($F9,'Temps unitaires'!$B$3:$J$72,5,FALSE)) -> 1 | K9: =IF($E9>0,VLOOKUP($F9,'Temps unitaires'!$B$3:$J$72,6,FALSE)*$E9,VLOOKUP($F9,'Temps unitaires'!$B$3:$J$72,6,FALSE)) -> 1 | L9: =IF($E9>0,VLOOKUP($F9,'Temps unitaires'!$B$3:$J$72,7,FALSE)*$E9,VLOOKUP($F9,'Temps unitaires'!$B$3:$J$72,7,FALSE)) -> 1 | M9: =IF($E9>0,VLOOKUP($F9,'Temps unitaires'!$B$3:$J$72,8,FALSE)*$E9,VLOOKUP($F9,'Temps unitaires'!$B$3:$J$72,8,FALSE)) -> 1e-06 | N9: =IF($E9>0,VLOOKUP($F9,'Temps unitaires'!$B$3:$J$72,9,FALSE)*$E9,VLOOKUP($F9,'Temps unitaires'!$B$3:$J$72,9,FALSE)) -> 1 | X9: =SUMPRODUCT(H9:N9,P9:V9)/SUM(H9:N9) -> 0
A10: Centre 2 | B10: CE01-1 | C10: Au1702 | F10: Voyant | G10: =SUM(H10:N10) -> 6.000002 | H10: =IF($E10>0,VLOOKUP($F10,'Temps unitaires'!$B$3:$J$72,3,FALSE)*$E10,VLOOKUP($F10,'Temps unitaires'!$B$3:$J$72,3,FALSE)) -> 2 | I10: =IF($E10>0,VLOOKUP($F10,'Temps unitaires'!$B$3:$J$72,4,FALSE)*$E10,VLOOKUP($F10,'Temps unitaires'!$B$3:$J$72,4,FALSE)) -> 1e-06 | J10: =IF($E10>0,VLOOKUP($F10,'Temps unitaires'!$B$3:$J$72,5,FALSE)*$E10,VLOOKUP($F10,'Temps unitaires'!$B$3:$J$72,5,FALSE)) -> 1 | K10: =IF($E10>0,VLOOKUP($F10,'Temps unitaires'!$B$3:$J$72,6,FALSE)*$E10,VLOOKUP($F10,'Temps unitaires'!$B$3:$J$72,6,FALSE)) -> 1 | L10: =IF($E10>0,VLOOKUP($F10,'Temps unitaires'!$B$3:$J$72,7,FALSE)*$E10,VLOOKUP($F10,'Temps unitaires'!$B$3:$J$72,7,FALSE)) -> 1 | M10: =IF($E10>0,VLOOKUP($F10,'Temps unitaires'!$B$3:$J$72,8,FALSE)*$E10,VLOOKUP($F10,'Temps unitaires'!$B$3:$J$72,8,FALSE)) -> 1e-06 | N10: =IF($E10>0,VLOOKUP($F10,'Temps unitaires'!$B$3:$J$72,9,FALSE)*$E10,VLOOKUP($F10,'Temps unitaires'!$B$3:$J$72,9,FALSE)) -> 1 | X10: =SUMPRODUCT(H10:N10,P10:V10)/SUM(H10:N10) -> 0
A11: Centre 2 | B11: CE01-1 | C11: Tel.Pt1702 | F11: Tél | G11: =SUM(H11:N11) -> 6.000002 | H11: =IF($E11>0,VLOOKUP($F11,'Temps unitaires'!$B$3:$J$72,3,FALSE)*$E11,VLOOKUP($F11,'Temps unitaires'!$B$3:$J$72,3,FALSE)) -> 2 | I11: =IF($E11>0,VLOOKUP($F11,'Temps unitaires'!$B$3:$J$72,4,FALSE)*$E11,VLOOKUP($F11,'Temps unitaires'!$B$3:$J$72,4,FALSE)) -> 1e-06 | J11: =IF($E11>0,VLOOKUP($F11,'Temps unitaires'!$B$3:$J$72,5,FALSE)*$E11,VLOOKUP($F11,'Temps unitaires'!$B$3:$J$72,5,FALSE)) -> 1 | K11: =IF($E11>0,VLOOKUP($F11,'Temps unitaires'!$B$3:$J$72,6,FALSE)*$E11,VLOOKUP($F11,'Temps unitaires'!$B$3:$J$72,6,FALSE)) -> 1 | L11: =IF($E11>0,VLOOKUP($F11,'Temps unitaires'!$B$3:$J$72,7,FALSE)*$E11,VLOOKUP($F11,'Temps unitaires'!$B$3:$J$72,7,FALSE)) -> 1 | M11: =IF($E11>0,VLOOKUP($F11,'Temps unitaires'!$B$3:$J$72,8,FALSE)*$E11,VLOOKUP($F11,'Temps unitaires'!$B$3:$J$72,8,FALSE)) -> 1e-06 | N11: =IF($E11>0,VLOOKUP($F11,'Temps unitaires'!$B$3:$J$72,9,FALSE)*$E11,VLOOKUP($F11,'Temps unitaires'!$B$3:$J$72,9,FALSE)) -> 1 | X11: =SUMPRODUCT(H11:N11,P11:V11)/SUM(H11:N11) -> 0
A12: Centre 2 | B12: CE01-1 | C12: TOTAL | G12: =SUM(G5:G11) -> 41.150031 | H12: =SUM(H5:H11) -> 8.000005 | I12: =SUM(I5:I11) -> 9e-06 | J12: =SUM(J5:J11) -> 5.000004 | K12: =SUM(K5:K11) -> 11.000004 | L12: =SUM(L5:L11) -> 5.000004 | M12: =SUM(M5:M11) -> 4.400005 | N12: =SUM(N5:N11) -> 7.75 | P12: =SUMPRODUCT(H5:H11,P5:P11)/H12 -> 0 | R12: =SUMPRODUCT(J5:J11,R5:R11)/J12 -> 0 | S12: =SUMPRODUCT(K5:K11,S5:S11)/K12 -> 0 | T12: =SUMPRODUCT(L5:L11,T5:T11)/L12 -> 0 | U12: =SUMPRODUCT(M5:M11,U5:U11)/M12 -> 0 | V12: =SUMPRODUCT(N5:N11,V5:V11)/N12 -> 0 | X12: =SUMPRODUCT(H5:N11,P5:V11)/SUM(H12:N12) -> 0
A13: Centre 2 | B13: CE02-1 | C13: U71 CE02-1 | F13: U71 (Pose) | G13: =SUM(H13:N13) -> 7.250003 | H13: =IF($E13>0,VLOOKUP($F13,'Temps unitaires'!$B$3:$J$72,3,FALSE)*$E13,VLOOKUP($F13,'Temps unitaires'!$B$3:$J$72,3,FALSE)) -> 1e-06 | I13: =IF($E13>0,VLOOKUP($F13,'Temps unitaires'!$B$3:$J$72,4,FALSE)*$E13,VLOOKUP($F13,'Temps unitaires'!$B$3:$J$72,4,FALSE)) -> 1e-06 | J13: =IF($E13>0,VLOOKUP($F13,'Temps unitaires'!$B$3:$J$72,5,FALSE)*$E13,VLOOKUP($F13,'Temps unitaires'!$B$3:$J$72,5,FALSE)) -> 1 | K13: =IF($E13>0,VLOOKUP($F13,'Temps unitaires'!$B$3:$J$72,6,FALSE)*$E13,VLOOKUP($F13,'Temps unitaires'!$B$3:$J$72,6,FALSE)) -> 6 | L13: =IF($E13>0,VLOOKUP($F13,'Temps unitaires'!$B$3:$J$72,7,FALSE)*$E13,VLOOKUP($F13,'Temps unitaires'!$B$3:$J$72,7,FALSE)) -> 0 | M13: =IF($E13>0,VLOOKUP($F13,'Temps unitaires'!$B$3:$J$72,8,FALSE)*$E13,VLOOKUP($F13,'Temps unitaires'!$B$3:$J$72,8,FALSE)) -> 1e-06 | N13: =IF($E13>0,VLOOKUP($F13,'Temps unitaires'!$B$3:$J$72,9,FALSE)*$E13,VLOOKUP($F13,'Temps unitaires'!$B$3:$J$72,9,FALSE)) -> 0.25 | X13: =SUMPRODUCT(H13:N13,P13:V13)/SUM(H13:N13) -> 0
A14: Centre 2 | B14: CE02-1 | C14: U71 CE02-1 | E14: 2 | F14: Câbles Princ | G14: =SUM(H14:N14) -> 6.00001 | H14: =IF($E14>0,VLOOKUP($F14,'Temps unitaires'!$B$3:$J$72,3,FALSE)*$E14,VLOOKUP($F14,'Temps unitaires'!$B$3:$J$72,3,FALSE)) -> 2e-06 | I14: =IF($E14>0,VLOOKUP($F14,'Temps unitaires'!$B$3:$J$72,4,FALSE)*$E14,VLOOKUP($F14,'Temps unitaires'!$B$3:$J$72,4,FALSE)) -> 2e-06 | J14: =IF($E14>0,VLOOKUP($F14,'Temps unitaires'!$B$3:$J$72,5,FALSE)*$E14,VLOOKUP($F14,'Temps unitaires'!$B$3:$J$72,5,FALSE)) -> 2e-06 | K14: =IF($E14>0,VLOOKUP($F14,'Temps unitaires'!$B$3:$J$72,6,FALSE)*$E14,VLOOKUP($F14,'Temps unitaires'!$B$3:$J$72,6,FALSE)) -> 2e-06 | L14: =IF($E14>0,VLOOKUP($F14,'Temps unitaires'!$B$3:$J$72,7,FALSE)*$E14,VLOOKUP($F14,'Temps unitaires'!$B$3:$J$72,7,FALSE)) -> 2e-06 | M14: =IF($E14>0,VLOOKUP($F14,'Temps unitaires'!$B$3:$J$72,8,FALSE)*$E14,VLOOKUP($F14,'Temps unitaires'!$B$3:$J$72,8,FALSE)) -> 4 | N14: =IF($E14>0,VLOOKUP($F14,'Temps unitaires'!$B$3:$J$72,9,FALSE)*$E14,VLOOKUP($F14,'Temps unitaires'!$B$3:$J$72,9,FALSE)) -> 2 | X14: =SUMPRODUCT(H14:N14,P14:V14)/SUM(H14:N14) -> 0
A15: Centre 2 | B15: CE02-1 | C15: U71 CE02-1 | D15: Cb CE2-1.10 (boulé) | E15: 10 | F15: Câbles Locaux | G15: =SUM(H15:N15) -> 13.00005 | H15: =IF($E15>0,VLOOKUP($F15,'Temps unitaires'!$B$3:$J$72,3,FALSE)*$E15,VLOOKUP($F15,'Temps unitaires'!$B$3:$J$72,3,FALSE)) -> 1e-05 | I15: =IF($E15>0,VLOOKUP($F15,'Temps unitaires'!$B$3:$J$72,4,FALSE)*$E15,VLOOKUP($F15,'Temps unitaires'!$B$3:$J$72,4,FALSE)) -> 1e-05 | J15: =IF($E15>0,VLOOKUP($F15,'Temps unitaires'!$B$3:$J$72,5,FALSE)*$E15,VLOOKUP($F15,'Temps unitaires'!$B$3:$J$72,5,FALSE)) -> 1e-05 | K15: =IF($E15>0,VLOOKUP($F15,'Temps unitaires'!$B$3:$J$72,6,FALSE)*$E15,VLOOKUP($F15,'Temps unitaires'!$B$3:$J$72,6,FALSE)) -> 1e-05 | L15: =IF($E15>0,VLOOKUP($F15,'Temps unitaires'!$B$3:$J$72,7,FALSE)*$E15,VLOOKUP($F15,'Temps unitaires'!$B$3:$J$72,7,FALSE)) -> 1e-05 | M15: =IF($E15>0,VLOOKUP($F15,'Temps unitaires'!$B$3:$J$72,8,FALSE)*$E15,VLOOKUP($F15,'Temps unitaires'!$B$3:$J$72,8,FALSE)) -> 8 | N15: =IF($E15>0,VLOOKUP($F15,'Temps unitaires'!$B$3:$J$72,9,FALSE)*$E15,VLOOKUP($F15,'Temps unitaires'!$B$3:$J$72,9,FALSE)) -> 5 | X15: =SUMPRODUCT(H15:N15,P15:V15)/SUM(H15:N15) -> 0
A16: Centre 2 | B16: CE02-1 | C16: STM.Signal C1005 | F16: Signal (Neuf) | G16: =SUM(H16:N16) -> 50.000002 | H16: =IF($E16>0,VLOOKUP($F16,'Temps unitaires'!$B$3:$J$72,3,FALSE)*$E16,VLOOKUP($F16,'Temps unitaires'!$B$3:$J$72,3,FALSE)) -> 2 | I16: =IF($E16>0,VLOOKUP($F16,'Temps unitaires'!$B$3:$J$72,4,FALSE)*$E16,VLOOKUP($F16,'Temps unitaires'!$B$3:$J$72,4,FALSE)) -> 1e-06 | J16: =IF($E16>0,VLOOKUP($F16,'Temps unitaires'!$B$3:$J$72,5,FALSE)*$E16,VLOOKUP($F16,'Temps unitaires'!$B$3:$J$72,5,FALSE)) -> 35 | K16: =IF($E16>0,VLOOKUP($F16,'Temps unitaires'!$B$3:$J$72,6,FALSE)*$E16,VLOOKUP($F16,'Temps unitaires'!$B$3:$J$72,6,FALSE)) -> 6 | L16: =IF($E16>0,VLOOKUP($F16,'Temps unitaires'!$B$3:$J$72,7,FALSE)*$E16,VLOOKUP($F16,'Temps unitaires'!$B$3:$J$72,7,FALSE)) -> 3 | M16: =IF($E16>0,VLOOKUP($F16,'Temps unitaires'!$B$3:$J$72,8,FALSE)*$E16,VLOOKUP($F16,'Temps unitaires'!$B$3:$J$72,8,FALSE)) -> 1e-06 | N16: =IF($E16>0,VLOOKUP($F16,'Temps unitaires'!$B$3:$J$72,9,FALSE)*$E16,VLOOKUP($F16,'Temps unitaires'!$B$3:$J$72,9,FALSE)) -> 4 | X16: =SUMPRODUCT(H16:N16,P16:V16)/SUM(H16:N16) -> 0
A17: Centre 2 | B17: CE02-1 | C17: Signal G1005 (caisson G) | F17: Caisson (sur Mat) | G17: =SUM(H17:N17) -> 14.000002 | H17: =IF($E17>0,VLOOKUP($F17,'Temps unitaires'!$B$3:$J$72,3,FALSE)*$E17,VLOOKUP($F17,'Temps unitaires'!$B$3:$J$72,3,FALSE)) -> 2 | I17: =IF($E17>0,VLOOKUP($F17,'Temps unitaires'!$B$3:$J$72,4,FALSE)*$E17,VLOOKUP($F17,'Temps unitaires'!$B$3:$J$72,4,FALSE)) -> 1e-06 | J17: =IF($E17>0,VLOOKUP($F17,'Temps unitaires'!$B$3:$J$72,5,FALSE)*$E17,VLOOKUP($F17,'Temps unitaires'!$B$3:$J$72,5,FALSE)) -> 1 | K17: =IF($E17>0,VLOOKUP($F17,'Temps unitaires'!$B$3:$J$72,6,FALSE)*$E17,VLOOKUP($F17,'Temps unitaires'!$B$3:$J$72,6,FALSE)) -> 8 | L17: =IF($E17>0,VLOOKUP($F17,'Temps unitaires'!$B$3:$J$72,7,FALSE)*$E17,VLOOKUP($F17,'Temps unitaires'!$B$3:$J$72,7,FALSE)) -> 2 | M17: =IF($E17>0,VLOOKUP($F17,'Temps unitaires'!$B$3:$J$72,8,FALSE)*$E17,VLOOKUP($F17,'Temps unitaires'!$B$3:$J$72,8,FALSE)) -> 1e-06 | N17: =IF($E17>0,VLOOKUP($F17,'Temps unitaires'!$B$3:$J$72,9,FALSE)*$E17,VLOOKUP($F17,'Temps unitaires'!$B$3:$J$72,9,FALSE)) -> 1 | X17: =SUMPRODUCT(H17:N17,P17:V17)/SUM(H17:N17) -> 0
A18: Centre 2 | B18: CE02-1 | C18: SVM.Pd1005 | F18: Pd méca | G18: =SUM(H18:N18) -> 9.000002 | H18: =IF($E18>0,VLOOKUP($F18,'Temps unitaires'!$B$3:$J$72,3,FALSE)*$E18,VLOOKUP($F18,'Temps unitaires'!$B$3:$J$72,3,FALSE)) -> 2 | I18: =IF($E18>0,VLOOKUP($F18,'Temps unitaires'!$B$3:$J$72,4,FALSE)*$E18,VLOOKUP($F18,'Temps unitaires'!$B$3:$J$72,4,FALSE)) -> 1e-06 | J18: =IF($E18>0,VLOOKUP($F18,'Temps unitaires'!$B$3:$J$72,5,FALSE)*$E18,VLOOKUP($F18,'Temps unitaires'!$B$3:$J$72,5,FALSE)) -> 1 | K18: =IF($E18>0,VLOOKUP($F18,'Temps unitaires'!$B$3:$J$72,6,FALSE)*$E18,VLOOKUP($F18,'Temps unitaires'!$B$3:$J$72,6,FALSE)) -> 2 | L18: =IF($E18>0,VLOOKUP($F18,'Temps unitaires'!$B$3:$J$72,7,FALSE)*$E18,VLOOKUP($F18,'Temps unitaires'!$B$3:$J$72,7,FALSE)) -> 2 | M18: =IF($E18>0,VLOOKUP($F18,'Temps unitaires'!$B$3:$J$72,8,FALSE)*$E18,VLOOKUP($F18,'Temps unitaires'!$B$3:$J$72,8,FALSE)) -> 1e-06 | N18: =IF($E18>0,VLOOKUP($F18,'Temps unitaires'!$B$3:$J$72,9,FALSE)*$E18,VLOOKUP($F18,'Temps unitaires'!$B$3:$J$72,9,FALSE)) -> 2 | X18: =SUMPRODUCT(H18:N18,P18:V18)/SUM(H18:N18) -> 0
