Workbook
Name chant: [1]Listes!#REF!
Name CN: [1]Listes!$G$2:$G$8
Name Code: '[1]Colonne transfert Lanc. (HS)'!$A$2:$A$94
Name Couleur: [1]Listes!$A$2:$A$170
Name dessinateur: [1]Listes!$D$2:$D$10
Name Image_P: [1]Listes!$E$2:$E$133
Name Image_R: [1]Listes!#REF!
Name Lancement: Lancement!$A$2:$U$5
Name Lancement: '[1]Colonne transfert Lanc. (HS)'!$A$2:$BE$194
Name Matière: [1]Listes!$B$2:$B$21
Name Opération: [1]Listes!#REF!
Name Recoupe: [1]Listes!#REF!
Name Sens_de_fil: [1]Listes!#REF!
Name Tri: [1]Listes!#REF!
Name X: [1]Listes!#REF!
Name Zone_montage: [1]Listes!#REF!

Sheet Lancement
A1: Code | C1: Désignation | D1: Information 1 | E1: Information 2 | F1: Information 3 | G1: Longueur | H1: Largeur | I1: Epaisseur | L1: Matériau | U1: Image fiche débit
A2: TEST01 | C2: PLATEAU1 | D2: INFO1 | E2: INFO2 | F2: INFO3 | G2: 500 | H2: 300 | I2: 19 | L2: PPMS | U2: image1.svg
A3: TEST02 | C3: PLATEAU2 | D3: INFO1 | E3: INFO2 | F3: INFO3 | G3: 800 | H3: 444 | I3: 19 | L3: PPMS | U3: image2.svg
A4: TEST03 | C4: PLATEAU3 | D4: INFO1 | E4: INFO2 | F4: INFO3 | G4: 700 | H4: 111 | I4: 19 | L4: PPMS | U4: image44.svg
A5: TEST04 | C5: PLATEAU4 | D5: INFO1 | E5: INFO2 | F5: INFO3 | G5: 600 | H5: 222 | I5: 19 | L5: PPMS | U5: image16.svg

Sheet DEBIT
C2: Client :
C3: Destinataire :
J4: n° Commande:
A7: Réf. : | C7: Qté. : | D7: 1 | E7: Produit :
A9: REF. PIECE | C9: Qté. | D9: Qté. Total | E9: Longueur | F9: Largeur | G9: Ep. | H9: REF. PAN couleur | I9: OBSERVATION
A11: TEST01 | C11: 1 | D11: =$D$7*C11 -> 1 | E11: =IF($A11<>"",VLOOKUP($A11,Lancement!$A$2:$U$5,7),"") -> 500 | F11: =IF($A11<>"",VLOOKUP($A11,Lancement!$A$2:$U$5,8),"") -> 300 | G11: =IF($A11<>"",VLOOKUP($A11,Lancement!$A$2:$U$5,9),"") -> 19
A12: =IF($A11<>"",VLOOKUP($A11,Lancement!$A$2:$U$5,3),"") -> PLATEAU1 | H12: =IF($A11<>"",VLOOKUP($A11,Lancement!$A$2:$U$5,12),"") -> PPMS
A13: =IF($A11<>"",VLOOKUP($A11,Lancement!$A$2:$U$5,4),"") -> INFO1
A14: =IF($A11<>"",VLOOKUP($A11,Lancement!$A$2:$U$5,5),"") -> INFO2
A15: =IF($A11<>"",VLOOKUP($A11,Lancement!$A$2:$U$5,6),"") -> INFO3 | O15: =IF($A11<>"",VLOOKUP($A11,Lancement!$A$2:$U$5,21),"") -> image1.svg
A16: TEST02 | C16: 1 | D16: =$D$7*C16 -> 1 | E16: =IF($A16<>"",VLOOKUP($A16,Lancement!$A$2:$U$5,7),"") -> 800 | F16: =IF($A16<>"",VLOOKUP($A16,Lancement!$A$2:$U$5,8),"") -> 444 | G16: =IF($A16<>"",VLOOKUP($A16,Lancement!$A$2:$U$5,9),"") -> 19
A17: =IF($A16<>"",VLOOKUP($A16,Lancement!$A$2:$U$5,3),"") -> PLATEAU2 | H17: =IF($A16<>"",VLOOKUP($A16,Lancement!$A$2:$U$5,12),"") -> PPMS
A18: =IF($A16<>"",VLOOKUP($A16,Lancement!$A$2:$U$5,4),"") -> INFO1
A19: =IF($A16<>"",VLOOKUP($A16,Lancement!$A$2:$U$5,5),"") -> INFO2
A20: =IF($A16<>"",VLOOKUP($A16,Lancement!$A$2:$U$5,6),"") -> INFO3 | O20: =IF($A16<>"",VLOOKUP($A16,Lancement!$A$2:$U$5,21),"") -> image2.svg
A21: TEST03 | C21: 1 | D21: =$D$7*C21 -> 1 | E21: =IF($A21<>"",VLOOKUP($A21,Lancement!$A$2:$U$5,7),"") -> 700 | F21: =IF($A21<>"",VLOOKUP($A21,Lancement!$A$2:$U$5,8),"") -> 111 | G21: =IF($A21<>"",VLOOKUP($A21,Lancement!$A$2:$U$5,9),"") -> 19
A22: =IF($A21<>"",VLOOKUP($A21,Lancement!$A$2:$U$5,3),"") -> PLATEAU3 | H22: =IF($A21<>"",VLOOKUP($A21,Lancement!$A$2:$U$5,12),"") -> PPMS
A23: =IF($A21<>"",VLOOKUP($A21,Lancement!$A$2:$U$5,4),"") -> INFO1
A24: =IF($A21<>"",VLOOKUP($A21,Lancement!$A$2:$U$5,5),"") -> INFO2
A25: =IF($A21<>"",VLOOKUP($A21,Lancement!$A$2:$U$5,6),"") -> INFO3 | O25: =IF($A21<>"",VLOOKUP($A21,Lancement!$A$2:$U$5,21),"") -> image44.svg
A26: TEST04 | C26: 1 | D26: =$D$7*C26 -> 1 | E26: =IF($A26<>"",VLOOKUP($A26,Lancement!$A$2:$U$5,7),"") -> 600 | F26: =IF($A26<>"",VLOOKUP($A26,Lancement!$A$2:$U$5,8),"") -> 222 | G26: =IF($A26<>"",VLOOKUP($A26,Lancement!$A$2:$U$5,9),"") -> 19
A27: =IF($A26<>"",VLOOKUP($A26,Lancement!$A$2:$U$5,3),"") -> PLATEAU4 | H27: =IF($A26<>"",VLOOKUP($A26,Lancement!$A$2:$U$5,12),"") -> PPMS
A28: =IF($A26<>"",VLOOKUP($A26,Lancement!$A$2:$U$5,4),"") -> INFO1
A29: =IF($A26<>"",VLOOKUP($A26,Lancement!$A$2:$U$5,5),"") -> INFO2
A30: =IF($A26<>"",VLOOKUP($A26,Lancement!$A$2:$U$5,6),"") -> INFO3 | O30: =IF($A26<>"",VLOOKUP($A26,Lancement!$A$2:$U$5,21),"") -> image16.svg
D31: =$D$7*C31 -> 0 | E31: =IF($A31<>"",VLOOKUP($A31,Lancement!$A$2:$U$5,7),"") | F31: =IF($A31<>"",VLOOKUP($A31,Lancement!$A$2:$U$5,8),"") | G31: =IF($A31<>"",VLOOKUP($A31,Lancement!$A$2:$U$5,9),"")
A32: =IF($A31<>"",VLOOKUP($A31,Lancement!$A$2:$U$5,3),"") | H32: =IF($A31<>"",VLOOKUP($A31,Lancement!$A$2:$U$5,12),"")
A33: =IF($A31<>"",VLOOKUP($A31,Lancement!$A$2:$U$5,21),"")
A34: =IF($A31<>"",VLOOKUP($A31,Lancement!$A$2:$U$5,5),"")
A35: =IF($A31<>"",VLOOKUP($A31,Lancement!$A$2:$U$5,6),"") | O35: =IF($A31<>"",VLOOKUP($A31,Lancement!$A$2:$U$5,21),"")
D36: =$D$7*C36 -> 0 | E36: =IF($A36<>"",VLOOKUP($A36,Lancement!$A$2:$U$5,7),"") | F36: =IF($A36<>"",VLOOKUP($A36,Lancement!$A$2:$U$5,8),"") | G36: =IF($A36<>"",VLOOKUP($A36,Lancement!$A$2:$U$5,9),"")
A37: =IF($A36<>"",VLOOKUP($A36,Lancement!$A$2:$U$5,3),"") | H37: =IF($A36<>"",VLOOKUP($A36,Lancement!$A$2:$U$5,12),"")
A38: =IF($A36<>"",VLOOKUP($A36,Lancement!$A$2:$U$5,4),"")
A39: =IF($A36<>"",VLOOKUP($A36,Lancement!$A$2:$U$5,5),"")
A40: =IF($A36<>"",VLOOKUP($A36,Lancement!$A$2:$U$5,6),"") | O40: =IF($A36<>"",VLOOKUP($A36,Lancement!$A$2:$U$5,21),"")
D41: =$D$7*C41 -> 0 | E41: =IF($A41<>"",VLOOKUP($A41,Lancement!$A$2:$U$5,7),"") | F41: =IF($A41<>"",VLOOKUP($A41,Lancement!$A$2:$U$5,8),"") | G41: =IF($A41<>"",VLOOKUP($A41,Lancement!$A$2:$U$5,9),"")
A42: =IF($A41<>"",VLOOKUP($A41,Lancement!$A$2:$U$5,3),"") | H42: =IF($A41<>"",VLOOKUP($A41,Lancement!$A$2:$U$5,12),"")
A43: =IF($A41<>"",VLOOKUP($A41,Lancement!$A$2:$U$5,4),"")
A44: =IF($A41<>"",VLOOKUP($A41,Lancement!$A$2:$U$5,5),"")
A45: =IF($A41<>"",VLOOKUP($A41,Lancement!$A$2:$U$5,6),"") | O45: =IF($A41<>"",VLOOKUP($A41,Lancement!$A$2:$U$5,21),"")
D46: =$D$7*C46 -> 0 | E46: =IF($A46<>"",VLOOKUP($A46,Lancement!$A$2:$U$5,7),"") | F46: =IF($A46<>"",VLOOKUP($A46,Lancement!$A$2:$U$5,8),"") | G46: =IF($A46<>"",VLOOKUP($A46,Lancement!$A$2:$U$5,9),"")
A47: =IF($A46<>"",VLOOKUP($A46,Lancement!$A$2:$U$5,3),"") | H47: =IF($A46<>"",VLOOKUP($A46,Lancement!$A$2:$U$5,12),"")
A48: =IF($A46<>"",VLOOKUP($A46,Lancement!$A$2:$U$5,4),"")
A49: =IF($A46<>"",VLOOKUP($A46,Lancement!$A$2:$U$5,5),"")
A50: =IF($A46<>"",VLOOKUP($A46,Lancement!$A$2:$U$5,6),"") | O50: =IF($A46<>"",VLOOKUP($A46,Lancement!$A$2:$U$5,21),"")
D51: =$D$7*C51 -> 0 | E51: =IF($A51<>"",VLOOKUP($A51,Lancement!$A$2:$U$5,7),"") | F51: =IF($A51<>"",VLOOKUP($A51,Lancement!$A$2:$U$5,8),"") | G51: =IF($A51<>"",VLOOKUP($A51,Lancement!$A$2:$U$5,9),"")
A52: =IF($A51<>"",VLOOKUP($A51,Lancement!$A$2:$U$5,3),"") | H52: =IF($A51<>"",VLOOKUP($A51,Lancement!$A$2:$U$5,12),"")
A53: =IF($A51<>"",VLOOKUP($A51,Lancement!$A$2:$U$5,4),"")
A54: =IF($A51<>"",VLOOKUP($A51,Lancement!$A$2:$U$5,5),"")
A55: =IF($A51<>"",VLOOKUP($A51,Lancement!$A$2:$U$5,6),"") | O55: =IF($A51<>"",VLOOKUP($A51,Lancement!$A$2:$U$5,21),"")
