Workbook

Sheet Début

Sheet Répartition Banques
A1: Répartition Banques
A4: Banque | B4: Encours Conso | C4: CA Conso | D4: Encours Hypo | E4: CA Hypo | G4: Total Encours | H4: Total CA
A5: Créatis | B5: =SUMIFS(Flo!$E$9:$E$23,Flo!$C$9:$C$23,"Créatis",Flo!$D$9:$D$23,"<>*Propriétaire hypo*")+SUMIFS(Ale!$E$9:$E$23,Ale!$C$9:$C$23,"Créatis",Ale!$D$9:$D$23,"<>*Propriétaire hypo*") -> 0 | C5: =SUMIFS(Flo!$F$9:$F$23,Flo!$C$9:$C$23,"Créatis",Flo!$D$9:$D$23,"<>*Propriétaire hypo*")+SUMIFS(Ale!$F$9:$F$23,Ale!$C$9:$C$23,"Créatis",Ale!$D$9:$D$23,"<>*Propriétaire hypo*") -> 0 | D5: =SUMIFS(Flo!$E$9:$E$23,Flo!$C$9:$C$23,"Créatis",Flo!$D$9:$D$23,"Propriétaire hypo")+SUMIFS(Ale!$E$9:$E$23,Ale!$C$9:$C$23,"Créatis",Ale!$D$9:$D$23,"Propriétaire hypo") -> 4500 | E5: =SUMIFS(Flo!$F$9:$F$23,Flo!$C$9:$C$23,"Créatis",Flo!$D$9:$D$23,"Propriétaire hypo")+SUMIFS(Ale!$F$9:$F$23,Ale!$C$9:$C$23,"Créatis",Ale!$D$9:$D$23,"Propriétaire hypo") -> 2000 | G5: =+B5+D5 -> 4500 | H5: =+C5+E5 -> 2000
A6: Credit Lift | B6: =SUMIFS(Flo!$E$9:$E$23,Flo!$C$9:$C$23,"CreditLift",Flo!$D$9:$D$23,"<>*Propriétaire hypo*")+SUMIFS(Ale!$E$9:$E$23,Ale!$C$9:$C$23,"CreditLift",Ale!$D$9:$D$23,"<>*Propriétaire hypo*") -> 0 | C6: =SUMIFS(Flo!$F$9:$F$23,Flo!$C$9:$C$23,"CreditLift",Flo!$D$9:$D$23,"<>*Propriétaire hypo*")+SUMIFS(Ale!$F$9:$F$23,Ale!$C$9:$C$23,"CreditLift",Ale!$D$9:$D$23,"<>*Propriétaire hypo*") -> 0 | D6: =SUMIFS(Flo!$E$9:$E$23,Flo!$C$9:$C$23,"CreditLift",Flo!$D$9:$D$23,"Propriétaire hypo")+SUMIFS(Ale!$E$9:$E$23,Ale!$C$9:$C$23,"CreditLift",Ale!$D$9:$D$23,"Propriétaire hypo") -> 0 | E6: =SUMIFS(Flo!$F$9:$F$23,Flo!$C$9:$C$23,"CreditLift",Flo!$D$9:$D$23,"Propriétaire hypo")+SUMIFS(Ale!$F$9:$F$23,Ale!$C$9:$C$23,"CreditLift",Ale!$D$9:$D$23,"Propriétaire hypo") -> 0 | G6: =+B6+D6 -> 0 | H6: =+C6+E6 -> 0
A7: CFCAL | B7: =SUMIFS(Flo!$E$9:$E$23,Flo!$C$9:$C$23,"CFCAL",Flo!$D$9:$D$23,"<>*Propriétaire hypo*")+SUMIFS(Ale!$E$9:$E$23,Ale!$C$9:$C$23,"CFCAL",Ale!$D$9:$D$23,"<>*Propriétaire hypo*") -> 0 | C7: =SUMIFS(Flo!$F$9:$F$23,Flo!$C$9:$C$23,"CFCAL",Flo!$D$9:$D$23,"<>*Propriétaire hypo*")+SUMIFS(Ale!$F$9:$F$23,Ale!$C$9:$C$23,"CFCAL",Ale!$D$9:$D$23,"<>*Propriétaire hypo*") -> 0 | D7: =SUMIFS(Flo!$E$9:$E$23,Flo!$C$9:$C$23,"CFCAL",Flo!$D$9:$D$23,"Propriétaire hypo")+SUMIFS(Ale!$E$9:$E$23,Ale!$C$9:$C$23,"CFCAL",Ale!$D$9:$D$23,"Propriétaire hypo") -> 0 | E7: =SUMIFS(Flo!$F$9:$F$23,Flo!$C$9:$C$23,"CFCAL",Flo!$D$9:$D$23,"Propriétaire hypo")+SUMIFS(Ale!$F$9:$F$23,Ale!$C$9:$C$23,"CFCAL",Ale!$D$9:$D$23,"Propriétaire hypo") -> 0 | G7: =+B7+D7 -> 0 | H7: =+C7+E7 -> 0
A8: CGI | B8: =SUMIFS(Flo!$E$9:$E$23,Flo!$C$9:$C$23,"CGI",Flo!$D$9:$D$23,"<>*Propriétaire hypo*")+SUMIFS(Ale!$E$9:$E$23,Ale!$C$9:$C$23,"CGI",Ale!$D$9:$D$23,"<>*Propriétaire hypo*") -> 0 | C8: =SUMIFS(Flo!$F$9:$F$23,Flo!$C$9:$C$23,"CGI",Flo!$D$9:$D$23,"<>*Propriétaire hypo*")+SUMIFS(Ale!$F$9:$F$23,Ale!$C$9:$C$23,"CGI",Ale!$D$9:$D$23,"<>*Propriétaire hypo*") -> 0 | D8: =SUMIFS(Flo!$E$9:$E$23,Flo!$C$9:$C$23,"CGI",Flo!$D$9:$D$23,"Propriétaire hypo")+SUMIFS(Ale!$E$9:$E$23,Ale!$C$9:$C$23,"CGI",Ale!$D$9:$D$23,"Propriétaire hypo") -> 0 | E8: =SUMIFS(Flo!$F$9:$F$23,Flo!$C$9:$C$23,"CGI",Flo!$D$9:$D$23,"Propriétaire hypo")+SUMIFS(Ale!$F$9:$F$23,Ale!$C$9:$C$23,"CGI",Ale!$D$9:$D$23,"Propriétaire hypo") -> 0 | G8: =+B8+D8 -> 0 | H8: =+C8+E8 -> 0
A9: My Money Bank | B9: =SUMIFS(Flo!$E$9:$E$23,Flo!$C$9:$C$23,"My Money Bank",Flo!$D$9:$D$23,"<>*Propriétaire hypo*")+SUMIFS(Ale!$E$9:$E$23,Ale!$C$9:$C$23,"My Money Bank",Ale!$D$9:$D$23,"<>*Propriétaire hypo*") -> 0 | C9: =SUMIFS(Flo!$F$9:$F$23,Flo!$C$9:$C$23,"My Money Bank",Flo!$D$9:$D$23,"<>*Propriétaire hypo*")+SUMIFS(Ale!$F$9:$F$23,Ale!$C$9:$C$23,"My Money Bank",Ale!$D$9:$D$23,"<>*Propriétaire hypo*") -> 0 | D9: =SUMIFS(Flo!$E$9:$E$23,Flo!$C$9:$C$23,"My Money Bank",Flo!$D$9:$D$23,"Propriétaire hypo")+SUMIFS(Ale!$E$9:$E$23,Ale!$C$9:$C$23,"My Money Bank",Ale!$D$9:$D$23,"Propriétaire hypo") -> 300 | E9: =SUMIFS(Flo!$F$9:$F$23,Flo!$C$9:$C$23,"My Money Bank",Flo!$D$9:$D$23,"Propriétaire hypo")+SUMIFS(Ale!$F$9:$F$23,Ale!$C$9:$C$23,"My Money Bank",Ale!$D$9:$D$23,"Propriétaire hypo") -> 100 | G9: =+B9+D9 -> 300 | H9: =+C9+E9 -> 100
A10: Sygma | B10: =SUMIFS(Flo!$E$9:$E$23,Flo!$C$9:$C$23,"Sygma",Flo!$D$9:$D$23,"<>*Propriétaire hypo*")+SUMIFS(Ale!$E$9:$E$23,Ale!$C$9:$C$23,"Sygma",Ale!$D$9:$D$23,"<>*Propriétaire hypo*") -> 0 | C10: =SUMIFS(Flo!$F$9:$F$23,Flo!$C$9:$C$23,"Sygma",Flo!$D$9:$D$23,"<>*Propriétaire hypo*")+SUMIFS(Ale!$F$9:$F$23,Ale!$C$9:$C$23,"Sygma",Ale!$D$9:$D$23,"<>*Propriétaire hypo*") -> 0 | D10: =SUMIFS(Flo!$E$9:$E$23,Flo!$C$9:$C$23,"Sygma",Flo!$D$9:$D$23,"Propriétaire hypo")+SUMIFS(Ale!$E$9:$E$23,Ale!$C$9:$C$23,"Sygma",Ale!$D$9:$D$23,"Propriétaire hypo") -> 0 | E10: =SUMIFS(Flo!$F$9:$F$23,Flo!$C$9:$C$23,"Sygma",Flo!$D$9:$D$23,"Propriétaire hypo")+SUMIFS(Ale!$F$9:$F$23,Ale!$C$9:$C$23,"Sygma",Ale!$D$9:$D$23,"Propriétaire hypo") -> 0 | G10: =+B10+D10 -> 0 | H10: =+C10+E10 -> 0
A13: TOTAL | B13: =SUM(B5:B12) -> 0 | C13: =SUM(C5:C12) -> 0 | D13: =SUM(D5:D12) -> 4800 | E13: =SUM(E5:E12) -> 2100

Sheet Cumul équipes

Sheet Flo
A1: Flo
A3: CA | B3: =+SUMIF(F9:F22,">"& 0) -> 6500
A4: Nbre de dossiers | B4: =+COUNTIF(F9:F22,">"& 0) -> 2
A5: Panier moyen | B5: =B3/B4 -> 3250
A6: Encours global | B6: =+SUMIF(E9:E22,">"& 0) -> 4500
A8: Id fiche | B8: Nom client | C8: Banque | D8: Profil | E8: Montant financé | F8: Facture (CA) | G8: Etat du dossier | H8: Assurance | I8: Quotité
C9: Créatis | D9: Propriétaire hypo | E9: 4500 | F9: 2000
F10: 4500

Sheet Ale
A1: Ale
A3: CA | B3: =+SUMIF(F9:F22,">"& 0) -> 100
A4: Nbre de dossiers | B4: =+COUNTIF(F9:F22,">"& 0) -> 1
A5: Panier moyen | B5: =B3/B4 -> 100
A6: Encours global | B6: =+SUMIF(E9:E22,">"& 0) -> 300
A8: Id fiche | B8: Nom client | C8: Banque | D8: Profil | E8: Montant financé | F8: Facture (CA) | G8: Etat du dossier | H8: Assurance | I8: Quotité
C9: My Money Bank | D9: Propriétaire hypo | E9: 300 | F9: 100

Sheet Salarié1
A3: CA | B3: =+SUMIF(F9:F22,">"& 0) -> 100
A4: Nbre de dossiers | B4: =+COUNTIF(F9:F22,">"& 0) -> 1
A5: Panier moyen | B5: =B3/B4 -> 100
A6: Encours global | B6: =+SUMIF(E9:E22,">"& 0) -> 300
A8: Id fiche | B8: Nom client | C8: Banque | D8: Profil | E8: Montant financé | F8: Facture (CA) | G8: Etat du dossier | H8: Assurance | I8: Quotité
C9: My Money Bank | D9: Propriétaire hypo | E9: 300 | F9: 100

Sheet Salarié2
A3: CA | B3: =+SUMIF(F9:F22,">"& 0) -> 100
A4: Nbre de dossiers | B4: =+COUNTIF(F9:F22,">"& 0) -> 1
A5: Panier moyen | B5: =B3/B4 -> 100
A6: Encours global | B6: =+SUMIF(E9:E22,">"& 0) -> 300
A8: Id fiche | B8: Nom client | C8: Banque | D8: Profil | E8: Montant financé | F8: Facture (CA) | G8: Etat du dossier | H8: Assurance | I8: Quotité
C9: My Money Bank | D9: Propriétaire hypo | E9: 300 | F9: 100

Sheet Config
B2: Créatis
B3: CreditLift
B4: CGI
B5: CFCAL
B6: My Money Bank
B7: Sygma
B10: Propriétaire conso
B11: Propriétaire hypo
B12: Locataire
B15: Accord banque
B16: Offre émise
B17: Offre signée
... B24: Ass. Grp. Emprunteur + Co Emp.
B26: 2
B27: 1

Sheet Fin
