Workbook
Name Dia: OFFSET(listes!$B$1,1,0,COUNTA(listes!$B:$B)-1,1)
Name formes: OFFSET(listes!$A$1,1,0,COUNTA(listes!$A:$A)-1,1)
Name matière: OFFSET(listes!$C$1,1,0,COUNTA(listes!$C:$C)-1,1)

Sheet Base de données
S1: =SUBTOTAL(9,S2:S107) -> 0 | T1: =SUBTOTAL(9,T2:T107) -> 1032.32 | U1: =SUBTOTAL(9,U2:U107) -> 0
A2: Facture N° | B2: Origine | C2: N° déclarat° export | D2: Date déclarat° export | E2: Réf article | F2: Désignation | G2: N° fiche | H2: matière | I2: forme | J2: taille | K2: N° déclarat° import | L2: Qté livrée | M2: Poids net/ pièce | N2: longueur pièce | O2: nbre pièces /barre | P2: pids par barre | Q2: POIDS NET TOTAL | R2: Poids brut/pièce | S2: Qté utilisée | T2: Qté importée | U2: QTE STOCK INIT (Kg) | V2: stock (Kg) | W2: Poids copeaux/ pièce | X2: poids copeaux total | Y2: Participat° dans la FB | Z2: Poids déchet fin de barre total | AA2: POIDS DECHET total
B3: STOCK INITIAL | D3: 42735 | H3: LAITON | I3: Carrée | J3: 6 | S3: 0 | U3: 123.69 | V3: =IF(SUMPRODUCT(MAX((#REF!)*((#REF!=#REF!)*(#REF!=#REF!)*(#REF!=#REF!))))<>#REF!,"",SUMPRODUCT((-#REF!+#REF!+#REF!)*((#REF!=#REF!)*(#REF!=#REF!)*(#REF!=#REF!)))) -> 123.69
B4: STOCK INITIAL | D4: 42735 | H4: LAITON | I4: HEX | J4: 8 | S4: 0 | U4: 40.068 | V4: =IF(SUMPRODUCT(MAX((#REF!)*((#REF!=#REF!)*(#REF!=#REF!)*(#REF!=#REF!))))<>#REF!,"",SUMPRODUCT((-#REF!+#REF!+#REF!)*((#REF!=#REF!)*(#REF!=#REF!)*(#REF!=#REF!))))
B5: STOCK INITIAL | D5: 42735 | H5: LAITON | I5: HEX | J5: 10 | S5: 0 | U5: 346.425 | V5: =IF(SUMPRODUCT(MAX((#REF!)*((#REF!=#REF!)*(#REF!=#REF!)*(#REF!=#REF!))))<>#REF!,"",SUMPRODUCT((-#REF!+#REF!+#REF!)*((#REF!=#REF!)*(#REF!=#REF!)*(#REF!=#REF!)))) -> 346.425
B6: STOCK INITIAL | D6: 42735 | H6: LAITON | I6: HEX | J6: 12 | S6: 0 | U6: 77.184 | V6: =IF(SUMPRODUCT(MAX((#REF!)*((#REF!=#REF!)*(#REF!=#REF!)*(#REF!=#REF!))))<>#REF!,"",SUMPRODUCT((-#REF!+#REF!+#REF!)*((#REF!=#REF!)*(#REF!=#REF!)*(#REF!=#REF!))))
B7: STOCK INITIAL | D7: 42735 | H7: LAITON | I7: HEX | J7: 14 | S7: 0 | U7: 293.259 | V7: =IF(SUMPRODUCT(MAX((#REF!)*((#REF!=#REF!)*(#REF!=#REF!)*(#REF!=#REF!))))<>#REF!,"",SUMPRODUCT((-#REF!+#REF!+#REF!)*((#REF!=#REF!)*(#REF!=#REF!)*(#REF!=#REF!)))) -> 293.259
B8: STOCK INITIAL | D8: 42735 | H8: LAITON | I8: HEX | J8: 17 | S8: 0 | U8: 238.872 | V8: =IF(SUMPRODUCT(MAX((#REF!)*((#REF!=#REF!)*(#REF!=#REF!)*(#REF!=#REF!))))<>#REF!,"",SUMPRODUCT((-#REF!+#REF!+#REF!)*((#REF!=#REF!)*(#REF!=#REF!)*(#REF!=#REF!)))) -> 238.872
B9: STOCK INITIAL | D9: 42735 | H9: LAITON | I9: HEX | J9: 19 | S9: 0 | U9: 24.21 | V9: =IF(SUMPRODUCT(MAX((#REF!)*((#REF!=#REF!)*(#REF!=#REF!)*(#REF!=#REF!))))<>#REF!,"",SUMPRODUCT((-#REF!+#REF!+#REF!)*((#REF!=#REF!)*(#REF!=#REF!)*(#REF!=#REF!)))) -> 24.21
B10: STOCK INITIAL | D10: 42735 | H10: LAITON | I10: HEX | J10: 27 | S10: 0 | U10: 48.87 | V10: =IF(SUMPRODUCT(MAX((#REF!)*((#REF!=#REF!)*(#REF!=#REF!)*(#REF!=#REF!))))<>#REF!,"",SUMPRODUCT((-#REF!+#REF!+#REF!)*((#REF!=#REF!)*(#REF!=#REF!)*(#REF!=#REF!)))) -> 48.87
B11: STOCK INITIAL | D11: 42735 | H11: LAITON | I11: ROND | J11: 4 | S11: 0 | U11: 47.628 | V11: =IF(SUMPRODUCT(MAX((#REF!)*((#REF!=#REF!)*(#REF!=#REF!)*(#REF!=#REF!))))<>#REF!,"",SUMPRODUCT((-#REF!+#REF!+#REF!)*((#REF!=#REF!)*(#REF!=#REF!)*(#REF!=#REF!)))) -> 47.628
B12: STOCK INITIAL | D12: 42735 | H12: LAITON | I12: ROND | J12: 5 | S12: 0 | U12: 82.641 | V12: =IF(SUMPRODUCT(MAX((#REF!)*((#REF!=#REF!)*(#REF!=#REF!)*(#REF!=#REF!))))<>#REF!,"",SUMPRODUCT((-#REF!+#REF!+#REF!)*((#REF!=#REF!)*(#REF!=#REF!)*(#REF!=#REF!)))) -> 82.641
B13: STOCK INITIAL | D13: 42735 | H13: LAITON | I13: ROND | J13: 6 | S13: 0 | U13: 48.114 | V13: =IF(SUMPRODUCT(MAX((#REF!)*((#REF!=#REF!)*(#REF!=#REF!)*(#REF!=#REF!))))<>#REF!,"",SUMPRODUCT((-#REF!+#REF!+#REF!)*((#REF!=#REF!)*(#REF!=#REF!)*(#REF!=#REF!))))
B14: STOCK INITIAL | D14: 42735 | H14: LAITON | I14: ROND | J14: 7 | S14: 0 | U14: 100.293 | V14: =IF(SUMPRODUCT(MAX((#REF!)*((#REF!=#REF!)*(#REF!=#REF!)*(#REF!=#REF!))))<>#REF!,"",SUMPRODUCT((-#REF!+#REF!+#REF!)*((#REF!=#REF!)*(#REF!=#REF!)*(#REF!=#REF!))))
... B25: STOCK INITIAL | D25: 42735 | H25: LAITON | I25: ROND | J25: 24 | S25: 0 | U25: 46.68 | V25: =IF(SUMPRODUCT(MAX((#REF!)*((#REF!=#REF!)*(#REF!=#REF!)*(#REF!=#REF!))))<>#REF!,"",SUMPRODUCT((-#REF!+#REF!+#REF!)*((#REF!=#REF!)*(#REF!=#REF!)*(#REF!=#REF!)))) -> 46.68
B26: achat | D26: 42754 | H26: LAITON | I26: ROND | J26: 18 | S26: 0 | T26: 211 | V26: =IF(SUMPRODUCT(MAX((#REF!)*((#REF!=#REF!)*(#REF!=#REF!)*(#REF!=#REF!))))<>#REF!,"",SUMPRODUCT((-#REF!+#REF!+#REF!)*((#REF!=#REF!)*(#REF!=#REF!)*(#REF!=#REF!)))) | AA26: =SUBTOTAL(9,AA3:AA25) -> 0
B27: achat | D27: 42754 | H27: LAITON | I27: ROND | J27: 22 | S27: 0 | T27: 1964 | V27: =IF(SUMPRODUCT(MAX((#REF!)*((#REF!=#REF!)*(#REF!=#REF!)*(#REF!=#REF!))))<>#REF!,"",SUMPRODUCT((-#REF!+#REF!+#REF!)*((#REF!=#REF!)*(#REF!=#REF!)*(#REF!=#REF!))))
B28: vente | C28: 546390 | D28: 42801 | E28: 512800 | F28: PERNO DISINNESTO RULLO G16922290 | H28: LAITON | I28: ROND | J28: 7 | L28: 1000 | M28: 0.003421 | N28: 24.5 | O28: =INT(2800/(N28+3)) -> 101 | P28: =((J28/2)*(J28/2)*3.14*9*3)/1000 -> 1.038555 | Q28: =+M28*L28 -> 3.421 | R28: =P28/O28 -> 0.010282723 | S28: 10.282723 | V28: =IF(SUMPRODUCT(MAX((#REF!)*((#REF!=#REF!)*(#REF!=#REF!)*(#REF!=#REF!))))<>#REF!,"",SUMPRODUCT((-#REF!+#REF!+#REF!)*((#REF!=#REF!)*(#REF!=#REF!)*(#REF!=#REF!)))) | W28: =(((P28/3000)*2880)-(M28*O28))/O28 -> 0.0064504139 | X28: =+W28*L28 -> 6.4504139 | Y28: =+((P28/3000)*120)/101 -> 0.00041130891 | Z28: =Y28*L28 -> 0.41130891 | AA28: =S28-Q28 -> 6.8617228
B29: achat | D29: 42816 | H29: LAITON | I29: ROND | J29: 7 | S29: 0 | T29: 250 | V29: =IF(SUMPRODUCT(MAX((#REF!)*((#REF!=#REF!)*(#REF!=#REF!)*(#REF!=#REF!))))<>#REF!,"",SUMPRODUCT((-#REF!+#REF!+#REF!)*((#REF!=#REF!)*(#REF!=#REF!)*(#REF!=#REF!))))
A30: 201700021 | B30: vente | C30: 546763 | D30: 42818 | E30: 200200 | F30: EMBOUT DE TIGE | G30: 146 | H30: LAITON | I30: ROND | J30: 22 | L30: 2000 | M30: 0.07476 | N30: 39.5 | O30: =INT(2800/(N30+3)) -> 65 | P30: =((J30/2)*(J30/2)*3.14*9*3)/1000 -> 10.25838 | Q30: =+M30*L30 -> 149.52 | R30: =P30/O30 -> 0.15782123 | S30: 315.64246 | V30: =IF(SUMPRODUCT(MAX((#REF!)*((#REF!=#REF!)*(#REF!=#REF!)*(#REF!=#REF!))))<>#REF!,"",SUMPRODUCT((-#REF!+#REF!+#REF!)*((#REF!=#REF!)*(#REF!=#REF!)*(#REF!=#REF!)))) | W30: =(((P30/3000)*2880)-(M30*O30))/O30 -> 0.076748382 | X30: =+W30*L30 -> 153.49676 | Y30: =+((P30/3000)*120)/101 -> 0.0040627248 | Z30: =Y30*L30 -> 8.1254495 | AA30: =S30-Q30 -> 166.12246
A31: 201700027 | B31: vente | C31: 547184 | D31: 42832 | E31: 510020 | F31: INSERTO ESAG,M6 8*6 | G31: 139 | H31: LAITON | I31: HEX | J31: 8 | L31: 20000 | M31: 0.001446 | N31: 6 | O31: =INT(2800/(N31+3)) -> 311 | P31: =((J31*J31)*0.866*9*3)/1000 -> 1.496448 | Q31: =+L31*M31 -> 28.92 | R31: =P31/O31 -> 0.0048117299 | S31: 96.234598 | V31: =IF(SUMPRODUCT(MAX((#REF!)*((#REF!=#REF!)*(#REF!=#REF!)*(#REF!=#REF!))))<>#REF!,"",SUMPRODUCT((-#REF!+#REF!+#REF!)*((#REF!=#REF!)*(#REF!=#REF!)*(#REF!=#REF!)))) | W31: =(((P31/3000)*2880)-(M31*O31))/O31 -> 0.0031732607 | X31: =+W31*L31 -> 63.465214 | Y31: =+((P31/3000)*120)/101 -> 0.00059265267 | Z31: =Y31*L31 -> 11.853053 | AA31: =S31-Q31 -> 67.314598
A32: 201700027 | B32: vente | C32: 547184 | D32: 42832 | E32: 512800 | F32: PERNO DISINNESTO RULLO G16922290 | H32: LAITON | I32: ROND | J32: 7 | L32: 10000 | M32: 0.003421 | N32: 24.5 | O32: =INT(2800/(N32+3)) -> 101 | P32: =((J32/2)*(J32/2)*3.14*9*3)/1000 -> 1.038555 | Q32: =+M32*L32 -> 34.21 | R32: =P32/O32 -> 0.010282723 | S32: 102.82723 | V32: =IF(SUMPRODUCT(MAX((#REF!)*((#REF!=#REF!)*(#REF!=#REF!)*(#REF!=#REF!))))<>#REF!,"",SUMPRODUCT((-#REF!+#REF!+#REF!)*((#REF!=#REF!)*(#REF!=#REF!)*(#REF!=#REF!)))) | W32: =(((P32/3000)*2880)-(M32*O32))/O32 -> 0.0064504139 | X32: =+W32*L32 -> 64.504139 | Y32: =+((P32/3000)*120)/101 -> 0.00041130891 | Z32: =Y32*L32 -> 4.1130891 | AA32: =S32-Q32 -> 68.617228
A33: 201700034 | B33: vente | C33: 547321 | D33: 42839 | E33: 200200 | F33: EMBOUT DE TIGE | H33: LAITON | I33: ROND | J33: 22 | L33: 2500 | M33: 0.07476 | N33: 39.5 | O33: =INT(2800/(N33+3)) -> 65 | P33: =((J33/2)*(J33/2)*3.14*9*3)/1000 -> 10.25838 | Q33: =+M33*L33 -> 186.9 | R33: =P33/O33 -> 0.15782123 | S33: 394.55308 | V33: =IF(SUMPRODUCT(MAX((#REF!)*((#REF!=#REF!)*(#REF!=#REF!)*(#REF!=#REF!))))<>#REF!,"",SUMPRODUCT((-#REF!+#REF!+#REF!)*((#REF!=#REF!)*(#REF!=#REF!)*(#REF!=#REF!)))) | W33: =(((P33/3000)*2880)-(M33*O33))/O33 -> 0.076748382 | X33: =+W33*L33 -> 191.87095 | Y33: =+((P33/3000)*120)/101 -> 0.0040627248 | Z33: =Y33*L33 -> 10.156812 | AA33: =S33-Q33 -> 207.65308
B34: achat | D34: 42857 | H34: LAITON | I34: HEX | J34: 8 | S34: 0 | T34: 150.4 | V34: =IF(SUMPRODUCT(MAX((#REF!)*((#REF!=#REF!)*(#REF!=#REF!)*(#REF!=#REF!))))<>#REF!,"",SUMPRODUCT((-#REF!+#REF!+#REF!)*((#REF!=#REF!)*(#REF!=#REF!)*(#REF!=#REF!))))
A35: 201700044 | B35: vente | C35: 547817 | D35: 42861 | E35: 510020 | F35: INSERTO ESAG,M6 8*6 | G35: 139 | H35: LAITON | I35: HEX | J35: 8 | L35: 3540 | M35: 0.001446 | N35: 6 | O35: =INT(2800/(N35+3)) -> 311 | P35: =((J35*J35)*0.866*9*3)/1000 -> 1.496448 | Q35: =+L35*M35 -> 5.11884 | R35: =P35/O35 -> 0.0048117299 | S35: 17.033524 | V35: =IF(SUMPRODUCT(MAX((#REF!)*((#REF!=#REF!)*(#REF!=#REF!)*(#REF!=#REF!))))<>#REF!,"",SUMPRODUCT((-#REF!+#REF!+#REF!)*((#REF!=#REF!)*(#REF!=#REF!)*(#REF!=#REF!)))) | W35: =(((P35/3000)*2880)-(M35*O35))/O35 -> 0.0031732607 | X35: =+W35*L35 -> 11.233343 | Y35: =+((P35/3000)*120)/101 -> 0.00059265267 | Z35: =Y35*L35 -> 2.0979905 | AA35: =S35-Q35 -> 11.914684
A36: 201700044 | B36: vente | C36: 547817 | D36: 42861 | E36: 510090 | F36: INSERTI M8 12*12 laiton hex12 | G36: 141 | H36: LAITON | I36: HEX | J36: 12 | L36: 5100 | M36: 0.00325 | N36: 12 | O36: =INT(2800/(N36+3)) -> 186 | P36: =((J36*J36)*0.866*9*3)/1000 -> 3.367008 | Q36: =+L36*M36 -> 16.575 | R36: =P36/O36 -> 0.018102194 | S36: 92.321187 | V36: =IF(SUMPRODUCT(MAX((#REF!)*((#REF!=#REF!)*(#REF!=#REF!)*(#REF!=#REF!))))<>#REF!,"",SUMPRODUCT((-#REF!+#REF!+#REF!)*((#REF!=#REF!)*(#REF!=#REF!)*(#REF!=#REF!)))) | W36: =(((P36/3000)*2880)-(M36*O36))/O36 -> 0.014128106 | X36: =+W36*L36 -> 72.05334 | Y36: =+((P36/3000)*120)/101 -> 0.0013334685 | Z36: =Y36*L36 -> 6.8006894 | AA36: =S36-Q36 -> 75.746187
A37: 201700044 | B37: vente | C37: 547817 | D37: 42861 | E37: 512800 | F37: PERNO DISINNESTO RULLO G16922290 | H37: LAITON | I37: ROND | J37: 7 | L37: 17400 | M37: 0.003421 | N37: 24.5 | O37: =INT(2800/(N37+3)) -> 101 | P37: =((J37/2)*(J37/2)*3.14*9*3)/1000 -> 1.038555 | Q37: =+M37*L37 -> 59.5254 | R37: =P37/O37 -> 0.010282723 | S37: 178.91938 | V37: =IF(SUMPRODUCT(MAX((#REF!)*((#REF!=#REF!)*(#REF!=#REF!)*(#REF!=#REF!))))<>#REF!,"",SUMPRODUCT((-#REF!+#REF!+#REF!)*((#REF!=#REF!)*(#REF!=#REF!)*(#REF!=#REF!)))) | W37: =(((P37/3000)*2880)-(M37*O37))/O37 -> 0.0064504139 | X37: =+W37*L37 -> 112.2372 | Y37: =+((P37/3000)*120)/101 -> 0.00041130891 | Z37: =Y37*L37 -> 7.156775 | AA37: =S37-Q37 -> 119.39398
A38: 201700038 | B38: vente | C38: 547903 | D38: 42866 | E38: 200200 | F38: EMBOUT DE TIGE | H38: LAITON | I38: ROND | J38: 22 | L38: 1500 | M38: 0.07476 | N38: 39.5 | O38: =INT(2800/(N38+3)) -> 65 | P38: =((J38/2)*(J38/2)*3.14*9*3)/1000 -> 10.25838 | Q38: =+M38*L38 -> 112.14 | R38: =P38/O38 -> 0.15782123 | S38: 236.73185 | V38: =IF(SUMPRODUCT(MAX((#REF!)*((#REF!=#REF!)*(#REF!=#REF!)*(#REF!=#REF!))))<>#REF!,"",SUMPRODUCT((-#REF!+#REF!+#REF!)*((#REF!=#REF!)*(#REF!=#REF!)*(#REF!=#REF!)))) | W38: =(((P38/3000)*2880)-(M38*O38))/O38 -> 0.076748382 | X38: =+W38*L38 -> 115.12257 | Y38: =+((P38/3000)*120)/101 -> 0.0040627248 | Z38: =Y38*L38 -> 6.0940871 | AA38: =S38-Q38 -> 124.59185
B39: achat | D39: 42885 | H39: LAITON | I39: ROND | J39: 7 | S39: 0 | T39: 250 | V39: =IF(SUMPRODUCT(MAX((#REF!)*((#REF!=#REF!)*(#REF!=#REF!)*(#REF!=#REF!))))<>#REF!,"",SUMPRODUCT((-#REF!+#REF!+#REF!)*((#REF!=#REF!)*(#REF!=#REF!)*(#REF!=#REF!))))
B40: achat | D40: 42885 | H40: LAITON | I40: HEX | J40: 12 | S40: 0 | T40: 250 | V40: =IF(SUMPRODUCT(MAX((#REF!)*((#REF!=#REF!)*(#REF!=#REF!)*(#REF!=#REF!))))<>#REF!,"",SUMPRODUCT((-#REF!+#REF!+#REF!)*((#REF!=#REF!)*(#REF!=#REF!)*(#REF!=#REF!))))
A41: 201700054 | B41: vente | C41: 548450 | D41: 42893 | E41: 510020 | F41: INSERTO ESAG,M6 8*6 | G41: 139 | H41: LAITON | I41: HEX | J41: 8 | L41: 26460 | M41: 0.001446 | N41: 6 | O41: =INT(2800/(N41+3)) -> 311 | P41: =((J41*J41)*0.866*9*3)/1000 -> 1.496448 | Q41: =+L41*M41 -> 38.26116 | R41: =P41/O41 -> 0.0048117299 | S41: 127.31837 | V41: =IF(SUMPRODUCT(MAX((#REF!)*((#REF!=#REF!)*(#REF!=#REF!)*(#REF!=#REF!))))<>#REF!,"",SUMPRODUCT((-#REF!+#REF!+#REF!)*((#REF!=#REF!)*(#REF!=#REF!)*(#REF!=#REF!)))) | W41: =(((P41/3000)*2880)-(M41*O41))/O41 -> 0.0031732607 | X41: =+W41*L41 -> 83.964478 | Y41: =+((P41/3000)*120)/101 -> 0.00059265267 | Z41: =Y41*L41 -> 15.68159 | AA41: =S41-Q41 -> 89.057213
A42: 201700054 | B42: vente | C42: 548450 | D42: 42893 | E42: 512800 | F42: PERNO DISINNESTO RULLO G16922290 | H42: LAITON | I42: ROND | J42: 7 | L42: 9100 | M42: 0.003421 | N42: 24.5 | O42: =INT(2800/(N42+3)) -> 101 | P42: =((J42/2)*(J42/2)*3.14*9*3)/1000 -> 1.038555 | Q42: =+M42*L42 -> 31.1311 | R42: =P42/O42 -> 0.010282723 | S42: 93.572777 | V42: =IF(SUMPRODUCT(MAX((#REF!)*((#REF!=#REF!)*(#REF!=#REF!)*(#REF!=#REF!))))<>#REF!,"",SUMPRODUCT((-#REF!+#REF!+#REF!)*((#REF!=#REF!)*(#REF!=#REF!)*(#REF!=#REF!)))) | W42: =(((P42/3000)*2880)-(M42*O42))/O42 -> 0.0064504139 | X42: =+W42*L42 -> 58.698766 | Y42: =+((P42/3000)*120)/101 -> 0.00041130891 | Z42: =Y42*L42 -> 3.7429111 | AA42: =S42-Q42 -> 62.441677
A43: 201700061 | B43: vente | C43: 549084 | D43: 42923 | E43: 200200 | F43: EMBOUT DE TIGE | H43: LAITON | I43: ROND | J43: 22 | L43: 1500 | M43: 0.07476 | N43: 39.5 | O43: =INT(2800/(N43+3)) -> 65 | P43: =((J43/2)*(J43/2)*3.14*9*3)/1000 -> 10.25838 | Q43: =+M43*L43 -> 112.14 | R43: =P43/O43 -> 0.15782123 | S43: 236.73185 | V43: =IF(SUMPRODUCT(MAX((#REF!)*((#REF!=#REF!)*(#REF!=#REF!)*(#REF!=#REF!))))<>#REF!,"",SUMPRODUCT((-#REF!+#REF!+#REF!)*((#REF!=#REF!)*(#REF!=#REF!)*(#REF!=#REF!)))) | W43: =(((P43/3000)*2880)-(M43*O43))/O43 -> 0.076748382 | X43: =+W43*L43 -> 115.12257 | Y43: =+((P43/3000)*120)/101 -> 0.0040627248 | Z43: =Y43*L43 -> 6.0940871 | AA43: =S43-Q43 -> 124.59185
A44: 201700065 | B44: vente | C44: 549089 | D44: 42923 | E44: 510020 | F44: INSERTO ESAG,M6 8*6 | G44: 139 | H44: LAITON | I44: HEX | J44: 8 | L44: 15517 | M44: 0.001446 | N44: 6 | O44: =INT(2800/(N44+3)) -> 311 | P44: =((J44*J44)*0.866*9*3)/1000 -> 1.496448 | Q44: =+L44*M44 -> 22.437582 | R44: =P44/O44 -> 0.0048117299 | S44: 74.663613 | V44: =IF(SUMPRODUCT(MAX((#REF!)*((#REF!=#REF!)*(#REF!=#REF!)*(#REF!=#REF!))))<>#REF!,"",SUMPRODUCT((-#REF!+#REF!+#REF!)*((#REF!=#REF!)*(#REF!=#REF!)*(#REF!=#REF!)))) | W44: =(((P44/3000)*2880)-(M44*O44))/O44 -> 0.0031732607 | X44: =+W44*L44 -> 49.239486 | Y44: =+((P44/3000)*120)/101 -> 0.00059265267 | Z44: =Y44*L44 -> 9.1961915 | AA44: =S44-Q44 -> 52.226031
A45: 201700065 | B45: vente | C45: 549089 | D45: 42923 | E45: 511040 | F45: BRONZINA 16/18X10.3 | G45: 138 | H45: LAITON | I45: ROND | J45: 18 | L45: 865 | M45: 0.003676 | N45: 10.3 | O45: =INT(2800/(N45+3)) -> 210 | P45: =((J45/2)*(J45/2)*3.14*9*3)/1000 -> 6.86718 | Q45: =+M45*L45 -> 3.17974 | R45: =P45/O45 -> 0.032700857 | S45: 28.286241 | V45: =IF(SUMPRODUCT(MAX((#REF!)*((#REF!=#REF!)*(#REF!=#REF!)*(#REF!=#REF!))))<>#REF!,"",SUMPRODUCT((-#REF!+#REF!+#REF!)*((#REF!=#REF!)*(#REF!=#REF!)*(#REF!=#REF!)))) | W45: =(((P45/3000)*2880)-(M45*O45))/O45 -> 0.027716823 | X45: =+W45*L45 -> 23.975052 | Y45: =+((P45/3000)*120)/101 -> 0.0027196752 | Z45: =Y45*L45 -> 2.3525191 | AA45: =S45-Q45 -> 25.106501
A46: 201700065 | B46: vente | C46: 549089 | D46: 42923 | E46: 512800 | F46: PERNO DISINNESTO RULLO G16922290 | H46: LAITON | I46: ROND | J46: 7 | L46: 6000 | M46: 0.003421 | N46: 24.5 | O46: =INT(2800/(N46+3)) -> 101 | P46: =((J46/2)*(J46/2)*3.14*9*3)/1000 -> 1.038555 | Q46: =+M46*L46 -> 20.526 | R46: =P46/O46 -> 0.010282723 | S46: 61.696337 | V46: =IF(SUMPRODUCT(MAX((#REF!)*((#REF!=#REF!)*(#REF!=#REF!)*(#REF!=#REF!))))<>#REF!,"",SUMPRODUCT((-#REF!+#REF!+#REF!)*((#REF!=#REF!)*(#REF!=#REF!)*(#REF!=#REF!)))) | W46: =(((P46/3000)*2880)-(M46*O46))/O46 -> 0.0064504139 | X46: =+W46*L46 -> 38.702483 | Y46: =+((P46/3000)*120)/101 -> 0.00041130891 | Z46: =Y46*L46 -> 2.4678535 | AA46: =S46-Q46 -> 41.170337
B47: achat | D47: 42923 | H47: LAITON | I47: HEX | J47: 8 | S47: 0 | T47: 150.4 | V47: =IF(SUMPRODUCT(MAX((#REF!)*((#REF!=#REF!)*(#REF!=#REF!)*(#REF!=#REF!))))<>#REF!,"",SUMPRODUCT((-#REF!+#REF!+#REF!)*((#REF!=#REF!)*(#REF!=#REF!)*(#REF!=#REF!))))
A48: 201700072 | B48: vente | C48: 549600 | D48: 42950 | E48: 510090 | F48: INSERTI M8 12*12 laiton hex12 | G48: 141 | H48: LAITON | I48: HEX | J48: 12 | L48: 3000 | M48: 0.00325 | N48: 12 | O48: =INT(2800/(N48+3)) -> 186 | P48: =((J48*J48)*0.866*9*3)/1000 -> 3.367008 | Q48: =+L48*M48 -> 9.75 | R48: =P48/O48 -> 0.018102194 | S48: 54.306581 | V48: =IF(SUMPRODUCT(MAX((#REF!)*((#REF!=#REF!)*(#REF!=#REF!)*(#REF!=#REF!))))<>#REF!,"",SUMPRODUCT((-#REF!+#REF!+#REF!)*((#REF!=#REF!)*(#REF!=#REF!)*(#REF!=#REF!)))) | W48: =(((P48/3000)*2880)-(M48*O48))/O48 -> 0.014128106 | X48: =+W48*L48 -> 42.384317 | Y48: =+((P48/3000)*120)/101 -> 0.0013334685 | Z48: =Y48*L48 -> 4.0004055 | AA48: =S48-Q48 -> 44.556581
A49: 201700072 | B49: vente | C49: 549600 | D49: 42950 | E49: 512800 | F49: PERNO DISINNESTO RULLO G16922290 | H49: LAITON | I49: ROND | J49: 7 | L49: 3000 | M49: 0.003421 | N49: 24.5 | O49: =INT(2800/(N49+3)) -> 101 | P49: =((J49/2)*(J49/2)*3.14*9*3)/1000 -> 1.038555 | Q49: =+M49*L49 -> 10.263 | R49: =P49/O49 -> 0.010282723 | S49: 30.848168 | V49: =IF(SUMPRODUCT(MAX((#REF!)*((#REF!=#REF!)*(#REF!=#REF!)*(#REF!=#REF!))))<>#REF!,"",SUMPRODUCT((-#REF!+#REF!+#REF!)*((#REF!=#REF!)*(#REF!=#REF!)*(#REF!=#REF!)))) | W49: =(((P49/3000)*2880)-(M49*O49))/O49 -> 0.0064504139 | X49: =+W49*L49 -> 19.351242 | Y49: =+((P49/3000)*120)/101 -> 0.00041130891 | Z49: =Y49*L49 -> 1.2339267 | AA49: =S49-Q49 -> 20.585168
A50: 201700076 | B50: vente | C50: 530052 | D50: 42984 | E50: 200200 | F50: EMBOUT DE TIGE | H50: LAITON | I50: ROND | J50: 22 | L50: 1500 | M50: 0.07476 | N50: 39.5 | O50: =INT(2800/(N50+3)) -> 65 | P50: =((J50/2)*(J50/2)*3.14*9*3)/1000 -> 10.25838 | Q50: =+M50*L50 -> 112.14 | R50: =P50/O50 -> 0.15782123 | S50: 236.73185 | V50: =IF(SUMPRODUCT(MAX((#REF!)*((#REF!=#REF!)*(#REF!=#REF!)*(#REF!=#REF!))))<>#REF!,"",SUMPRODUCT((-#REF!+#REF!+#REF!)*((#REF!=#REF!)*(#REF!=#REF!)*(#REF!=#REF!)))) | W50: =(((P50/3000)*2880)-(M50*O50))/O50 -> 0.076748382 | X50: =+W50*L50 -> 115.12257 | Y50: =+((P50/3000)*120)/101 -> 0.0040627248 | Z50: =Y50*L50 -> 6.0940871 | AA50: =S50-Q50 -> 124.59185
...

Sheet achat
B1: Laiton
B2: rond
B3: 22
A5: Date Facture d'achat | B5: N° facture | C5: Type | D5: N° Déclaration | E5: Date Déclaration | F5: Désignation | I5: Qté importée | J5: Qté utilisée | K5: N° fiche | L5: Déchet copeaux | N5: Déchet fin de barre | P5: Taux Déchet total
F6: Matière | G6: Forme | H6: Taille | L6: Taux | M6: poids copeaux total | N6: Taux | O6: Poids déchet fin de barre total
A7: =IF(B7=0,E7,"") -> 42754 | B7: {=IFERROR(INDEX('Base de données'!A$2:A$114,SMALL(IF(('Base de données'!$B$2:$B$114<>"stock initial")*('Base de données'!$H$2:$H$114="laiton")*('Base de données'!$I$2:$I$114=$B$2)*('Base de données'!$J$2:$J$114=$B$3*1),ROW('Base de données'!$H$2:$H$114)-1),ROWS($1:1))),"")} -> 0 | D7: {=IFERROR(INDEX('Base de données'!C$2:C$114,SMALL(IF(('Base de données'!$B$2:$B$114<>"stock initial")*('Base de données'!$H$2:$H$114="laiton")*('Base de données'!$I$2:$I$114=$B$2)*('Base de données'!$J$2:$J$114=$B$3*1),ROW('Base de données'!$H$2:$H$114)-1),ROWS($1:1))),"")} -> 0 | E7: {=IFERROR(INDEX('Base de données'!D$2:D$114,SMALL(IF(('Base de données'!$B$2:$B$114<>"stock initial")*('Base de données'!$H$2:$H$114="laiton")*('Base de données'!$I$2:$I$114=$B$2)*('Base de données'!$J$2:$J$114=$B$3*1),ROW('Base de données'!$H$2:$H$114)-1),ROWS($1:1))),"")} -> 42754 | F7: =IF($E7="","",$B$1) -> Laiton | G7: =IF($E7="","",$B$2) -> rond | H7: =IF($E7="","",$B$3) -> 22 | I7: {=IF(AND($D7=0,$E7<>""),IFERROR(INDEX('Base de données'!T$2:T$114,SMALL(IF(('Base de données'!$B$2:$B$114<>"stock initial")*('Base de données'!$H$2:$H$114="laiton")*('Base de données'!$I$2:$I$114=$B$2)*('Base de données'!$J$2:$J$114=$B$3*1),ROW('Base de données'!$H$2:$H$114)-1),ROWS($1:1))),""),IF($E7="","",I6))} -> 1964 | J7: {=IF(D7=0,0,IFERROR(INDEX('Base de données'!S$2:S$114,SMALL(IF(('Base de données'!$B$2:$B$114<>"stock initial")*('Base de données'!$H$2:$H$114="laiton")*('Base de données'!$I$2:$I$114=$B$2)*('Base de données'!$J$2:$J$114=$B$3*1),ROW('Base de données'!$H$2:$H$114)-1),ROWS($1:1))),""))} -> 0 | K7: =[1]Feuil1!G30 -> 146 | L7: =IFERROR(M7/J7,"") | M7: {=IF($D7=0,0,IFERROR(INDEX('Base de données'!X$2:X$114,SMALL(IF(('Base de données'!$B$2:$B$114<>"stock initial")*('Base de données'!$H$2:$H$114="laiton")*('Base de données'!$I$2:$I$114=$B$2)*('Base de données'!$J$2:$J$114=$B$3*1),ROW('Base de données'!$H$2:$H$114)-1),ROWS($1:1))),""))} -> 0 | N7: =IFERROR(O7/J7,"") | O7: {=IF($D7=0,0,IFERROR(INDEX('Base de données'!Z$2:Z$114,SMALL(IF(('Base de données'!$B$2:$B$114<>"stock initial")*('Base de données'!$H$2:$H$114="laiton")*('Base de données'!$I$2:$I$114=$B$2)*('Base de données'!$J$2:$J$114=$B$3*1),ROW('Base de données'!$H$2:$H$114)-1),ROWS($1:1))),""))} -> 0 | P7: =IFERROR((O7+M7)/J7,"")
A8: =IF(B8=0,E8,"") | B8: {=IFERROR(INDEX('Base de données'!A$2:A$114,SMALL(IF(('Base de données'!$B$2:$B$114<>"stock initial")*('Base de données'!$H$2:$H$114="laiton")*('Base de données'!$I$2:$I$114=$B$2)*('Base de données'!$J$2:$J$114=$B$3*1),ROW('Base de données'!$H$2:$H$114)-1),ROWS($1:2))),"")} -> 201700021 | D8: {=IFERROR(INDEX('Base de données'!C$2:C$114,SMALL(IF(('Base de données'!$B$2:$B$114<>"stock initial")*('Base de données'!$H$2:$H$114="laiton")*('Base de données'!$I$2:$I$114=$B$2)*('Base de données'!$J$2:$J$114=$B$3*1),ROW('Base de données'!$H$2:$H$114)-1),ROWS($1:2))),"")} -> 546763 | E8: {=IFERROR(INDEX('Base de données'!D$2:D$114,SMALL(IF(('Base de données'!$B$2:$B$114<>"stock initial")*('Base de données'!$H$2:$H$114="laiton")*('Base de données'!$I$2:$I$114=$B$2)*('Base de données'!$J$2:$J$114=$B$3*1),ROW('Base de données'!$H$2:$H$114)-1),ROWS($1:2))),"")} -> 42818 | F8: =IF(E8="","",$B$1) -> Laiton | G8: =IF($E8="","",$B$2) -> rond | H8: =IF($E8="","",$B$3) -> 22 | I8: {=IF(AND($D8=0,$E8<>""),IFERROR(INDEX('Base de données'!T$2:T$114,SMALL(IF(('Base de données'!$B$2:$B$114<>"stock initial")*('Base de données'!$H$2:$H$114="laiton")*('Base de données'!$I$2:$I$114=$B$2)*('Base de données'!$J$2:$J$114=$B$3*1),ROW('Base de données'!$H$2:$H$114)-1),ROWS($1:2))),""),IF($E8="","",I7))} -> 1964 | J8: {=IF(D8=0,0,IFERROR(INDEX('Base de données'!S$2:S$114,SMALL(IF(('Base de données'!$B$2:$B$114<>"stock initial")*('Base de données'!$H$2:$H$114="laiton")*('Base de données'!$I$2:$I$114=$B$2)*('Base de données'!$J$2:$J$114=$B$3*1),ROW('Base de données'!$H$2:$H$114)-1),ROWS($1:2))),""))} -> 315.64246 | K8: 146 | L8: =IFERROR(M8/J8,"") -> 0.48629947 | M8: {=IF($D8=0,0,IFERROR(INDEX('Base de données'!X$2:X$114,SMALL(IF(('Base de données'!$B$2:$B$114<>"stock initial")*('Base de données'!$H$2:$H$114="laiton")*('Base de données'!$I$2:$I$114=$B$2)*('Base de données'!$J$2:$J$114=$B$3*1),ROW('Base de données'!$H$2:$H$114)-1),ROWS($1:2))),""))} -> 153.49676 | N8: =IFERROR(O8/J8,"") -> 0.025742574 | O8: {=IF($D8=0,0,IFERROR(INDEX('Base de données'!Z$2:Z$114,SMALL(IF(('Base de données'!$B$2:$B$114<>"stock initial")*('Base de données'!$H$2:$H$114="laiton")*('Base de données'!$I$2:$I$114=$B$2)*('Base de données'!$J$2:$J$114=$B$3*1),ROW('Base de données'!$H$2:$H$114)-1),ROWS($1:2))),""))} -> 8.1254495 | P8: =IFERROR((O8+M8)/J8,"") -> 0.51204205
A9: =IF(B9=0,E9,"") | B9: {=IFERROR(INDEX('Base de données'!A$2:A$114,SMALL(IF(('Base de données'!$B$2:$B$114<>"stock initial")*('Base de données'!$H$2:$H$114="laiton")*('Base de données'!$I$2:$I$114=$B$2)*('Base de données'!$J$2:$J$114=$B$3*1),ROW('Base de données'!$H$2:$H$114)-1),ROWS($1:3))),"")} -> 201700034 | D9: {=IFERROR(INDEX('Base de données'!C$2:C$114,SMALL(IF(('Base de données'!$B$2:$B$114<>"stock initial")*('Base de données'!$H$2:$H$114="laiton")*('Base de données'!$I$2:$I$114=$B$2)*('Base de données'!$J$2:$J$114=$B$3*1),ROW('Base de données'!$H$2:$H$114)-1),ROWS($1:3))),"")} -> 547321 | E9: {=IFERROR(INDEX('Base de données'!D$2:D$114,SMALL(IF(('Base de données'!$B$2:$B$114<>"stock initial")*('Base de données'!$H$2:$H$114="laiton")*('Base de données'!$I$2:$I$114=$B$2)*('Base de données'!$J$2:$J$114=$B$3*1),ROW('Base de données'!$H$2:$H$114)-1),ROWS($1:3))),"")} -> 42839 | F9: =IF(E9="","",$B$1) -> Laiton | G9: =IF($E9="","",$B$2) -> rond | H9: =IF($E9="","",$B$3) -> 22 | I9: {=IF(AND($D9=0,$E9<>""),IFERROR(INDEX('Base de données'!T$2:T$114,SMALL(IF(('Base de données'!$B$2:$B$114<>"stock initial")*('Base de données'!$H$2:$H$114="laiton")*('Base de données'!$I$2:$I$114=$B$2)*('Base de données'!$J$2:$J$114=$B$3*1),ROW('Base de données'!$H$2:$H$114)-1),ROWS($1:3))),""),IF($E9="","",I8))} -> 1964 | J9: {=IF(D9=0,0,IFERROR(INDEX('Base de données'!S$2:S$114,SMALL(IF(('Base de données'!$B$2:$B$114<>"stock initial")*('Base de données'!$H$2:$H$114="laiton")*('Base de données'!$I$2:$I$114=$B$2)*('Base de données'!$J$2:$J$114=$B$3*1),ROW('Base de données'!$H$2:$H$114)-1),ROWS($1:3))),""))} -> 394.55308 | K9: 146 | L9: =IFERROR(M9/J9,"") -> 0.48629947 | M9: {=IF($D9=0,0,IFERROR(INDEX('Base de données'!X$2:X$114,SMALL(IF(('Base de données'!$B$2:$B$114<>"stock initial")*('Base de données'!$H$2:$H$114="laiton")*('Base de données'!$I$2:$I$114=$B$2)*('Base de données'!$J$2:$J$114=$B$3*1),ROW('Base de données'!$H$2:$H$114)-1),ROWS($1:3))),""))} -> 191.87095 | N9: =IFERROR(O9/J9,"") -> 0.025742574 | O9: {=IF($D9=0,0,IFERROR(INDEX('Base de données'!Z$2:Z$114,SMALL(IF(('Base de données'!$B$2:$B$114<>"stock initial")*('Base de données'!$H$2:$H$114="laiton")*('Base de données'!$I$2:$I$114=$B$2)*('Base de données'!$J$2:$J$114=$B$3*1),ROW('Base de données'!$H$2:$H$114)-1),ROWS($1:3))),""))} -> 10.156812 | P9: =IFERROR((O9+M9)/J9,"") -> 0.51204205
A10: =IF(B10=0,E10,"") | B10: {=IFERROR(INDEX('Base de données'!A$2:A$114,SMALL(IF(('Base de données'!$B$2:$B$114<>"stock initial")*('Base de données'!$H$2:$H$114="laiton")*('Base de données'!$I$2:$I$114=$B$2)*('Base de données'!$J$2:$J$114=$B$3*1),ROW('Base de données'!$H$2:$H$114)-1),ROWS($1:4))),"")} -> 201700038 | D10: {=IFERROR(INDEX('Base de données'!C$2:C$114,SMALL(IF(('Base de données'!$B$2:$B$114<>"stock initial")*('Base de données'!$H$2:$H$114="laiton")*('Base de données'!$I$2:$I$114=$B$2)*('Base de données'!$J$2:$J$114=$B$3*1),ROW('Base de données'!$H$2:$H$114)-1),ROWS($1:4))),"")} -> 547903 | E10: {=IFERROR(INDEX('Base de données'!D$2:D$114,SMALL(IF(('Base de données'!$B$2:$B$114<>"stock initial")*('Base de données'!$H$2:$H$114="laiton")*('Base de données'!$I$2:$I$114=$B$2)*('Base de données'!$J$2:$J$114=$B$3*1),ROW('Base de données'!$H$2:$H$114)-1),ROWS($1:4))),"")} -> 42866 | F10: =IF(E10="","",$B$1) -> Laiton | G10: =IF($E10="","",$B$2) -> rond | H10: =IF($E10="","",$B$3) -> 22 | I10: {=IF(AND($D10=0,$E10<>""),IFERROR(INDEX('Base de données'!T$2:T$114,SMALL(IF(('Base de données'!$B$2:$B$114<>"stock initial")*('Base de données'!$H$2:$H$114="laiton")*('Base de données'!$I$2:$I$114=$B$2)*('Base de données'!$J$2:$J$114=$B$3*1),ROW('Base de données'!$H$2:$H$114)-1),ROWS($1:4))),""),IF($E10="","",I9))} -> 1964 | J10: {=IF(D10=0,0,IFERROR(INDEX('Base de données'!S$2:S$114,SMALL(IF(('Base de données'!$B$2:$B$114<>"stock initial")*('Base de données'!$H$2:$H$114="laiton")*('Base de données'!$I$2:$I$114=$B$2)*('Base de données'!$J$2:$J$114=$B$3*1),ROW('Base de données'!$H$2:$H$114)-1),ROWS($1:4))),""))} -> 236.73185 | K10: 146 | L10: =IFERROR(M10/J10,"") -> 0.48629947 | M10: {=IF($D10=0,0,IFERROR(INDEX('Base de données'!X$2:X$114,SMALL(IF(('Base de données'!$B$2:$B$114<>"stock initial")*('Base de données'!$H$2:$H$114="laiton")*('Base de données'!$I$2:$I$114=$B$2)*('Base de données'!$J$2:$J$114=$B$3*1),ROW('Base de données'!$H$2:$H$114)-1),ROWS($1:4))),""))} -> 115.12257 | N10: =IFERROR(O10/J10,"") -> 0.025742574 | O10: {=IF($D10=0,0,IFERROR(INDEX('Base de données'!Z$2:Z$114,SMALL(IF(('Base de données'!$B$2:$B$114<>"stock initial")*('Base de données'!$H$2:$H$114="laiton")*('Base de données'!$I$2:$I$114=$B$2)*('Base de données'!$J$2:$J$114=$B$3*1),ROW('Base de données'!$H$2:$H$114)-1),ROWS($1:4))),""))} -> 6.0940871 | P10: =IFERROR((O10+M10)/J10,"") -> 0.51204205
A11: =IF(B11=0,E11,"") | B11: {=IFERROR(INDEX('Base de données'!A$2:A$114,SMALL(IF(('Base de données'!$B$2:$B$114<>"stock initial")*('Base de données'!$H$2:$H$114="laiton")*('Base de données'!$I$2:$I$114=$B$2)*('Base de données'!$J$2:$J$114=$B$3*1),ROW('Base de données'!$H$2:$H$114)-1),ROWS($1:5))),"")} -> 201700061 | D11: {=IFERROR(INDEX('Base de données'!C$2:C$114,SMALL(IF(('Base de données'!$B$2:$B$114<>"stock initial")*('Base de données'!$H$2:$H$114="laiton")*('Base de données'!$I$2:$I$114=$B$2)*('Base de données'!$J$2:$J$114=$B$3*1),ROW('Base de données'!$H$2:$H$114)-1),ROWS($1:5))),"")} -> 549084 | E11: {=IFERROR(INDEX('Base de données'!D$2:D$114,SMALL(IF(('Base de données'!$B$2:$B$114<>"stock initial")*('Base de données'!$H$2:$H$114="laiton")*('Base de données'!$I$2:$I$114=$B$2)*('Base de données'!$J$2:$J$114=$B$3*1),ROW('Base de données'!$H$2:$H$114)-1),ROWS($1:5))),"")} -> 42923 | F11: =IF(E11="","",$B$1) -> Laiton | G11: =IF($E11="","",$B$2) -> rond | H11: =IF($E11="","",$B$3) -> 22 | I11: {=IF(AND($D11=0,$E11<>""),IFERROR(INDEX('Base de données'!T$2:T$114,SMALL(IF(('Base de données'!$B$2:$B$114<>"stock initial")*('Base de données'!$H$2:$H$114="laiton")*('Base de données'!$I$2:$I$114=$B$2)*('Base de données'!$J$2:$J$114=$B$3*1),ROW('Base de données'!$H$2:$H$114)-1),ROWS($1:5))),""),IF($E11="","",I10))} -> 1964 | J11: {=IF(D11=0,0,IFERROR(INDEX('Base de données'!S$2:S$114,SMALL(IF(('Base de données'!$B$2:$B$114<>"stock initial")*('Base de données'!$H$2:$H$114="laiton")*('Base de données'!$I$2:$I$114=$B$2)*('Base de données'!$J$2:$J$114=$B$3*1),ROW('Base de données'!$H$2:$H$114)-1),ROWS($1:5))),""))} -> 236.73185 | K11: 146 | L11: =IFERROR(M11/J11,"") -> 0.48629947 | M11: {=IF($D11=0,0,IFERROR(INDEX('Base de données'!X$2:X$114,SMALL(IF(('Base de données'!$B$2:$B$114<>"stock initial")*('Base de données'!$H$2:$H$114="laiton")*('Base de données'!$I$2:$I$114=$B$2)*('Base de données'!$J$2:$J$114=$B$3*1),ROW('Base de données'!$H$2:$H$114)-1),ROWS($1:5))),""))} -> 115.12257 | N11: =IFERROR(O11/J11,"") -> 0.025742574 | O11: {=IF($D11=0,0,IFERROR(INDEX('Base de données'!Z$2:Z$114,SMALL(IF(('Base de données'!$B$2:$B$114<>"stock initial")*('Base de données'!$H$2:$H$114="laiton")*('Base de données'!$I$2:$I$114=$B$2)*('Base de données'!$J$2:$J$114=$B$3*1),ROW('Base de données'!$H$2:$H$114)-1),ROWS($1:5))),""))} -> 6.0940871 | P11: =IFERROR((O11+M11)/J11,"") -> 0.51204205
A12: =IF(B12=0,E12,"") | B12: {=IFERROR(INDEX('Base de données'!A$2:A$114,SMALL(IF(('Base de données'!$B$2:$B$114<>"stock initial")*('Base de données'!$H$2:$H$114="laiton")*('Base de données'!$I$2:$I$114=$B$2)*('Base de données'!$J$2:$J$114=$B$3*1),ROW('Base de données'!$H$2:$H$114)-1),ROWS($1:6))),"")} -> 201700076 | D12: {=IFERROR(INDEX('Base de données'!C$2:C$114,SMALL(IF(('Base de données'!$B$2:$B$114<>"stock initial")*('Base de données'!$H$2:$H$114="laiton")*('Base de données'!$I$2:$I$114=$B$2)*('Base de données'!$J$2:$J$114=$B$3*1),ROW('Base de données'!$H$2:$H$114)-1),ROWS($1:6))),"")} -> 530052 | E12: {=IFERROR(INDEX('Base de données'!D$2:D$114,SMALL(IF(('Base de données'!$B$2:$B$114<>"stock initial")*('Base de données'!$H$2:$H$114="laiton")*('Base de données'!$I$2:$I$114=$B$2)*('Base de données'!$J$2:$J$114=$B$3*1),ROW('Base de données'!$H$2:$H$114)-1),ROWS($1:6))),"")} -> 42984 | F12: =IF(E12="","",$B$1) -> Laiton | G12: =IF($E12="","",$B$2) -> rond | H12: =IF($E12="","",$B$3) -> 22 | I12: {=IF(AND($D12=0,$E12<>""),IFERROR(INDEX('Base de données'!T$2:T$114,SMALL(IF(('Base de données'!$B$2:$B$114<>"stock initial")*('Base de données'!$H$2:$H$114="laiton")*('Base de données'!$I$2:$I$114=$B$2)*('Base de données'!$J$2:$J$114=$B$3*1),ROW('Base de données'!$H$2:$H$114)-1),ROWS($1:6))),""),IF($E12="","",I11))} -> 1964 | J12: {=IF(D12=0,0,IFERROR(INDEX('Base de données'!S$2:S$114,SMALL(IF(('Base de données'!$B$2:$B$114<>"stock initial")*('Base de données'!$H$2:$H$114="laiton")*('Base de données'!$I$2:$I$114=$B$2)*('Base de données'!$J$2:$J$114=$B$3*1),ROW('Base de données'!$H$2:$H$114)-1),ROWS($1:6))),""))} -> 236.73185 | K12: 146 | L12: =IFERROR(M12/J12,"") -> 0.48629947 | M12: {=IF($D12=0,0,IFERROR(INDEX('Base de données'!X$2:X$114,SMALL(IF(('Base de données'!$B$2:$B$114<>"stock initial")*('Base de données'!$H$2:$H$114="laiton")*('Base de données'!$I$2:$I$114=$B$2)*('Base de données'!$J$2:$J$114=$B$3*1),ROW('Base de données'!$H$2:$H$114)-1),ROWS($1:6))),""))} -> 115.12257 | N12: =IFERROR(O12/J12,"") -> 0.025742574 | O12: {=IF($D12=0,0,IFERROR(INDEX('Base de données'!Z$2:Z$114,SMALL(IF(('Base de données'!$B$2:$B$114<>"stock initial")*('Base de données'!$H$2:$H$114="laiton")*('Base de données'!$I$2:$I$114=$B$2)*('Base de données'!$J$2:$J$114=$B$3*1),ROW('Base de données'!$H$2:$H$114)-1),ROWS($1:6))),""))} -> 6.0940871 | P12: =IFERROR((O12+M12)/J12,"") -> 0.51204205
A13: =IF(B13=0,E13,"") | B13: {=IFERROR(INDEX('Base de données'!A$2:A$114,SMALL(IF(('Base de données'!$B$2:$B$114<>"stock initial")*('Base de données'!$H$2:$H$114="laiton")*('Base de données'!$I$2:$I$114=$B$2)*('Base de données'!$J$2:$J$114=$B$3*1),ROW('Base de données'!$H$2:$H$114)-1),ROWS($1:7))),"")} -> 201700081 | D13: {=IFERROR(INDEX('Base de données'!C$2:C$114,SMALL(IF(('Base de données'!$B$2:$B$114<>"stock initial")*('Base de données'!$H$2:$H$114="laiton")*('Base de données'!$I$2:$I$114=$B$2)*('Base de données'!$J$2:$J$114=$B$3*1),ROW('Base de données'!$H$2:$H$114)-1),ROWS($1:7))),"")} -> 530407 | E13: {=IFERROR(INDEX('Base de données'!D$2:D$114,SMALL(IF(('Base de données'!$B$2:$B$114<>"stock initial")*('Base de données'!$H$2:$H$114="laiton")*('Base de données'!$I$2:$I$114=$B$2)*('Base de données'!$J$2:$J$114=$B$3*1),ROW('Base de données'!$H$2:$H$114)-1),ROWS($1:7))),"")} -> 43003 | F13: =IF(E13="","",$B$1) -> Laiton | G13: =IF($E13="","",$B$2) -> rond | H13: =IF($E13="","",$B$3) -> 22 | I13: {=IF(AND($D13=0,$E13<>""),IFERROR(INDEX('Base de données'!T$2:T$114,SMALL(IF(('Base de données'!$B$2:$B$114<>"stock initial")*('Base de données'!$H$2:$H$114="laiton")*('Base de données'!$I$2:$I$114=$B$2)*('Base de données'!$J$2:$J$114=$B$3*1),ROW('Base de données'!$H$2:$H$114)-1),ROWS($1:7))),""),IF($E13="","",I12))} -> 1964 | J13: {=IF(D13=0,0,IFERROR(INDEX('Base de données'!S$2:S$114,SMALL(IF(('Base de données'!$B$2:$B$114<>"stock initial")*('Base de données'!$H$2:$H$114="laiton")*('Base de données'!$I$2:$I$114=$B$2)*('Base de données'!$J$2:$J$114=$B$3*1),ROW('Base de données'!$H$2:$H$114)-1),ROWS($1:7))),""))} -> 173.60335 | K13: 146 | L13: =IFERROR(M13/J13,"") -> 0.48629947 | M13: {=IF($D13=0,0,IFERROR(INDEX('Base de données'!X$2:X$114,SMALL(IF(('Base de données'!$B$2:$B$114<>"stock initial")*('Base de données'!$H$2:$H$114="laiton")*('Base de données'!$I$2:$I$114=$B$2)*('Base de données'!$J$2:$J$114=$B$3*1),ROW('Base de données'!$H$2:$H$114)-1),ROWS($1:7))),""))} -> 84.42322 | N13: =IFERROR(O13/J13,"") -> 0.025742574 | O13: {=IF($D13=0,0,IFERROR(INDEX('Base de données'!Z$2:Z$114,SMALL(IF(('Base de données'!$B$2:$B$114<>"stock initial")*('Base de données'!$H$2:$H$114="laiton")*('Base de données'!$I$2:$I$114=$B$2)*('Base de données'!$J$2:$J$114=$B$3*1),ROW('Base de données'!$H$2:$H$114)-1),ROWS($1:7))),""))} -> 4.4689972 | P13: =IFERROR((O13+M13)/J13,"") -> 0.51204205
A14: =IF(B14=0,E14,"") | B14: {=IFERROR(INDEX('Base de données'!A$2:A$114,SMALL(IF(('Base de données'!$B$2:$B$114<>"stock initial")*('Base de données'!$H$2:$H$114="laiton")*('Base de données'!$I$2:$I$114=$B$2)*('Base de données'!$J$2:$J$114=$B$3*1),ROW('Base de données'!$H$2:$H$114)-1),ROWS($1:8))),"")} -> 201700095 | D14: {=IFERROR(INDEX('Base de données'!C$2:C$114,SMALL(IF(('Base de données'!$B$2:$B$114<>"stock initial")*('Base de données'!$H$2:$H$114="laiton")*('Base de données'!$I$2:$I$114=$B$2)*('Base de données'!$J$2:$J$114=$B$3*1),ROW('Base de données'!$H$2:$H$114)-1),ROWS($1:8))),"")} -> 531288 | E14: {=IFERROR(INDEX('Base de données'!D$2:D$114,SMALL(IF(('Base de données'!$B$2:$B$114<>"stock initial")*('Base de données'!$H$2:$H$114="laiton")*('Base de données'!$I$2:$I$114=$B$2)*('Base de données'!$J$2:$J$114=$B$3*1),ROW('Base de données'!$H$2:$H$114)-1),ROWS($1:8))),"")} -> 43043 | F14: =IF(E14="","",$B$1) -> Laiton | G14: =IF($E14="","",$B$2) -> rond | H14: =IF($E14="","",$B$3) -> 22 | I14: {=IF(AND($D14=0,$E14<>""),IFERROR(INDEX('Base de données'!T$2:T$114,SMALL(IF(('Base de données'!$B$2:$B$114<>"stock initial")*('Base de données'!$H$2:$H$114="laiton")*('Base de données'!$I$2:$I$114=$B$2)*('Base de données'!$J$2:$J$114=$B$3*1),ROW('Base de données'!$H$2:$H$114)-1),ROWS($1:8))),""),IF($E14="","",I13))} -> 1964 | J14: {=IF(D14=0,0,IFERROR(INDEX('Base de données'!S$2:S$114,SMALL(IF(('Base de données'!$B$2:$B$114<>"stock initial")*('Base de données'!$H$2:$H$114="laiton")*('Base de données'!$I$2:$I$114=$B$2)*('Base de données'!$J$2:$J$114=$B$3*1),ROW('Base de données'!$H$2:$H$114)-1),ROWS($1:8))),""))} -> 205.1676 | K14: 146 | L14: =IFERROR(M14/J14,"") -> 0.48629947 | M14: {=IF($D14=0,0,IFERROR(INDEX('Base de données'!X$2:X$114,SMALL(IF(('Base de données'!$B$2:$B$114<>"stock initial")*('Base de données'!$H$2:$H$114="laiton")*('Base de données'!$I$2:$I$114=$B$2)*('Base de données'!$J$2:$J$114=$B$3*1),ROW('Base de données'!$H$2:$H$114)-1),ROWS($1:8))),""))} -> 99.772896 | N14: =IFERROR(O14/J14,"") -> 0.025742574 | O14: {=IF($D14=0,0,IFERROR(INDEX('Base de données'!Z$2:Z$114,SMALL(IF(('Base de données'!$B$2:$B$114<>"stock initial")*('Base de données'!$H$2:$H$114="laiton")*('Base de données'!$I$2:$I$114=$B$2)*('Base de données'!$J$2:$J$114=$B$3*1),ROW('Base de données'!$H$2:$H$114)-1),ROWS($1:8))),""))} -> 5.2815422 | P14: =IFERROR((O14+M14)/J14,"") -> 0.51204205
A15: =IF(B15=0,E15,"") -> 43067 | B15: {=IFERROR(INDEX('Base de données'!A$2:A$114,SMALL(IF(('Base de données'!$B$2:$B$114<>"stock initial")*('Base de données'!$H$2:$H$114="laiton")*('Base de données'!$I$2:$I$114=$B$2)*('Base de données'!$J$2:$J$114=$B$3*1),ROW('Base de données'!$H$2:$H$114)-1),ROWS($1:9))),"")} -> 0 | D15: {=IFERROR(INDEX('Base de données'!C$2:C$114,SMALL(IF(('Base de données'!$B$2:$B$114<>"stock initial")*('Base de données'!$H$2:$H$114="laiton")*('Base de données'!$I$2:$I$114=$B$2)*('Base de données'!$J$2:$J$114=$B$3*1),ROW('Base de données'!$H$2:$H$114)-1),ROWS($1:9))),"")} -> 0 | E15: {=IFERROR(INDEX('Base de données'!D$2:D$114,SMALL(IF(('Base de données'!$B$2:$B$114<>"stock initial")*('Base de données'!$H$2:$H$114="laiton")*('Base de données'!$I$2:$I$114=$B$2)*('Base de données'!$J$2:$J$114=$B$3*1),ROW('Base de données'!$H$2:$H$114)-1),ROWS($1:9))),"")} -> 43067 | F15: =IF(E15="","",$B$1) -> Laiton | G15: =IF($E15="","",$B$2) -> rond | H15: =IF($E15="","",$B$3) -> 22 | I15: {=IF(AND($D15=0,$E15<>""),IFERROR(INDEX('Base de données'!T$2:T$114,SMALL(IF(('Base de données'!$B$2:$B$114<>"stock initial")*('Base de données'!$H$2:$H$114="laiton")*('Base de données'!$I$2:$I$114=$B$2)*('Base de données'!$J$2:$J$114=$B$3*1),ROW('Base de données'!$H$2:$H$114)-1),ROWS($1:9))),""),IF($E15="","",I14))} -> 2548 | J15: {=IF(D15=0,0,IFERROR(INDEX('Base de données'!S$2:S$114,SMALL(IF(('Base de données'!$B$2:$B$114<>"stock initial")*('Base de données'!$H$2:$H$114="laiton")*('Base de données'!$I$2:$I$114=$B$2)*('Base de données'!$J$2:$J$114=$B$3*1),ROW('Base de données'!$H$2:$H$114)-1),ROWS($1:9))),""))} -> 0 | K15: 146 | L15: =IFERROR(M15/J15,"") | M15: {=IF($D15=0,0,IFERROR(INDEX('Base de données'!X$2:X$114,SMALL(IF(('Base de données'!$B$2:$B$114<>"stock initial")*('Base de données'!$H$2:$H$114="laiton")*('Base de données'!$I$2:$I$114=$B$2)*('Base de données'!$J$2:$J$114=$B$3*1),ROW('Base de données'!$H$2:$H$114)-1),ROWS($1:9))),""))} -> 0 | N15: =IFERROR(O15/J15,"") | O15: {=IF($D15=0,0,IFERROR(INDEX('Base de données'!Z$2:Z$114,SMALL(IF(('Base de données'!$B$2:$B$114<>"stock initial")*('Base de données'!$H$2:$H$114="laiton")*('Base de données'!$I$2:$I$114=$B$2)*('Base de données'!$J$2:$J$114=$B$3*1),ROW('Base de données'!$H$2:$H$114)-1),ROWS($1:9))),""))} -> 0 | P15: =IFERROR((O15+M15)/J15,"")
A16: =IF(B16=0,E16,"") | B16: {=IFERROR(INDEX('Base de données'!A$2:A$114,SMALL(IF(('Base de données'!$B$2:$B$114<>"stock initial")*('Base de données'!$H$2:$H$114="laiton")*('Base de données'!$I$2:$I$114=$B$2)*('Base de données'!$J$2:$J$114=$B$3*1),ROW('Base de données'!$H$2:$H$114)-1),ROWS($1:10))),"")} -> 201800002 | D16: {=IFERROR(INDEX('Base de données'!C$2:C$114,SMALL(IF(('Base de données'!$B$2:$B$114<>"stock initial")*('Base de données'!$H$2:$H$114="laiton")*('Base de données'!$I$2:$I$114=$B$2)*('Base de données'!$J$2:$J$114=$B$3*1),ROW('Base de données'!$H$2:$H$114)-1),ROWS($1:10))),"")} -> 532778 | E16: {=IFERROR(INDEX('Base de données'!D$2:D$114,SMALL(IF(('Base de données'!$B$2:$B$114<>"stock initial")*('Base de données'!$H$2:$H$114="laiton")*('Base de données'!$I$2:$I$114=$B$2)*('Base de données'!$J$2:$J$114=$B$3*1),ROW('Base de données'!$H$2:$H$114)-1),ROWS($1:10))),"")} -> 43113 | F16: =IF(E16="","",$B$1) -> Laiton | G16: =IF($E16="","",$B$2) -> rond | H16: =IF($E16="","",$B$3) -> 22 | I16: {=IF(AND($D16=0,$E16<>""),IFERROR(INDEX('Base de données'!T$2:T$114,SMALL(IF(('Base de données'!$B$2:$B$114<>"stock initial")*('Base de données'!$H$2:$H$114="laiton")*('Base de données'!$I$2:$I$114=$B$2)*('Base de données'!$J$2:$J$114=$B$3*1),ROW('Base de données'!$H$2:$H$114)-1),ROWS($1:10))),""),IF($E16="","",I15))} -> 2548 | J16: {=IF(D16=0,0,IFERROR(INDEX('Base de données'!S$2:S$114,SMALL(IF(('Base de données'!$B$2:$B$114<>"stock initial")*('Base de données'!$H$2:$H$114="laiton")*('Base de données'!$I$2:$I$114=$B$2)*('Base de données'!$J$2:$J$114=$B$3*1),ROW('Base de données'!$H$2:$H$114)-1),ROWS($1:10))),""))} -> 299.86034 | K16: 146 | L16: =IFERROR(M16/J16,"") -> 0.48629947 | M16: {=IF($D16=0,0,IFERROR(INDEX('Base de données'!X$2:X$114,SMALL(IF(('Base de données'!$B$2:$B$114<>"stock initial")*('Base de données'!$H$2:$H$114="laiton")*('Base de données'!$I$2:$I$114=$B$2)*('Base de données'!$J$2:$J$114=$B$3*1),ROW('Base de données'!$H$2:$H$114)-1),ROWS($1:10))),""))} -> 145.82192 | N16: =IFERROR(O16/J16,"") -> 0.025742574 | O16: {=IF($D16=0,0,IFERROR(INDEX('Base de données'!Z$2:Z$114,SMALL(IF(('Base de données'!$B$2:$B$114<>"stock initial")*('Base de données'!$H$2:$H$114="laiton")*('Base de données'!$I$2:$I$114=$B$2)*('Base de données'!$J$2:$J$114=$B$3*1),ROW('Base de données'!$H$2:$H$114)-1),ROWS($1:10))),""))} -> 7.719177 | P16: =IFERROR((O16+M16)/J16,"") -> 0.51204205
A17: =IF(B17=0,E17,"") | B17: {=IFERROR(INDEX('Base de données'!A$2:A$114,SMALL(IF(('Base de données'!$B$2:$B$114<>"stock initial")*('Base de données'!$H$2:$H$114="laiton")*('Base de données'!$I$2:$I$114=$B$2)*('Base de données'!$J$2:$J$114=$B$3*1),ROW('Base de données'!$H$2:$H$114)-1),ROWS($1:11))),"")} -> 201800011 | D17: {=IFERROR(INDEX('Base de données'!C$2:C$114,SMALL(IF(('Base de données'!$B$2:$B$114<>"stock initial")*('Base de données'!$H$2:$H$114="laiton")*('Base de données'!$I$2:$I$114=$B$2)*('Base de données'!$J$2:$J$114=$B$3*1),ROW('Base de données'!$H$2:$H$114)-1),ROWS($1:11))),"")} -> 533503 | E17: {=IFERROR(INDEX('Base de données'!D$2:D$114,SMALL(IF(('Base de données'!$B$2:$B$114<>"stock initial")*('Base de données'!$H$2:$H$114="laiton")*('Base de données'!$I$2:$I$114=$B$2)*('Base de données'!$J$2:$J$114=$B$3*1),ROW('Base de données'!$H$2:$H$114)-1),ROWS($1:11))),"")} -> 43148 | F17: =IF(E17="","",$B$1) -> Laiton | G17: =IF($E17="","",$B$2) -> rond | H17: =IF($E17="","",$B$3) -> 22 | I17: {=IF(AND($D17=0,$E17<>""),IFERROR(INDEX('Base de données'!T$2:T$114,SMALL(IF(('Base de données'!$B$2:$B$114<>"stock initial")*('Base de données'!$H$2:$H$114="laiton")*('Base de données'!$I$2:$I$114=$B$2)*('Base de données'!$J$2:$J$114=$B$3*1),ROW('Base de données'!$H$2:$H$114)-1),ROWS($1:11))),""),IF($E17="","",I16))} -> 2548 | J17: {=IF(D17=0,0,IFERROR(INDEX('Base de données'!S$2:S$114,SMALL(IF(('Base de données'!$B$2:$B$114<>"stock initial")*('Base de données'!$H$2:$H$114="laiton")*('Base de données'!$I$2:$I$114=$B$2)*('Base de données'!$J$2:$J$114=$B$3*1),ROW('Base de données'!$H$2:$H$114)-1),ROWS($1:11))),""))} -> 86.801677 | K17: 146 | L17: =IFERROR(M17/J17,"") -> 0.48629947 | M17: {=IF($D17=0,0,IFERROR(INDEX('Base de données'!X$2:X$114,SMALL(IF(('Base de données'!$B$2:$B$114<>"stock initial")*('Base de données'!$H$2:$H$114="laiton")*('Base de données'!$I$2:$I$114=$B$2)*('Base de données'!$J$2:$J$114=$B$3*1),ROW('Base de données'!$H$2:$H$114)-1),ROWS($1:11))),""))} -> 42.21161 | N17: =IFERROR(O17/J17,"") -> 0.025742574 | O17: {=IF($D17=0,0,IFERROR(INDEX('Base de données'!Z$2:Z$114,SMALL(IF(('Base de données'!$B$2:$B$114<>"stock initial")*('Base de données'!$H$2:$H$114="laiton")*('Base de données'!$I$2:$I$114=$B$2)*('Base de données'!$J$2:$J$114=$B$3*1),ROW('Base de données'!$H$2:$H$114)-1),ROWS($1:11))),""))} -> 2.2344986 | P17: =IFERROR((O17+M17)/J17,"") -> 0.51204205
A18: =IF(B18=0,E18,"") | B18: {=IFERROR(INDEX('Base de données'!A$2:A$114,SMALL(IF(('Base de données'!$B$2:$B$114<>"stock initial")*('Base de données'!$H$2:$H$114="laiton")*('Base de données'!$I$2:$I$114=$B$2)*('Base de données'!$J$2:$J$114=$B$3*1),ROW('Base de données'!$H$2:$H$114)-1),ROWS($1:12))),"")} -> 201800023 | D18: {=IFERROR(INDEX('Base de données'!C$2:C$114,SMALL(IF(('Base de données'!$B$2:$B$114<>"stock initial")*('Base de données'!$H$2:$H$114="laiton")*('Base de données'!$I$2:$I$114=$B$2)*('Base de données'!$J$2:$J$114=$B$3*1),ROW('Base de données'!$H$2:$H$114)-1),ROWS($1:12))),"")} -> 534593 | E18: {=IFERROR(INDEX('Base de données'!D$2:D$114,SMALL(IF(('Base de données'!$B$2:$B$114<>"stock initial")*('Base de données'!$H$2:$H$114="laiton")*('Base de données'!$I$2:$I$114=$B$2)*('Base de données'!$J$2:$J$114=$B$3*1),ROW('Base de données'!$H$2:$H$114)-1),ROWS($1:12))),"")} -> 43194 | F18: =IF(E18="","",$B$1) -> Laiton | G18: =IF($E18="","",$B$2) -> rond | H18: =IF($E18="","",$B$3) -> 22 | I18: {=IF(AND($D18=0,$E18<>""),IFERROR(INDEX('Base de données'!T$2:T$114,SMALL(IF(('Base de données'!$B$2:$B$114<>"stock initial")*('Base de données'!$H$2:$H$114="laiton")*('Base de données'!$I$2:$I$114=$B$2)*('Base de données'!$J$2:$J$114=$B$3*1),ROW('Base de données'!$H$2:$H$114)-1),ROWS($1:12))),""),IF($E18="","",I17))} -> 2548 | J18: {=IF(D18=0,0,IFERROR(INDEX('Base de données'!S$2:S$114,SMALL(IF(('Base de données'!$B$2:$B$114<>"stock initial")*('Base de données'!$H$2:$H$114="laiton")*('Base de données'!$I$2:$I$114=$B$2)*('Base de données'!$J$2:$J$114=$B$3*1),ROW('Base de données'!$H$2:$H$114)-1),ROWS($1:12))),""))} -> 426.11732 | K18: 146 | L18: =IFERROR(M18/J18,"") -> 0.48629947 | M18: {=IF($D18=0,0,IFERROR(INDEX('Base de données'!X$2:X$114,SMALL(IF(('Base de données'!$B$2:$B$114<>"stock initial")*('Base de données'!$H$2:$H$114="laiton")*('Base de données'!$I$2:$I$114=$B$2)*('Base de données'!$J$2:$J$114=$B$3*1),ROW('Base de données'!$H$2:$H$114)-1),ROWS($1:12))),""))} -> 207.22063 | N18: =IFERROR(O18/J18,"") -> 0.025742574 | O18: {=IF($D18=0,0,IFERROR(INDEX('Base de données'!Z$2:Z$114,SMALL(IF(('Base de données'!$B$2:$B$114<>"stock initial")*('Base de données'!$H$2:$H$114="laiton")*('Base de données'!$I$2:$I$114=$B$2)*('Base de données'!$J$2:$J$114=$B$3*1),ROW('Base de données'!$H$2:$H$114)-1),ROWS($1:12))),""))} -> 10.969357 | P18: =IFERROR((O18+M18)/J18,"") -> 0.51204205
A19: =IF(B19=0,E19,"") | B19: {=IFERROR(INDEX('Base de données'!A$2:A$114,SMALL(IF(('Base de données'!$B$2:$B$114<>"stock initial")*('Base de données'!$H$2:$H$114="laiton")*('Base de données'!$I$2:$I$114=$B$2)*('Base de données'!$J$2:$J$114=$B$3*1),ROW('Base de données'!$H$2:$H$114)-1),ROWS($1:13))),"")} -> 201800033 | D19: {=IFERROR(INDEX('Base de données'!C$2:C$114,SMALL(IF(('Base de données'!$B$2:$B$114<>"stock initial")*('Base de données'!$H$2:$H$114="laiton")*('Base de données'!$I$2:$I$114=$B$2)*('Base de données'!$J$2:$J$114=$B$3*1),ROW('Base de données'!$H$2:$H$114)-1),ROWS($1:13))),"")} -> 535277 | E19: {=IFERROR(INDEX('Base de données'!D$2:D$114,SMALL(IF(('Base de données'!$B$2:$B$114<>"stock initial")*('Base de données'!$H$2:$H$114="laiton")*('Base de données'!$I$2:$I$114=$B$2)*('Base de données'!$J$2:$J$114=$B$3*1),ROW('Base de données'!$H$2:$H$114)-1),ROWS($1:13))),"")} -> 43217 | F19: =IF(E19="","",$B$1) -> Laiton | G19: =IF($E19="","",$B$2) -> rond | H19: =IF($E19="","",$B$3) -> 22 | I19: {=IF(AND($D19=0,$E19<>""),IFERROR(INDEX('Base de données'!T$2:T$114,SMALL(IF(('Base de données'!$B$2:$B$114<>"stock initial")*('Base de données'!$H$2:$H$114="laiton")*('Base de données'!$I$2:$I$114=$B$2)*('Base de données'!$J$2:$J$114=$B$3*1),ROW('Base de données'!$H$2:$H$114)-1),ROWS($1:13))),""),IF($E19="","",I18))} -> 2548 | J19: {=IF(D19=0,0,IFERROR(INDEX('Base de données'!S$2:S$114,SMALL(IF(('Base de données'!$B$2:$B$114<>"stock initial")*('Base de données'!$H$2:$H$114="laiton")*('Base de données'!$I$2:$I$114=$B$2)*('Base de données'!$J$2:$J$114=$B$3*1),ROW('Base de données'!$H$2:$H$114)-1),ROWS($1:13))),""))} -> 189.38548 | K19: 146 | L19: =IFERROR(M19/J19,"") -> 0.48629947 | M19: {=IF($D19=0,0,IFERROR(INDEX('Base de données'!X$2:X$114,SMALL(IF(('Base de données'!$B$2:$B$114<>"stock initial")*('Base de données'!$H$2:$H$114="laiton")*('Base de données'!$I$2:$I$114=$B$2)*('Base de données'!$J$2:$J$114=$B$3*1),ROW('Base de données'!$H$2:$H$114)-1),ROWS($1:13))),""))} -> 92.098058 | N19: =IFERROR(O19/J19,"") -> 0.025742574 | O19: {=IF($D19=0,0,IFERROR(INDEX('Base de données'!Z$2:Z$114,SMALL(IF(('Base de données'!$B$2:$B$114<>"stock initial")*('Base de données'!$H$2:$H$114="laiton")*('Base de données'!$I$2:$I$114=$B$2)*('Base de données'!$J$2:$J$114=$B$3*1),ROW('Base de données'!$H$2:$H$114)-1),ROWS($1:13))),""))} -> 4.8752697 | P19: =IFERROR((O19+M19)/J19,"") -> 0.51204205
A20: =IF(B20=0,E20,"") | B20: {=IFERROR(INDEX('Base de données'!A$2:A$114,SMALL(IF(('Base de données'!$B$2:$B$114<>"stock initial")*('Base de données'!$H$2:$H$114="laiton")*('Base de données'!$I$2:$I$114=$B$2)*('Base de données'!$J$2:$J$114=$B$3*1),ROW('Base de données'!$H$2:$H$114)-1),ROWS($1:14))),"")} -> 201800048 | D20: {=IFERROR(INDEX('Base de données'!C$2:C$114,SMALL(IF(('Base de données'!$B$2:$B$114<>"stock initial")*('Base de données'!$H$2:$H$114="laiton")*('Base de données'!$I$2:$I$114=$B$2)*('Base de données'!$J$2:$J$114=$B$3*1),ROW('Base de données'!$H$2:$H$114)-1),ROWS($1:14))),"")} -> 536321 | E20: {=IFERROR(INDEX('Base de données'!D$2:D$114,SMALL(IF(('Base de données'!$B$2:$B$114<>"stock initial")*('Base de données'!$H$2:$H$114="laiton")*('Base de données'!$I$2:$I$114=$B$2)*('Base de données'!$J$2:$J$114=$B$3*1),ROW('Base de données'!$H$2:$H$114)-1),ROWS($1:14))),"")} -> 43263 | F20: =IF(E20="","",$B$1) -> Laiton | G20: =IF($E20="","",$B$2) -> rond | H20: =IF($E20="","",$B$3) -> 22 | I20: {=IF(AND($D20=0,$E20<>""),IFERROR(INDEX('Base de données'!T$2:T$114,SMALL(IF(('Base de données'!$B$2:$B$114<>"stock initial")*('Base de données'!$H$2:$H$114="laiton")*('Base de données'!$I$2:$I$114=$B$2)*('Base de données'!$J$2:$J$114=$B$3*1),ROW('Base de données'!$H$2:$H$114)-1),ROWS($1:14))),""),IF($E20="","",I19))} -> 2548 | J20: {=IF(D20=0,0,IFERROR(INDEX('Base de données'!S$2:S$114,SMALL(IF(('Base de données'!$B$2:$B$114<>"stock initial")*('Base de données'!$H$2:$H$114="laiton")*('Base de données'!$I$2:$I$114=$B$2)*('Base de données'!$J$2:$J$114=$B$3*1),ROW('Base de données'!$H$2:$H$114)-1),ROWS($1:14))),""))} -> 157.82123 | K20: 146 | L20: =IFERROR(M20/J20,"") -> 0.48629947 | M20: {=IF($D20=0,0,IFERROR(INDEX('Base de données'!X$2:X$114,SMALL(IF(('Base de données'!$B$2:$B$114<>"stock initial")*('Base de données'!$H$2:$H$114="laiton")*('Base de données'!$I$2:$I$114=$B$2)*('Base de données'!$J$2:$J$114=$B$3*1),ROW('Base de données'!$H$2:$H$114)-1),ROWS($1:14))),""))} -> 76.748382 | N20: =IFERROR(O20/J20,"") -> 0.025742574 | O20: {=IF($D20=0,0,IFERROR(INDEX('Base de données'!Z$2:Z$114,SMALL(IF(('Base de données'!$B$2:$B$114<>"stock initial")*('Base de données'!$H$2:$H$114="laiton")*('Base de données'!$I$2:$I$114=$B$2)*('Base de données'!$J$2:$J$114=$B$3*1),ROW('Base de données'!$H$2:$H$114)-1),ROWS($1:14))),""))} -> 4.0627248 | P20: =IFERROR((O20+M20)/J20,"") -> 0.51204205
A21: =IF(B21=0,E21,"") | B21: {=IFERROR(INDEX('Base de données'!A$2:A$114,SMALL(IF(('Base de données'!$B$2:$B$114<>"stock initial")*('Base de données'!$H$2:$H$114="laiton")*('Base de données'!$I$2:$I$114=$B$2)*('Base de données'!$J$2:$J$114=$B$3*1),ROW('Base de données'!$H$2:$H$114)-1),ROWS($1:15))),"")} -> 201800056 | D21: {=IFERROR(INDEX('Base de données'!C$2:C$114,SMALL(IF(('Base de données'!$B$2:$B$114<>"stock initial")*('Base de données'!$H$2:$H$114="laiton")*('Base de données'!$I$2:$I$114=$B$2)*('Base de données'!$J$2:$J$114=$B$3*1),ROW('Base de données'!$H$2:$H$114)-1),ROWS($1:15))),"")} -> 537031 | E21: {=IFERROR(INDEX('Base de données'!D$2:D$114,SMALL(IF(('Base de données'!$B$2:$B$114<>"stock initial")*('Base de données'!$H$2:$H$114="laiton")*('Base de données'!$I$2:$I$114=$B$2)*('Base de données'!$J$2:$J$114=$B$3*1),ROW('Base de données'!$H$2:$H$114)-1),ROWS($1:15))),"")} -> 43297 | F21: =IF(E21="","",$B$1) -> Laiton | G21: =IF($E21="","",$B$2) -> rond | H21: =IF($E21="","",$B$3) -> 22 | I21: {=IF(AND($D21=0,$E21<>""),IFERROR(INDEX('Base de données'!T$2:T$114,SMALL(IF(('Base de données'!$B$2:$B$114<>"stock initial")*('Base de données'!$H$2:$H$114="laiton")*('Base de données'!$I$2:$I$114=$B$2)*('Base de données'!$J$2:$J$114=$B$3*1),ROW('Base de données'!$H$2:$H$114)-1),ROWS($1:15))),""),IF($E21="","",I20))} -> 2548 | J21: {=IF(D21=0,0,IFERROR(INDEX('Base de données'!S$2:S$114,SMALL(IF(('Base de données'!$B$2:$B$114<>"stock initial")*('Base de données'!$H$2:$H$114="laiton")*('Base de données'!$I$2:$I$114=$B$2)*('Base de données'!$J$2:$J$114=$B$3*1),ROW('Base de données'!$H$2:$H$114)-1),ROWS($1:15))),""))} -> 244.62291 | K21: 146 | L21: =IFERROR(M21/J21,"") -> 0.48629947 | M21: {=IF($D21=0,0,IFERROR(INDEX('Base de données'!X$2:X$114,SMALL(IF(('Base de données'!$B$2:$B$114<>"stock initial")*('Base de données'!$H$2:$H$114="laiton")*('Base de données'!$I$2:$I$114=$B$2)*('Base de données'!$J$2:$J$114=$B$3*1),ROW('Base de données'!$H$2:$H$114)-1),ROWS($1:15))),""))} -> 118.95999 | N21: =IFERROR(O21/J21,"") -> 0.025742574 | O21: {=IF($D21=0,0,IFERROR(INDEX('Base de données'!Z$2:Z$114,SMALL(IF(('Base de données'!$B$2:$B$114<>"stock initial")*('Base de données'!$H$2:$H$114="laiton")*('Base de données'!$I$2:$I$114=$B$2)*('Base de données'!$J$2:$J$114=$B$3*1),ROW('Base de données'!$H$2:$H$114)-1),ROWS($1:15))),""))} -> 6.2972234 | P21: =IFERROR((O21+M21)/J21,"") -> 0.51204205
A22: =IF(B22=0,E22,"") | B22: {=IFERROR(INDEX('Base de données'!A$2:A$114,SMALL(IF(('Base de données'!$B$2:$B$114<>"stock initial")*('Base de données'!$H$2:$H$114="laiton")*('Base de données'!$I$2:$I$114=$B$2)*('Base de données'!$J$2:$J$114=$B$3*1),ROW('Base de données'!$H$2:$H$114)-1),ROWS($1:16))),"")} -> 201800081 | D22: {=IFERROR(INDEX('Base de données'!C$2:C$114,SMALL(IF(('Base de données'!$B$2:$B$114<>"stock initial")*('Base de données'!$H$2:$H$114="laiton")*('Base de données'!$I$2:$I$114=$B$2)*('Base de données'!$J$2:$J$114=$B$3*1),ROW('Base de données'!$H$2:$H$114)-1),ROWS($1:16))),"")} -> 539116 | E22: {=IFERROR(INDEX('Base de données'!D$2:D$114,SMALL(IF(('Base de données'!$B$2:$B$114<>"stock initial")*('Base de données'!$H$2:$H$114="laiton")*('Base de données'!$I$2:$I$114=$B$2)*('Base de données'!$J$2:$J$114=$B$3*1),ROW('Base de données'!$H$2:$H$114)-1),ROWS($1:16))),"")} -> 43412 | F22: =IF(E22="","",$B$1) -> Laiton | G22: =IF($E22="","",$B$2) -> rond | H22: =IF($E22="","",$B$3) -> 22 | I22: {=IF(AND($D22=0,$E22<>""),IFERROR(INDEX('Base de données'!T$2:T$114,SMALL(IF(('Base de données'!$B$2:$B$114<>"stock initial")*('Base de données'!$H$2:$H$114="laiton")*('Base de données'!$I$2:$I$114=$B$2)*('Base de données'!$J$2:$J$114=$B$3*1),ROW('Base de données'!$H$2:$H$114)-1),ROWS($1:16))),""),IF($E22="","",I21))} -> 2548 | J22: {=IF(D22=0,0,IFERROR(INDEX('Base de données'!S$2:S$114,SMALL(IF(('Base de données'!$B$2:$B$114<>"stock initial")*('Base de données'!$H$2:$H$114="laiton")*('Base de données'!$I$2:$I$114=$B$2)*('Base de données'!$J$2:$J$114=$B$3*1),ROW('Base de données'!$H$2:$H$114)-1),ROWS($1:16))),""))} -> 268.29609 | K22: 146 | L22: =IFERROR(M22/J22,"") -> 0.48629947 | M22: {=IF($D22=0,0,IFERROR(INDEX('Base de données'!X$2:X$114,SMALL(IF(('Base de données'!$B$2:$B$114<>"stock initial")*('Base de données'!$H$2:$H$114="laiton")*('Base de données'!$I$2:$I$114=$B$2)*('Base de données'!$J$2:$J$114=$B$3*1),ROW('Base de données'!$H$2:$H$114)-1),ROWS($1:16))),""))} -> 130.47225 | N22: =IFERROR(O22/J22,"") -> 0.025742574 | O22: {=IF($D22=0,0,IFERROR(INDEX('Base de données'!Z$2:Z$114,SMALL(IF(('Base de données'!$B$2:$B$114<>"stock initial")*('Base de données'!$H$2:$H$114="laiton")*('Base de données'!$I$2:$I$114=$B$2)*('Base de données'!$J$2:$J$114=$B$3*1),ROW('Base de données'!$H$2:$H$114)-1),ROWS($1:16))),""))} -> 6.9066321 | P22: =IFERROR((O22+M22)/J22,"") -> 0.51204205
A23: =IF(B23=0,E23,"") | B23: {=IFERROR(INDEX('Base de données'!A$2:A$114,SMALL(IF(('Base de données'!$B$2:$B$114<>"stock initial")*('Base de données'!$H$2:$H$114="laiton")*('Base de données'!$I$2:$I$114=$B$2)*('Base de données'!$J$2:$J$114=$B$3*1),ROW('Base de données'!$H$2:$H$114)-1),ROWS($1:17))),"")} -> 201800087 | D23: {=IFERROR(INDEX('Base de données'!C$2:C$114,SMALL(IF(('Base de données'!$B$2:$B$114<>"stock initial")*('Base de données'!$H$2:$H$114="laiton")*('Base de données'!$I$2:$I$114=$B$2)*('Base de données'!$J$2:$J$114=$B$3*1),ROW('Base de données'!$H$2:$H$114)-1),ROWS($1:17))),"")} -> 539596 | E23: {=IFERROR(INDEX('Base de données'!D$2:D$114,SMALL(IF(('Base de données'!$B$2:$B$114<>"stock initial")*('Base de données'!$H$2:$H$114="laiton")*('Base de données'!$I$2:$I$114=$B$2)*('Base de données'!$J$2:$J$114=$B$3*1),ROW('Base de données'!$H$2:$H$114)-1),ROWS($1:17))),"")} -> 43435 | F23: =IF(E23="","",$B$1) -> Laiton | G23: =IF($E23="","",$B$2) -> rond | H23: =IF($E23="","",$B$3) -> 22 | I23: {=IF(AND($D23=0,$E23<>""),IFERROR(INDEX('Base de données'!T$2:T$114,SMALL(IF(('Base de données'!$B$2:$B$114<>"stock initial")*('Base de données'!$H$2:$H$114="laiton")*('Base de données'!$I$2:$I$114=$B$2)*('Base de données'!$J$2:$J$114=$B$3*1),ROW('Base de données'!$H$2:$H$114)-1),ROWS($1:17))),""),IF($E23="","",I22))} -> 2548 | J23: {=IF(D23=0,0,IFERROR(INDEX('Base de données'!S$2:S$114,SMALL(IF(('Base de données'!$B$2:$B$114<>"stock initial")*('Base de données'!$H$2:$H$114="laiton")*('Base de données'!$I$2:$I$114=$B$2)*('Base de données'!$J$2:$J$114=$B$3*1),ROW('Base de données'!$H$2:$H$114)-1),ROWS($1:17))),""))} -> 228.84078 | K23: 146 | L23: =IFERROR(M23/J23,"") -> 0.48629947 | M23: {=IF($D23=0,0,IFERROR(INDEX('Base de données'!X$2:X$114,SMALL(IF(('Base de données'!$B$2:$B$114<>"stock initial")*('Base de données'!$H$2:$H$114="laiton")*('Base de données'!$I$2:$I$114=$B$2)*('Base de données'!$J$2:$J$114=$B$3*1),ROW('Base de données'!$H$2:$H$114)-1),ROWS($1:17))),""))} -> 111.28515 | N23: =IFERROR(O23/J23,"") -> 0.025742574 | O23: {=IF($D23=0,0,IFERROR(INDEX('Base de données'!Z$2:Z$114,SMALL(IF(('Base de données'!$B$2:$B$114<>"stock initial")*('Base de données'!$H$2:$H$114="laiton")*('Base de données'!$I$2:$I$114=$B$2)*('Base de données'!$J$2:$J$114=$B$3*1),ROW('Base de données'!$H$2:$H$114)-1),ROWS($1:17))),""))} -> 5.8909509 | P23: =IFERROR((O23+M23)/J23,"") -> 0.51204205
