Workbook
Name Dia: OFFSET(listes!$B$1,1,0,COUNTA(listes!$B:$B)-1,1)
Name formes: OFFSET(listes!$A$1,1,0,COUNTA(listes!$A:$A)-1,1)
Name matière: OFFSET(listes!$C$1,1,0,COUNTA(listes!$C:$C)-1,1)

Sheet Base de données
S1: =SUBTOTAL(9,S2:S107) -> 0 | T1: =SUBTOTAL(9,T2:T107) -> 1032.32 | U1: =SUBTOTAL(9,U2:U107) -> 0
A2: Facture N° | B2: Origine | C2: N° déclarat° export | D2: Date déclarat° export | E2: Réf article | F2: Désignation | G2: N° fiche | H2: matière | I2: forme | J2: taille | K2: N° déclarat° import | L2: Qté livrée | M2: Poids net/ pièce | N2: longueur pièce | O2: nbre pièces /barre | P2: pids par barre | Q2: POIDS NET TOTAL | R2: Poids brut/pièce | S2: Qté utilisée | T2: Qté importée | U2: QTE STOCK INIT (Kg) | V2: stock (Kg) | W2: Poids copeaux/ pièce | X2: poids copeaux total | Y2: Participat° dans la FB | Z2: Poids déchet fin de barre total | AA2: POIDS DECHET total
B3: STOCK INITIAL | D3: 42735 | H3: LAITON | I3: Carrée | J3: 6 | S3: 0 | U3: 123.69 | V3: =IF(SUMPRODUCT(MAX((#REF!)*((#REF!=#REF!)*(#REF!=#REF!)*(#REF!=#REF!))))<>#REF!,"",SUMPRODUCT((-#REF!+#REF!+#REF!)*((#REF!=#REF!)*(#REF!=#REF!)*(#REF!=#REF!)))) -> 123.69
B4: STOCK INITIAL | D4: 42735 | H4: LAITON | I4: HEX | J4: 8 | S4: 0 | U4: 40.068 | V4: =IF(SUMPRODUCT(MAX((#REF!)*((#REF!=#REF!)*(#REF!=#REF!)*(#REF!=#REF!))))<>#REF!,"",SUMPRODUCT((-#REF!+#REF!+#REF!)*((#REF!=#REF!)*(#REF!=#REF!)*(#REF!=#REF!))))
B5: STOCK INITIAL | D5: 42735 | H5: LAITON | I5: HEX | J5: 10 | S5: 0 | U5: 346.425 | V5: =IF(SUMPRODUCT(MAX((#REF!)*((#REF!=#REF!)*(#REF!=#REF!)*(#REF!=#REF!))))<>#REF!,"",SUMPRODUCT((-#REF!+#REF!+#REF!)*((#REF!=#REF!)*(#REF!=#REF!)*(#REF!=#REF!)))) -> 346.425
B6: STOCK INITIAL | D6: 42735 | H6: LAITON | I6: HEX | J6: 12 | S6: 0 | U6: 77.184 | V6: =IF(SUMPRODUCT(MAX((#REF!)*((#REF!=#REF!)*(#REF!=#REF!)*(#REF!=#REF!))))<>#REF!,"",SUMPRODUCT((-#REF!+#REF!+#REF!)*((#REF!=#REF!)*(#REF!=#REF!)*(#REF!=#REF!))))
B7: STOCK INITIAL | D7: 42735 | H7: LAITON | I7: HEX | J7: 14 | S7: 0 | U7: 293.259 | V7: =IF(SUMPRODUCT(MAX((#REF!)*((#REF!=#REF!)*(#REF!=#REF!)*(#REF!=#REF!))))<>#REF!,"",SUMPRODUCT((-#REF!+#REF!+#REF!)*((#REF!=#REF!)*(#REF!=#REF!)*(#REF!=#REF!)))) -> 293.259
B8: STOCK INITIAL | D8: 42735 | H8: LAITON | I8: HEX | J8: 17 | S8: 0 | U8: 238.872 | V8: =IF(SUMPRODUCT(MAX((#REF!)*((#REF!=#REF!)*(#REF!=#REF!)*(#REF!=#REF!))))<>#REF!,"",SUMPRODUCT((-#REF!+#REF!+#REF!)*((#REF!=#REF!)*(#REF!=#REF!)*(#REF!=#REF!)))) -> 238.872
B9: STOCK INITIAL | D9: 42735 | H9: LAITON | I9: HEX | J9: 19 | S9: 0 | U9: 24.21 | V9: =IF(SUMPRODUCT(MAX((#REF!)*((#REF!=#REF!)*(#REF!=#REF!)*(#REF!=#REF!))))<>#REF!,"",SUMPRODUCT((-#REF!+#REF!+#REF!)*((#REF!=#REF!)*(#REF!=#REF!)*(#REF!=#REF!)))) -> 24.21
B10: STOCK INITIAL | D10: 42735 | H10: LAITON | I10: HEX | J10: 27 | S10: 0 | U10: 48.87 | V10: =IF(SUMPRODUCT(MAX((#REF!)*((#REF!=#REF!)*(#REF!=#REF!)*(#REF!=#REF!))))<>#REF!,"",SUMPRODUCT((-#REF!+#REF!+#REF!)*((#REF!=#REF!)*(#REF!=#REF!)*(#REF!=#REF!)))) -> 48.87
B11: STOCK INITIAL | D11: 42735 | H11: LAITON | I11: ROND | J11: 4 | S11: 0 | U11: 47.628 | V11: =IF(SUMPRODUCT(MAX((#REF!)*((#REF!=#REF!)*(#REF!=#REF!)*(#REF!=#REF!))))<>#REF!,"",SUMPRODUCT((-#REF!+#REF!+#REF!)*((#REF!=#REF!)*(#REF!=#REF!)*(#REF!=#REF!)))) -> 47.628
B12: STOCK INITIAL | D12: 42735 | H12: LAITON | I12: ROND | J12: 5 | S12: 0 | U12: 82.641 | V12: =IF(SUMPRODUCT(MAX((#REF!)*((#REF!=#REF!)*(#REF!=#REF!)*(#REF!=#REF!))))<>#REF!,"",SUMPRODUCT((-#REF!+#REF!+#REF!)*((#REF!=#REF!)*(#REF!=#REF!)*(#REF!=#REF!)))) -> 82.641
B13: STOCK INITIAL | D13: 42735 | H13: LAITON | I13: ROND | J13: 6 | S13: 0 | U13: 48.114 | V13: =IF(SUMPRODUCT(MAX((#REF!)*((#REF!=#REF!)*(#REF!=#REF!)*(#REF!=#REF!))))<>#REF!,"",SUMPRODUCT((-#REF!+#REF!+#REF!)*((#REF!=#REF!)*(#REF!=#REF!)*(#REF!=#REF!))))
B14: STOCK INITIAL | D14: 42735 | H14: LAITON | I14: ROND | J14: 7 | S14: 0 | U14: 100.293 | V14: =IF(SUMPRODUCT(MAX((#REF!)*((#REF!=#REF!)*(#REF!=#REF!)*(#REF!=#REF!))))<>#REF!,"",SUMPRODUCT((-#REF!+#REF!+#REF!)*((#REF!=#REF!)*(#REF!=#REF!)*(#REF!=#REF!))))
... B25: STOCK INITIAL | D25: 42735 | H25: LAITON | I25: ROND | J25: 24 | S25: 0 | U25: 46.68 | V25: =IF(SUMPRODUCT(MAX((#REF!)*((#REF!=#REF!)*(#REF!=#REF!)*(#REF!=#REF!))))<>#REF!,"",SUMPRODUCT((-#REF!+#REF!+#REF!)*((#REF!=#REF!)*(#REF!=#REF!)*(#REF!=#REF!)))) -> 46.68
B26: achat | D26: 42754 | H26: LAITON | I26: ROND | J26: 18 | S26: 0 | T26: 211 | V26: =IF(SUMPRODUCT(MAX((#REF!)*((#REF!=#REF!)*(#REF!=#REF!)*(#REF!=#REF!))))<>#REF!,"",SUMPRODUCT((-#REF!+#REF!+#REF!)*((#REF!=#REF!)*(#REF!=#REF!)*(#REF!=#REF!)))) | AA26: =SUBTOTAL(9,AA3:AA25) -> 0
B27: achat | D27: 42754 | H27: LAITON | I27: ROND | J27: 22 | S27: 0 | T27: 1964 | V27: =IF(SUMPRODUCT(MAX((#REF!)*((#REF!=#REF!)*(#REF!=#REF!)*(#REF!=#REF!))))<>#REF!,"",SUMPRODUCT((-#REF!+#REF!+#REF!)*((#REF!=#REF!)*(#REF!=#REF!)*(#REF!=#REF!))))
B28: vente | C28: 546390 | D28: 42801 | E28: 512800 | F28: PERNO DISINNESTO RULLO G16922290 | H28: LAITON | I28: ROND | J28: 7 | L28: 1000 | M28: 0.003421 | N28: 24.5 | O28: =INT(2800/(N28+3)) -> 101 | P28: =((J28/2)*(J28/2)*3.14*9*3)/1000 -> 1.038555 | Q28: =+M28*L28 -> 3.421 | R28: =P28/O28 -> 0.010282723 | S28: 10.282723 | V28: =IF(SUMPRODUCT(MAX((#REF!)*((#REF!=#REF!)*(#REF!=#REF!)*(#REF!=#REF!))))<>#REF!,"",SUMPRODUCT((-#REF!+#REF!+#REF!)*((#REF!=#REF!)*(#REF!=#REF!)*(#REF!=#REF!)))) | W28: =(((P28/3000)*2880)-(M28*O28))/O28 -> 0.0064504139 | X28: =+W28*L28 -> 6.4504139 | Y28: =+((P28/3000)*120)/101 -> 0.00041130891 | Z28: =Y28*L28 -> 0.41130891 | AA28: =S28-Q28 -> 6.8617228
B29: achat | D29: 42816 | H29: LAITON | I29: ROND | J29: 7 | S29: 0 | T29: 250 | V29: =IF(SUMPRODUCT(MAX((#REF!)*((#REF!=#REF!)*(#REF!=#REF!)*(#REF!=#REF!))))<>#REF!,"",SUMPRODUCT((-#REF!+#REF!+#REF!)*((#REF!=#REF!)*(#REF!=#REF!)*(#REF!=#REF!))))
A30: 201700021 | B30: vente | C30: 546763 | D30: 42818 | E30: 200200 | F30: EMBOUT DE TIGE | G30: 146 | H30: LAITON | I30: ROND | J30: 22 | L30: 2000 | M30: 0.07476 | N30: 39.5 | O30: =INT(2800/(N30+3)) -> 65 | P30: =((J30/2)*(J30/2)*3.14*9*3)/1000 -> 10.25838 | Q30: =+M30*L30 -> 149.52 | R30: =P30/O30 -> 0.15782123 | S30: 315.64246 | V30: =IF(SUMPRODUCT(MAX((#REF!)*((#REF!=#REF!)*(#REF!=#REF!)*(#REF!=#REF!))))<>#REF!,"",SUMPRODUCT((-#REF!+#REF!+#REF!)*((#REF!=#REF!)*(#REF!=#REF!)*(#REF!=#REF!)))) | W30: =(((P30/3000)*2880)-(M30*O30))/O30 -> 0.076748382 | X30: =+W30*L30 -> 153.49676 | Y30: =+((P30/3000)*120)/101 -> 0.0040627248 | Z30: =Y30*L30 -> 8.1254495 | AA30: =S30-Q30 -> 166.12246
A31: 201700027 | B31: vente | C31: 547184 | D31: 42832 | E31: 510020 | F31: INSERTO ESAG,M6 8*6 | G31: 139 | H31: LAITON | I31: HEX | J31: 8 | L31: 20000 | M31: 0.001446 | N31: 6 | O31: =INT(2800/(N31+3)) -> 311 | P31: =((J31*J31)*0.866*9*3)/1000 -> 1.496448 | Q31: =+L31*M31 -> 28.92 | R31: =P31/O31 -> 0.0048117299 | S31: 96.234598 | V31: =IF(SUMPRODUCT(MAX((#REF!)*((#REF!=#REF!)*(#REF!=#REF!)*(#REF!=#REF!))))<>#REF!,"",SUMPRODUCT((-#REF!+#REF!+#REF!)*((#REF!=#REF!)*(#REF!=#REF!)*(#REF!=#REF!)))) | W31: =(((P31/3000)*2880)-(M31*O31))/O31 -> 0.0031732607 | X31: =+W31*L31 -> 63.465214 | Y31: =+((P31/3000)*120)/101 -> 0.00059265267 | Z31: =Y31*L31 -> 11.853053 | AA31: =S31-Q31 -> 67.314598
A32: 201700027 | B32: vente | C32: 547184 | D32: 42832 | E32: 512800 | F32: PERNO DISINNESTO RULLO G16922290 | H32: LAITON | I32: ROND | J32: 7 | L32: 10000 | M32: 0.003421 | N32: 24.5 | O32: =INT(2800/(N32+3)) -> 101 | P32: =((J32/2)*(J32/2)*3.14*9*3)/1000 -> 1.038555 | Q32: =+M32*L32 -> 34.21 | R32: =P32/O32 -> 0.010282723 | S32: 102.82723 | V32: =IF(SUMPRODUCT(MAX((#REF!)*((#REF!=#REF!)*(#REF!=#REF!)*(#REF!=#REF!))))<>#REF!,"",SUMPRODUCT((-#REF!+#REF!+#REF!)*((#REF!=#REF!)*(#REF!=#REF!)*(#REF!=#REF!)))) | W32: =(((P32/3000)*2880)-(M32*O32))/O32 -> 0.0064504139 | X32: =+W32*L32 -> 64.504139 | Y32: =+((P32/3000)*120)/101 -> 0.00041130891 | Z32: =Y32*L32 -> 4.1130891 | AA32: =S32-Q32 -> 68.617228
A33: 201700034 | B33: vente | C33: 547321 | D33: 42839 | E33: 200200 | F33: EMBOUT DE TIGE | H33: LAITON | I33: ROND | J33: 22 | L33: 2500 | M33: 0.07476 | N33: 39.5 | O33: =INT(2800/(N33+3)) -> 65 | P33: =((J33/2)*(J33/2)*3.14*9*3)/1000 -> 10.25838 | Q33: =+M33*L33 -> 186.9 | R33: =P33/O33 -> 0.15782123 | S33: 394.55308 | V33: =IF(SUMPRODUCT(MAX((#REF!)*((#REF!=#REF!)*(#REF!=#REF!)*(#REF!=#REF!))))<>#REF!,"",SUMPRODUCT((-#REF!+#REF!+#REF!)*((#REF!=#REF!)*(#REF!=#REF!)*(#REF!=#REF!)))) | W33: =(((P33/3000)*2880)-(M33*O33))/O33 -> 0.076748382 | X33: =+W33*L33 -> 191.87095 | Y33: =+((P33/3000)*120)/101 -> 0.0040627248 | Z33: =Y33*L33 -> 10.156812 | AA33: =S33-Q33 -> 207.65308
B34: achat | D34: 42857 | H34: LAITON | I34: HEX | J34: 8 | S34: 0 | T34: 150.4 | V34: =IF(SUMPRODUCT(MAX((#REF!)*((#REF!=#REF!)*(#REF!=#REF!)*(#REF!=#REF!))))<>#REF!,"",SUMPRODUCT((-#REF!+#REF!+#REF!)*((#REF!=#REF!)*(#REF!=#REF!)*(#REF!=#REF!))))
A35: 201700044 | B35: vente | C35: 547817 | D35: 42861 | E35: 510020 | F35: INSERTO ESAG,M6 8*6 | G35: 139 | H35: LAITON | I35: HEX | J35: 8 | L35: 3540 | M35: 0.001446 | N35: 6 | O35: =INT(2800/(N35+3)) -> 311 | P35: =((J35*J35)*0.866*9*3)/1000 -> 1.496448 | Q35: =+L35*M35 -> 5.11884 | R35: =P35/O35 -> 0.0048117299 | S35: 17.033524 | V35: =IF(SUMPRODUCT(MAX((#REF!)*((#REF!=#REF!)*(#REF!=#REF!)*(#REF!=#REF!))))<>#REF!,"",SUMPRODUCT((-#REF!+#REF!+#REF!)*((#REF!=#REF!)*(#REF!=#REF!)*(#REF!=#REF!)))) | W35: =(((P35/3000)*2880)-(M35*O35))/O35 -> 0.0031732607 | X35: =+W35*L35 -> 11.233343 | Y35: =+((P35/3000)*120)/101 -> 0.00059265267 | Z35: =Y35*L35 -> 2.0979905 | AA35: =S35-Q35 -> 11.914684
A36: 201700044 | B36: vente | C36: 547817 | D36: 42861 | E36: 510090 | F36: INSERTI M8 12*12 laiton hex12 | G36: 141 | H36: LAITON | I36: HEX | J36: 12 | L36: 5100 | M36: 0.00325 | N36: 12 | O36: =INT(2800/(N36+3)) -> 186 | P36: =((J36*J36)*0.866*9*3)/1000 -> 3.367008 | Q36: =+L36*M36 -> 16.575 | R36: =P36/O36 -> 0.018102194 | S36: 92.321187 | V36: =IF(SUMPRODUCT(MAX((#REF!)*((#REF!=#REF!)*(#REF!=#REF!)*(#REF!=#REF!))))<>#REF!,"",SUMPRODUCT((-#REF!+#REF!+#REF!)*((#REF!=#REF!)*(#REF!=#REF!)*(#REF!=#REF!)))) | W36: =(((P36/3000)*2880)-(M36*O36))/O36 -> 0.014128106 | X36: =+W36*L36 -> 72.05334 | Y36: =+((P36/3000)*120)/101 -> 0.0013334685 | Z36: =Y36*L36 -> 6.8006894 | AA36: =S36-Q36 -> 75.746187
A37: 201700044 | B37: vente | C37: 547817 | D37: 42861 | E37: 512800 | F37: PERNO DISINNESTO RULLO G16922290 | H37: LAITON | I37: ROND | J37: 7 | L37: 17400 | M37: 0.003421 | N37: 24.5 | O37: =INT(2800/(N37+3)) -> 101 | P37: =((J37/2)*(J37/2)*3.14*9*3)/1000 -> 1.038555 | Q37: =+M37*L37 -> 59.5254 | R37: =P37/O37 -> 0.010282723 | S37: 178.91938 | V37: =IF(SUMPRODUCT(MAX((#REF!)*((#REF!=#REF!)*(#REF!=#REF!)*(#REF!=#REF!))))<>#REF!,"",SUMPRODUCT((-#REF!+#REF!+#REF!)*((#REF!=#REF!)*(#REF!=#REF!)*(#REF!=#REF!)))) | W37: =(((P37/3000)*2880)-(M37*O37))/O37 -> 0.0064504139 | X37: =+W37*L37 -> 112.2372 | Y37: =+((P37/3000)*120)/101 -> 0.00041130891 | Z37: =Y37*L37 -> 7.156775 | AA37: =S37-Q37 -> 119.39398
A38: 201700038 | B38: vente | C38: 547903 | D38: 42866 | E38: 200200 | F38: EMBOUT DE TIGE | H38: LAITON | I38: ROND | J38: 22 | L38: 1500 | M38: 0.07476 | N38: 39.5 | O38: =INT(2800/(N38+3)) -> 65 | P38: =((J38/2)*(J38/2)*3.14*9*3)/1000 -> 10.25838 | Q38: =+M38*L38 -> 112.14 | R38: =P38/O38 -> 0.15782123 | S38: 236.73185 | V38: =IF(SUMPRODUCT(MAX((#REF!)*((#REF!=#REF!)*(#REF!=#REF!)*(#REF!=#REF!))))<>#REF!,"",SUMPRODUCT((-#REF!+#REF!+#REF!)*((#REF!=#REF!)*(#REF!=#REF!)*(#REF!=#REF!)))) | W38: =(((P38/3000)*2880)-(M38*O38))/O38 -> 0.076748382 | X38: =+W38*L38 -> 115.12257 | Y38: =+((P38/3000)*120)/101 -> 0.0040627248 | Z38: =Y38*L38 -> 6.0940871 | AA38: =S38-Q38 -> 124.59185
B39: achat | D39: 42885 | H39: LAITON | I39: ROND | J39: 7 | S39: 0 | T39: 250 | V39: =IF(SUMPRODUCT(MAX((#REF!)*((#REF!=#REF!)*(#REF!=#REF!)*(#REF!=#REF!))))<>#REF!,"",SUMPRODUCT((-#REF!+#REF!+#REF!)*((#REF!=#REF!)*(#REF!=#REF!)*(#REF!=#REF!))))
B40: achat | D40: 42885 | H40: LAITON | I40: HEX | J40: 12 | S40: 0 | T40: 250 | V40: =IF(SUMPRODUCT(MAX((#REF!)*((#REF!=#REF!)*(#REF!=#REF!)*(#REF!=#REF!))))<>#REF!,"",SUMPRODUCT((-#REF!+#REF!+#REF!)*((#REF!=#REF!)*(#REF!=#REF!)*(#REF!=#REF!))))
A41: 201700054 | B41: vente | C41: 548450 | D41: 42893 | E41: 510020 | F41: INSERTO ESAG,M6 8*6 | G41: 139 | H41: LAITON | I41: HEX | J41: 8 | L41: 26460 | M41: 0.001446 | N41: 6 | O41: =INT(2800/(N41+3)) -> 311 | P41: =((J41*J41)*0.866*9*3)/1000 -> 1.496448 | Q41: =+L41*M41 -> 38.26116 | R41: =P41/O41 -> 0.0048117299 | S41: 127.31837 | V41: =IF(SUMPRODUCT(MAX((#REF!)*((#REF!=#REF!)*(#REF!=#REF!)*(#REF!=#REF!))))<>#REF!,"",SUMPRODUCT((-#REF!+#REF!+#REF!)*((#REF!=#REF!)*(#REF!=#REF!)*(#REF!=#REF!)))) | W41: =(((P41/3000)*2880)-(M41*O41))/O41 -> 0.0031732607 | X41: =+W41*L41 -> 83.964478 | Y41: =+((P41/3000)*120)/101 -> 0.00059265267 | Z41: =Y41*L41 -> 15.68159 | AA41: =S41-Q41 -> 89.057213
A42: 201700054 | B42: vente | C42: 548450 | D42: 42893 | E42: 512800 | F42: PERNO DISINNESTO RULLO G16922290 | H42: LAITON | I42: ROND | J42: 7 | L42: 9100 | M42: 0.003421 | N42: 24.5 | O42: =INT(2800/(N42+3)) -> 101 | P42: =((J42/2)*(J42/2)*3.14*9*3)/1000 -> 1.038555 | Q42: =+M42*L42 -> 31.1311 | R42: =P42/O42 -> 0.010282723 | S42: 93.572777 | V42: =IF(SUMPRODUCT(MAX((#REF!)*((#REF!=#REF!)*(#REF!=#REF!)*(#REF!=#REF!))))<>#REF!,"",SUMPRODUCT((-#REF!+#REF!+#REF!)*((#REF!=#REF!)*(#REF!=#REF!)*(#REF!=#REF!)))) | W42: =(((P42/3000)*2880)-(M42*O42))/O42 -> 0.0064504139 | X42: =+W42*L42 -> 58.698766 | Y42: =+((P42/3000)*120)/101 -> 0.00041130891 | Z42: =Y42*L42 -> 3.7429111 | AA42: =S42-Q42 -> 62.441677
A43: 201700061 | B43: vente | C43: 549084 | D43: 42923 | E43: 200200 | F43: EMBOUT DE TIGE | H43: LAITON | I43: ROND | J43: 22 | L43: 1500 | M43: 0.07476 | N43: 39.5 | O43: =INT(2800/(N43+3)) -> 65 | P43: =((J43/2)*(J43/2)*3.14*9*3)/1000 -> 10.25838 | Q43: =+M43*L43 -> 112.14 | R43: =P43/O43 -> 0.15782123 | S43: 236.73185 | V43: =IF(SUMPRODUCT(MAX((#REF!)*((#REF!=#REF!)*(#REF!=#REF!)*(#REF!=#REF!))))<>#REF!,"",SUMPRODUCT((-#REF!+#REF!+#REF!)*((#REF!=#REF!)*(#REF!=#REF!)*(#REF!=#REF!)))) | W43: =(((P43/3000)*2880)-(M43*O43))/O43 -> 0.076748382 | X43: =+W43*L43 -> 115.12257 | Y43: =+((P43/3000)*120)/101 -> 0.0040627248 | Z43: =Y43*L43 -> 6.0940871 | AA43: =S43-Q43 -> 124.59185
A44: 201700065 | B44: vente | C44: 549089 | D44: 42923 | E44: 510020 | F44: INSERTO ESAG,M6 8*6 | G44: 139 | H44: LAITON | I44: HEX | J44: 8 | L44: 15517 | M44: 0.001446 | N44: 6 | O44: =INT(2800/(N44+3)) -> 311 | P44: =((J44*J44)*0.866*9*3)/1000 -> 1.496448 | Q44: =+L44*M44 -> 22.437582 | R44: =P44/O44 -> 0.0048117299 | S44: 74.663613 | V44: =IF(SUMPRODUCT(MAX((#REF!)*((#REF!=#REF!)*(#REF!=#REF!)*(#REF!=#REF!))))<>#REF!,"",SUMPRODUCT((-#REF!+#REF!+#REF!)*((#REF!=#REF!)*(#REF!=#REF!)*(#REF!=#REF!)))) | W44: =(((P44/3000)*2880)-(M44*O44))/O44 -> 0.0031732607 | X44: =+W44*L44 -> 49.239486 | Y44: =+((P44/3000)*120)/101 -> 0.00059265267 | Z44: =Y44*L44 -> 9.1961915 | AA44: =S44-Q44 -> 52.226031
A45: 201700065 | B45: vente | C45: 549089 | D45: 42923 | E45: 511040 | F45: BRONZINA 16/18X10.3 | G45: 138 | H45: LAITON | I45: ROND | J45: 18 | L45: 865 | M45: 0.003676 | N45: 10.3 | O45: =INT(2800/(N45+3)) -> 210 | P45: =((J45/2)*(J45/2)*3.14*9*3)/1000 -> 6.86718 | Q45: =+M45*L45 -> 3.17974 | R45: =P45/O45 -> 0.032700857 | S45: 28.286241 | V45: =IF(SUMPRODUCT(MAX((#REF!)*((#REF!=#REF!)*(#REF!=#REF!)*(#REF!=#REF!))))<>#REF!,"",SUMPRODUCT((-#REF!+#REF!+#REF!)*((#REF!=#REF!)*(#REF!=#REF!)*(#REF!=#REF!)))) | W45: =(((P45/3000)*2880)-(M45*O45))/O45 -> 0.027716823 | X45: =+W45*L45 -> 23.975052 | Y45: =+((P45/3000)*120)/101 -> 0.0027196752 | Z45: =Y45*L45 -> 2.3525191 | AA45: =S45-Q45 -> 25.106501
A46: 201700065 | B46: vente | C46: 549089 | D46: 42923 | E46: 512800 | F46: PERNO DISINNESTO RULLO G16922290 | H46: LAITON | I46: ROND | J46: 7 | L46: 6000 | M46: 0.003421 | N46: 24.5 | O46: =INT(2800/(N46+3)) -> 101 | P46: =((J46/2)*(J46/2)*3.14*9*3)/1000 -> 1.038555 | Q46: =+M46*L46 -> 20.526 | R46: =P46/O46 -> 0.010282723 | S46: 61.696337 | V46: =IF(SUMPRODUCT(MAX((#REF!)*((#REF!=#REF!)*(#REF!=#REF!)*(#REF!=#REF!))))<>#REF!,"",SUMPRODUCT((-#REF!+#REF!+#REF!)*((#REF!=#REF!)*(#REF!=#REF!)*(#REF!=#REF!)))) | W46: =(((P46/3000)*2880)-(M46*O46))/O46 -> 0.0064504139 | X46: =+W46*L46 -> 38.702483 | Y46: =+((P46/3000)*120)/101 -> 0.00041130891 | Z46: =Y46*L46 -> 2.4678535 | AA46: =S46-Q46 -> 41.170337
B47: achat | D47: 42923 | H47: LAITON | I47: HEX | J47: 8 | S47: 0 | T47: 150.4 | V47: =IF(SUMPRODUCT(MAX((#REF!)*((#REF!=#REF!)*(#REF!=#REF!)*(#REF!=#REF!))))<>#REF!,"",SUMPRODUCT((-#REF!+#REF!+#REF!)*((#REF!=#REF!)*(#REF!=#REF!)*(#REF!=#REF!))))
A48: 201700072 | B48: vente | C48: 549600 | D48: 42950 | E48: 510090 | F48: INSERTI M8 12*12 laiton hex12 | G48: 141 | H48: LAITON | I48: HEX | J48: 12 | L48: 3000 | M48: 0.00325 | N48: 12 | O48: =INT(2800/(N48+3)) -> 186 | P48: =((J48*J48)*0.866*9*3)/1000 -> 3.367008 | Q48: =+L48*M48 -> 9.75 | R48: =P48/O48 -> 0.018102194 | S48: 54.306581 | V48: =IF(SUMPRODUCT(MAX((#REF!)*((#REF!=#REF!)*(#REF!=#REF!)*(#REF!=#REF!))))<>#REF!,"",SUMPRODUCT((-#REF!+#REF!+#REF!)*((#REF!=#REF!)*(#REF!=#REF!)*(#REF!=#REF!)))) | W48: =(((P48/3000)*2880)-(M48*O48))/O48 -> 0.014128106 | X48: =+W48*L48 -> 42.384317 | Y48: =+((P48/3000)*120)/101 -> 0.0013334685 | Z48: =Y48*L48 -> 4.0004055 | AA48: =S48-Q48 -> 44.556581
A49: 201700072 | B49: vente | C49: 549600 | D49: 42950 | E49: 512800 | F49: PERNO DISINNESTO RULLO G16922290 | H49: LAITON | I49: ROND | J49: 7 | L49: 3000 | M49: 0.003421 | N49: 24.5 | O49: =INT(2800/(N49+3)) -> 101 | P49: =((J49/2)*(J49/2)*3.14*9*3)/1000 -> 1.038555 | Q49: =+M49*L49 -> 10.263 | R49: =P49/O49 -> 0.010282723 | S49: 30.848168 | V49: =IF(SUMPRODUCT(MAX((#REF!)*((#REF!=#REF!)*(#REF!=#REF!)*(#REF!=#REF!))))<>#REF!,"",SUMPRODUCT((-#REF!+#REF!+#REF!)*((#REF!=#REF!)*(#REF!=#REF!)*(#REF!=#REF!)))) | W49: =(((P49/3000)*2880)-(M49*O49))/O49 -> 0.0064504139 | X49: =+W49*L49 -> 19.351242 | Y49: =+((P49/3000)*120)/101 -> 0.00041130891 | Z49: =Y49*L49 -> 1.2339267 | AA49: =S49-Q49 -> 20.585168
A50: 201700076 | B50: vente | C50: 530052 | D50: 42984 | E50: 200200 | F50: EMBOUT DE TIGE | H50: LAITON | I50: ROND | J50: 22 | L50: 1500 | M50: 0.07476 | N50: 39.5 | O50: =INT(2800/(N50+3)) -> 65 | P50: =((J50/2)*(J50/2)*3.14*9*3)/1000 -> 10.25838 | Q50: =+M50*L50 -> 112.14 | R50: =P50/O50 -> 0.15782123 | S50: 236.73185 | V50: =IF(SUMPRODUCT(MAX((#REF!)*((#REF!=#REF!)*(#REF!=#REF!)*(#REF!=#REF!))))<>#REF!,"",SUMPRODUCT((-#REF!+#REF!+#REF!)*((#REF!=#REF!)*(#REF!=#REF!)*(#REF!=#REF!)))) | W50: =(((P50/3000)*2880)-(M50*O50))/O50 -> 0.076748382 | X50: =+W50*L50 -> 115.12257 | Y50: =+((P50/3000)*120)/101 -> 0.0040627248 | Z50: =Y50*L50 -> 6.0940871 | AA50: =S50-Q50 -> 124.59185
A51: 201700081 | B51: vente | C51: 530407 | D51: 43003 | E51: 200200 | F51: EMBOUT DE TIGE | H51: LAITON | I51: ROND | J51: 22 | L51: 1100 | M51: 0.07476 | N51: 39.5 | O51: =INT(2800/(N51+3)) -> 65 | P51: =((J51/2)*(J51/2)*3.14*9*3)/1000 -> 10.25838 | Q51: =+M51*L51 -> 82.236 | R51: =P51/O51 -> 0.15782123 | S51: 173.60335 | V51: =IF(SUMPRODUCT(MAX((#REF!)*((#REF!=#REF!)*(#REF!=#REF!)*(#REF!=#REF!))))<>#REF!,"",SUMPRODUCT((-#REF!+#REF!+#REF!)*((#REF!=#REF!)*(#REF!=#REF!)*(#REF!=#REF!)))) | W51: =(((P51/3000)*2880)-(M51*O51))/O51 -> 0.076748382 | X51: =+W51*L51 -> 84.42322 | Y51: =+((P51/3000)*120)/101 -> 0.0040627248 | Z51: =Y51*L51 -> 4.4689972 | AA51: =S51-Q51 -> 91.367354
A52: 201700085 | B52: vente | C52: 530684 | D52: 43017 | E52: 511040 | F52: BRONZINA 16/18X10.3 | G52: 138 | H52: LAITON | I52: ROND | J52: 18 | L52: 4200 | M52: 0.003676 | N52: 10.3 | O52: =INT(2800/(N52+3)) -> 210 | P52: =((J52/2)*(J52/2)*3.14*9*3)/1000 -> 6.86718 | Q52: =+M52*L52 -> 15.4392 | R52: =P52/O52 -> 0.032700857 | S52: 137.3436 | V52: =IF(SUMPRODUCT(MAX((#REF!)*((#REF!=#REF!)*(#REF!=#REF!)*(#REF!=#REF!))))<>#REF!,"",SUMPRODUCT((-#REF!+#REF!+#REF!)*((#REF!=#REF!)*(#REF!=#REF!)*(#REF!=#REF!)))) | W52: =(((P52/3000)*2880)-(M52*O52))/O52 -> 0.027716823 | X52: =+W52*L52 -> 116.41066 | Y52: =+((P52/3000)*120)/101 -> 0.0027196752 | Z52: =Y52*L52 -> 11.422636 | AA52: =S52-Q52 -> 121.9044
A53: 201700095 | B53: vente | C53: 531288 | D53: 43043 | E53: 200200 | F53: EMBOUT DE TIGE | H53: LAITON | I53: ROND | J53: 22 | L53: 1300 | M53: 0.07476 | N53: 39.5 | O53: =INT(2800/(N53+3)) -> 65 | P53: =((J53/2)*(J53/2)*3.14*9*3)/1000 -> 10.25838 | Q53: =+M53*L53 -> 97.188 | R53: =P53/O53 -> 0.15782123 | S53: 205.1676 | V53: =IF(SUMPRODUCT(MAX((#REF!)*((#REF!=#REF!)*(#REF!=#REF!)*(#REF!=#REF!))))<>#REF!,"",SUMPRODUCT((-#REF!+#REF!+#REF!)*((#REF!=#REF!)*(#REF!=#REF!)*(#REF!=#REF!)))) | W53: =(((P53/3000)*2880)-(M53*O53))/O53 -> 0.076748382 | X53: =+W53*L53 -> 99.772896 | Y53: =+((P53/3000)*120)/101 -> 0.0040627248 | Z53: =Y53*L53 -> 5.2815422 | AA53: =S53-Q53 -> 107.9796
A54: 201700098 | B54: vente | C54: 531306 | D54: 43045 | E54: 510020 | F54: INSERTO ESAG,M6 8*6 | G54: 139 | H54: LAITON | I54: HEX | J54: 8 | L54: 25000 | M54: 0.001446 | N54: 6 | O54: =INT(2800/(N54+3)) -> 311 | P54: =((J54*J54)*0.866*9*3)/1000 -> 1.496448 | Q54: =+L54*M54 -> 36.15 | R54: =P54/O54 -> 0.0048117299 | S54: 120.29325 | V54: =IF(SUMPRODUCT(MAX((#REF!)*((#REF!=#REF!)*(#REF!=#REF!)*(#REF!=#REF!))))<>#REF!,"",SUMPRODUCT((-#REF!+#REF!+#REF!)*((#REF!=#REF!)*(#REF!=#REF!)*(#REF!=#REF!)))) | W54: =(((P54/3000)*2880)-(M54*O54))/O54 -> 0.0031732607 | X54: =+W54*L54 -> 79.331518 | Y54: =+((P54/3000)*120)/101 -> 0.00059265267 | Z54: =Y54*L54 -> 14.816317 | AA54: =S54-Q54 -> 84.143248
A55: 201700098 | B55: vente | C55: 531306 | D55: 43045 | E55: 512800 | F55: PERNO DISINNESTO RULLO G16922290 | H55: LAITON | I55: ROND | J55: 7 | L55: 12000 | M55: 0.003421 | N55: 24.5 | O55: =INT(2800/(N55+3)) -> 101 | P55: =((J55/2)*(J55/2)*3.14*9*3)/1000 -> 1.038555 | Q55: =+M55*L55 -> 41.052 | R55: =P55/O55 -> 0.010282723 | S55: 123.39267 | V55: =IF(SUMPRODUCT(MAX((#REF!)*((#REF!=#REF!)*(#REF!=#REF!)*(#REF!=#REF!))))<>#REF!,"",SUMPRODUCT((-#REF!+#REF!+#REF!)*((#REF!=#REF!)*(#REF!=#REF!)*(#REF!=#REF!)))) | W55: =(((P55/3000)*2880)-(M55*O55))/O55 -> 0.0064504139 | X55: =+W55*L55 -> 77.404966 | Y55: =+((P55/3000)*120)/101 -> 0.00041130891 | Z55: =Y55*L55 -> 4.9357069 | AA55: =S55-Q55 -> 82.340673
B56: achat | D56: 43067 | H56: LAITON | I56: ROND | J56: 22 | S56: 0 | T56: 2548 | V56: =IF(SUMPRODUCT(MAX((#REF!)*((#REF!=#REF!)*(#REF!=#REF!)*(#REF!=#REF!))))<>#REF!,"",SUMPRODUCT((-#REF!+#REF!+#REF!)*((#REF!=#REF!)*(#REF!=#REF!)*(#REF!=#REF!))))
B57: achat | D57: 43067 | H57: LAITON | I57: ROND | J57: 18 | S57: 0 | T57: 314 | V57: =IF(SUMPRODUCT(MAX((#REF!)*((#REF!=#REF!)*(#REF!=#REF!)*(#REF!=#REF!))))<>#REF!,"",SUMPRODUCT((-#REF!+#REF!+#REF!)*((#REF!=#REF!)*(#REF!=#REF!)*(#REF!=#REF!))))
B58: achat | D58: 43067 | H58: LAITON | I58: ROND | J58: 7 | S58: 0 | T58: 306 | V58: =IF(SUMPRODUCT(MAX((#REF!)*((#REF!=#REF!)*(#REF!=#REF!)*(#REF!=#REF!))))<>#REF!,"",SUMPRODUCT((-#REF!+#REF!+#REF!)*((#REF!=#REF!)*(#REF!=#REF!)*(#REF!=#REF!))))
B59: achat | D59: 43067 | H59: LAITON | I59: HEX | J59: 12 | S59: 0 | T59: 201 | V59: =IF(SUMPRODUCT(MAX((#REF!)*((#REF!=#REF!)*(#REF!=#REF!)*(#REF!=#REF!))))<>#REF!,"",SUMPRODUCT((-#REF!+#REF!+#REF!)*((#REF!=#REF!)*(#REF!=#REF!)*(#REF!=#REF!))))
B60: achat | D60: 43067 | H60: LAITON | I60: HEX | J60: 8 | S60: 0 | T60: 447 | V60: =IF(SUMPRODUCT(MAX((#REF!)*((#REF!=#REF!)*(#REF!=#REF!)*(#REF!=#REF!))))<>#REF!,"",SUMPRODUCT((-#REF!+#REF!+#REF!)*((#REF!=#REF!)*(#REF!=#REF!)*(#REF!=#REF!))))
A61: 201700108 | B61: vente | C61: 531987 | D61: 43076 | E61: 510020 | F61: INSERTO ESAG,M6 8*6 | G61: 139 | H61: LAITON | I61: HEX | J61: 8 | L61: 6568 | M61: 0.001446 | N61: 6 | O61: =INT(2800/(N61+3)) -> 311 | P61: =((J61*J61)*0.866*9*3)/1000 -> 1.496448 | Q61: =+L61*M61 -> 9.497328 | R61: =P61/O61 -> 0.0048117299 | S61: 31.603442 | V61: =IF(SUMPRODUCT(MAX((#REF!)*((#REF!=#REF!)*(#REF!=#REF!)*(#REF!=#REF!))))<>#REF!,"",SUMPRODUCT((-#REF!+#REF!+#REF!)*((#REF!=#REF!)*(#REF!=#REF!)*(#REF!=#REF!)))) | W61: =(((P61/3000)*2880)-(M61*O61))/O61 -> 0.0031732607 | X61: =+W61*L61 -> 20.841976 | Y61: =+((P61/3000)*120)/101 -> 0.00059265267 | Z61: =Y61*L61 -> 3.8925428 | AA61: =S61-Q61 -> 22.106114
A62: 201700108 | B62: vente | C62: 531987 | D62: 43076 | E62: 510090 | F62: INSERTI M8 12*12 laiton hex12 | G62: 141 | H62: LAITON | I62: HEX | J62: 12 | L62: 3000 | M62: 0.00325 | N62: 12 | O62: =INT(2800/(N62+3)) -> 186 | P62: =((J62*J62)*0.866*9*3)/1000 -> 3.367008 | Q62: =+L62*M62 -> 9.75 | R62: =P62/O62 -> 0.018102194 | S62: 54.306581 | V62: =IF(SUMPRODUCT(MAX((#REF!)*((#REF!=#REF!)*(#REF!=#REF!)*(#REF!=#REF!))))<>#REF!,"",SUMPRODUCT((-#REF!+#REF!+#REF!)*((#REF!=#REF!)*(#REF!=#REF!)*(#REF!=#REF!)))) | W62: =(((P62/3000)*2880)-(M62*O62))/O62 -> 0.014128106 | X62: =+W62*L62 -> 42.384317 | Y62: =+((P62/3000)*120)/101 -> 0.0013334685 | Z62: =Y62*L62 -> 4.0004055 | AA62: =S62-Q62 -> 44.556581
A63: 201700114 | B63: vente | C63: 532603 | D63: 43106 | E63: 510090 | F63: INSERTI M8 12*12 laiton hex12 | G63: 141 | H63: LAITON | I63: HEX | J63: 12 | L63: 6000 | M63: 0.00325 | N63: 12 | O63: =INT(2800/(N63+3)) -> 186 | P63: =((J63*J63)*0.866*9*3)/1000 -> 3.367008 | Q63: =+L63*M63 -> 19.5 | R63: =P63/O63 -> 0.018102194 | S63: 108.61316 | V63: =IF(SUMPRODUCT(MAX((#REF!)*((#REF!=#REF!)*(#REF!=#REF!)*(#REF!=#REF!))))<>#REF!,"",SUMPRODUCT((-#REF!+#REF!+#REF!)*((#REF!=#REF!)*(#REF!=#REF!)*(#REF!=#REF!)))) -> 218.63649 | W63: =(((P63/3000)*2880)-(M63*O63))/O63 -> 0.014128106 | X63: =+W63*L63 -> 84.768635 | Y63: =+((P63/3000)*120)/101 -> 0.0013334685 | Z63: =Y63*L63 -> 8.0008111 | AA63: =S63-Q63 -> 89.113161
A64: 201800002 | B64: vente | C64: 532778 | D64: 43113 | E64: 200200 | F64: EMBOUT DE TIGE | H64: LAITON | I64: ROND | J64: 22 | L64: 1900 | M64: 0.07476 | N64: 39.5 | O64: =INT(2800/(N64+3)) -> 65 | P64: =((J64/2)*(J64/2)*3.14*9*3)/1000 -> 10.25838 | Q64: =+M64*L64 -> 142.044 | R64: =P64/O64 -> 0.15782123 | S64: 299.86034 | V64: =IF(SUMPRODUCT(MAX((#REF!)*((#REF!=#REF!)*(#REF!=#REF!)*(#REF!=#REF!))))<>#REF!,"",SUMPRODUCT((-#REF!+#REF!+#REF!)*((#REF!=#REF!)*(#REF!=#REF!)*(#REF!=#REF!)))) | W64: =(((P64/3000)*2880)-(M64*O64))/O64 -> 0.076748382 | X64: =+W64*L64 -> 145.82192 | Y64: =+((P64/3000)*120)/101 -> 0.0040627248 | Z64: =Y64*L64 -> 7.719177 | AA64: =S64-Q64 -> 157.81634
A65: 201800007 | B65: vente | C65: 533273 | D65: 43138 | E65: 510020 | F65: INSERTO ESAG,M6 8*6 | G65: 139 | H65: LAITON | I65: HEX | J65: 8 | L65: 19000 | M65: 0.001446 | N65: 6 | O65: =INT(2800/(N65+3)) -> 311 | P65: =((J65*J65)*0.866*9*3)/1000 -> 1.496448 | Q65: =+L65*M65 -> 27.474 | R65: =P65/O65 -> 0.0048117299 | S65: 91.422868 | V65: =IF(SUMPRODUCT(MAX((#REF!)*((#REF!=#REF!)*(#REF!=#REF!)*(#REF!=#REF!))))<>#REF!,"",SUMPRODUCT((-#REF!+#REF!+#REF!)*((#REF!=#REF!)*(#REF!=#REF!)*(#REF!=#REF!)))) | W65: =(((P65/3000)*2880)-(M65*O65))/O65 -> 0.0031732607 | X65: =+W65*L65 -> 60.291953 | Y65: =+((P65/3000)*120)/101 -> 0.00059265267 | Z65: =Y65*L65 -> 11.260401 | AA65: =S65-Q65 -> 63.948868
A66: 201800011 | B66: vente | C66: 533503 | D66: 43148 | E66: 200200 | F66: EMBOUT DE TIGE | H66: LAITON | I66: ROND | J66: 22 | L66: 550 | M66: 0.07476 | N66: 39.5 | O66: =INT(2800/(N66+3)) -> 65 | P66: =((J66/2)*(J66/2)*3.14*9*3)/1000 -> 10.25838 | Q66: =+M66*L66 -> 41.118 | R66: =P66/O66 -> 0.15782123 | S66: 86.801677 | V66: =IF(SUMPRODUCT(MAX((#REF!)*((#REF!=#REF!)*(#REF!=#REF!)*(#REF!=#REF!))))<>#REF!,"",SUMPRODUCT((-#REF!+#REF!+#REF!)*((#REF!=#REF!)*(#REF!=#REF!)*(#REF!=#REF!)))) | W66: =(((P66/3000)*2880)-(M66*O66))/O66 -> 0.076748382 | X66: =+W66*L66 -> 42.21161 | Y66: =+((P66/3000)*120)/101 -> 0.0040627248 | Z66: =Y66*L66 -> 2.2344986 | AA66: =S66-Q66 -> 45.683677
A67: 201800014 | B67: vente | C67: 533899 | D67: 43166 | E67: 510020 | F67: INSERTO ESAG,M6 8*6 | G67: 139 | H67: LAITON | I67: HEX | J67: 8 | L67: 21500 | M67: 0.001446 | N67: 6 | O67: =INT(2800/(N67+3)) -> 311 | P67: =((J67*J67)*0.866*9*3)/1000 -> 1.496448 | Q67: =+L67*M67 -> 31.089 | R67: =P67/O67 -> 0.0048117299 | S67: 103.45219 | V67: =IF(SUMPRODUCT(MAX((#REF!)*((#REF!=#REF!)*(#REF!=#REF!)*(#REF!=#REF!))))<>#REF!,"",SUMPRODUCT((-#REF!+#REF!+#REF!)*((#REF!=#REF!)*(#REF!=#REF!)*(#REF!=#REF!)))) | W67: =(((P67/3000)*2880)-(M67*O67))/O67 -> 0.0031732607 | X67: =+W67*L67 -> 68.225105 | Y67: =+((P67/3000)*120)/101 -> 0.00059265267 | Z67: =Y67*L67 -> 12.742032 | AA67: =S67-Q67 -> 72.363193
A68: 201800014 | B68: vente | C68: 533899 | D68: 43166 | E68: 512800 | F68: PERNO DISINNESTO RULLO G16922290 | H68: LAITON | I68: ROND | J68: 7 | L68: 6000 | M68: 0.003421 | N68: 24.5 | O68: =INT(2800/(N68+3)) -> 101 | P68: =((J68/2)*(J68/2)*3.14*9*3)/1000 -> 1.038555 | Q68: =+M68*L68 -> 20.526 | R68: =P68/O68 -> 0.010282723 | S68: 61.696337 | V68: =IF(SUMPRODUCT(MAX((#REF!)*((#REF!=#REF!)*(#REF!=#REF!)*(#REF!=#REF!))))<>#REF!,"",SUMPRODUCT((-#REF!+#REF!+#REF!)*((#REF!=#REF!)*(#REF!=#REF!)*(#REF!=#REF!)))) | W68: =(((P68/3000)*2880)-(M68*O68))/O68 -> 0.0064504139 | X68: =+W68*L68 -> 38.702483 | Y68: =+((P68/3000)*120)/101 -> 0.00041130891 | Z68: =Y68*L68 -> 2.4678535 | AA68: =S68-Q68 -> 41.170337
A69: 201800023 | B69: vente | C69: 534593 | D69: 43194 | E69: 200200 | F69: EMBOUT DE TIGE | H69: LAITON | I69: ROND | J69: 22 | L69: 2700 | M69: 0.07476 | N69: 39.5 | O69: =INT(2800/(N69+3)) -> 65 | P69: =((J69/2)*(J69/2)*3.14*9*3)/1000 -> 10.25838 | Q69: =+M69*L69 -> 201.852 | R69: =P69/O69 -> 0.15782123 | S69: 426.11732 | V69: =IF(SUMPRODUCT(MAX((#REF!)*((#REF!=#REF!)*(#REF!=#REF!)*(#REF!=#REF!))))<>#REF!,"",SUMPRODUCT((-#REF!+#REF!+#REF!)*((#REF!=#REF!)*(#REF!=#REF!)*(#REF!=#REF!)))) | W69: =(((P69/3000)*2880)-(M69*O69))/O69 -> 0.076748382 | X69: =+W69*L69 -> 207.22063 | Y69: =+((P69/3000)*120)/101 -> 0.0040627248 | Z69: =Y69*L69 -> 10.969357 | AA69: =S69-Q69 -> 224.26532
A70: 201800026 | B70: vente | C70: 534802 | D70: 43200 | E70: 510020 | F70: INSERTO ESAG,M6 8*6 | G70: 139 | H70: LAITON | I70: HEX | J70: 8 | L70: 15733 | M70: 0.001446 | N70: 6 | O70: =INT(2800/(N70+3)) -> 311 | P70: =((J70*J70)*0.866*9*3)/1000 -> 1.496448 | Q70: =+L70*M70 -> 22.749918 | R70: =P70/O70 -> 0.0048117299 | S70: 75.702947 | V70: =IF(SUMPRODUCT(MAX((#REF!)*((#REF!=#REF!)*(#REF!=#REF!)*(#REF!=#REF!))))<>#REF!,"",SUMPRODUCT((-#REF!+#REF!+#REF!)*((#REF!=#REF!)*(#REF!=#REF!)*(#REF!=#REF!)))) | W70: =(((P70/3000)*2880)-(M70*O70))/O70 -> 0.0031732607 | X70: =+W70*L70 -> 49.924911 | Y70: =+((P70/3000)*120)/101 -> 0.00059265267 | Z70: =Y70*L70 -> 9.3242045 | AA70: =S70-Q70 -> 52.953029
A71: 201800033 | B71: vente | C71: 535277 | D71: 43217 | E71: 200200 | F71: EMBOUT DE TIGE | H71: LAITON | I71: ROND | J71: 22 | L71: 1200 | M71: 0.07476 | N71: 39.5 | O71: =INT(2800/(N71+3)) -> 65 | P71: =((J71/2)*(J71/2)*3.14*9*3)/1000 -> 10.25838 | Q71: =+M71*L71 -> 89.712 | R71: =P71/O71 -> 0.15782123 | S71: 189.38548 | V71: =IF(SUMPRODUCT(MAX((#REF!)*((#REF!=#REF!)*(#REF!=#REF!)*(#REF!=#REF!))))<>#REF!,"",SUMPRODUCT((-#REF!+#REF!+#REF!)*((#REF!=#REF!)*(#REF!=#REF!)*(#REF!=#REF!)))) | W71: =(((P71/3000)*2880)-(M71*O71))/O71 -> 0.076748382 | X71: =+W71*L71 -> 92.098058 | Y71: =+((P71/3000)*120)/101 -> 0.0040627248 | Z71: =Y71*L71 -> 4.8752697 | AA71: =S71-Q71 -> 99.673477
A72: 201800048 | B72: vente | C72: 536321 | D72: 43263 | E72: 200200 | F72: EMBOUT DE TIGE | H72: LAITON | I72: ROND | J72: 22 | L72: 1000 | M72: 0.07476 | N72: 39.5 | O72: =INT(2800/(N72+3)) -> 65 | P72: =((J72/2)*(J72/2)*3.14*9*3)/1000 -> 10.25838 | Q72: =+M72*L72 -> 74.76 | R72: =P72/O72 -> 0.15782123 | S72: 157.82123 | V72: =IF(SUMPRODUCT(MAX((#REF!)*((#REF!=#REF!)*(#REF!=#REF!)*(#REF!=#REF!))))<>#REF!,"",SUMPRODUCT((-#REF!+#REF!+#REF!)*((#REF!=#REF!)*(#REF!=#REF!)*(#REF!=#REF!)))) | W72: =(((P72/3000)*2880)-(M72*O72))/O72 -> 0.076748382 | X72: =+W72*L72 -> 76.748382 | Y72: =+((P72/3000)*120)/101 -> 0.0040627248 | Z72: =Y72*L72 -> 4.0627248 | AA72: =S72-Q72 -> 83.061231
A73: 201800052 | B73: vente | C73: 536867 | D73: 43289 | E73: 512800 | F73: PERNO DISINNESTO RULLO G16922290 | H73: LAITON | I73: ROND | J73: 7 | L73: 27000 | M73: 0.003421 | N73: 24.5 | O73: =INT(2800/(N73+3)) -> 101 | P73: =((J73/2)*(J73/2)*3.14*9*3)/1000 -> 1.038555 | Q73: =+M73*L73 -> 92.367 | R73: =P73/O73 -> 0.010282723 | S73: 277.63351 | V73: =IF(SUMPRODUCT(MAX((#REF!)*((#REF!=#REF!)*(#REF!=#REF!)*(#REF!=#REF!))))<>#REF!,"",SUMPRODUCT((-#REF!+#REF!+#REF!)*((#REF!=#REF!)*(#REF!=#REF!)*(#REF!=#REF!)))) | W73: =(((P73/3000)*2880)-(M73*O73))/O73 -> 0.0064504139 | X73: =+W73*L73 -> 174.16117 | Y73: =+((P73/3000)*120)/101 -> 0.00041130891 | Z73: =Y73*L73 -> 11.105341 | AA73: =S73-Q73 -> 185.26651
A74: 201800056 | B74: vente | C74: 537031 | D74: 43297 | E74: 200200 | F74: EMBOUT DE TIGE | H74: LAITON | I74: ROND | J74: 22 | L74: 1550 | M74: 0.07476 | N74: 39.5 | O74: =INT(2800/(N74+3)) -> 65 | P74: =((J74/2)*(J74/2)*3.14*9*3)/1000 -> 10.25838 | Q74: =+M74*L74 -> 115.878 | R74: =P74/O74 -> 0.15782123 | S74: 244.62291 | V74: =IF(SUMPRODUCT(MAX((#REF!)*((#REF!=#REF!)*(#REF!=#REF!)*(#REF!=#REF!))))<>#REF!,"",SUMPRODUCT((-#REF!+#REF!+#REF!)*((#REF!=#REF!)*(#REF!=#REF!)*(#REF!=#REF!)))) | W74: =(((P74/3000)*2880)-(M74*O74))/O74 -> 0.076748382 | X74: =+W74*L74 -> 118.95999 | Y74: =+((P74/3000)*120)/101 -> 0.0040627248 | Z74: =Y74*L74 -> 6.2972234 | AA74: =S74-Q74 -> 128.74491
A75: 201800060 | B75: vente | C75: 537461 | D75: 43320 | E75: 510020 | F75: INSERTO ESAG,M6 8*6 | G75: 139 | H75: LAITON | I75: HEX | J75: 8 | L75: 1000 | M75: 0.001446 | N75: 6 | O75: =INT(2800/(N75+3)) -> 311 | P75: =((J75*J75)*0.866*9*3)/1000 -> 1.496448 | Q75: =+L75*M75 -> 1.446 | R75: =P75/O75 -> 0.0048117299 | S75: 4.8117299 | V75: =IF(SUMPRODUCT(MAX((#REF!)*((#REF!=#REF!)*(#REF!=#REF!)*(#REF!=#REF!))))<>#REF!,"",SUMPRODUCT((-#REF!+#REF!+#REF!)*((#REF!=#REF!)*(#REF!=#REF!)*(#REF!=#REF!)))) | W75: =(((P75/3000)*2880)-(M75*O75))/O75 -> 0.0031732607 | X75: =+W75*L75 -> 3.1732607 | Y75: =+((P75/3000)*120)/101 -> 0.00059265267 | Z75: =Y75*L75 -> 0.59265267 | AA75: =S75-Q75 -> 3.3657299
A76: 201800060 | B76: vente | C76: 537461 | D76: 43320 | E76: 511040 | F76: BRONZINA 16/18X10.3 | G76: 138 | H76: LAITON | I76: ROND | J76: 18 | L76: 5000 | M76: 0.003676 | N76: 10.3 | O76: =INT(2800/(N76+3)) -> 210 | P76: =((J76/2)*(J76/2)*3.14*9*3)/1000 -> 6.86718 | Q76: =+M76*L76 -> 18.38 | R76: =P76/O76 -> 0.032700857 | S76: 163.50429 | V76: =IF(SUMPRODUCT(MAX((#REF!)*((#REF!=#REF!)*(#REF!=#REF!)*(#REF!=#REF!))))<>#REF!,"",SUMPRODUCT((-#REF!+#REF!+#REF!)*((#REF!=#REF!)*(#REF!=#REF!)*(#REF!=#REF!)))) | W76: =(((P76/3000)*2880)-(M76*O76))/O76 -> 0.027716823 | X76: =+W76*L76 -> 138.58411 | Y76: =+((P76/3000)*120)/101 -> 0.0027196752 | Z76: =Y76*L76 -> 13.598376 | AA76: =S76-Q76 -> 145.12429
A77: 201800073 | B77: vente | C77: 537851 | D77: 43350 | E77: 510020 | F77: INSERTO ESAG,M6 8*6 | G77: 139 | H77: LAITON | I77: HEX | J77: 8 | L77: 20000 | M77: 0.001446 | N77: 6 | O77: =INT(2800/(N77+3)) -> 311 | P77: =((J77*J77)*0.866*9*3)/1000 -> 1.496448 | Q77: =+L77*M77 -> 28.92 | R77: =P77/O77 -> 0.0048117299 | S77: 96.234598 | V77: =IF(SUMPRODUCT(MAX((#REF!)*((#REF!=#REF!)*(#REF!=#REF!)*(#REF!=#REF!))))<>#REF!,"",SUMPRODUCT((-#REF!+#REF!+#REF!)*((#REF!=#REF!)*(#REF!=#REF!)*(#REF!=#REF!)))) | W77: =(((P77/3000)*2880)-(M77*O77))/O77 -> 0.0031732607 | X77: =+W77*L77 -> 63.465214 | Y77: =+((P77/3000)*120)/101 -> 0.00059265267 | Z77: =Y77*L77 -> 11.853053 | AA77: =S77-Q77 -> 67.314598
A78: 201800084 | B78: vente | C78: 539092 | D78: 43411 | E78: 510020 | F78: INSERTO ESAG,M6 8*6 | G78: 139 | H78: LAITON | I78: HEX | J78: 8 | L78: 20000 | M78: 0.001446 | N78: 6 | O78: =INT(2800/(N78+3)) -> 311 | P78: =((J78*J78)*0.866*9*3)/1000 -> 1.496448 | Q78: =+L78*M78 -> 28.92 | R78: =P78/O78 -> 0.0048117299 | S78: 96.234598 | V78: =IF(SUMPRODUCT(MAX((#REF!)*((#REF!=#REF!)*(#REF!=#REF!)*(#REF!=#REF!))))<>#REF!,"",SUMPRODUCT((-#REF!+#REF!+#REF!)*((#REF!=#REF!)*(#REF!=#REF!)*(#REF!=#REF!)))) | W78: =(((P78/3000)*2880)-(M78*O78))/O78 -> 0.0031732607 | X78: =+W78*L78 -> 63.465214 | Y78: =+((P78/3000)*120)/101 -> 0.00059265267 | Z78: =Y78*L78 -> 11.853053 | AA78: =S78-Q78 -> 67.314598
A79: 201800084 | B79: vente | C79: 539092 | D79: 43411 | E79: 512800 | F79: PERNO DISINNESTO RULLO G16922290 | H79: LAITON | I79: ROND | J79: 7 | L79: 6109 | M79: 0.003421 | N79: 24.5 | O79: =INT(2800/(N79+3)) -> 101 | P79: =((J79/2)*(J79/2)*3.14*9*3)/1000 -> 1.038555 | Q79: =+M79*L79 -> 20.898889 | R79: =P79/O79 -> 0.010282723 | S79: 62.817153 | V79: =IF(SUMPRODUCT(MAX((#REF!)*((#REF!=#REF!)*(#REF!=#REF!)*(#REF!=#REF!))))<>#REF!,"",SUMPRODUCT((-#REF!+#REF!+#REF!)*((#REF!=#REF!)*(#REF!=#REF!)*(#REF!=#REF!)))) | W79: =(((P79/3000)*2880)-(M79*O79))/O79 -> 0.0064504139 | X79: =+W79*L79 -> 39.405578 | Y79: =+((P79/3000)*120)/101 -> 0.00041130891 | Z79: =Y79*L79 -> 2.5126861 | AA79: =S79-Q79 -> 41.918264
A80: 201800081 | B80: vente | C80: 539116 | D80: 43412 | E80: 200200 | F80: EMBOUT DE TIGE | H80: LAITON | I80: ROND | J80: 22 | L80: 1700 | M80: 0.07476 | N80: 39.5 | O80: =INT(2800/(N80+3)) -> 65 | P80: =((J80/2)*(J80/2)*3.14*9*3)/1000 -> 10.25838 | Q80: =+M80*L80 -> 127.092 | R80: =P80/O80 -> 0.15782123 | S80: 268.29609 | V80: =IF(SUMPRODUCT(MAX((#REF!)*((#REF!=#REF!)*(#REF!=#REF!)*(#REF!=#REF!))))<>#REF!,"",SUMPRODUCT((-#REF!+#REF!+#REF!)*((#REF!=#REF!)*(#REF!=#REF!)*(#REF!=#REF!)))) | W80: =(((P80/3000)*2880)-(M80*O80))/O80 -> 0.076748382 | X80: =+W80*L80 -> 130.47225 | Y80: =+((P80/3000)*120)/101 -> 0.0040627248 | Z80: =Y80*L80 -> 6.9066321 | AA80: =S80-Q80 -> 141.20409
B81: achat | D81: 43416 | H81: LAITON | I81: ROND | J81: 7 | S81: 0 | T81: 150 | V81: =IF(SUMPRODUCT(MAX((#REF!)*((#REF!=#REF!)*(#REF!=#REF!)*(#REF!=#REF!))))<>#REF!,"",SUMPRODUCT((-#REF!+#REF!+#REF!)*((#REF!=#REF!)*(#REF!=#REF!)*(#REF!=#REF!))))
B82: achat | D82: 43416 | H82: LAITON | I82: HEX | J82: 8 | S82: 0 | T82: 200 | V82: =IF(SUMPRODUCT(MAX((#REF!)*((#REF!=#REF!)*(#REF!=#REF!)*(#REF!=#REF!))))<>#REF!,"",SUMPRODUCT((-#REF!+#REF!+#REF!)*((#REF!=#REF!)*(#REF!=#REF!)*(#REF!=#REF!))))
A83: 201800087 | B83: vente | C83: 539596 | D83: 43435 | E83: 200200 | F83: EMBOUT DE TIGE | H83: LAITON | I83: ROND | J83: 22 | L83: 1450 | M83: 0.07476 | N83: 39.5 | O83: =INT(2800/(N83+3)) -> 65 | P83: =((J83/2)*(J83/2)*3.14*9*3)/1000 -> 10.25838 | Q83: =+M83*L83 -> 108.402 | R83: =P83/O83 -> 0.15782123 | S83: 228.84078 | V83: =IF(SUMPRODUCT(MAX((#REF!)*((#REF!=#REF!)*(#REF!=#REF!)*(#REF!=#REF!))))<>#REF!,"",SUMPRODUCT((-#REF!+#REF!+#REF!)*((#REF!=#REF!)*(#REF!=#REF!)*(#REF!=#REF!)))) | W83: =(((P83/3000)*2880)-(M83*O83))/O83 -> 0.076748382 | X83: =+W83*L83 -> 111.28515 | Y83: =+((P83/3000)*120)/101 -> 0.0040627248 | Z83: =Y83*L83 -> 5.8909509 | AA83: =S83-Q83 -> 120.43878
A84: 201800102 | B84: vente | C84: 540304 | D84: 43470 | E84: 510020 | F84: INSERTO ESAG,M6 8*6 | G84: 139 | H84: LAITON | I84: HEX | J84: 8 | L84: 16772 | M84: 0.001446 | N84: 6 | O84: =INT(2800/(N84+3)) -> 311 | P84: =((J84*J84)*0.866*9*3)/1000 -> 1.496448 | Q84: =+L84*M84 -> 24.252312 | R84: =P84/O84 -> 0.0048117299 | S84: 80.702334 | V84: =IF(SUMPRODUCT(MAX((#REF!)*((#REF!=#REF!)*(#REF!=#REF!)*(#REF!=#REF!))))<>#REF!,"",SUMPRODUCT((-#REF!+#REF!+#REF!)*((#REF!=#REF!)*(#REF!=#REF!)*(#REF!=#REF!)))) | W84: =(((P84/3000)*2880)-(M84*O84))/O84 -> 0.0031732607 | X84: =+W84*L84 -> 53.221929 | Y84: =+((P84/3000)*120)/101 -> 0.00059265267 | Z84: =Y84*L84 -> 9.9399706 | AA84: =S84-Q84 -> 56.450022
A85: 201800102 | B85: vente | C85: 540304 | D85: 43470 | E85: 512800 | F85: PERNO DISINNESTO RULLO G16922290 | H85: LAITON | I85: ROND | J85: 7 | L85: 1000 | M85: 0.003421 | N85: 24.5 | O85: =INT(2800/(N85+3)) -> 101 | P85: =((J85/2)*(J85/2)*3.14*9*3)/1000 -> 1.038555 | Q85: =+M85*L85 -> 3.421 | R85: =P85/O85 -> 0.010282723 | S85: 10.282723 | V85: =IF(SUMPRODUCT(MAX((#REF!)*((#REF!=#REF!)*(#REF!=#REF!)*(#REF!=#REF!))))<>#REF!,"",SUMPRODUCT((-#REF!+#REF!+#REF!)*((#REF!=#REF!)*(#REF!=#REF!)*(#REF!=#REF!)))) | W85: =(((P85/3000)*2880)-(M85*O85))/O85 -> 0.0064504139 | X85: =+W85*L85 -> 6.4504139 | Y85: =+((P85/3000)*120)/101 -> 0.00041130891 | Z85: =Y85*L85 -> 0.41130891 | AA85: =S85-Q85 -> 6.8617228
A86: 201900001 | B86: vente | C86: 540757 | D86: 43491 | E86: 200200 | F86: EMBOUT DE TIGE | H86: LAITON | I86: ROND | J86: 22 | L86: 1000 | M86: 0.07476 | N86: 39.5 | O86: =INT(2800/(N86+3)) -> 65 | P86: =((J86/2)*(J86/2)*3.14*9*3)/1000 -> 10.25838 | Q86: =+M86*L86 -> 74.76 | R86: =P86/O86 -> 0.15782123 | S86: 157.82123 | V86: =IF(SUMPRODUCT(MAX((#REF!)*((#REF!=#REF!)*(#REF!=#REF!)*(#REF!=#REF!))))<>#REF!,"",SUMPRODUCT((-#REF!+#REF!+#REF!)*((#REF!=#REF!)*(#REF!=#REF!)*(#REF!=#REF!)))) | W86: =(((P86/3000)*2880)-(M86*O86))/O86 -> 0.076748382 | X86: =+W86*L86 -> 76.748382 | Y86: =+((P86/3000)*120)/101 -> 0.0040627248 | Z86: =Y86*L86 -> 4.0627248 | AA86: =S86-Q86 -> 83.061231
A87: 201900004 | B87: vente | C87: 540988 | D87: 43502 | E87: 510020 | F87: INSERTO ESAG,M6 8*6 | G87: 139 | H87: LAITON | I87: HEX | J87: 8 | L87: 18228 | M87: 0.001446 | N87: 6 | O87: =INT(2800/(N87+3)) -> 311 | P87: =((J87*J87)*0.866*9*3)/1000 -> 1.496448 | Q87: =+L87*M87 -> 26.357688 | R87: =P87/O87 -> 0.0048117299 | S87: 87.708213 | V87: =IF(SUMPRODUCT(MAX((#REF!)*((#REF!=#REF!)*(#REF!=#REF!)*(#REF!=#REF!))))<>#REF!,"",SUMPRODUCT((-#REF!+#REF!+#REF!)*((#REF!=#REF!)*(#REF!=#REF!)*(#REF!=#REF!)))) | W87: =(((P87/3000)*2880)-(M87*O87))/O87 -> 0.0031732607 | X87: =+W87*L87 -> 57.842196 | Y87: =+((P87/3000)*120)/101 -> 0.00059265267 | Z87: =Y87*L87 -> 10.802873 | AA87: =S87-Q87 -> 61.350525
B88: achat | D88: 43516 | H88: LAITON | I88: HEX | J88: 8 | S88: 0 | T88: 150 | V88: =IF(SUMPRODUCT(MAX((#REF!)*((#REF!=#REF!)*(#REF!=#REF!)*(#REF!=#REF!))))<>#REF!,"",SUMPRODUCT((-#REF!+#REF!+#REF!)*((#REF!=#REF!)*(#REF!=#REF!)*(#REF!=#REF!))))
A89: 201900011 | B89: vente | C89: 541530 | D89: 43524 | E89: 200200 | F89: EMBOUT DE TIGE | H89: LAITON | I89: ROND | J89: 22 | L89: 2800 | M89: 0.07476 | N89: 39.5 | O89: =INT(2800/(N89+3)) -> 65 | P89: =((J89/2)*(J89/2)*3.14*9*3)/1000 -> 10.25838 | Q89: =+M89*L89 -> 209.328 | R89: =P89/O89 -> 0.15782123 | S89: 441.89945 | V89: =IF(SUMPRODUCT(MAX((#REF!)*((#REF!=#REF!)*(#REF!=#REF!)*(#REF!=#REF!))))<>#REF!,"",SUMPRODUCT((-#REF!+#REF!+#REF!)*((#REF!=#REF!)*(#REF!=#REF!)*(#REF!=#REF!)))) | W89: =(((P89/3000)*2880)-(M89*O89))/O89 -> 0.076748382 | X89: =+W89*L89 -> 214.89547 | Y89: =+((P89/3000)*120)/101 -> 0.0040627248 | Z89: =Y89*L89 -> 11.375629 | AA89: =S89-Q89 -> 232.57145
A90: 201900020 | B90: vente | C90: 541778 | D90: 43531 | E90: 510020 | F90: INSERTO ESAG,M6 8*6 | G90: 139 | H90: LAITON | I90: HEX | J90: 8 | L90: 12760 | M90: 0.001446 | N90: 6 | O90: =INT(2800/(N90+3)) -> 311 | P90: =((J90*J90)*0.866*9*3)/1000 -> 1.496448 | Q90: =+L90*M90 -> 18.45096 | R90: =P90/O90 -> 0.0048117299 | S90: 61.397674 | V90: =IF(SUMPRODUCT(MAX((#REF!)*((#REF!=#REF!)*(#REF!=#REF!)*(#REF!=#REF!))))<>#REF!,"",SUMPRODUCT((-#REF!+#REF!+#REF!)*((#REF!=#REF!)*(#REF!=#REF!)*(#REF!=#REF!)))) | W90: =(((P90/3000)*2880)-(M90*O90))/O90 -> 0.0031732607 | X90: =+W90*L90 -> 40.490807 | Y90: =+((P90/3000)*120)/101 -> 0.00059265267 | Z90: =Y90*L90 -> 7.5622481 | AA90: =S90-Q90 -> 42.946714
A91: 201900023 | B91: vente | C91: 542331 | D91: 43554 | E91: 200200 | F91: EMBOUT DE TIGE | H91: LAITON | I91: ROND | J91: 22 | L91: 1000 | M91: 0.07476 | N91: 39.5 | O91: =INT(2800/(N91+3)) -> 65 | P91: =((J91/2)*(J91/2)*3.14*9*3)/1000 -> 10.25838 | Q91: =+M91*L91 -> 74.76 | R91: =P91/O91 -> 0.15782123 | S91: 157.82123 | V91: =IF(SUMPRODUCT(MAX((#REF!)*((#REF!=#REF!)*(#REF!=#REF!)*(#REF!=#REF!))))<>#REF!,"",SUMPRODUCT((-#REF!+#REF!+#REF!)*((#REF!=#REF!)*(#REF!=#REF!)*(#REF!=#REF!)))) | W91: =(((P91/3000)*2880)-(M91*O91))/O91 -> 0.076748382 | X91: =+W91*L91 -> 76.748382 | Y91: =+((P91/3000)*120)/101 -> 0.0040627248 | Z91: =Y91*L91 -> 4.0627248 | AA91: =S91-Q91 -> 83.061231
A92: 201900026 | B92: vente | C92: 542534 | D92: 43563 | E92: 510020 | F92: INSERTO ESAG,M6 8*6 | G92: 139 | H92: LAITON | I92: HEX | J92: 8 | L92: 2240 | M92: 0.001446 | N92: 6 | O92: =INT(2800/(N92+3)) -> 311 | P92: =((J92*J92)*0.866*9*3)/1000 -> 1.496448 | Q92: =+L92*M92 -> 3.23904 | R92: =P92/O92 -> 0.0048117299 | S92: 10.778275 | V92: =IF(SUMPRODUCT(MAX((#REF!)*((#REF!=#REF!)*(#REF!=#REF!)*(#REF!=#REF!))))<>#REF!,"",SUMPRODUCT((-#REF!+#REF!+#REF!)*((#REF!=#REF!)*(#REF!=#REF!)*(#REF!=#REF!)))) | W92: =(((P92/3000)*2880)-(M92*O92))/O92 -> 0.0031732607 | X92: =+W92*L92 -> 7.108104 | Y92: =+((P92/3000)*120)/101 -> 0.00059265267 | Z92: =Y92*L92 -> 1.327542 | AA92: =S92-Q92 -> 7.539235
A93: 201900034 | B93: vente | C93: 543037 | D93: 43581 | E93: 200200 | F93: EMBOUT DE TIGE | H93: LAITON | I93: ROND | J93: 22 | L93: 1500 | M93: 0.07476 | N93: 39.5 | O93: =INT(2800/(N93+3)) -> 65 | P93: =((J93/2)*(J93/2)*3.14*9*3)/1000 -> 10.25838 | Q93: =+M93*L93 -> 112.14 | R93: =P93/O93 -> 0.15782123 | S93: 236.73185 | V93: =IF(SUMPRODUCT(MAX((#REF!)*((#REF!=#REF!)*(#REF!=#REF!)*(#REF!=#REF!))))<>#REF!,"",SUMPRODUCT((-#REF!+#REF!+#REF!)*((#REF!=#REF!)*(#REF!=#REF!)*(#REF!=#REF!)))) | W93: =(((P93/3000)*2880)-(M93*O93))/O93 -> 0.076748382 | X93: =+W93*L93 -> 115.12257 | Y93: =+((P93/3000)*120)/101 -> 0.0040627248 | Z93: =Y93*L93 -> 6.0940871 | AA93: =S93-Q93 -> 124.59185
A94: 201900036 | B94: vente | C94: 543264 | D94: 43592 | E94: 510020 | F94: INSERTO ESAG,M6 8*6 | G94: 139 | H94: LAITON | I94: HEX | J94: 8 | L94: 5000 | M94: 0.001446 | N94: 6 | O94: =INT(2800/(N94+3)) -> 311 | P94: =((J94*J94)*0.866*9*3)/1000 -> 1.496448 | Q94: =+L94*M94 -> 7.23 | R94: =P94/O94 -> 0.0048117299 | S94: 24.05865 | V94: =IF(SUMPRODUCT(MAX((#REF!)*((#REF!=#REF!)*(#REF!=#REF!)*(#REF!=#REF!))))<>#REF!,"",SUMPRODUCT((-#REF!+#REF!+#REF!)*((#REF!=#REF!)*(#REF!=#REF!)*(#REF!=#REF!)))) | W94: =(((P94/3000)*2880)-(M94*O94))/O94 -> 0.0031732607 | X94: =+W94*L94 -> 15.866304 | Y94: =+((P94/3000)*120)/101 -> 0.00059265267 | Z94: =Y94*L94 -> 2.9632634 | AA94: =S94-Q94 -> 16.82865
A95: 201900036 | B95: vente | C95: 543264 | D95: 43592 | E95: 512800 | F95: PERNO DISINNESTO RULLO G16922290 | H95: LAITON | I95: ROND | J95: 7 | L95: 20000 | M95: 0.003421 | N95: 24.5 | O95: =INT(2800/(N95+3)) -> 101 | P95: =((J95/2)*(J95/2)*3.14*9*3)/1000 -> 1.038555 | Q95: =+M95*L95 -> 68.42 | R95: =P95/O95 -> 0.010282723 | S95: 205.65446 | V95: =IF(SUMPRODUCT(MAX((#REF!)*((#REF!=#REF!)*(#REF!=#REF!)*(#REF!=#REF!))))<>#REF!,"",SUMPRODUCT((-#REF!+#REF!+#REF!)*((#REF!=#REF!)*(#REF!=#REF!)*(#REF!=#REF!)))) | W95: =(((P95/3000)*2880)-(M95*O95))/O95 -> 0.0064504139 | X95: =+W95*L95 -> 129.00828 | Y95: =+((P95/3000)*120)/101 -> 0.00041130891 | Z95: =Y95*L95 -> 8.2261782 | AA95: =S95-Q95 -> 137.23446
A96: 201900048 | B96: vente | C96: 543893 | D96: 43623 | E96: 511040 | F96: BRONZINA 16/18X10.3 | G96: 138 | H96: LAITON | I96: ROND | J96: 18 | L96: 5000 | M96: 0.003676 | N96: 10.3 | O96: =INT(2800/(N96+3)) -> 210 | P96: =((J96/2)*(J96/2)*3.14*9*3)/1000 -> 6.86718 | Q96: =+M96*L96 -> 18.38 | R96: =P96/O96 -> 0.032700857 | S96: 163.50429 | V96: =IF(SUMPRODUCT(MAX((#REF!)*((#REF!=#REF!)*(#REF!=#REF!)*(#REF!=#REF!))))<>#REF!,"",SUMPRODUCT((-#REF!+#REF!+#REF!)*((#REF!=#REF!)*(#REF!=#REF!)*(#REF!=#REF!)))) | W96: =(((P96/3000)*2880)-(M96*O96))/O96 -> 0.027716823 | X96: =+W96*L96 -> 138.58411 | Y96: =+((P96/3000)*120)/101 -> 0.0027196752 | Z96: =Y96*L96 -> 13.598376 | AA96: =S96-Q96 -> 145.12429
A97: 201900048 | B97: vente | C97: 543893 | D97: 43623 | E97: 512800 | F97: PERNO DISINNESTO RULLO G16922290 | H97: LAITON | I97: ROND | J97: 7 | L97: 6454 | M97: 0.003421 | N97: 24.5 | O97: =INT(2800/(N97+3)) -> 101 | P97: =((J97/2)*(J97/2)*3.14*9*3)/1000 -> 1.038555 | Q97: =+M97*L97 -> 22.079134 | R97: =P97/O97 -> 0.010282723 | S97: 66.364693 | V97: =IF(SUMPRODUCT(MAX((#REF!)*((#REF!=#REF!)*(#REF!=#REF!)*(#REF!=#REF!))))<>#REF!,"",SUMPRODUCT((-#REF!+#REF!+#REF!)*((#REF!=#REF!)*(#REF!=#REF!)*(#REF!=#REF!)))) | W97: =(((P97/3000)*2880)-(M97*O97))/O97 -> 0.0064504139 | X97: =+W97*L97 -> 41.630971 | Y97: =+((P97/3000)*120)/101 -> 0.00041130891 | Z97: =Y97*L97 -> 2.6545877 | AA97: =S97-Q97 -> 44.285559
A98: 201900070 | B98: vente | C98: 545440 | D98: 43685 | E98: 510020 | F98: INSERTO ESAG,M6 8*6 | G98: 139 | H98: LAITON | I98: HEX | J98: 8 | L98: 20000 | M98: 0.001446 | N98: 6 | O98: =INT(2800/(N98+3)) -> 311 | P98: =((J98*J98)*0.866*9*3)/1000 -> 1.496448 | Q98: =+L98*M98 -> 28.92 | R98: =P98/O98 -> 0.0048117299 | S98: 96.234598 | V98: =IF(SUMPRODUCT(MAX((#REF!)*((#REF!=#REF!)*(#REF!=#REF!)*(#REF!=#REF!))))<>#REF!,"",SUMPRODUCT((-#REF!+#REF!+#REF!)*((#REF!=#REF!)*(#REF!=#REF!)*(#REF!=#REF!)))) | W98: =(((P98/3000)*2880)-(M98*O98))/O98 -> 0.0031732607 | X98: =+W98*L98 -> 63.465214 | Y98: =+((P98/3000)*120)/101 -> 0.00059265267 | Z98: =Y98*L98 -> 11.853053 | AA98: =S98-Q98 -> 67.314598
B99: achat | D99: 43696 | H99: LAITON | I99: ROND | J99: 22 | S99: 0 | T99: 3060 | V99: =IF(SUMPRODUCT(MAX((#REF!)*((#REF!=#REF!)*(#REF!=#REF!)*(#REF!=#REF!))))<>#REF!,"",SUMPRODUCT((-#REF!+#REF!+#REF!)*((#REF!=#REF!)*(#REF!=#REF!)*(#REF!=#REF!))))
B100: achat | D100: 43696 | H100: LAITON | I100: ROND | J100: 18 | S100: 0 | T100: 412 | V100: =IF(SUMPRODUCT(MAX((#REF!)*((#REF!=#REF!)*(#REF!=#REF!)*(#REF!=#REF!))))<>#REF!,"",SUMPRODUCT((-#REF!+#REF!+#REF!)*((#REF!=#REF!)*(#REF!=#REF!)*(#REF!=#REF!)))) -> 444.36159
B101: achat | D101: 43696 | H101: LAITON | I101: ROND | J101: 6 | S101: 0 | T101: 621 | V101: =IF(SUMPRODUCT(MAX((#REF!)*((#REF!=#REF!)*(#REF!=#REF!)*(#REF!=#REF!))))<>#REF!,"",SUMPRODUCT((-#REF!+#REF!+#REF!)*((#REF!=#REF!)*(#REF!=#REF!)*(#REF!=#REF!)))) -> 669.114
B102: achat | D102: 43696 | H102: LAITON | I102: ROND | J102: 8 | S102: 0 | T102: 1031 | V102: =IF(SUMPRODUCT(MAX((#REF!)*((#REF!=#REF!)*(#REF!=#REF!)*(#REF!=#REF!))))<>#REF!,"",SUMPRODUCT((-#REF!+#REF!+#REF!)*((#REF!=#REF!)*(#REF!=#REF!)*(#REF!=#REF!))))
B103: achat | D103: 43696 | H103: LAITON | I103: TUBE | J103: 30*22 | S103: 0 | T103: 709 | V103: =IF(SUMPRODUCT(MAX((#REF!)*((#REF!=#REF!)*(#REF!=#REF!)*(#REF!=#REF!))))<>#REF!,"",SUMPRODUCT((-#REF!+#REF!+#REF!)*((#REF!=#REF!)*(#REF!=#REF!)*(#REF!=#REF!)))) -> 709
A104: 201900075 | B104: vente | C104: 545813 | D104: 43715 | E104: 512800 | F104: PERNO DISINNESTO RULLO G16922290 | H104: LAITON | I104: ROND | J104: 7 | L104: 3568 | M104: 0.003421 | N104: 24.5 | O104: =INT(2800/(N104+3)) -> 101 | P104: =((J104/2)*(J104/2)*3.14*9*3)/1000 -> 1.038555 | Q104: =+M104*L104 -> 12.206128 | R104: =P104/O104 -> 0.010282723 | S104: 36.688755 | V104: =IF(SUMPRODUCT(MAX((#REF!)*((#REF!=#REF!)*(#REF!=#REF!)*(#REF!=#REF!))))<>#REF!,"",SUMPRODUCT((-#REF!+#REF!+#REF!)*((#REF!=#REF!)*(#REF!=#REF!)*(#REF!=#REF!)))) | W104: =(((P104/3000)*2880)-(M104*O104))/O104 -> 0.0064504139 | X104: =+W104*L104 -> 23.015077 | Y104: =+((P104/3000)*120)/101 -> 0.00041130891 | Z104: =Y104*L104 -> 1.4675502 | AA104: =S104-Q104 -> 24.482627
A105: 201900078 | B105: vente | C105: 546151 | D105: 43734 | E105: 200200 | F105: EMBOUT DE TIGE | H105: LAITON | I105: ROND | J105: 22 | L105: 500 | M105: 0.07476 | N105: 39.5 | O105: =INT(2800/(N105+3)) -> 65 | P105: =((J105/2)*(J105/2)*3.14*9*3)/1000 -> 10.25838 | Q105: =+M105*L105 -> 37.38 | R105: =P105/O105 -> 0.15782123 | S105: 78.910615 | V105: =IF(SUMPRODUCT(MAX((#REF!)*((#REF!=#REF!)*(#REF!=#REF!)*(#REF!=#REF!))))<>#REF!,"",SUMPRODUCT((-#REF!+#REF!+#REF!)*((#REF!=#REF!)*(#REF!=#REF!)*(#REF!=#REF!)))) -> 3003.9178 | W105: =(((P105/3000)*2880)-(M105*O105))/O105 -> 0.076748382 | X105: =+W105*L105 -> 38.374191 | Y105: =+((P105/3000)*120)/101 -> 0.0040627248 | Z105: =Y105*L105 -> 2.0313624 | AA105: =S105-Q105 -> 41.530615
A106: 201900085 | B106: vente | C106: 546458 | D106: 43743 | E106: 512800 | F106: PERNO DISINNESTO RULLO G16922290 | H106: LAITON | I106: ROND | J106: 7 | L106: 5686 | M106: 0.003421 | N106: 24.5 | O106: =INT(2800/(N106+3)) -> 101 | P106: =((J106/2)*(J106/2)*3.14*9*3)/1000 -> 1.038555 | Q106: =+M106*L106 -> 19.451806 | R106: =P106/O106 -> 0.010282723 | S106: 58.467562 | V106: =IF(SUMPRODUCT(MAX((#REF!)*((#REF!=#REF!)*(#REF!=#REF!)*(#REF!=#REF!))))<>#REF!,"",SUMPRODUCT((-#REF!+#REF!+#REF!)*((#REF!=#REF!)*(#REF!=#REF!)*(#REF!=#REF!)))) -> -324.85147 | W106: =(((P106/3000)*2880)-(M106*O106))/O106 -> 0.0064504139 | X106: =+W106*L106 -> 36.677053 | Y106: =+((P106/3000)*120)/101 -> 0.00041130891 | Z106: =Y106*L106 -> 2.3387025 | AA106: =S106-Q106 -> 39.015756
B107: achat | D107: 43745 | H107: LAITON | I107: ROND | J107: 8 | S107: 0 | T107: 1.32 | V107: =IF(SUMPRODUCT(MAX((#REF!)*((#REF!=#REF!)*(#REF!=#REF!)*(#REF!=#REF!))))<>#REF!,"",SUMPRODUCT((-#REF!+#REF!+#REF!)*((#REF!=#REF!)*(#REF!=#REF!)*(#REF!=#REF!))))
B108: achat | D108: 43759 | H108: LAITON | I108: HEX | J108: 7 | S108: 0 | T108: 3.3 | V108: =IF(SUMPRODUCT(MAX((#REF!)*((#REF!=#REF!)*(#REF!=#REF!)*(#REF!=#REF!))))<>#REF!,"",SUMPRODUCT((-#REF!+#REF!+#REF!)*((#REF!=#REF!)*(#REF!=#REF!)*(#REF!=#REF!))))
A109: 201900092 | B109: vente | C109: 547141 | D109: 43776 | E109: 510020 | F109: INSERTO ESAG,M6 8*6 | G109: 139 | H109: LAITON | I109: HEX | J109: 8 | L109: 8340 | M109: 0.001446 | N109: 6 | O109: =INT(2800/(N109+3)) -> 311 | P109: =((J109*J109)*0.866*9*3)/1000 -> 1.496448 | Q109: =+L109*M109 -> 12.05964 | R109: =P109/O109 -> 0.0048117299 | S109: 40.129827 | V109: =IF(SUMPRODUCT(MAX((#REF!)*((#REF!=#REF!)*(#REF!=#REF!)*(#REF!=#REF!))))<>#REF!,"",SUMPRODUCT((-#REF!+#REF!+#REF!)*((#REF!=#REF!)*(#REF!=#REF!)*(#REF!=#REF!)))) | W109: =(((P109/3000)*2880)-(M109*O109))/O109 -> 0.0031732607 | X109: =+W109*L109 -> 26.464994 | Y109: =+((P109/3000)*120)/101 -> 0.00059265267 | Z109: =Y109*L109 -> 4.9427233 | AA109: =S109-Q109 -> 28.070187
A110: 201900094 | B110: vente | C110: 547773 | D110: 43805 | E110: 510020 | F110: INSERTO ESAG,M6 8*6 | G110: 139 | H110: LAITON | I110: HEX | J110: 8 | L110: 16660 | M110: 0.001446 | N110: 6 | O110: =INT(2800/(N110+3)) -> 311 | P110: =((J110*J110)*0.866*9*3)/1000 -> 1.496448 | Q110: =+L110*M110 -> 24.09036 | R110: =P110/O110 -> 0.0048117299 | S110: 80.16342 | V110: =IF(SUMPRODUCT(MAX((#REF!)*((#REF!=#REF!)*(#REF!=#REF!)*(#REF!=#REF!))))<>#REF!,"",SUMPRODUCT((-#REF!+#REF!+#REF!)*((#REF!=#REF!)*(#REF!=#REF!)*(#REF!=#REF!)))) | W110: =(((P110/3000)*2880)-(M110*O110))/O110 -> 0.0031732607 | X110: =+W110*L110 -> 52.866523 | Y110: =+((P110/3000)*120)/101 -> 0.00059265267 | Z110: =Y110*L110 -> 9.8735935 | AA110: =S110-Q110 -> 56.07306
...

Sheet achat
B1: Laiton
B2: rond
B3: 22
A5: Date Facture d'achat | B5: N° facture | C5: Type | D5: N° Déclaration | E5: Date Déclaration | F5: Désignation | I5: Qté importée | J5: Qté utilisée | K5: N° fiche | L5: Déchet copeaux | N5: Déchet fin de barre | P5: Taux Déchet total
F6: Matière | G6: Forme | H6: Taille | L6: Taux | M6: poids copeaux total | N6: Taux | O6: Poids déchet fin de barre total
A7: =IF(B7=0,E7,"") -> 42754 | B7: {=IFERROR(INDEX('Base de données'!A$2:A$114,SMALL(IF(('Base de données'!$B$2:$B$114<>"stock initial")*('Base de données'!$H$2:$H$114="laiton")*('Base de données'!$I$2:$I$114=$B$2)*('Base de données'!$J$2:$J$114=$B$3*1),ROW('Base de données'!$H$2:$H$114)-1),ROWS($1:1))),"")} -> 0 | D7: {=IFERROR(INDEX('Base de données'!C$2:C$114,SMALL(IF(('Base de données'!$B$2:$B$114<>"stock initial")*('Base de données'!$H$2:$H$114="laiton")*('Base de données'!$I$2:$I$114=$B$2)*('Base de données'!$J$2:$J$114=$B$3*1),ROW('Base de données'!$H$2:$H$114)-1),ROWS($1:1))),"")} -> 0 | E7: {=IFERROR(INDEX('Base de données'!D$2:D$114,SMALL(IF(('Base de données'!$B$2:$B$114<>"stock initial")*('Base de données'!$H$2:$H$114="laiton")*('Base de données'!$I$2:$I$114=$B$2)*('Base de données'!$J$2:$J$114=$B$3*1),ROW('Base de données'!$H$2:$H$114)-1),ROWS($1:1))),"")} -> 42754 | F7: =IF($E7="","",$B$1) -> Laiton | G7: =IF($E7="","",$B$2) -> rond | H7: =IF($E7="","",$B$3) -> 22 | I7: {=IF(AND($D7=0,$E7<>""),IFERROR(INDEX('Base de données'!T$2:T$114,SMALL(IF(('Base de données'!$B$2:$B$114<>"stock initial")*('Base de données'!$H$2:$H$114="laiton")*('Base de données'!$I$2:$I$114=$B$2)*('Base de données'!$J$2:$J$114=$B$3*1),ROW('Base de données'!$H$2:$H$114)-1),ROWS($1:1))),""),IF($E7="","",I6))} -> 1964 | J7: {=IF(D7=0,0,IFERROR(INDEX('Base de données'!S$2:S$114,SMALL(IF(('Base de données'!$B$2:$B$114<>"stock initial")*('Base de données'!$H$2:$H$114="laiton")*('Base de données'!$I$2:$I$114=$B$2)*('Base de données'!$J$2:$J$114=$B$3*1),ROW('Base de données'!$H$2:$H$114)-1),ROWS($1:1))),""))} -> 0 | K7: =[1]Feuil1!G30 -> 146 | L7: =IFERROR(M7/J7,"") | M7: {=IF($D7=0,0,IFERROR(INDEX('Base de données'!X$2:X$114,SMALL(IF(('Base de données'!$B$2:$B$114<>"stock initial")*('Base de données'!$H$2:$H$114="laiton")*('Base de données'!$I$2:$I$114=$B$2)*('Base de données'!$J$2:$J$114=$B$3*1),ROW('Base de données'!$H$2:$H$114)-1),ROWS($1:1))),""))} -> 0 | N7: =IFERROR(O7/J7,"") | O7: {=IF($D7=0,0,IFERROR(INDEX('Base de données'!Z$2:Z$114,SMALL(IF(('Base de données'!$B$2:$B$114<>"stock initial")*('Base de données'!$H$2:$H$114="laiton")*('Base de données'!$I$2:$I$114=$B$2)*('Base de données'!$J$2:$J$114=$B$3*1),ROW('Base de données'!$H$2:$H$114)-1),ROWS($1:1))),""))} -> 0 | P7: =IFERROR((O7+M7)/J7,"")
A8: =IF(B8=0,E8,"") | B8: {=IFERROR(INDEX('Base de données'!A$2:A$114,SMALL(IF(('Base de données'!$B$2:$B$114<>"stock initial")*('Base de données'!$H$2:$H$114="laiton")*('Base de données'!$I$2:$I$114=$B$2)*('Base de données'!$J$2:$J$114=$B$3*1),ROW('Base de données'!$H$2:$H$114)-1),ROWS($1:2))),"")} -> 201700021 | D8: {=IFERROR(INDEX('Base de données'!C$2:C$114,SMALL(IF(('Base de données'!$B$2:$B$114<>"stock initial")*('Base de données'!$H$2:$H$114="laiton")*('Base de données'!$I$2:$I$114=$B$2)*('Base de données'!$J$2:$J$114=$B$3*1),ROW('Base de données'!$H$2:$H$114)-1),ROWS($1:2))),"")} -> 546763 | E8: {=IFERROR(INDEX('Base de données'!D$2:D$114,SMALL(IF(('Base de données'!$B$2:$B$114<>"stock initial")*('Base de données'!$H$2:$H$114="laiton")*('Base de données'!$I$2:$I$114=$B$2)*('Base de données'!$J$2:$J$114=$B$3*1),ROW('Base de données'!$H$2:$H$114)-1),ROWS($1:2))),"")} -> 42818 | F8: =IF(E8="","",$B$1) -> Laiton | G8: =IF($E8="","",$B$2) -> rond | H8: =IF($E8="","",$B$3) -> 22 | I8: {=IF(AND($D8=0,$E8<>""),IFERROR(INDEX('Base de données'!T$2:T$114,SMALL(IF(('Base de données'!$B$2:$B$114<>"stock initial")*('Base de données'!$H$2:$H$114="laiton")*('Base de données'!$I$2:$I$114=$B$2)*('Base de données'!$J$2:$J$114=$B$3*1),ROW('Base de données'!$H$2:$H$114)-1),ROWS($1:2))),""),IF($E8="","",I7))} -> 1964 | J8: {=IF(D8=0,0,IFERROR(INDEX('Base de données'!S$2:S$114,SMALL(IF(('Base de données'!$B$2:$B$114<>"stock initial")*('Base de données'!$H$2:$H$114="laiton")*('Base de données'!$I$2:$I$114=$B$2)*('Base de données'!$J$2:$J$114=$B$3*1),ROW('Base de données'!$H$2:$H$114)-1),ROWS($1:2))),""))} -> 315.64246 | K8: 146 | L8: =IFERROR(M8/J8,"") -> 0.48629947 | M8: {=IF($D8=0,0,IFERROR(INDEX('Base de données'!X$2:X$114,SMALL(IF(('Base de données'!$B$2:$B$114<>"stock initial")*('Base de données'!$H$2:$H$114="laiton")*('Base de données'!$I$2:$I$114=$B$2)*('Base de données'!$J$2:$J$114=$B$3*1),ROW('Base de données'!$H$2:$H$114)-1),ROWS($1:2))),""))} -> 153.49676 | N8: =IFERROR(O8/J8,"") -> 0.025742574 | O8: {=IF($D8=0,0,IFERROR(INDEX('Base de données'!Z$2:Z$114,SMALL(IF(('Base de données'!$B$2:$B$114<>"stock initial")*('Base de données'!$H$2:$H$114="laiton")*('Base de données'!$I$2:$I$114=$B$2)*('Base de données'!$J$2:$J$114=$B$3*1),ROW('Base de données'!$H$2:$H$114)-1),ROWS($1:2))),""))} -> 8.1254495 | P8: =IFERROR((O8+M8)/J8,"") -> 0.51204205
A9: =IF(B9=0,E9,"") | B9: {=IFERROR(INDEX('Base de données'!A$2:A$114,SMALL(IF(('Base de données'!$B$2:$B$114<>"stock initial")*('Base de données'!$H$2:$H$114="laiton")*('Base de données'!$I$2:$I$114=$B$2)*('Base de données'!$J$2:$J$114=$B$3*1),ROW('Base de données'!$H$2:$H$114)-1),ROWS($1:3))),"")} -> 201700034 | D9: {=IFERROR(INDEX('Base de données'!C$2:C$114,SMALL(IF(('Base de données'!$B$2:$B$114<>"stock initial")*('Base de données'!$H$2:$H$114="laiton")*('Base de données'!$I$2:$I$114=$B$2)*('Base de données'!$J$2:$J$114=$B$3*1),ROW('Base de données'!$H$2:$H$114)-1),ROWS($1:3))),"")} -> 547321 | E9: {=IFERROR(INDEX('Base de données'!D$2:D$114,SMALL(IF(('Base de données'!$B$2:$B$114<>"stock initial")*('Base de données'!$H$2:$H$114="laiton")*('Base de données'!$I$2:$I$114=$B$2)*('Base de données'!$J$2:$J$114=$B$3*1),ROW('Base de données'!$H$2:$H$114)-1),ROWS($1:3))),"")} -> 42839 | F9: =IF(E9="","",$B$1) -> Laiton | G9: =IF($E9="","",$B$2) -> rond | H9: =IF($E9="","",$B$3) -> 22 | I9: {=IF(AND($D9=0,$E9<>""),IFERROR(INDEX('Base de données'!T$2:T$114,SMALL(IF(('Base de données'!$B$2:$B$114<>"stock initial")*('Base de données'!$H$2:$H$114="laiton")*('Base de données'!$I$2:$I$114=$B$2)*('Base de données'!$J$2:$J$114=$B$3*1),ROW('Base de données'!$H$2:$H$114)-1),ROWS($1:3))),""),IF($E9="","",I8))} -> 1964 | J9: {=IF(D9=0,0,IFERROR(INDEX('Base de données'!S$2:S$114,SMALL(IF(('Base de données'!$B$2:$B$114<>"stock initial")*('Base de données'!$H$2:$H$114="laiton")*('Base de données'!$I$2:$I$114=$B$2)*('Base de données'!$J$2:$J$114=$B$3*1),ROW('Base de données'!$H$2:$H$114)-1),ROWS($1:3))),""))} -> 394.55308 | K9: 146 | L9: =IFERROR(M9/J9,"") -> 0.48629947 | M9: {=IF($D9=0,0,IFERROR(INDEX('Base de données'!X$2:X$114,SMALL(IF(('Base de données'!$B$2:$B$114<>"stock initial")*('Base de données'!$H$2:$H$114="laiton")*('Base de données'!$I$2:$I$114=$B$2)*('Base de données'!$J$2:$J$114=$B$3*1),ROW('Base de données'!$H$2:$H$114)-1),ROWS($1:3))),""))} -> 191.87095 | N9: =IFERROR(O9/J9,"") -> 0.025742574 | O9: {=IF($D9=0,0,IFERROR(INDEX('Base de données'!Z$2:Z$114,SMALL(IF(('Base de données'!$B$2:$B$114<>"stock initial")*('Base de données'!$H$2:$H$114="laiton")*('Base de données'!$I$2:$I$114=$B$2)*('Base de données'!$J$2:$J$114=$B$3*1),ROW('Base de données'!$H$2:$H$114)-1),ROWS($1:3))),""))} -> 10.156812 | P9: =IFERROR((O9+M9)/J9,"") -> 0.51204205
A10: =IF(B10=0,E10,"") | B10: {=IFERROR(INDEX('Base de données'!A$2:A$114,SMALL(IF(('Base de données'!$B$2:$B$114<>"stock initial")*('Base de données'!$H$2:$H$114="laiton")*('Base de données'!$I$2:$I$114=$B$2)*('Base de données'!$J$2:$J$114=$B$3*1),ROW('Base de données'!$H$2:$H$114)-1),ROWS($1:4))),"")} -> 201700038 | D10: {=IFERROR(INDEX('Base de données'!C$2:C$114,SMALL(IF(('Base de données'!$B$2:$B$114<>"stock initial")*('Base de données'!$H$2:$H$114="laiton")*('Base de données'!$I$2:$I$114=$B$2)*('Base de données'!$J$2:$J$114=$B$3*1),ROW('Base de données'!$H$2:$H$114)-1),ROWS($1:4))),"")} -> 547903 | E10: {=IFERROR(INDEX('Base de données'!D$2:D$114,SMALL(IF(('Base de données'!$B$2:$B$114<>"stock initial")*('Base de données'!$H$2:$H$114="laiton")*('Base de données'!$I$2:$I$114=$B$2)*('Base de données'!$J$2:$J$114=$B$3*1),ROW('Base de données'!$H$2:$H$114)-1),ROWS($1:4))),"")} -> 42866 | F10: =IF(E10="","",$B$1) -> Laiton | G10: =IF($E10="","",$B$2) -> rond | H10: =IF($E10="","",$B$3) -> 22 | I10: {=IF(AND($D10=0,$E10<>""),IFERROR(INDEX('Base de données'!T$2:T$114,SMALL(IF(('Base de données'!$B$2:$B$114<>"stock initial")*('Base de données'!$H$2:$H$114="laiton")*('Base de données'!$I$2:$I$114=$B$2)*('Base de données'!$J$2:$J$114=$B$3*1),ROW('Base de données'!$H$2:$H$114)-1),ROWS($1:4))),""),IF($E10="","",I9))} -> 1964 | J10: {=IF(D10=0,0,IFERROR(INDEX('Base de données'!S$2:S$114,SMALL(IF(('Base de données'!$B$2:$B$114<>"stock initial")*('Base de données'!$H$2:$H$114="laiton")*('Base de données'!$I$2:$I$114=$B$2)*('Base de données'!$J$2:$J$114=$B$3*1),ROW('Base de données'!$H$2:$H$114)-1),ROWS($1:4))),""))} -> 236.73185 | K10: 146 | L10: =IFERROR(M10/J10,"") -> 0.48629947 | M10: {=IF($D10=0,0,IFERROR(INDEX('Base de données'!X$2:X$114,SMALL(IF(('Base de données'!$B$2:$B$114<>"stock initial")*('Base de données'!$H$2:$H$114="laiton")*('Base de données'!$I$2:$I$114=$B$2)*('Base de données'!$J$2:$J$114=$B$3*1),ROW('Base de données'!$H$2:$H$114)-1),ROWS($1:4))),""))} -> 115.12257 | N10: =IFERROR(O10/J10,"") -> 0.025742574 | O10: {=IF($D10=0,0,IFERROR(INDEX('Base de données'!Z$2:Z$114,SMALL(IF(('Base de données'!$B$2:$B$114<>"stock initial")*('Base de données'!$H$2:$H$114="laiton")*('Base de données'!$I$2:$I$114=$B$2)*('Base de données'!$J$2:$J$114=$B$3*1),ROW('Base de données'!$H$2:$H$114)-1),ROWS($1:4))),""))} -> 6.0940871 | P10: =IFERROR((O10+M10)/J10,"") -> 0.51204205
A11: =IF(B11=0,E11,"") | B11: {=IFERROR(INDEX('Base de données'!A$2:A$114,SMALL(IF(('Base de données'!$B$2:$B$114<>"stock initial")*('Base de données'!$H$2:$H$114="laiton")*('Base de données'!$I$2:$I$114=$B$2)*('Base de données'!$J$2:$J$114=$B$3*1),ROW('Base de données'!$H$2:$H$114)-1),ROWS($1:5))),"")} -> 201700061 | D11: {=IFERROR(INDEX('Base de données'!C$2:C$114,SMALL(IF(('Base de données'!$B$2:$B$114<>"stock initial")*('Base de données'!$H$2:$H$114="laiton")*('Base de données'!$I$2:$I$114=$B$2)*('Base de données'!$J$2:$J$114=$B$3*1),ROW('Base de données'!$H$2:$H$114)-1),ROWS($1:5))),"")} -> 549084 | E11: {=IFERROR(INDEX('Base de données'!D$2:D$114,SMALL(IF(('Base de données'!$B$2:$B$114<>"stock initial")*('Base de données'!$H$2:$H$114="laiton")*('Base de données'!$I$2:$I$114=$B$2)*('Base de données'!$J$2:$J$114=$B$3*1),ROW('Base de données'!$H$2:$H$114)-1),ROWS($1:5))),"")} -> 42923 | F11: =IF(E11="","",$B$1) -> Laiton | G11: =IF($E11="","",$B$2) -> rond | H11: =IF($E11="","",$B$3) -> 22 | I11: {=IF(AND($D11=0,$E11<>""),IFERROR(INDEX('Base de données'!T$2:T$114,SMALL(IF(('Base de données'!$B$2:$B$114<>"stock initial")*('Base de données'!$H$2:$H$114="laiton")*('Base de données'!$I$2:$I$114=$B$2)*('Base de données'!$J$2:$J$114=$B$3*1),ROW('Base de données'!$H$2:$H$114)-1),ROWS($1:5))),""),IF($E11="","",I10))} -> 1964 | J11: {=IF(D11=0,0,IFERROR(INDEX('Base de données'!S$2:S$114,SMALL(IF(('Base de données'!$B$2:$B$114<>"stock initial")*('Base de données'!$H$2:$H$114="laiton")*('Base de données'!$I$2:$I$114=$B$2)*('Base de données'!$J$2:$J$114=$B$3*1),ROW('Base de données'!$H$2:$H$114)-1),ROWS($1:5))),""))} -> 236.73185 | K11: 146 | L11: =IFERROR(M11/J11,"") -> 0.48629947 | M11: {=IF($D11=0,0,IFERROR(INDEX('Base de données'!X$2:X$114,SMALL(IF(('Base de données'!$B$2:$B$114<>"stock initial")*('Base de données'!$H$2:$H$114="laiton")*('Base de données'!$I$2:$I$114=$B$2)*('Base de données'!$J$2:$J$114=$B$3*1),ROW('Base de données'!$H$2:$H$114)-1),ROWS($1:5))),""))} -> 115.12257 | N11: =IFERROR(O11/J11,"") -> 0.025742574 | O11: {=IF($D11=0,0,IFERROR(INDEX('Base de données'!Z$2:Z$114,SMALL(IF(('Base de données'!$B$2:$B$114<>"stock initial")*('Base de données'!$H$2:$H$114="laiton")*('Base de données'!$I$2:$I$114=$B$2)*('Base de données'!$J$2:$J$114=$B$3*1),ROW('Base de données'!$H$2:$H$114)-1),ROWS($1:5))),""))} -> 6.0940871 | P11: =IFERROR((O11+M11)/J11,"") -> 0.51204205
A12: =IF(B12=0,E12,"") | B12: {=IFERROR(INDEX('Base de données'!A$2:A$114,SMALL(IF(('Base de données'!$B$2:$B$114<>"stock initial")*('Base de données'!$H$2:$H$114="laiton")*('Base de données'!$I$2:$I$114=$B$2)*('Base de données'!$J$2:$J$114=$B$3*1),ROW('Base de données'!$H$2:$H$114)-1),ROWS($1:6))),"")} -> 201700076 | D12: {=IFERROR(INDEX('Base de données'!C$2:C$114,SMALL(IF(('Base de données'!$B$2:$B$114<>"stock initial")*('Base de données'!$H$2:$H$114="laiton")*('Base de données'!$I$2:$I$114=$B$2)*('Base de données'!$J$2:$J$114=$B$3*1),ROW('Base de données'!$H$2:$H$114)-1),ROWS($1:6))),"")} -> 530052 | E12: {=IFERROR(INDEX('Base de données'!D$2:D$114,SMALL(IF(('Base de données'!$B$2:$B$114<>"stock initial")*('Base de données'!$H$2:$H$114="laiton")*('Base de données'!$I$2:$I$114=$B$2)*('Base de données'!$J$2:$J$114=$B$3*1),ROW('Base de données'!$H$2:$H$114)-1),ROWS($1:6))),"")} -> 42984 | F12: =IF(E12="","",$B$1) -> Laiton | G12: =IF($E12="","",$B$2) -> rond | H12: =IF($E12="","",$B$3) -> 22 | I12: {=IF(AND($D12=0,$E12<>""),IFERROR(INDEX('Base de données'!T$2:T$114,SMALL(IF(('Base de données'!$B$2:$B$114<>"stock initial")*('Base de données'!$H$2:$H$114="laiton")*('Base de données'!$I$2:$I$114=$B$2)*('Base de données'!$J$2:$J$114=$B$3*1),ROW('Base de données'!$H$2:$H$114)-1),ROWS($1:6))),""),IF($E12="","",I11))} -> 1964 | J12: {=IF(D12=0,0,IFERROR(INDEX('Base de données'!S$2:S$114,SMALL(IF(('Base de données'!$B$2:$B$114<>"stock initial")*('Base de données'!$H$2:$H$114="laiton")*('Base de données'!$I$2:$I$114=$B$2)*('Base de données'!$J$2:$J$114=$B$3*1),ROW('Base de données'!$H$2:$H$114)-1),ROWS($1:6))),""))} -> 236.73185 | K12: 146 | L12: =IFERROR(M12/J12,"") -> 0.48629947 | M12: {=IF($D12=0,0,IFERROR(INDEX('Base de données'!X$2:X$114,SMALL(IF(('Base de données'!$B$2:$B$114<>"stock initial")*('Base de données'!$H$2:$H$114="laiton")*('Base de données'!$I$2:$I$114=$B$2)*('Base de données'!$J$2:$J$114=$B$3*1),ROW('Base de données'!$H$2:$H$114)-1),ROWS($1:6))),""))} -> 115.12257 | N12: =IFERROR(O12/J12,"") -> 0.025742574 | O12: {=IF($D12=0,0,IFERROR(INDEX('Base de données'!Z$2:Z$114,SMALL(IF(('Base de données'!$B$2:$B$114<>"stock initial")*('Base de données'!$H$2:$H$114="laiton")*('Base de données'!$I$2:$I$114=$B$2)*('Base de données'!$J$2:$J$114=$B$3*1),ROW('Base de données'!$H$2:$H$114)-1),ROWS($1:6))),""))} -> 6.0940871 | P12: =IFERROR((O12+M12)/J12,"") -> 0.51204205
A13: =IF(B13=0,E13,"") | B13: {=IFERROR(INDEX('Base de données'!A$2:A$114,SMALL(IF(('Base de données'!$B$2:$B$114<>"stock initial")*('Base de données'!$H$2:$H$114="laiton")*('Base de données'!$I$2:$I$114=$B$2)*('Base de données'!$J$2:$J$114=$B$3*1),ROW('Base de données'!$H$2:$H$114)-1),ROWS($1:7))),"")} -> 201700081 | D13: {=IFERROR(INDEX('Base de données'!C$2:C$114,SMALL(IF(('Base de données'!$B$2:$B$114<>"stock initial")*('Base de données'!$H$2:$H$114="laiton")*('Base de données'!$I$2:$I$114=$B$2)*('Base de données'!$J$2:$J$114=$B$3*1),ROW('Base de données'!$H$2:$H$114)-1),ROWS($1:7))),"")} -> 530407 | E13: {=IFERROR(INDEX('Base de données'!D$2:D$114,SMALL(IF(('Base de données'!$B$2:$B$114<>"stock initial")*('Base de données'!$H$2:$H$114="laiton")*('Base de données'!$I$2:$I$114=$B$2)*('Base de données'!$J$2:$J$114=$B$3*1),ROW('Base de données'!$H$2:$H$114)-1),ROWS($1:7))),"")} -> 43003 | F13: =IF(E13="","",$B$1) -> Laiton | G13: =IF($E13="","",$B$2) -> rond | H13: =IF($E13="","",$B$3) -> 22 | I13: {=IF(AND($D13=0,$E13<>""),IFERROR(INDEX('Base de données'!T$2:T$114,SMALL(IF(('Base de données'!$B$2:$B$114<>"stock initial")*('Base de données'!$H$2:$H$114="laiton")*('Base de données'!$I$2:$I$114=$B$2)*('Base de données'!$J$2:$J$114=$B$3*1),ROW('Base de données'!$H$2:$H$114)-1),ROWS($1:7))),""),IF($E13="","",I12))} -> 1964 | J13: {=IF(D13=0,0,IFERROR(INDEX('Base de données'!S$2:S$114,SMALL(IF(('Base de données'!$B$2:$B$114<>"stock initial")*('Base de données'!$H$2:$H$114="laiton")*('Base de données'!$I$2:$I$114=$B$2)*('Base de données'!$J$2:$J$114=$B$3*1),ROW('Base de données'!$H$2:$H$114)-1),ROWS($1:7))),""))} -> 173.60335 | K13: 146 | L13: =IFERROR(M13/J13,"") -> 0.48629947 | M13: {=IF($D13=0,0,IFERROR(INDEX('Base de données'!X$2:X$114,SMALL(IF(('Base de données'!$B$2:$B$114<>"stock initial")*('Base de données'!$H$2:$H$114="laiton")*('Base de données'!$I$2:$I$114=$B$2)*('Base de données'!$J$2:$J$114=$B$3*1),ROW('Base de données'!$H$2:$H$114)-1),ROWS($1:7))),""))} -> 84.42322 | N13: =IFERROR(O13/J13,"") -> 0.025742574 | O13: {=IF($D13=0,0,IFERROR(INDEX('Base de données'!Z$2:Z$114,SMALL(IF(('Base de données'!$B$2:$B$114<>"stock initial")*('Base de données'!$H$2:$H$114="laiton")*('Base de données'!$I$2:$I$114=$B$2)*('Base de données'!$J$2:$J$114=$B$3*1),ROW('Base de données'!$H$2:$H$114)-1),ROWS($1:7))),""))} -> 4.4689972 | P13: =IFERROR((O13+M13)/J13,"") -> 0.51204205
A14: =IF(B14=0,E14,"") | B14: {=IFERROR(INDEX('Base de données'!A$2:A$114,SMALL(IF(('Base de données'!$B$2:$B$114<>"stock initial")*('Base de données'!$H$2:$H$114="laiton")*('Base de données'!$I$2:$I$114=$B$2)*('Base de données'!$J$2:$J$114=$B$3*1),ROW('Base de données'!$H$2:$H$114)-1),ROWS($1:8))),"")} -> 201700095 | D14: {=IFERROR(INDEX('Base de données'!C$2:C$114,SMALL(IF(('Base de données'!$B$2:$B$114<>"stock initial")*('Base de données'!$H$2:$H$114="laiton")*('Base de données'!$I$2:$I$114=$B$2)*('Base de données'!$J$2:$J$114=$B$3*1),ROW('Base de données'!$H$2:$H$114)-1),ROWS($1:8))),"")} -> 531288 | E14: {=IFERROR(INDEX('Base de données'!D$2:D$114,SMALL(IF(('Base de données'!$B$2:$B$114<>"stock initial")*('Base de données'!$H$2:$H$114="laiton")*('Base de données'!$I$2:$I$114=$B$2)*('Base de données'!$J$2:$J$114=$B$3*1),ROW('Base de données'!$H$2:$H$114)-1),ROWS($1:8))),"")} -> 43043 | F14: =IF(E14="","",$B$1) -> Laiton | G14: =IF($E14="","",$B$2) -> rond | H14: =IF($E14="","",$B$3) -> 22 | I14: {=IF(AND($D14=0,$E14<>""),IFERROR(INDEX('Base de données'!T$2:T$114,SMALL(IF(('Base de données'!$B$2:$B$114<>"stock initial")*('Base de données'!$H$2:$H$114="laiton")*('Base de données'!$I$2:$I$114=$B$2)*('Base de données'!$J$2:$J$114=$B$3*1),ROW('Base de données'!$H$2:$H$114)-1),ROWS($1:8))),""),IF($E14="","",I13))} -> 1964 | J14: {=IF(D14=0,0,IFERROR(INDEX('Base de données'!S$2:S$114,SMALL(IF(('Base de données'!$B$2:$B$114<>"stock initial")*('Base de données'!$H$2:$H$114="laiton")*('Base de données'!$I$2:$I$114=$B$2)*('Base de données'!$J$2:$J$114=$B$3*1),ROW('Base de données'!$H$2:$H$114)-1),ROWS($1:8))),""))} -> 205.1676 | K14: 146 | L14: =IFERROR(M14/J14,"") -> 0.48629947 | M14: {=IF($D14=0,0,IFERROR(INDEX('Base de données'!X$2:X$114,SMALL(IF(('Base de données'!$B$2:$B$114<>"stock initial")*('Base de données'!$H$2:$H$114="laiton")*('Base de données'!$I$2:$I$114=$B$2)*('Base de données'!$J$2:$J$114=$B$3*1),ROW('Base de données'!$H$2:$H$114)-1),ROWS($1:8))),""))} -> 99.772896 | N14: =IFERROR(O14/J14,"") -> 0.025742574 | O14: {=IF($D14=0,0,IFERROR(INDEX('Base de données'!Z$2:Z$114,SMALL(IF(('Base de données'!$B$2:$B$114<>"stock initial")*('Base de données'!$H$2:$H$114="laiton")*('Base de données'!$I$2:$I$114=$B$2)*('Base de données'!$J$2:$J$114=$B$3*1),ROW('Base de données'!$H$2:$H$114)-1),ROWS($1:8))),""))} -> 5.2815422 | P14: =IFERROR((O14+M14)/J14,"") -> 0.51204205
A15: =IF(B15=0,E15,"") -> 43067 | B15: {=IFERROR(INDEX('Base de données'!A$2:A$114,SMALL(IF(('Base de données'!$B$2:$B$114<>"stock initial")*('Base de données'!$H$2:$H$114="laiton")*('Base de données'!$I$2:$I$114=$B$2)*('Base de données'!$J$2:$J$114=$B$3*1),ROW('Base de données'!$H$2:$H$114)-1),ROWS($1:9))),"")} -> 0 | D15: {=IFERROR(INDEX('Base de données'!C$2:C$114,SMALL(IF(('Base de données'!$B$2:$B$114<>"stock initial")*('Base de données'!$H$2:$H$114="laiton")*('Base de données'!$I$2:$I$114=$B$2)*('Base de données'!$J$2:$J$114=$B$3*1),ROW('Base de données'!$H$2:$H$114)-1),ROWS($1:9))),"")} -> 0 | E15: {=IFERROR(INDEX('Base de données'!D$2:D$114,SMALL(IF(('Base de données'!$B$2:$B$114<>"stock initial")*('Base de données'!$H$2:$H$114="laiton")*('Base de données'!$I$2:$I$114=$B$2)*('Base de données'!$J$2:$J$114=$B$3*1),ROW('Base de données'!$H$2:$H$114)-1),ROWS($1:9))),"")} -> 43067 | F15: =IF(E15="","",$B$1) -> Laiton | G15: =IF($E15="","",$B$2) -> rond | H15: =IF($E15="","",$B$3) -> 22 | I15: {=IF(AND($D15=0,$E15<>""),IFERROR(INDEX('Base de données'!T$2:T$114,SMALL(IF(('Base de données'!$B$2:$B$114<>"stock initial")*('Base de données'!$H$2:$H$114="laiton")*('Base de données'!$I$2:$I$114=$B$2)*('Base de données'!$J$2:$J$114=$B$3*1),ROW('Base de données'!$H$2:$H$114)-1),ROWS($1:9))),""),IF($E15="","",I14))} -> 2548 | J15: {=IF(D15=0,0,IFERROR(INDEX('Base de données'!S$2:S$114,SMALL(IF(('Base de données'!$B$2:$B$114<>"stock initial")*('Base de données'!$H$2:$H$114="laiton")*('Base de données'!$I$2:$I$114=$B$2)*('Base de données'!$J$2:$J$114=$B$3*1),ROW('Base de données'!$H$2:$H$114)-1),ROWS($1:9))),""))} -> 0 | K15: 146 | L15: =IFERROR(M15/J15,"") | M15: {=IF($D15=0,0,IFERROR(INDEX('Base de données'!X$2:X$114,SMALL(IF(('Base de données'!$B$2:$B$114<>"stock initial")*('Base de données'!$H$2:$H$114="laiton")*('Base de données'!$I$2:$I$114=$B$2)*('Base de données'!$J$2:$J$114=$B$3*1),ROW('Base de données'!$H$2:$H$114)-1),ROWS($1:9))),""))} -> 0 | N15: =IFERROR(O15/J15,"") | O15: {=IF($D15=0,0,IFERROR(INDEX('Base de données'!Z$2:Z$114,SMALL(IF(('Base de données'!$B$2:$B$114<>"stock initial")*('Base de données'!$H$2:$H$114="laiton")*('Base de données'!$I$2:$I$114=$B$2)*('Base de données'!$J$2:$J$114=$B$3*1),ROW('Base de données'!$H$2:$H$114)-1),ROWS($1:9))),""))} -> 0 | P15: =IFERROR((O15+M15)/J15,"")
A16: =IF(B16=0,E16,"") | B16: {=IFERROR(INDEX('Base de données'!A$2:A$114,SMALL(IF(('Base de données'!$B$2:$B$114<>"stock initial")*('Base de données'!$H$2:$H$114="laiton")*('Base de données'!$I$2:$I$114=$B$2)*('Base de données'!$J$2:$J$114=$B$3*1),ROW('Base de données'!$H$2:$H$114)-1),ROWS($1:10))),"")} -> 201800002 | D16: {=IFERROR(INDEX('Base de données'!C$2:C$114,SMALL(IF(('Base de données'!$B$2:$B$114<>"stock initial")*('Base de données'!$H$2:$H$114="laiton")*('Base de données'!$I$2:$I$114=$B$2)*('Base de données'!$J$2:$J$114=$B$3*1),ROW('Base de données'!$H$2:$H$114)-1),ROWS($1:10))),"")} -> 532778 | E16: {=IFERROR(INDEX('Base de données'!D$2:D$114,SMALL(IF(('Base de données'!$B$2:$B$114<>"stock initial")*('Base de données'!$H$2:$H$114="laiton")*('Base de données'!$I$2:$I$114=$B$2)*('Base de données'!$J$2:$J$114=$B$3*1),ROW('Base de données'!$H$2:$H$114)-1),ROWS($1:10))),"")} -> 43113 | F16: =IF(E16="","",$B$1) -> Laiton | G16: =IF($E16="","",$B$2) -> rond | H16: =IF($E16="","",$B$3) -> 22 | I16: {=IF(AND($D16=0,$E16<>""),IFERROR(INDEX('Base de données'!T$2:T$114,SMALL(IF(('Base de données'!$B$2:$B$114<>"stock initial")*('Base de données'!$H$2:$H$114="laiton")*('Base de données'!$I$2:$I$114=$B$2)*('Base de données'!$J$2:$J$114=$B$3*1),ROW('Base de données'!$H$2:$H$114)-1),ROWS($1:10))),""),IF($E16="","",I15))} -> 2548 | J16: {=IF(D16=0,0,IFERROR(INDEX('Base de données'!S$2:S$114,SMALL(IF(('Base de données'!$B$2:$B$114<>"stock initial")*('Base de données'!$H$2:$H$114="laiton")*('Base de données'!$I$2:$I$114=$B$2)*('Base de données'!$J$2:$J$114=$B$3*1),ROW('Base de données'!$H$2:$H$114)-1),ROWS($1:10))),""))} -> 299.86034 | K16: 146 | L16: =IFERROR(M16/J16,"") -> 0.48629947 | M16: {=IF($D16=0,0,IFERROR(INDEX('Base de données'!X$2:X$114,SMALL(IF(('Base de données'!$B$2:$B$114<>"stock initial")*('Base de données'!$H$2:$H$114="laiton")*('Base de données'!$I$2:$I$114=$B$2)*('Base de données'!$J$2:$J$114=$B$3*1),ROW('Base de données'!$H$2:$H$114)-1),ROWS($1:10))),""))} -> 145.82192 | N16: =IFERROR(O16/J16,"") -> 0.025742574 | O16: {=IF($D16=0,0,IFERROR(INDEX('Base de données'!Z$2:Z$114,SMALL(IF(('Base de données'!$B$2:$B$114<>"stock initial")*('Base de données'!$H$2:$H$114="laiton")*('Base de données'!$I$2:$I$114=$B$2)*('Base de données'!$J$2:$J$114=$B$3*1),ROW('Base de données'!$H$2:$H$114)-1),ROWS($1:10))),""))} -> 7.719177 | P16: =IFERROR((O16+M16)/J16,"") -> 0.51204205
A17: =IF(B17=0,E17,"") | B17: {=IFERROR(INDEX('Base de données'!A$2:A$114,SMALL(IF(('Base de données'!$B$2:$B$114<>"stock initial")*('Base de données'!$H$2:$H$114="laiton")*('Base de données'!$I$2:$I$114=$B$2)*('Base de données'!$J$2:$J$114=$B$3*1),ROW('Base de données'!$H$2:$H$114)-1),ROWS($1:11))),"")} -> 201800011 | D17: {=IFERROR(INDEX('Base de données'!C$2:C$114,SMALL(IF(('Base de données'!$B$2:$B$114<>"stock initial")*('Base de données'!$H$2:$H$114="laiton")*('Base de données'!$I$2:$I$114=$B$2)*('Base de données'!$J$2:$J$114=$B$3*1),ROW('Base de données'!$H$2:$H$114)-1),ROWS($1:11))),"")} -> 533503 | E17: {=IFERROR(INDEX('Base de données'!D$2:D$114,SMALL(IF(('Base de données'!$B$2:$B$114<>"stock initial")*('Base de données'!$H$2:$H$114="laiton")*('Base de données'!$I$2:$I$114=$B$2)*('Base de données'!$J$2:$J$114=$B$3*1),ROW('Base de données'!$H$2:$H$114)-1),ROWS($1:11))),"")} -> 43148 | F17: =IF(E17="","",$B$1) -> Laiton | G17: =IF($E17="","",$B$2) -> rond | H17: =IF($E17="","",$B$3) -> 22 | I17: {=IF(AND($D17=0,$E17<>""),IFERROR(INDEX('Base de données'!T$2:T$114,SMALL(IF(('Base de données'!$B$2:$B$114<>"stock initial")*('Base de données'!$H$2:$H$114="laiton")*('Base de données'!$I$2:$I$114=$B$2)*('Base de données'!$J$2:$J$114=$B$3*1),ROW('Base de données'!$H$2:$H$114)-1),ROWS($1:11))),""),IF($E17="","",I16))} -> 2548 | J17: {=IF(D17=0,0,IFERROR(INDEX('Base de données'!S$2:S$114,SMALL(IF(('Base de données'!$B$2:$B$114<>"stock initial")*('Base de données'!$H$2:$H$114="laiton")*('Base de données'!$I$2:$I$114=$B$2)*('Base de données'!$J$2:$J$114=$B$3*1),ROW('Base de données'!$H$2:$H$114)-1),ROWS($1:11))),""))} -> 86.801677 | K17: 146 | L17: =IFERROR(M17/J17,"") -> 0.48629947 | M17: {=IF($D17=0,0,IFERROR(INDEX('Base de données'!X$2:X$114,SMALL(IF(('Base de données'!$B$2:$B$114<>"stock initial")*('Base de données'!$H$2:$H$114="laiton")*('Base de données'!$I$2:$I$114=$B$2)*('Base de données'!$J$2:$J$114=$B$3*1),ROW('Base de données'!$H$2:$H$114)-1),ROWS($1:11))),""))} -> 42.21161 | N17: =IFERROR(O17/J17,"") -> 0.025742574 | O17: {=IF($D17=0,0,IFERROR(INDEX('Base de données'!Z$2:Z$114,SMALL(IF(('Base de données'!$B$2:$B$114<>"stock initial")*('Base de données'!$H$2:$H$114="laiton")*('Base de données'!$I$2:$I$114=$B$2)*('Base de données'!$J$2:$J$114=$B$3*1),ROW('Base de données'!$H$2:$H$114)-1),ROWS($1:11))),""))} -> 2.2344986 | P17: =IFERROR((O17+M17)/J17,"") -> 0.51204205
A18: =IF(B18=0,E18,"") | B18: {=IFERROR(INDEX('Base de données'!A$2:A$114,SMALL(IF(('Base de données'!$B$2:$B$114<>"stock initial")*('Base de données'!$H$2:$H$114="laiton")*('Base de données'!$I$2:$I$114=$B$2)*('Base de données'!$J$2:$J$114=$B$3*1),ROW('Base de données'!$H$2:$H$114)-1),ROWS($1:12))),"")} -> 201800023 | D18: {=IFERROR(INDEX('Base de données'!C$2:C$114,SMALL(IF(('Base de données'!$B$2:$B$114<>"stock initial")*('Base de données'!$H$2:$H$114="laiton")*('Base de données'!$I$2:$I$114=$B$2)*('Base de données'!$J$2:$J$114=$B$3*1),ROW('Base de données'!$H$2:$H$114)-1),ROWS($1:12))),"")} -> 534593 | E18: {=IFERROR(INDEX('Base de données'!D$2:D$114,SMALL(IF(('Base de données'!$B$2:$B$114<>"stock initial")*('Base de données'!$H$2:$H$114="laiton")*('Base de données'!$I$2:$I$114=$B$2)*('Base de données'!$J$2:$J$114=$B$3*1),ROW('Base de données'!$H$2:$H$114)-1),ROWS($1:12))),"")} -> 43194 | F18: =IF(E18="","",$B$1) -> Laiton | G18: =IF($E18="","",$B$2) -> rond | H18: =IF($E18="","",$B$3) -> 22 | I18: {=IF(AND($D18=0,$E18<>""),IFERROR(INDEX('Base de données'!T$2:T$114,SMALL(IF(('Base de données'!$B$2:$B$114<>"stock initial")*('Base de données'!$H$2:$H$114="laiton")*('Base de données'!$I$2:$I$114=$B$2)*('Base de données'!$J$2:$J$114=$B$3*1),ROW('Base de données'!$H$2:$H$114)-1),ROWS($1:12))),""),IF($E18="","",I17))} -> 2548 | J18: {=IF(D18=0,0,IFERROR(INDEX('Base de données'!S$2:S$114,SMALL(IF(('Base de données'!$B$2:$B$114<>"stock initial")*('Base de données'!$H$2:$H$114="laiton")*('Base de données'!$I$2:$I$114=$B$2)*('Base de données'!$J$2:$J$114=$B$3*1),ROW('Base de données'!$H$2:$H$114)-1),ROWS($1:12))),""))} -> 426.11732 | K18: 146 | L18: =IFERROR(M18/J18,"") -> 0.48629947 | M18: {=IF($D18=0,0,IFERROR(INDEX('Base de données'!X$2:X$114,SMALL(IF(('Base de données'!$B$2:$B$114<>"stock initial")*('Base de données'!$H$2:$H$114="laiton")*('Base de données'!$I$2:$I$114=$B$2)*('Base de données'!$J$2:$J$114=$B$3*1),ROW('Base de données'!$H$2:$H$114)-1),ROWS($1:12))),""))} -> 207.22063 | N18: =IFERROR(O18/J18,"") -> 0.025742574 | O18: {=IF($D18=0,0,IFERROR(INDEX('Base de données'!Z$2:Z$114,SMALL(IF(('Base de données'!$B$2:$B$114<>"stock initial")*('Base de données'!$H$2:$H$114="laiton")*('Base de données'!$I$2:$I$114=$B$2)*('Base de données'!$J$2:$J$114=$B$3*1),ROW('Base de données'!$H$2:$H$114)-1),ROWS($1:12))),""))} -> 10.969357 | P18: =IFERROR((O18+M18)/J18,"") -> 0.51204205
A19: =IF(B19=0,E19,"") | B19: {=IFERROR(INDEX('Base de données'!A$2:A$114,SMALL(IF(('Base de données'!$B$2:$B$114<>"stock initial")*('Base de données'!$H$2:$H$114="laiton")*('Base de données'!$I$2:$I$114=$B$2)*('Base de données'!$J$2:$J$114=$B$3*1),ROW('Base de données'!$H$2:$H$114)-1),ROWS($1:13))),"")} -> 201800033 | D19: {=IFERROR(INDEX('Base de données'!C$2:C$114,SMALL(IF(('Base de données'!$B$2:$B$114<>"stock initial")*('Base de données'!$H$2:$H$114="laiton")*('Base de données'!$I$2:$I$114=$B$2)*('Base de données'!$J$2:$J$114=$B$3*1),ROW('Base de données'!$H$2:$H$114)-1),ROWS($1:13))),"")} -> 535277 | E19: {=IFERROR(INDEX('Base de données'!D$2:D$114,SMALL(IF(('Base de données'!$B$2:$B$114<>"stock initial")*('Base de données'!$H$2:$H$114="laiton")*('Base de données'!$I$2:$I$114=$B$2)*('Base de données'!$J$2:$J$114=$B$3*1),ROW('Base de données'!$H$2:$H$114)-1),ROWS($1:13))),"")} -> 43217 | F19: =IF(E19="","",$B$1) -> Laiton | G19: =IF($E19="","",$B$2) -> rond | H19: =IF($E19="","",$B$3) -> 22 | I19: {=IF(AND($D19=0,$E19<>""),IFERROR(INDEX('Base de données'!T$2:T$114,SMALL(IF(('Base de données'!$B$2:$B$114<>"stock initial")*('Base de données'!$H$2:$H$114="laiton")*('Base de données'!$I$2:$I$114=$B$2)*('Base de données'!$J$2:$J$114=$B$3*1),ROW('Base de données'!$H$2:$H$114)-1),ROWS($1:13))),""),IF($E19="","",I18))} -> 2548 | J19: {=IF(D19=0,0,IFERROR(INDEX('Base de données'!S$2:S$114,SMALL(IF(('Base de données'!$B$2:$B$114<>"stock initial")*('Base de données'!$H$2:$H$114="laiton")*('Base de données'!$I$2:$I$114=$B$2)*('Base de données'!$J$2:$J$114=$B$3*1),ROW('Base de données'!$H$2:$H$114)-1),ROWS($1:13))),""))} -> 189.38548 | K19: 146 | L19: =IFERROR(M19/J19,"") -> 0.48629947 | M19: {=IF($D19=0,0,IFERROR(INDEX('Base de données'!X$2:X$114,SMALL(IF(('Base de données'!$B$2:$B$114<>"stock initial")*('Base de données'!$H$2:$H$114="laiton")*('Base de données'!$I$2:$I$114=$B$2)*('Base de données'!$J$2:$J$114=$B$3*1),ROW('Base de données'!$H$2:$H$114)-1),ROWS($1:13))),""))} -> 92.098058 | N19: =IFERROR(O19/J19,"") -> 0.025742574 | O19: {=IF($D19=0,0,IFERROR(INDEX('Base de données'!Z$2:Z$114,SMALL(IF(('Base de données'!$B$2:$B$114<>"stock initial")*('Base de données'!$H$2:$H$114="laiton")*('Base de données'!$I$2:$I$114=$B$2)*('Base de données'!$J$2:$J$114=$B$3*1),ROW('Base de données'!$H$2:$H$114)-1),ROWS($1:13))),""))} -> 4.8752697 | P19: =IFERROR((O19+M19)/J19,"") -> 0.51204205
A20: =IF(B20=0,E20,"") | B20: {=IFERROR(INDEX('Base de données'!A$2:A$114,SMALL(IF(('Base de données'!$B$2:$B$114<>"stock initial")*('Base de données'!$H$2:$H$114="laiton")*('Base de données'!$I$2:$I$114=$B$2)*('Base de données'!$J$2:$J$114=$B$3*1),ROW('Base de données'!$H$2:$H$114)-1),ROWS($1:14))),"")} -> 201800048 | D20: {=IFERROR(INDEX('Base de données'!C$2:C$114,SMALL(IF(('Base de données'!$B$2:$B$114<>"stock initial")*('Base de données'!$H$2:$H$114="laiton")*('Base de données'!$I$2:$I$114=$B$2)*('Base de données'!$J$2:$J$114=$B$3*1),ROW('Base de données'!$H$2:$H$114)-1),ROWS($1:14))),"")} -> 536321 | E20: {=IFERROR(INDEX('Base de données'!D$2:D$114,SMALL(IF(('Base de données'!$B$2:$B$114<>"stock initial")*('Base de données'!$H$2:$H$114="laiton")*('Base de données'!$I$2:$I$114=$B$2)*('Base de données'!$J$2:$J$114=$B$3*1),ROW('Base de données'!$H$2:$H$114)-1),ROWS($1:14))),"")} -> 43263 | F20: =IF(E20="","",$B$1) -> Laiton | G20: =IF($E20="","",$B$2) -> rond | H20: =IF($E20="","",$B$3) -> 22 | I20: {=IF(AND($D20=0,$E20<>""),IFERROR(INDEX('Base de données'!T$2:T$114,SMALL(IF(('Base de données'!$B$2:$B$114<>"stock initial")*('Base de données'!$H$2:$H$114="laiton")*('Base de données'!$I$2:$I$114=$B$2)*('Base de données'!$J$2:$J$114=$B$3*1),ROW('Base de données'!$H$2:$H$114)-1),ROWS($1:14))),""),IF($E20="","",I19))} -> 2548 | J20: {=IF(D20=0,0,IFERROR(INDEX('Base de données'!S$2:S$114,SMALL(IF(('Base de données'!$B$2:$B$114<>"stock initial")*('Base de données'!$H$2:$H$114="laiton")*('Base de données'!$I$2:$I$114=$B$2)*('Base de données'!$J$2:$J$114=$B$3*1),ROW('Base de données'!$H$2:$H$114)-1),ROWS($1:14))),""))} -> 157.82123 | K20: 146 | L20: =IFERROR(M20/J20,"") -> 0.48629947 | M20: {=IF($D20=0,0,IFERROR(INDEX('Base de données'!X$2:X$114,SMALL(IF(('Base de données'!$B$2:$B$114<>"stock initial")*('Base de données'!$H$2:$H$114="laiton")*('Base de données'!$I$2:$I$114=$B$2)*('Base de données'!$J$2:$J$114=$B$3*1),ROW('Base de données'!$H$2:$H$114)-1),ROWS($1:14))),""))} -> 76.748382 | N20: =IFERROR(O20/J20,"") -> 0.025742574 | O20: {=IF($D20=0,0,IFERROR(INDEX('Base de données'!Z$2:Z$114,SMALL(IF(('Base de données'!$B$2:$B$114<>"stock initial")*('Base de données'!$H$2:$H$114="laiton")*('Base de données'!$I$2:$I$114=$B$2)*('Base de données'!$J$2:$J$114=$B$3*1),ROW('Base de données'!$H$2:$H$114)-1),ROWS($1:14))),""))} -> 4.0627248 | P20: =IFERROR((O20+M20)/J20,"") -> 0.51204205
A21: =IF(B21=0,E21,"") | B21: {=IFERROR(INDEX('Base de données'!A$2:A$114,SMALL(IF(('Base de données'!$B$2:$B$114<>"stock initial")*('Base de données'!$H$2:$H$114="laiton")*('Base de données'!$I$2:$I$114=$B$2)*('Base de données'!$J$2:$J$114=$B$3*1),ROW('Base de données'!$H$2:$H$114)-1),ROWS($1:15))),"")} -> 201800056 | D21: {=IFERROR(INDEX('Base de données'!C$2:C$114,SMALL(IF(('Base de données'!$B$2:$B$114<>"stock initial")*('Base de données'!$H$2:$H$114="laiton")*('Base de données'!$I$2:$I$114=$B$2)*('Base de données'!$J$2:$J$114=$B$3*1),ROW('Base de données'!$H$2:$H$114)-1),ROWS($1:15))),"")} -> 537031 | E21: {=IFERROR(INDEX('Base de données'!D$2:D$114,SMALL(IF(('Base de données'!$B$2:$B$114<>"stock initial")*('Base de données'!$H$2:$H$114="laiton")*('Base de données'!$I$2:$I$114=$B$2)*('Base de données'!$J$2:$J$114=$B$3*1),ROW('Base de données'!$H$2:$H$114)-1),ROWS($1:15))),"")} -> 43297 | F21: =IF(E21="","",$B$1) -> Laiton | G21: =IF($E21="","",$B$2) -> rond | H21: =IF($E21="","",$B$3) -> 22 | I21: {=IF(AND($D21=0,$E21<>""),IFERROR(INDEX('Base de données'!T$2:T$114,SMALL(IF(('Base de données'!$B$2:$B$114<>"stock initial")*('Base de données'!$H$2:$H$114="laiton")*('Base de données'!$I$2:$I$114=$B$2)*('Base de données'!$J$2:$J$114=$B$3*1),ROW('Base de données'!$H$2:$H$114)-1),ROWS($1:15))),""),IF($E21="","",I20))} -> 2548 | J21: {=IF(D21=0,0,IFERROR(INDEX('Base de données'!S$2:S$114,SMALL(IF(('Base de données'!$B$2:$B$114<>"stock initial")*('Base de données'!$H$2:$H$114="laiton")*('Base de données'!$I$2:$I$114=$B$2)*('Base de données'!$J$2:$J$114=$B$3*1),ROW('Base de données'!$H$2:$H$114)-1),ROWS($1:15))),""))} -> 244.62291 | K21: 146 | L21: =IFERROR(M21/J21,"") -> 0.48629947 | M21: {=IF($D21=0,0,IFERROR(INDEX('Base de données'!X$2:X$114,SMALL(IF(('Base de données'!$B$2:$B$114<>"stock initial")*('Base de données'!$H$2:$H$114="laiton")*('Base de données'!$I$2:$I$114=$B$2)*('Base de données'!$J$2:$J$114=$B$3*1),ROW('Base de données'!$H$2:$H$114)-1),ROWS($1:15))),""))} -> 118.95999 | N21: =IFERROR(O21/J21,"") -> 0.025742574 | O21: {=IF($D21=0,0,IFERROR(INDEX('Base de données'!Z$2:Z$114,SMALL(IF(('Base de données'!$B$2:$B$114<>"stock initial")*('Base de données'!$H$2:$H$114="laiton")*('Base de données'!$I$2:$I$114=$B$2)*('Base de données'!$J$2:$J$114=$B$3*1),ROW('Base de données'!$H$2:$H$114)-1),ROWS($1:15))),""))} -> 6.2972234 | P21: =IFERROR((O21+M21)/J21,"") -> 0.51204205
A22: =IF(B22=0,E22,"") | B22: {=IFERROR(INDEX('Base de données'!A$2:A$114,SMALL(IF(('Base de données'!$B$2:$B$114<>"stock initial")*('Base de données'!$H$2:$H$114="laiton")*('Base de données'!$I$2:$I$114=$B$2)*('Base de données'!$J$2:$J$114=$B$3*1),ROW('Base de données'!$H$2:$H$114)-1),ROWS($1:16))),"")} -> 201800081 | D22: {=IFERROR(INDEX('Base de données'!C$2:C$114,SMALL(IF(('Base de données'!$B$2:$B$114<>"stock initial")*('Base de données'!$H$2:$H$114="laiton")*('Base de données'!$I$2:$I$114=$B$2)*('Base de données'!$J$2:$J$114=$B$3*1),ROW('Base de données'!$H$2:$H$114)-1),ROWS($1:16))),"")} -> 539116 | E22: {=IFERROR(INDEX('Base de données'!D$2:D$114,SMALL(IF(('Base de données'!$B$2:$B$114<>"stock initial")*('Base de données'!$H$2:$H$114="laiton")*('Base de données'!$I$2:$I$114=$B$2)*('Base de données'!$J$2:$J$114=$B$3*1),ROW('Base de données'!$H$2:$H$114)-1),ROWS($1:16))),"")} -> 43412 | F22: =IF(E22="","",$B$1) -> Laiton | G22: =IF($E22="","",$B$2) -> rond | H22: =IF($E22="","",$B$3) -> 22 | I22: {=IF(AND($D22=0,$E22<>""),IFERROR(INDEX('Base de données'!T$2:T$114,SMALL(IF(('Base de données'!$B$2:$B$114<>"stock initial")*('Base de données'!$H$2:$H$114="laiton")*('Base de données'!$I$2:$I$114=$B$2)*('Base de données'!$J$2:$J$114=$B$3*1),ROW('Base de données'!$H$2:$H$114)-1),ROWS($1:16))),""),IF($E22="","",I21))} -> 2548 | J22: {=IF(D22=0,0,IFERROR(INDEX('Base de données'!S$2:S$114,SMALL(IF(('Base de données'!$B$2:$B$114<>"stock initial")*('Base de données'!$H$2:$H$114="laiton")*('Base de données'!$I$2:$I$114=$B$2)*('Base de données'!$J$2:$J$114=$B$3*1),ROW('Base de données'!$H$2:$H$114)-1),ROWS($1:16))),""))} -> 268.29609 | K22: 146 | L22: =IFERROR(M22/J22,"") -> 0.48629947 | M22: {=IF($D22=0,0,IFERROR(INDEX('Base de données'!X$2:X$114,SMALL(IF(('Base de données'!$B$2:$B$114<>"stock initial")*('Base de données'!$H$2:$H$114="laiton")*('Base de données'!$I$2:$I$114=$B$2)*('Base de données'!$J$2:$J$114=$B$3*1),ROW('Base de données'!$H$2:$H$114)-1),ROWS($1:16))),""))} -> 130.47225 | N22: =IFERROR(O22/J22,"") -> 0.025742574 | O22: {=IF($D22=0,0,IFERROR(INDEX('Base de données'!Z$2:Z$114,SMALL(IF(('Base de données'!$B$2:$B$114<>"stock initial")*('Base de données'!$H$2:$H$114="laiton")*('Base de données'!$I$2:$I$114=$B$2)*('Base de données'!$J$2:$J$114=$B$3*1),ROW('Base de données'!$H$2:$H$114)-1),ROWS($1:16))),""))} -> 6.9066321 | P22: =IFERROR((O22+M22)/J22,"") -> 0.51204205
A23: =IF(B23=0,E23,"") | B23: {=IFERROR(INDEX('Base de données'!A$2:A$114,SMALL(IF(('Base de données'!$B$2:$B$114<>"stock initial")*('Base de données'!$H$2:$H$114="laiton")*('Base de données'!$I$2:$I$114=$B$2)*('Base de données'!$J$2:$J$114=$B$3*1),ROW('Base de données'!$H$2:$H$114)-1),ROWS($1:17))),"")} -> 201800087 | D23: {=IFERROR(INDEX('Base de données'!C$2:C$114,SMALL(IF(('Base de données'!$B$2:$B$114<>"stock initial")*('Base de données'!$H$2:$H$114="laiton")*('Base de données'!$I$2:$I$114=$B$2)*('Base de données'!$J$2:$J$114=$B$3*1),ROW('Base de données'!$H$2:$H$114)-1),ROWS($1:17))),"")} -> 539596 | E23: {=IFERROR(INDEX('Base de données'!D$2:D$114,SMALL(IF(('Base de données'!$B$2:$B$114<>"stock initial")*('Base de données'!$H$2:$H$114="laiton")*('Base de données'!$I$2:$I$114=$B$2)*('Base de données'!$J$2:$J$114=$B$3*1),ROW('Base de données'!$H$2:$H$114)-1),ROWS($1:17))),"")} -> 43435 | F23: =IF(E23="","",$B$1) -> Laiton | G23: =IF($E23="","",$B$2) -> rond | H23: =IF($E23="","",$B$3) -> 22 | I23: {=IF(AND($D23=0,$E23<>""),IFERROR(INDEX('Base de données'!T$2:T$114,SMALL(IF(('Base de données'!$B$2:$B$114<>"stock initial")*('Base de données'!$H$2:$H$114="laiton")*('Base de données'!$I$2:$I$114=$B$2)*('Base de données'!$J$2:$J$114=$B$3*1),ROW('Base de données'!$H$2:$H$114)-1),ROWS($1:17))),""),IF($E23="","",I22))} -> 2548 | J23: {=IF(D23=0,0,IFERROR(INDEX('Base de données'!S$2:S$114,SMALL(IF(('Base de données'!$B$2:$B$114<>"stock initial")*('Base de données'!$H$2:$H$114="laiton")*('Base de données'!$I$2:$I$114=$B$2)*('Base de données'!$J$2:$J$114=$B$3*1),ROW('Base de données'!$H$2:$H$114)-1),ROWS($1:17))),""))} -> 228.84078 | K23: 146 | L23: =IFERROR(M23/J23,"") -> 0.48629947 | M23: {=IF($D23=0,0,IFERROR(INDEX('Base de données'!X$2:X$114,SMALL(IF(('Base de données'!$B$2:$B$114<>"stock initial")*('Base de données'!$H$2:$H$114="laiton")*('Base de données'!$I$2:$I$114=$B$2)*('Base de données'!$J$2:$J$114=$B$3*1),ROW('Base de données'!$H$2:$H$114)-1),ROWS($1:17))),""))} -> 111.28515 | N23: =IFERROR(O23/J23,"") -> 0.025742574 | O23: {=IF($D23=0,0,IFERROR(INDEX('Base de données'!Z$2:Z$114,SMALL(IF(('Base de données'!$B$2:$B$114<>"stock initial")*('Base de données'!$H$2:$H$114="laiton")*('Base de données'!$I$2:$I$114=$B$2)*('Base de données'!$J$2:$J$114=$B$3*1),ROW('Base de données'!$H$2:$H$114)-1),ROWS($1:17))),""))} -> 5.8909509 | P23: =IFERROR((O23+M23)/J23,"") -> 0.51204205
A24: =IF(B24=0,E24,"") | B24: {=IFERROR(INDEX('Base de données'!A$2:A$114,SMALL(IF(('Base de données'!$B$2:$B$114<>"stock initial")*('Base de données'!$H$2:$H$114="laiton")*('Base de données'!$I$2:$I$114=$B$2)*('Base de données'!$J$2:$J$114=$B$3*1),ROW('Base de données'!$H$2:$H$114)-1),ROWS($1:18))),"")} -> 201900001 | D24: {=IFERROR(INDEX('Base de données'!C$2:C$114,SMALL(IF(('Base de données'!$B$2:$B$114<>"stock initial")*('Base de données'!$H$2:$H$114="laiton")*('Base de données'!$I$2:$I$114=$B$2)*('Base de données'!$J$2:$J$114=$B$3*1),ROW('Base de données'!$H$2:$H$114)-1),ROWS($1:18))),"")} -> 540757 | E24: {=IFERROR(INDEX('Base de données'!D$2:D$114,SMALL(IF(('Base de données'!$B$2:$B$114<>"stock initial")*('Base de données'!$H$2:$H$114="laiton")*('Base de données'!$I$2:$I$114=$B$2)*('Base de données'!$J$2:$J$114=$B$3*1),ROW('Base de données'!$H$2:$H$114)-1),ROWS($1:18))),"")} -> 43491 | F24: =IF(E24="","",$B$1) -> Laiton | G24: =IF($E24="","",$B$2) -> rond | H24: =IF($E24="","",$B$3) -> 22 | I24: {=IF(AND($D24=0,$E24<>""),IFERROR(INDEX('Base de données'!T$2:T$114,SMALL(IF(('Base de données'!$B$2:$B$114<>"stock initial")*('Base de données'!$H$2:$H$114="laiton")*('Base de données'!$I$2:$I$114=$B$2)*('Base de données'!$J$2:$J$114=$B$3*1),ROW('Base de données'!$H$2:$H$114)-1),ROWS($1:18))),""),IF($E24="","",I23))} -> 2548 | J24: {=IF(D24=0,0,IFERROR(INDEX('Base de données'!S$2:S$114,SMALL(IF(('Base de données'!$B$2:$B$114<>"stock initial")*('Base de données'!$H$2:$H$114="laiton")*('Base de données'!$I$2:$I$114=$B$2)*('Base de données'!$J$2:$J$114=$B$3*1),ROW('Base de données'!$H$2:$H$114)-1),ROWS($1:18))),""))} -> 157.82123 | K24: 146 | L24: =IFERROR(M24/J24,"") -> 0.48629947 | M24: {=IF($D24=0,0,IFERROR(INDEX('Base de données'!X$2:X$114,SMALL(IF(('Base de données'!$B$2:$B$114<>"stock initial")*('Base de données'!$H$2:$H$114="laiton")*('Base de données'!$I$2:$I$114=$B$2)*('Base de données'!$J$2:$J$114=$B$3*1),ROW('Base de données'!$H$2:$H$114)-1),ROWS($1:18))),""))} -> 76.748382 | N24: =IFERROR(O24/J24,"") -> 0.025742574 | O24: {=IF($D24=0,0,IFERROR(INDEX('Base de données'!Z$2:Z$114,SMALL(IF(('Base de données'!$B$2:$B$114<>"stock initial")*('Base de données'!$H$2:$H$114="laiton")*('Base de données'!$I$2:$I$114=$B$2)*('Base de données'!$J$2:$J$114=$B$3*1),ROW('Base de données'!$H$2:$H$114)-1),ROWS($1:18))),""))} -> 4.0627248 | P24: =IFERROR((O24+M24)/J24,"") -> 0.51204205
A25: =IF(B25=0,E25,"") | B25: {=IFERROR(INDEX('Base de données'!A$2:A$114,SMALL(IF(('Base de données'!$B$2:$B$114<>"stock initial")*('Base de données'!$H$2:$H$114="laiton")*('Base de données'!$I$2:$I$114=$B$2)*('Base de données'!$J$2:$J$114=$B$3*1),ROW('Base de données'!$H$2:$H$114)-1),ROWS($1:19))),"")} -> 201900011 | D25: {=IFERROR(INDEX('Base de données'!C$2:C$114,SMALL(IF(('Base de données'!$B$2:$B$114<>"stock initial")*('Base de données'!$H$2:$H$114="laiton")*('Base de données'!$I$2:$I$114=$B$2)*('Base de données'!$J$2:$J$114=$B$3*1),ROW('Base de données'!$H$2:$H$114)-1),ROWS($1:19))),"")} -> 541530 | E25: {=IFERROR(INDEX('Base de données'!D$2:D$114,SMALL(IF(('Base de données'!$B$2:$B$114<>"stock initial")*('Base de données'!$H$2:$H$114="laiton")*('Base de données'!$I$2:$I$114=$B$2)*('Base de données'!$J$2:$J$114=$B$3*1),ROW('Base de données'!$H$2:$H$114)-1),ROWS($1:19))),"")} -> 43524 | F25: =IF(E25="","",$B$1) -> Laiton | G25: =IF($E25="","",$B$2) -> rond | H25: =IF($E25="","",$B$3) -> 22 | I25: {=IF(AND($D25=0,$E25<>""),IFERROR(INDEX('Base de données'!T$2:T$114,SMALL(IF(('Base de données'!$B$2:$B$114<>"stock initial")*('Base de données'!$H$2:$H$114="laiton")*('Base de données'!$I$2:$I$114=$B$2)*('Base de données'!$J$2:$J$114=$B$3*1),ROW('Base de données'!$H$2:$H$114)-1),ROWS($1:19))),""),IF($E25="","",I24))} -> 2548 | J25: {=IF(D25=0,0,IFERROR(INDEX('Base de données'!S$2:S$114,SMALL(IF(('Base de données'!$B$2:$B$114<>"stock initial")*('Base de données'!$H$2:$H$114="laiton")*('Base de données'!$I$2:$I$114=$B$2)*('Base de données'!$J$2:$J$114=$B$3*1),ROW('Base de données'!$H$2:$H$114)-1),ROWS($1:19))),""))} -> 441.89945 | K25: 146 | L25: =IFERROR(M25/J25,"") -> 0.48629947 | M25: {=IF($D25=0,0,IFERROR(INDEX('Base de données'!X$2:X$114,SMALL(IF(('Base de données'!$B$2:$B$114<>"stock initial")*('Base de données'!$H$2:$H$114="laiton")*('Base de données'!$I$2:$I$114=$B$2)*('Base de données'!$J$2:$J$114=$B$3*1),ROW('Base de données'!$H$2:$H$114)-1),ROWS($1:19))),""))} -> 214.89547 | N25: =IFERROR(O25/J25,"") -> 0.025742574 | O25: {=IF($D25=0,0,IFERROR(INDEX('Base de données'!Z$2:Z$114,SMALL(IF(('Base de données'!$B$2:$B$114<>"stock initial")*('Base de données'!$H$2:$H$114="laiton")*('Base de données'!$I$2:$I$114=$B$2)*('Base de données'!$J$2:$J$114=$B$3*1),ROW('Base de données'!$H$2:$H$114)-1),ROWS($1:19))),""))} -> 11.375629 | P25: =IFERROR((O25+M25)/J25,"") -> 0.51204205
A26: =IF(B26=0,E26,"") | B26: {=IFERROR(INDEX('Base de données'!A$2:A$114,SMALL(IF(('Base de données'!$B$2:$B$114<>"stock initial")*('Base de données'!$H$2:$H$114="laiton")*('Base de données'!$I$2:$I$114=$B$2)*('Base de données'!$J$2:$J$114=$B$3*1),ROW('Base de données'!$H$2:$H$114)-1),ROWS($1:20))),"")} -> 201900023 | D26: {=IFERROR(INDEX('Base de données'!C$2:C$114,SMALL(IF(('Base de données'!$B$2:$B$114<>"stock initial")*('Base de données'!$H$2:$H$114="laiton")*('Base de données'!$I$2:$I$114=$B$2)*('Base de données'!$J$2:$J$114=$B$3*1),ROW('Base de données'!$H$2:$H$114)-1),ROWS($1:20))),"")} -> 542331 | E26: {=IFERROR(INDEX('Base de données'!D$2:D$114,SMALL(IF(('Base de données'!$B$2:$B$114<>"stock initial")*('Base de données'!$H$2:$H$114="laiton")*('Base de données'!$I$2:$I$114=$B$2)*('Base de données'!$J$2:$J$114=$B$3*1),ROW('Base de données'!$H$2:$H$114)-1),ROWS($1:20))),"")} -> 43554 | F26: =IF(E26="","",$B$1) -> Laiton | G26: =IF($E26="","",$B$2) -> rond | H26: =IF($E26="","",$B$3) -> 22 | I26: {=IF(AND($D26=0,$E26<>""),IFERROR(INDEX('Base de données'!T$2:T$114,SMALL(IF(('Base de données'!$B$2:$B$114<>"stock initial")*('Base de données'!$H$2:$H$114="laiton")*('Base de données'!$I$2:$I$114=$B$2)*('Base de données'!$J$2:$J$114=$B$3*1),ROW('Base de données'!$H$2:$H$114)-1),ROWS($1:20))),""),IF($E26="","",I25))} -> 2548 | J26: {=IF(D26=0,0,IFERROR(INDEX('Base de données'!S$2:S$114,SMALL(IF(('Base de données'!$B$2:$B$114<>"stock initial")*('Base de données'!$H$2:$H$114="laiton")*('Base de données'!$I$2:$I$114=$B$2)*('Base de données'!$J$2:$J$114=$B$3*1),ROW('Base de données'!$H$2:$H$114)-1),ROWS($1:20))),""))} -> 157.82123 | K26: 146 | L26: =IFERROR(M26/J26,"") -> 0.48629947 | M26: {=IF($D26=0,0,IFERROR(INDEX('Base de données'!X$2:X$114,SMALL(IF(('Base de données'!$B$2:$B$114<>"stock initial")*('Base de données'!$H$2:$H$114="laiton")*('Base de données'!$I$2:$I$114=$B$2)*('Base de données'!$J$2:$J$114=$B$3*1),ROW('Base de données'!$H$2:$H$114)-1),ROWS($1:20))),""))} -> 76.748382 | N26: =IFERROR(O26/J26,"") -> 0.025742574 | O26: {=IF($D26=0,0,IFERROR(INDEX('Base de données'!Z$2:Z$114,SMALL(IF(('Base de données'!$B$2:$B$114<>"stock initial")*('Base de données'!$H$2:$H$114="laiton")*('Base de données'!$I$2:$I$114=$B$2)*('Base de données'!$J$2:$J$114=$B$3*1),ROW('Base de données'!$H$2:$H$114)-1),ROWS($1:20))),""))} -> 4.0627248 | P26: =IFERROR((O26+M26)/J26,"") -> 0.51204205
A27: =IF(B27=0,E27,"") | B27: {=IFERROR(INDEX('Base de données'!A$2:A$114,SMALL(IF(('Base de données'!$B$2:$B$114<>"stock initial")*('Base de données'!$H$2:$H$114="laiton")*('Base de données'!$I$2:$I$114=$B$2)*('Base de données'!$J$2:$J$114=$B$3*1),ROW('Base de données'!$H$2:$H$114)-1),ROWS($1:21))),"")} -> 201900034 | D27: {=IFERROR(INDEX('Base de données'!C$2:C$114,SMALL(IF(('Base de données'!$B$2:$B$114<>"stock initial")*('Base de données'!$H$2:$H$114="laiton")*('Base de données'!$I$2:$I$114=$B$2)*('Base de données'!$J$2:$J$114=$B$3*1),ROW('Base de données'!$H$2:$H$114)-1),ROWS($1:21))),"")} -> 543037 | E27: {=IFERROR(INDEX('Base de données'!D$2:D$114,SMALL(IF(('Base de données'!$B$2:$B$114<>"stock initial")*('Base de données'!$H$2:$H$114="laiton")*('Base de données'!$I$2:$I$114=$B$2)*('Base de données'!$J$2:$J$114=$B$3*1),ROW('Base de données'!$H$2:$H$114)-1),ROWS($1:21))),"")} -> 43581 | F27: =IF(E27="","",$B$1) -> Laiton | G27: =IF($E27="","",$B$2) -> rond | H27: =IF($E27="","",$B$3) -> 22 | I27: {=IF(AND($D27=0,$E27<>""),IFERROR(INDEX('Base de données'!T$2:T$114,SMALL(IF(('Base de données'!$B$2:$B$114<>"stock initial")*('Base de données'!$H$2:$H$114="laiton")*('Base de données'!$I$2:$I$114=$B$2)*('Base de données'!$J$2:$J$114=$B$3*1),ROW('Base de données'!$H$2:$H$114)-1),ROWS($1:21))),""),IF($E27="","",I26))} -> 2548 | J27: {=IF(D27=0,0,IFERROR(INDEX('Base de données'!S$2:S$114,SMALL(IF(('Base de données'!$B$2:$B$114<>"stock initial")*('Base de données'!$H$2:$H$114="laiton")*('Base de données'!$I$2:$I$114=$B$2)*('Base de données'!$J$2:$J$114=$B$3*1),ROW('Base de données'!$H$2:$H$114)-1),ROWS($1:21))),""))} -> 236.73185 | L27: =IFERROR(M27/J27,"") -> 0.48629947 | M27: {=IF($D27=0,0,IFERROR(INDEX('Base de données'!X$2:X$114,SMALL(IF(('Base de données'!$B$2:$B$114<>"stock initial")*('Base de données'!$H$2:$H$114="laiton")*('Base de données'!$I$2:$I$114=$B$2)*('Base de données'!$J$2:$J$114=$B$3*1),ROW('Base de données'!$H$2:$H$114)-1),ROWS($1:21))),""))} -> 115.12257 | N27: =IFERROR(O27/J27,"") -> 0.025742574 | O27: {=IF($D27=0,0,IFERROR(INDEX('Base de données'!Z$2:Z$114,SMALL(IF(('Base de données'!$B$2:$B$114<>"stock initial")*('Base de données'!$H$2:$H$114="laiton")*('Base de données'!$I$2:$I$114=$B$2)*('Base de données'!$J$2:$J$114=$B$3*1),ROW('Base de données'!$H$2:$H$114)-1),ROWS($1:21))),""))} -> 6.0940871 | P27: =IFERROR((O27+M27)/J27,"") -> 0.51204205
A28: =IF(B28=0,E28,"") -> 43696 | B28: {=IFERROR(INDEX('Base de données'!A$2:A$114,SMALL(IF(('Base de données'!$B$2:$B$114<>"stock initial")*('Base de données'!$H$2:$H$114="laiton")*('Base de données'!$I$2:$I$114=$B$2)*('Base de données'!$J$2:$J$114=$B$3*1),ROW('Base de données'!$H$2:$H$114)-1),ROWS($1:22))),"")} -> 0 | D28: {=IFERROR(INDEX('Base de données'!C$2:C$114,SMALL(IF(('Base de données'!$B$2:$B$114<>"stock initial")*('Base de données'!$H$2:$H$114="laiton")*('Base de données'!$I$2:$I$114=$B$2)*('Base de données'!$J$2:$J$114=$B$3*1),ROW('Base de données'!$H$2:$H$114)-1),ROWS($1:22))),"")} -> 0 | E28: {=IFERROR(INDEX('Base de données'!D$2:D$114,SMALL(IF(('Base de données'!$B$2:$B$114<>"stock initial")*('Base de données'!$H$2:$H$114="laiton")*('Base de données'!$I$2:$I$114=$B$2)*('Base de données'!$J$2:$J$114=$B$3*1),ROW('Base de données'!$H$2:$H$114)-1),ROWS($1:22))),"")} -> 43696 | F28: =IF(E28="","",$B$1) -> Laiton | G28: =IF($E28="","",$B$2) -> rond | H28: =IF($E28="","",$B$3) -> 22 | I28: {=IF(AND($D28=0,$E28<>""),IFERROR(INDEX('Base de données'!T$2:T$114,SMALL(IF(('Base de données'!$B$2:$B$114<>"stock initial")*('Base de données'!$H$2:$H$114="laiton")*('Base de données'!$I$2:$I$114=$B$2)*('Base de données'!$J$2:$J$114=$B$3*1),ROW('Base de données'!$H$2:$H$114)-1),ROWS($1:22))),""),IF($E28="","",I27))} -> 3060 | J28: {=IF(D28=0,0,IFERROR(INDEX('Base de données'!S$2:S$114,SMALL(IF(('Base de données'!$B$2:$B$114<>"stock initial")*('Base de données'!$H$2:$H$114="laiton")*('Base de données'!$I$2:$I$114=$B$2)*('Base de données'!$J$2:$J$114=$B$3*1),ROW('Base de données'!$H$2:$H$114)-1),ROWS($1:22))),""))} -> 0 | L28: =IFERROR(M28/J28,"") | M28: {=IF($D28=0,0,IFERROR(INDEX('Base de données'!X$2:X$114,SMALL(IF(('Base de données'!$B$2:$B$114<>"stock initial")*('Base de données'!$H$2:$H$114="laiton")*('Base de données'!$I$2:$I$114=$B$2)*('Base de données'!$J$2:$J$114=$B$3*1),ROW('Base de données'!$H$2:$H$114)-1),ROWS($1:22))),""))} -> 0 | N28: =IFERROR(O28/J28,"") | O28: {=IF($D28=0,0,IFERROR(INDEX('Base de données'!Z$2:Z$114,SMALL(IF(('Base de données'!$B$2:$B$114<>"stock initial")*('Base de données'!$H$2:$H$114="laiton")*('Base de données'!$I$2:$I$114=$B$2)*('Base de données'!$J$2:$J$114=$B$3*1),ROW('Base de données'!$H$2:$H$114)-1),ROWS($1:22))),""))} -> 0 | P28: =IFERROR((O28+M28)/J28,"")
A29: =IF(B29=0,E29,"") | B29: {=IFERROR(INDEX('Base de données'!A$2:A$114,SMALL(IF(('Base de données'!$B$2:$B$114<>"stock initial")*('Base de données'!$H$2:$H$114="laiton")*('Base de données'!$I$2:$I$114=$B$2)*('Base de données'!$J$2:$J$114=$B$3*1),ROW('Base de données'!$H$2:$H$114)-1),ROWS($1:23))),"")} -> 201900078 | D29: {=IFERROR(INDEX('Base de données'!C$2:C$114,SMALL(IF(('Base de données'!$B$2:$B$114<>"stock initial")*('Base de données'!$H$2:$H$114="laiton")*('Base de données'!$I$2:$I$114=$B$2)*('Base de données'!$J$2:$J$114=$B$3*1),ROW('Base de données'!$H$2:$H$114)-1),ROWS($1:23))),"")} -> 546151 | E29: {=IFERROR(INDEX('Base de données'!D$2:D$114,SMALL(IF(('Base de données'!$B$2:$B$114<>"stock initial")*('Base de données'!$H$2:$H$114="laiton")*('Base de données'!$I$2:$I$114=$B$2)*('Base de données'!$J$2:$J$114=$B$3*1),ROW('Base de données'!$H$2:$H$114)-1),ROWS($1:23))),"")} -> 43734 | F29: =IF(E29="","",$B$1) -> Laiton | G29: =IF($E29="","",$B$2) -> rond | H29: =IF($E29="","",$B$3) -> 22 | I29: {=IF(AND($D29=0,$E29<>""),IFERROR(INDEX('Base de données'!T$2:T$114,SMALL(IF(('Base de données'!$B$2:$B$114<>"stock initial")*('Base de données'!$H$2:$H$114="laiton")*('Base de données'!$I$2:$I$114=$B$2)*('Base de données'!$J$2:$J$114=$B$3*1),ROW('Base de données'!$H$2:$H$114)-1),ROWS($1:23))),""),IF($E29="","",I28))} -> 3060 | J29: {=IF(D29=0,0,IFERROR(INDEX('Base de données'!S$2:S$114,SMALL(IF(('Base de données'!$B$2:$B$114<>"stock initial")*('Base de données'!$H$2:$H$114="laiton")*('Base de données'!$I$2:$I$114=$B$2)*('Base de données'!$J$2:$J$114=$B$3*1),ROW('Base de données'!$H$2:$H$114)-1),ROWS($1:23))),""))} -> 78.910615 | L29: =IFERROR(M29/J29,"") -> 0.48629947 | M29: {=IF($D29=0,0,IFERROR(INDEX('Base de données'!X$2:X$114,SMALL(IF(('Base de données'!$B$2:$B$114<>"stock initial")*('Base de données'!$H$2:$H$114="laiton")*('Base de données'!$I$2:$I$114=$B$2)*('Base de données'!$J$2:$J$114=$B$3*1),ROW('Base de données'!$H$2:$H$114)-1),ROWS($1:23))),""))} -> 38.374191 | N29: =IFERROR(O29/J29,"") -> 0.025742574 | O29: {=IF($D29=0,0,IFERROR(INDEX('Base de données'!Z$2:Z$114,SMALL(IF(('Base de données'!$B$2:$B$114<>"stock initial")*('Base de données'!$H$2:$H$114="laiton")*('Base de données'!$I$2:$I$114=$B$2)*('Base de données'!$J$2:$J$114=$B$3*1),ROW('Base de données'!$H$2:$H$114)-1),ROWS($1:23))),""))} -> 2.0313624 | P29: =IFERROR((O29+M29)/J29,"") -> 0.51204205
A30: =IF(B30=0,E30,"") | B30: {=IFERROR(INDEX('Base de données'!A$2:A$114,SMALL(IF(('Base de données'!$B$2:$B$114<>"stock initial")*('Base de données'!$H$2:$H$114="laiton")*('Base de données'!$I$2:$I$114=$B$2)*('Base de données'!$J$2:$J$114=$B$3*1),ROW('Base de données'!$H$2:$H$114)-1),ROWS($1:24))),"")} | D30: {=IFERROR(INDEX('Base de données'!C$2:C$114,SMALL(IF(('Base de données'!$B$2:$B$114<>"stock initial")*('Base de données'!$H$2:$H$114="laiton")*('Base de données'!$I$2:$I$114=$B$2)*('Base de données'!$J$2:$J$114=$B$3*1),ROW('Base de données'!$H$2:$H$114)-1),ROWS($1:24))),"")} | E30: {=IFERROR(INDEX('Base de données'!D$2:D$114,SMALL(IF(('Base de données'!$B$2:$B$114<>"stock initial")*('Base de données'!$H$2:$H$114="laiton")*('Base de données'!$I$2:$I$114=$B$2)*('Base de données'!$J$2:$J$114=$B$3*1),ROW('Base de données'!$H$2:$H$114)-1),ROWS($1:24))),"")} | F30: =IF(E30="","",$B$1) | G30: =IF($E30="","",$B$2) | H30: =IF($E30="","",$B$3) | I30: {=IF(AND($D30=0,$E30<>""),IFERROR(INDEX('Base de données'!T$2:T$114,SMALL(IF(('Base de données'!$B$2:$B$114<>"stock initial")*('Base de données'!$H$2:$H$114="laiton")*('Base de données'!$I$2:$I$114=$B$2)*('Base de données'!$J$2:$J$114=$B$3*1),ROW('Base de données'!$H$2:$H$114)-1),ROWS($1:24))),""),IF($E30="","",I29))} | J30: {=IF(D30=0,0,IFERROR(INDEX('Base de données'!S$2:S$114,SMALL(IF(('Base de données'!$B$2:$B$114<>"stock initial")*('Base de données'!$H$2:$H$114="laiton")*('Base de données'!$I$2:$I$114=$B$2)*('Base de données'!$J$2:$J$114=$B$3*1),ROW('Base de données'!$H$2:$H$114)-1),ROWS($1:24))),""))} | L30: =IFERROR(M30/J30,"") | M30: {=IF($D30=0,0,IFERROR(INDEX('Base de données'!X$2:X$114,SMALL(IF(('Base de données'!$B$2:$B$114<>"stock initial")*('Base de données'!$H$2:$H$114="laiton")*('Base de données'!$I$2:$I$114=$B$2)*('Base de données'!$J$2:$J$114=$B$3*1),ROW('Base de données'!$H$2:$H$114)-1),ROWS($1:24))),""))} | N30: =IFERROR(O30/J30,"") | O30: {=IF($D30=0,0,IFERROR(INDEX('Base de données'!Z$2:Z$114,SMALL(IF(('Base de données'!$B$2:$B$114<>"stock initial")*('Base de données'!$H$2:$H$114="laiton")*('Base de données'!$I$2:$I$114=$B$2)*('Base de données'!$J$2:$J$114=$B$3*1),ROW('Base de données'!$H$2:$H$114)-1),ROWS($1:24))),""))} | P30: =IFERROR((O30+M30)/J30,"")
A31: =IF(B31=0,E31,"") | B31: {=IFERROR(INDEX('Base de données'!A$2:A$114,SMALL(IF(('Base de données'!$B$2:$B$114<>"stock initial")*('Base de données'!$H$2:$H$114="laiton")*('Base de données'!$I$2:$I$114=$B$2)*('Base de données'!$J$2:$J$114=$B$3*1),ROW('Base de données'!$H$2:$H$114)-1),ROWS($1:25))),"")} | D31: {=IFERROR(INDEX('Base de données'!C$2:C$114,SMALL(IF(('Base de données'!$B$2:$B$114<>"stock initial")*('Base de données'!$H$2:$H$114="laiton")*('Base de données'!$I$2:$I$114=$B$2)*('Base de données'!$J$2:$J$114=$B$3*1),ROW('Base de données'!$H$2:$H$114)-1),ROWS($1:25))),"")} | E31: {=IFERROR(INDEX('Base de données'!D$2:D$114,SMALL(IF(('Base de données'!$B$2:$B$114<>"stock initial")*('Base de données'!$H$2:$H$114="laiton")*('Base de données'!$I$2:$I$114=$B$2)*('Base de données'!$J$2:$J$114=$B$3*1),ROW('Base de données'!$H$2:$H$114)-1),ROWS($1:25))),"")} | F31: =IF(E31="","",$B$1) | G31: =IF($E31="","",$B$2) | H31: =IF($E31="","",$B$3) | I31: {=IF(AND($D31=0,$E31<>""),IFERROR(INDEX('Base de données'!T$2:T$114,SMALL(IF(('Base de données'!$B$2:$B$114<>"stock initial")*('Base de données'!$H$2:$H$114="laiton")*('Base de données'!$I$2:$I$114=$B$2)*('Base de données'!$J$2:$J$114=$B$3*1),ROW('Base de données'!$H$2:$H$114)-1),ROWS($1:25))),""),IF($E31=0,"",I30))} | J31: {=IF(D31=0,0,IFERROR(INDEX('Base de données'!S$2:S$114,SMALL(IF(('Base de données'!$B$2:$B$114<>"stock initial")*('Base de données'!$H$2:$H$114="laiton")*('Base de données'!$I$2:$I$114=$B$2)*('Base de données'!$J$2:$J$114=$B$3*1),ROW('Base de données'!$H$2:$H$114)-1),ROWS($1:25))),""))} | L31: =IFERROR(M31/J31,"") | M31: {=IF($D31=0,0,IFERROR(INDEX('Base de données'!X$2:X$114,SMALL(IF(('Base de données'!$B$2:$B$114<>"stock initial")*('Base de données'!$H$2:$H$114="laiton")*('Base de données'!$I$2:$I$114=$B$2)*('Base de données'!$J$2:$J$114=$B$3*1),ROW('Base de données'!$H$2:$H$114)-1),ROWS($1:25))),""))} | N31: =IFERROR(O31/J31,"") | O31: {=IF($D31=0,0,IFERROR(INDEX('Base de données'!Z$2:Z$114,SMALL(IF(('Base de données'!$B$2:$B$114<>"stock initial")*('Base de données'!$H$2:$H$114="laiton")*('Base de données'!$I$2:$I$114=$B$2)*('Base de données'!$J$2:$J$114=$B$3*1),ROW('Base de données'!$H$2:$H$114)-1),ROWS($1:25))),""))} | P31: =IFERROR((O31+M31)/J31,"")
A32: =IF(B32=0,E32,"") | B32: {=IFERROR(INDEX('Base de données'!A$2:A$114,SMALL(IF(('Base de données'!$B$2:$B$114<>"stock initial")*('Base de données'!$H$2:$H$114="laiton")*('Base de données'!$I$2:$I$114=$B$2)*('Base de données'!$J$2:$J$114=$B$3*1),ROW('Base de données'!$H$2:$H$114)-1),ROWS($1:26))),"")} | D32: {=IFERROR(INDEX('Base de données'!C$2:C$114,SMALL(IF(('Base de données'!$B$2:$B$114<>"stock initial")*('Base de données'!$H$2:$H$114="laiton")*('Base de données'!$I$2:$I$114=$B$2)*('Base de données'!$J$2:$J$114=$B$3*1),ROW('Base de données'!$H$2:$H$114)-1),ROWS($1:26))),"")} | E32: {=IFERROR(INDEX('Base de données'!D$2:D$114,SMALL(IF(('Base de données'!$B$2:$B$114<>"stock initial")*('Base de données'!$H$2:$H$114="laiton")*('Base de données'!$I$2:$I$114=$B$2)*('Base de données'!$J$2:$J$114=$B$3*1),ROW('Base de données'!$H$2:$H$114)-1),ROWS($1:26))),"")} | F32: =IF(E32="","",$B$1) | G32: =IF($E32="","",$B$2) | H32: =IF($E32="","",$B$3) | I32: {=IF(AND($D32=0,$E32<>""),IFERROR(INDEX('Base de données'!T$2:T$114,SMALL(IF(('Base de données'!$B$2:$B$114<>"stock initial")*('Base de données'!$H$2:$H$114="laiton")*('Base de données'!$I$2:$I$114=$B$2)*('Base de données'!$J$2:$J$114=$B$3*1),ROW('Base de données'!$H$2:$H$114)-1),ROWS($1:26))),""),IF($E32=0,"",I31))} | J32: {=IF(D32=0,0,IFERROR(INDEX('Base de données'!S$2:S$114,SMALL(IF(('Base de données'!$B$2:$B$114<>"stock initial")*('Base de données'!$H$2:$H$114="laiton")*('Base de données'!$I$2:$I$114=$B$2)*('Base de données'!$J$2:$J$114=$B$3*1),ROW('Base de données'!$H$2:$H$114)-1),ROWS($1:26))),""))} | L32: =IFERROR(M32/J32,"") | M32: {=IF($D32=0,0,IFERROR(INDEX('Base de données'!X$2:X$114,SMALL(IF(('Base de données'!$B$2:$B$114<>"stock initial")*('Base de données'!$H$2:$H$114="laiton")*('Base de données'!$I$2:$I$114=$B$2)*('Base de données'!$J$2:$J$114=$B$3*1),ROW('Base de données'!$H$2:$H$114)-1),ROWS($1:26))),""))} | N32: =IFERROR(O32/J32,"") | O32: {=IF($D32=0,0,IFERROR(INDEX('Base de données'!Z$2:Z$114,SMALL(IF(('Base de données'!$B$2:$B$114<>"stock initial")*('Base de données'!$H$2:$H$114="laiton")*('Base de données'!$I$2:$I$114=$B$2)*('Base de données'!$J$2:$J$114=$B$3*1),ROW('Base de données'!$H$2:$H$114)-1),ROWS($1:26))),""))} | P32: =IFERROR((O32+M32)/J32,"")
A33: =IF(B33=0,E33,"") | B33: {=IFERROR(INDEX('Base de données'!A$2:A$114,SMALL(IF(('Base de données'!$B$2:$B$114<>"stock initial")*('Base de données'!$H$2:$H$114="laiton")*('Base de données'!$I$2:$I$114=$B$2)*('Base de données'!$J$2:$J$114=$B$3*1),ROW('Base de données'!$H$2:$H$114)-1),ROWS($1:27))),"")} | D33: {=IFERROR(INDEX('Base de données'!C$2:C$114,SMALL(IF(('Base de données'!$B$2:$B$114<>"stock initial")*('Base de données'!$H$2:$H$114="laiton")*('Base de données'!$I$2:$I$114=$B$2)*('Base de données'!$J$2:$J$114=$B$3*1),ROW('Base de données'!$H$2:$H$114)-1),ROWS($1:27))),"")} | E33: {=IFERROR(INDEX('Base de données'!D$2:D$114,SMALL(IF(('Base de données'!$B$2:$B$114<>"stock initial")*('Base de données'!$H$2:$H$114="laiton")*('Base de données'!$I$2:$I$114=$B$2)*('Base de données'!$J$2:$J$114=$B$3*1),ROW('Base de données'!$H$2:$H$114)-1),ROWS($1:27))),"")} | F33: =IF(E33="","",$B$1) | G33: =IF($E33="","",$B$2) | H33: =IF($E33="","",$B$3) | I33: {=IF(AND($D33=0,$E33<>""),IFERROR(INDEX('Base de données'!T$2:T$114,SMALL(IF(('Base de données'!$B$2:$B$114<>"stock initial")*('Base de données'!$H$2:$H$114="laiton")*('Base de données'!$I$2:$I$114=$B$2)*('Base de données'!$J$2:$J$114=$B$3*1),ROW('Base de données'!$H$2:$H$114)-1),ROWS($1:27))),""),IF($E33=0,"",I32))} | J33: {=IF(D33=0,0,IFERROR(INDEX('Base de données'!S$2:S$114,SMALL(IF(('Base de données'!$B$2:$B$114<>"stock initial")*('Base de données'!$H$2:$H$114="laiton")*('Base de données'!$I$2:$I$114=$B$2)*('Base de données'!$J$2:$J$114=$B$3*1),ROW('Base de données'!$H$2:$H$114)-1),ROWS($1:27))),""))} | L33: =IFERROR(M33/J33,"") | M33: {=IF($D33=0,0,IFERROR(INDEX('Base de données'!X$2:X$114,SMALL(IF(('Base de données'!$B$2:$B$114<>"stock initial")*('Base de données'!$H$2:$H$114="laiton")*('Base de données'!$I$2:$I$114=$B$2)*('Base de données'!$J$2:$J$114=$B$3*1),ROW('Base de données'!$H$2:$H$114)-1),ROWS($1:27))),""))} | N33: =IFERROR(O33/J33,"") | O33: {=IF($D33=0,0,IFERROR(INDEX('Base de données'!Z$2:Z$114,SMALL(IF(('Base de données'!$B$2:$B$114<>"stock initial")*('Base de données'!$H$2:$H$114="laiton")*('Base de données'!$I$2:$I$114=$B$2)*('Base de données'!$J$2:$J$114=$B$3*1),ROW('Base de données'!$H$2:$H$114)-1),ROWS($1:27))),""))} | P33: =IFERROR((O33+M33)/J33,"")
A34: =IF(B34=0,E34,"") | B34: {=IFERROR(INDEX('Base de données'!A$2:A$114,SMALL(IF(('Base de données'!$B$2:$B$114<>"stock initial")*('Base de données'!$H$2:$H$114="laiton")*('Base de données'!$I$2:$I$114=$B$2)*('Base de données'!$J$2:$J$114=$B$3*1),ROW('Base de données'!$H$2:$H$114)-1),ROWS($1:28))),"")} | D34: {=IFERROR(INDEX('Base de données'!C$2:C$114,SMALL(IF(('Base de données'!$B$2:$B$114<>"stock initial")*('Base de données'!$H$2:$H$114="laiton")*('Base de données'!$I$2:$I$114=$B$2)*('Base de données'!$J$2:$J$114=$B$3*1),ROW('Base de données'!$H$2:$H$114)-1),ROWS($1:28))),"")} | E34: {=IFERROR(INDEX('Base de données'!D$2:D$114,SMALL(IF(('Base de données'!$B$2:$B$114<>"stock initial")*('Base de données'!$H$2:$H$114="laiton")*('Base de données'!$I$2:$I$114=$B$2)*('Base de données'!$J$2:$J$114=$B$3*1),ROW('Base de données'!$H$2:$H$114)-1),ROWS($1:28))),"")} | F34: =IF(E34="","",$B$1) | G34: =IF($E34="","",$B$2) | H34: =IF($E34="","",$B$3) | I34: {=IF(AND($D34=0,$E34<>""),IFERROR(INDEX('Base de données'!T$2:T$114,SMALL(IF(('Base de données'!$B$2:$B$114<>"stock initial")*('Base de données'!$H$2:$H$114="laiton")*('Base de données'!$I$2:$I$114=$B$2)*('Base de données'!$J$2:$J$114=$B$3*1),ROW('Base de données'!$H$2:$H$114)-1),ROWS($1:28))),""),IF($E34=0,"",I33))} | J34: {=IF(D34=0,0,IFERROR(INDEX('Base de données'!S$2:S$114,SMALL(IF(('Base de données'!$B$2:$B$114<>"stock initial")*('Base de données'!$H$2:$H$114="laiton")*('Base de données'!$I$2:$I$114=$B$2)*('Base de données'!$J$2:$J$114=$B$3*1),ROW('Base de données'!$H$2:$H$114)-1),ROWS($1:28))),""))} | L34: =IFERROR(M34/J34,"") | M34: {=IF($D34=0,0,IFERROR(INDEX('Base de données'!X$2:X$114,SMALL(IF(('Base de données'!$B$2:$B$114<>"stock initial")*('Base de données'!$H$2:$H$114="laiton")*('Base de données'!$I$2:$I$114=$B$2)*('Base de données'!$J$2:$J$114=$B$3*1),ROW('Base de données'!$H$2:$H$114)-1),ROWS($1:28))),""))} | N34: =IFERROR(O34/J34,"") | O34: {=IF($D34=0,0,IFERROR(INDEX('Base de données'!Z$2:Z$114,SMALL(IF(('Base de données'!$B$2:$B$114<>"stock initial")*('Base de données'!$H$2:$H$114="laiton")*('Base de données'!$I$2:$I$114=$B$2)*('Base de données'!$J$2:$J$114=$B$3*1),ROW('Base de données'!$H$2:$H$114)-1),ROWS($1:28))),""))} | P34: =IFERROR((O34+M34)/J34,"")
A35: =IF(B35=0,E35,"") | B35: {=IFERROR(INDEX('Base de données'!A$2:A$114,SMALL(IF(('Base de données'!$B$2:$B$114<>"stock initial")*('Base de données'!$H$2:$H$114="laiton")*('Base de données'!$I$2:$I$114=$B$2)*('Base de données'!$J$2:$J$114=$B$3*1),ROW('Base de données'!$H$2:$H$114)-1),ROWS($1:29))),"")} | D35: {=IFERROR(INDEX('Base de données'!C$2:C$114,SMALL(IF(('Base de données'!$B$2:$B$114<>"stock initial")*('Base de données'!$H$2:$H$114="laiton")*('Base de données'!$I$2:$I$114=$B$2)*('Base de données'!$J$2:$J$114=$B$3*1),ROW('Base de données'!$H$2:$H$114)-1),ROWS($1:29))),"")} | E35: {=IFERROR(INDEX('Base de données'!D$2:D$114,SMALL(IF(('Base de données'!$B$2:$B$114<>"stock initial")*('Base de données'!$H$2:$H$114="laiton")*('Base de données'!$I$2:$I$114=$B$2)*('Base de données'!$J$2:$J$114=$B$3*1),ROW('Base de données'!$H$2:$H$114)-1),ROWS($1:29))),"")} | F35: =IF(E35="","",$B$1) | G35: =IF($E35="","",$B$2) | H35: =IF($E35="","",$B$3) | I35: {=IF(AND($D35=0,$E35<>""),IFERROR(INDEX('Base de données'!T$2:T$114,SMALL(IF(('Base de données'!$B$2:$B$114<>"stock initial")*('Base de données'!$H$2:$H$114="laiton")*('Base de données'!$I$2:$I$114=$B$2)*('Base de données'!$J$2:$J$114=$B$3*1),ROW('Base de données'!$H$2:$H$114)-1),ROWS($1:29))),""),IF($E35=0,"",I34))} | J35: {=IF(D35=0,0,IFERROR(INDEX('Base de données'!S$2:S$114,SMALL(IF(('Base de données'!$B$2:$B$114<>"stock initial")*('Base de données'!$H$2:$H$114="laiton")*('Base de données'!$I$2:$I$114=$B$2)*('Base de données'!$J$2:$J$114=$B$3*1),ROW('Base de données'!$H$2:$H$114)-1),ROWS($1:29))),""))} | L35: =IFERROR(M35/J35,"") | M35: {=IF($D35=0,0,IFERROR(INDEX('Base de données'!X$2:X$114,SMALL(IF(('Base de données'!$B$2:$B$114<>"stock initial")*('Base de données'!$H$2:$H$114="laiton")*('Base de données'!$I$2:$I$114=$B$2)*('Base de données'!$J$2:$J$114=$B$3*1),ROW('Base de données'!$H$2:$H$114)-1),ROWS($1:29))),""))} | N35: =IFERROR(O35/J35,"") | O35: {=IF($D35=0,0,IFERROR(INDEX('Base de données'!Z$2:Z$114,SMALL(IF(('Base de données'!$B$2:$B$114<>"stock initial")*('Base de données'!$H$2:$H$114="laiton")*('Base de données'!$I$2:$I$114=$B$2)*('Base de données'!$J$2:$J$114=$B$3*1),ROW('Base de données'!$H$2:$H$114)-1),ROWS($1:29))),""))} | P35: =IFERROR((O35+M35)/J35,"")
A36: =IF(B36=0,E36,"") | B36: {=IFERROR(INDEX('Base de données'!A$2:A$114,SMALL(IF(('Base de données'!$B$2:$B$114<>"stock initial")*('Base de données'!$H$2:$H$114="laiton")*('Base de données'!$I$2:$I$114=$B$2)*('Base de données'!$J$2:$J$114=$B$3*1),ROW('Base de données'!$H$2:$H$114)-1),ROWS($1:30))),"")} | D36: {=IFERROR(INDEX('Base de données'!C$2:C$114,SMALL(IF(('Base de données'!$B$2:$B$114<>"stock initial")*('Base de données'!$H$2:$H$114="laiton")*('Base de données'!$I$2:$I$114=$B$2)*('Base de données'!$J$2:$J$114=$B$3*1),ROW('Base de données'!$H$2:$H$114)-1),ROWS($1:30))),"")} | E36: {=IFERROR(INDEX('Base de données'!D$2:D$114,SMALL(IF(('Base de données'!$B$2:$B$114<>"stock initial")*('Base de données'!$H$2:$H$114="laiton")*('Base de données'!$I$2:$I$114=$B$2)*('Base de données'!$J$2:$J$114=$B$3*1),ROW('Base de données'!$H$2:$H$114)-1),ROWS($1:30))),"")} | F36: =IF(E36="","",$B$1) | G36: =IF($E36="","",$B$2) | H36: =IF($E36="","",$B$3) | I36: {=IF(AND($D36=0,$E36<>""),IFERROR(INDEX('Base de données'!T$2:T$114,SMALL(IF(('Base de données'!$B$2:$B$114<>"stock initial")*('Base de données'!$H$2:$H$114="laiton")*('Base de données'!$I$2:$I$114=$B$2)*('Base de données'!$J$2:$J$114=$B$3*1),ROW('Base de données'!$H$2:$H$114)-1),ROWS($1:30))),""),IF($E36=0,"",I35))} | J36: {=IF(D36=0,0,IFERROR(INDEX('Base de données'!S$2:S$114,SMALL(IF(('Base de données'!$B$2:$B$114<>"stock initial")*('Base de données'!$H$2:$H$114="laiton")*('Base de données'!$I$2:$I$114=$B$2)*('Base de données'!$J$2:$J$114=$B$3*1),ROW('Base de données'!$H$2:$H$114)-1),ROWS($1:30))),""))} | L36: =IFERROR(M36/J36,"") | M36: {=IF($D36=0,0,IFERROR(INDEX('Base de données'!X$2:X$114,SMALL(IF(('Base de données'!$B$2:$B$114<>"stock initial")*('Base de données'!$H$2:$H$114="laiton")*('Base de données'!$I$2:$I$114=$B$2)*('Base de données'!$J$2:$J$114=$B$3*1),ROW('Base de données'!$H$2:$H$114)-1),ROWS($1:30))),""))} | N36: =IFERROR(O36/J36,"") | O36: {=IF($D36=0,0,IFERROR(INDEX('Base de données'!Z$2:Z$114,SMALL(IF(('Base de données'!$B$2:$B$114<>"stock initial")*('Base de données'!$H$2:$H$114="laiton")*('Base de données'!$I$2:$I$114=$B$2)*('Base de données'!$J$2:$J$114=$B$3*1),ROW('Base de données'!$H$2:$H$114)-1),ROWS($1:30))),""))} | P36: =IFERROR((O36+M36)/J36,"")
A37: =IF(B37=0,E37,"") | B37: {=IFERROR(INDEX('Base de données'!A$2:A$114,SMALL(IF(('Base de données'!$B$2:$B$114<>"stock initial")*('Base de données'!$H$2:$H$114="laiton")*('Base de données'!$I$2:$I$114=$B$2)*('Base de données'!$J$2:$J$114=$B$3*1),ROW('Base de données'!$H$2:$H$114)-1),ROWS($1:31))),"")} | D37: {=IFERROR(INDEX('Base de données'!C$2:C$114,SMALL(IF(('Base de données'!$B$2:$B$114<>"stock initial")*('Base de données'!$H$2:$H$114="laiton")*('Base de données'!$I$2:$I$114=$B$2)*('Base de données'!$J$2:$J$114=$B$3*1),ROW('Base de données'!$H$2:$H$114)-1),ROWS($1:31))),"")} | E37: {=IFERROR(INDEX('Base de données'!D$2:D$114,SMALL(IF(('Base de données'!$B$2:$B$114<>"stock initial")*('Base de données'!$H$2:$H$114="laiton")*('Base de données'!$I$2:$I$114=$B$2)*('Base de données'!$J$2:$J$114=$B$3*1),ROW('Base de données'!$H$2:$H$114)-1),ROWS($1:31))),"")} | F37: =IF(E37="","",$B$1) | G37: =IF($E37="","",$B$2) | H37: =IF($E37="","",$B$3) | I37: {=IF(AND($D37=0,$E37<>""),IFERROR(INDEX('Base de données'!T$2:T$114,SMALL(IF(('Base de données'!$B$2:$B$114<>"stock initial")*('Base de données'!$H$2:$H$114="laiton")*('Base de données'!$I$2:$I$114=$B$2)*('Base de données'!$J$2:$J$114=$B$3*1),ROW('Base de données'!$H$2:$H$114)-1),ROWS($1:31))),""),IF($E37=0,"",I36))} | J37: {=IF(D37=0,0,IFERROR(INDEX('Base de données'!S$2:S$114,SMALL(IF(('Base de données'!$B$2:$B$114<>"stock initial")*('Base de données'!$H$2:$H$114="laiton")*('Base de données'!$I$2:$I$114=$B$2)*('Base de données'!$J$2:$J$114=$B$3*1),ROW('Base de données'!$H$2:$H$114)-1),ROWS($1:31))),""))} | L37: =IFERROR(M37/J37,"") | M37: {=IF($D37=0,0,IFERROR(INDEX('Base de données'!X$2:X$114,SMALL(IF(('Base de données'!$B$2:$B$114<>"stock initial")*('Base de données'!$H$2:$H$114="laiton")*('Base de données'!$I$2:$I$114=$B$2)*('Base de données'!$J$2:$J$114=$B$3*1),ROW('Base de données'!$H$2:$H$114)-1),ROWS($1:31))),""))} | N37: =IFERROR(O37/J37,"") | O37: {=IF($D37=0,0,IFERROR(INDEX('Base de données'!Z$2:Z$114,SMALL(IF(('Base de données'!$B$2:$B$114<>"stock initial")*('Base de données'!$H$2:$H$114="laiton")*('Base de données'!$I$2:$I$114=$B$2)*('Base de données'!$J$2:$J$114=$B$3*1),ROW('Base de données'!$H$2:$H$114)-1),ROWS($1:31))),""))} | P37: =IFERROR((O37+M37)/J37,"")
A38: =IF(B38=0,E38,"") | B38: {=IFERROR(INDEX('Base de données'!A$2:A$114,SMALL(IF(('Base de données'!$B$2:$B$114<>"stock initial")*('Base de données'!$H$2:$H$114="laiton")*('Base de données'!$I$2:$I$114=$B$2)*('Base de données'!$J$2:$J$114=$B$3*1),ROW('Base de données'!$H$2:$H$114)-1),ROWS($1:32))),"")} | D38: {=IFERROR(INDEX('Base de données'!C$2:C$114,SMALL(IF(('Base de données'!$B$2:$B$114<>"stock initial")*('Base de données'!$H$2:$H$114="laiton")*('Base de données'!$I$2:$I$114=$B$2)*('Base de données'!$J$2:$J$114=$B$3*1),ROW('Base de données'!$H$2:$H$114)-1),ROWS($1:32))),"")} | E38: {=IFERROR(INDEX('Base de données'!D$2:D$114,SMALL(IF(('Base de données'!$B$2:$B$114<>"stock initial")*('Base de données'!$H$2:$H$114="laiton")*('Base de données'!$I$2:$I$114=$B$2)*('Base de données'!$J$2:$J$114=$B$3*1),ROW('Base de données'!$H$2:$H$114)-1),ROWS($1:32))),"")} | F38: =IF(E38="","",$B$1) | G38: =IF($E38="","",$B$2) | H38: =IF($E38="","",$B$3) | I38: {=IF(AND($D38=0,$E38<>""),IFERROR(INDEX('Base de données'!T$2:T$114,SMALL(IF(('Base de données'!$B$2:$B$114<>"stock initial")*('Base de données'!$H$2:$H$114="laiton")*('Base de données'!$I$2:$I$114=$B$2)*('Base de données'!$J$2:$J$114=$B$3*1),ROW('Base de données'!$H$2:$H$114)-1),ROWS($1:32))),""),IF($E38=0,"",I37))} | J38: {=IF(D38=0,0,IFERROR(INDEX('Base de données'!S$2:S$114,SMALL(IF(('Base de données'!$B$2:$B$114<>"stock initial")*('Base de données'!$H$2:$H$114="laiton")*('Base de données'!$I$2:$I$114=$B$2)*('Base de données'!$J$2:$J$114=$B$3*1),ROW('Base de données'!$H$2:$H$114)-1),ROWS($1:32))),""))} | L38: =IFERROR(M38/J38,"") | M38: {=IF($D38=0,0,IFERROR(INDEX('Base de données'!X$2:X$114,SMALL(IF(('Base de données'!$B$2:$B$114<>"stock initial")*('Base de données'!$H$2:$H$114="laiton")*('Base de données'!$I$2:$I$114=$B$2)*('Base de données'!$J$2:$J$114=$B$3*1),ROW('Base de données'!$H$2:$H$114)-1),ROWS($1:32))),""))} | N38: =IFERROR(O38/J38,"") | O38: {=IF($D38=0,0,IFERROR(INDEX('Base de données'!Z$2:Z$114,SMALL(IF(('Base de données'!$B$2:$B$114<>"stock initial")*('Base de données'!$H$2:$H$114="laiton")*('Base de données'!$I$2:$I$114=$B$2)*('Base de données'!$J$2:$J$114=$B$3*1),ROW('Base de données'!$H$2:$H$114)-1),ROWS($1:32))),""))} | P38: =IFERROR((O38+M38)/J38,"")

Sheet vente 
F1: Désignation | G1: Laiton | H1: hex | I1: 8
A2: Facture N° | B2: N° déclarat° export | C2: Date déclarat° export | D2: Réf article | E2: Désignation | F2: N° fiche | G2: Matière | H2: Forme | I2: Taille | J2: Qté livrée | K2: Poids net/ pièce | L2: Participat° dans la FB | M2: Poids brut/pièce | N2: Poids brut total | O2: Poids copeaux/ pièce | P2: Poids déchet copeaux total | Q2: Poids déchet fin de barre total | R2: % Déchet
A3: {=IFERROR(INDEX('Base de données'!$A$2:$A$114,SMALL(IF((('Base de données'!$B$2:$B$114="vente"))*('Base de données'!$H$2:$H$114=$G$1)*('Base de données'!$I$2:$I$114=$H$1)*('Base de données'!$J$2:$J$114=$I$1*1),ROW('Base de données'!$H$2:$H$114)-1),ROWS($1:1))),"")} -> 201700027 | B3: {=IFERROR(INDEX('Base de données'!C$2:C$114,SMALL(IF((('Base de données'!$B$2:$B$114="vente"))*('Base de données'!$H$2:$H$114=$G$1)*('Base de données'!$I$2:$I$114=$H$1)*('Base de données'!$J$2:$J$114=$I$1*1),ROW('Base de données'!$H$2:$H$114)-1),ROWS($1:1))),"")} -> 547184 | C3: {=IFERROR(INDEX('Base de données'!D$2:D$114,SMALL(IF((('Base de données'!$B$2:$B$114="vente"))*('Base de données'!$H$2:$H$114=$G$1)*('Base de données'!$I$2:$I$114=$H$1)*('Base de données'!$J$2:$J$114=$I$1*1),ROW('Base de données'!$H$2:$H$114)-1),ROWS($1:1))),"")} -> 42832 | D3: {=IFERROR(INDEX('Base de données'!E$2:E$114,SMALL(IF((('Base de données'!$B$2:$B$114="vente"))*('Base de données'!$H$2:$H$114=$G$1)*('Base de données'!$I$2:$I$114=$H$1)*('Base de données'!$J$2:$J$114=$I$1*1),ROW('Base de données'!$H$2:$H$114)-1),ROWS($1:1))),"")} -> 510020 | E3: {=IFERROR(INDEX('Base de données'!F$2:F$114,SMALL(IF((('Base de données'!$B$2:$B$114="vente"))*('Base de données'!$H$2:$H$114=$G$1)*('Base de données'!$I$2:$I$114=$H$1)*('Base de données'!$J$2:$J$114=$I$1*1),ROW('Base de données'!$H$2:$H$114)-1),ROWS($1:1))),"")} -> INSERTO ESAG,M6 8*6 | F3: {=IFERROR(INDEX('Base de données'!G$2:G$114,SMALL(IF((('Base de données'!$B$2:$B$114="vente"))*('Base de données'!$H$2:$H$114=$G$1)*('Base de données'!$I$2:$I$114=$H$1)*('Base de données'!$J$2:$J$114=$I$1*1),ROW('Base de données'!$H$2:$H$114)-1),ROWS($1:1))),"")} -> 139 | G3: {=IFERROR(INDEX('Base de données'!H$2:H$114,SMALL(IF((('Base de données'!$B$2:$B$114="vente"))*('Base de données'!$H$2:$H$114=$G$1)*('Base de données'!$I$2:$I$114=$H$1)*('Base de données'!$J$2:$J$114=$I$1*1),ROW('Base de données'!$H$2:$H$114)-1),ROWS($1:1))),"")} -> LAITON | H3: {=IFERROR(INDEX('Base de données'!I$2:I$114,SMALL(IF((('Base de données'!$B$2:$B$114="vente"))*('Base de données'!$H$2:$H$114=$G$1)*('Base de données'!$I$2:$I$114=$H$1)*('Base de données'!$J$2:$J$114=$I$1*1),ROW('Base de données'!$H$2:$H$114)-1),ROWS($1:1))),"")} -> HEX | I3: {=IFERROR(INDEX('Base de données'!J$2:J$114,SMALL(IF((('Base de données'!$B$2:$B$114="vente"))*('Base de données'!$H$2:$H$114=$G$1)*('Base de données'!$I$2:$I$114=$H$1)*('Base de données'!$J$2:$J$114=$I$1*1),ROW('Base de données'!$H$2:$H$114)-1),ROWS($1:1))),"")} -> 8 | J3: {=IFERROR(INDEX('Base de données'!K$2:K$114,SMALL(IF((('Base de données'!$B$2:$B$114="vente"))*('Base de données'!$H$2:$H$114=$G$1)*('Base de données'!$I$2:$I$114=$H$1)*('Base de données'!$J$2:$J$114=$I$1*1),ROW('Base de données'!$H$2:$H$114)-1),ROWS($1:1))),"")} -> 0 | K3: {=IFERROR(INDEX('Base de données'!M$2:M$114,SMALL(IF((('Base de données'!$B$2:$B$114="vente"))*('Base de données'!$H$2:$H$114=$G$1)*('Base de données'!$I$2:$I$114=$H$1)*('Base de données'!$J$2:$J$114=$I$1*1),ROW('Base de données'!$H$2:$H$114)-1),ROWS($1:1))),"")} -> 0.001446 | L3: {=IFERROR(INDEX('Base de données'!Y$2:Y$114,SMALL(IF((('Base de données'!$B$2:$B$114="vente"))*('Base de données'!$H$2:$H$114=$G$1)*('Base de données'!$I$2:$I$114=$H$1)*('Base de données'!$J$2:$J$114=$I$1*1),ROW('Base de données'!$H$2:$H$114)-1),ROWS($1:1))),"")} -> 0.00059265267 | M3: {=IFERROR(INDEX('Base de données'!N$2:N$114,SMALL(IF((('Base de données'!$B$2:$B$114="vente"))*('Base de données'!$H$2:$H$114=$G$1)*('Base de données'!$I$2:$I$114=$H$1)*('Base de données'!$J$2:$J$114=$I$1*1),ROW('Base de données'!$H$2:$H$114)-1),ROWS($1:1))),"")} -> 6 | N3: =M3*J3 -> 0 | O3: {=IFERROR(INDEX('Base de données'!P$2:P$114,SMALL(IF((('Base de données'!$B$2:$B$114="vente"))*('Base de données'!$H$2:$H$114=$G$1)*('Base de données'!$I$2:$I$114=$H$1)*('Base de données'!$J$2:$J$114=$I$1*1),ROW('Base de données'!$H$2:$H$114)-1),ROWS($1:1))),"")} -> 1.496448 | P3: =O3*J3 -> 0 | Q3: =L3*J3 -> 0 | R3: =(O3+L3)/M3 -> 0.24950678
A4: {=IFERROR(INDEX('Base de données'!$A$2:$A$114,SMALL(IF((('Base de données'!$B$2:$B$114="vente"))*('Base de données'!$H$2:$H$114=$G$1)*('Base de données'!$I$2:$I$114=$H$1)*('Base de données'!$J$2:$J$114=$I$1*1),ROW('Base de données'!$H$2:$H$114)-1),ROWS($1:2))),"")} -> 201700044 | B4: {=IFERROR(INDEX('Base de données'!C$2:C$114,SMALL(IF((('Base de données'!$B$2:$B$114="vente"))*('Base de données'!$H$2:$H$114=$G$1)*('Base de données'!$I$2:$I$114=$H$1)*('Base de données'!$J$2:$J$114=$I$1*1),ROW('Base de données'!$H$2:$H$114)-1),ROWS($1:2))),"")} -> 547817 | C4: {=IFERROR(INDEX('Base de données'!D$2:D$114,SMALL(IF((('Base de données'!$B$2:$B$114="vente"))*('Base de données'!$H$2:$H$114=$G$1)*('Base de données'!$I$2:$I$114=$H$1)*('Base de données'!$J$2:$J$114=$I$1*1),ROW('Base de données'!$H$2:$H$114)-1),ROWS($1:2))),"")} -> 42861 | D4: {=IFERROR(INDEX('Base de données'!E$2:E$114,SMALL(IF((('Base de données'!$B$2:$B$114="vente"))*('Base de données'!$H$2:$H$114=$G$1)*('Base de données'!$I$2:$I$114=$H$1)*('Base de données'!$J$2:$J$114=$I$1*1),ROW('Base de données'!$H$2:$H$114)-1),ROWS($1:2))),"")} -> 510020 | E4: {=IFERROR(INDEX('Base de données'!F$2:F$114,SMALL(IF((('Base de données'!$B$2:$B$114="vente"))*('Base de données'!$H$2:$H$114=$G$1)*('Base de données'!$I$2:$I$114=$H$1)*('Base de données'!$J$2:$J$114=$I$1*1),ROW('Base de données'!$H$2:$H$114)-1),ROWS($1:2))),"")} -> INSERTO ESAG,M6 8*6 | F4: {=IFERROR(INDEX('Base de données'!G$2:G$114,SMALL(IF((('Base de données'!$B$2:$B$114="vente"))*('Base de données'!$H$2:$H$114=$G$1)*('Base de données'!$I$2:$I$114=$H$1)*('Base de données'!$J$2:$J$114=$I$1*1),ROW('Base de données'!$H$2:$H$114)-1),ROWS($1:2))),"")} -> 139 | G4: {=IFERROR(INDEX('Base de données'!H$2:H$114,SMALL(IF((('Base de données'!$B$2:$B$114="vente"))*('Base de données'!$H$2:$H$114=$G$1)*('Base de données'!$I$2:$I$114=$H$1)*('Base de données'!$J$2:$J$114=$I$1*1),ROW('Base de données'!$H$2:$H$114)-1),ROWS($1:2))),"")} -> LAITON | H4: {=IFERROR(INDEX('Base de données'!I$2:I$114,SMALL(IF((('Base de données'!$B$2:$B$114="vente"))*('Base de données'!$H$2:$H$114=$G$1)*('Base de données'!$I$2:$I$114=$H$1)*('Base de données'!$J$2:$J$114=$I$1*1),ROW('Base de données'!$H$2:$H$114)-1),ROWS($1:2))),"")} -> HEX | I4: {=IFERROR(INDEX('Base de données'!J$2:J$114,SMALL(IF((('Base de données'!$B$2:$B$114="vente"))*('Base de données'!$H$2:$H$114=$G$1)*('Base de données'!$I$2:$I$114=$H$1)*('Base de données'!$J$2:$J$114=$I$1*1),ROW('Base de données'!$H$2:$H$114)-1),ROWS($1:2))),"")} -> 8 | J4: {=IFERROR(INDEX('Base de données'!K$2:K$114,SMALL(IF((('Base de données'!$B$2:$B$114="vente"))*('Base de données'!$H$2:$H$114=$G$1)*('Base de données'!$I$2:$I$114=$H$1)*('Base de données'!$J$2:$J$114=$I$1*1),ROW('Base de données'!$H$2:$H$114)-1),ROWS($1:2))),"")} -> 0 | K4: {=IFERROR(INDEX('Base de données'!M$2:M$114,SMALL(IF((('Base de données'!$B$2:$B$114="vente"))*('Base de données'!$H$2:$H$114=$G$1)*('Base de données'!$I$2:$I$114=$H$1)*('Base de données'!$J$2:$J$114=$I$1*1),ROW('Base de données'!$H$2:$H$114)-1),ROWS($1:2))),"")} -> 0.001446 | L4: {=IFERROR(INDEX('Base de données'!Y$2:Y$114,SMALL(IF((('Base de données'!$B$2:$B$114="vente"))*('Base de données'!$H$2:$H$114=$G$1)*('Base de données'!$I$2:$I$114=$H$1)*('Base de données'!$J$2:$J$114=$I$1*1),ROW('Base de données'!$H$2:$H$114)-1),ROWS($1:2))),"")} -> 0.00059265267 | M4: {=IFERROR(INDEX('Base de données'!N$2:N$114,SMALL(IF((('Base de données'!$B$2:$B$114="vente"))*('Base de données'!$H$2:$H$114=$G$1)*('Base de données'!$I$2:$I$114=$H$1)*('Base de données'!$J$2:$J$114=$I$1*1),ROW('Base de données'!$H$2:$H$114)-1),ROWS($1:2))),"")} -> 6 | N4: =M4*J4 -> 0 | O4: {=IFERROR(INDEX('Base de données'!P$2:P$114,SMALL(IF((('Base de données'!$B$2:$B$114="vente"))*('Base de données'!$H$2:$H$114=$G$1)*('Base de données'!$I$2:$I$114=$H$1)*('Base de données'!$J$2:$J$114=$I$1*1),ROW('Base de données'!$H$2:$H$114)-1),ROWS($1:2))),"")} -> 1.496448 | P4: =O4*J4 -> 0 | Q4: =L4*J4 -> 0 | R4: =(O4+L4)/M4 -> 0.24950678
A5: {=IFERROR(INDEX('Base de données'!$A$2:$A$114,SMALL(IF((('Base de données'!$B$2:$B$114="vente"))*('Base de données'!$H$2:$H$114=$G$1)*('Base de données'!$I$2:$I$114=$H$1)*('Base de données'!$J$2:$J$114=$I$1*1),ROW('Base de données'!$H$2:$H$114)-1),ROWS($1:3))),"")} -> 201700054 | B5: {=IFERROR(INDEX('Base de données'!C$2:C$114,SMALL(IF((('Base de données'!$B$2:$B$114="vente"))*('Base de données'!$H$2:$H$114=$G$1)*('Base de données'!$I$2:$I$114=$H$1)*('Base de données'!$J$2:$J$114=$I$1*1),ROW('Base de données'!$H$2:$H$114)-1),ROWS($1:3))),"")} -> 548450 | C5: {=IFERROR(INDEX('Base de données'!D$2:D$114,SMALL(IF((('Base de données'!$B$2:$B$114="vente"))*('Base de données'!$H$2:$H$114=$G$1)*('Base de données'!$I$2:$I$114=$H$1)*('Base de données'!$J$2:$J$114=$I$1*1),ROW('Base de données'!$H$2:$H$114)-1),ROWS($1:3))),"")} -> 42893 | D5: {=IFERROR(INDEX('Base de données'!E$2:E$114,SMALL(IF((('Base de données'!$B$2:$B$114="vente"))*('Base de données'!$H$2:$H$114=$G$1)*('Base de données'!$I$2:$I$114=$H$1)*('Base de données'!$J$2:$J$114=$I$1*1),ROW('Base de données'!$H$2:$H$114)-1),ROWS($1:3))),"")} -> 510020 | E5: {=IFERROR(INDEX('Base de données'!F$2:F$114,SMALL(IF((('Base de données'!$B$2:$B$114="vente"))*('Base de données'!$H$2:$H$114=$G$1)*('Base de données'!$I$2:$I$114=$H$1)*('Base de données'!$J$2:$J$114=$I$1*1),ROW('Base de données'!$H$2:$H$114)-1),ROWS($1:3))),"")} -> INSERTO ESAG,M6 8*6 | F5: {=IFERROR(INDEX('Base de données'!G$2:G$114,SMALL(IF((('Base de données'!$B$2:$B$114="vente"))*('Base de données'!$H$2:$H$114=$G$1)*('Base de données'!$I$2:$I$114=$H$1)*('Base de données'!$J$2:$J$114=$I$1*1),ROW('Base de données'!$H$2:$H$114)-1),ROWS($1:3))),"")} -> 139 | G5: {=IFERROR(INDEX('Base de données'!H$2:H$114,SMALL(IF((('Base de données'!$B$2:$B$114="vente"))*('Base de données'!$H$2:$H$114=$G$1)*('Base de données'!$I$2:$I$114=$H$1)*('Base de données'!$J$2:$J$114=$I$1*1),ROW('Base de données'!$H$2:$H$114)-1),ROWS($1:3))),"")} -> LAITON | H5: {=IFERROR(INDEX('Base de données'!I$2:I$114,SMALL(IF((('Base de données'!$B$2:$B$114="vente"))*('Base de données'!$H$2:$H$114=$G$1)*('Base de données'!$I$2:$I$114=$H$1)*('Base de données'!$J$2:$J$114=$I$1*1),ROW('Base de données'!$H$2:$H$114)-1),ROWS($1:3))),"")} -> HEX | I5: {=IFERROR(INDEX('Base de données'!J$2:J$114,SMALL(IF((('Base de données'!$B$2:$B$114="vente"))*('Base de données'!$H$2:$H$114=$G$1)*('Base de données'!$I$2:$I$114=$H$1)*('Base de données'!$J$2:$J$114=$I$1*1),ROW('Base de données'!$H$2:$H$114)-1),ROWS($1:3))),"")} -> 8 | J5: {=IFERROR(INDEX('Base de données'!K$2:K$114,SMALL(IF((('Base de données'!$B$2:$B$114="vente"))*('Base de données'!$H$2:$H$114=$G$1)*('Base de données'!$I$2:$I$114=$H$1)*('Base de données'!$J$2:$J$114=$I$1*1),ROW('Base de données'!$H$2:$H$114)-1),ROWS($1:3))),"")} -> 0 | K5: {=IFERROR(INDEX('Base de données'!M$2:M$114,SMALL(IF((('Base de données'!$B$2:$B$114="vente"))*('Base de données'!$H$2:$H$114=$G$1)*('Base de données'!$I$2:$I$114=$H$1)*('Base de données'!$J$2:$J$114=$I$1*1),ROW('Base de données'!$H$2:$H$114)-1),ROWS($1:3))),"")} -> 0.001446 | L5: {=IFERROR(INDEX('Base de données'!Y$2:Y$114,SMALL(IF((('Base de données'!$B$2:$B$114="vente"))*('Base de données'!$H$2:$H$114=$G$1)*('Base de données'!$I$2:$I$114=$H$1)*('Base de données'!$J$2:$J$114=$I$1*1),ROW('Base de données'!$H$2:$H$114)-1),ROWS($1:3))),"")} -> 0.00059265267 | M5: {=IFERROR(INDEX('Base de données'!N$2:N$114,SMALL(IF((('Base de données'!$B$2:$B$114="vente"))*('Base de données'!$H$2:$H$114=$G$1)*('Base de données'!$I$2:$I$114=$H$1)*('Base de données'!$J$2:$J$114=$I$1*1),ROW('Base de données'!$H$2:$H$114)-1),ROWS($1:3))),"")} -> 6 | N5: =M5*J5 -> 0 | O5: {=IFERROR(INDEX('Base de données'!P$2:P$114,SMALL(IF((('Base de données'!$B$2:$B$114="vente"))*('Base de données'!$H$2:$H$114=$G$1)*('Base de données'!$I$2:$I$114=$H$1)*('Base de données'!$J$2:$J$114=$I$1*1),ROW('Base de données'!$H$2:$H$114)-1),ROWS($1:3))),"")} -> 1.496448 | P5: =O5*J5 -> 0 | Q5: =L5*J5 -> 0 | R5: =(O5+L5)/M5 -> 0.24950678
A6: {=IFERROR(INDEX('Base de données'!$A$2:$A$114,SMALL(IF((('Base de données'!$B$2:$B$114="vente"))*('Base de données'!$H$2:$H$114=$G$1)*('Base de données'!$I$2:$I$114=$H$1)*('Base de données'!$J$2:$J$114=$I$1*1),ROW('Base de données'!$H$2:$H$114)-1),ROWS($1:4))),"")} -> 201700065 | B6: {=IFERROR(INDEX('Base de données'!C$2:C$114,SMALL(IF((('Base de données'!$B$2:$B$114="vente"))*('Base de données'!$H$2:$H$114=$G$1)*('Base de données'!$I$2:$I$114=$H$1)*('Base de données'!$J$2:$J$114=$I$1*1),ROW('Base de données'!$H$2:$H$114)-1),ROWS($1:4))),"")} -> 549089 | C6: {=IFERROR(INDEX('Base de données'!D$2:D$114,SMALL(IF((('Base de données'!$B$2:$B$114="vente"))*('Base de données'!$H$2:$H$114=$G$1)*('Base de données'!$I$2:$I$114=$H$1)*('Base de données'!$J$2:$J$114=$I$1*1),ROW('Base de données'!$H$2:$H$114)-1),ROWS($1:4))),"")} -> 42923 | D6: {=IFERROR(INDEX('Base de données'!E$2:E$114,SMALL(IF((('Base de données'!$B$2:$B$114="vente"))*('Base de données'!$H$2:$H$114=$G$1)*('Base de données'!$I$2:$I$114=$H$1)*('Base de données'!$J$2:$J$114=$I$1*1),ROW('Base de données'!$H$2:$H$114)-1),ROWS($1:4))),"")} -> 510020 | E6: {=IFERROR(INDEX('Base de données'!F$2:F$114,SMALL(IF((('Base de données'!$B$2:$B$114="vente"))*('Base de données'!$H$2:$H$114=$G$1)*('Base de données'!$I$2:$I$114=$H$1)*('Base de données'!$J$2:$J$114=$I$1*1),ROW('Base de données'!$H$2:$H$114)-1),ROWS($1:4))),"")} -> INSERTO ESAG,M6 8*6 | F6: {=IFERROR(INDEX('Base de données'!G$2:G$114,SMALL(IF((('Base de données'!$B$2:$B$114="vente"))*('Base de données'!$H$2:$H$114=$G$1)*('Base de données'!$I$2:$I$114=$H$1)*('Base de données'!$J$2:$J$114=$I$1*1),ROW('Base de données'!$H$2:$H$114)-1),ROWS($1:4))),"")} -> 139 | G6: {=IFERROR(INDEX('Base de données'!H$2:H$114,SMALL(IF((('Base de données'!$B$2:$B$114="vente"))*('Base de données'!$H$2:$H$114=$G$1)*('Base de données'!$I$2:$I$114=$H$1)*('Base de données'!$J$2:$J$114=$I$1*1),ROW('Base de données'!$H$2:$H$114)-1),ROWS($1:4))),"")} -> LAITON | H6: {=IFERROR(INDEX('Base de données'!I$2:I$114,SMALL(IF((('Base de données'!$B$2:$B$114="vente"))*('Base de données'!$H$2:$H$114=$G$1)*('Base de données'!$I$2:$I$114=$H$1)*('Base de données'!$J$2:$J$114=$I$1*1),ROW('Base de données'!$H$2:$H$114)-1),ROWS($1:4))),"")} -> HEX | I6: {=IFERROR(INDEX('Base de données'!J$2:J$114,SMALL(IF((('Base de données'!$B$2:$B$114="vente"))*('Base de données'!$H$2:$H$114=$G$1)*('Base de données'!$I$2:$I$114=$H$1)*('Base de données'!$J$2:$J$114=$I$1*1),ROW('Base de données'!$H$2:$H$114)-1),ROWS($1:4))),"")} -> 8 | J6: {=IFERROR(INDEX('Base de données'!K$2:K$114,SMALL(IF((('Base de données'!$B$2:$B$114="vente"))*('Base de données'!$H$2:$H$114=$G$1)*('Base de données'!$I$2:$I$114=$H$1)*('Base de données'!$J$2:$J$114=$I$1*1),ROW('Base de données'!$H$2:$H$114)-1),ROWS($1:4))),"")} -> 0 | K6: {=IFERROR(INDEX('Base de données'!M$2:M$114,SMALL(IF((('Base de données'!$B$2:$B$114="vente"))*('Base de données'!$H$2:$H$114=$G$1)*('Base de données'!$I$2:$I$114=$H$1)*('Base de données'!$J$2:$J$114=$I$1*1),ROW('Base de données'!$H$2:$H$114)-1),ROWS($1:4))),"")} -> 0.001446 | L6: {=IFERROR(INDEX('Base de données'!Y$2:Y$114,SMALL(IF((('Base de données'!$B$2:$B$114="vente"))*('Base de données'!$H$2:$H$114=$G$1)*('Base de données'!$I$2:$I$114=$H$1)*('Base de données'!$J$2:$J$114=$I$1*1),ROW('Base de données'!$H$2:$H$114)-1),ROWS($1:4))),"")} -> 0.00059265267 | M6: {=IFERROR(INDEX('Base de données'!N$2:N$114,SMALL(IF((('Base de données'!$B$2:$B$114="vente"))*('Base de données'!$H$2:$H$114=$G$1)*('Base de données'!$I$2:$I$114=$H$1)*('Base de données'!$J$2:$J$114=$I$1*1),ROW('Base de données'!$H$2:$H$114)-1),ROWS($1:4))),"")} -> 6 | N6: =M6*J6 -> 0 | O6: {=IFERROR(INDEX('Base de données'!P$2:P$114,SMALL(IF((('Base de données'!$B$2:$B$114="vente"))*('Base de données'!$H$2:$H$114=$G$1)*('Base de données'!$I$2:$I$114=$H$1)*('Base de données'!$J$2:$J$114=$I$1*1),ROW('Base de données'!$H$2:$H$114)-1),ROWS($1:4))),"")} -> 1.496448 | P6: =O6*J6 -> 0 | Q6: =L6*J6 -> 0 | R6: =(O6+L6)/M6 -> 0.24950678
A7: {=IFERROR(INDEX('Base de données'!$A$2:$A$114,SMALL(IF((('Base de données'!$B$2:$B$114="vente"))*('Base de données'!$H$2:$H$114=$G$1)*('Base de données'!$I$2:$I$114=$H$1)*('Base de données'!$J$2:$J$114=$I$1*1),ROW('Base de données'!$H$2:$H$114)-1),ROWS($1:5))),"")} -> 201700098 | B7: {=IFERROR(INDEX('Base de données'!C$2:C$114,SMALL(IF((('Base de données'!$B$2:$B$114="vente"))*('Base de données'!$H$2:$H$114=$G$1)*('Base de données'!$I$2:$I$114=$H$1)*('Base de données'!$J$2:$J$114=$I$1*1),ROW('Base de données'!$H$2:$H$114)-1),ROWS($1:5))),"")} -> 531306 | C7: {=IFERROR(INDEX('Base de données'!D$2:D$114,SMALL(IF((('Base de données'!$B$2:$B$114="vente"))*('Base de données'!$H$2:$H$114=$G$1)*('Base de données'!$I$2:$I$114=$H$1)*('Base de données'!$J$2:$J$114=$I$1*1),ROW('Base de données'!$H$2:$H$114)-1),ROWS($1:5))),"")} -> 43045 | D7: {=IFERROR(INDEX('Base de données'!E$2:E$114,SMALL(IF((('Base de données'!$B$2:$B$114="vente"))*('Base de données'!$H$2:$H$114=$G$1)*('Base de données'!$I$2:$I$114=$H$1)*('Base de données'!$J$2:$J$114=$I$1*1),ROW('Base de données'!$H$2:$H$114)-1),ROWS($1:5))),"")} -> 510020 | E7: {=IFERROR(INDEX('Base de données'!F$2:F$114,SMALL(IF((('Base de données'!$B$2:$B$114="vente"))*('Base de données'!$H$2:$H$114=$G$1)*('Base de données'!$I$2:$I$114=$H$1)*('Base de données'!$J$2:$J$114=$I$1*1),ROW('Base de données'!$H$2:$H$114)-1),ROWS($1:5))),"")} -> INSERTO ESAG,M6 8*6 | F7: {=IFERROR(INDEX('Base de données'!G$2:G$114,SMALL(IF((('Base de données'!$B$2:$B$114="vente"))*('Base de données'!$H$2:$H$114=$G$1)*('Base de données'!$I$2:$I$114=$H$1)*('Base de données'!$J$2:$J$114=$I$1*1),ROW('Base de données'!$H$2:$H$114)-1),ROWS($1:5))),"")} -> 139 | G7: {=IFERROR(INDEX('Base de données'!H$2:H$114,SMALL(IF((('Base de données'!$B$2:$B$114="vente"))*('Base de données'!$H$2:$H$114=$G$1)*('Base de données'!$I$2:$I$114=$H$1)*('Base de données'!$J$2:$J$114=$I$1*1),ROW('Base de données'!$H$2:$H$114)-1),ROWS($1:5))),"")} -> LAITON | H7: {=IFERROR(INDEX('Base de données'!I$2:I$114,SMALL(IF((('Base de données'!$B$2:$B$114="vente"))*('Base de données'!$H$2:$H$114=$G$1)*('Base de données'!$I$2:$I$114=$H$1)*('Base de données'!$J$2:$J$114=$I$1*1),ROW('Base de données'!$H$2:$H$114)-1),ROWS($1:5))),"")} -> HEX | I7: {=IFERROR(INDEX('Base de données'!J$2:J$114,SMALL(IF((('Base de données'!$B$2:$B$114="vente"))*('Base de données'!$H$2:$H$114=$G$1)*('Base de données'!$I$2:$I$114=$H$1)*('Base de données'!$J$2:$J$114=$I$1*1),ROW('Base de données'!$H$2:$H$114)-1),ROWS($1:5))),"")} -> 8 | J7: {=IFERROR(INDEX('Base de données'!K$2:K$114,SMALL(IF((('Base de données'!$B$2:$B$114="vente"))*('Base de données'!$H$2:$H$114=$G$1)*('Base de données'!$I$2:$I$114=$H$1)*('Base de données'!$J$2:$J$114=$I$1*1),ROW('Base de données'!$H$2:$H$114)-1),ROWS($1:5))),"")} -> 0 | K7: {=IFERROR(INDEX('Base de données'!M$2:M$114,SMALL(IF((('Base de données'!$B$2:$B$114="vente"))*('Base de données'!$H$2:$H$114=$G$1)*('Base de données'!$I$2:$I$114=$H$1)*('Base de données'!$J$2:$J$114=$I$1*1),ROW('Base de données'!$H$2:$H$114)-1),ROWS($1:5))),"")} -> 0.001446 | L7: {=IFERROR(INDEX('Base de données'!Y$2:Y$114,SMALL(IF((('Base de données'!$B$2:$B$114="vente"))*('Base de données'!$H$2:$H$114=$G$1)*('Base de données'!$I$2:$I$114=$H$1)*('Base de données'!$J$2:$J$114=$I$1*1),ROW('Base de données'!$H$2:$H$114)-1),ROWS($1:5))),"")} -> 0.00059265267 | M7: {=IFERROR(INDEX('Base de données'!N$2:N$114,SMALL(IF((('Base de données'!$B$2:$B$114="vente"))*('Base de données'!$H$2:$H$114=$G$1)*('Base de données'!$I$2:$I$114=$H$1)*('Base de données'!$J$2:$J$114=$I$1*1),ROW('Base de données'!$H$2:$H$114)-1),ROWS($1:5))),"")} -> 6 | N7: =M7*J7 -> 0 | O7: {=IFERROR(INDEX('Base de données'!P$2:P$114,SMALL(IF((('Base de données'!$B$2:$B$114="vente"))*('Base de données'!$H$2:$H$114=$G$1)*('Base de données'!$I$2:$I$114=$H$1)*('Base de données'!$J$2:$J$114=$I$1*1),ROW('Base de données'!$H$2:$H$114)-1),ROWS($1:5))),"")} -> 1.496448 | P7: =O7*J7 -> 0 | Q7: =L7*J7 -> 0 | R7: =(O7+L7)/M7 -> 0.24950678
A8: {=IFERROR(INDEX('Base de données'!$A$2:$A$114,SMALL(IF((('Base de données'!$B$2:$B$114="vente"))*('Base de données'!$H$2:$H$114=$G$1)*('Base de données'!$I$2:$I$114=$H$1)*('Base de données'!$J$2:$J$114=$I$1*1),ROW('Base de données'!$H$2:$H$114)-1),ROWS($1:6))),"")} -> 201700108 | B8: {=IFERROR(INDEX('Base de données'!C$2:C$114,SMALL(IF((('Base de données'!$B$2:$B$114="vente"))*('Base de données'!$H$2:$H$114=$G$1)*('Base de données'!$I$2:$I$114=$H$1)*('Base de données'!$J$2:$J$114=$I$1*1),ROW('Base de données'!$H$2:$H$114)-1),ROWS($1:6))),"")} -> 531987 | C8: {=IFERROR(INDEX('Base de données'!D$2:D$114,SMALL(IF((('Base de données'!$B$2:$B$114="vente"))*('Base de données'!$H$2:$H$114=$G$1)*('Base de données'!$I$2:$I$114=$H$1)*('Base de données'!$J$2:$J$114=$I$1*1),ROW('Base de données'!$H$2:$H$114)-1),ROWS($1:6))),"")} -> 43076 | D8: {=IFERROR(INDEX('Base de données'!E$2:E$114,SMALL(IF((('Base de données'!$B$2:$B$114="vente"))*('Base de données'!$H$2:$H$114=$G$1)*('Base de données'!$I$2:$I$114=$H$1)*('Base de données'!$J$2:$J$114=$I$1*1),ROW('Base de données'!$H$2:$H$114)-1),ROWS($1:6))),"")} -> 510020 | E8: {=IFERROR(INDEX('Base de données'!F$2:F$114,SMALL(IF((('Base de données'!$B$2:$B$114="vente"))*('Base de données'!$H$2:$H$114=$G$1)*('Base de données'!$I$2:$I$114=$H$1)*('Base de données'!$J$2:$J$114=$I$1*1),ROW('Base de données'!$H$2:$H$114)-1),ROWS($1:6))),"")} -> INSERTO ESAG,M6 8*6 | F8: {=IFERROR(INDEX('Base de données'!G$2:G$114,SMALL(IF((('Base de données'!$B$2:$B$114="vente"))*('Base de données'!$H$2:$H$114=$G$1)*('Base de données'!$I$2:$I$114=$H$1)*('Base de données'!$J$2:$J$114=$I$1*1),ROW('Base de données'!$H$2:$H$114)-1),ROWS($1:6))),"")} -> 139 | G8: {=IFERROR(INDEX('Base de données'!H$2:H$114,SMALL(IF((('Base de données'!$B$2:$B$114="vente"))*('Base de données'!$H$2:$H$114=$G$1)*('Base de données'!$I$2:$I$114=$H$1)*('Base de données'!$J$2:$J$114=$I$1*1),ROW('Base de données'!$H$2:$H$114)-1),ROWS($1:6))),"")} -> LAITON | H8: {=IFERROR(INDEX('Base de données'!I$2:I$114,SMALL(IF((('Base de données'!$B$2:$B$114="vente"))*('Base de données'!$H$2:$H$114=$G$1)*('Base de données'!$I$2:$I$114=$H$1)*('Base de données'!$J$2:$J$114=$I$1*1),ROW('Base de données'!$H$2:$H$114)-1),ROWS($1:6))),"")} -> HEX | I8: {=IFERROR(INDEX('Base de données'!J$2:J$114,SMALL(IF((('Base de données'!$B$2:$B$114="vente"))*('Base de données'!$H$2:$H$114=$G$1)*('Base de données'!$I$2:$I$114=$H$1)*('Base de données'!$J$2:$J$114=$I$1*1),ROW('Base de données'!$H$2:$H$114)-1),ROWS($1:6))),"")} -> 8 | J8: {=IFERROR(INDEX('Base de données'!K$2:K$114,SMALL(IF((('Base de données'!$B$2:$B$114="vente"))*('Base de données'!$H$2:$H$114=$G$1)*('Base de données'!$I$2:$I$114=$H$1)*('Base de données'!$J$2:$J$114=$I$1*1),ROW('Base de données'!$H$2:$H$114)-1),ROWS($1:6))),"")} -> 0 | K8: {=IFERROR(INDEX('Base de données'!M$2:M$114,SMALL(IF((('Base de données'!$B$2:$B$114="vente"))*('Base de données'!$H$2:$H$114=$G$1)*('Base de données'!$I$2:$I$114=$H$1)*('Base de données'!$J$2:$J$114=$I$1*1),ROW('Base de données'!$H$2:$H$114)-1),ROWS($1:6))),"")} -> 0.001446 | L8: {=IFERROR(INDEX('Base de données'!Y$2:Y$114,SMALL(IF((('Base de données'!$B$2:$B$114="vente"))*('Base de données'!$H$2:$H$114=$G$1)*('Base de données'!$I$2:$I$114=$H$1)*('Base de données'!$J$2:$J$114=$I$1*1),ROW('Base de données'!$H$2:$H$114)-1),ROWS($1:6))),"")} -> 0.00059265267 | M8: {=IFERROR(INDEX('Base de données'!N$2:N$114,SMALL(IF((('Base de données'!$B$2:$B$114="vente"))*('Base de données'!$H$2:$H$114=$G$1)*('Base de données'!$I$2:$I$114=$H$1)*('Base de données'!$J$2:$J$114=$I$1*1),ROW('Base de données'!$H$2:$H$114)-1),ROWS($1:6))),"")} -> 6 | N8: =M8*J8 -> 0 | O8: {=IFERROR(INDEX('Base de données'!P$2:P$114,SMALL(IF((('Base de données'!$B$2:$B$114="vente"))*('Base de données'!$H$2:$H$114=$G$1)*('Base de données'!$I$2:$I$114=$H$1)*('Base de données'!$J$2:$J$114=$I$1*1),ROW('Base de données'!$H$2:$H$114)-1),ROWS($1:6))),"")} -> 1.496448 | P8: =O8*J8 -> 0 | Q8: =L8*J8 -> 0 | R8: =(O8+L8)/M8 -> 0.24950678
A9: {=IFERROR(INDEX('Base de données'!$A$2:$A$114,SMALL(IF((('Base de données'!$B$2:$B$114="vente"))*('Base de données'!$H$2:$H$114=$G$1)*('Base de données'!$I$2:$I$114=$H$1)*('Base de données'!$J$2:$J$114=$I$1*1),ROW('Base de données'!$H$2:$H$114)-1),ROWS($1:7))),"")} -> 201800007 | B9: {=IFERROR(INDEX('Base de données'!C$2:C$114,SMALL(IF((('Base de données'!$B$2:$B$114="vente"))*('Base de données'!$H$2:$H$114=$G$1)*('Base de données'!$I$2:$I$114=$H$1)*('Base de données'!$J$2:$J$114=$I$1*1),ROW('Base de données'!$H$2:$H$114)-1),ROWS($1:7))),"")} -> 533273 | C9: {=IFERROR(INDEX('Base de données'!D$2:D$114,SMALL(IF((('Base de données'!$B$2:$B$114="vente"))*('Base de données'!$H$2:$H$114=$G$1)*('Base de données'!$I$2:$I$114=$H$1)*('Base de données'!$J$2:$J$114=$I$1*1),ROW('Base de données'!$H$2:$H$114)-1),ROWS($1:7))),"")} -> 43138 | D9: {=IFERROR(INDEX('Base de données'!E$2:E$114,SMALL(IF((('Base de données'!$B$2:$B$114="vente"))*('Base de données'!$H$2:$H$114=$G$1)*('Base de données'!$I$2:$I$114=$H$1)*('Base de données'!$J$2:$J$114=$I$1*1),ROW('Base de données'!$H$2:$H$114)-1),ROWS($1:7))),"")} -> 510020 | E9: {=IFERROR(INDEX('Base de données'!F$2:F$114,SMALL(IF((('Base de données'!$B$2:$B$114="vente"))*('Base de données'!$H$2:$H$114=$G$1)*('Base de données'!$I$2:$I$114=$H$1)*('Base de données'!$J$2:$J$114=$I$1*1),ROW('Base de données'!$H$2:$H$114)-1),ROWS($1:7))),"")} -> INSERTO ESAG,M6 8*6 | F9: {=IFERROR(INDEX('Base de données'!G$2:G$114,SMALL(IF((('Base de données'!$B$2:$B$114="vente"))*('Base de données'!$H$2:$H$114=$G$1)*('Base de données'!$I$2:$I$114=$H$1)*('Base de données'!$J$2:$J$114=$I$1*1),ROW('Base de données'!$H$2:$H$114)-1),ROWS($1:7))),"")} -> 139 | G9: {=IFERROR(INDEX('Base de données'!H$2:H$114,SMALL(IF((('Base de données'!$B$2:$B$114="vente"))*('Base de données'!$H$2:$H$114=$G$1)*('Base de données'!$I$2:$I$114=$H$1)*('Base de données'!$J$2:$J$114=$I$1*1),ROW('Base de données'!$H$2:$H$114)-1),ROWS($1:7))),"")} -> LAITON | H9: {=IFERROR(INDEX('Base de données'!I$2:I$114,SMALL(IF((('Base de données'!$B$2:$B$114="vente"))*('Base de données'!$H$2:$H$114=$G$1)*('Base de données'!$I$2:$I$114=$H$1)*('Base de données'!$J$2:$J$114=$I$1*1),ROW('Base de données'!$H$2:$H$114)-1),ROWS($1:7))),"")} -> HEX | I9: {=IFERROR(INDEX('Base de données'!J$2:J$114,SMALL(IF((('Base de données'!$B$2:$B$114="vente"))*('Base de données'!$H$2:$H$114=$G$1)*('Base de données'!$I$2:$I$114=$H$1)*('Base de données'!$J$2:$J$114=$I$1*1),ROW('Base de données'!$H$2:$H$114)-1),ROWS($1:7))),"")} -> 8 | J9: {=IFERROR(INDEX('Base de données'!K$2:K$114,SMALL(IF((('Base de données'!$B$2:$B$114="vente"))*('Base de données'!$H$2:$H$114=$G$1)*('Base de données'!$I$2:$I$114=$H$1)*('Base de données'!$J$2:$J$114=$I$1*1),ROW('Base de données'!$H$2:$H$114)-1),ROWS($1:7))),"")} -> 0 | K9: {=IFERROR(INDEX('Base de données'!M$2:M$114,SMALL(IF((('Base de données'!$B$2:$B$114="vente"))*('Base de données'!$H$2:$H$114=$G$1)*('Base de données'!$I$2:$I$114=$H$1)*('Base de données'!$J$2:$J$114=$I$1*1),ROW('Base de données'!$H$2:$H$114)-1),ROWS($1:7))),"")} -> 0.001446 | L9: {=IFERROR(INDEX('Base de données'!Y$2:Y$114,SMALL(IF((('Base de données'!$B$2:$B$114="vente"))*('Base de données'!$H$2:$H$114=$G$1)*('Base de données'!$I$2:$I$114=$H$1)*('Base de données'!$J$2:$J$114=$I$1*1),ROW('Base de données'!$H$2:$H$114)-1),ROWS($1:7))),"")} -> 0.00059265267 | M9: {=IFERROR(INDEX('Base de données'!N$2:N$114,SMALL(IF((('Base de données'!$B$2:$B$114="vente"))*('Base de données'!$H$2:$H$114=$G$1)*('Base de données'!$I$2:$I$114=$H$1)*('Base de données'!$J$2:$J$114=$I$1*1),ROW('Base de données'!$H$2:$H$114)-1),ROWS($1:7))),"")} -> 6 | N9: =M9*J9 -> 0 | O9: {=IFERROR(INDEX('Base de données'!P$2:P$114,SMALL(IF((('Base de données'!$B$2:$B$114="vente"))*('Base de données'!$H$2:$H$114=$G$1)*('Base de données'!$I$2:$I$114=$H$1)*('Base de données'!$J$2:$J$114=$I$1*1),ROW('Base de données'!$H$2:$H$114)-1),ROWS($1:7))),"")} -> 1.496448 | P9: =O9*J9 -> 0 | Q9: =L9*J9 -> 0 | R9: =(O9+L9)/M9 -> 0.24950678
A10: {=IFERROR(INDEX('Base de données'!$A$2:$A$114,SMALL(IF((('Base de données'!$B$2:$B$114="vente"))*('Base de données'!$H$2:$H$114=$G$1)*('Base de données'!$I$2:$I$114=$H$1)*('Base de données'!$J$2:$J$114=$I$1*1),ROW('Base de données'!$H$2:$H$114)-1),ROWS($1:8))),"")} -> 201800014 | B10: {=IFERROR(INDEX('Base de données'!C$2:C$114,SMALL(IF((('Base de données'!$B$2:$B$114="vente"))*('Base de données'!$H$2:$H$114=$G$1)*('Base de données'!$I$2:$I$114=$H$1)*('Base de données'!$J$2:$J$114=$I$1*1),ROW('Base de données'!$H$2:$H$114)-1),ROWS($1:8))),"")} -> 533899 | C10: {=IFERROR(INDEX('Base de données'!D$2:D$114,SMALL(IF((('Base de données'!$B$2:$B$114="vente"))*('Base de données'!$H$2:$H$114=$G$1)*('Base de données'!$I$2:$I$114=$H$1)*('Base de données'!$J$2:$J$114=$I$1*1),ROW('Base de données'!$H$2:$H$114)-1),ROWS($1:8))),"")} -> 43166 | D10: {=IFERROR(INDEX('Base de données'!E$2:E$114,SMALL(IF((('Base de données'!$B$2:$B$114="vente"))*('Base de données'!$H$2:$H$114=$G$1)*('Base de données'!$I$2:$I$114=$H$1)*('Base de données'!$J$2:$J$114=$I$1*1),ROW('Base de données'!$H$2:$H$114)-1),ROWS($1:8))),"")} -> 510020 | E10: {=IFERROR(INDEX('Base de données'!F$2:F$114,SMALL(IF((('Base de données'!$B$2:$B$114="vente"))*('Base de données'!$H$2:$H$114=$G$1)*('Base de données'!$I$2:$I$114=$H$1)*('Base de données'!$J$2:$J$114=$I$1*1),ROW('Base de données'!$H$2:$H$114)-1),ROWS($1:8))),"")} -> INSERTO ESAG,M6 8*6 | F10: {=IFERROR(INDEX('Base de données'!G$2:G$114,SMALL(IF((('Base de données'!$B$2:$B$114="vente"))*('Base de données'!$H$2:$H$114=$G$1)*('Base de données'!$I$2:$I$114=$H$1)*('Base de données'!$J$2:$J$114=$I$1*1),ROW('Base de données'!$H$2:$H$114)-1),ROWS($1:8))),"")} -> 139 | G10: {=IFERROR(INDEX('Base de données'!H$2:H$114,SMALL(IF((('Base de données'!$B$2:$B$114="vente"))*('Base de données'!$H$2:$H$114=$G$1)*('Base de données'!$I$2:$I$114=$H$1)*('Base de données'!$J$2:$J$114=$I$1*1),ROW('Base de données'!$H$2:$H$114)-1),ROWS($1:8))),"")} -> LAITON | H10: {=IFERROR(INDEX('Base de données'!I$2:I$114,SMALL(IF((('Base de données'!$B$2:$B$114="vente"))*('Base de données'!$H$2:$H$114=$G$1)*('Base de données'!$I$2:$I$114=$H$1)*('Base de données'!$J$2:$J$114=$I$1*1),ROW('Base de données'!$H$2:$H$114)-1),ROWS($1:8))),"")} -> HEX | I10: {=IFERROR(INDEX('Base de données'!J$2:J$114,SMALL(IF((('Base de données'!$B$2:$B$114="vente"))*('Base de données'!$H$2:$H$114=$G$1)*('Base de données'!$I$2:$I$114=$H$1)*('Base de données'!$J$2:$J$114=$I$1*1),ROW('Base de données'!$H$2:$H$114)-1),ROWS($1:8))),"")} -> 8 | J10: {=IFERROR(INDEX('Base de données'!K$2:K$114,SMALL(IF((('Base de données'!$B$2:$B$114="vente"))*('Base de données'!$H$2:$H$114=$G$1)*('Base de données'!$I$2:$I$114=$H$1)*('Base de données'!$J$2:$J$114=$I$1*1),ROW('Base de données'!$H$2:$H$114)-1),ROWS($1:8))),"")} -> 0 | K10: {=IFERROR(INDEX('Base de données'!M$2:M$114,SMALL(IF((('Base de données'!$B$2:$B$114="vente"))*('Base de données'!$H$2:$H$114=$G$1)*('Base de données'!$I$2:$I$114=$H$1)*('Base de données'!$J$2:$J$114=$I$1*1),ROW('Base de données'!$H$2:$H$114)-1),ROWS($1:8))),"")} -> 0.001446 | L10: {=IFERROR(INDEX('Base de données'!Y$2:Y$114,SMALL(IF((('Base de données'!$B$2:$B$114="vente"))*('Base de données'!$H$2:$H$114=$G$1)*('Base de données'!$I$2:$I$114=$H$1)*('Base de données'!$J$2:$J$114=$I$1*1),ROW('Base de données'!$H$2:$H$114)-1),ROWS($1:8))),"")} -> 0.00059265267 | M10: {=IFERROR(INDEX('Base de données'!N$2:N$114,SMALL(IF((('Base de données'!$B$2:$B$114="vente"))*('Base de données'!$H$2:$H$114=$G$1)*('Base de données'!$I$2:$I$114=$H$1)*('Base de données'!$J$2:$J$114=$I$1*1),ROW('Base de données'!$H$2:$H$114)-1),ROWS($1:8))),"")} -> 6 | N10: =M10*J10 -> 0 | O10: {=IFERROR(INDEX('Base de données'!P$2:P$114,SMALL(IF((('Base de données'!$B$2:$B$114="vente"))*('Base de données'!$H$2:$H$114=$G$1)*('Base de données'!$I$2:$I$114=$H$1)*('Base de données'!$J$2:$J$114=$I$1*1),ROW('Base de données'!$H$2:$H$114)-1),ROWS($1:8))),"")} -> 1.496448 | P10: =O10*J10 -> 0 | Q10: =L10*J10 -> 0 | R10: =(O10+L10)/M10 -> 0.24950678
A11: {=IFERROR(INDEX('Base de données'!$A$2:$A$114,SMALL(IF((('Base de données'!$B$2:$B$114="vente"))*('Base de données'!$H$2:$H$114=$G$1)*('Base de données'!$I$2:$I$114=$H$1)*('Base de données'!$J$2:$J$114=$I$1*1),ROW('Base de données'!$H$2:$H$114)-1),ROWS($1:9))),"")} -> 201800026 | B11: {=IFERROR(INDEX('Base de données'!C$2:C$114,SMALL(IF((('Base de données'!$B$2:$B$114="vente"))*('Base de données'!$H$2:$H$114=$G$1)*('Base de données'!$I$2:$I$114=$H$1)*('Base de données'!$J$2:$J$114=$I$1*1),ROW('Base de données'!$H$2:$H$114)-1),ROWS($1:9))),"")} -> 534802 | C11: {=IFERROR(INDEX('Base de données'!D$2:D$114,SMALL(IF((('Base de données'!$B$2:$B$114="vente"))*('Base de données'!$H$2:$H$114=$G$1)*('Base de données'!$I$2:$I$114=$H$1)*('Base de données'!$J$2:$J$114=$I$1*1),ROW('Base de données'!$H$2:$H$114)-1),ROWS($1:9))),"")} -> 43200 | D11: {=IFERROR(INDEX('Base de données'!E$2:E$114,SMALL(IF((('Base de données'!$B$2:$B$114="vente"))*('Base de données'!$H$2:$H$114=$G$1)*('Base de données'!$I$2:$I$114=$H$1)*('Base de données'!$J$2:$J$114=$I$1*1),ROW('Base de données'!$H$2:$H$114)-1),ROWS($1:9))),"")} -> 510020 | E11: {=IFERROR(INDEX('Base de données'!F$2:F$114,SMALL(IF((('Base de données'!$B$2:$B$114="vente"))*('Base de données'!$H$2:$H$114=$G$1)*('Base de données'!$I$2:$I$114=$H$1)*('Base de données'!$J$2:$J$114=$I$1*1),ROW('Base de données'!$H$2:$H$114)-1),ROWS($1:9))),"")} -> INSERTO ESAG,M6 8*6 | F11: {=IFERROR(INDEX('Base de données'!G$2:G$114,SMALL(IF((('Base de données'!$B$2:$B$114="vente"))*('Base de données'!$H$2:$H$114=$G$1)*('Base de données'!$I$2:$I$114=$H$1)*('Base de données'!$J$2:$J$114=$I$1*1),ROW('Base de données'!$H$2:$H$114)-1),ROWS($1:9))),"")} -> 139 | G11: {=IFERROR(INDEX('Base de données'!H$2:H$114,SMALL(IF((('Base de données'!$B$2:$B$114="vente"))*('Base de données'!$H$2:$H$114=$G$1)*('Base de données'!$I$2:$I$114=$H$1)*('Base de données'!$J$2:$J$114=$I$1*1),ROW('Base de données'!$H$2:$H$114)-1),ROWS($1:9))),"")} -> LAITON | H11: {=IFERROR(INDEX('Base de données'!I$2:I$114,SMALL(IF((('Base de données'!$B$2:$B$114="vente"))*('Base de données'!$H$2:$H$114=$G$1)*('Base de données'!$I$2:$I$114=$H$1)*('Base de données'!$J$2:$J$114=$I$1*1),ROW('Base de données'!$H$2:$H$114)-1),ROWS($1:9))),"")} -> HEX | I11: {=IFERROR(INDEX('Base de données'!J$2:J$114,SMALL(IF((('Base de données'!$B$2:$B$114="vente"))*('Base de données'!$H$2:$H$114=$G$1)*('Base de données'!$I$2:$I$114=$H$1)*('Base de données'!$J$2:$J$114=$I$1*1),ROW('Base de données'!$H$2:$H$114)-1),ROWS($1:9))),"")} -> 8 | J11: {=IFERROR(INDEX('Base de données'!K$2:K$114,SMALL(IF((('Base de données'!$B$2:$B$114="vente"))*('Base de données'!$H$2:$H$114=$G$1)*('Base de données'!$I$2:$I$114=$H$1)*('Base de données'!$J$2:$J$114=$I$1*1),ROW('Base de données'!$H$2:$H$114)-1),ROWS($1:9))),"")} -> 0 | K11: {=IFERROR(INDEX('Base de données'!M$2:M$114,SMALL(IF((('Base de données'!$B$2:$B$114="vente"))*('Base de données'!$H$2:$H$114=$G$1)*('Base de données'!$I$2:$I$114=$H$1)*('Base de données'!$J$2:$J$114=$I$1*1),ROW('Base de données'!$H$2:$H$114)-1),ROWS($1:9))),"")} -> 0.001446 | L11: {=IFERROR(INDEX('Base de données'!Y$2:Y$114,SMALL(IF((('Base de données'!$B$2:$B$114="vente"))*('Base de données'!$H$2:$H$114=$G$1)*('Base de données'!$I$2:$I$114=$H$1)*('Base de données'!$J$2:$J$114=$I$1*1),ROW('Base de données'!$H$2:$H$114)-1),ROWS($1:9))),"")} -> 0.00059265267 | M11: {=IFERROR(INDEX('Base de données'!N$2:N$114,SMALL(IF((('Base de données'!$B$2:$B$114="vente"))*('Base de données'!$H$2:$H$114=$G$1)*('Base de données'!$I$2:$I$114=$H$1)*('Base de données'!$J$2:$J$114=$I$1*1),ROW('Base de données'!$H$2:$H$114)-1),ROWS($1:9))),"")} -> 6 | N11: =M11*J11 -> 0 | O11: {=IFERROR(INDEX('Base de données'!P$2:P$114,SMALL(IF((('Base de données'!$B$2:$B$114="vente"))*('Base de données'!$H$2:$H$114=$G$1)*('Base de données'!$I$2:$I$114=$H$1)*('Base de données'!$J$2:$J$114=$I$1*1),ROW('Base de données'!$H$2:$H$114)-1),ROWS($1:9))),"")} -> 1.496448 | P11: =O11*J11 -> 0 | Q11: =L11*J11 -> 0 | R11: =(O11+L11)/M11 -> 0.24950678
A12: {=IFERROR(INDEX('Base de données'!$A$2:$A$114,SMALL(IF((('Base de données'!$B$2:$B$114="vente"))*('Base de données'!$H$2:$H$114=$G$1)*('Base de données'!$I$2:$I$114=$H$1)*('Base de données'!$J$2:$J$114=$I$1*1),ROW('Base de données'!$H$2:$H$114)-1),ROWS($1:10))),"")} -> 201800060 | B12: {=IFERROR(INDEX('Base de données'!C$2:C$114,SMALL(IF((('Base de données'!$B$2:$B$114="vente"))*('Base de données'!$H$2:$H$114=$G$1)*('Base de données'!$I$2:$I$114=$H$1)*('Base de données'!$J$2:$J$114=$I$1*1),ROW('Base de données'!$H$2:$H$114)-1),ROWS($1:10))),"")} -> 537461 | C12: {=IFERROR(INDEX('Base de données'!D$2:D$114,SMALL(IF((('Base de données'!$B$2:$B$114="vente"))*('Base de données'!$H$2:$H$114=$G$1)*('Base de données'!$I$2:$I$114=$H$1)*('Base de données'!$J$2:$J$114=$I$1*1),ROW('Base de données'!$H$2:$H$114)-1),ROWS($1:10))),"")} -> 43320 | D12: {=IFERROR(INDEX('Base de données'!E$2:E$114,SMALL(IF((('Base de données'!$B$2:$B$114="vente"))*('Base de données'!$H$2:$H$114=$G$1)*('Base de données'!$I$2:$I$114=$H$1)*('Base de données'!$J$2:$J$114=$I$1*1),ROW('Base de données'!$H$2:$H$114)-1),ROWS($1:10))),"")} -> 510020 | E12: {=IFERROR(INDEX('Base de données'!F$2:F$114,SMALL(IF((('Base de données'!$B$2:$B$114="vente"))*('Base de données'!$H$2:$H$114=$G$1)*('Base de données'!$I$2:$I$114=$H$1)*('Base de données'!$J$2:$J$114=$I$1*1),ROW('Base de données'!$H$2:$H$114)-1),ROWS($1:10))),"")} -> INSERTO ESAG,M6 8*6 | F12: {=IFERROR(INDEX('Base de données'!G$2:G$114,SMALL(IF((('Base de données'!$B$2:$B$114="vente"))*('Base de données'!$H$2:$H$114=$G$1)*('Base de données'!$I$2:$I$114=$H$1)*('Base de données'!$J$2:$J$114=$I$1*1),ROW('Base de données'!$H$2:$H$114)-1),ROWS($1:10))),"")} -> 139 | G12: {=IFERROR(INDEX('Base de données'!H$2:H$114,SMALL(IF((('Base de données'!$B$2:$B$114="vente"))*('Base de données'!$H$2:$H$114=$G$1)*('Base de données'!$I$2:$I$114=$H$1)*('Base de données'!$J$2:$J$114=$I$1*1),ROW('Base de données'!$H$2:$H$114)-1),ROWS($1:10))),"")} -> LAITON | H12: {=IFERROR(INDEX('Base de données'!I$2:I$114,SMALL(IF((('Base de données'!$B$2:$B$114="vente"))*('Base de données'!$H$2:$H$114=$G$1)*('Base de données'!$I$2:$I$114=$H$1)*('Base de données'!$J$2:$J$114=$I$1*1),ROW('Base de données'!$H$2:$H$114)-1),ROWS($1:10))),"")} -> HEX | I12: {=IFERROR(INDEX('Base de données'!J$2:J$114,SMALL(IF((('Base de données'!$B$2:$B$114="vente"))*('Base de données'!$H$2:$H$114=$G$1)*('Base de données'!$I$2:$I$114=$H$1)*('Base de données'!$J$2:$J$114=$I$1*1),ROW('Base de données'!$H$2:$H$114)-1),ROWS($1:10))),"")} -> 8 | J12: {=IFERROR(INDEX('Base de données'!K$2:K$114,SMALL(IF((('Base de données'!$B$2:$B$114="vente"))*('Base de données'!$H$2:$H$114=$G$1)*('Base de données'!$I$2:$I$114=$H$1)*('Base de données'!$J$2:$J$114=$I$1*1),ROW('Base de données'!$H$2:$H$114)-1),ROWS($1:10))),"")} -> 0 | K12: {=IFERROR(INDEX('Base de données'!M$2:M$114,SMALL(IF((('Base de données'!$B$2:$B$114="vente"))*('Base de données'!$H$2:$H$114=$G$1)*('Base de données'!$I$2:$I$114=$H$1)*('Base de données'!$J$2:$J$114=$I$1*1),ROW('Base de données'!$H$2:$H$114)-1),ROWS($1:10))),"")} -> 0.001446 | L12: {=IFERROR(INDEX('Base de données'!Y$2:Y$114,SMALL(IF((('Base de données'!$B$2:$B$114="vente"))*('Base de données'!$H$2:$H$114=$G$1)*('Base de données'!$I$2:$I$114=$H$1)*('Base de données'!$J$2:$J$114=$I$1*1),ROW('Base de données'!$H$2:$H$114)-1),ROWS($1:10))),"")} -> 0.00059265267 | M12: {=IFERROR(INDEX('Base de données'!N$2:N$114,SMALL(IF((('Base de données'!$B$2:$B$114="vente"))*('Base de données'!$H$2:$H$114=$G$1)*('Base de données'!$I$2:$I$114=$H$1)*('Base de données'!$J$2:$J$114=$I$1*1),ROW('Base de données'!$H$2:$H$114)-1),ROWS($1:10))),"")} -> 6 | N12: =M12*J12 -> 0 | O12: {=IFERROR(INDEX('Base de données'!P$2:P$114,SMALL(IF((('Base de données'!$B$2:$B$114="vente"))*('Base de données'!$H$2:$H$114=$G$1)*('Base de données'!$I$2:$I$114=$H$1)*('Base de données'!$J$2:$J$114=$I$1*1),ROW('Base de données'!$H$2:$H$114)-1),ROWS($1:10))),"")} -> 1.496448 | P12: =O12*J12 -> 0 | Q12: =L12*J12 -> 0 | R12: =(O12+L12)/M12 -> 0.24950678
A13: {=IFERROR(INDEX('Base de données'!$A$2:$A$114,SMALL(IF((('Base de données'!$B$2:$B$114="vente"))*('Base de données'!$H$2:$H$114=$G$1)*('Base de données'!$I$2:$I$114=$H$1)*('Base de données'!$J$2:$J$114=$I$1*1),ROW('Base de données'!$H$2:$H$114)-1),ROWS($1:11))),"")} -> 201800073 | B13: {=IFERROR(INDEX('Base de données'!C$2:C$114,SMALL(IF((('Base de données'!$B$2:$B$114="vente"))*('Base de données'!$H$2:$H$114=$G$1)*('Base de données'!$I$2:$I$114=$H$1)*('Base de données'!$J$2:$J$114=$I$1*1),ROW('Base de données'!$H$2:$H$114)-1),ROWS($1:11))),"")} -> 537851 | C13: {=IFERROR(INDEX('Base de données'!D$2:D$114,SMALL(IF((('Base de données'!$B$2:$B$114="vente"))*('Base de données'!$H$2:$H$114=$G$1)*('Base de données'!$I$2:$I$114=$H$1)*('Base de données'!$J$2:$J$114=$I$1*1),ROW('Base de données'!$H$2:$H$114)-1),ROWS($1:11))),"")} -> 43350 | D13: {=IFERROR(INDEX('Base de données'!E$2:E$114,SMALL(IF((('Base de données'!$B$2:$B$114="vente"))*('Base de données'!$H$2:$H$114=$G$1)*('Base de données'!$I$2:$I$114=$H$1)*('Base de données'!$J$2:$J$114=$I$1*1),ROW('Base de données'!$H$2:$H$114)-1),ROWS($1:11))),"")} -> 510020 | E13: {=IFERROR(INDEX('Base de données'!F$2:F$114,SMALL(IF((('Base de données'!$B$2:$B$114="vente"))*('Base de données'!$H$2:$H$114=$G$1)*('Base de données'!$I$2:$I$114=$H$1)*('Base de données'!$J$2:$J$114=$I$1*1),ROW('Base de données'!$H$2:$H$114)-1),ROWS($1:11))),"")} -> INSERTO ESAG,M6 8*6 | F13: {=IFERROR(INDEX('Base de données'!G$2:G$114,SMALL(IF((('Base de données'!$B$2:$B$114="vente"))*('Base de données'!$H$2:$H$114=$G$1)*('Base de données'!$I$2:$I$114=$H$1)*('Base de données'!$J$2:$J$114=$I$1*1),ROW('Base de données'!$H$2:$H$114)-1),ROWS($1:11))),"")} -> 139 | G13: {=IFERROR(INDEX('Base de données'!H$2:H$114,SMALL(IF((('Base de données'!$B$2:$B$114="vente"))*('Base de données'!$H$2:$H$114=$G$1)*('Base de données'!$I$2:$I$114=$H$1)*('Base de données'!$J$2:$J$114=$I$1*1),ROW('Base de données'!$H$2:$H$114)-1),ROWS($1:11))),"")} -> LAITON | H13: {=IFERROR(INDEX('Base de données'!I$2:I$114,SMALL(IF((('Base de données'!$B$2:$B$114="vente"))*('Base de données'!$H$2:$H$114=$G$1)*('Base de données'!$I$2:$I$114=$H$1)*('Base de données'!$J$2:$J$114=$I$1*1),ROW('Base de données'!$H$2:$H$114)-1),ROWS($1:11))),"")} -> HEX | I13: {=IFERROR(INDEX('Base de données'!J$2:J$114,SMALL(IF((('Base de données'!$B$2:$B$114="vente"))*('Base de données'!$H$2:$H$114=$G$1)*('Base de données'!$I$2:$I$114=$H$1)*('Base de données'!$J$2:$J$114=$I$1*1),ROW('Base de données'!$H$2:$H$114)-1),ROWS($1:11))),"")} -> 8 | J13: {=IFERROR(INDEX('Base de données'!K$2:K$114,SMALL(IF((('Base de données'!$B$2:$B$114="vente"))*('Base de données'!$H$2:$H$114=$G$1)*('Base de données'!$I$2:$I$114=$H$1)*('Base de données'!$J$2:$J$114=$I$1*1),ROW('Base de données'!$H$2:$H$114)-1),ROWS($1:11))),"")} -> 0 | K13: {=IFERROR(INDEX('Base de données'!M$2:M$114,SMALL(IF((('Base de données'!$B$2:$B$114="vente"))*('Base de données'!$H$2:$H$114=$G$1)*('Base de données'!$I$2:$I$114=$H$1)*('Base de données'!$J$2:$J$114=$I$1*1),ROW('Base de données'!$H$2:$H$114)-1),ROWS($1:11))),"")} -> 0.001446 | L13: {=IFERROR(INDEX('Base de données'!Y$2:Y$114,SMALL(IF((('Base de données'!$B$2:$B$114="vente"))*('Base de données'!$H$2:$H$114=$G$1)*('Base de données'!$I$2:$I$114=$H$1)*('Base de données'!$J$2:$J$114=$I$1*1),ROW('Base de données'!$H$2:$H$114)-1),ROWS($1:11))),"")} -> 0.00059265267 | M13: {=IFERROR(INDEX('Base de données'!N$2:N$114,SMALL(IF((('Base de données'!$B$2:$B$114="vente"))*('Base de données'!$H$2:$H$114=$G$1)*('Base de données'!$I$2:$I$114=$H$1)*('Base de données'!$J$2:$J$114=$I$1*1),ROW('Base de données'!$H$2:$H$114)-1),ROWS($1:11))),"")} -> 6 | N13: =M13*J13 -> 0 | O13: {=IFERROR(INDEX('Base de données'!P$2:P$114,SMALL(IF((('Base de données'!$B$2:$B$114="vente"))*('Base de données'!$H$2:$H$114=$G$1)*('Base de données'!$I$2:$I$114=$H$1)*('Base de données'!$J$2:$J$114=$I$1*1),ROW('Base de données'!$H$2:$H$114)-1),ROWS($1:11))),"")} -> 1.496448 | P13: =O13*J13 -> 0 | Q13: =L13*J13 -> 0 | R13: =(O13+L13)/M13 -> 0.24950678
A14: {=IFERROR(INDEX('Base de données'!$A$2:$A$114,SMALL(IF((('Base de données'!$B$2:$B$114="vente"))*('Base de données'!$H$2:$H$114=$G$1)*('Base de données'!$I$2:$I$114=$H$1)*('Base de données'!$J$2:$J$114=$I$1*1),ROW('Base de données'!$H$2:$H$114)-1),ROWS($1:12))),"")} -> 201800084 | B14: {=IFERROR(INDEX('Base de données'!C$2:C$114,SMALL(IF((('Base de données'!$B$2:$B$114="vente"))*('Base de données'!$H$2:$H$114=$G$1)*('Base de données'!$I$2:$I$114=$H$1)*('Base de données'!$J$2:$J$114=$I$1*1),ROW('Base de données'!$H$2:$H$114)-1),ROWS($1:12))),"")} -> 539092 | C14: {=IFERROR(INDEX('Base de données'!D$2:D$114,SMALL(IF((('Base de données'!$B$2:$B$114="vente"))*('Base de données'!$H$2:$H$114=$G$1)*('Base de données'!$I$2:$I$114=$H$1)*('Base de données'!$J$2:$J$114=$I$1*1),ROW('Base de données'!$H$2:$H$114)-1),ROWS($1:12))),"")} -> 43411 | D14: {=IFERROR(INDEX('Base de données'!E$2:E$114,SMALL(IF((('Base de données'!$B$2:$B$114="vente"))*('Base de données'!$H$2:$H$114=$G$1)*('Base de données'!$I$2:$I$114=$H$1)*('Base de données'!$J$2:$J$114=$I$1*1),ROW('Base de données'!$H$2:$H$114)-1),ROWS($1:12))),"")} -> 510020 | E14: {=IFERROR(INDEX('Base de données'!F$2:F$114,SMALL(IF((('Base de données'!$B$2:$B$114="vente"))*('Base de données'!$H$2:$H$114=$G$1)*('Base de données'!$I$2:$I$114=$H$1)*('Base de données'!$J$2:$J$114=$I$1*1),ROW('Base de données'!$H$2:$H$114)-1),ROWS($1:12))),"")} -> INSERTO ESAG,M6 8*6 | F14: {=IFERROR(INDEX('Base de données'!G$2:G$114,SMALL(IF((('Base de données'!$B$2:$B$114="vente"))*('Base de données'!$H$2:$H$114=$G$1)*('Base de données'!$I$2:$I$114=$H$1)*('Base de données'!$J$2:$J$114=$I$1*1),ROW('Base de données'!$H$2:$H$114)-1),ROWS($1:12))),"")} -> 139 | G14: {=IFERROR(INDEX('Base de données'!H$2:H$114,SMALL(IF((('Base de données'!$B$2:$B$114="vente"))*('Base de données'!$H$2:$H$114=$G$1)*('Base de données'!$I$2:$I$114=$H$1)*('Base de données'!$J$2:$J$114=$I$1*1),ROW('Base de données'!$H$2:$H$114)-1),ROWS($1:12))),"")} -> LAITON | H14: {=IFERROR(INDEX('Base de données'!I$2:I$114,SMALL(IF((('Base de données'!$B$2:$B$114="vente"))*('Base de données'!$H$2:$H$114=$G$1)*('Base de données'!$I$2:$I$114=$H$1)*('Base de données'!$J$2:$J$114=$I$1*1),ROW('Base de données'!$H$2:$H$114)-1),ROWS($1:12))),"")} -> HEX | I14: {=IFERROR(INDEX('Base de données'!J$2:J$114,SMALL(IF((('Base de données'!$B$2:$B$114="vente"))*('Base de données'!$H$2:$H$114=$G$1)*('Base de données'!$I$2:$I$114=$H$1)*('Base de données'!$J$2:$J$114=$I$1*1),ROW('Base de données'!$H$2:$H$114)-1),ROWS($1:12))),"")} -> 8 | J14: {=IFERROR(INDEX('Base de données'!K$2:K$114,SMALL(IF((('Base de données'!$B$2:$B$114="vente"))*('Base de données'!$H$2:$H$114=$G$1)*('Base de données'!$I$2:$I$114=$H$1)*('Base de données'!$J$2:$J$114=$I$1*1),ROW('Base de données'!$H$2:$H$114)-1),ROWS($1:12))),"")} -> 0 | K14: {=IFERROR(INDEX('Base de données'!M$2:M$114,SMALL(IF((('Base de données'!$B$2:$B$114="vente"))*('Base de données'!$H$2:$H$114=$G$1)*('Base de données'!$I$2:$I$114=$H$1)*('Base de données'!$J$2:$J$114=$I$1*1),ROW('Base de données'!$H$2:$H$114)-1),ROWS($1:12))),"")} -> 0.001446 | L14: {=IFERROR(INDEX('Base de données'!Y$2:Y$114,SMALL(IF((('Base de données'!$B$2:$B$114="vente"))*('Base de données'!$H$2:$H$114=$G$1)*('Base de données'!$I$2:$I$114=$H$1)*('Base de données'!$J$2:$J$114=$I$1*1),ROW('Base de données'!$H$2:$H$114)-1),ROWS($1:12))),"")} -> 0.00059265267 | M14: {=IFERROR(INDEX('Base de données'!N$2:N$114,SMALL(IF((('Base de données'!$B$2:$B$114="vente"))*('Base de données'!$H$2:$H$114=$G$1)*('Base de données'!$I$2:$I$114=$H$1)*('Base de données'!$J$2:$J$114=$I$1*1),ROW('Base de données'!$H$2:$H$114)-1),ROWS($1:12))),"")} -> 6 | N14: =M14*J14 -> 0 | O14: {=IFERROR(INDEX('Base de données'!P$2:P$114,SMALL(IF((('Base de données'!$B$2:$B$114="vente"))*('Base de données'!$H$2:$H$114=$G$1)*('Base de données'!$I$2:$I$114=$H$1)*('Base de données'!$J$2:$J$114=$I$1*1),ROW('Base de données'!$H$2:$H$114)-1),ROWS($1:12))),"")} -> 1.496448 | P14: =O14*J14 -> 0 | Q14: =L14*J14 -> 0 | R14: =(O14+L14)/M14 -> 0.24950678
A15: {=IFERROR(INDEX('Base de données'!$A$2:$A$114,SMALL(IF((('Base de données'!$B$2:$B$114="vente"))*('Base de données'!$H$2:$H$114=$G$1)*('Base de données'!$I$2:$I$114=$H$1)*('Base de données'!$J$2:$J$114=$I$1*1),ROW('Base de données'!$H$2:$H$114)-1),ROWS($1:13))),"")} -> 201800102 | B15: {=IFERROR(INDEX('Base de données'!C$2:C$114,SMALL(IF((('Base de données'!$B$2:$B$114="vente"))*('Base de données'!$H$2:$H$114=$G$1)*('Base de données'!$I$2:$I$114=$H$1)*('Base de données'!$J$2:$J$114=$I$1*1),ROW('Base de données'!$H$2:$H$114)-1),ROWS($1:13))),"")} -> 540304 | C15: {=IFERROR(INDEX('Base de données'!D$2:D$114,SMALL(IF((('Base de données'!$B$2:$B$114="vente"))*('Base de données'!$H$2:$H$114=$G$1)*('Base de données'!$I$2:$I$114=$H$1)*('Base de données'!$J$2:$J$114=$I$1*1),ROW('Base de données'!$H$2:$H$114)-1),ROWS($1:13))),"")} -> 43470 | D15: {=IFERROR(INDEX('Base de données'!E$2:E$114,SMALL(IF((('Base de données'!$B$2:$B$114="vente"))*('Base de données'!$H$2:$H$114=$G$1)*('Base de données'!$I$2:$I$114=$H$1)*('Base de données'!$J$2:$J$114=$I$1*1),ROW('Base de données'!$H$2:$H$114)-1),ROWS($1:13))),"")} -> 510020 | E15: {=IFERROR(INDEX('Base de données'!F$2:F$114,SMALL(IF((('Base de données'!$B$2:$B$114="vente"))*('Base de données'!$H$2:$H$114=$G$1)*('Base de données'!$I$2:$I$114=$H$1)*('Base de données'!$J$2:$J$114=$I$1*1),ROW('Base de données'!$H$2:$H$114)-1),ROWS($1:13))),"")} -> INSERTO ESAG,M6 8*6 | F15: {=IFERROR(INDEX('Base de données'!G$2:G$114,SMALL(IF((('Base de données'!$B$2:$B$114="vente"))*('Base de données'!$H$2:$H$114=$G$1)*('Base de données'!$I$2:$I$114=$H$1)*('Base de données'!$J$2:$J$114=$I$1*1),ROW('Base de données'!$H$2:$H$114)-1),ROWS($1:13))),"")} -> 139 | G15: {=IFERROR(INDEX('Base de données'!H$2:H$114,SMALL(IF((('Base de données'!$B$2:$B$114="vente"))*('Base de données'!$H$2:$H$114=$G$1)*('Base de données'!$I$2:$I$114=$H$1)*('Base de données'!$J$2:$J$114=$I$1*1),ROW('Base de données'!$H$2:$H$114)-1),ROWS($1:13))),"")} -> LAITON | H15: {=IFERROR(INDEX('Base de données'!I$2:I$114,SMALL(IF((('Base de données'!$B$2:$B$114="vente"))*('Base de données'!$H$2:$H$114=$G$1)*('Base de données'!$I$2:$I$114=$H$1)*('Base de données'!$J$2:$J$114=$I$1*1),ROW('Base de données'!$H$2:$H$114)-1),ROWS($1:13))),"")} -> HEX | I15: {=IFERROR(INDEX('Base de données'!J$2:J$114,SMALL(IF((('Base de données'!$B$2:$B$114="vente"))*('Base de données'!$H$2:$H$114=$G$1)*('Base de données'!$I$2:$I$114=$H$1)*('Base de données'!$J$2:$J$114=$I$1*1),ROW('Base de données'!$H$2:$H$114)-1),ROWS($1:13))),"")} -> 8 | J15: {=IFERROR(INDEX('Base de données'!K$2:K$114,SMALL(IF((('Base de données'!$B$2:$B$114="vente"))*('Base de données'!$H$2:$H$114=$G$1)*('Base de données'!$I$2:$I$114=$H$1)*('Base de données'!$J$2:$J$114=$I$1*1),ROW('Base de données'!$H$2:$H$114)-1),ROWS($1:13))),"")} -> 0 | K15: {=IFERROR(INDEX('Base de données'!M$2:M$114,SMALL(IF((('Base de données'!$B$2:$B$114="vente"))*('Base de données'!$H$2:$H$114=$G$1)*('Base de données'!$I$2:$I$114=$H$1)*('Base de données'!$J$2:$J$114=$I$1*1),ROW('Base de données'!$H$2:$H$114)-1),ROWS($1:13))),"")} -> 0.001446 | L15: {=IFERROR(INDEX('Base de données'!Y$2:Y$114,SMALL(IF((('Base de données'!$B$2:$B$114="vente"))*('Base de données'!$H$2:$H$114=$G$1)*('Base de données'!$I$2:$I$114=$H$1)*('Base de données'!$J$2:$J$114=$I$1*1),ROW('Base de données'!$H$2:$H$114)-1),ROWS($1:13))),"")} -> 0.00059265267 | M15: {=IFERROR(INDEX('Base de données'!N$2:N$114,SMALL(IF((('Base de données'!$B$2:$B$114="vente"))*('Base de données'!$H$2:$H$114=$G$1)*('Base de données'!$I$2:$I$114=$H$1)*('Base de données'!$J$2:$J$114=$I$1*1),ROW('Base de données'!$H$2:$H$114)-1),ROWS($1:13))),"")} -> 6 | N15: =M15*J15 -> 0 | O15: {=IFERROR(INDEX('Base de données'!P$2:P$114,SMALL(IF((('Base de données'!$B$2:$B$114="vente"))*('Base de données'!$H$2:$H$114=$G$1)*('Base de données'!$I$2:$I$114=$H$1)*('Base de données'!$J$2:$J$114=$I$1*1),ROW('Base de données'!$H$2:$H$114)-1),ROWS($1:13))),"")} -> 1.496448 | P15: =O15*J15 -> 0 | Q15: =L15*J15 -> 0 | R15: =(O15+L15)/M15 -> 0.24950678
A16: {=IFERROR(INDEX('Base de données'!$A$2:$A$114,SMALL(IF((('Base de données'!$B$2:$B$114="vente"))*('Base de données'!$H$2:$H$114=$G$1)*('Base de données'!$I$2:$I$114=$H$1)*('Base de données'!$J$2:$J$114=$I$1*1),ROW('Base de données'!$H$2:$H$114)-1),ROWS($1:14))),"")} -> 201900004 | B16: {=IFERROR(INDEX('Base de données'!C$2:C$114,SMALL(IF((('Base de données'!$B$2:$B$114="vente"))*('Base de données'!$H$2:$H$114=$G$1)*('Base de données'!$I$2:$I$114=$H$1)*('Base de données'!$J$2:$J$114=$I$1*1),ROW('Base de données'!$H$2:$H$114)-1),ROWS($1:14))),"")} -> 540988 | C16: {=IFERROR(INDEX('Base de données'!D$2:D$114,SMALL(IF((('Base de données'!$B$2:$B$114="vente"))*('Base de données'!$H$2:$H$114=$G$1)*('Base de données'!$I$2:$I$114=$H$1)*('Base de données'!$J$2:$J$114=$I$1*1),ROW('Base de données'!$H$2:$H$114)-1),ROWS($1:14))),"")} -> 43502 | D16: {=IFERROR(INDEX('Base de données'!E$2:E$114,SMALL(IF((('Base de données'!$B$2:$B$114="vente"))*('Base de données'!$H$2:$H$114=$G$1)*('Base de données'!$I$2:$I$114=$H$1)*('Base de données'!$J$2:$J$114=$I$1*1),ROW('Base de données'!$H$2:$H$114)-1),ROWS($1:14))),"")} -> 510020 | E16: {=IFERROR(INDEX('Base de données'!F$2:F$114,SMALL(IF((('Base de données'!$B$2:$B$114="vente"))*('Base de données'!$H$2:$H$114=$G$1)*('Base de données'!$I$2:$I$114=$H$1)*('Base de données'!$J$2:$J$114=$I$1*1),ROW('Base de données'!$H$2:$H$114)-1),ROWS($1:14))),"")} -> INSERTO ESAG,M6 8*6 | F16: {=IFERROR(INDEX('Base de données'!G$2:G$114,SMALL(IF((('Base de données'!$B$2:$B$114="vente"))*('Base de données'!$H$2:$H$114=$G$1)*('Base de données'!$I$2:$I$114=$H$1)*('Base de données'!$J$2:$J$114=$I$1*1),ROW('Base de données'!$H$2:$H$114)-1),ROWS($1:14))),"")} -> 139 | G16: {=IFERROR(INDEX('Base de données'!H$2:H$114,SMALL(IF((('Base de données'!$B$2:$B$114="vente"))*('Base de données'!$H$2:$H$114=$G$1)*('Base de données'!$I$2:$I$114=$H$1)*('Base de données'!$J$2:$J$114=$I$1*1),ROW('Base de données'!$H$2:$H$114)-1),ROWS($1:14))),"")} -> LAITON | H16: {=IFERROR(INDEX('Base de données'!I$2:I$114,SMALL(IF((('Base de données'!$B$2:$B$114="vente"))*('Base de données'!$H$2:$H$114=$G$1)*('Base de données'!$I$2:$I$114=$H$1)*('Base de données'!$J$2:$J$114=$I$1*1),ROW('Base de données'!$H$2:$H$114)-1),ROWS($1:14))),"")} -> HEX | I16: {=IFERROR(INDEX('Base de données'!J$2:J$114,SMALL(IF((('Base de données'!$B$2:$B$114="vente"))*('Base de données'!$H$2:$H$114=$G$1)*('Base de données'!$I$2:$I$114=$H$1)*('Base de données'!$J$2:$J$114=$I$1*1),ROW('Base de données'!$H$2:$H$114)-1),ROWS($1:14))),"")} -> 8 | J16: {=IFERROR(INDEX('Base de données'!K$2:K$114,SMALL(IF((('Base de données'!$B$2:$B$114="vente"))*('Base de données'!$H$2:$H$114=$G$1)*('Base de données'!$I$2:$I$114=$H$1)*('Base de données'!$J$2:$J$114=$I$1*1),ROW('Base de données'!$H$2:$H$114)-1),ROWS($1:14))),"")} -> 0 | K16: {=IFERROR(INDEX('Base de données'!M$2:M$114,SMALL(IF((('Base de données'!$B$2:$B$114="vente"))*('Base de données'!$H$2:$H$114=$G$1)*('Base de données'!$I$2:$I$114=$H$1)*('Base de données'!$J$2:$J$114=$I$1*1),ROW('Base de données'!$H$2:$H$114)-1),ROWS($1:14))),"")} -> 0.001446 | L16: {=IFERROR(INDEX('Base de données'!Y$2:Y$114,SMALL(IF((('Base de données'!$B$2:$B$114="vente"))*('Base de données'!$H$2:$H$114=$G$1)*('Base de données'!$I$2:$I$114=$H$1)*('Base de données'!$J$2:$J$114=$I$1*1),ROW('Base de données'!$H$2:$H$114)-1),ROWS($1:14))),"")} -> 0.00059265267 | M16: {=IFERROR(INDEX('Base de données'!N$2:N$114,SMALL(IF((('Base de données'!$B$2:$B$114="vente"))*('Base de données'!$H$2:$H$114=$G$1)*('Base de données'!$I$2:$I$114=$H$1)*('Base de données'!$J$2:$J$114=$I$1*1),ROW('Base de données'!$H$2:$H$114)-1),ROWS($1:14))),"")} -> 6 | N16: =M16*J16 -> 0 | O16: {=IFERROR(INDEX('Base de données'!P$2:P$114,SMALL(IF((('Base de données'!$B$2:$B$114="vente"))*('Base de données'!$H$2:$H$114=$G$1)*('Base de données'!$I$2:$I$114=$H$1)*('Base de données'!$J$2:$J$114=$I$1*1),ROW('Base de données'!$H$2:$H$114)-1),ROWS($1:14))),"")} -> 1.496448 | P16: =O16*J16 -> 0 | Q16: =L16*J16 -> 0 | R16: =(O16+L16)/M16 -> 0.24950678
A17: {=IFERROR(INDEX('Base de données'!$A$2:$A$114,SMALL(IF((('Base de données'!$B$2:$B$114="vente"))*('Base de données'!$H$2:$H$114=$G$1)*('Base de données'!$I$2:$I$114=$H$1)*('Base de données'!$J$2:$J$114=$I$1*1),ROW('Base de données'!$H$2:$H$114)-1),ROWS($1:15))),"")} -> 201900020 | B17: {=IFERROR(INDEX('Base de données'!C$2:C$114,SMALL(IF((('Base de données'!$B$2:$B$114="vente"))*('Base de données'!$H$2:$H$114=$G$1)*('Base de données'!$I$2:$I$114=$H$1)*('Base de données'!$J$2:$J$114=$I$1*1),ROW('Base de données'!$H$2:$H$114)-1),ROWS($1:15))),"")} -> 541778 | C17: {=IFERROR(INDEX('Base de données'!D$2:D$114,SMALL(IF((('Base de données'!$B$2:$B$114="vente"))*('Base de données'!$H$2:$H$114=$G$1)*('Base de données'!$I$2:$I$114=$H$1)*('Base de données'!$J$2:$J$114=$I$1*1),ROW('Base de données'!$H$2:$H$114)-1),ROWS($1:15))),"")} -> 43531 | D17: {=IFERROR(INDEX('Base de données'!E$2:E$114,SMALL(IF((('Base de données'!$B$2:$B$114="vente"))*('Base de données'!$H$2:$H$114=$G$1)*('Base de données'!$I$2:$I$114=$H$1)*('Base de données'!$J$2:$J$114=$I$1*1),ROW('Base de données'!$H$2:$H$114)-1),ROWS($1:15))),"")} -> 510020 | E17: {=IFERROR(INDEX('Base de données'!F$2:F$114,SMALL(IF((('Base de données'!$B$2:$B$114="vente"))*('Base de données'!$H$2:$H$114=$G$1)*('Base de données'!$I$2:$I$114=$H$1)*('Base de données'!$J$2:$J$114=$I$1*1),ROW('Base de données'!$H$2:$H$114)-1),ROWS($1:15))),"")} -> INSERTO ESAG,M6 8*6 | F17: {=IFERROR(INDEX('Base de données'!G$2:G$114,SMALL(IF((('Base de données'!$B$2:$B$114="vente"))*('Base de données'!$H$2:$H$114=$G$1)*('Base de données'!$I$2:$I$114=$H$1)*('Base de données'!$J$2:$J$114=$I$1*1),ROW('Base de données'!$H$2:$H$114)-1),ROWS($1:15))),"")} -> 139 | G17: {=IFERROR(INDEX('Base de données'!H$2:H$114,SMALL(IF((('Base de données'!$B$2:$B$114="vente"))*('Base de données'!$H$2:$H$114=$G$1)*('Base de données'!$I$2:$I$114=$H$1)*('Base de données'!$J$2:$J$114=$I$1*1),ROW('Base de données'!$H$2:$H$114)-1),ROWS($1:15))),"")} -> LAITON | H17: {=IFERROR(INDEX('Base de données'!I$2:I$114,SMALL(IF((('Base de données'!$B$2:$B$114="vente"))*('Base de données'!$H$2:$H$114=$G$1)*('Base de données'!$I$2:$I$114=$H$1)*('Base de données'!$J$2:$J$114=$I$1*1),ROW('Base de données'!$H$2:$H$114)-1),ROWS($1:15))),"")} -> HEX | I17: {=IFERROR(INDEX('Base de données'!J$2:J$114,SMALL(IF((('Base de données'!$B$2:$B$114="vente"))*('Base de données'!$H$2:$H$114=$G$1)*('Base de données'!$I$2:$I$114=$H$1)*('Base de données'!$J$2:$J$114=$I$1*1),ROW('Base de données'!$H$2:$H$114)-1),ROWS($1:15))),"")} -> 8 | J17: {=IFERROR(INDEX('Base de données'!K$2:K$114,SMALL(IF((('Base de données'!$B$2:$B$114="vente"))*('Base de données'!$H$2:$H$114=$G$1)*('Base de données'!$I$2:$I$114=$H$1)*('Base de données'!$J$2:$J$114=$I$1*1),ROW('Base de données'!$H$2:$H$114)-1),ROWS($1:15))),"")} -> 0 | K17: {=IFERROR(INDEX('Base de données'!M$2:M$114,SMALL(IF((('Base de données'!$B$2:$B$114="vente"))*('Base de données'!$H$2:$H$114=$G$1)*('Base de données'!$I$2:$I$114=$H$1)*('Base de données'!$J$2:$J$114=$I$1*1),ROW('Base de données'!$H$2:$H$114)-1),ROWS($1:15))),"")} -> 0.001446 | L17: {=IFERROR(INDEX('Base de données'!Y$2:Y$114,SMALL(IF((('Base de données'!$B$2:$B$114="vente"))*('Base de données'!$H$2:$H$114=$G$1)*('Base de données'!$I$2:$I$114=$H$1)*('Base de données'!$J$2:$J$114=$I$1*1),ROW('Base de données'!$H$2:$H$114)-1),ROWS($1:15))),"")} -> 0.00059265267 | M17: {=IFERROR(INDEX('Base de données'!N$2:N$114,SMALL(IF((('Base de données'!$B$2:$B$114="vente"))*('Base de données'!$H$2:$H$114=$G$1)*('Base de données'!$I$2:$I$114=$H$1)*('Base de données'!$J$2:$J$114=$I$1*1),ROW('Base de données'!$H$2:$H$114)-1),ROWS($1:15))),"")} -> 6 | N17: =M17*J17 -> 0 | O17: {=IFERROR(INDEX('Base de données'!P$2:P$114,SMALL(IF((('Base de données'!$B$2:$B$114="vente"))*('Base de données'!$H$2:$H$114=$G$1)*('Base de données'!$I$2:$I$114=$H$1)*('Base de données'!$J$2:$J$114=$I$1*1),ROW('Base de données'!$H$2:$H$114)-1),ROWS($1:15))),"")} -> 1.496448 | P17: =O17*J17 -> 0 | Q17: =L17*J17 -> 0 | R17: =(O17+L17)/M17 -> 0.24950678
A18: {=IFERROR(INDEX('Base de données'!$A$2:$A$114,SMALL(IF((('Base de données'!$B$2:$B$114="vente"))*('Base de données'!$H$2:$H$114=$G$1)*('Base de données'!$I$2:$I$114=$H$1)*('Base de données'!$J$2:$J$114=$I$1*1),ROW('Base de données'!$H$2:$H$114)-1),ROWS($1:16))),"")} -> 201900026 | B18: {=IFERROR(INDEX('Base de données'!C$2:C$114,SMALL(IF((('Base de données'!$B$2:$B$114="vente"))*('Base de données'!$H$2:$H$114=$G$1)*('Base de données'!$I$2:$I$114=$H$1)*('Base de données'!$J$2:$J$114=$I$1*1),ROW('Base de données'!$H$2:$H$114)-1),ROWS($1:16))),"")} -> 542534 | C18: {=IFERROR(INDEX('Base de données'!D$2:D$114,SMALL(IF((('Base de données'!$B$2:$B$114="vente"))*('Base de données'!$H$2:$H$114=$G$1)*('Base de données'!$I$2:$I$114=$H$1)*('Base de données'!$J$2:$J$114=$I$1*1),ROW('Base de données'!$H$2:$H$114)-1),ROWS($1:16))),"")} -> 43563 | D18: {=IFERROR(INDEX('Base de données'!E$2:E$114,SMALL(IF((('Base de données'!$B$2:$B$114="vente"))*('Base de données'!$H$2:$H$114=$G$1)*('Base de données'!$I$2:$I$114=$H$1)*('Base de données'!$J$2:$J$114=$I$1*1),ROW('Base de données'!$H$2:$H$114)-1),ROWS($1:16))),"")} -> 510020 | E18: {=IFERROR(INDEX('Base de données'!F$2:F$114,SMALL(IF((('Base de données'!$B$2:$B$114="vente"))*('Base de données'!$H$2:$H$114=$G$1)*('Base de données'!$I$2:$I$114=$H$1)*('Base de données'!$J$2:$J$114=$I$1*1),ROW('Base de données'!$H$2:$H$114)-1),ROWS($1:16))),"")} -> INSERTO ESAG,M6 8*6 | F18: {=IFERROR(INDEX('Base de données'!G$2:G$114,SMALL(IF((('Base de données'!$B$2:$B$114="vente"))*('Base de données'!$H$2:$H$114=$G$1)*('Base de données'!$I$2:$I$114=$H$1)*('Base de données'!$J$2:$J$114=$I$1*1),ROW('Base de données'!$H$2:$H$114)-1),ROWS($1:16))),"")} -> 139 | G18: {=IFERROR(INDEX('Base de données'!H$2:H$114,SMALL(IF((('Base de données'!$B$2:$B$114="vente"))*('Base de données'!$H$2:$H$114=$G$1)*('Base de données'!$I$2:$I$114=$H$1)*('Base de données'!$J$2:$J$114=$I$1*1),ROW('Base de données'!$H$2:$H$114)-1),ROWS($1:16))),"")} -> LAITON | H18: {=IFERROR(INDEX('Base de données'!I$2:I$114,SMALL(IF((('Base de données'!$B$2:$B$114="vente"))*('Base de données'!$H$2:$H$114=$G$1)*('Base de données'!$I$2:$I$114=$H$1)*('Base de données'!$J$2:$J$114=$I$1*1),ROW('Base de données'!$H$2:$H$114)-1),ROWS($1:16))),"")} -> HEX | I18: {=IFERROR(INDEX('Base de données'!J$2:J$114,SMALL(IF((('Base de données'!$B$2:$B$114="vente"))*('Base de données'!$H$2:$H$114=$G$1)*('Base de données'!$I$2:$I$114=$H$1)*('Base de données'!$J$2:$J$114=$I$1*1),ROW('Base de données'!$H$2:$H$114)-1),ROWS($1:16))),"")} -> 8 | J18: {=IFERROR(INDEX('Base de données'!K$2:K$114,SMALL(IF((('Base de données'!$B$2:$B$114="vente"))*('Base de données'!$H$2:$H$114=$G$1)*('Base de données'!$I$2:$I$114=$H$1)*('Base de données'!$J$2:$J$114=$I$1*1),ROW('Base de données'!$H$2:$H$114)-1),ROWS($1:16))),"")} -> 0 | K18: {=IFERROR(INDEX('Base de données'!M$2:M$114,SMALL(IF((('Base de données'!$B$2:$B$114="vente"))*('Base de données'!$H$2:$H$114=$G$1)*('Base de données'!$I$2:$I$114=$H$1)*('Base de données'!$J$2:$J$114=$I$1*1),ROW('Base de données'!$H$2:$H$114)-1),ROWS($1:16))),"")} -> 0.001446 | L18: {=IFERROR(INDEX('Base de données'!Y$2:Y$114,SMALL(IF((('Base de données'!$B$2:$B$114="vente"))*('Base de données'!$H$2:$H$114=$G$1)*('Base de données'!$I$2:$I$114=$H$1)*('Base de données'!$J$2:$J$114=$I$1*1),ROW('Base de données'!$H$2:$H$114)-1),ROWS($1:16))),"")} -> 0.00059265267 | M18: {=IFERROR(INDEX('Base de données'!N$2:N$114,SMALL(IF((('Base de données'!$B$2:$B$114="vente"))*('Base de données'!$H$2:$H$114=$G$1)*('Base de données'!$I$2:$I$114=$H$1)*('Base de données'!$J$2:$J$114=$I$1*1),ROW('Base de données'!$H$2:$H$114)-1),ROWS($1:16))),"")} -> 6 | N18: =M18*J18 -> 0 | O18: {=IFERROR(INDEX('Base de données'!P$2:P$114,SMALL(IF((('Base de données'!$B$2:$B$114="vente"))*('Base de données'!$H$2:$H$114=$G$1)*('Base de données'!$I$2:$I$114=$H$1)*('Base de données'!$J$2:$J$114=$I$1*1),ROW('Base de données'!$H$2:$H$114)-1),ROWS($1:16))),"")} -> 1.496448 | P18: =O18*J18 -> 0 | Q18: =L18*J18 -> 0 | R18: =(O18+L18)/M18 -> 0.24950678
A19: {=IFERROR(INDEX('Base de données'!$A$2:$A$114,SMALL(IF((('Base de données'!$B$2:$B$114="vente"))*('Base de données'!$H$2:$H$114=$G$1)*('Base de données'!$I$2:$I$114=$H$1)*('Base de données'!$J$2:$J$114=$I$1*1),ROW('Base de données'!$H$2:$H$114)-1),ROWS($1:17))),"")} -> 201900036 | B19: =IFERROR(VLOOKUP($A19,#REF!,MATCH('vente '!B$2,'Base de données'!$2:$2,0),0),"") | C19: =IFERROR(VLOOKUP($A19,#REF!,MATCH('vente '!C$2,'Base de données'!$2:$2,0),0),"") | D19: =IFERROR(VLOOKUP($A19,#REF!,MATCH('vente '!D$2,'Base de données'!$2:$2,0),0),"") | E19: =IFERROR(VLOOKUP($A19,#REF!,MATCH('vente '!E$2,'Base de données'!$2:$2,0),0),"") | F19: =IFERROR(VLOOKUP($A19,#REF!,MATCH('vente '!F$2,'Base de données'!$2:$2,0),0),"") | G19: =IFERROR(VLOOKUP($A19,#REF!,MATCH('vente '!G$2,'Base de données'!$2:$2,0),0),"") | H19: =IFERROR(VLOOKUP($A19,#REF!,MATCH('vente '!H$2,'Base de données'!$2:$2,0),0),"") | I19: =IFERROR(VLOOKUP($A19,#REF!,MATCH('vente '!I$2,'Base de données'!$2:$2,0),0),"") | J19: =IFERROR(VLOOKUP($A19,#REF!,MATCH('vente '!J$2,'Base de données'!$2:$2,0),0),"") | K19: {=IFERROR(INDEX('Base de données'!M$2:M$114,SMALL(IF((('Base de données'!$B$2:$B$114="vente"))*('Base de données'!$H$2:$H$114=$G$1)*('Base de données'!$I$2:$I$114=$H$1)*('Base de données'!$J$2:$J$114=$I$1*1),ROW('Base de données'!$H$2:$H$114)-1),ROWS($1:17))),"")} -> 0.001446 | L19: {=IFERROR(INDEX('Base de données'!Y$2:Y$114,SMALL(IF((('Base de données'!$B$2:$B$114="vente"))*('Base de données'!$H$2:$H$114=$G$1)*('Base de données'!$I$2:$I$114=$H$1)*('Base de données'!$J$2:$J$114=$I$1*1),ROW('Base de données'!$H$2:$H$114)-1),ROWS($1:17))),"")} -> 0.00059265267 | M19: =IFERROR(VLOOKUP($A19,#REF!,MATCH('vente '!M$2,'Base de données'!$2:$2,0),0),"") | N19: =M19*J19 -> #VALUE! | O19: =IFERROR(VLOOKUP($A19,#REF!,MATCH('vente '!O$2,'Base de données'!$2:$2,0),0),"") | P19: =O19*J19 -> #VALUE! | Q19: =L19*J19 -> #VALUE! | R19: =(O19+L19)/M19 -> #VALUE!
A20: {=IFERROR(INDEX('Base de données'!$A$2:$A$114,SMALL(IF((('Base de données'!$B$2:$B$114="vente"))*('Base de données'!$H$2:$H$114=$G$1)*('Base de données'!$I$2:$I$114=$H$1)*('Base de données'!$J$2:$J$114=$I$1*1),ROW('Base de données'!$H$2:$H$114)-1),ROWS($1:18))),"")} -> 201900070 | B20: =IFERROR(VLOOKUP($A20,#REF!,MATCH('vente '!B$2,'Base de données'!$2:$2,0),0),"") | C20: =IFERROR(VLOOKUP($A20,#REF!,MATCH('vente '!C$2,'Base de données'!$2:$2,0),0),"") | D20: =IFERROR(VLOOKUP($A20,#REF!,MATCH('vente '!D$2,'Base de données'!$2:$2,0),0),"") | E20: =IFERROR(VLOOKUP($A20,#REF!,MATCH('vente '!E$2,'Base de données'!$2:$2,0),0),"") | F20: =IFERROR(VLOOKUP($A20,#REF!,MATCH('vente '!F$2,'Base de données'!$2:$2,0),0),"") | G20: =IFERROR(VLOOKUP($A20,#REF!,MATCH('vente '!G$2,'Base de données'!$2:$2,0),0),"") | H20: =IFERROR(VLOOKUP($A20,#REF!,MATCH('vente '!H$2,'Base de données'!$2:$2,0),0),"") | I20: =IFERROR(VLOOKUP($A20,#REF!,MATCH('vente '!I$2,'Base de données'!$2:$2,0),0),"") | J20: =IFERROR(VLOOKUP($A20,#REF!,MATCH('vente '!J$2,'Base de données'!$2:$2,0),0),"") | K20: {=IFERROR(INDEX('Base de données'!M$2:M$114,SMALL(IF((('Base de données'!$B$2:$B$114="vente"))*('Base de données'!$H$2:$H$114=$G$1)*('Base de données'!$I$2:$I$114=$H$1)*('Base de données'!$J$2:$J$114=$I$1*1),ROW('Base de données'!$H$2:$H$114)-1),ROWS($1:18))),"")} -> 0.001446 | L20: {=IFERROR(INDEX('Base de données'!Y$2:Y$114,SMALL(IF((('Base de données'!$B$2:$B$114="vente"))*('Base de données'!$H$2:$H$114=$G$1)*('Base de données'!$I$2:$I$114=$H$1)*('Base de données'!$J$2:$J$114=$I$1*1),ROW('Base de données'!$H$2:$H$114)-1),ROWS($1:18))),"")} -> 0.00059265267 | M20: =IFERROR(VLOOKUP($A20,#REF!,MATCH('vente '!M$2,'Base de données'!$2:$2,0),0),"") | N20: =M20*J20 -> #VALUE! | O20: =IFERROR(VLOOKUP($A20,#REF!,MATCH('vente '!O$2,'Base de données'!$2:$2,0),0),"") | P20: =O20*J20 -> #VALUE! | Q20: =L20*J20 -> #VALUE! | R20: =(O20+L20)/M20 -> #VALUE!
