Workbook

Sheet calendrier
C8: 43831 | D8: 43862 | E8: 43891 | F8: 43922 | G8: 43952 | H8: 43983 | I8: 44013 | J8: 44044 | K8: 44075 | L8: 44105 | M8: 44136 | N8: 44166
B9: A | C9: =IF(AND(TEXT(DATE(1,MONTH(Feuil4!$C$9),1),"MMMM")=TEXT(DATE(1,MONTH($C$8),1),"MMMM"),COUNTA(INDIRECT("Feuil4!G"&1+MATCH(B9,Feuil4!$A$1:$A$166,0)&":G"&2+MATCH(B9,Feuil4!$A$1:$A$166,0)))=2),"X",IF(OR(TEXT(DATE(1,MONTH(Feuil2!$I$52),1),"MMMM")=TEXT(DATE(1,MONTH($C$8),1),"MMMM"),TEXT(DATE(1,MONTH(Feuil3!$I$52),1),"MMMM")=TEXT(DATE(1,MONTH($C$8),1),"MMMM")),"Y","")) | D9: =IF(AND(TEXT(DATE(1,MONTH(Feuil4!$C$9),1),"MMMM")=TEXT(DATE(1,MONTH($D$8),1),"MMMM"),COUNTA(INDIRECT("Feuil4!G"&1+MATCH(B9,Feuil4!$A$1:$A$166,0)&":G"&2+MATCH(B9,Feuil4!$A$1:$A$166,0)))=2),"X",IF(OR(TEXT(DATE(1,MONTH(Feuil2!$I$52),1),"MMMM")=TEXT(DATE(1,MONTH($D$8),1),"MMMM"),TEXT(DATE(1,MONTH(Feuil3!$I$52),1),"MMMM")=TEXT(DATE(1,MONTH($D$8),1),"MMMM")),"Y","")) | E9: =IF(AND(TEXT(DATE(1,MONTH(Feuil4!$C$9),1),"MMMM")=TEXT(DATE(1,MONTH($E$8),1),"MMMM"),COUNTA(INDIRECT("Feuil4!G"&1+MATCH(B9,Feuil4!$A$1:$A$166,0)&":G"&2+MATCH(B9,Feuil4!$A$1:$A$166,0)))=2),"X",IF(OR(TEXT(DATE(1,MONTH(Feuil2!$I$52),1),"MMMM")=TEXT(DATE(1,MONTH($E$8),1),"MMMM"),TEXT(DATE(1,MONTH(Feuil3!$I$52),1),"MMMM")=TEXT(DATE(1,MONTH($E$8),1),"MMMM")),"Y","")) | F9: =IF(AND(TEXT(DATE(1,MONTH(Feuil4!$C$9),1),"MMMM")=TEXT(DATE(1,MONTH($F$8),1),"MMMM"),COUNTA(INDIRECT("Feuil4!G"&1+MATCH(B9,Feuil4!$A$1:$A$166,0)&":G"&2+MATCH(B9,Feuil4!$A$1:$A$166,0)))=2),"X",IF(OR(TEXT(DATE(1,MONTH(Feuil2!$I$52),1),"MMMM")=TEXT(DATE(1,MONTH($F$8),1),"MMMM"),TEXT(DATE(1,MONTH(Feuil3!$I$52),1),"MMMM")=TEXT(DATE(1,MONTH($F$8),1),"MMMM")),"Y","")) | G9: =IF(AND(TEXT(DATE(1,MONTH(Feuil4!$C$9),1),"MMMM")=TEXT(DATE(1,MONTH($G$8),1),"MMMM"),COUNTA(INDIRECT("Feuil4!G"&1+MATCH(B9,Feuil4!$A$1:$A$166,0)&":G"&2+MATCH(B9,Feuil4!$A$1:$A$166,0)))=2),"X",IF(OR(TEXT(DATE(1,MONTH(Feuil2!$I$52),1),"MMMM")=TEXT(DATE(1,MONTH($G$8),1),"MMMM"),TEXT(DATE(1,MONTH(Feuil3!$I$52),1),"MMMM")=TEXT(DATE(1,MONTH($G$8),1),"MMMM")),"Y","")) | H9: =IF(AND(TEXT(DATE(1,MONTH(Feuil4!$C$9),1),"MMMM")=TEXT(DATE(1,MONTH($H$8),1),"MMMM"),COUNTA(INDIRECT("Feuil4!G"&1+MATCH(B9,Feuil4!$A$1:$A$166,0)&":G"&2+MATCH(B9,Feuil4!$A$1:$A$166,0)))=2),"X",IF(OR(TEXT(DATE(1,MONTH(Feuil2!$I$52),1),"MMMM")=TEXT(DATE(1,MONTH($H$8),1),"MMMM"),TEXT(DATE(1,MONTH(Feuil3!$I$52),1),"MMMM")=TEXT(DATE(1,MONTH($H$8),1),"MMMM")),"Y","")) -> X | I9: =IF(AND(TEXT(DATE(1,MONTH(Feuil4!$C$9),1),"MMMM")=TEXT(DATE(1,MONTH($I$8),1),"MMMM"),COUNTA(INDIRECT("Feuil4!G"&1+MATCH(B9,Feuil4!$A$1:$A$166,0)&":G"&2+MATCH(B9,Feuil4!$A$1:$A$166,0)))=2),"X",IF(OR(TEXT(DATE(1,MONTH(Feuil2!$I$52),1),"MMMM")=TEXT(DATE(1,MONTH($I$8),1),"MMMM"),TEXT(DATE(1,MONTH(Feuil3!$I$52),1),"MMMM")=TEXT(DATE(1,MONTH($I$8),1),"MMMM")),"Y","")) | J9: =IF(AND(TEXT(DATE(1,MONTH(Feuil4!$C$9),1),"MMMM")=TEXT(DATE(1,MONTH($J$8),1),"MMMM"),COUNTA(INDIRECT("Feuil4!G"&1+MATCH(B9,Feuil4!$A$1:$A$166,0)&":G"&2+MATCH(B9,Feuil4!$A$1:$A$166,0)))=2),"X",IF(OR(TEXT(DATE(1,MONTH(Feuil2!$I$52),1),"MMMM")=TEXT(DATE(1,MONTH($J$8),1),"MMMM"),TEXT(DATE(1,MONTH(Feuil3!$I$52),1),"MMMM")=TEXT(DATE(1,MONTH($J$8),1),"MMMM")),"Y","")) | K9: =IF(AND(TEXT(DATE(1,MONTH(Feuil4!$C$9),1),"MMMM")=TEXT(DATE(1,MONTH($K$8),1),"MMMM"),COUNTA(INDIRECT("Feuil4!G"&1+MATCH(B9,Feuil4!$A$1:$A$166,0)&":G"&2+MATCH(B9,Feuil4!$A$1:$A$166,0)))=2),"X",IF(OR(TEXT(DATE(1,MONTH(Feuil2!$I$52),1),"MMMM")=TEXT(DATE(1,MONTH($K$8),1),"MMMM"),TEXT(DATE(1,MONTH(Feuil3!$I$52),1),"MMMM")=TEXT(DATE(1,MONTH($K$8),1),"MMMM")),"Y","")) | L9: =IF(AND(TEXT(DATE(1,MONTH(Feuil4!$C$9),1),"MMMM")=TEXT(DATE(1,MONTH($L$8),1),"MMMM"),COUNTA(INDIRECT("Feuil4!G"&1+MATCH(B9,Feuil4!$A$1:$A$166,0)&":G"&2+MATCH(B9,Feuil4!$A$1:$A$166,0)))=2),"X",IF(OR(TEXT(DATE(1,MONTH(Feuil2!$I$52),1),"MMMM")=TEXT(DATE(1,MONTH($L$8),1),"MMMM"),TEXT(DATE(1,MONTH(Feuil3!$I$52),1),"MMMM")=TEXT(DATE(1,MONTH($L$8),1),"MMMM")),"Y","")) -> Y | M9: =IF(AND(TEXT(DATE(1,MONTH(Feuil4!$C$9),1),"MMMM")=TEXT(DATE(1,MONTH($M$8),1),"MMMM"),COUNTA(INDIRECT("Feuil4!G"&1+MATCH(B9,Feuil4!$A$1:$A$166,0)&":G"&2+MATCH(B9,Feuil4!$A$1:$A$166,0)))=2),"X",IF(OR(TEXT(DATE(1,MONTH(Feuil2!$I$52),1),"MMMM")=TEXT(DATE(1,MONTH($M$8),1),"MMMM"),TEXT(DATE(1,MONTH(Feuil3!$I$52),1),"MMMM")=TEXT(DATE(1,MONTH($M$8),1),"MMMM")),"Y","")) | N9: =IF(AND(TEXT(DATE(1,MONTH(Feuil4!$C$9),1),"MMMM")=TEXT(DATE(1,MONTH($N$8),1),"MMMM"),COUNTA(INDIRECT("Feuil4!G"&1+MATCH(B9,Feuil4!$A$1:$A$166,0)&":G"&2+MATCH(B9,Feuil4!$A$1:$A$166,0)))=2),"X",IF(OR(TEXT(DATE(1,MONTH(Feuil2!$I$52),1),"MMMM")=TEXT(DATE(1,MONTH($N$8),1),"MMMM"),TEXT(DATE(1,MONTH(Feuil3!$I$52),1),"MMMM")=TEXT(DATE(1,MONTH($N$8),1),"MMMM")),"Y",""))
B10: B | C10: =IF(AND(TEXT(DATE(1,MONTH(Feuil4!$C$9),1),"MMMM")=TEXT(DATE(1,MONTH($C$8),1),"MMMM"),COUNTA(INDIRECT("Feuil4!G"&1+MATCH(B10,Feuil4!$A$1:$A$166,0)&":G"&2+MATCH(B10,Feuil4!$A$1:$A$166,0)))=2),"X",IF(OR(TEXT(DATE(1,MONTH(Feuil2!$I$52),1),"MMMM")=TEXT(DATE(1,MONTH($C$8),1),"MMMM"),TEXT(DATE(1,MONTH(Feuil3!$I$52),1),"MMMM")=TEXT(DATE(1,MONTH($C$8),1),"MMMM")),"Y","")) | D10: =IF(AND(TEXT(DATE(1,MONTH(Feuil4!$C$9),1),"MMMM")=TEXT(DATE(1,MONTH($D$8),1),"MMMM"),COUNTA(INDIRECT("Feuil4!G"&1+MATCH(B10,Feuil4!$A$1:$A$166,0)&":G"&2+MATCH(B10,Feuil4!$A$1:$A$166,0)))=2),"X",IF(OR(TEXT(DATE(1,MONTH(Feuil2!$I$52),1),"MMMM")=TEXT(DATE(1,MONTH($D$8),1),"MMMM"),TEXT(DATE(1,MONTH(Feuil3!$I$52),1),"MMMM")=TEXT(DATE(1,MONTH($D$8),1),"MMMM")),"Y","")) | E10: =IF(AND(TEXT(DATE(1,MONTH(Feuil4!$C$9),1),"MMMM")=TEXT(DATE(1,MONTH($E$8),1),"MMMM"),COUNTA(INDIRECT("Feuil4!G"&1+MATCH(B10,Feuil4!$A$1:$A$166,0)&":G"&2+MATCH(B10,Feuil4!$A$1:$A$166,0)))=2),"X",IF(OR(TEXT(DATE(1,MONTH(Feuil2!$I$52),1),"MMMM")=TEXT(DATE(1,MONTH($E$8),1),"MMMM"),TEXT(DATE(1,MONTH(Feuil3!$I$52),1),"MMMM")=TEXT(DATE(1,MONTH($E$8),1),"MMMM")),"Y","")) | F10: =IF(AND(TEXT(DATE(1,MONTH(Feuil4!$C$9),1),"MMMM")=TEXT(DATE(1,MONTH($F$8),1),"MMMM"),COUNTA(INDIRECT("Feuil4!G"&1+MATCH(B10,Feuil4!$A$1:$A$166,0)&":G"&2+MATCH(B10,Feuil4!$A$1:$A$166,0)))=2),"X",IF(OR(TEXT(DATE(1,MONTH(Feuil2!$I$52),1),"MMMM")=TEXT(DATE(1,MONTH($F$8),1),"MMMM"),TEXT(DATE(1,MONTH(Feuil3!$I$52),1),"MMMM")=TEXT(DATE(1,MONTH($F$8),1),"MMMM")),"Y","")) | G10: =IF(AND(TEXT(DATE(1,MONTH(Feuil4!$C$9),1),"MMMM")=TEXT(DATE(1,MONTH($G$8),1),"MMMM"),COUNTA(INDIRECT("Feuil4!G"&1+MATCH(B10,Feuil4!$A$1:$A$166,0)&":G"&2+MATCH(B10,Feuil4!$A$1:$A$166,0)))=2),"X",IF(OR(TEXT(DATE(1,MONTH(Feuil2!$I$52),1),"MMMM")=TEXT(DATE(1,MONTH($G$8),1),"MMMM"),TEXT(DATE(1,MONTH(Feuil3!$I$52),1),"MMMM")=TEXT(DATE(1,MONTH($G$8),1),"MMMM")),"Y","")) | H10: =IF(AND(TEXT(DATE(1,MONTH(Feuil4!$C$9),1),"MMMM")=TEXT(DATE(1,MONTH($H$8),1),"MMMM"),COUNTA(INDIRECT("Feuil4!G"&1+MATCH(B10,Feuil4!$A$1:$A$166,0)&":G"&2+MATCH(B10,Feuil4!$A$1:$A$166,0)))=2),"X",IF(OR(TEXT(DATE(1,MONTH(Feuil2!$I$52),1),"MMMM")=TEXT(DATE(1,MONTH($H$8),1),"MMMM"),TEXT(DATE(1,MONTH(Feuil3!$I$52),1),"MMMM")=TEXT(DATE(1,MONTH($H$8),1),"MMMM")),"Y","")) -> Y | I10: =IF(AND(TEXT(DATE(1,MONTH(Feuil4!$C$9),1),"MMMM")=TEXT(DATE(1,MONTH($I$8),1),"MMMM"),COUNTA(INDIRECT("Feuil4!G"&1+MATCH(B10,Feuil4!$A$1:$A$166,0)&":G"&2+MATCH(B10,Feuil4!$A$1:$A$166,0)))=2),"X",IF(OR(TEXT(DATE(1,MONTH(Feuil2!$I$52),1),"MMMM")=TEXT(DATE(1,MONTH($I$8),1),"MMMM"),TEXT(DATE(1,MONTH(Feuil3!$I$52),1),"MMMM")=TEXT(DATE(1,MONTH($I$8),1),"MMMM")),"Y","")) | J10: =IF(AND(TEXT(DATE(1,MONTH(Feuil4!$C$9),1),"MMMM")=TEXT(DATE(1,MONTH($J$8),1),"MMMM"),COUNTA(INDIRECT("Feuil4!G"&1+MATCH(B10,Feuil4!$A$1:$A$166,0)&":G"&2+MATCH(B10,Feuil4!$A$1:$A$166,0)))=2),"X",IF(OR(TEXT(DATE(1,MONTH(Feuil2!$I$52),1),"MMMM")=TEXT(DATE(1,MONTH($J$8),1),"MMMM"),TEXT(DATE(1,MONTH(Feuil3!$I$52),1),"MMMM")=TEXT(DATE(1,MONTH($J$8),1),"MMMM")),"Y","")) | K10: =IF(AND(TEXT(DATE(1,MONTH(Feuil4!$C$9),1),"MMMM")=TEXT(DATE(1,MONTH($K$8),1),"MMMM"),COUNTA(INDIRECT("Feuil4!G"&1+MATCH(B10,Feuil4!$A$1:$A$166,0)&":G"&2+MATCH(B10,Feuil4!$A$1:$A$166,0)))=2),"X",IF(OR(TEXT(DATE(1,MONTH(Feuil2!$I$52),1),"MMMM")=TEXT(DATE(1,MONTH($K$8),1),"MMMM"),TEXT(DATE(1,MONTH(Feuil3!$I$52),1),"MMMM")=TEXT(DATE(1,MONTH($K$8),1),"MMMM")),"Y","")) | L10: =IF(AND(TEXT(DATE(1,MONTH(Feuil4!$C$9),1),"MMMM")=TEXT(DATE(1,MONTH($L$8),1),"MMMM"),COUNTA(INDIRECT("Feuil4!G"&1+MATCH(B10,Feuil4!$A$1:$A$166,0)&":G"&2+MATCH(B10,Feuil4!$A$1:$A$166,0)))=2),"X",IF(OR(TEXT(DATE(1,MONTH(Feuil2!$I$52),1),"MMMM")=TEXT(DATE(1,MONTH($L$8),1),"MMMM"),TEXT(DATE(1,MONTH(Feuil3!$I$52),1),"MMMM")=TEXT(DATE(1,MONTH($L$8),1),"MMMM")),"Y","")) -> Y | M10: =IF(AND(TEXT(DATE(1,MONTH(Feuil4!$C$9),1),"MMMM")=TEXT(DATE(1,MONTH($M$8),1),"MMMM"),COUNTA(INDIRECT("Feuil4!G"&1+MATCH(B10,Feuil4!$A$1:$A$166,0)&":G"&2+MATCH(B10,Feuil4!$A$1:$A$166,0)))=2),"X",IF(OR(TEXT(DATE(1,MONTH(Feuil2!$I$52),1),"MMMM")=TEXT(DATE(1,MONTH($M$8),1),"MMMM"),TEXT(DATE(1,MONTH(Feuil3!$I$52),1),"MMMM")=TEXT(DATE(1,MONTH($M$8),1),"MMMM")),"Y","")) | N10: =IF(AND(TEXT(DATE(1,MONTH(Feuil4!$C$9),1),"MMMM")=TEXT(DATE(1,MONTH($N$8),1),"MMMM"),COUNTA(INDIRECT("Feuil4!G"&1+MATCH(B10,Feuil4!$A$1:$A$166,0)&":G"&2+MATCH(B10,Feuil4!$A$1:$A$166,0)))=2),"X",IF(OR(TEXT(DATE(1,MONTH(Feuil2!$I$52),1),"MMMM")=TEXT(DATE(1,MONTH($N$8),1),"MMMM"),TEXT(DATE(1,MONTH(Feuil3!$I$52),1),"MMMM")=TEXT(DATE(1,MONTH($N$8),1),"MMMM")),"Y",""))
B11: C | C11: =IF(AND(TEXT(DATE(1,MONTH(Feuil4!$C$9),1),"MMMM")=TEXT(DATE(1,MONTH($C$8),1),"MMMM"),COUNTA(INDIRECT("Feuil4!G"&1+MATCH(B11,Feuil4!$A$1:$A$166,0)&":G"&2+MATCH(B11,Feuil4!$A$1:$A$166,0)))=2),"X",IF(OR(TEXT(DATE(1,MONTH(Feuil2!$I$52),1),"MMMM")=TEXT(DATE(1,MONTH($C$8),1),"MMMM"),TEXT(DATE(1,MONTH(Feuil3!$I$52),1),"MMMM")=TEXT(DATE(1,MONTH($C$8),1),"MMMM")),"Y","")) | D11: =IF(AND(TEXT(DATE(1,MONTH(Feuil4!$C$9),1),"MMMM")=TEXT(DATE(1,MONTH($D$8),1),"MMMM"),COUNTA(INDIRECT("Feuil4!G"&1+MATCH(B11,Feuil4!$A$1:$A$166,0)&":G"&2+MATCH(B11,Feuil4!$A$1:$A$166,0)))=2),"X",IF(OR(TEXT(DATE(1,MONTH(Feuil2!$I$52),1),"MMMM")=TEXT(DATE(1,MONTH($D$8),1),"MMMM"),TEXT(DATE(1,MONTH(Feuil3!$I$52),1),"MMMM")=TEXT(DATE(1,MONTH($D$8),1),"MMMM")),"Y","")) | E11: =IF(AND(TEXT(DATE(1,MONTH(Feuil4!$C$9),1),"MMMM")=TEXT(DATE(1,MONTH($E$8),1),"MMMM"),COUNTA(INDIRECT("Feuil4!G"&1+MATCH(B11,Feuil4!$A$1:$A$166,0)&":G"&2+MATCH(B11,Feuil4!$A$1:$A$166,0)))=2),"X",IF(OR(TEXT(DATE(1,MONTH(Feuil2!$I$52),1),"MMMM")=TEXT(DATE(1,MONTH($E$8),1),"MMMM"),TEXT(DATE(1,MONTH(Feuil3!$I$52),1),"MMMM")=TEXT(DATE(1,MONTH($E$8),1),"MMMM")),"Y","")) | F11: =IF(AND(TEXT(DATE(1,MONTH(Feuil4!$C$9),1),"MMMM")=TEXT(DATE(1,MONTH($F$8),1),"MMMM"),COUNTA(INDIRECT("Feuil4!G"&1+MATCH(B11,Feuil4!$A$1:$A$166,0)&":G"&2+MATCH(B11,Feuil4!$A$1:$A$166,0)))=2),"X",IF(OR(TEXT(DATE(1,MONTH(Feuil2!$I$52),1),"MMMM")=TEXT(DATE(1,MONTH($F$8),1),"MMMM"),TEXT(DATE(1,MONTH(Feuil3!$I$52),1),"MMMM")=TEXT(DATE(1,MONTH($F$8),1),"MMMM")),"Y","")) | G11: =IF(AND(TEXT(DATE(1,MONTH(Feuil4!$C$9),1),"MMMM")=TEXT(DATE(1,MONTH($G$8),1),"MMMM"),COUNTA(INDIRECT("Feuil4!G"&1+MATCH(B11,Feuil4!$A$1:$A$166,0)&":G"&2+MATCH(B11,Feuil4!$A$1:$A$166,0)))=2),"X",IF(OR(TEXT(DATE(1,MONTH(Feuil2!$I$52),1),"MMMM")=TEXT(DATE(1,MONTH($G$8),1),"MMMM"),TEXT(DATE(1,MONTH(Feuil3!$I$52),1),"MMMM")=TEXT(DATE(1,MONTH($G$8),1),"MMMM")),"Y","")) | H11: =IF(AND(TEXT(DATE(1,MONTH(Feuil4!$C$9),1),"MMMM")=TEXT(DATE(1,MONTH($H$8),1),"MMMM"),COUNTA(INDIRECT("Feuil4!G"&1+MATCH(B11,Feuil4!$A$1:$A$166,0)&":G"&2+MATCH(B11,Feuil4!$A$1:$A$166,0)))=2),"X",IF(OR(TEXT(DATE(1,MONTH(Feuil2!$I$52),1),"MMMM")=TEXT(DATE(1,MONTH($H$8),1),"MMMM"),TEXT(DATE(1,MONTH(Feuil3!$I$52),1),"MMMM")=TEXT(DATE(1,MONTH($H$8),1),"MMMM")),"Y","")) -> Y | I11: =IF(AND(TEXT(DATE(1,MONTH(Feuil4!$C$9),1),"MMMM")=TEXT(DATE(1,MONTH($I$8),1),"MMMM"),COUNTA(INDIRECT("Feuil4!G"&1+MATCH(B11,Feuil4!$A$1:$A$166,0)&":G"&2+MATCH(B11,Feuil4!$A$1:$A$166,0)))=2),"X",IF(OR(TEXT(DATE(1,MONTH(Feuil2!$I$52),1),"MMMM")=TEXT(DATE(1,MONTH($I$8),1),"MMMM"),TEXT(DATE(1,MONTH(Feuil3!$I$52),1),"MMMM")=TEXT(DATE(1,MONTH($I$8),1),"MMMM")),"Y","")) | J11: =IF(AND(TEXT(DATE(1,MONTH(Feuil4!$C$9),1),"MMMM")=TEXT(DATE(1,MONTH($J$8),1),"MMMM"),COUNTA(INDIRECT("Feuil4!G"&1+MATCH(B11,Feuil4!$A$1:$A$166,0)&":G"&2+MATCH(B11,Feuil4!$A$1:$A$166,0)))=2),"X",IF(OR(TEXT(DATE(1,MONTH(Feuil2!$I$52),1),"MMMM")=TEXT(DATE(1,MONTH($J$8),1),"MMMM"),TEXT(DATE(1,MONTH(Feuil3!$I$52),1),"MMMM")=TEXT(DATE(1,MONTH($J$8),1),"MMMM")),"Y","")) | K11: =IF(AND(TEXT(DATE(1,MONTH(Feuil4!$C$9),1),"MMMM")=TEXT(DATE(1,MONTH($K$8),1),"MMMM"),COUNTA(INDIRECT("Feuil4!G"&1+MATCH(B11,Feuil4!$A$1:$A$166,0)&":G"&2+MATCH(B11,Feuil4!$A$1:$A$166,0)))=2),"X",IF(OR(TEXT(DATE(1,MONTH(Feuil2!$I$52),1),"MMMM")=TEXT(DATE(1,MONTH($K$8),1),"MMMM"),TEXT(DATE(1,MONTH(Feuil3!$I$52),1),"MMMM")=TEXT(DATE(1,MONTH($K$8),1),"MMMM")),"Y","")) | L11: =IF(AND(TEXT(DATE(1,MONTH(Feuil4!$C$9),1),"MMMM")=TEXT(DATE(1,MONTH($L$8),1),"MMMM"),COUNTA(INDIRECT("Feuil4!G"&1+MATCH(B11,Feuil4!$A$1:$A$166,0)&":G"&2+MATCH(B11,Feuil4!$A$1:$A$166,0)))=2),"X",IF(OR(TEXT(DATE(1,MONTH(Feuil2!$I$52),1),"MMMM")=TEXT(DATE(1,MONTH($L$8),1),"MMMM"),TEXT(DATE(1,MONTH(Feuil3!$I$52),1),"MMMM")=TEXT(DATE(1,MONTH($L$8),1),"MMMM")),"Y","")) -> Y | M11: =IF(AND(TEXT(DATE(1,MONTH(Feuil4!$C$9),1),"MMMM")=TEXT(DATE(1,MONTH($M$8),1),"MMMM"),COUNTA(INDIRECT("Feuil4!G"&1+MATCH(B11,Feuil4!$A$1:$A$166,0)&":G"&2+MATCH(B11,Feuil4!$A$1:$A$166,0)))=2),"X",IF(OR(TEXT(DATE(1,MONTH(Feuil2!$I$52),1),"MMMM")=TEXT(DATE(1,MONTH($M$8),1),"MMMM"),TEXT(DATE(1,MONTH(Feuil3!$I$52),1),"MMMM")=TEXT(DATE(1,MONTH($M$8),1),"MMMM")),"Y","")) | N11: =IF(AND(TEXT(DATE(1,MONTH(Feuil4!$C$9),1),"MMMM")=TEXT(DATE(1,MONTH($N$8),1),"MMMM"),COUNTA(INDIRECT("Feuil4!G"&1+MATCH(B11,Feuil4!$A$1:$A$166,0)&":G"&2+MATCH(B11,Feuil4!$A$1:$A$166,0)))=2),"X",IF(OR(TEXT(DATE(1,MONTH(Feuil2!$I$52),1),"MMMM")=TEXT(DATE(1,MONTH($N$8),1),"MMMM"),TEXT(DATE(1,MONTH(Feuil3!$I$52),1),"MMMM")=TEXT(DATE(1,MONTH($N$8),1),"MMMM")),"Y",""))
B12: D | C12: =IF(AND(TEXT(DATE(1,MONTH(Feuil4!$C$9),1),"MMMM")=TEXT(DATE(1,MONTH($C$8),1),"MMMM"),COUNTA(INDIRECT("Feuil4!G"&1+MATCH(B12,Feuil4!$A$1:$A$166,0)&":G"&2+MATCH(B12,Feuil4!$A$1:$A$166,0)))=2),"X",IF(OR(TEXT(DATE(1,MONTH(Feuil2!$I$52),1),"MMMM")=TEXT(DATE(1,MONTH($C$8),1),"MMMM"),TEXT(DATE(1,MONTH(Feuil3!$I$52),1),"MMMM")=TEXT(DATE(1,MONTH($C$8),1),"MMMM")),"Y","")) | D12: =IF(AND(TEXT(DATE(1,MONTH(Feuil4!$C$9),1),"MMMM")=TEXT(DATE(1,MONTH($D$8),1),"MMMM"),COUNTA(INDIRECT("Feuil4!G"&1+MATCH(B12,Feuil4!$A$1:$A$166,0)&":G"&2+MATCH(B12,Feuil4!$A$1:$A$166,0)))=2),"X",IF(OR(TEXT(DATE(1,MONTH(Feuil2!$I$52),1),"MMMM")=TEXT(DATE(1,MONTH($D$8),1),"MMMM"),TEXT(DATE(1,MONTH(Feuil3!$I$52),1),"MMMM")=TEXT(DATE(1,MONTH($D$8),1),"MMMM")),"Y","")) | E12: =IF(AND(TEXT(DATE(1,MONTH(Feuil4!$C$9),1),"MMMM")=TEXT(DATE(1,MONTH($E$8),1),"MMMM"),COUNTA(INDIRECT("Feuil4!G"&1+MATCH(B12,Feuil4!$A$1:$A$166,0)&":G"&2+MATCH(B12,Feuil4!$A$1:$A$166,0)))=2),"X",IF(OR(TEXT(DATE(1,MONTH(Feuil2!$I$52),1),"MMMM")=TEXT(DATE(1,MONTH($E$8),1),"MMMM"),TEXT(DATE(1,MONTH(Feuil3!$I$52),1),"MMMM")=TEXT(DATE(1,MONTH($E$8),1),"MMMM")),"Y","")) | F12: =IF(AND(TEXT(DATE(1,MONTH(Feuil4!$C$9),1),"MMMM")=TEXT(DATE(1,MONTH($F$8),1),"MMMM"),COUNTA(INDIRECT("Feuil4!G"&1+MATCH(B12,Feuil4!$A$1:$A$166,0)&":G"&2+MATCH(B12,Feuil4!$A$1:$A$166,0)))=2),"X",IF(OR(TEXT(DATE(1,MONTH(Feuil2!$I$52),1),"MMMM")=TEXT(DATE(1,MONTH($F$8),1),"MMMM"),TEXT(DATE(1,MONTH(Feuil3!$I$52),1),"MMMM")=TEXT(DATE(1,MONTH($F$8),1),"MMMM")),"Y","")) | G12: =IF(AND(TEXT(DATE(1,MONTH(Feuil4!$C$9),1),"MMMM")=TEXT(DATE(1,MONTH($G$8),1),"MMMM"),COUNTA(INDIRECT("Feuil4!G"&1+MATCH(B12,Feuil4!$A$1:$A$166,0)&":G"&2+MATCH(B12,Feuil4!$A$1:$A$166,0)))=2),"X",IF(OR(TEXT(DATE(1,MONTH(Feuil2!$I$52),1),"MMMM")=TEXT(DATE(1,MONTH($G$8),1),"MMMM"),TEXT(DATE(1,MONTH(Feuil3!$I$52),1),"MMMM")=TEXT(DATE(1,MONTH($G$8),1),"MMMM")),"Y","")) | H12: =IF(AND(TEXT(DATE(1,MONTH(Feuil4!$C$9),1),"MMMM")=TEXT(DATE(1,MONTH($H$8),1),"MMMM"),COUNTA(INDIRECT("Feuil4!G"&1+MATCH(B12,Feuil4!$A$1:$A$166,0)&":G"&2+MATCH(B12,Feuil4!$A$1:$A$166,0)))=2),"X",IF(OR(TEXT(DATE(1,MONTH(Feuil2!$I$52),1),"MMMM")=TEXT(DATE(1,MONTH($H$8),1),"MMMM"),TEXT(DATE(1,MONTH(Feuil3!$I$52),1),"MMMM")=TEXT(DATE(1,MONTH($H$8),1),"MMMM")),"Y","")) -> Y | I12: =IF(AND(TEXT(DATE(1,MONTH(Feuil4!$C$9),1),"MMMM")=TEXT(DATE(1,MONTH($I$8),1),"MMMM"),COUNTA(INDIRECT("Feuil4!G"&1+MATCH(B12,Feuil4!$A$1:$A$166,0)&":G"&2+MATCH(B12,Feuil4!$A$1:$A$166,0)))=2),"X",IF(OR(TEXT(DATE(1,MONTH(Feuil2!$I$52),1),"MMMM")=TEXT(DATE(1,MONTH($I$8),1),"MMMM"),TEXT(DATE(1,MONTH(Feuil3!$I$52),1),"MMMM")=TEXT(DATE(1,MONTH($I$8),1),"MMMM")),"Y","")) | J12: =IF(AND(TEXT(DATE(1,MONTH(Feuil4!$C$9),1),"MMMM")=TEXT(DATE(1,MONTH($J$8),1),"MMMM"),COUNTA(INDIRECT("Feuil4!G"&1+MATCH(B12,Feuil4!$A$1:$A$166,0)&":G"&2+MATCH(B12,Feuil4!$A$1:$A$166,0)))=2),"X",IF(OR(TEXT(DATE(1,MONTH(Feuil2!$I$52),1),"MMMM")=TEXT(DATE(1,MONTH($J$8),1),"MMMM"),TEXT(DATE(1,MONTH(Feuil3!$I$52),1),"MMMM")=TEXT(DATE(1,MONTH($J$8),1),"MMMM")),"Y","")) | K12: =IF(AND(TEXT(DATE(1,MONTH(Feuil4!$C$9),1),"MMMM")=TEXT(DATE(1,MONTH($K$8),1),"MMMM"),COUNTA(INDIRECT("Feuil4!G"&1+MATCH(B12,Feuil4!$A$1:$A$166,0)&":G"&2+MATCH(B12,Feuil4!$A$1:$A$166,0)))=2),"X",IF(OR(TEXT(DATE(1,MONTH(Feuil2!$I$52),1),"MMMM")=TEXT(DATE(1,MONTH($K$8),1),"MMMM"),TEXT(DATE(1,MONTH(Feuil3!$I$52),1),"MMMM")=TEXT(DATE(1,MONTH($K$8),1),"MMMM")),"Y","")) | L12: =IF(AND(TEXT(DATE(1,MONTH(Feuil4!$C$9),1),"MMMM")=TEXT(DATE(1,MONTH($L$8),1),"MMMM"),COUNTA(INDIRECT("Feuil4!G"&1+MATCH(B12,Feuil4!$A$1:$A$166,0)&":G"&2+MATCH(B12,Feuil4!$A$1:$A$166,0)))=2),"X",IF(OR(TEXT(DATE(1,MONTH(Feuil2!$I$52),1),"MMMM")=TEXT(DATE(1,MONTH($L$8),1),"MMMM"),TEXT(DATE(1,MONTH(Feuil3!$I$52),1),"MMMM")=TEXT(DATE(1,MONTH($L$8),1),"MMMM")),"Y","")) -> Y | M12: =IF(AND(TEXT(DATE(1,MONTH(Feuil4!$C$9),1),"MMMM")=TEXT(DATE(1,MONTH($M$8),1),"MMMM"),COUNTA(INDIRECT("Feuil4!G"&1+MATCH(B12,Feuil4!$A$1:$A$166,0)&":G"&2+MATCH(B12,Feuil4!$A$1:$A$166,0)))=2),"X",IF(OR(TEXT(DATE(1,MONTH(Feuil2!$I$52),1),"MMMM")=TEXT(DATE(1,MONTH($M$8),1),"MMMM"),TEXT(DATE(1,MONTH(Feuil3!$I$52),1),"MMMM")=TEXT(DATE(1,MONTH($M$8),1),"MMMM")),"Y","")) | N12: =IF(AND(TEXT(DATE(1,MONTH(Feuil4!$C$9),1),"MMMM")=TEXT(DATE(1,MONTH($N$8),1),"MMMM"),COUNTA(INDIRECT("Feuil4!G"&1+MATCH(B12,Feuil4!$A$1:$A$166,0)&":G"&2+MATCH(B12,Feuil4!$A$1:$A$166,0)))=2),"X",IF(OR(TEXT(DATE(1,MONTH(Feuil2!$I$52),1),"MMMM")=TEXT(DATE(1,MONTH($N$8),1),"MMMM"),TEXT(DATE(1,MONTH(Feuil3!$I$52),1),"MMMM")=TEXT(DATE(1,MONTH($N$8),1),"MMMM")),"Y",""))
B13: E | C13: =IF(AND(TEXT(DATE(1,MONTH(Feuil4!$C$9),1),"MMMM")=TEXT(DATE(1,MONTH($C$8),1),"MMMM"),COUNTA(INDIRECT("Feuil4!G"&1+MATCH(B13,Feuil4!$A$1:$A$166,0)&":G"&2+MATCH(B13,Feuil4!$A$1:$A$166,0)))=2),"X",IF(OR(TEXT(DATE(1,MONTH(Feuil2!$I$52),1),"MMMM")=TEXT(DATE(1,MONTH($C$8),1),"MMMM"),TEXT(DATE(1,MONTH(Feuil3!$I$52),1),"MMMM")=TEXT(DATE(1,MONTH($C$8),1),"MMMM")),"Y","")) | D13: =IF(AND(TEXT(DATE(1,MONTH(Feuil4!$C$9),1),"MMMM")=TEXT(DATE(1,MONTH($D$8),1),"MMMM"),COUNTA(INDIRECT("Feuil4!G"&1+MATCH(B13,Feuil4!$A$1:$A$166,0)&":G"&2+MATCH(B13,Feuil4!$A$1:$A$166,0)))=2),"X",IF(OR(TEXT(DATE(1,MONTH(Feuil2!$I$52),1),"MMMM")=TEXT(DATE(1,MONTH($D$8),1),"MMMM"),TEXT(DATE(1,MONTH(Feuil3!$I$52),1),"MMMM")=TEXT(DATE(1,MONTH($D$8),1),"MMMM")),"Y","")) | E13: =IF(AND(TEXT(DATE(1,MONTH(Feuil4!$C$9),1),"MMMM")=TEXT(DATE(1,MONTH($E$8),1),"MMMM"),COUNTA(INDIRECT("Feuil4!G"&1+MATCH(B13,Feuil4!$A$1:$A$166,0)&":G"&2+MATCH(B13,Feuil4!$A$1:$A$166,0)))=2),"X",IF(OR(TEXT(DATE(1,MONTH(Feuil2!$I$52),1),"MMMM")=TEXT(DATE(1,MONTH($E$8),1),"MMMM"),TEXT(DATE(1,MONTH(Feuil3!$I$52),1),"MMMM")=TEXT(DATE(1,MONTH($E$8),1),"MMMM")),"Y","")) | F13: =IF(AND(TEXT(DATE(1,MONTH(Feuil4!$C$9),1),"MMMM")=TEXT(DATE(1,MONTH($F$8),1),"MMMM"),COUNTA(INDIRECT("Feuil4!G"&1+MATCH(B13,Feuil4!$A$1:$A$166,0)&":G"&2+MATCH(B13,Feuil4!$A$1:$A$166,0)))=2),"X",IF(OR(TEXT(DATE(1,MONTH(Feuil2!$I$52),1),"MMMM")=TEXT(DATE(1,MONTH($F$8),1),"MMMM"),TEXT(DATE(1,MONTH(Feuil3!$I$52),1),"MMMM")=TEXT(DATE(1,MONTH($F$8),1),"MMMM")),"Y","")) | G13: =IF(AND(TEXT(DATE(1,MONTH(Feuil4!$C$9),1),"MMMM")=TEXT(DATE(1,MONTH($G$8),1),"MMMM"),COUNTA(INDIRECT("Feuil4!G"&1+MATCH(B13,Feuil4!$A$1:$A$166,0)&":G"&2+MATCH(B13,Feuil4!$A$1:$A$166,0)))=2),"X",IF(OR(TEXT(DATE(1,MONTH(Feuil2!$I$52),1),"MMMM")=TEXT(DATE(1,MONTH($G$8),1),"MMMM"),TEXT(DATE(1,MONTH(Feuil3!$I$52),1),"MMMM")=TEXT(DATE(1,MONTH($G$8),1),"MMMM")),"Y","")) | H13: =IF(AND(TEXT(DATE(1,MONTH(Feuil4!$C$9),1),"MMMM")=TEXT(DATE(1,MONTH($H$8),1),"MMMM"),COUNTA(INDIRECT("Feuil4!G"&1+MATCH(B13,Feuil4!$A$1:$A$166,0)&":G"&2+MATCH(B13,Feuil4!$A$1:$A$166,0)))=2),"X",IF(OR(TEXT(DATE(1,MONTH(Feuil2!$I$52),1),"MMMM")=TEXT(DATE(1,MONTH($H$8),1),"MMMM"),TEXT(DATE(1,MONTH(Feuil3!$I$52),1),"MMMM")=TEXT(DATE(1,MONTH($H$8),1),"MMMM")),"Y","")) -> Y | I13: =IF(AND(TEXT(DATE(1,MONTH(Feuil4!$C$9),1),"MMMM")=TEXT(DATE(1,MONTH($I$8),1),"MMMM"),COUNTA(INDIRECT("Feuil4!G"&1+MATCH(B13,Feuil4!$A$1:$A$166,0)&":G"&2+MATCH(B13,Feuil4!$A$1:$A$166,0)))=2),"X",IF(OR(TEXT(DATE(1,MONTH(Feuil2!$I$52),1),"MMMM")=TEXT(DATE(1,MONTH($I$8),1),"MMMM"),TEXT(DATE(1,MONTH(Feuil3!$I$52),1),"MMMM")=TEXT(DATE(1,MONTH($I$8),1),"MMMM")),"Y","")) | J13: =IF(AND(TEXT(DATE(1,MONTH(Feuil4!$C$9),1),"MMMM")=TEXT(DATE(1,MONTH($J$8),1),"MMMM"),COUNTA(INDIRECT("Feuil4!G"&1+MATCH(B13,Feuil4!$A$1:$A$166,0)&":G"&2+MATCH(B13,Feuil4!$A$1:$A$166,0)))=2),"X",IF(OR(TEXT(DATE(1,MONTH(Feuil2!$I$52),1),"MMMM")=TEXT(DATE(1,MONTH($J$8),1),"MMMM"),TEXT(DATE(1,MONTH(Feuil3!$I$52),1),"MMMM")=TEXT(DATE(1,MONTH($J$8),1),"MMMM")),"Y","")) | K13: =IF(AND(TEXT(DATE(1,MONTH(Feuil4!$C$9),1),"MMMM")=TEXT(DATE(1,MONTH($K$8),1),"MMMM"),COUNTA(INDIRECT("Feuil4!G"&1+MATCH(B13,Feuil4!$A$1:$A$166,0)&":G"&2+MATCH(B13,Feuil4!$A$1:$A$166,0)))=2),"X",IF(OR(TEXT(DATE(1,MONTH(Feuil2!$I$52),1),"MMMM")=TEXT(DATE(1,MONTH($K$8),1),"MMMM"),TEXT(DATE(1,MONTH(Feuil3!$I$52),1),"MMMM")=TEXT(DATE(1,MONTH($K$8),1),"MMMM")),"Y","")) | L13: =IF(AND(TEXT(DATE(1,MONTH(Feuil4!$C$9),1),"MMMM")=TEXT(DATE(1,MONTH($L$8),1),"MMMM"),COUNTA(INDIRECT("Feuil4!G"&1+MATCH(B13,Feuil4!$A$1:$A$166,0)&":G"&2+MATCH(B13,Feuil4!$A$1:$A$166,0)))=2),"X",IF(OR(TEXT(DATE(1,MONTH(Feuil2!$I$52),1),"MMMM")=TEXT(DATE(1,MONTH($L$8),1),"MMMM"),TEXT(DATE(1,MONTH(Feuil3!$I$52),1),"MMMM")=TEXT(DATE(1,MONTH($L$8),1),"MMMM")),"Y","")) -> Y | M13: =IF(AND(TEXT(DATE(1,MONTH(Feuil4!$C$9),1),"MMMM")=TEXT(DATE(1,MONTH($M$8),1),"MMMM"),COUNTA(INDIRECT("Feuil4!G"&1+MATCH(B13,Feuil4!$A$1:$A$166,0)&":G"&2+MATCH(B13,Feuil4!$A$1:$A$166,0)))=2),"X",IF(OR(TEXT(DATE(1,MONTH(Feuil2!$I$52),1),"MMMM")=TEXT(DATE(1,MONTH($M$8),1),"MMMM"),TEXT(DATE(1,MONTH(Feuil3!$I$52),1),"MMMM")=TEXT(DATE(1,MONTH($M$8),1),"MMMM")),"Y","")) | N13: =IF(AND(TEXT(DATE(1,MONTH(Feuil4!$C$9),1),"MMMM")=TEXT(DATE(1,MONTH($N$8),1),"MMMM"),COUNTA(INDIRECT("Feuil4!G"&1+MATCH(B13,Feuil4!$A$1:$A$166,0)&":G"&2+MATCH(B13,Feuil4!$A$1:$A$166,0)))=2),"X",IF(OR(TEXT(DATE(1,MONTH(Feuil2!$I$52),1),"MMMM")=TEXT(DATE(1,MONTH($N$8),1),"MMMM"),TEXT(DATE(1,MONTH(Feuil3!$I$52),1),"MMMM")=TEXT(DATE(1,MONTH($N$8),1),"MMMM")),"Y",""))
B14: F | C14: =IF(AND(TEXT(DATE(1,MONTH(Feuil4!$C$9),1),"MMMM")=TEXT(DATE(1,MONTH($C$8),1),"MMMM"),COUNTA(INDIRECT("Feuil4!G"&1+MATCH(B14,Feuil4!$A$1:$A$166,0)&":G"&2+MATCH(B14,Feuil4!$A$1:$A$166,0)))=2),"X",IF(OR(TEXT(DATE(1,MONTH(Feuil2!$I$52),1),"MMMM")=TEXT(DATE(1,MONTH($C$8),1),"MMMM"),TEXT(DATE(1,MONTH(Feuil3!$I$52),1),"MMMM")=TEXT(DATE(1,MONTH($C$8),1),"MMMM")),"Y","")) | D14: =IF(AND(TEXT(DATE(1,MONTH(Feuil4!$C$9),1),"MMMM")=TEXT(DATE(1,MONTH($D$8),1),"MMMM"),COUNTA(INDIRECT("Feuil4!G"&1+MATCH(B14,Feuil4!$A$1:$A$166,0)&":G"&2+MATCH(B14,Feuil4!$A$1:$A$166,0)))=2),"X",IF(OR(TEXT(DATE(1,MONTH(Feuil2!$I$52),1),"MMMM")=TEXT(DATE(1,MONTH($D$8),1),"MMMM"),TEXT(DATE(1,MONTH(Feuil3!$I$52),1),"MMMM")=TEXT(DATE(1,MONTH($D$8),1),"MMMM")),"Y","")) | E14: =IF(AND(TEXT(DATE(1,MONTH(Feuil4!$C$9),1),"MMMM")=TEXT(DATE(1,MONTH($E$8),1),"MMMM"),COUNTA(INDIRECT("Feuil4!G"&1+MATCH(B14,Feuil4!$A$1:$A$166,0)&":G"&2+MATCH(B14,Feuil4!$A$1:$A$166,0)))=2),"X",IF(OR(TEXT(DATE(1,MONTH(Feuil2!$I$52),1),"MMMM")=TEXT(DATE(1,MONTH($E$8),1),"MMMM"),TEXT(DATE(1,MONTH(Feuil3!$I$52),1),"MMMM")=TEXT(DATE(1,MONTH($E$8),1),"MMMM")),"Y","")) | F14: =IF(AND(TEXT(DATE(1,MONTH(Feuil4!$C$9),1),"MMMM")=TEXT(DATE(1,MONTH($F$8),1),"MMMM"),COUNTA(INDIRECT("Feuil4!G"&1+MATCH(B14,Feuil4!$A$1:$A$166,0)&":G"&2+MATCH(B14,Feuil4!$A$1:$A$166,0)))=2),"X",IF(OR(TEXT(DATE(1,MONTH(Feuil2!$I$52),1),"MMMM")=TEXT(DATE(1,MONTH($F$8),1),"MMMM"),TEXT(DATE(1,MONTH(Feuil3!$I$52),1),"MMMM")=TEXT(DATE(1,MONTH($F$8),1),"MMMM")),"Y","")) | G14: =IF(AND(TEXT(DATE(1,MONTH(Feuil4!$C$9),1),"MMMM")=TEXT(DATE(1,MONTH($G$8),1),"MMMM"),COUNTA(INDIRECT("Feuil4!G"&1+MATCH(B14,Feuil4!$A$1:$A$166,0)&":G"&2+MATCH(B14,Feuil4!$A$1:$A$166,0)))=2),"X",IF(OR(TEXT(DATE(1,MONTH(Feuil2!$I$52),1),"MMMM")=TEXT(DATE(1,MONTH($G$8),1),"MMMM"),TEXT(DATE(1,MONTH(Feuil3!$I$52),1),"MMMM")=TEXT(DATE(1,MONTH($G$8),1),"MMMM")),"Y","")) | H14: =IF(AND(TEXT(DATE(1,MONTH(Feuil4!$C$9),1),"MMMM")=TEXT(DATE(1,MONTH($H$8),1),"MMMM"),COUNTA(INDIRECT("Feuil4!G"&1+MATCH(B14,Feuil4!$A$1:$A$166,0)&":G"&2+MATCH(B14,Feuil4!$A$1:$A$166,0)))=2),"X",IF(OR(TEXT(DATE(1,MONTH(Feuil2!$I$52),1),"MMMM")=TEXT(DATE(1,MONTH($H$8),1),"MMMM"),TEXT(DATE(1,MONTH(Feuil3!$I$52),1),"MMMM")=TEXT(DATE(1,MONTH($H$8),1),"MMMM")),"Y","")) -> Y | I14: =IF(AND(TEXT(DATE(1,MONTH(Feuil4!$C$9),1),"MMMM")=TEXT(DATE(1,MONTH($I$8),1),"MMMM"),COUNTA(INDIRECT("Feuil4!G"&1+MATCH(B14,Feuil4!$A$1:$A$166,0)&":G"&2+MATCH(B14,Feuil4!$A$1:$A$166,0)))=2),"X",IF(OR(TEXT(DATE(1,MONTH(Feuil2!$I$52),1),"MMMM")=TEXT(DATE(1,MONTH($I$8),1),"MMMM"),TEXT(DATE(1,MONTH(Feuil3!$I$52),1),"MMMM")=TEXT(DATE(1,MONTH($I$8),1),"MMMM")),"Y","")) | J14: =IF(AND(TEXT(DATE(1,MONTH(Feuil4!$C$9),1),"MMMM")=TEXT(DATE(1,MONTH($J$8),1),"MMMM"),COUNTA(INDIRECT("Feuil4!G"&1+MATCH(B14,Feuil4!$A$1:$A$166,0)&":G"&2+MATCH(B14,Feuil4!$A$1:$A$166,0)))=2),"X",IF(OR(TEXT(DATE(1,MONTH(Feuil2!$I$52),1),"MMMM")=TEXT(DATE(1,MONTH($J$8),1),"MMMM"),TEXT(DATE(1,MONTH(Feuil3!$I$52),1),"MMMM")=TEXT(DATE(1,MONTH($J$8),1),"MMMM")),"Y","")) | K14: =IF(AND(TEXT(DATE(1,MONTH(Feuil4!$C$9),1),"MMMM")=TEXT(DATE(1,MONTH($K$8),1),"MMMM"),COUNTA(INDIRECT("Feuil4!G"&1+MATCH(B14,Feuil4!$A$1:$A$166,0)&":G"&2+MATCH(B14,Feuil4!$A$1:$A$166,0)))=2),"X",IF(OR(TEXT(DATE(1,MONTH(Feuil2!$I$52),1),"MMMM")=TEXT(DATE(1,MONTH($K$8),1),"MMMM"),TEXT(DATE(1,MONTH(Feuil3!$I$52),1),"MMMM")=TEXT(DATE(1,MONTH($K$8),1),"MMMM")),"Y","")) | L14: =IF(AND(TEXT(DATE(1,MONTH(Feuil4!$C$9),1),"MMMM")=TEXT(DATE(1,MONTH($L$8),1),"MMMM"),COUNTA(INDIRECT("Feuil4!G"&1+MATCH(B14,Feuil4!$A$1:$A$166,0)&":G"&2+MATCH(B14,Feuil4!$A$1:$A$166,0)))=2),"X",IF(OR(TEXT(DATE(1,MONTH(Feuil2!$I$52),1),"MMMM")=TEXT(DATE(1,MONTH($L$8),1),"MMMM"),TEXT(DATE(1,MONTH(Feuil3!$I$52),1),"MMMM")=TEXT(DATE(1,MONTH($L$8),1),"MMMM")),"Y","")) -> Y | M14: =IF(AND(TEXT(DATE(1,MONTH(Feuil4!$C$9),1),"MMMM")=TEXT(DATE(1,MONTH($M$8),1),"MMMM"),COUNTA(INDIRECT("Feuil4!G"&1+MATCH(B14,Feuil4!$A$1:$A$166,0)&":G"&2+MATCH(B14,Feuil4!$A$1:$A$166,0)))=2),"X",IF(OR(TEXT(DATE(1,MONTH(Feuil2!$I$52),1),"MMMM")=TEXT(DATE(1,MONTH($M$8),1),"MMMM"),TEXT(DATE(1,MONTH(Feuil3!$I$52),1),"MMMM")=TEXT(DATE(1,MONTH($M$8),1),"MMMM")),"Y","")) | N14: =IF(AND(TEXT(DATE(1,MONTH(Feuil4!$C$9),1),"MMMM")=TEXT(DATE(1,MONTH($N$8),1),"MMMM"),COUNTA(INDIRECT("Feuil4!G"&1+MATCH(B14,Feuil4!$A$1:$A$166,0)&":G"&2+MATCH(B14,Feuil4!$A$1:$A$166,0)))=2),"X",IF(OR(TEXT(DATE(1,MONTH(Feuil2!$I$52),1),"MMMM")=TEXT(DATE(1,MONTH($N$8),1),"MMMM"),TEXT(DATE(1,MONTH(Feuil3!$I$52),1),"MMMM")=TEXT(DATE(1,MONTH($N$8),1),"MMMM")),"Y",""))
B15: G | C15: =IF(AND(TEXT(DATE(1,MONTH(Feuil4!$C$9),1),"MMMM")=TEXT(DATE(1,MONTH($C$8),1),"MMMM"),COUNTA(INDIRECT("Feuil4!G"&1+MATCH(B15,Feuil4!$A$1:$A$166,0)&":G"&2+MATCH(B15,Feuil4!$A$1:$A$166,0)))=2),"X",IF(OR(TEXT(DATE(1,MONTH(Feuil2!$I$52),1),"MMMM")=TEXT(DATE(1,MONTH($C$8),1),"MMMM"),TEXT(DATE(1,MONTH(Feuil3!$I$52),1),"MMMM")=TEXT(DATE(1,MONTH($C$8),1),"MMMM")),"Y","")) | D15: =IF(AND(TEXT(DATE(1,MONTH(Feuil4!$C$9),1),"MMMM")=TEXT(DATE(1,MONTH($D$8),1),"MMMM"),COUNTA(INDIRECT("Feuil4!G"&1+MATCH(B15,Feuil4!$A$1:$A$166,0)&":G"&2+MATCH(B15,Feuil4!$A$1:$A$166,0)))=2),"X",IF(OR(TEXT(DATE(1,MONTH(Feuil2!$I$52),1),"MMMM")=TEXT(DATE(1,MONTH($D$8),1),"MMMM"),TEXT(DATE(1,MONTH(Feuil3!$I$52),1),"MMMM")=TEXT(DATE(1,MONTH($D$8),1),"MMMM")),"Y","")) | E15: =IF(AND(TEXT(DATE(1,MONTH(Feuil4!$C$9),1),"MMMM")=TEXT(DATE(1,MONTH($E$8),1),"MMMM"),COUNTA(INDIRECT("Feuil4!G"&1+MATCH(B15,Feuil4!$A$1:$A$166,0)&":G"&2+MATCH(B15,Feuil4!$A$1:$A$166,0)))=2),"X",IF(OR(TEXT(DATE(1,MONTH(Feuil2!$I$52),1),"MMMM")=TEXT(DATE(1,MONTH($E$8),1),"MMMM"),TEXT(DATE(1,MONTH(Feuil3!$I$52),1),"MMMM")=TEXT(DATE(1,MONTH($E$8),1),"MMMM")),"Y","")) | F15: =IF(AND(TEXT(DATE(1,MONTH(Feuil4!$C$9),1),"MMMM")=TEXT(DATE(1,MONTH($F$8),1),"MMMM"),COUNTA(INDIRECT("Feuil4!G"&1+MATCH(B15,Feuil4!$A$1:$A$166,0)&":G"&2+MATCH(B15,Feuil4!$A$1:$A$166,0)))=2),"X",IF(OR(TEXT(DATE(1,MONTH(Feuil2!$I$52),1),"MMMM")=TEXT(DATE(1,MONTH($F$8),1),"MMMM"),TEXT(DATE(1,MONTH(Feuil3!$I$52),1),"MMMM")=TEXT(DATE(1,MONTH($F$8),1),"MMMM")),"Y","")) | G15: =IF(AND(TEXT(DATE(1,MONTH(Feuil4!$C$9),1),"MMMM")=TEXT(DATE(1,MONTH($G$8),1),"MMMM"),COUNTA(INDIRECT("Feuil4!G"&1+MATCH(B15,Feuil4!$A$1:$A$166,0)&":G"&2+MATCH(B15,Feuil4!$A$1:$A$166,0)))=2),"X",IF(OR(TEXT(DATE(1,MONTH(Feuil2!$I$52),1),"MMMM")=TEXT(DATE(1,MONTH($G$8),1),"MMMM"),TEXT(DATE(1,MONTH(Feuil3!$I$52),1),"MMMM")=TEXT(DATE(1,MONTH($G$8),1),"MMMM")),"Y","")) | H15: =IF(AND(TEXT(DATE(1,MONTH(Feuil4!$C$9),1),"MMMM")=TEXT(DATE(1,MONTH($H$8),1),"MMMM"),COUNTA(INDIRECT("Feuil4!G"&1+MATCH(B15,Feuil4!$A$1:$A$166,0)&":G"&2+MATCH(B15,Feuil4!$A$1:$A$166,0)))=2),"X",IF(OR(TEXT(DATE(1,MONTH(Feuil2!$I$52),1),"MMMM")=TEXT(DATE(1,MONTH($H$8),1),"MMMM"),TEXT(DATE(1,MONTH(Feuil3!$I$52),1),"MMMM")=TEXT(DATE(1,MONTH($H$8),1),"MMMM")),"Y","")) -> X | I15: =IF(AND(TEXT(DATE(1,MONTH(Feuil4!$C$9),1),"MMMM")=TEXT(DATE(1,MONTH($I$8),1),"MMMM"),COUNTA(INDIRECT("Feuil4!G"&1+MATCH(B15,Feuil4!$A$1:$A$166,0)&":G"&2+MATCH(B15,Feuil4!$A$1:$A$166,0)))=2),"X",IF(OR(TEXT(DATE(1,MONTH(Feuil2!$I$52),1),"MMMM")=TEXT(DATE(1,MONTH($I$8),1),"MMMM"),TEXT(DATE(1,MONTH(Feuil3!$I$52),1),"MMMM")=TEXT(DATE(1,MONTH($I$8),1),"MMMM")),"Y","")) | J15: =IF(AND(TEXT(DATE(1,MONTH(Feuil4!$C$9),1),"MMMM")=TEXT(DATE(1,MONTH($J$8),1),"MMMM"),COUNTA(INDIRECT("Feuil4!G"&1+MATCH(B15,Feuil4!$A$1:$A$166,0)&":G"&2+MATCH(B15,Feuil4!$A$1:$A$166,0)))=2),"X",IF(OR(TEXT(DATE(1,MONTH(Feuil2!$I$52),1),"MMMM")=TEXT(DATE(1,MONTH($J$8),1),"MMMM"),TEXT(DATE(1,MONTH(Feuil3!$I$52),1),"MMMM")=TEXT(DATE(1,MONTH($J$8),1),"MMMM")),"Y","")) | K15: =IF(AND(TEXT(DATE(1,MONTH(Feuil4!$C$9),1),"MMMM")=TEXT(DATE(1,MONTH($K$8),1),"MMMM"),COUNTA(INDIRECT("Feuil4!G"&1+MATCH(B15,Feuil4!$A$1:$A$166,0)&":G"&2+MATCH(B15,Feuil4!$A$1:$A$166,0)))=2),"X",IF(OR(TEXT(DATE(1,MONTH(Feuil2!$I$52),1),"MMMM")=TEXT(DATE(1,MONTH($K$8),1),"MMMM"),TEXT(DATE(1,MONTH(Feuil3!$I$52),1),"MMMM")=TEXT(DATE(1,MONTH($K$8),1),"MMMM")),"Y","")) | L15: =IF(AND(TEXT(DATE(1,MONTH(Feuil4!$C$9),1),"MMMM")=TEXT(DATE(1,MONTH($L$8),1),"MMMM"),COUNTA(INDIRECT("Feuil4!G"&1+MATCH(B15,Feuil4!$A$1:$A$166,0)&":G"&2+MATCH(B15,Feuil4!$A$1:$A$166,0)))=2),"X",IF(OR(TEXT(DATE(1,MONTH(Feuil2!$I$52),1),"MMMM")=TEXT(DATE(1,MONTH($L$8),1),"MMMM"),TEXT(DATE(1,MONTH(Feuil3!$I$52),1),"MMMM")=TEXT(DATE(1,MONTH($L$8),1),"MMMM")),"Y","")) -> Y | M15: =IF(AND(TEXT(DATE(1,MONTH(Feuil4!$C$9),1),"MMMM")=TEXT(DATE(1,MONTH($M$8),1),"MMMM"),COUNTA(INDIRECT("Feuil4!G"&1+MATCH(B15,Feuil4!$A$1:$A$166,0)&":G"&2+MATCH(B15,Feuil4!$A$1:$A$166,0)))=2),"X",IF(OR(TEXT(DATE(1,MONTH(Feuil2!$I$52),1),"MMMM")=TEXT(DATE(1,MONTH($M$8),1),"MMMM"),TEXT(DATE(1,MONTH(Feuil3!$I$52),1),"MMMM")=TEXT(DATE(1,MONTH($M$8),1),"MMMM")),"Y","")) | N15: =IF(AND(TEXT(DATE(1,MONTH(Feuil4!$C$9),1),"MMMM")=TEXT(DATE(1,MONTH($N$8),1),"MMMM"),COUNTA(INDIRECT("Feuil4!G"&1+MATCH(B15,Feuil4!$A$1:$A$166,0)&":G"&2+MATCH(B15,Feuil4!$A$1:$A$166,0)))=2),"X",IF(OR(TEXT(DATE(1,MONTH(Feuil2!$I$52),1),"MMMM")=TEXT(DATE(1,MONTH($N$8),1),"MMMM"),TEXT(DATE(1,MONTH(Feuil3!$I$52),1),"MMMM")=TEXT(DATE(1,MONTH($N$8),1),"MMMM")),"Y",""))
B16: H | C16: =IF(AND(TEXT(DATE(1,MONTH(Feuil4!$C$9),1),"MMMM")=TEXT(DATE(1,MONTH($C$8),1),"MMMM"),COUNTA(INDIRECT("Feuil4!G"&1+MATCH(B16,Feuil4!$A$1:$A$166,0)&":G"&2+MATCH(B16,Feuil4!$A$1:$A$166,0)))=2),"X",IF(OR(TEXT(DATE(1,MONTH(Feuil2!$I$52),1),"MMMM")=TEXT(DATE(1,MONTH($C$8),1),"MMMM"),TEXT(DATE(1,MONTH(Feuil3!$I$52),1),"MMMM")=TEXT(DATE(1,MONTH($C$8),1),"MMMM")),"Y","")) | D16: =IF(AND(TEXT(DATE(1,MONTH(Feuil4!$C$9),1),"MMMM")=TEXT(DATE(1,MONTH($D$8),1),"MMMM"),COUNTA(INDIRECT("Feuil4!G"&1+MATCH(B16,Feuil4!$A$1:$A$166,0)&":G"&2+MATCH(B16,Feuil4!$A$1:$A$166,0)))=2),"X",IF(OR(TEXT(DATE(1,MONTH(Feuil2!$I$52),1),"MMMM")=TEXT(DATE(1,MONTH($D$8),1),"MMMM"),TEXT(DATE(1,MONTH(Feuil3!$I$52),1),"MMMM")=TEXT(DATE(1,MONTH($D$8),1),"MMMM")),"Y","")) | E16: =IF(AND(TEXT(DATE(1,MONTH(Feuil4!$C$9),1),"MMMM")=TEXT(DATE(1,MONTH($E$8),1),"MMMM"),COUNTA(INDIRECT("Feuil4!G"&1+MATCH(B16,Feuil4!$A$1:$A$166,0)&":G"&2+MATCH(B16,Feuil4!$A$1:$A$166,0)))=2),"X",IF(OR(TEXT(DATE(1,MONTH(Feuil2!$I$52),1),"MMMM")=TEXT(DATE(1,MONTH($E$8),1),"MMMM"),TEXT(DATE(1,MONTH(Feuil3!$I$52),1),"MMMM")=TEXT(DATE(1,MONTH($E$8),1),"MMMM")),"Y","")) | F16: =IF(AND(TEXT(DATE(1,MONTH(Feuil4!$C$9),1),"MMMM")=TEXT(DATE(1,MONTH($F$8),1),"MMMM"),COUNTA(INDIRECT("Feuil4!G"&1+MATCH(B16,Feuil4!$A$1:$A$166,0)&":G"&2+MATCH(B16,Feuil4!$A$1:$A$166,0)))=2),"X",IF(OR(TEXT(DATE(1,MONTH(Feuil2!$I$52),1),"MMMM")=TEXT(DATE(1,MONTH($F$8),1),"MMMM"),TEXT(DATE(1,MONTH(Feuil3!$I$52),1),"MMMM")=TEXT(DATE(1,MONTH($F$8),1),"MMMM")),"Y","")) | G16: =IF(AND(TEXT(DATE(1,MONTH(Feuil4!$C$9),1),"MMMM")=TEXT(DATE(1,MONTH($G$8),1),"MMMM"),COUNTA(INDIRECT("Feuil4!G"&1+MATCH(B16,Feuil4!$A$1:$A$166,0)&":G"&2+MATCH(B16,Feuil4!$A$1:$A$166,0)))=2),"X",IF(OR(TEXT(DATE(1,MONTH(Feuil2!$I$52),1),"MMMM")=TEXT(DATE(1,MONTH($G$8),1),"MMMM"),TEXT(DATE(1,MONTH(Feuil3!$I$52),1),"MMMM")=TEXT(DATE(1,MONTH($G$8),1),"MMMM")),"Y","")) | H16: =IF(AND(TEXT(DATE(1,MONTH(Feuil4!$C$9),1),"MMMM")=TEXT(DATE(1,MONTH($H$8),1),"MMMM"),COUNTA(INDIRECT("Feuil4!G"&1+MATCH(B16,Feuil4!$A$1:$A$166,0)&":G"&2+MATCH(B16,Feuil4!$A$1:$A$166,0)))=2),"X",IF(OR(TEXT(DATE(1,MONTH(Feuil2!$I$52),1),"MMMM")=TEXT(DATE(1,MONTH($H$8),1),"MMMM"),TEXT(DATE(1,MONTH(Feuil3!$I$52),1),"MMMM")=TEXT(DATE(1,MONTH($H$8),1),"MMMM")),"Y","")) -> Y | I16: =IF(AND(TEXT(DATE(1,MONTH(Feuil4!$C$9),1),"MMMM")=TEXT(DATE(1,MONTH($I$8),1),"MMMM"),COUNTA(INDIRECT("Feuil4!G"&1+MATCH(B16,Feuil4!$A$1:$A$166,0)&":G"&2+MATCH(B16,Feuil4!$A$1:$A$166,0)))=2),"X",IF(OR(TEXT(DATE(1,MONTH(Feuil2!$I$52),1),"MMMM")=TEXT(DATE(1,MONTH($I$8),1),"MMMM"),TEXT(DATE(1,MONTH(Feuil3!$I$52),1),"MMMM")=TEXT(DATE(1,MONTH($I$8),1),"MMMM")),"Y","")) | J16: =IF(AND(TEXT(DATE(1,MONTH(Feuil4!$C$9),1),"MMMM")=TEXT(DATE(1,MONTH($J$8),1),"MMMM"),COUNTA(INDIRECT("Feuil4!G"&1+MATCH(B16,Feuil4!$A$1:$A$166,0)&":G"&2+MATCH(B16,Feuil4!$A$1:$A$166,0)))=2),"X",IF(OR(TEXT(DATE(1,MONTH(Feuil2!$I$52),1),"MMMM")=TEXT(DATE(1,MONTH($J$8),1),"MMMM"),TEXT(DATE(1,MONTH(Feuil3!$I$52),1),"MMMM")=TEXT(DATE(1,MONTH($J$8),1),"MMMM")),"Y","")) | K16: =IF(AND(TEXT(DATE(1,MONTH(Feuil4!$C$9),1),"MMMM")=TEXT(DATE(1,MONTH($K$8),1),"MMMM"),COUNTA(INDIRECT("Feuil4!G"&1+MATCH(B16,Feuil4!$A$1:$A$166,0)&":G"&2+MATCH(B16,Feuil4!$A$1:$A$166,0)))=2),"X",IF(OR(TEXT(DATE(1,MONTH(Feuil2!$I$52),1),"MMMM")=TEXT(DATE(1,MONTH($K$8),1),"MMMM"),TEXT(DATE(1,MONTH(Feuil3!$I$52),1),"MMMM")=TEXT(DATE(1,MONTH($K$8),1),"MMMM")),"Y","")) | L16: =IF(AND(TEXT(DATE(1,MONTH(Feuil4!$C$9),1),"MMMM")=TEXT(DATE(1,MONTH($L$8),1),"MMMM"),COUNTA(INDIRECT("Feuil4!G"&1+MATCH(B16,Feuil4!$A$1:$A$166,0)&":G"&2+MATCH(B16,Feuil4!$A$1:$A$166,0)))=2),"X",IF(OR(TEXT(DATE(1,MONTH(Feuil2!$I$52),1),"MMMM")=TEXT(DATE(1,MONTH($L$8),1),"MMMM"),TEXT(DATE(1,MONTH(Feuil3!$I$52),1),"MMMM")=TEXT(DATE(1,MONTH($L$8),1),"MMMM")),"Y","")) -> Y | M16: =IF(AND(TEXT(DATE(1,MONTH(Feuil4!$C$9),1),"MMMM")=TEXT(DATE(1,MONTH($M$8),1),"MMMM"),COUNTA(INDIRECT("Feuil4!G"&1+MATCH(B16,Feuil4!$A$1:$A$166,0)&":G"&2+MATCH(B16,Feuil4!$A$1:$A$166,0)))=2),"X",IF(OR(TEXT(DATE(1,MONTH(Feuil2!$I$52),1),"MMMM")=TEXT(DATE(1,MONTH($M$8),1),"MMMM"),TEXT(DATE(1,MONTH(Feuil3!$I$52),1),"MMMM")=TEXT(DATE(1,MONTH($M$8),1),"MMMM")),"Y","")) | N16: =IF(AND(TEXT(DATE(1,MONTH(Feuil4!$C$9),1),"MMMM")=TEXT(DATE(1,MONTH($N$8),1),"MMMM"),COUNTA(INDIRECT("Feuil4!G"&1+MATCH(B16,Feuil4!$A$1:$A$166,0)&":G"&2+MATCH(B16,Feuil4!$A$1:$A$166,0)))=2),"X",IF(OR(TEXT(DATE(1,MONTH(Feuil2!$I$52),1),"MMMM")=TEXT(DATE(1,MONTH($N$8),1),"MMMM"),TEXT(DATE(1,MONTH(Feuil3!$I$52),1),"MMMM")=TEXT(DATE(1,MONTH($N$8),1),"MMMM")),"Y",""))
B17: I | C17: =IF(AND(TEXT(DATE(1,MONTH(Feuil4!$C$9),1),"MMMM")=TEXT(DATE(1,MONTH($C$8),1),"MMMM"),COUNTA(INDIRECT("Feuil4!G"&1+MATCH(B17,Feuil4!$A$1:$A$166,0)&":G"&2+MATCH(B17,Feuil4!$A$1:$A$166,0)))=2),"X",IF(OR(TEXT(DATE(1,MONTH(Feuil2!$I$52),1),"MMMM")=TEXT(DATE(1,MONTH($C$8),1),"MMMM"),TEXT(DATE(1,MONTH(Feuil3!$I$52),1),"MMMM")=TEXT(DATE(1,MONTH($C$8),1),"MMMM")),"Y","")) | D17: =IF(AND(TEXT(DATE(1,MONTH(Feuil4!$C$9),1),"MMMM")=TEXT(DATE(1,MONTH($D$8),1),"MMMM"),COUNTA(INDIRECT("Feuil4!G"&1+MATCH(B17,Feuil4!$A$1:$A$166,0)&":G"&2+MATCH(B17,Feuil4!$A$1:$A$166,0)))=2),"X",IF(OR(TEXT(DATE(1,MONTH(Feuil2!$I$52),1),"MMMM")=TEXT(DATE(1,MONTH($D$8),1),"MMMM"),TEXT(DATE(1,MONTH(Feuil3!$I$52),1),"MMMM")=TEXT(DATE(1,MONTH($D$8),1),"MMMM")),"Y","")) | E17: =IF(AND(TEXT(DATE(1,MONTH(Feuil4!$C$9),1),"MMMM")=TEXT(DATE(1,MONTH($E$8),1),"MMMM"),COUNTA(INDIRECT("Feuil4!G"&1+MATCH(B17,Feuil4!$A$1:$A$166,0)&":G"&2+MATCH(B17,Feuil4!$A$1:$A$166,0)))=2),"X",IF(OR(TEXT(DATE(1,MONTH(Feuil2!$I$52),1),"MMMM")=TEXT(DATE(1,MONTH($E$8),1),"MMMM"),TEXT(DATE(1,MONTH(Feuil3!$I$52),1),"MMMM")=TEXT(DATE(1,MONTH($E$8),1),"MMMM")),"Y","")) | F17: =IF(AND(TEXT(DATE(1,MONTH(Feuil4!$C$9),1),"MMMM")=TEXT(DATE(1,MONTH($F$8),1),"MMMM"),COUNTA(INDIRECT("Feuil4!G"&1+MATCH(B17,Feuil4!$A$1:$A$166,0)&":G"&2+MATCH(B17,Feuil4!$A$1:$A$166,0)))=2),"X",IF(OR(TEXT(DATE(1,MONTH(Feuil2!$I$52),1),"MMMM")=TEXT(DATE(1,MONTH($F$8),1),"MMMM"),TEXT(DATE(1,MONTH(Feuil3!$I$52),1),"MMMM")=TEXT(DATE(1,MONTH($F$8),1),"MMMM")),"Y","")) | G17: =IF(AND(TEXT(DATE(1,MONTH(Feuil4!$C$9),1),"MMMM")=TEXT(DATE(1,MONTH($G$8),1),"MMMM"),COUNTA(INDIRECT("Feuil4!G"&1+MATCH(B17,Feuil4!$A$1:$A$166,0)&":G"&2+MATCH(B17,Feuil4!$A$1:$A$166,0)))=2),"X",IF(OR(TEXT(DATE(1,MONTH(Feuil2!$I$52),1),"MMMM")=TEXT(DATE(1,MONTH($G$8),1),"MMMM"),TEXT(DATE(1,MONTH(Feuil3!$I$52),1),"MMMM")=TEXT(DATE(1,MONTH($G$8),1),"MMMM")),"Y","")) | H17: =IF(AND(TEXT(DATE(1,MONTH(Feuil4!$C$9),1),"MMMM")=TEXT(DATE(1,MONTH($H$8),1),"MMMM"),COUNTA(INDIRECT("Feuil4!G"&1+MATCH(B17,Feuil4!$A$1:$A$166,0)&":G"&2+MATCH(B17,Feuil4!$A$1:$A$166,0)))=2),"X",IF(OR(TEXT(DATE(1,MONTH(Feuil2!$I$52),1),"MMMM")=TEXT(DATE(1,MONTH($H$8),1),"MMMM"),TEXT(DATE(1,MONTH(Feuil3!$I$52),1),"MMMM")=TEXT(DATE(1,MONTH($H$8),1),"MMMM")),"Y","")) -> Y | I17: =IF(AND(TEXT(DATE(1,MONTH(Feuil4!$C$9),1),"MMMM")=TEXT(DATE(1,MONTH($I$8),1),"MMMM"),COUNTA(INDIRECT("Feuil4!G"&1+MATCH(B17,Feuil4!$A$1:$A$166,0)&":G"&2+MATCH(B17,Feuil4!$A$1:$A$166,0)))=2),"X",IF(OR(TEXT(DATE(1,MONTH(Feuil2!$I$52),1),"MMMM")=TEXT(DATE(1,MONTH($I$8),1),"MMMM"),TEXT(DATE(1,MONTH(Feuil3!$I$52),1),"MMMM")=TEXT(DATE(1,MONTH($I$8),1),"MMMM")),"Y","")) | J17: =IF(AND(TEXT(DATE(1,MONTH(Feuil4!$C$9),1),"MMMM")=TEXT(DATE(1,MONTH($J$8),1),"MMMM"),COUNTA(INDIRECT("Feuil4!G"&1+MATCH(B17,Feuil4!$A$1:$A$166,0)&":G"&2+MATCH(B17,Feuil4!$A$1:$A$166,0)))=2),"X",IF(OR(TEXT(DATE(1,MONTH(Feuil2!$I$52),1),"MMMM")=TEXT(DATE(1,MONTH($J$8),1),"MMMM"),TEXT(DATE(1,MONTH(Feuil3!$I$52),1),"MMMM")=TEXT(DATE(1,MONTH($J$8),1),"MMMM")),"Y","")) | K17: =IF(AND(TEXT(DATE(1,MONTH(Feuil4!$C$9),1),"MMMM")=TEXT(DATE(1,MONTH($K$8),1),"MMMM"),COUNTA(INDIRECT("Feuil4!G"&1+MATCH(B17,Feuil4!$A$1:$A$166,0)&":G"&2+MATCH(B17,Feuil4!$A$1:$A$166,0)))=2),"X",IF(OR(TEXT(DATE(1,MONTH(Feuil2!$I$52),1),"MMMM")=TEXT(DATE(1,MONTH($K$8),1),"MMMM"),TEXT(DATE(1,MONTH(Feuil3!$I$52),1),"MMMM")=TEXT(DATE(1,MONTH($K$8),1),"MMMM")),"Y","")) | L17: =IF(AND(TEXT(DATE(1,MONTH(Feuil4!$C$9),1),"MMMM")=TEXT(DATE(1,MONTH($L$8),1),"MMMM"),COUNTA(INDIRECT("Feuil4!G"&1+MATCH(B17,Feuil4!$A$1:$A$166,0)&":G"&2+MATCH(B17,Feuil4!$A$1:$A$166,0)))=2),"X",IF(OR(TEXT(DATE(1,MONTH(Feuil2!$I$52),1),"MMMM")=TEXT(DATE(1,MONTH($L$8),1),"MMMM"),TEXT(DATE(1,MONTH(Feuil3!$I$52),1),"MMMM")=TEXT(DATE(1,MONTH($L$8),1),"MMMM")),"Y","")) -> Y | M17: =IF(AND(TEXT(DATE(1,MONTH(Feuil4!$C$9),1),"MMMM")=TEXT(DATE(1,MONTH($M$8),1),"MMMM"),COUNTA(INDIRECT("Feuil4!G"&1+MATCH(B17,Feuil4!$A$1:$A$166,0)&":G"&2+MATCH(B17,Feuil4!$A$1:$A$166,0)))=2),"X",IF(OR(TEXT(DATE(1,MONTH(Feuil2!$I$52),1),"MMMM")=TEXT(DATE(1,MONTH($M$8),1),"MMMM"),TEXT(DATE(1,MONTH(Feuil3!$I$52),1),"MMMM")=TEXT(DATE(1,MONTH($M$8),1),"MMMM")),"Y","")) | N17: =IF(AND(TEXT(DATE(1,MONTH(Feuil4!$C$9),1),"MMMM")=TEXT(DATE(1,MONTH($N$8),1),"MMMM"),COUNTA(INDIRECT("Feuil4!G"&1+MATCH(B17,Feuil4!$A$1:$A$166,0)&":G"&2+MATCH(B17,Feuil4!$A$1:$A$166,0)))=2),"X",IF(OR(TEXT(DATE(1,MONTH(Feuil2!$I$52),1),"MMMM")=TEXT(DATE(1,MONTH($N$8),1),"MMMM"),TEXT(DATE(1,MONTH(Feuil3!$I$52),1),"MMMM")=TEXT(DATE(1,MONTH($N$8),1),"MMMM")),"Y",""))
B18: J | C18: =IF(AND(TEXT(DATE(1,MONTH(Feuil4!$C$9),1),"MMMM")=TEXT(DATE(1,MONTH($C$8),1),"MMMM"),COUNTA(INDIRECT("Feuil4!G"&1+MATCH(B18,Feuil4!$A$1:$A$166,0)&":G"&2+MATCH(B18,Feuil4!$A$1:$A$166,0)))=2),"X",IF(OR(TEXT(DATE(1,MONTH(Feuil2!$I$52),1),"MMMM")=TEXT(DATE(1,MONTH($C$8),1),"MMMM"),TEXT(DATE(1,MONTH(Feuil3!$I$52),1),"MMMM")=TEXT(DATE(1,MONTH($C$8),1),"MMMM")),"Y","")) | D18: =IF(AND(TEXT(DATE(1,MONTH(Feuil4!$C$9),1),"MMMM")=TEXT(DATE(1,MONTH($D$8),1),"MMMM"),COUNTA(INDIRECT("Feuil4!G"&1+MATCH(B18,Feuil4!$A$1:$A$166,0)&":G"&2+MATCH(B18,Feuil4!$A$1:$A$166,0)))=2),"X",IF(OR(TEXT(DATE(1,MONTH(Feuil2!$I$52),1),"MMMM")=TEXT(DATE(1,MONTH($D$8),1),"MMMM"),TEXT(DATE(1,MONTH(Feuil3!$I$52),1),"MMMM")=TEXT(DATE(1,MONTH($D$8),1),"MMMM")),"Y","")) | E18: =IF(AND(TEXT(DATE(1,MONTH(Feuil4!$C$9),1),"MMMM")=TEXT(DATE(1,MONTH($E$8),1),"MMMM"),COUNTA(INDIRECT("Feuil4!G"&1+MATCH(B18,Feuil4!$A$1:$A$166,0)&":G"&2+MATCH(B18,Feuil4!$A$1:$A$166,0)))=2),"X",IF(OR(TEXT(DATE(1,MONTH(Feuil2!$I$52),1),"MMMM")=TEXT(DATE(1,MONTH($E$8),1),"MMMM"),TEXT(DATE(1,MONTH(Feuil3!$I$52),1),"MMMM")=TEXT(DATE(1,MONTH($E$8),1),"MMMM")),"Y","")) | F18: =IF(AND(TEXT(DATE(1,MONTH(Feuil4!$C$9),1),"MMMM")=TEXT(DATE(1,MONTH($F$8),1),"MMMM"),COUNTA(INDIRECT("Feuil4!G"&1+MATCH(B18,Feuil4!$A$1:$A$166,0)&":G"&2+MATCH(B18,Feuil4!$A$1:$A$166,0)))=2),"X",IF(OR(TEXT(DATE(1,MONTH(Feuil2!$I$52),1),"MMMM")=TEXT(DATE(1,MONTH($F$8),1),"MMMM"),TEXT(DATE(1,MONTH(Feuil3!$I$52),1),"MMMM")=TEXT(DATE(1,MONTH($F$8),1),"MMMM")),"Y","")) | G18: =IF(AND(TEXT(DATE(1,MONTH(Feuil4!$C$9),1),"MMMM")=TEXT(DATE(1,MONTH($G$8),1),"MMMM"),COUNTA(INDIRECT("Feuil4!G"&1+MATCH(B18,Feuil4!$A$1:$A$166,0)&":G"&2+MATCH(B18,Feuil4!$A$1:$A$166,0)))=2),"X",IF(OR(TEXT(DATE(1,MONTH(Feuil2!$I$52),1),"MMMM")=TEXT(DATE(1,MONTH($G$8),1),"MMMM"),TEXT(DATE(1,MONTH(Feuil3!$I$52),1),"MMMM")=TEXT(DATE(1,MONTH($G$8),1),"MMMM")),"Y","")) | H18: =IF(AND(TEXT(DATE(1,MONTH(Feuil4!$C$9),1),"MMMM")=TEXT(DATE(1,MONTH($H$8),1),"MMMM"),COUNTA(INDIRECT("Feuil4!G"&1+MATCH(B18,Feuil4!$A$1:$A$166,0)&":G"&2+MATCH(B18,Feuil4!$A$1:$A$166,0)))=2),"X",IF(OR(TEXT(DATE(1,MONTH(Feuil2!$I$52),1),"MMMM")=TEXT(DATE(1,MONTH($H$8),1),"MMMM"),TEXT(DATE(1,MONTH(Feuil3!$I$52),1),"MMMM")=TEXT(DATE(1,MONTH($H$8),1),"MMMM")),"Y","")) -> Y | I18: =IF(AND(TEXT(DATE(1,MONTH(Feuil4!$C$9),1),"MMMM")=TEXT(DATE(1,MONTH($I$8),1),"MMMM"),COUNTA(INDIRECT("Feuil4!G"&1+MATCH(B18,Feuil4!$A$1:$A$166,0)&":G"&2+MATCH(B18,Feuil4!$A$1:$A$166,0)))=2),"X",IF(OR(TEXT(DATE(1,MONTH(Feuil2!$I$52),1),"MMMM")=TEXT(DATE(1,MONTH($I$8),1),"MMMM"),TEXT(DATE(1,MONTH(Feuil3!$I$52),1),"MMMM")=TEXT(DATE(1,MONTH($I$8),1),"MMMM")),"Y","")) | J18: =IF(AND(TEXT(DATE(1,MONTH(Feuil4!$C$9),1),"MMMM")=TEXT(DATE(1,MONTH($J$8),1),"MMMM"),COUNTA(INDIRECT("Feuil4!G"&1+MATCH(B18,Feuil4!$A$1:$A$166,0)&":G"&2+MATCH(B18,Feuil4!$A$1:$A$166,0)))=2),"X",IF(OR(TEXT(DATE(1,MONTH(Feuil2!$I$52),1),"MMMM")=TEXT(DATE(1,MONTH($J$8),1),"MMMM"),TEXT(DATE(1,MONTH(Feuil3!$I$52),1),"MMMM")=TEXT(DATE(1,MONTH($J$8),1),"MMMM")),"Y","")) | K18: =IF(AND(TEXT(DATE(1,MONTH(Feuil4!$C$9),1),"MMMM")=TEXT(DATE(1,MONTH($K$8),1),"MMMM"),COUNTA(INDIRECT("Feuil4!G"&1+MATCH(B18,Feuil4!$A$1:$A$166,0)&":G"&2+MATCH(B18,Feuil4!$A$1:$A$166,0)))=2),"X",IF(OR(TEXT(DATE(1,MONTH(Feuil2!$I$52),1),"MMMM")=TEXT(DATE(1,MONTH($K$8),1),"MMMM"),TEXT(DATE(1,MONTH(Feuil3!$I$52),1),"MMMM")=TEXT(DATE(1,MONTH($K$8),1),"MMMM")),"Y","")) | L18: =IF(AND(TEXT(DATE(1,MONTH(Feuil4!$C$9),1),"MMMM")=TEXT(DATE(1,MONTH($L$8),1),"MMMM"),COUNTA(INDIRECT("Feuil4!G"&1+MATCH(B18,Feuil4!$A$1:$A$166,0)&":G"&2+MATCH(B18,Feuil4!$A$1:$A$166,0)))=2),"X",IF(OR(TEXT(DATE(1,MONTH(Feuil2!$I$52),1),"MMMM")=TEXT(DATE(1,MONTH($L$8),1),"MMMM"),TEXT(DATE(1,MONTH(Feuil3!$I$52),1),"MMMM")=TEXT(DATE(1,MONTH($L$8),1),"MMMM")),"Y","")) -> Y | M18: =IF(AND(TEXT(DATE(1,MONTH(Feuil4!$C$9),1),"MMMM")=TEXT(DATE(1,MONTH($M$8),1),"MMMM"),COUNTA(INDIRECT("Feuil4!G"&1+MATCH(B18,Feuil4!$A$1:$A$166,0)&":G"&2+MATCH(B18,Feuil4!$A$1:$A$166,0)))=2),"X",IF(OR(TEXT(DATE(1,MONTH(Feuil2!$I$52),1),"MMMM")=TEXT(DATE(1,MONTH($M$8),1),"MMMM"),TEXT(DATE(1,MONTH(Feuil3!$I$52),1),"MMMM")=TEXT(DATE(1,MONTH($M$8),1),"MMMM")),"Y","")) | N18: =IF(AND(TEXT(DATE(1,MONTH(Feuil4!$C$9),1),"MMMM")=TEXT(DATE(1,MONTH($N$8),1),"MMMM"),COUNTA(INDIRECT("Feuil4!G"&1+MATCH(B18,Feuil4!$A$1:$A$166,0)&":G"&2+MATCH(B18,Feuil4!$A$1:$A$166,0)))=2),"X",IF(OR(TEXT(DATE(1,MONTH(Feuil2!$I$52),1),"MMMM")=TEXT(DATE(1,MONTH($N$8),1),"MMMM"),TEXT(DATE(1,MONTH(Feuil3!$I$52),1),"MMMM")=TEXT(DATE(1,MONTH($N$8),1),"MMMM")),"Y",""))

Sheet Feuil2
I52: 43995

Sheet Feuil3
I52: 44124

Sheet Feuil4
B9: Durée de à: | C9: 43629 | D9: 43637
B67: CONSTATS DE L’AUDIT
B68: No. | C68: Réf | D68: Enoncé | G68: NC ou Observations
A69: A
B70: 1 | G70: 2
G71: 3
B75: 2
B77: 3
B81: 4
B83: 5
B85: 6
A87: B
B88: 7
B93: 8
A98: C
B99: 9
A112: D
B113: 10
B115: 11
A118: E
B119: 12
A122: F
B123: 13
B125: 14
A135: G
B136: 15 | G136: test1
G137: test2
A142: H
B143: 16
B150: 17
A154: I | B154: 18
A165: J | B165: 19
