Workbook
Name Dia: OFFSET(listes!$B$1,1,0,COUNTA(listes!$B:$B)-1,1)
Name formes: OFFSET(listes!$A$1,1,0,COUNTA(listes!$A:$A)-1,1)
Name matière: OFFSET(listes!$C$1,1,0,COUNTA(listes!$C:$C)-1,1)

Sheet Base de données
S1: =SUBTOTAL(9,S2:S107) -> 8253.3081 | T1: =SUBTOTAL(9,T2:T107) -> 13376.12 | U1: =SUBTOTAL(9,U2:U107) -> 3199.683
A2: Facture N° | B2: Origine | C2: N° déclarat° export | D2: Date déclarat° export | E2: Réf article | F2: Désignation | G2: N° fiche | H2: matière | I2: forme | J2: taille | K2: N° déclarat° import | L2: Qté livrée | M2: Poids net/ pièce | N2: longueur pièce | O2: nbre pièces /barre | P2: pids par barre | Q2: POIDS NET TOTAL | R2: Poids brut/pièce | S2: Qté utilisée | T2: Qté importée | U2: QTE STOCK INIT (Kg) | V2: stock (Kg) | W2: Poids copeaux/ pièce | X2: poids copeaux total | Y2: Participat° dans la FB | Z2: Poids déchet fin de barre total | AA2: POIDS DECHET total
B3: STOCK INITIAL | D3: 42735 | H3: LAITON | I3: Carrée | J3: 6 | S3: 0 | U3: 123.69 | V3: =IF(SUMPRODUCT(MAX(('Base de données'!$D$3:$D$114)*(('Base de données'!$H$3:$H$114='Base de données'!$H3)*('Base de données'!$I$3:$I$114='Base de données'!$I3)*('Base de données'!$J$3:$J$114='Base de données'!$J3))))<>'Base de données'!$D3,"",SUMPRODUCT((-'Base de données'!$S$3:$S$114+'Base de données'!$T$3:$T$114+'Base de données'!$U$3:$U$114)*(('Base de données'!$H$3:$H$114='Base de données'!$H3)*('Base de données'!$I$3:$I$114='Base de données'!$I3)*('Base de données'!$J$3:$J$114='Base de données'!$J3)))) -> 123.69
B4: STOCK INITIAL | D4: 42735 | H4: LAITON | I4: HEX | J4: 8 | S4: 0 | U4: 40.068 | V4: =IF(SUMPRODUCT(MAX(('Base de données'!$D$3:$D$114)*(('Base de données'!$H$3:$H$114='Base de données'!$H4)*('Base de données'!$I$3:$I$114='Base de données'!$I4)*('Base de données'!$J$3:$J$114='Base de données'!$J4))))<>'Base de données'!$D4,"",SUMPRODUCT((-'Base de données'!$S$3:$S$114+'Base de données'!$T$3:$T$114+'Base de données'!$U$3:$U$114)*(('Base de données'!$H$3:$H$114='Base de données'!$H4)*('Base de données'!$I$3:$I$114='Base de données'!$I4)*('Base de données'!$J$3:$J$114='Base de données'!$J4))))
B5: STOCK INITIAL | D5: 42735 | H5: LAITON | I5: HEX | J5: 10 | S5: 0 | U5: 346.425 | V5: =IF(SUMPRODUCT(MAX(('Base de données'!$D$3:$D$114)*(('Base de données'!$H$3:$H$114='Base de données'!$H5)*('Base de données'!$I$3:$I$114='Base de données'!$I5)*('Base de données'!$J$3:$J$114='Base de données'!$J5))))<>'Base de données'!$D5,"",SUMPRODUCT((-'Base de données'!$S$3:$S$114+'Base de données'!$T$3:$T$114+'Base de données'!$U$3:$U$114)*(('Base de données'!$H$3:$H$114='Base de données'!$H5)*('Base de données'!$I$3:$I$114='Base de données'!$I5)*('Base de données'!$J$3:$J$114='Base de données'!$J5)))) -> 346.425
B6: STOCK INITIAL | D6: 42735 | H6: LAITON | I6: HEX | J6: 12 | S6: 0 | U6: 77.184 | V6: =IF(SUMPRODUCT(MAX(('Base de données'!$D$3:$D$114)*(('Base de données'!$H$3:$H$114='Base de données'!$H6)*('Base de données'!$I$3:$I$114='Base de données'!$I6)*('Base de données'!$J$3:$J$114='Base de données'!$J6))))<>'Base de données'!$D6,"",SUMPRODUCT((-'Base de données'!$S$3:$S$114+'Base de données'!$T$3:$T$114+'Base de données'!$U$3:$U$114)*(('Base de données'!$H$3:$H$114='Base de données'!$H6)*('Base de données'!$I$3:$I$114='Base de données'!$I6)*('Base de données'!$J$3:$J$114='Base de données'!$J6))))
B7: STOCK INITIAL | D7: 42735 | H7: LAITON | I7: HEX | J7: 14 | S7: 0 | U7: 293.259 | V7: =IF(SUMPRODUCT(MAX(('Base de données'!$D$3:$D$114)*(('Base de données'!$H$3:$H$114='Base de données'!$H7)*('Base de données'!$I$3:$I$114='Base de données'!$I7)*('Base de données'!$J$3:$J$114='Base de données'!$J7))))<>'Base de données'!$D7,"",SUMPRODUCT((-'Base de données'!$S$3:$S$114+'Base de données'!$T$3:$T$114+'Base de données'!$U$3:$U$114)*(('Base de données'!$H$3:$H$114='Base de données'!$H7)*('Base de données'!$I$3:$I$114='Base de données'!$I7)*('Base de données'!$J$3:$J$114='Base de données'!$J7)))) -> 293.259
B8: STOCK INITIAL | D8: 42735 | H8: LAITON | I8: HEX | J8: 17 | S8: 0 | U8: 238.872 | V8: =IF(SUMPRODUCT(MAX(('Base de données'!$D$3:$D$114)*(('Base de données'!$H$3:$H$114='Base de données'!$H8)*('Base de données'!$I$3:$I$114='Base de données'!$I8)*('Base de données'!$J$3:$J$114='Base de données'!$J8))))<>'Base de données'!$D8,"",SUMPRODUCT((-'Base de données'!$S$3:$S$114+'Base de données'!$T$3:$T$114+'Base de données'!$U$3:$U$114)*(('Base de données'!$H$3:$H$114='Base de données'!$H8)*('Base de données'!$I$3:$I$114='Base de données'!$I8)*('Base de données'!$J$3:$J$114='Base de données'!$J8)))) -> 238.872
B9: STOCK INITIAL | D9: 42735 | H9: LAITON | I9: HEX | J9: 19 | S9: 0 | U9: 24.21 | V9: =IF(SUMPRODUCT(MAX(('Base de données'!$D$3:$D$114)*(('Base de données'!$H$3:$H$114='Base de données'!$H9)*('Base de données'!$I$3:$I$114='Base de données'!$I9)*('Base de données'!$J$3:$J$114='Base de données'!$J9))))<>'Base de données'!$D9,"",SUMPRODUCT((-'Base de données'!$S$3:$S$114+'Base de données'!$T$3:$T$114+'Base de données'!$U$3:$U$114)*(('Base de données'!$H$3:$H$114='Base de données'!$H9)*('Base de données'!$I$3:$I$114='Base de données'!$I9)*('Base de données'!$J$3:$J$114='Base de données'!$J9)))) -> 24.21
B10: STOCK INITIAL | D10: 42735 | H10: LAITON | I10: HEX | J10: 27 | S10: 0 | U10: 48.87 | V10: =IF(SUMPRODUCT(MAX(('Base de données'!$D$3:$D$114)*(('Base de données'!$H$3:$H$114='Base de données'!$H10)*('Base de données'!$I$3:$I$114='Base de données'!$I10)*('Base de données'!$J$3:$J$114='Base de données'!$J10))))<>'Base de données'!$D10,"",SUMPRODUCT((-'Base de données'!$S$3:$S$114+'Base de données'!$T$3:$T$114+'Base de données'!$U$3:$U$114)*(('Base de données'!$H$3:$H$114='Base de données'!$H10)*('Base de données'!$I$3:$I$114='Base de données'!$I10)*('Base de données'!$J$3:$J$114='Base de données'!$J10)))) -> 48.87
B11: STOCK INITIAL | D11: 42735 | H11: LAITON | I11: ROND | J11: 4 | S11: 0 | U11: 47.628 | V11: =IF(SUMPRODUCT(MAX(('Base de données'!$D$3:$D$114)*(('Base de données'!$H$3:$H$114='Base de données'!$H11)*('Base de données'!$I$3:$I$114='Base de données'!$I11)*('Base de données'!$J$3:$J$114='Base de données'!$J11))))<>'Base de données'!$D11,"",SUMPRODUCT((-'Base de données'!$S$3:$S$114+'Base de données'!$T$3:$T$114+'Base de données'!$U$3:$U$114)*(('Base de données'!$H$3:$H$114='Base de données'!$H11)*('Base de données'!$I$3:$I$114='Base de données'!$I11)*('Base de données'!$J$3:$J$114='Base de données'!$J11)))) -> 47.628
B12: STOCK INITIAL | D12: 42735 | H12: LAITON | I12: ROND | J12: 5 | S12: 0 | U12: 82.641 | V12: =IF(SUMPRODUCT(MAX(('Base de données'!$D$3:$D$114)*(('Base de données'!$H$3:$H$114='Base de données'!$H12)*('Base de données'!$I$3:$I$114='Base de données'!$I12)*('Base de données'!$J$3:$J$114='Base de données'!$J12))))<>'Base de données'!$D12,"",SUMPRODUCT((-'Base de données'!$S$3:$S$114+'Base de données'!$T$3:$T$114+'Base de données'!$U$3:$U$114)*(('Base de données'!$H$3:$H$114='Base de données'!$H12)*('Base de données'!$I$3:$I$114='Base de données'!$I12)*('Base de données'!$J$3:$J$114='Base de données'!$J12)))) -> 82.641
B13: STOCK INITIAL | D13: 42735 | H13: LAITON | I13: ROND | J13: 6 | S13: 0 | U13: 48.114 | V13: =IF(SUMPRODUCT(MAX(('Base de données'!$D$3:$D$114)*(('Base de données'!$H$3:$H$114='Base de données'!$H13)*('Base de données'!$I$3:$I$114='Base de données'!$I13)*('Base de données'!$J$3:$J$114='Base de données'!$J13))))<>'Base de données'!$D13,"",SUMPRODUCT((-'Base de données'!$S$3:$S$114+'Base de données'!$T$3:$T$114+'Base de données'!$U$3:$U$114)*(('Base de données'!$H$3:$H$114='Base de données'!$H13)*('Base de données'!$I$3:$I$114='Base de données'!$I13)*('Base de données'!$J$3:$J$114='Base de données'!$J13))))
B14: STOCK INITIAL | D14: 42735 | H14: LAITON | I14: ROND | J14: 7 | S14: 0 | U14: 100.293 | V14: =IF(SUMPRODUCT(MAX(('Base de données'!$D$3:$D$114)*(('Base de données'!$H$3:$H$114='Base de données'!$H14)*('Base de données'!$I$3:$I$114='Base de données'!$I14)*('Base de données'!$J$3:$J$114='Base de données'!$J14))))<>'Base de données'!$D14,"",SUMPRODUCT((-'Base de données'!$S$3:$S$114+'Base de données'!$T$3:$T$114+'Base de données'!$U$3:$U$114)*(('Base de données'!$H$3:$H$114='Base de données'!$H14)*('Base de données'!$I$3:$I$114='Base de données'!$I14)*('Base de données'!$J$3:$J$114='Base de données'!$J14))))
... B25: STOCK INITIAL | D25: 42735 | H25: LAITON | I25: ROND | J25: 24 | S25: 0 | U25: 46.68 | V25: =IF(SUMPRODUCT(MAX(('Base de données'!$D$3:$D$114)*(('Base de données'!$H$3:$H$114='Base de données'!$H25)*('Base de données'!$I$3:$I$114='Base de données'!$I25)*('Base de données'!$J$3:$J$114='Base de données'!$J25))))<>'Base de données'!$D25,"",SUMPRODUCT((-'Base de données'!$S$3:$S$114+'Base de données'!$T$3:$T$114+'Base de données'!$U$3:$U$114)*(('Base de données'!$H$3:$H$114='Base de données'!$H25)*('Base de données'!$I$3:$I$114='Base de données'!$I25)*('Base de données'!$J$3:$J$114='Base de données'!$J25)))) -> 46.68
B26: achat | D26: 42754 | H26: LAITON | I26: ROND | J26: 18 | S26: 0 | T26: 211 | V26: =IF(SUMPRODUCT(MAX(('Base de données'!$D$3:$D$114)*(('Base de données'!$H$3:$H$114='Base de données'!$H26)*('Base de données'!$I$3:$I$114='Base de données'!$I26)*('Base de données'!$J$3:$J$114='Base de données'!$J26))))<>'Base de données'!$D26,"",SUMPRODUCT((-'Base de données'!$S$3:$S$114+'Base de données'!$T$3:$T$114+'Base de données'!$U$3:$U$114)*(('Base de données'!$H$3:$H$114='Base de données'!$H26)*('Base de données'!$I$3:$I$114='Base de données'!$I26)*('Base de données'!$J$3:$J$114='Base de données'!$J26)))) | AA26: =SUBTOTAL(9,AA3:AA25) -> 0
B27: achat | D27: 42754 | H27: LAITON | I27: ROND | J27: 22 | S27: 0 | T27: 1964 | V27: =IF(SUMPRODUCT(MAX(('Base de données'!$D$3:$D$114)*(('Base de données'!$H$3:$H$114='Base de données'!$H27)*('Base de données'!$I$3:$I$114='Base de données'!$I27)*('Base de données'!$J$3:$J$114='Base de données'!$J27))))<>'Base de données'!$D27,"",SUMPRODUCT((-'Base de données'!$S$3:$S$114+'Base de données'!$T$3:$T$114+'Base de données'!$U$3:$U$114)*(('Base de données'!$H$3:$H$114='Base de données'!$H27)*('Base de données'!$I$3:$I$114='Base de données'!$I27)*('Base de données'!$J$3:$J$114='Base de données'!$J27))))
B28: vente | C28: 546390 | D28: 42801 | E28: 512800 | F28: PERNO DISINNESTO RULLO G16922290 | H28: LAITON | I28: ROND | J28: 7 | L28: 1000 | M28: 0.003421 | N28: 24.5 | O28: =INT(2800/(N28+3)) -> 101 | P28: =((J28/2)*(J28/2)*3.14*9*3)/1000 -> 1.038555 | Q28: =+M28*L28 -> 3.421 | R28: =P28/O28 -> 0.010282723 | S28: 10.282723 | V28: =IF(SUMPRODUCT(MAX(('Base de données'!$D$3:$D$114)*(('Base de données'!$H$3:$H$114='Base de données'!$H28)*('Base de données'!$I$3:$I$114='Base de données'!$I28)*('Base de données'!$J$3:$J$114='Base de données'!$J28))))<>'Base de données'!$D28,"",SUMPRODUCT((-'Base de données'!$S$3:$S$114+'Base de données'!$T$3:$T$114+'Base de données'!$U$3:$U$114)*(('Base de données'!$H$3:$H$114='Base de données'!$H28)*('Base de données'!$I$3:$I$114='Base de données'!$I28)*('Base de données'!$J$3:$J$114='Base de données'!$J28)))) | W28: =(((P28/3000)*2880)-(M28*O28))/O28 -> 0.0064504139 | X28: =+W28*L28 -> 6.4504139 | Y28: =+((P28/3000)*120)/101 -> 0.00041130891 | Z28: =Y28*L28 -> 0.41130891 | AA28: =S28-Q28 -> 6.8617228
B29: achat | D29: 42816 | H29: LAITON | I29: ROND | J29: 7 | S29: 0 | T29: 250 | V29: =IF(SUMPRODUCT(MAX(('Base de données'!$D$3:$D$114)*(('Base de données'!$H$3:$H$114='Base de données'!$H29)*('Base de données'!$I$3:$I$114='Base de données'!$I29)*('Base de données'!$J$3:$J$114='Base de données'!$J29))))<>'Base de données'!$D29,"",SUMPRODUCT((-'Base de données'!$S$3:$S$114+'Base de données'!$T$3:$T$114+'Base de données'!$U$3:$U$114)*(('Base de données'!$H$3:$H$114='Base de données'!$H29)*('Base de données'!$I$3:$I$114='Base de données'!$I29)*('Base de données'!$J$3:$J$114='Base de données'!$J29))))
A30: 201700021 | B30: vente | C30: 546763 | D30: 42818 | E30: 200200 | F30: EMBOUT DE TIGE | G30: 146 | H30: LAITON | I30: ROND | J30: 22 | L30: 2000 | M30: 0.07476 | N30: 39.5 | O30: =INT(2800/(N30+3)) -> 65 | P30: =((J30/2)*(J30/2)*3.14*9*3)/1000 -> 10.25838 | Q30: =+M30*L30 -> 149.52 | R30: =P30/O30 -> 0.15782123 | S30: 315.64246 | V30: =IF(SUMPRODUCT(MAX(('Base de données'!$D$3:$D$114)*(('Base de données'!$H$3:$H$114='Base de données'!$H30)*('Base de données'!$I$3:$I$114='Base de données'!$I30)*('Base de données'!$J$3:$J$114='Base de données'!$J30))))<>'Base de données'!$D30,"",SUMPRODUCT((-'Base de données'!$S$3:$S$114+'Base de données'!$T$3:$T$114+'Base de données'!$U$3:$U$114)*(('Base de données'!$H$3:$H$114='Base de données'!$H30)*('Base de données'!$I$3:$I$114='Base de données'!$I30)*('Base de données'!$J$3:$J$114='Base de données'!$J30)))) | W30: =(((P30/3000)*2880)-(M30*O30))/O30 -> 0.076748382 | X30: =+W30*L30 -> 153.49676 | Y30: =+((P30/3000)*120)/101 -> 0.0040627248 | Z30: =Y30*L30 -> 8.1254495 | AA30: =S30-Q30 -> 166.12246
A31: 201700027 | B31: vente | C31: 547184 | D31: 42832 | E31: 510020 | F31: INSERTO ESAG,M6 8*6 | G31: 139 | H31: LAITON | I31: HEX | J31: 8 | L31: 20000 | M31: 0.001446 | N31: 6 | O31: =INT(2800/(N31+3)) -> 311 | P31: =((J31*J31)*0.866*9*3)/1000 -> 1.496448 | Q31: =+L31*M31 -> 28.92 | R31: =P31/O31 -> 0.0048117299 | S31: 96.234598 | V31: =IF(SUMPRODUCT(MAX(('Base de données'!$D$3:$D$114)*(('Base de données'!$H$3:$H$114='Base de données'!$H31)*('Base de données'!$I$3:$I$114='Base de données'!$I31)*('Base de données'!$J$3:$J$114='Base de données'!$J31))))<>'Base de données'!$D31,"",SUMPRODUCT((-'Base de données'!$S$3:$S$114+'Base de données'!$T$3:$T$114+'Base de données'!$U$3:$U$114)*(('Base de données'!$H$3:$H$114='Base de données'!$H31)*('Base de données'!$I$3:$I$114='Base de données'!$I31)*('Base de données'!$J$3:$J$114='Base de données'!$J31)))) | W31: =(((P31/3000)*2880)-(M31*O31))/O31 -> 0.0031732607 | X31: =+W31*L31 -> 63.465214 | Y31: =+((P31/3000)*120)/101 -> 0.00059265267 | Z31: =Y31*L31 -> 11.853053 | AA31: =S31-Q31 -> 67.314598
A32: 201700027 | B32: vente | C32: 547184 | D32: 42832 | E32: 512800 | F32: PERNO DISINNESTO RULLO G16922290 | H32: LAITON | I32: ROND | J32: 7 | L32: 10000 | M32: 0.003421 | N32: 24.5 | O32: =INT(2800/(N32+3)) -> 101 | P32: =((J32/2)*(J32/2)*3.14*9*3)/1000 -> 1.038555 | Q32: =+M32*L32 -> 34.21 | R32: =P32/O32 -> 0.010282723 | S32: 102.82723 | V32: =IF(SUMPRODUCT(MAX(('Base de données'!$D$3:$D$114)*(('Base de données'!$H$3:$H$114='Base de données'!$H32)*('Base de données'!$I$3:$I$114='Base de données'!$I32)*('Base de données'!$J$3:$J$114='Base de données'!$J32))))<>'Base de données'!$D32,"",SUMPRODUCT((-'Base de données'!$S$3:$S$114+'Base de données'!$T$3:$T$114+'Base de données'!$U$3:$U$114)*(('Base de données'!$H$3:$H$114='Base de données'!$H32)*('Base de données'!$I$3:$I$114='Base de données'!$I32)*('Base de données'!$J$3:$J$114='Base de données'!$J32)))) | W32: =(((P32/3000)*2880)-(M32*O32))/O32 -> 0.0064504139 | X32: =+W32*L32 -> 64.504139 | Y32: =+((P32/3000)*120)/101 -> 0.00041130891 | Z32: =Y32*L32 -> 4.1130891 | AA32: =S32-Q32 -> 68.617228
A33: 201700034 | B33: vente | C33: 547321 | D33: 42839 | E33: 200200 | F33: EMBOUT DE TIGE | H33: LAITON | I33: ROND | J33: 22 | L33: 2500 | M33: 0.07476 | N33: 39.5 | O33: =INT(2800/(N33+3)) -> 65 | P33: =((J33/2)*(J33/2)*3.14*9*3)/1000 -> 10.25838 | Q33: =+M33*L33 -> 186.9 | R33: =P33/O33 -> 0.15782123 | S33: 394.55308 | V33: =IF(SUMPRODUCT(MAX(('Base de données'!$D$3:$D$114)*(('Base de données'!$H$3:$H$114='Base de données'!$H33)*('Base de données'!$I$3:$I$114='Base de données'!$I33)*('Base de données'!$J$3:$J$114='Base de données'!$J33))))<>'Base de données'!$D33,"",SUMPRODUCT((-'Base de données'!$S$3:$S$114+'Base de données'!$T$3:$T$114+'Base de données'!$U$3:$U$114)*(('Base de données'!$H$3:$H$114='Base de données'!$H33)*('Base de données'!$I$3:$I$114='Base de données'!$I33)*('Base de données'!$J$3:$J$114='Base de données'!$J33)))) | W33: =(((P33/3000)*2880)-(M33*O33))/O33 -> 0.076748382 | X33: =+W33*L33 -> 191.87095 | Y33: =+((P33/3000)*120)/101 -> 0.0040627248 | Z33: =Y33*L33 -> 10.156812 | AA33: =S33-Q33 -> 207.65308
B34: achat | D34: 42857 | H34: LAITON | I34: HEX | J34: 8 | S34: 0 | T34: 150.4 | V34: =IF(SUMPRODUCT(MAX(('Base de données'!$D$3:$D$114)*(('Base de données'!$H$3:$H$114='Base de données'!$H34)*('Base de données'!$I$3:$I$114='Base de données'!$I34)*('Base de données'!$J$3:$J$114='Base de données'!$J34))))<>'Base de données'!$D34,"",SUMPRODUCT((-'Base de données'!$S$3:$S$114+'Base de données'!$T$3:$T$114+'Base de données'!$U$3:$U$114)*(('Base de données'!$H$3:$H$114='Base de données'!$H34)*('Base de données'!$I$3:$I$114='Base de données'!$I34)*('Base de données'!$J$3:$J$114='Base de données'!$J34))))
A35: 201700044 | B35: vente | C35: 547817 | D35: 42861 | E35: 510020 | F35: INSERTO ESAG,M6 8*6 | G35: 139 | H35: LAITON | I35: HEX | J35: 8 | L35: 3540 | M35: 0.001446 | N35: 6 | O35: =INT(2800/(N35+3)) -> 311 | P35: =((J35*J35)*0.866*9*3)/1000 -> 1.496448 | Q35: =+L35*M35 -> 5.11884 | R35: =P35/O35 -> 0.0048117299 | S35: 17.033524 | V35: =IF(SUMPRODUCT(MAX(('Base de données'!$D$3:$D$114)*(('Base de données'!$H$3:$H$114='Base de données'!$H35)*('Base de données'!$I$3:$I$114='Base de données'!$I35)*('Base de données'!$J$3:$J$114='Base de données'!$J35))))<>'Base de données'!$D35,"",SUMPRODUCT((-'Base de données'!$S$3:$S$114+'Base de données'!$T$3:$T$114+'Base de données'!$U$3:$U$114)*(('Base de données'!$H$3:$H$114='Base de données'!$H35)*('Base de données'!$I$3:$I$114='Base de données'!$I35)*('Base de données'!$J$3:$J$114='Base de données'!$J35)))) | W35: =(((P35/3000)*2880)-(M35*O35))/O35 -> 0.0031732607 | X35: =+W35*L35 -> 11.233343 | Y35: =+((P35/3000)*120)/101 -> 0.00059265267 | Z35: =Y35*L35 -> 2.0979905 | AA35: =S35-Q35 -> 11.914684
A36: 201700044 | B36: vente | C36: 547817 | D36: 42861 | E36: 510090 | F36: INSERTI M8 12*12 laiton hex12 | G36: 141 | H36: LAITON | I36: HEX | J36: 12 | L36: 5100 | M36: 0.00325 | N36: 12 | O36: =INT(2800/(N36+3)) -> 186 | P36: =((J36*J36)*0.866*9*3)/1000 -> 3.367008 | Q36: =+L36*M36 -> 16.575 | R36: =P36/O36 -> 0.018102194 | S36: 92.321187 | V36: =IF(SUMPRODUCT(MAX(('Base de données'!$D$3:$D$114)*(('Base de données'!$H$3:$H$114='Base de données'!$H36)*('Base de données'!$I$3:$I$114='Base de données'!$I36)*('Base de données'!$J$3:$J$114='Base de données'!$J36))))<>'Base de données'!$D36,"",SUMPRODUCT((-'Base de données'!$S$3:$S$114+'Base de données'!$T$3:$T$114+'Base de données'!$U$3:$U$114)*(('Base de données'!$H$3:$H$114='Base de données'!$H36)*('Base de données'!$I$3:$I$114='Base de données'!$I36)*('Base de données'!$J$3:$J$114='Base de données'!$J36)))) | W36: =(((P36/3000)*2880)-(M36*O36))/O36 -> 0.014128106 | X36: =+W36*L36 -> 72.05334 | Y36: =+((P36/3000)*120)/101 -> 0.0013334685 | Z36: =Y36*L36 -> 6.8006894 | AA36: =S36-Q36 -> 75.746187
A37: 201700044 | B37: vente | C37: 547817 | D37: 42861 | E37: 512800 | F37: PERNO DISINNESTO RULLO G16922290 | H37: LAITON | I37: ROND | J37: 7 | L37: 17400 | M37: 0.003421 | N37: 24.5 | O37: =INT(2800/(N37+3)) -> 101 | P37: =((J37/2)*(J37/2)*3.14*9*3)/1000 -> 1.038555 | Q37: =+M37*L37 -> 59.5254 | R37: =P37/O37 -> 0.010282723 | S37: 178.91938 | V37: =IF(SUMPRODUCT(MAX(('Base de données'!$D$3:$D$114)*(('Base de données'!$H$3:$H$114='Base de données'!$H37)*('Base de données'!$I$3:$I$114='Base de données'!$I37)*('Base de données'!$J$3:$J$114='Base de données'!$J37))))<>'Base de données'!$D37,"",SUMPRODUCT((-'Base de données'!$S$3:$S$114+'Base de données'!$T$3:$T$114+'Base de données'!$U$3:$U$114)*(('Base de données'!$H$3:$H$114='Base de données'!$H37)*('Base de données'!$I$3:$I$114='Base de données'!$I37)*('Base de données'!$J$3:$J$114='Base de données'!$J37)))) | W37: =(((P37/3000)*2880)-(M37*O37))/O37 -> 0.0064504139 | X37: =+W37*L37 -> 112.2372 | Y37: =+((P37/3000)*120)/101 -> 0.00041130891 | Z37: =Y37*L37 -> 7.156775 | AA37: =S37-Q37 -> 119.39398
A38: 201700038 | B38: vente | C38: 547903 | D38: 42866 | E38: 200200 | F38: EMBOUT DE TIGE | H38: LAITON | I38: ROND | J38: 22 | L38: 1500 | M38: 0.07476 | N38: 39.5 | O38: =INT(2800/(N38+3)) -> 65 | P38: =((J38/2)*(J38/2)*3.14*9*3)/1000 -> 10.25838 | Q38: =+M38*L38 -> 112.14 | R38: =P38/O38 -> 0.15782123 | S38: 236.73185 | V38: =IF(SUMPRODUCT(MAX(('Base de données'!$D$3:$D$114)*(('Base de données'!$H$3:$H$114='Base de données'!$H38)*('Base de données'!$I$3:$I$114='Base de données'!$I38)*('Base de données'!$J$3:$J$114='Base de données'!$J38))))<>'Base de données'!$D38,"",SUMPRODUCT((-'Base de données'!$S$3:$S$114+'Base de données'!$T$3:$T$114+'Base de données'!$U$3:$U$114)*(('Base de données'!$H$3:$H$114='Base de données'!$H38)*('Base de données'!$I$3:$I$114='Base de données'!$I38)*('Base de données'!$J$3:$J$114='Base de données'!$J38)))) | W38: =(((P38/3000)*2880)-(M38*O38))/O38 -> 0.076748382 | X38: =+W38*L38 -> 115.12257 | Y38: =+((P38/3000)*120)/101 -> 0.0040627248 | Z38: =Y38*L38 -> 6.0940871 | AA38: =S38-Q38 -> 124.59185
B39: achat | D39: 42885 | H39: LAITON | I39: ROND | J39: 7 | S39: 0 | T39: 250 | V39: =IF(SUMPRODUCT(MAX(('Base de données'!$D$3:$D$114)*(('Base de données'!$H$3:$H$114='Base de données'!$H39)*('Base de données'!$I$3:$I$114='Base de données'!$I39)*('Base de données'!$J$3:$J$114='Base de données'!$J39))))<>'Base de données'!$D39,"",SUMPRODUCT((-'Base de données'!$S$3:$S$114+'Base de données'!$T$3:$T$114+'Base de données'!$U$3:$U$114)*(('Base de données'!$H$3:$H$114='Base de données'!$H39)*('Base de données'!$I$3:$I$114='Base de données'!$I39)*('Base de données'!$J$3:$J$114='Base de données'!$J39))))
B40: achat | D40: 42885 | H40: LAITON | I40: HEX | J40: 12 | S40: 0 | T40: 250 | V40: =IF(SUMPRODUCT(MAX(('Base de données'!$D$3:$D$114)*(('Base de données'!$H$3:$H$114='Base de données'!$H40)*('Base de données'!$I$3:$I$114='Base de données'!$I40)*('Base de données'!$J$3:$J$114='Base de données'!$J40))))<>'Base de données'!$D40,"",SUMPRODUCT((-'Base de données'!$S$3:$S$114+'Base de données'!$T$3:$T$114+'Base de données'!$U$3:$U$114)*(('Base de données'!$H$3:$H$114='Base de données'!$H40)*('Base de données'!$I$3:$I$114='Base de données'!$I40)*('Base de données'!$J$3:$J$114='Base de données'!$J40))))
A41: 201700054 | B41: vente | C41: 548450 | D41: 42893 | E41: 510020 | F41: INSERTO ESAG,M6 8*6 | G41: 139 | H41: LAITON | I41: HEX | J41: 8 | L41: 26460 | M41: 0.001446 | N41: 6 | O41: =INT(2800/(N41+3)) -> 311 | P41: =((J41*J41)*0.866*9*3)/1000 -> 1.496448 | Q41: =+L41*M41 -> 38.26116 | R41: =P41/O41 -> 0.0048117299 | S41: 127.31837 | V41: =IF(SUMPRODUCT(MAX(('Base de données'!$D$3:$D$114)*(('Base de données'!$H$3:$H$114='Base de données'!$H41)*('Base de données'!$I$3:$I$114='Base de données'!$I41)*('Base de données'!$J$3:$J$114='Base de données'!$J41))))<>'Base de données'!$D41,"",SUMPRODUCT((-'Base de données'!$S$3:$S$114+'Base de données'!$T$3:$T$114+'Base de données'!$U$3:$U$114)*(('Base de données'!$H$3:$H$114='Base de données'!$H41)*('Base de données'!$I$3:$I$114='Base de données'!$I41)*('Base de données'!$J$3:$J$114='Base de données'!$J41)))) | W41: =(((P41/3000)*2880)-(M41*O41))/O41 -> 0.0031732607 | X41: =+W41*L41 -> 83.964478 | Y41: =+((P41/3000)*120)/101 -> 0.00059265267 | Z41: =Y41*L41 -> 15.68159 | AA41: =S41-Q41 -> 89.057213
A42: 201700054 | B42: vente | C42: 548450 | D42: 42893 | E42: 512800 | F42: PERNO DISINNESTO RULLO G16922290 | H42: LAITON | I42: ROND | J42: 7 | L42: 9100 | M42: 0.003421 | N42: 24.5 | O42: =INT(2800/(N42+3)) -> 101 | P42: =((J42/2)*(J42/2)*3.14*9*3)/1000 -> 1.038555 | Q42: =+M42*L42 -> 31.1311 | R42: =P42/O42 -> 0.010282723 | S42: 93.572777 | V42: =IF(SUMPRODUCT(MAX(('Base de données'!$D$3:$D$114)*(('Base de données'!$H$3:$H$114='Base de données'!$H42)*('Base de données'!$I$3:$I$114='Base de données'!$I42)*('Base de données'!$J$3:$J$114='Base de données'!$J42))))<>'Base de données'!$D42,"",SUMPRODUCT((-'Base de données'!$S$3:$S$114+'Base de données'!$T$3:$T$114+'Base de données'!$U$3:$U$114)*(('Base de données'!$H$3:$H$114='Base de données'!$H42)*('Base de données'!$I$3:$I$114='Base de données'!$I42)*('Base de données'!$J$3:$J$114='Base de données'!$J42)))) | W42: =(((P42/3000)*2880)-(M42*O42))/O42 -> 0.0064504139 | X42: =+W42*L42 -> 58.698766 | Y42: =+((P42/3000)*120)/101 -> 0.00041130891 | Z42: =Y42*L42 -> 3.7429111 | AA42: =S42-Q42 -> 62.441677
A43: 201700061 | B43: vente | C43: 549084 | D43: 42923 | E43: 200200 | F43: EMBOUT DE TIGE | H43: LAITON | I43: ROND | J43: 22 | L43: 1500 | M43: 0.07476 | N43: 39.5 | O43: =INT(2800/(N43+3)) -> 65 | P43: =((J43/2)*(J43/2)*3.14*9*3)/1000 -> 10.25838 | Q43: =+M43*L43 -> 112.14 | R43: =P43/O43 -> 0.15782123 | S43: 236.73185 | V43: =IF(SUMPRODUCT(MAX(('Base de données'!$D$3:$D$114)*(('Base de données'!$H$3:$H$114='Base de données'!$H43)*('Base de données'!$I$3:$I$114='Base de données'!$I43)*('Base de données'!$J$3:$J$114='Base de données'!$J43))))<>'Base de données'!$D43,"",SUMPRODUCT((-'Base de données'!$S$3:$S$114+'Base de données'!$T$3:$T$114+'Base de données'!$U$3:$U$114)*(('Base de données'!$H$3:$H$114='Base de données'!$H43)*('Base de données'!$I$3:$I$114='Base de données'!$I43)*('Base de données'!$J$3:$J$114='Base de données'!$J43)))) | W43: =(((P43/3000)*2880)-(M43*O43))/O43 -> 0.076748382 | X43: =+W43*L43 -> 115.12257 | Y43: =+((P43/3000)*120)/101 -> 0.0040627248 | Z43: =Y43*L43 -> 6.0940871 | AA43: =S43-Q43 -> 124.59185
A44: 201700065 | B44: vente | C44: 549089 | D44: 42923 | E44: 510020 | F44: INSERTO ESAG,M6 8*6 | G44: 139 | H44: LAITON | I44: HEX | J44: 8 | L44: 15517 | M44: 0.001446 | N44: 6 | O44: =INT(2800/(N44+3)) -> 311 | P44: =((J44*J44)*0.866*9*3)/1000 -> 1.496448 | Q44: =+L44*M44 -> 22.437582 | R44: =P44/O44 -> 0.0048117299 | S44: 74.663613 | V44: =IF(SUMPRODUCT(MAX(('Base de données'!$D$3:$D$114)*(('Base de données'!$H$3:$H$114='Base de données'!$H44)*('Base de données'!$I$3:$I$114='Base de données'!$I44)*('Base de données'!$J$3:$J$114='Base de données'!$J44))))<>'Base de données'!$D44,"",SUMPRODUCT((-'Base de données'!$S$3:$S$114+'Base de données'!$T$3:$T$114+'Base de données'!$U$3:$U$114)*(('Base de données'!$H$3:$H$114='Base de données'!$H44)*('Base de données'!$I$3:$I$114='Base de données'!$I44)*('Base de données'!$J$3:$J$114='Base de données'!$J44)))) | W44: =(((P44/3000)*2880)-(M44*O44))/O44 -> 0.0031732607 | X44: =+W44*L44 -> 49.239486 | Y44: =+((P44/3000)*120)/101 -> 0.00059265267 | Z44: =Y44*L44 -> 9.1961915 | AA44: =S44-Q44 -> 52.226031
A45: 201700065 | B45: vente | C45: 549089 | D45: 42923 | E45: 511040 | F45: BRONZINA 16/18X10.3 | G45: 138 | H45: LAITON | I45: ROND | J45: 18 | L45: 865 | M45: 0.003676 | N45: 10.3 | O45: =INT(2800/(N45+3)) -> 210 | P45: =((J45/2)*(J45/2)*3.14*9*3)/1000 -> 6.86718 | Q45: =+M45*L45 -> 3.17974 | R45: =P45/O45 -> 0.032700857 | S45: 28.286241 | V45: =IF(SUMPRODUCT(MAX(('Base de données'!$D$3:$D$114)*(('Base de données'!$H$3:$H$114='Base de données'!$H45)*('Base de données'!$I$3:$I$114='Base de données'!$I45)*('Base de données'!$J$3:$J$114='Base de données'!$J45))))<>'Base de données'!$D45,"",SUMPRODUCT((-'Base de données'!$S$3:$S$114+'Base de données'!$T$3:$T$114+'Base de données'!$U$3:$U$114)*(('Base de données'!$H$3:$H$114='Base de données'!$H45)*('Base de données'!$I$3:$I$114='Base de données'!$I45)*('Base de données'!$J$3:$J$114='Base de données'!$J45)))) | W45: =(((P45/3000)*2880)-(M45*O45))/O45 -> 0.027716823 | X45: =+W45*L45 -> 23.975052 | Y45: =+((P45/3000)*120)/101 -> 0.0027196752 | Z45: =Y45*L45 -> 2.3525191 | AA45: =S45-Q45 -> 25.106501
A46: 201700065 | B46: vente | C46: 549089 | D46: 42923 | E46: 512800 | F46: PERNO DISINNESTO RULLO G16922290 | H46: LAITON | I46: ROND | J46: 7 | L46: 6000 | M46: 0.003421 | N46: 24.5 | O46: =INT(2800/(N46+3)) -> 101 | P46: =((J46/2)*(J46/2)*3.14*9*3)/1000 -> 1.038555 | Q46: =+M46*L46 -> 20.526 | R46: =P46/O46 -> 0.010282723 | S46: 61.696337 | V46: =IF(SUMPRODUCT(MAX(('Base de données'!$D$3:$D$114)*(('Base de données'!$H$3:$H$114='Base de données'!$H46)*('Base de données'!$I$3:$I$114='Base de données'!$I46)*('Base de données'!$J$3:$J$114='Base de données'!$J46))))<>'Base de données'!$D46,"",SUMPRODUCT((-'Base de données'!$S$3:$S$114+'Base de données'!$T$3:$T$114+'Base de données'!$U$3:$U$114)*(('Base de données'!$H$3:$H$114='Base de données'!$H46)*('Base de données'!$I$3:$I$114='Base de données'!$I46)*('Base de données'!$J$3:$J$114='Base de données'!$J46)))) | W46: =(((P46/3000)*2880)-(M46*O46))/O46 -> 0.0064504139 | X46: =+W46*L46 -> 38.702483 | Y46: =+((P46/3000)*120)/101 -> 0.00041130891 | Z46: =Y46*L46 -> 2.4678535 | AA46: =S46-Q46 -> 41.170337
B47: achat | D47: 42923 | H47: LAITON | I47: HEX | J47: 8 | S47: 0 | T47: 150.4 | V47: =IF(SUMPRODUCT(MAX(('Base de données'!$D$3:$D$114)*(('Base de données'!$H$3:$H$114='Base de données'!$H47)*('Base de données'!$I$3:$I$114='Base de données'!$I47)*('Base de données'!$J$3:$J$114='Base de données'!$J47))))<>'Base de données'!$D47,"",SUMPRODUCT((-'Base de données'!$S$3:$S$114+'Base de données'!$T$3:$T$114+'Base de données'!$U$3:$U$114)*(('Base de données'!$H$3:$H$114='Base de données'!$H47)*('Base de données'!$I$3:$I$114='Base de données'!$I47)*('Base de données'!$J$3:$J$114='Base de données'!$J47))))
A48: 201700072 | B48: vente | C48: 549600 | D48: 42950 | E48: 510090 | F48: INSERTI M8 12*12 laiton hex12 | G48: 141 | H48: LAITON | I48: HEX | J48: 12 | L48: 3000 | M48: 0.00325 | N48: 12 | O48: =INT(2800/(N48+3)) -> 186 | P48: =((J48*J48)*0.866*9*3)/1000 -> 3.367008 | Q48: =+L48*M48 -> 9.75 | R48: =P48/O48 -> 0.018102194 | S48: 54.306581 | V48: =IF(SUMPRODUCT(MAX(('Base de données'!$D$3:$D$114)*(('Base de données'!$H$3:$H$114='Base de données'!$H48)*('Base de données'!$I$3:$I$114='Base de données'!$I48)*('Base de données'!$J$3:$J$114='Base de données'!$J48))))<>'Base de données'!$D48,"",SUMPRODUCT((-'Base de données'!$S$3:$S$114+'Base de données'!$T$3:$T$114+'Base de données'!$U$3:$U$114)*(('Base de données'!$H$3:$H$114='Base de données'!$H48)*('Base de données'!$I$3:$I$114='Base de données'!$I48)*('Base de données'!$J$3:$J$114='Base de données'!$J48)))) | W48: =(((P48/3000)*2880)-(M48*O48))/O48 -> 0.014128106 | X48: =+W48*L48 -> 42.384317 | Y48: =+((P48/3000)*120)/101 -> 0.0013334685 | Z48: =Y48*L48 -> 4.0004055 | AA48: =S48-Q48 -> 44.556581
A49: 201700072 | B49: vente | C49: 549600 | D49: 42950 | E49: 512800 | F49: PERNO DISINNESTO RULLO G16922290 | H49: LAITON | I49: ROND | J49: 7 | L49: 3000 | M49: 0.003421 | N49: 24.5 | O49: =INT(2800/(N49+3)) -> 101 | P49: =((J49/2)*(J49/2)*3.14*9*3)/1000 -> 1.038555 | Q49: =+M49*L49 -> 10.263 | R49: =P49/O49 -> 0.010282723 | S49: 30.848168 | V49: =IF(SUMPRODUCT(MAX(('Base de données'!$D$3:$D$114)*(('Base de données'!$H$3:$H$114='Base de données'!$H49)*('Base de données'!$I$3:$I$114='Base de données'!$I49)*('Base de données'!$J$3:$J$114='Base de données'!$J49))))<>'Base de données'!$D49,"",SUMPRODUCT((-'Base de données'!$S$3:$S$114+'Base de données'!$T$3:$T$114+'Base de données'!$U$3:$U$114)*(('Base de données'!$H$3:$H$114='Base de données'!$H49)*('Base de données'!$I$3:$I$114='Base de données'!$I49)*('Base de données'!$J$3:$J$114='Base de données'!$J49)))) | W49: =(((P49/3000)*2880)-(M49*O49))/O49 -> 0.0064504139 | X49: =+W49*L49 -> 19.351242 | Y49: =+((P49/3000)*120)/101 -> 0.00041130891 | Z49: =Y49*L49 -> 1.2339267 | AA49: =S49-Q49 -> 20.585168
A50: 201700076 | B50: vente | C50: 530052 | D50: 42984 | E50: 200200 | F50: EMBOUT DE TIGE | H50: LAITON | I50: ROND | J50: 22 | L50: 1500 | M50: 0.07476 | N50: 39.5 | O50: =INT(2800/(N50+3)) -> 65 | P50: =((J50/2)*(J50/2)*3.14*9*3)/1000 -> 10.25838 | Q50: =+M50*L50 -> 112.14 | R50: =P50/O50 -> 0.15782123 | S50: 236.73185 | V50: =IF(SUMPRODUCT(MAX(('Base de données'!$D$3:$D$114)*(('Base de données'!$H$3:$H$114='Base de données'!$H50)*('Base de données'!$I$3:$I$114='Base de données'!$I50)*('Base de données'!$J$3:$J$114='Base de données'!$J50))))<>'Base de données'!$D50,"",SUMPRODUCT((-'Base de données'!$S$3:$S$114+'Base de données'!$T$3:$T$114+'Base de données'!$U$3:$U$114)*(('Base de données'!$H$3:$H$114='Base de données'!$H50)*('Base de données'!$I$3:$I$114='Base de données'!$I50)*('Base de données'!$J$3:$J$114='Base de données'!$J50)))) | W50: =(((P50/3000)*2880)-(M50*O50))/O50 -> 0.076748382 | X50: =+W50*L50 -> 115.12257 | Y50: =+((P50/3000)*120)/101 -> 0.0040627248 | Z50: =Y50*L50 -> 6.0940871 | AA50: =S50-Q50 -> 124.59185
...

Sheet achat
B1: Laiton | D1: Dates des factures : | F1: {=IFERROR(INDEX(Tableau1[[#All],[Date déclarat° export]],SMALL(IF((Tableau1[[#All],[Origine]]="achat")*(Tableau1[[#All],[matière]]=$B$1)*(Tableau1[[#All],[forme]]=$B$2)*(Tableau1[[#All],[taille]]=$B$3*1),ROW(Tableau1[[#All],[matière]])-1),COLUMNS($A:A))),"")} -> 42754 | G1: {=IFERROR(INDEX(Tableau1[[#All],[Date déclarat° export]],SMALL(IF((Tableau1[[#All],[Origine]]="achat")*(Tableau1[[#All],[matière]]=$B$1)*(Tableau1[[#All],[forme]]=$B$2)*(Tableau1[[#All],[taille]]=$B$3*1),ROW(Tableau1[[#All],[matière]])-1),COLUMNS($A:B))),"")} -> 43067 | H1: {=IFERROR(INDEX(Tableau1[[#All],[Date déclarat° export]],SMALL(IF((Tableau1[[#All],[Origine]]="achat")*(Tableau1[[#All],[matière]]=$B$1)*(Tableau1[[#All],[forme]]=$B$2)*(Tableau1[[#All],[taille]]=$B$3*1),ROW(Tableau1[[#All],[matière]])-1),COLUMNS($A:C))),"")} -> 43696 | I1: {=IFERROR(INDEX(Tableau1[[#All],[Date déclarat° export]],SMALL(IF((Tableau1[[#All],[Origine]]="achat")*(Tableau1[[#All],[matière]]=$B$1)*(Tableau1[[#All],[forme]]=$B$2)*(Tableau1[[#All],[taille]]=$B$3*1),ROW(Tableau1[[#All],[matière]])-1),COLUMNS($A:D))),"")} | J1: {=IFERROR(INDEX(Tableau1[[#All],[Date déclarat° export]],SMALL(IF((Tableau1[[#All],[Origine]]="achat")*(Tableau1[[#All],[matière]]=$B$1)*(Tableau1[[#All],[forme]]=$B$2)*(Tableau1[[#All],[taille]]=$B$3*1),ROW(Tableau1[[#All],[matière]])-1),COLUMNS($A:E))),"")} | K1: {=IFERROR(INDEX(Tableau1[[#All],[Date déclarat° export]],SMALL(IF((Tableau1[[#All],[Origine]]="achat")*(Tableau1[[#All],[matière]]=$B$1)*(Tableau1[[#All],[forme]]=$B$2)*(Tableau1[[#All],[taille]]=$B$3*1),ROW(Tableau1[[#All],[matière]])-1),COLUMNS($A:F))),"")} | L1: {=IFERROR(INDEX(Tableau1[[#All],[Date déclarat° export]],SMALL(IF((Tableau1[[#All],[Origine]]="achat")*(Tableau1[[#All],[matière]]=$B$1)*(Tableau1[[#All],[forme]]=$B$2)*(Tableau1[[#All],[taille]]=$B$3*1),ROW(Tableau1[[#All],[matière]])-1),COLUMNS($A:G))),"")} | M1: {=IFERROR(INDEX(Tableau1[[#All],[Date déclarat° export]],SMALL(IF((Tableau1[[#All],[Origine]]="achat")*(Tableau1[[#All],[matière]]=$B$1)*(Tableau1[[#All],[forme]]=$B$2)*(Tableau1[[#All],[taille]]=$B$3*1),ROW(Tableau1[[#All],[matière]])-1),COLUMNS($A:H))),"")} | N1: {=IFERROR(INDEX('Base de données'!L$2:L$114,SMALL(IF(('Base de données'!$B$2:$B$114="achat")*('Base de données'!$H$2:$H$114=$B$1)*('Base de données'!$I$2:$I$114=$B$2)*('Base de données'!$J$2:$J$114=$B$3*1),ROW('Base de données'!$H$2:$H$114)-1),COLUMNS($A:I))),"")}
A2: Désignation | B2: rond
B3: 22
A5: Date Facture d'achat | B5: N° facture | C5: Type | D5: N° Déclaration | E5: Date Déclaration | F5: Désignation | I5: Qté importée | J5: Qté utilisée | K5: N° fiche | L5: Déchet copeaux | N5: Déchet fin de barre | P5: Taux Déchet total
F6: Matière | G6: Forme | H6: Taille | L6: Taux | M6: poids copeaux total | N6: Taux | O6: Poids déchet fin de barre total
A7: {=IFERROR(IF(INDEX('Base de données'!$B$2:$B$114,MATCH(IFERROR(INDEX('Base de données'!D$2:D$114,SMALL(IF(('Base de données'!$B$2:$B$114<>"stock initial")*('Base de données'!$H$2:$H$114=$B$1)*('Base de données'!$I$2:$I$114=$B$2)*('Base de données'!$J$2:$J$114=$B$3*1),ROW('Base de données'!$H$2:$H$114)-1),ROWS($1:1))),""),'Base de données'!$D$2:$D$114,0))="achat",IFERROR(INDEX('Base de données'!D$2:D$114,SMALL(IF(('Base de données'!$B$2:$B$114<>"stock initial")*('Base de données'!$H$2:$H$114=$B$1)*('Base de données'!$I$2:$I$114=$B$2)*('Base de données'!$J$2:$J$114=$B$3*1),ROW('Base de données'!$H$2:$H$114)-1),ROWS($1:1))),""),""),"")} -> 42754 | B7: EUROVA 231209-1 | C7: SA | D7: 668161 | E7: 40189 | F7: =$B$1 -> Laiton | G7: =$B$2 -> rond | H7: =$B$3 -> 22 | I7: =IF(AND($D7=0,$E7<>""),IFERROR(INDEX('Base de données'!T$2:T$114,SMALL(IF(('Base de données'!$B$2:$B$114<>"stock initial")*('Base de données'!$H$2:$H$114=$B$1)*('Base de données'!$I$2:$I$114=$B$2)*('Base de données'!$J$2:$J$114=$B$3*1),ROW('Base de données'!$H$2:$H$114)-1),ROWS($1:1))),""),IF($E7="","",I6)) -> 0 | J7: =IF(D7=0,"",IFERROR(INDEX('Base de données'!S$2:S$114,SMALL(IF(('Base de données'!$B$2:$B$114<>"stock initial")*('Base de données'!$H$2:$H$114=$B$1)*('Base de données'!$I$2:$I$114=$B$2)*('Base de données'!$J$2:$J$114=$B$3*1),ROW('Base de données'!$H$2:$H$114)-1),ROWS($1:1))),"")) -> 0 | L7: =IFERROR(M7/J7,"") | M7: {=IF($D7=0,"",IFERROR(INDEX('Base de données'!X$2:X$114,SMALL(IF(('Base de données'!$B$2:$B$114<>"stock initial")*('Base de données'!$H$2:$H$114=$B$1)*('Base de données'!$I$2:$I$114=$B$2)*('Base de données'!$J$2:$J$114=$B$3*1),ROW('Base de données'!$H$2:$H$114)-1),ROWS($1:1))),""))} -> 0 | N7: =IFERROR(O7/J7,"") | O7: {=IF($D7=0,0,IFERROR(INDEX('Base de données'!Z$2:Z$114,SMALL(IF(('Base de données'!$B$2:$B$114<>"stock initial")*('Base de données'!$H$2:$H$114="laiton")*('Base de données'!$I$2:$I$114=$B$2)*('Base de données'!$J$2:$J$114=$B$3*1),ROW('Base de données'!$H$2:$H$114)-1),ROWS($1:1))),""))} -> 0 | P7: =IFERROR((O7+M7)/J7,"")
A8: {=IFERROR(IF(INDEX('Base de données'!$B$2:$B$114,MATCH(IFERROR(INDEX('Base de données'!D$2:D$114,SMALL(IF(('Base de données'!$B$2:$B$114<>"stock initial")*('Base de données'!$H$2:$H$114=$B$1)*('Base de données'!$I$2:$I$114=$B$2)*('Base de données'!$J$2:$J$114=$B$3*1),ROW('Base de données'!$H$2:$H$114)-1),ROWS($1:2))),""),'Base de données'!$D$2:$D$114,0))="achat",IFERROR(INDEX('Base de données'!D$2:D$114,SMALL(IF(('Base de données'!$B$2:$B$114<>"stock initial")*('Base de données'!$H$2:$H$114=$B$1)*('Base de données'!$I$2:$I$114=$B$2)*('Base de données'!$J$2:$J$114=$B$3*1),ROW('Base de données'!$H$2:$H$114)-1),ROWS($1:2))),""),""),"")} | B8: EUROVA 08102010-1 | C8: SA | D8: 673913 | E8: 40492 | F8: =IF(E8="","",$B$1) -> Laiton | G8: =IF($E8="","",$B$2) -> rond | H8: =IF($E8="","",$B$3) -> 22 | I8: {=IF(AND($D8=0,$E8<>""),IFERROR(INDEX('Base de données'!T$2:T$114,SMALL(IF(('Base de données'!$B$2:$B$114<>"stock initial")*('Base de données'!$H$2:$H$114=$B$1)*('Base de données'!$I$2:$I$114=$B$2)*('Base de données'!$J$2:$J$114=$B$3*1),ROW('Base de données'!$H$2:$H$114)-1),ROWS($1:2))),""),IF($E8="","",I7))} -> 0 | J8: =IF(D8=0,"",IFERROR(INDEX('Base de données'!S$2:S$114,SMALL(IF(('Base de données'!$B$2:$B$114<>"stock initial")*('Base de données'!$H$2:$H$114=$B$1)*('Base de données'!$I$2:$I$114=$B$2)*('Base de données'!$J$2:$J$114=$B$3*1),ROW('Base de données'!$H$2:$H$114)-1),ROWS($1:2))),"")) | L8: =IFERROR(M8/J8,"") | M8: {=IF($D8=0,"",IFERROR(INDEX('Base de données'!X$2:X$114,SMALL(IF(('Base de données'!$B$2:$B$114<>"stock initial")*('Base de données'!$H$2:$H$114=$B$1)*('Base de données'!$I$2:$I$114=$B$2)*('Base de données'!$J$2:$J$114=$B$3*1),ROW('Base de données'!$H$2:$H$114)-1),ROWS($1:2))),""))} -> 153.49676 | N8: =IFERROR(O8/J8,"") | O8: {=IF($D8=0,0,IFERROR(INDEX('Base de données'!Z$2:Z$114,SMALL(IF(('Base de données'!$B$2:$B$114<>"stock initial")*('Base de données'!$H$2:$H$114="laiton")*('Base de données'!$I$2:$I$114=$B$2)*('Base de données'!$J$2:$J$114=$B$3*1),ROW('Base de données'!$H$2:$H$114)-1),ROWS($1:2))),""))} -> 8.1254495 | P8: =IFERROR((O8+M8)/J8,"")
A9: {=IFERROR(IF(INDEX('Base de données'!$B$2:$B$114,MATCH(IFERROR(INDEX('Base de données'!D$2:D$114,SMALL(IF(('Base de données'!$B$2:$B$114<>"stock initial")*('Base de données'!$H$2:$H$114=$B$1)*('Base de données'!$I$2:$I$114=$B$2)*('Base de données'!$J$2:$J$114=$B$3*1),ROW('Base de données'!$H$2:$H$114)-1),ROWS($1:3))),""),'Base de données'!$D$2:$D$114,0))="achat",IFERROR(INDEX('Base de données'!D$2:D$114,SMALL(IF(('Base de données'!$B$2:$B$114<>"stock initial")*('Base de données'!$H$2:$H$114=$B$1)*('Base de données'!$I$2:$I$114=$B$2)*('Base de données'!$J$2:$J$114=$B$3*1),ROW('Base de données'!$H$2:$H$114)-1),ROWS($1:3))),""),""),"")} | B9: GP 17022011-1 | C9: SA | D9: 676492 | E9: 40625 | F9: =IF(E9="","",$B$1) -> Laiton | G9: =IF($E9="","",$B$2) -> rond | H9: =IF($E9="","",$B$3) -> 22 | I9: {=IF(AND($D9=0,$E9<>""),IFERROR(INDEX('Base de données'!T$2:T$114,SMALL(IF(('Base de données'!$B$2:$B$114<>"stock initial")*('Base de données'!$H$2:$H$114=$B$1)*('Base de données'!$I$2:$I$114=$B$2)*('Base de données'!$J$2:$J$114=$B$3*1),ROW('Base de données'!$H$2:$H$114)-1),ROWS($1:3))),""),IF($E9="","",I8))} -> 0 | J9: =IF(D9=0,"",IFERROR(INDEX('Base de données'!S$2:S$114,SMALL(IF(('Base de données'!$B$2:$B$114<>"stock initial")*('Base de données'!$H$2:$H$114=$B$1)*('Base de données'!$I$2:$I$114=$B$2)*('Base de données'!$J$2:$J$114=$B$3*1),ROW('Base de données'!$H$2:$H$114)-1),ROWS($1:3))),"")) | L9: =IFERROR(M9/J9,"") | M9: {=IF($D9=0,"",IFERROR(INDEX('Base de données'!X$2:X$114,SMALL(IF(('Base de données'!$B$2:$B$114<>"stock initial")*('Base de données'!$H$2:$H$114=$B$1)*('Base de données'!$I$2:$I$114=$B$2)*('Base de données'!$J$2:$J$114=$B$3*1),ROW('Base de données'!$H$2:$H$114)-1),ROWS($1:3))),""))} -> 191.87095 | N9: =IFERROR(O9/J9,"") | O9: {=IF($D9=0,0,IFERROR(INDEX('Base de données'!Z$2:Z$114,SMALL(IF(('Base de données'!$B$2:$B$114<>"stock initial")*('Base de données'!$H$2:$H$114="laiton")*('Base de données'!$I$2:$I$114=$B$2)*('Base de données'!$J$2:$J$114=$B$3*1),ROW('Base de données'!$H$2:$H$114)-1),ROWS($1:3))),""))} -> 10.156812 | P9: =IFERROR((O9+M9)/J9,"")
A10: {=IFERROR(IF(INDEX('Base de données'!$B$2:$B$114,MATCH(IFERROR(INDEX('Base de données'!D$2:D$114,SMALL(IF(('Base de données'!$B$2:$B$114<>"stock initial")*('Base de données'!$H$2:$H$114=$B$1)*('Base de données'!$I$2:$I$114=$B$2)*('Base de données'!$J$2:$J$114=$B$3*1),ROW('Base de données'!$H$2:$H$114)-1),ROWS($1:4))),""),'Base de données'!$D$2:$D$114,0))="achat",IFERROR(INDEX('Base de données'!D$2:D$114,SMALL(IF(('Base de données'!$B$2:$B$114<>"stock initial")*('Base de données'!$H$2:$H$114=$B$1)*('Base de données'!$I$2:$I$114=$B$2)*('Base de données'!$J$2:$J$114=$B$3*1),ROW('Base de données'!$H$2:$H$114)-1),ROWS($1:4))),""),""),"")} | B10: GP 130711-2 | C10: SA | D10: 679098 | E10: 40764 | F10: =IF(E10="","",$B$1) -> Laiton | G10: =IF($E10="","",$B$2) -> rond | H10: =IF($E10="","",$B$3) -> 22 | I10: {=IF(AND($D10=0,$E10<>""),IFERROR(INDEX('Base de données'!T$2:T$114,SMALL(IF(('Base de données'!$B$2:$B$114<>"stock initial")*('Base de données'!$H$2:$H$114=$B$1)*('Base de données'!$I$2:$I$114=$B$2)*('Base de données'!$J$2:$J$114=$B$3*1),ROW('Base de données'!$H$2:$H$114)-1),ROWS($1:4))),""),IF($E10="","",I9))} -> 0 | J10: =IF(D10=0,"",IFERROR(INDEX('Base de données'!S$2:S$114,SMALL(IF(('Base de données'!$B$2:$B$114<>"stock initial")*('Base de données'!$H$2:$H$114=$B$1)*('Base de données'!$I$2:$I$114=$B$2)*('Base de données'!$J$2:$J$114=$B$3*1),ROW('Base de données'!$H$2:$H$114)-1),ROWS($1:4))),"")) | L10: =IFERROR(M10/J10,"") | M10: {=IF($D10=0,"",IFERROR(INDEX('Base de données'!X$2:X$114,SMALL(IF(('Base de données'!$B$2:$B$114<>"stock initial")*('Base de données'!$H$2:$H$114=$B$1)*('Base de données'!$I$2:$I$114=$B$2)*('Base de données'!$J$2:$J$114=$B$3*1),ROW('Base de données'!$H$2:$H$114)-1),ROWS($1:4))),""))} -> 115.12257 | N10: =IFERROR(O10/J10,"") | O10: {=IF($D10=0,0,IFERROR(INDEX('Base de données'!Z$2:Z$114,SMALL(IF(('Base de données'!$B$2:$B$114<>"stock initial")*('Base de données'!$H$2:$H$114="laiton")*('Base de données'!$I$2:$I$114=$B$2)*('Base de données'!$J$2:$J$114=$B$3*1),ROW('Base de données'!$H$2:$H$114)-1),ROWS($1:4))),""))} -> 6.0940871 | P10: =IFERROR((O10+M10)/J10,"")
A11: {=IFERROR(IF(INDEX('Base de données'!$B$2:$B$114,MATCH(IFERROR(INDEX('Base de données'!D$2:D$114,SMALL(IF(('Base de données'!$B$2:$B$114<>"stock initial")*('Base de données'!$H$2:$H$114=$B$1)*('Base de données'!$I$2:$I$114=$B$2)*('Base de données'!$J$2:$J$114=$B$3*1),ROW('Base de données'!$H$2:$H$114)-1),ROWS($1:5))),""),'Base de données'!$D$2:$D$114,0))="achat",IFERROR(INDEX('Base de données'!D$2:D$114,SMALL(IF(('Base de données'!$B$2:$B$114<>"stock initial")*('Base de données'!$H$2:$H$114=$B$1)*('Base de données'!$I$2:$I$114=$B$2)*('Base de données'!$J$2:$J$114=$B$3*1),ROW('Base de données'!$H$2:$H$114)-1),ROWS($1:5))),""),""),"")} | B11: DEPERY 204762 | C11: SA | D11: 680290 | E11: 40849 | F11: =IF(E11="","",$B$1) -> Laiton | G11: =IF($E11="","",$B$2) -> rond | H11: =IF($E11="","",$B$3) -> 22 | I11: {=IF(AND($D11=0,$E11<>""),IFERROR(INDEX('Base de données'!T$2:T$114,SMALL(IF(('Base de données'!$B$2:$B$114<>"stock initial")*('Base de données'!$H$2:$H$114=$B$1)*('Base de données'!$I$2:$I$114=$B$2)*('Base de données'!$J$2:$J$114=$B$3*1),ROW('Base de données'!$H$2:$H$114)-1),ROWS($1:5))),""),IF($E11="","",I10))} -> 0 | J11: =IF(D11=0,"",IFERROR(INDEX('Base de données'!S$2:S$114,SMALL(IF(('Base de données'!$B$2:$B$114<>"stock initial")*('Base de données'!$H$2:$H$114=$B$1)*('Base de données'!$I$2:$I$114=$B$2)*('Base de données'!$J$2:$J$114=$B$3*1),ROW('Base de données'!$H$2:$H$114)-1),ROWS($1:5))),"")) | L11: =IFERROR(M11/J11,"") | M11: {=IF($D11=0,"",IFERROR(INDEX('Base de données'!X$2:X$114,SMALL(IF(('Base de données'!$B$2:$B$114<>"stock initial")*('Base de données'!$H$2:$H$114=$B$1)*('Base de données'!$I$2:$I$114=$B$2)*('Base de données'!$J$2:$J$114=$B$3*1),ROW('Base de données'!$H$2:$H$114)-1),ROWS($1:5))),""))} -> 115.12257 | N11: =IFERROR(O11/J11,"") | O11: {=IF($D11=0,0,IFERROR(INDEX('Base de données'!Z$2:Z$114,SMALL(IF(('Base de données'!$B$2:$B$114<>"stock initial")*('Base de données'!$H$2:$H$114="laiton")*('Base de données'!$I$2:$I$114=$B$2)*('Base de données'!$J$2:$J$114=$B$3*1),ROW('Base de données'!$H$2:$H$114)-1),ROWS($1:5))),""))} -> 6.0940871 | P11: =IFERROR((O11+M11)/J11,"")
A12: {=IFERROR(IF(INDEX('Base de données'!$B$2:$B$114,MATCH(IFERROR(INDEX('Base de données'!D$2:D$114,SMALL(IF(('Base de données'!$B$2:$B$114<>"stock initial")*('Base de données'!$H$2:$H$114=$B$1)*('Base de données'!$I$2:$I$114=$B$2)*('Base de données'!$J$2:$J$114=$B$3*1),ROW('Base de données'!$H$2:$H$114)-1),ROWS($1:6))),""),'Base de données'!$D$2:$D$114,0))="achat",IFERROR(INDEX('Base de données'!D$2:D$114,SMALL(IF(('Base de données'!$B$2:$B$114<>"stock initial")*('Base de données'!$H$2:$H$114=$B$1)*('Base de données'!$I$2:$I$114=$B$2)*('Base de données'!$J$2:$J$114=$B$3*1),ROW('Base de données'!$H$2:$H$114)-1),ROWS($1:6))),""),""),"")} | B12: GP 020212-2 | C12: SA | D12: 682165 | E12: 40953 | F12: =IF(E12="","",$B$1) -> Laiton | G12: =IF($E12="","",$B$2) -> rond | H12: =IF($E12="","",$B$3) -> 22 | I12: {=IF(AND($D12=0,$E12<>""),IFERROR(INDEX('Base de données'!T$2:T$114,SMALL(IF(('Base de données'!$B$2:$B$114<>"stock initial")*('Base de données'!$H$2:$H$114=$B$1)*('Base de données'!$I$2:$I$114=$B$2)*('Base de données'!$J$2:$J$114=$B$3*1),ROW('Base de données'!$H$2:$H$114)-1),ROWS($1:6))),""),IF($E12="","",I11))} -> 0 | J12: =IF(D12=0,"",IFERROR(INDEX('Base de données'!S$2:S$114,SMALL(IF(('Base de données'!$B$2:$B$114<>"stock initial")*('Base de données'!$H$2:$H$114=$B$1)*('Base de données'!$I$2:$I$114=$B$2)*('Base de données'!$J$2:$J$114=$B$3*1),ROW('Base de données'!$H$2:$H$114)-1),ROWS($1:6))),"")) | L12: =IFERROR(M12/J12,"") | M12: {=IF($D12=0,"",IFERROR(INDEX('Base de données'!X$2:X$114,SMALL(IF(('Base de données'!$B$2:$B$114<>"stock initial")*('Base de données'!$H$2:$H$114=$B$1)*('Base de données'!$I$2:$I$114=$B$2)*('Base de données'!$J$2:$J$114=$B$3*1),ROW('Base de données'!$H$2:$H$114)-1),ROWS($1:6))),""))} -> 115.12257 | N12: =IFERROR(O12/J12,"") | O12: {=IF($D12=0,0,IFERROR(INDEX('Base de données'!Z$2:Z$114,SMALL(IF(('Base de données'!$B$2:$B$114<>"stock initial")*('Base de données'!$H$2:$H$114="laiton")*('Base de données'!$I$2:$I$114=$B$2)*('Base de données'!$J$2:$J$114=$B$3*1),ROW('Base de données'!$H$2:$H$114)-1),ROWS($1:6))),""))} -> 6.0940871 | P12: =IFERROR((O12+M12)/J12,"")
A13: {=IFERROR(IF(INDEX('Base de données'!$B$2:$B$114,MATCH(IFERROR(INDEX('Base de données'!D$2:D$114,SMALL(IF(('Base de données'!$B$2:$B$114<>"stock initial")*('Base de données'!$H$2:$H$114=$B$1)*('Base de données'!$I$2:$I$114=$B$2)*('Base de données'!$J$2:$J$114=$B$3*1),ROW('Base de données'!$H$2:$H$114)-1),ROWS($1:7))),""),'Base de données'!$D$2:$D$114,0))="achat",IFERROR(INDEX('Base de données'!D$2:D$114,SMALL(IF(('Base de données'!$B$2:$B$114<>"stock initial")*('Base de données'!$H$2:$H$114=$B$1)*('Base de données'!$I$2:$I$114=$B$2)*('Base de données'!$J$2:$J$114=$B$3*1),ROW('Base de données'!$H$2:$H$114)-1),ROWS($1:7))),""),""),"")} | B13: GP 020212-2 | C13: SA | D13: 682165 | E13: 40953 | F13: =IF(E13="","",$B$1) -> Laiton | G13: =IF($E13="","",$B$2) -> rond | H13: =IF($E13="","",$B$3) -> 22 | I13: {=IF(AND($D13=0,$E13<>""),IFERROR(INDEX('Base de données'!T$2:T$114,SMALL(IF(('Base de données'!$B$2:$B$114<>"stock initial")*('Base de données'!$H$2:$H$114=$B$1)*('Base de données'!$I$2:$I$114=$B$2)*('Base de données'!$J$2:$J$114=$B$3*1),ROW('Base de données'!$H$2:$H$114)-1),ROWS($1:7))),""),IF($E13="","",I12))} -> 0 | J13: =IF(D13=0,"",IFERROR(INDEX('Base de données'!S$2:S$114,SMALL(IF(('Base de données'!$B$2:$B$114<>"stock initial")*('Base de données'!$H$2:$H$114=$B$1)*('Base de données'!$I$2:$I$114=$B$2)*('Base de données'!$J$2:$J$114=$B$3*1),ROW('Base de données'!$H$2:$H$114)-1),ROWS($1:7))),"")) | L13: =IFERROR(M13/J13,"") | M13: {=IF($D13=0,"",IFERROR(INDEX('Base de données'!X$2:X$114,SMALL(IF(('Base de données'!$B$2:$B$114<>"stock initial")*('Base de données'!$H$2:$H$114=$B$1)*('Base de données'!$I$2:$I$114=$B$2)*('Base de données'!$J$2:$J$114=$B$3*1),ROW('Base de données'!$H$2:$H$114)-1),ROWS($1:7))),""))} -> 84.42322 | N13: =IFERROR(O13/J13,"") | O13: {=IF($D13=0,0,IFERROR(INDEX('Base de données'!Z$2:Z$114,SMALL(IF(('Base de données'!$B$2:$B$114<>"stock initial")*('Base de données'!$H$2:$H$114="laiton")*('Base de données'!$I$2:$I$114=$B$2)*('Base de données'!$J$2:$J$114=$B$3*1),ROW('Base de données'!$H$2:$H$114)-1),ROWS($1:7))),""))} -> 4.4689972 | P13: =IFERROR((O13+M13)/J13,"")
A14: {=IFERROR(IF(INDEX('Base de données'!$B$2:$B$114,MATCH(IFERROR(INDEX('Base de données'!D$2:D$114,SMALL(IF(('Base de données'!$B$2:$B$114<>"stock initial")*('Base de données'!$H$2:$H$114=$B$1)*('Base de données'!$I$2:$I$114=$B$2)*('Base de données'!$J$2:$J$114=$B$3*1),ROW('Base de données'!$H$2:$H$114)-1),ROWS($1:8))),""),'Base de données'!$D$2:$D$114,0))="achat",IFERROR(INDEX('Base de données'!D$2:D$114,SMALL(IF(('Base de données'!$B$2:$B$114<>"stock initial")*('Base de données'!$H$2:$H$114=$B$1)*('Base de données'!$I$2:$I$114=$B$2)*('Base de données'!$J$2:$J$114=$B$3*1),ROW('Base de données'!$H$2:$H$114)-1),ROWS($1:8))),""),""),"")} | B14: GP 020212-2 | C14: SA | D14: 682165 | E14: 40953 | F14: =IF(E14="","",$B$1) -> Laiton | G14: =IF($E14="","",$B$2) -> rond | H14: =IF($E14="","",$B$3) -> 22 | I14: {=IF(AND($D14=0,$E14<>""),IFERROR(INDEX('Base de données'!T$2:T$114,SMALL(IF(('Base de données'!$B$2:$B$114<>"stock initial")*('Base de données'!$H$2:$H$114=$B$1)*('Base de données'!$I$2:$I$114=$B$2)*('Base de données'!$J$2:$J$114=$B$3*1),ROW('Base de données'!$H$2:$H$114)-1),ROWS($1:8))),""),IF($E14="","",I13))} -> 0 | J14: =IF(D14=0,"",IFERROR(INDEX('Base de données'!S$2:S$114,SMALL(IF(('Base de données'!$B$2:$B$114<>"stock initial")*('Base de données'!$H$2:$H$114=$B$1)*('Base de données'!$I$2:$I$114=$B$2)*('Base de données'!$J$2:$J$114=$B$3*1),ROW('Base de données'!$H$2:$H$114)-1),ROWS($1:8))),"")) | L14: =IFERROR(M14/J14,"") | M14: {=IF($D14=0,"",IFERROR(INDEX('Base de données'!X$2:X$114,SMALL(IF(('Base de données'!$B$2:$B$114<>"stock initial")*('Base de données'!$H$2:$H$114=$B$1)*('Base de données'!$I$2:$I$114=$B$2)*('Base de données'!$J$2:$J$114=$B$3*1),ROW('Base de données'!$H$2:$H$114)-1),ROWS($1:8))),""))} -> 99.772896 | N14: =IFERROR(O14/J14,"") | O14: {=IF($D14=0,0,IFERROR(INDEX('Base de données'!Z$2:Z$114,SMALL(IF(('Base de données'!$B$2:$B$114<>"stock initial")*('Base de données'!$H$2:$H$114="laiton")*('Base de données'!$I$2:$I$114=$B$2)*('Base de données'!$J$2:$J$114=$B$3*1),ROW('Base de données'!$H$2:$H$114)-1),ROWS($1:8))),""))} -> 5.2815422 | P14: =IFERROR((O14+M14)/J14,"")
A15: {=IFERROR(IF(INDEX('Base de données'!$B$2:$B$114,MATCH(IFERROR(INDEX('Base de données'!D$2:D$114,SMALL(IF(('Base de données'!$B$2:$B$114<>"stock initial")*('Base de données'!$H$2:$H$114=$B$1)*('Base de données'!$I$2:$I$114=$B$2)*('Base de données'!$J$2:$J$114=$B$3*1),ROW('Base de données'!$H$2:$H$114)-1),ROWS($1:9))),""),'Base de données'!$D$2:$D$114,0))="achat",IFERROR(INDEX('Base de données'!D$2:D$114,SMALL(IF(('Base de données'!$B$2:$B$114<>"stock initial")*('Base de données'!$H$2:$H$114=$B$1)*('Base de données'!$I$2:$I$114=$B$2)*('Base de données'!$J$2:$J$114=$B$3*1),ROW('Base de données'!$H$2:$H$114)-1),ROWS($1:9))),""),""),"")} -> 43067 | B15: GP 010312-1 | C15: SA | D15: 683038 | E15: 40998 | F15: =IF(E15="","",$B$1) -> Laiton | G15: =IF($E15="","",$B$2) -> rond | H15: =IF($E15="","",$B$3) -> 22 | I15: {=IF(AND($D15=0,$E15<>""),IFERROR(INDEX('Base de données'!T$2:T$114,SMALL(IF(('Base de données'!$B$2:$B$114<>"stock initial")*('Base de données'!$H$2:$H$114=$B$1)*('Base de données'!$I$2:$I$114=$B$2)*('Base de données'!$J$2:$J$114=$B$3*1),ROW('Base de données'!$H$2:$H$114)-1),ROWS($1:9))),""),IF($E15="","",I14))} -> 0 | J15: =IF(D15=0,"",IFERROR(INDEX('Base de données'!S$2:S$114,SMALL(IF(('Base de données'!$B$2:$B$114<>"stock initial")*('Base de données'!$H$2:$H$114=$B$1)*('Base de données'!$I$2:$I$114=$B$2)*('Base de données'!$J$2:$J$114=$B$3*1),ROW('Base de données'!$H$2:$H$114)-1),ROWS($1:9))),"")) | L15: =IFERROR(M15/J15,"") | M15: {=IF($D15=0,"",IFERROR(INDEX('Base de données'!X$2:X$114,SMALL(IF(('Base de données'!$B$2:$B$114<>"stock initial")*('Base de données'!$H$2:$H$114=$B$1)*('Base de données'!$I$2:$I$114=$B$2)*('Base de données'!$J$2:$J$114=$B$3*1),ROW('Base de données'!$H$2:$H$114)-1),ROWS($1:9))),""))} -> 0 | N15: =IFERROR(O15/J15,"") | O15: {=IF($D15=0,0,IFERROR(INDEX('Base de données'!Z$2:Z$114,SMALL(IF(('Base de données'!$B$2:$B$114<>"stock initial")*('Base de données'!$H$2:$H$114="laiton")*('Base de données'!$I$2:$I$114=$B$2)*('Base de données'!$J$2:$J$114=$B$3*1),ROW('Base de données'!$H$2:$H$114)-1),ROWS($1:9))),""))} -> 0 | P15: =IFERROR((O15+M15)/J15,"")
A16: {=IFERROR(IF(INDEX('Base de données'!$B$2:$B$114,MATCH(IFERROR(INDEX('Base de données'!D$2:D$114,SMALL(IF(('Base de données'!$B$2:$B$114<>"stock initial")*('Base de données'!$H$2:$H$114=$B$1)*('Base de données'!$I$2:$I$114=$B$2)*('Base de données'!$J$2:$J$114=$B$3*1),ROW('Base de données'!$H$2:$H$114)-1),ROWS($1:10))),""),'Base de données'!$D$2:$D$114,0))="achat",IFERROR(INDEX('Base de données'!D$2:D$114,SMALL(IF(('Base de données'!$B$2:$B$114<>"stock initial")*('Base de données'!$H$2:$H$114=$B$1)*('Base de données'!$I$2:$I$114=$B$2)*('Base de données'!$J$2:$J$114=$B$3*1),ROW('Base de données'!$H$2:$H$114)-1),ROWS($1:10))),""),""),"")} | B16: DEPERY 210593 | C16: SA | D16: 683423 | E16: 41019 | F16: =IF(E16="","",$B$1) -> Laiton | G16: =IF($E16="","",$B$2) -> rond | H16: =IF($E16="","",$B$3) -> 22 | I16: {=IF(AND($D16=0,$E16<>""),IFERROR(INDEX('Base de données'!T$2:T$114,SMALL(IF(('Base de données'!$B$2:$B$114<>"stock initial")*('Base de données'!$H$2:$H$114=$B$1)*('Base de données'!$I$2:$I$114=$B$2)*('Base de données'!$J$2:$J$114=$B$3*1),ROW('Base de données'!$H$2:$H$114)-1),ROWS($1:10))),""),IF($E16="","",I15))} -> 0 | J16: =IF(D16=0,"",IFERROR(INDEX('Base de données'!S$2:S$114,SMALL(IF(('Base de données'!$B$2:$B$114<>"stock initial")*('Base de données'!$H$2:$H$114=$B$1)*('Base de données'!$I$2:$I$114=$B$2)*('Base de données'!$J$2:$J$114=$B$3*1),ROW('Base de données'!$H$2:$H$114)-1),ROWS($1:10))),"")) | L16: =IFERROR(M16/J16,"") | M16: {=IF($D16=0,"",IFERROR(INDEX('Base de données'!X$2:X$114,SMALL(IF(('Base de données'!$B$2:$B$114<>"stock initial")*('Base de données'!$H$2:$H$114=$B$1)*('Base de données'!$I$2:$I$114=$B$2)*('Base de données'!$J$2:$J$114=$B$3*1),ROW('Base de données'!$H$2:$H$114)-1),ROWS($1:10))),""))} -> 145.82192 | N16: =IFERROR(O16/J16,"") | O16: {=IF($D16=0,0,IFERROR(INDEX('Base de données'!Z$2:Z$114,SMALL(IF(('Base de données'!$B$2:$B$114<>"stock initial")*('Base de données'!$H$2:$H$114="laiton")*('Base de données'!$I$2:$I$114=$B$2)*('Base de données'!$J$2:$J$114=$B$3*1),ROW('Base de données'!$H$2:$H$114)-1),ROWS($1:10))),""))} -> 7.719177 | P16: =IFERROR((O16+M16)/J16,"")
A17: {=IFERROR(IF(INDEX('Base de données'!$B$2:$B$114,MATCH(IFERROR(INDEX('Base de données'!D$2:D$114,SMALL(IF(('Base de données'!$B$2:$B$114<>"stock initial")*('Base de données'!$H$2:$H$114=$B$1)*('Base de données'!$I$2:$I$114=$B$2)*('Base de données'!$J$2:$J$114=$B$3*1),ROW('Base de données'!$H$2:$H$114)-1),ROWS($1:11))),""),'Base de données'!$D$2:$D$114,0))="achat",IFERROR(INDEX('Base de données'!D$2:D$114,SMALL(IF(('Base de données'!$B$2:$B$114<>"stock initial")*('Base de données'!$H$2:$H$114=$B$1)*('Base de données'!$I$2:$I$114=$B$2)*('Base de données'!$J$2:$J$114=$B$3*1),ROW('Base de données'!$H$2:$H$114)-1),ROWS($1:11))),""),""),"")} | B17: DEPERY 210593 | C17: SA | D17: 683423 | E17: 41019 | F17: =IF(E17="","",$B$1) -> Laiton | G17: =IF($E17="","",$B$2) -> rond | H17: =IF($E17="","",$B$3) -> 22 | I17: {=IF(AND($D17=0,$E17<>""),IFERROR(INDEX('Base de données'!T$2:T$114,SMALL(IF(('Base de données'!$B$2:$B$114<>"stock initial")*('Base de données'!$H$2:$H$114=$B$1)*('Base de données'!$I$2:$I$114=$B$2)*('Base de données'!$J$2:$J$114=$B$3*1),ROW('Base de données'!$H$2:$H$114)-1),ROWS($1:11))),""),IF($E17="","",I16))} -> 0 | J17: =IF(D17=0,"",IFERROR(INDEX('Base de données'!S$2:S$114,SMALL(IF(('Base de données'!$B$2:$B$114<>"stock initial")*('Base de données'!$H$2:$H$114=$B$1)*('Base de données'!$I$2:$I$114=$B$2)*('Base de données'!$J$2:$J$114=$B$3*1),ROW('Base de données'!$H$2:$H$114)-1),ROWS($1:11))),"")) | L17: =IFERROR(M17/J17,"") | M17: {=IF($D17=0,"",IFERROR(INDEX('Base de données'!X$2:X$114,SMALL(IF(('Base de données'!$B$2:$B$114<>"stock initial")*('Base de données'!$H$2:$H$114=$B$1)*('Base de données'!$I$2:$I$114=$B$2)*('Base de données'!$J$2:$J$114=$B$3*1),ROW('Base de données'!$H$2:$H$114)-1),ROWS($1:11))),""))} -> 42.21161 | N17: =IFERROR(O17/J17,"") | O17: {=IF($D17=0,0,IFERROR(INDEX('Base de données'!Z$2:Z$114,SMALL(IF(('Base de données'!$B$2:$B$114<>"stock initial")*('Base de données'!$H$2:$H$114="laiton")*('Base de données'!$I$2:$I$114=$B$2)*('Base de données'!$J$2:$J$114=$B$3*1),ROW('Base de données'!$H$2:$H$114)-1),ROWS($1:11))),""))} -> 2.2344986 | P17: =IFERROR((O17+M17)/J17,"")
