Workbook
Name kk: #REF!
Name kk: #REF!
Name kk: #REF!
Name kk: #REF!
Name kk: #REF!
Name kk: #REF!
Name kk: #REF!
Name kk: #REF!
Name kk: #REF!
Name kk: #REF!
Name kk: #REF!
Name kk: #REF!
Name kk: #REF!
Name kk: #REF!
Name kk: #REF!
Name kk: #REF!
Name kk: #REF!
Name kk: #REF!
Name ll: #REF!
Name ll: #REF!
Name ll: #REF!
Name ll: #REF!
Name ll: #REF!
Name ll: #REF!
Name ll: #REF!
Name ll: #REF!
Name ll: #REF!
Name ll: #REF!
Name ll: #REF!
Name ll: #REF!
Name ll: #REF!
Name ll: #REF!
Name ll: #REF!
Name ll: #REF!
Name ll: #REF!
Name ll: #REF!
Name lllllll: OFFSET(#REF!,,,COUNTA(#REF!))
Name lllllll: OFFSET(#REF!,,,COUNTA(#REF!))
Name lllllll: OFFSET(#REF!,,,COUNTA(#REF!))
Name lllllll: OFFSET(#REF!,,,COUNTA(#REF!))
Name lllllll: OFFSET(#REF!,,,COUNTA(#REF!))
Name lllllll: OFFSET(#REF!,,,COUNTA(#REF!))
Name lllllll: OFFSET(#REF!,,,COUNTA(#REF!))
Name lllllll: OFFSET(#REF!,,,COUNTA(#REF!))
Name lllllll: OFFSET(#REF!,,,COUNTA(#REF!))
Name lllllll: OFFSET(#REF!,,,COUNTA(#REF!))
Name lllllll: OFFSET(#REF!,,,COUNTA(#REF!))
Name lllllll: OFFSET(#REF!,,,COUNTA(#REF!))
Name lllllll: OFFSET(#REF!,,,COUNTA(#REF!))
Name lllllll: OFFSET(#REF!,,,COUNTA(#REF!))
Name lllllll: OFFSET(#REF!,,,COUNTA(#REF!))
Name lllllll: OFFSET(#REF!,,,COUNTA(#REF!))
Name lllllll: OFFSET(Pieces!#REF!,,,COUNTA(Pieces!$A:$A))
Name lllllll: OFFSET(#REF!,,,COUNTA(#REF!))
Name maya: #REF!
Name maya: #REF!
Name maya: #REF!
Name maya: #REF!
Name maya: #REF!
Name maya: #REF!

Sheet MODELE
C1: Tableau de production journalière | Z1: CODE: DAS-PRO-16
Z2: DATE:30/08/2019
Z3: VERSION:07
Z4: PAGE:1
A8: SYMBOLE | B8: MACHINE | C8: REF ARTICLE | D8: DESIGNATION | E8: COMPTEUR HIER à8H | F8: COMPTEUR HIER à 17H | G8: COMPTEUR HIER à 21H | H8: COMPTEUR AUJOURD’HUI à 8h | I8: CADENCE | J8: NOMBRE DE PIECES FINIS PAR CYCLE | K8: PIECES SUIVANT COMPTEU 8h-->17h | L8: PIECES SUIVANT COMPTEUR 17H-->21H | M8: PIECES SUIVANT COMPTEUR 5h-->8h | N8: NOMBRE D'HEURES DE TRAVAIL 8h-->17h | O8: NOMBRE D'HEURES DE TRAVAIL 17H-->21H | P8: NOMBRE D'HEURES DE TRAVAIL 5h-->8h | Q8: NOMBRE D'HEURES DE TRAVAIL | R8: OBSERVATIONS | S8: Pieces manquantes | T8: PIECES NC | U8: Pieces REELLES | V8: Nombre des pieces à retoucher | W8: Cause de la non-conformité | X8: Effet de la non-conformité | Y8: Valeur de l'effet | Z8: NOMBRES D'HEURES SUIVANT LES PIECES REELLES | AA8: RENDEMENT | AB8: Fiche de contrôle qualité début de serie | AC8: Affutage | AD8: Gamme d'usingae | AE8: ALERTES
A9: A | B9: PF25 N°21 | C9: =IFERROR(VLOOKUP(D9,#REF!,2,0)," ") | K9: =(F9-E9)*J9 -> 0 | L9: =(G9-F9)*J9 -> 0 | M9: =(#REF!-H9)*J9 -> #REF! | N9: =IF(I9=0,0,K9/I9) -> 0 | O9: =IF(I9=0,0,L9/I9) -> 0 | P9: =IF(I9=0,0,M9/I9) -> 0 | Q9: 24 | Z9: =IF(I9=0,0,(#REF!+T9)/I9) -> 0 | AA9: =IF(OR(Q9=0,I9=0),"",Z9/Q9*100) | AE9: =IF(AA9>85," ","WARNING")
A10: B | B10: PF25 N°22 | C10: =IFERROR(VLOOKUP(D10,#REF!,2,0)," ") | K10: =(F10-E10)*J10 -> 0 | L10: =(G10-F10)*J10 -> 0 | M10: =(#REF!-H10)*J10 -> #REF! | N10: =IF(I10=0,0,K10/I10) -> 0 | O10: =IF(I10=0,0,L10/I10) -> 0 | P10: =IF(I10=0,0,M10/I10) -> 0 | Q10: 24 | Z10: =IF(I10=0,0,(#REF!+T10)/I10) -> 0 | AA10: =IF(OR(Q10=0,I10=0),"",Z10/Q10*100) | AE10: =IF(AA10>85," ","WARNING")
A11: C | B11: PF25 N°23 | C11: =IFERROR(VLOOKUP(D11,#REF!,2,0)," ") | K11: =(F11-E11)*J11 -> 0 | L11: =(G11-F11)*J11 -> 0 | M11: =(#REF!-H11)*J11 -> #REF! | N11: =IF(I11=0,0,K11/I11) -> 0 | O11: =IF(I11=0,0,L11/I11) -> 0 | P11: =IF(I11=0,0,M11/I11) -> 0 | Q11: 24 | Z11: =IF(I11=0,0,(#REF!+T11)/I11) -> 0 | AA11: =IF(OR(Q11=0,I11=0),"",Z11/Q11*100) | AE11: =IF(AA11>85," ","WARNING")
A12: D | B12: PF25 N°24 | C12: =IFERROR(VLOOKUP(D12,#REF!,2,0)," ") | K12: =(F12-E12)*J12 -> 0 | L12: =(G12-F12)*J12 -> 0 | M12: =(#REF!-H12)*J12 -> #REF! | N12: =IF(I12=0,0,K12/I12) -> 0 | O12: =IF(I12=0,0,L12/I12) -> 0 | P12: =IF(I12=0,0,M12/I12) -> 0 | Q12: 24 | Z12: =IF(I12=0,0,(#REF!+T12)/I12) -> 0 | AA12: =IF(OR(Q12=0,I12=0),"",Z12/Q12*100) | AE12: =IF(AA12>85," ","WARNING")
A13: E | B13: PF25 N°25 | C13: =IFERROR(VLOOKUP(D13,#REF!,2,0)," ") | K13: =(F13-E13)*J13 -> 0 | L13: =(G13-F13)*J13 -> 0 | M13: =(#REF!-H13)*J13 -> #REF! | N13: =IF(I13=0,0,K13/I13) -> 0 | O13: =IF(I13=0,0,L13/I13) -> 0 | P13: =IF(I13=0,0,M13/I13) -> 0 | Q13: 24 | Z13: =IF(I13=0,0,(#REF!+T13)/I13) -> 0 | AA13: =IF(OR(Q13=0,I13=0),"",Z13/Q13*100) | AE13: =IF(AA13>85," ","WARNING")
A14: F | B14: PF25 N°26
A15: R | B15: PF21 N°27
A16: S | B16: PF42 N°20 | C16: =IFERROR(VLOOKUP(D16,#REF!,2,0)," ") | K16: =(F16-E16)*J16 -> 0 | L16: =(G16-F16)*J16 -> 0 | M16: =(#REF!-H16)*J16 -> #REF! | N16: =IF(I16=0,0,K16/I16) -> 0 | O16: =IF(I16=0,0,L16/I16) -> 0 | P16: =IF(I16=0,0,M16/I16) -> 0 | Q16: 24 | Z16: =IF(I16=0,0,(#REF!+T16)/I16) -> 0 | AA16: =IF(OR(Q16=0,I16=0),"",Z16/Q16*100) | AE16: =IF(AA16>85," ","WARNING")
A18: A | B18: SST16 | C18: =IFERROR(VLOOKUP(D18,#REF!,2,0)," ") | I18: =IFERROR(VLOOKUP(D18,#REF!,3,0),"Entrer la cadence") -> Entrer la cadence | K18: =(F18-E18)*J18 -> 0 | L18: =(G18-F18)*J18 -> 0 | M18: =(H18-G18)*J18 -> 0 | N18: =IF(I18=0,0,K18/I18) -> #VALUE! | O18: =IF(I18=0,0,L18/I18) -> #VALUE! | P18: =IF(I18=0,0,M18/I18) -> #VALUE! | S18: =U18+T18-K18-L18-M18 -> 0 | Z18: =IF(I18=0,0,(U18+T18)/I18) -> #VALUE! | AA18: =IF(OR(Q18=0,I18=0),"",Z18/Q18*100) | AE18: =IF(AA18>85," ","WARNING")
A19: B | B19: SB16 | C19: =IFERROR(VLOOKUP(D19,#REF!,2,0)," ") | I19: =IFERROR(VLOOKUP(D19,#REF!,3,0),"Entrer la cadence") -> Entrer la cadence | K19: =(F19-E19)*J19 -> 0 | L19: =(G19-F19)*J19 -> 0 | M19: =(G19-H19)*J19 -> 0 | N19: =IF(I19=0,0,K19/I19) -> #VALUE! | O19: =IF(I19=0,0,L19/I19) -> #VALUE! | P19: =IF(I19=0,0,M19/I19) -> #VALUE! | S19: =U19+T19-K19-L19-M19 -> 0 | Z19: =IF(I19=0,0,(U19+T19)/I19) -> #VALUE! | AA19: =IF(OR(Q19=0,I19=0),"",Z19/Q19*100) | AE19: =IF(AA19>85," ","WARNING")
A20: C | B20: BIGLIA 301 SM | C20: =IFERROR(VLOOKUP(D20,#REF!,2,0)," ") | I20: =IFERROR(VLOOKUP(D20,#REF!,3,0),"Entrer la cadence") -> Entrer la cadence | K20: =(F20-E20)*J20 -> 0 | L20: =(G20-F20)*J20 -> 0 | M20: =(G20-H20)*J20 -> 0 | N20: =IF(I20=0,0,K20/I20) -> #VALUE! | O20: =IF(I20=0,0,L20/I20) -> #VALUE! | P20: =IF(I20=0,0,M20/I20) -> #VALUE! | S20: =U20+T20-K20-L20-M20 -> 0 | Z20: =IF(I20=0,0,(U20+T20)/I20) -> #VALUE! | AA20: =IF(OR(Q20=0,I20=0),"",Z20/Q20*100) | AE20: =IF(AA20>85," ","WARNING")
A21: D | B21: BIGLIA 42 S2M | C21: =IFERROR(VLOOKUP(D21,#REF!,2,0)," ") | I21: =IFERROR(VLOOKUP(D21,#REF!,3,0),"Entrer la cadence") -> Entrer la cadence | K21: =(F21-E21)*J21 -> 0 | L21: =(G21-F21)*J21 -> 0 | M21: =(G21-H21)*J21 -> 0 | N21: =IF(I21=0,0,K21/I21) -> #VALUE! | O21: =IF(I21=0,0,L21/I21) -> #VALUE! | P21: =IF(I21=0,0,M21/I21) -> #VALUE! | S21: =U21+T21-K21-L21-M21 -> 0 | Z21: =IF(I21=0,0,(U21+T21)/I21) -> #VALUE! | AA21: =IF(OR(Q21=0,I21=0),"",Z21/Q21*100) | AE21: =IF(AA21>85," ","WARNING")
A22: E | B22: L32 | C22: =IFERROR(VLOOKUP(D22,#REF!,2,0)," ") | I22: =IFERROR(VLOOKUP(D22,#REF!,3,0),"Entrer la cadence") -> Entrer la cadence | K22: =(F22-E22)*J22 -> 0 | L22: =(G22-F22)*J22 -> 0 | M22: =(G22-H22)*J22 -> 0 | N22: =IF(I22=0,0,K22/I22) -> #VALUE! | O22: =IF(I22=0,0,L22/I22) -> #VALUE! | P22: =IF(I22=0,0,M22/I22) -> #VALUE! | S22: =U22+T22-K22-L22-M22 -> 0 | Z22: =IF(I22=0,0,(U22+T22)/I22) -> #VALUE! | AA22: =IF(OR(Q22=0,I22=0),"",Z22/Q22*100) | AE22: =IF(AA22>85," ","WARNING")
A23: F | B23: MULTI BROCHE | C23: =IFERROR(VLOOKUP(D23,#REF!,2,0)," ") | I23: =IFERROR(VLOOKUP(D23,#REF!,3,0),"Entrer la cadence") -> Entrer la cadence | K23: =(F23-E23)*J23 -> 0 | L23: =(G23-F23)*J23 -> 0 | M23: =(G23-H23)*J23 -> 0 | N23: =IF(I23=0,0,K23/I23) -> #VALUE! | O23: =IF(I23=0,0,L23/I23) -> #VALUE! | P23: =IF(I23=0,0,M23/I23) -> #VALUE! | S23: =U23+T23-K23-L23-M23 -> 0 | Z23: =IF(I23=0,0,(U23+T23)/I23) -> #VALUE! | AA23: =IF(OR(Q23=0,I23=0),"",Z23/Q23*100) | AE23: =IF(AA23>85," ","WARNING")
A24: G | B24: MORI SEIKI 3 axes | C24: =IFERROR(VLOOKUP(D24,#REF!,2,0)," ") | I24: =IFERROR(VLOOKUP(D24,#REF!,3,0),"Entrer la cadence") -> Entrer la cadence | K24: =(F24-E24)*J24 -> 0 | L24: =(G24-F24)*J24 -> 0 | M24: =(G24-H24)*J24 -> 0 | N24: =IF(I24=0,0,K24/I24) -> #VALUE! | O24: =IF(I24=0,0,L24/I24) -> #VALUE! | P24: =IF(I24=0,0,M24/I24) -> #VALUE! | S24: =U24+T24-K24-L24-M24 -> 0 | Z24: =IF(I24=0,0,(U24+T24)/I24) -> #VALUE! | AA24: =IF(OR(Q24=0,I24=0),"",Z24/Q24*100) | AE24: =IF(AA24>85," ","WARNING")
A25: H | B25: MORI SEIKI 5 axes | C25: =IFERROR(VLOOKUP(D25,#REF!,2,0)," ") | I25: =IFERROR(VLOOKUP(D25,#REF!,3,0),"Entrer la cadence") -> Entrer la cadence | K25: =(F25-E25)*J25 -> 0 | L25: =(G25-F25)*J25 -> 0 | M25: =(G25-H25)*J25 -> 0 | N25: =IF(I25=0,0,K25/I25) -> #VALUE! | O25: =IF(I25=0,0,L25/I25) -> #VALUE! | P25: =IF(I25=0,0,M25/I25) -> #VALUE! | S25: =U25+T25-K25-L25-M25 -> 0 | Z25: =IF(I25=0,0,(U25+T25)/I25) -> #VALUE! | AA25: =IF(OR(Q25=0,I25=0),"",Z25/Q25*100) | AE25: =IF(AA25>85," ","WARNING")
A26: I | B26: TSUGAMI | C26: =IFERROR(VLOOKUP(D26,#REF!,2,0)," ") | I26: =IFERROR(VLOOKUP(D26,#REF!,3,0),"Entrer la cadence") -> Entrer la cadence | K26: =(F26-E26)*J26 -> 0 | L26: =(G26-F26)*J26 -> 0 | M26: =(G26-H26)*J26 -> 0 | N26: =IF(I26=0,0,K26/I26) -> #VALUE! | O26: =IF(I26=0,0,L26/I26) -> #VALUE! | P26: =IF(I26=0,0,M26/I26) -> #VALUE! | S26: =U26+T26-K26-L26-M26 -> 0 | Z26: =IF(I26=0,0,(U26+T26)/I26) -> #VALUE! | AA26: =IF(OR(Q26=0,I26=0),"",Z26/Q26*100) | AE26: =IF(AA26>85," ","WARNING")
A27: J | B27: NAKAMURA | C27: =IFERROR(VLOOKUP(D27,#REF!,2,0)," ") | I27: =IFERROR(VLOOKUP(D27,#REF!,3,0),"Entrer la cadence") -> Entrer la cadence | K27: =(F27-E27)*J27 -> 0 | L27: =(G27-F27)*J27 -> 0 | M27: =(G27-H27)*J27 -> 0 | N27: =IF(I27=0,0,K27/I27) -> #VALUE! | O27: =IF(I27=0,0,L27/I27) -> #VALUE! | P27: =IF(I27=0,0,M27/I27) -> #VALUE! | S27: =U27+T27-K27-L27-M27 -> 0 | Z27: =IF(I27=0,0,(U27+T27)/I27) -> #VALUE! | AA27: =IF(OR(Q27=0,I27=0),"",Z27/Q27*100) | AE27: =IF(AA27>85," ","WARNING")
A28: K | B28: KITAMURA | I28: =IFERROR(VLOOKUP(D28,#REF!,3,0),"Entrer la cadence") -> Entrer la cadence | K28: =(F28-E28)*J28 -> 0 | L28: =(G28-F28)*J28 -> 0 | M28: =(G28-H28)*J28 -> 0 | N28: =IF(I28=0,0,K28/I28) -> #VALUE! | O28: =IF(I28=0,0,L28/I28) -> #VALUE! | P28: =IF(I28=0,0,M28/I28) -> #VALUE! | S28: =U28+T28-K28-L28-M28 -> 0 | Z28: =IF(I28=0,0,(U28+T28)/I28) -> #VALUE! | AA28: =IF(OR(Q28=0,I28=0),"",Z28/Q28*100)
A29: L | B29: HARDING | I29: =IFERROR(VLOOKUP(D29,#REF!,3,0),"Entrer la cadence") -> Entrer la cadence | K29: =(F29-E29)*J29 -> 0 | L29: =(G29-F29)*J29 -> 0 | M29: =(G29-H29)*J29 -> 0 | N29: =IF(I29=0,0,K29/I29) -> #VALUE! | O29: =IF(I29=0,0,L29/I29) -> #VALUE! | P29: =IF(I29=0,0,M29/I29) -> #VALUE! | S29: =U29+T29-K29-L29-M29 -> 0 | Z29: =IF(I29=0,0,(U29+T29)/I29) -> #VALUE! | AA29: =IF(OR(Q29=0,I29=0),"",Z29/Q29*100)
A30: M | B30: TOUR WEILER | I30: =IFERROR(VLOOKUP(D30,#REF!,3,0),"Entrer la cadence") -> Entrer la cadence | K30: =(F30-E30)*J30 -> 0 | L30: =(G30-F30)*J30 -> 0 | M30: =(H30-G30)*J30 -> 0 | N30: =IF(I30=0,0,K30/I30) -> #VALUE! | O30: =IF(I30=0,0,L30/I30) -> #VALUE! | P30: =IF(I30=0,0,M30/I30) -> #VALUE! | S30: =U30+T30-K30-L30-M30 -> 0 | Z30: =IF(I30=0,0,(U30+T30)/I30) -> #VALUE! | AA30: =IF(OR(Q30=0,I30=0),"",Z30/Q30*100)
Q31: temps d'ouverture
C37: Rédacteur | J37: Approbateur:
C38: Date | J38: Date:
C39: Visa | J39: Visa:

Sheet Pieces
A1: desgination | B1: reference | C1: Cadence réelle | D1: machine
A2: BUSS. DIS. 14-3003 1320X28.7 AVP CARB | B2: 510081 | C2: 90
A3: ANNEAU 25.2*32*29 | B3: 4-7611 | C3: 120
A4: Anneau 30*38*23 | B4: 0-4599 | C4: 120
A5: Anneau BN 25.2*32*31.5 | B5: 0-3863 | C5: 90
A6: Anneau brut 30*28*27 | B6: 0-4965 | C6: 120
A7: Anneau Brute 28*38*40 | B7: 0-3879 | C7: 45
A8: anneau brute 30*38*21 | B8: 0-4457 | C8: 120
A9: Anneau Brute 30*38*25 | B9: 0-3883 | C9: 120
A10: Anneau Brute 30*38*27 | B10: 0-4965 | C10: 120
A11: Anneau Brute 30*38*33 | B11: 0-3864 | C11: 120
A12: Anneau FX 25.2*32*21 | B12: 0-4180 | C12: 120
A13: AOE 950 12 BOX SPINA INOX | B13: SPINA00010 | C13: 8
A14: AOE 950/12/9.5 SPINA INOX | B14: SPINA00009 | C14: 15
... A22: AXE AVEC INSERT INTEGRES | B22: 2018110-01 | C22: 12
A23: AXE BOITIER TFR+KB | B23: I081-95-CP8 | C23: 28 | D23: BIGLIA MIM
A24: AXE D15-M11x100 | B24: G022-CP1 | C24: 30
A25: AXE D'ARTICULATION | B25: 200101 | C25: 130
A26: AXE DE FREIN OM40 PROD | B26: M030-PROD | C26: 90
A27: AXE DIRECTION ISUZU | B27: I059 | C27: 70
A28: AXE ETRIER FORD RANGER-PROD | B28: FO011-PROD | C28: 45
A29: AXE ETRIER MITSUBISHI D21.2 PROD | B29: MI029-CP1-PROD | C29: 30
A30: AXE ETRIER MITSUBISHI D21.9 AVEC SOUFFLET-CP1 PROD | B30: MI030-CP1-PROD | C30: 30
A31: AXE ETRIER SUP MITSUBISHI L200(536) | B31: MI029 | C31: 30
A32: AXE FEMELLE | B32: AXE FEMELLE-D16 | C32: 30
A33: AXE FEMELLE | B33: 2018051-01 | C33: 30
A34: AXE FEMELLE M8X55 | B34: 2018106-02-02 | C34: 30
A35: AXE FOURCHETTE | B35: 19037-1 | C35: 70
A36: AXE FOURCHETTE SIMPLE | B36: 2018013-01 | C36: 120
A37: AXE GM JUMELLE MITSUBITCHI | B37: MI013-CP1 | C37: 50
... A45: AXE MALE EN I | B45: 2018146-02 | C45: 30
A46: AXE MALE L=100 | B46: 2018130 | C46: 30 | D46: l32
A47: AXE MALE SANS TROU | B47: AXE MALE S-T D16 | D47: L32
A48: AXE MALE V02 | B48: 2018106-02-01 | C48: 12 | D48: l32
A49: AXE MALE-001 | B49: 2018122-03 | C49: 60 | D49: l32
A50: AXE PORTE TURBINE D10 | B50: A001 | C50: 36
A51: Axe tendeur de 10 | B51: AXE - T - D10 | C51: 360
A52: AXE TENDEUR DE 11 | B52: AXE-T- D11 | C52: 90
A53: AXE TRIANGLE SUSPENSION-CP1 PROD | B53: I094-CP1-PROD | C53: 100
A54: BAGUE GALVANISEE 16X11X4 | B54: G022-CP5 | C54: 120
A55: Bague 10.5x25x75 | B55: 181075 | C55: 30
A56: BAGUE 12*22*56.2 | B56: 12x22x56.2 | C56: 45
A57: BAGUE 12*22*65 | B57: 12x22x65 | C57: 50
A58: BAGUE 12*25*60.5 | B58: 181270 | C58: 37
A59: BAGUE 18*14.5*68 | B59: BAG 18x14.5 | C59: 120
A60: Bague acier 10x14x102 | B60: 10x14x102 | C60: 120
A61: BAGUE ACIER 12*9*11 | B61: 12x9x11 | C61: 120
A62: Bague acier 12x11x9.5(4g) | B62: 12*11*9,5 | C62: 120
A63: bague acier 14*20*48 | B63: 14*20*48 | C63: 120 | D63: pf42 ebauche
A64: BAGUE ACIER 8.5x6.5x10 | B64: 8.5x6.5x10 | C64: 120
A65: BAGUE ACIER 8.5x6.5x5.8 | B65: 8.5x6.5x5.8 | C65: 120
A66: bague acier galvanisée 10x14x112 | B66: 10x14x112 | C66: 80
A67: BAGUE ACIER GALVANISEE 14*10*102 | B67: 14X10X102 | C67: 70
A68: BAGUE ACIER GALVANISEE 14*10*112 | B68: 10x14x112 | C68: 70
A69: Bague acier nécessaire OM40 | B69: M018-CP1
A70: BAGUE ACIER NECESSAIRE-CP1 PROD | B70: m020-cp1 | C70: 120
A71: Bague acier Ø13 | B71: 12.75x28.2x8.5 | C71: 120
A72: bague allu 27*14.5*55 | B72: 14,5x27x55 | C72: 120
A73: BAGUE ALU 14.5*27*42 | B73: 14.5x27x42 | C73: 90
A74: BAGUE ALU 18*27*43 | B74: 18X27X43 | C74: 90
A75: bague aluminium 14,5x27x45 | B75: 4 - 78 36 | C75: 120
A76: Bague aluminium 14.4*24*40 | B76: 4-7828 | C76: 90
A77: Bague aluminium 14.4*24*40 biglia | B77: 4-7828 | C77: 60
A78: Bague aluminium 14.4*27*42 | B78: 4-7971 | C78: 90
A79: Bague aluminium 14.4*27*54 | B79: 4-8407 | C79: 90
A80: Bague aluminium 14.4*27*58.6 | B80: 4-8109 | C80: 90
A81: Bague aluminium 14.4x25x40 | B81: 4-7989 | C81: 120
... A85: Bague aluminium epaulee 14.4*27*55 | B85: 4-7329A | C85: 60
A86: bague aluminum lg30 | B86: -
A87: BAGUE BOUGIE CULASSE | B87: D001 | C87: 90
A88: Bague Brute 10*16*5 | B88: 0-3737 | C88: 120
A89: Bague Brute 10*16*7 | B89: 0-3738 | C89: 120
A90: Bague Brute 14*20*75 | B90: 0-5615 | C90: 120
A91: Bague brute 10x14x10 | B91: 0-5579 | C91: 60
A92: BAGUE BRUTE 12x20x14,5 | B92: 4-8661 | C92: 80
A93: bague brute 14x20x8 | B93: 4-7862
A94: Bague Brute 16*28*62 | B94: 4-7863 | C94: 60
A95: Bague brute 20x28x43 | B95: 4-76 86 | C95: 60
A96: Bague Brute 25.2*32*23 | B96: 4-7659 | C96: 120
A97: Bague Brute 25.2*32*24.8 | B97: 4-7575 | C97: 120
A98: bague butée | B98: 7171-N | C98: 120
A99: BAGUE BUTEE INTERNE 12 | B99: 4-7171 | C99: 120
A100: bague butée interne Ø25 | B100: 7159 | C100: 120
A101: BAGUE D12*D8.3*10.4 | B101: T1201-1000-040 | C101: 120 | D101: l32
A102: BAGUE D12*D8.3*D3.6 | B102: T1201-1000-030 | C102: 120
A103: BAGUE D32*22 L=21 | B103: G011 | C103: 45
A104: BAGUE DE CENTRAGE D20 | B104: 890625 | C104: 70
A105: bague decolletée 7009 | B105: 7009
A106: BAGUE DU FIXATION D25 PROD | B106: 895700-D25-PROD | C106: 60
A107: BAGUE ECHAPPEMENT ISUZU | B107: I056 | C107: 20
A108: BAGUE EN ACIER AXE RESSORT NM+AM OM40 | B108: M018-28-29-32-CP1 | C108: 15
A109: BAGUE EN LAITON AXE RESSORT NM+AM OM40 | B109: M018-28-29-32-CP2 | C109: 75
A110: bague épaulée 12*25*41 | B110: 181241 | C110: 60
A111: BAGUE EPAULEE 14*20*60 | B111: 18126100 | C111: 30
A112: bague epaulee 14*30*66,5 | B112: 4-8209 | C112: 20
A113: BAGUE EXT SILENT BLOC FORD BT50 | B113: FO020-CP1 | C113: 90
A114: bague galnanisee 10*14*10 | B114: 0-5579-1 | C114: 120
A115: bague galnanisee 16*12*32 | B115: 0-3773-1-R
A116: Bague Galvaniée 12.2*20*50 | B116: 0-5191A | C116: 120
A117: bague galvanisé 12*18*38 | B117: 0-5255-1 | C117: 120
...

Sheet 21-01-2020
C1: Tableau de production journalière | Z1: CODE: DAS-PRO-16
Z2: DATE:30/08/2019
Z3: VERSION:07
Z4: PAGE:1
A8: SYMBOLE | B8: MACHINE | C8: REF ARTICLE | D8: DESIGNATION | E8: COMPTEUR HIER à8H | F8: COMPTEUR HIER à 13H | G8: COMPTEUR HIER à 19H | H8: COMPTEUR AUJOURD’HUI à 8h | I8: CADENCE | J8: NOMBRE DE PIECES FINIS PAR CYCLE | K8: PIECES SUIVANT COMPTEU 8h-->13h | L8: PIECES SUIVANT COMPTEUR 17H-->19H | M8: PIECES SUIVANT COMPTEUR 6h-->8h | N8: NOMBRE D'HEURES DE TRAVAIL 8h-->17h | O8: NOMBRE D'HEURES DE TRAVAIL 17H-->19H | P8: NOMBRE D'HEURES DE TRAVAIL 6h-->8h | Q8: NOMBRE D'HEURES DE TRAVAIL | R8: OBSERVATIONS | S8: Pieces manquantes | T8: PIECES NC | U8: Pieces REELLES | V8: Nombre des pieces à retoucher | W8: Cause de la non-conformité | X8: Effet de la non-conformité | Y8: Valeur de l'effet | Z8: NOMBRES D'HEURES SUIVANT LES PIECES REELLES | AA8: RENDEMENT | AB8: Fiche de contrôle qualité début de serie | AC8: Affutage | AD8: Gamme d'usingae | AE8: ALERTES
A9: A | B9: PF25 N°21 | C9: =IFERROR(VLOOKUP(D9,#REF!,2,0)," ") | K9: =(F9-E9)*J9 -> 0 | L9: =(G9-F9)*J9 -> 0 | M9: =(#REF!-H9)*J9 -> #REF! | N9: =IF(I9=0,0,K9/I9) -> 0 | O9: =IF(I9=0,0,L9/I9) -> 0 | P9: =IF(I9=0,0,M9/I9) -> 0 | Q9: 24 | Z9: =IF(I9=0,0,(#REF!+T9)/I9) -> 0 | AA9: =IF(OR(Q9=0,I9=0),"",Z9/Q9*100) | AE9: =IF(AA9>85," ","WARNING")
A10: B | B10: PF25 N°22 | C10: =IFERROR(VLOOKUP(D10,#REF!,2,0)," ") | K10: =(F10-E10)*J10 -> 0 | L10: =(G10-F10)*J10 -> 0 | M10: =(#REF!-H10)*J10 -> #REF! | N10: =IF(I10=0,0,K10/I10) -> 0 | O10: =IF(I10=0,0,L10/I10) -> 0 | P10: =IF(I10=0,0,M10/I10) -> 0 | Q10: 24 | Z10: =IF(I10=0,0,(#REF!+T10)/I10) -> 0 | AA10: =IF(OR(Q10=0,I10=0),"",Z10/Q10*100) | AE10: =IF(AA10>85," ","WARNING")
A11: C | B11: PF25 N°23 | C11: =IFERROR(VLOOKUP(D11,#REF!,2,0)," ") | K11: =(F11-E11)*J11 -> 0 | L11: =(G11-F11)*J11 -> 0 | M11: =(#REF!-H11)*J11 -> #REF! | N11: =IF(I11=0,0,K11/I11) -> 0 | O11: =IF(I11=0,0,L11/I11) -> 0 | P11: =IF(I11=0,0,M11/I11) -> 0 | Q11: 24 | Z11: =IF(I11=0,0,(#REF!+T11)/I11) -> 0 | AA11: =IF(OR(Q11=0,I11=0),"",Z11/Q11*100) | AE11: =IF(AA11>85," ","WARNING")
A12: D | B12: PF25 N°24 | C12: =IFERROR(VLOOKUP(D12,#REF!,2,0)," ") | K12: =(F12-E12)*J12 -> 0 | L12: =(G12-F12)*J12 -> 0 | M12: =(#REF!-H12)*J12 -> #REF! | N12: =IF(I12=0,0,K12/I12) -> 0 | O12: =IF(I12=0,0,L12/I12) -> 0 | P12: =IF(I12=0,0,M12/I12) -> 0 | Q12: 24 | Z12: =IF(I12=0,0,(#REF!+T12)/I12) -> 0 | AA12: =IF(OR(Q12=0,I12=0),"",Z12/Q12*100) | AE12: =IF(AA12>85," ","WARNING")
A13: E | B13: PF25 N°25 | C13: =IFERROR(VLOOKUP(D13,#REF!,2,0)," ") | K13: =(F13-E13)*J13 -> 0 | L13: =(G13-F13)*J13 -> 0 | M13: =(#REF!-H13)*J13 -> #REF! | N13: =IF(I13=0,0,K13/I13) -> 0 | O13: =IF(I13=0,0,L13/I13) -> 0 | P13: =IF(I13=0,0,M13/I13) -> 0 | Q13: 24 | Z13: =IF(I13=0,0,(#REF!+T13)/I13) -> 0 | AA13: =IF(OR(Q13=0,I13=0),"",Z13/Q13*100) | AE13: =IF(AA13>85," ","WARNING")
A14: F | B14: PF25 N°26
A15: R | B15: PF21 N°27
A16: S | B16: PF42 N°20 | C16: =IFERROR(VLOOKUP(D16,#REF!,2,0)," ") | K16: =(F16-E16)*J16 -> 0 | L16: =(G16-F16)*J16 -> 0 | M16: =(#REF!-H16)*J16 -> #REF! | N16: =IF(I16=0,0,K16/I16) -> 0 | O16: =IF(I16=0,0,L16/I16) -> 0 | P16: =IF(I16=0,0,M16/I16) -> 0 | Q16: 24 | Z16: =IF(I16=0,0,(#REF!+T16)/I16) -> 0 | AA16: =IF(OR(Q16=0,I16=0),"",Z16/Q16*100) | AE16: =IF(AA16>85," ","WARNING")
A18: A | B18: SST16 | C18: =IFERROR(VLOOKUP(D18,Pieces!A:B,2,0)," ") -> outi-plot | D18: plot nez de marche | E18: 36340 | I18: =IFERROR(VLOOKUP(D18,Pieces!A:C,3,0),"Entrer la cadence") -> 75 | J18: 1 | K18: =(F18-E18)*J18 -> -36340 | L18: =(G18-F18)*J18 -> 0 | M18: =(H18-G18)*J18 -> 0 | N18: =IF(I18=0,0,K18/I18) -> -484.53333 | O18: =IF(I18=0,0,L18/I18) -> 0 | P18: =IF(I18=0,0,M18/I18) -> 0 | Q18: 9 | S18: =U18+T18-K18-L18-M18 -> 36930 | U18: 590 | Z18: =IF(I18=0,0,(U18+T18)/I18) -> 7.8666667 | AA18: =IF(OR(Q18=0,I18=0),"",Z18/Q18*100) -> 87.407407 | AE18: =IF(AA18>85," ","WARNING")
A19: B | B19: SB16 | C19: =IFERROR(VLOOKUP(D19,Pieces!A:B,2,0)," ") -> BROCH L 230 | D19: BROCHE ACIER D13 ZINGUE L230 | E19: 73 | I19: =IFERROR(VLOOKUP(D19,Pieces!A:C,3,0),"Entrer la cadence") -> 90 | J19: 1 | K19: =(F19-E19)*J19 -> -73 | L19: =(G19-F19)*J19 -> 0 | M19: =(H19-G19)*J19 -> 0 | N19: =IF(I19=0,0,K19/I19) -> -0.81111111 | O19: =IF(I19=0,0,L19/I19) -> 0 | P19: =IF(I19=0,0,M19/I19) -> 0 | Q19: 9 | S19: =U19+T19-K19-L19-M19 -> 146 | U19: 73 | Z19: =IF(I19=0,0,(U19+T19)/I19) -> 0.81111111 | AA19: =IF(OR(Q19=0,I19=0),"",Z19/Q19*100) -> 9.0123457 | AE19: =IF(AA19>85," ","WARNING") -> WARNING
A20: C | B20: BIGLIA 301 SM | C20: =IFERROR(VLOOKUP(D20,Pieces!A:B,2,0)," ") -> 512520 | D20: INSERTO MANOPOLA INOX M8 | E20: 3250 | I20: =IFERROR(VLOOKUP(D20,Pieces!A:C,3,0),"Entrer la cadence") -> 50 | J20: 1 | K20: =(F20-E20)*J20 -> -3250 | L20: =(G20-F20)*J20 -> 0 | M20: =(H20-G20)*J20 -> 0 | N20: =IF(I20=0,0,K20/I20) -> -65 | O20: =IF(I20=0,0,L20/I20) -> 0 | P20: =IF(I20=0,0,M20/I20) -> 0 | Q20: 9 | S20: =U20+T20-K20-L20-M20 -> 3600 | U20: 350 | Z20: =IF(I20=0,0,(U20+T20)/I20) -> 7 | AA20: =IF(OR(Q20=0,I20=0),"",Z20/Q20*100) -> 77.777778 | AE20: =IF(AA20>85," ","WARNING") -> WARNING
A21: D | B21: BIGLIA 42 S2M-bitourelle | C21: =IFERROR(VLOOKUP(D21,Pieces!A:B,2,0)," ") -> F045-CP2 | D21: BAGUE DECOLLETEE TUBE D'EAU UNO DISEL -CP2 | E21: 310 | I21: =IFERROR(VLOOKUP(D21,Pieces!A:C,3,0),"Entrer la cadence") -> 30 | J21: 1 | K21: =(F21-E21)*J21 -> -310 | L21: =(G21-F21)*J21 -> 0 | M21: =(H21-G21)*J21 -> 0 | N21: =IF(I21=0,0,K21/I21) -> -10.333333 | O21: =IF(I21=0,0,L21/I21) -> 0 | P21: =IF(I21=0,0,M21/I21) -> 0 | Q21: 9 | S21: =U21+T21-K21-L21-M21 -> 620 | U21: 310 | Z21: =IF(I21=0,0,(U21+T21)/I21) -> 10.333333 | AA21: =IF(OR(Q21=0,I21=0),"",Z21/Q21*100) -> 114.81481 | AE21: =IF(AA21>85," ","WARNING")
A22: E | B22: L32 | C22: =IFERROR(VLOOKUP(D22,Pieces!A:B,2,0)," ") -> 200200 | D22: EMBOUT DE TIGE | E22: 1530 | I22: =IFERROR(VLOOKUP(D22,Pieces!A:C,3,0),"Entrer la cadence") -> 60 | J22: 1 | K22: =(F22-E22)*J22 -> -1530 | L22: =(G22-F22)*J22 -> 0 | M22: =(H22-G22)*J22 -> 0 | N22: =IF(I22=0,0,K22/I22) -> -25.5 | O22: =IF(I22=0,0,L22/I22) -> 0 | P22: =IF(I22=0,0,M22/I22) -> 0 | Q22: 9 | S22: =U22+T22-K22-L22-M22 -> 1908 | U22: 378 | Z22: =IF(I22=0,0,(U22+T22)/I22) -> 6.3 | AA22: =IF(OR(Q22=0,I22=0),"",Z22/Q22*100) -> 70 | AE22: =IF(AA22>85," ","WARNING") -> WARNING
A23: I | B23: TSUGAMI | C23: =IFERROR(VLOOKUP(D23,Pieces!A:B,2,0)," ") -> - | D23: Arrêt | E23: 0 | I23: =IFERROR(VLOOKUP(D23,Pieces!A:C,3,0),"Entrer la cadence") -> 1 | J23: 1 | K23: =(F23-E23)*J23 -> 0 | L23: =(G23-F23)*J23 -> 0 | M23: =(H23-G23)*J23 -> 0 | N23: =IF(I23=0,0,K23/I23) -> 0 | O23: =IF(I23=0,0,L23/I23) -> 0 | P23: =IF(I23=0,0,M23/I23) -> 0 | Q23: 9 | S23: =U23+T23-K23-L23-M23 -> 0 | U23: 0 | Z23: =IF(I23=0,0,(U23+T23)/I23) -> 0 | AA23: =IF(OR(Q23=0,I23=0),"",Z23/Q23*100) -> 0 | AE23: =IF(AA23>85," ","WARNING") -> WARNING
A24: G | B24: MORI SEIKI 3 axes | C24: =IFERROR(VLOOKUP(D24,Pieces!A:B,2,0)," ") -> I110-01-004 | D24: INSERT LEVIER SURMOULEE 345833-01 - fraisage | E24: 126 | I24: =IFERROR(VLOOKUP(D24,Pieces!A:C,3,0),"Entrer la cadence") -> 28 | J24: 7 | K24: =(F24-E24)*J24 -> -882 | L24: =(G24-F24)*J24 -> 0 | M24: =(H24-G24)*J24 -> 0 | N24: =IF(I24=0,0,K24/I24) -> -31.5 | O24: =IF(I24=0,0,L24/I24) -> 0 | P24: =IF(I24=0,0,M24/I24) -> 0 | Q24: 9 | S24: =U24+T24-K24-L24-M24 -> 1092 | U24: 210 | Z24: =IF(I24=0,0,(U24+T24)/I24) -> 7.5 | AA24: =IF(OR(Q24=0,I24=0),"",Z24/Q24*100) -> 83.333333 | AE24: =IF(AA24>85," ","WARNING") -> WARNING
A25: H | B25: MORI SEIKI 5 axes | C25: =IFERROR(VLOOKUP(D25,Pieces!A:B,2,0)," ") -> 480387 | D25: EVACUATION 2/3G X-ONE | E25: 151 | I25: =IFERROR(VLOOKUP(D25,Pieces!A:C,3,0),"Entrer la cadence") -> 60 | J25: 20 | K25: =(F25-E25)*J25 -> -3020 | L25: =(G25-F25)*J25 -> 0 | M25: =(H25-G25)*J25 -> 0 | N25: =IF(I25=0,0,K25/I25) -> -50.333333 | O25: =IF(I25=0,0,L25/I25) -> 0 | P25: =IF(I25=0,0,M25/I25) -> 0 | Q25: 9 | S25: =U25+T25-K25-L25-M25 -> 3320 | U25: 300 | Z25: =IF(I25=0,0,(U25+T25)/I25) -> 5 | AA25: =IF(OR(Q25=0,I25=0),"",Z25/Q25*100) -> 55.555556 | AE25: =IF(AA25>85," ","WARNING") -> WARNING
A26: L | B26: HARDING | C26: =IFERROR(VLOOKUP(D26,Pieces!A:B,2,0)," ") -> PIG 50 SE- harding | D26: PIGNON PLATEAU SIMPLE ETAGE D50 - contournage dents | E26: 194 | I26: =IFERROR(VLOOKUP(D26,Pieces!A:C,3,0),"Entrer la cadence") -> 38 | J26: 51 | K26: =(F26-E26)*J26 -> -9894 | L26: =(G26-F26)*J26 -> 0 | M26: =(H26-G26)*J26 -> 0 | N26: =IF(I26=0,0,K26/I26) -> -260.36842 | O26: =IF(I26=0,0,L26/I26) -> 0 | P26: =IF(I26=0,0,M26/I26) -> 0 | Q26: 9 | S26: =U26+T26-K26-L26-M26 -> 11016 | U26: 1122 | Z26: =IF(I26=0,0,(U26+T26)/I26) -> 29.526316 | AA26: =IF(OR(Q26=0,I26=0),"",Z26/Q26*100) -> 328.07018 | AE26: =IF(AA26>85," ","WARNING")
A27: K | B27: KITAMURA | C27: =IFERROR(VLOOKUP(D27,Pieces!A:B,2,0)," ") -> - | D27: Arrêt | E27: 0 | I27: =IFERROR(VLOOKUP(D27,Pieces!A:C,3,0),"Entrer la cadence") -> 1 | J27: 1 | K27: =(F27-E27)*J27 -> 0 | L27: =(G27-F27)*J27 -> 0 | M27: =(H27-G27)*J27 -> 0 | N27: =IF(I27=0,0,K27/I27) -> 0 | O27: =IF(I27=0,0,L27/I27) -> 0 | P27: =IF(I27=0,0,M27/I27) -> 0 | Q27: 9 | S27: =U27+T27-K27-L27-M27 -> 0 | U27: 0 | Z27: =IF(I27=0,0,(U27+T27)/I27) -> 0 | AA27: =IF(OR(Q27=0,I27=0),"",Z27/Q27*100) -> 0 | AE27: =IF(AA27>85," ","WARNING") -> WARNING
A28: F | B28: MULTI BROCHE | C28: =IFERROR(VLOOKUP(D28,Pieces!A:B,2,0)," ") -> MPS000300 | D28: raccord HEX 17 | E28: 1950 | I28: =IFERROR(VLOOKUP(D28,Pieces!A:C,3,0),"Entrer la cadence") -> 454 | J28: 1 | K28: =(F28-E28)*J28 -> -1950 | L28: =(G28-F28)*J28 -> 0 | M28: =(H28-G28)*J28 -> 0 | N28: =IF(I28=0,0,K28/I28) -> -4.2951542 | O28: =IF(I28=0,0,L28/I28) -> 0 | P28: =IF(I28=0,0,M28/I28) -> 0 | Q28: 9 | S28: =U28+T28-K28-L28-M28 -> 3900 | U28: 1950 | Z28: =IF(I28=0,0,(U28+T28)/I28) -> 4.2951542 | AA28: =IF(OR(Q28=0,I28=0),"",Z28/Q28*100) -> 47.723935 | AE28: =IF(AA28>85," ","WARNING") -> WARNING
A29: J | B29: NAKAMURA | C29: =IFERROR(VLOOKUP(C28,Pieces!A:B,2,C280)," ") | D29: GOUJON DE ROUE MITSIBITCHI GM | E29: 220 | I29: =IFERROR(VLOOKUP(D29,Pieces!A:C,3,0),"Entrer la cadence") -> 30 | J29: 1 | K29: =(F29-E29)*J29 -> -220 | L29: =(G29-F29)*J29 -> 0 | M29: =(H29-G29)*J29 -> 0 | N29: =IF(I29=0,0,K29/I29) -> -7.3333333 | O29: =IF(I29=0,0,L29/I29) -> 0 | P29: =IF(I29=0,0,M29/I29) -> 0 | Q29: 9 | S29: =U29+T29-K29-L29-M29 -> 440 | U29: 220 | Z29: =IF(I29=0,0,(U29+T29)/I29) -> 7.3333333 | AA29: =IF(OR(Q29=0,I29=0),"",Z29/Q29*100) -> 81.481481 | AE29: =IF(AA29>85," ","WARNING") -> WARNING
A30: M | B30: TOUR WEILER | C30: =IFERROR(VLOOKUP(D30,Pieces!A:B,2,0)," ") -> H001-PROD | D30: GOUJON DE ROUE HONDA PROD | E30: 1913 | I30: =IFERROR(VLOOKUP(D30,Pieces!A:C,3,0),"Entrer la cadence") -> 20 | J30: 1 | K30: =(F30-E30)*J30 -> -1913 | L30: =(G30-F30)*J30 -> 0 | M30: =(H30-G30)*J30 -> 0 | N30: =IF(I30=0,0,K30/I30) -> -95.65 | O30: =IF(I30=0,0,L30/I30) -> 0 | P30: =IF(I30=0,0,M30/I30) -> 0 | Q30: 9 | S30: =U30+T30-K30-L30-M30 -> 1913 | U30: 0 | Z30: =IF(I30=0,0,(U30+T30)/I30) -> 0 | AA30: =IF(OR(Q30=0,I30=0),"",Z30/Q30*100) -> 0 | AE30: =IF(AA30>85," ","WARNING") -> WARNING
Q31: temps d'ouverture | R31: 9
C38: Rédacteur | J38: Approbateur:
C39: Date | J39: Date:
C40: Visa | J40: Visa:

Sheet 20-01-2020
C1: Tableau de production journalière | Z1: CODE: DAS-PRO-16
Z2: DATE:30/08/2019
Z3: VERSION:07
Z4: PAGE:1
A8: SYMBOLE | B8: MACHINE | C8: REF ARTICLE | D8: DESIGNATION | E8: COMPTEUR HIER à8H | F8: COMPTEUR HIER à 13H | G8: COMPTEUR HIER à 19H | H8: COMPTEUR AUJOURD’HUI à 8h | I8: CADENCE | J8: NOMBRE DE PIECES FINIS PAR CYCLE | K8: PIECES SUIVANT COMPTEU 8h-->13h | L8: PIECES SUIVANT COMPTEUR 17H-->19H | M8: PIECES SUIVANT COMPTEUR 6h-->8h | N8: NOMBRE D'HEURES DE TRAVAIL 8h-->17h | O8: NOMBRE D'HEURES DE TRAVAIL 17H-->19H | P8: NOMBRE D'HEURES DE TRAVAIL 6h-->8h | Q8: NOMBRE D'HEURES DE TRAVAIL | R8: OBSERVATIONS | S8: Pieces manquantes | T8: PIECES NC | U8: Pieces REELLES | V8: Nombre des pieces à retoucher | W8: Cause de la non-conformité | X8: Effet de la non-conformité | Y8: Valeur de l'effet | Z8: NOMBRES D'HEURES SUIVANT LES PIECES REELLES | AA8: RENDEMENT | AB8: Fiche de contrôle qualité début de serie | AC8: Affutage | AD8: Gamme d'usingae | AE8: ALERTES
A9: A | B9: PF25 N°21 | C9: =IFERROR(VLOOKUP(D9,#REF!,2,0)," ") | K9: =(F9-E9)*J9 -> 0 | L9: =(G9-F9)*J9 -> 0 | M9: =(#REF!-H9)*J9 -> #REF! | N9: =IF(I9=0,0,K9/I9) -> 0 | O9: =IF(I9=0,0,L9/I9) -> 0 | P9: =IF(I9=0,0,M9/I9) -> 0 | Q9: 24 | Z9: =IF(I9=0,0,(#REF!+T9)/I9) -> 0 | AA9: =IF(OR(Q9=0,I9=0),"",Z9/Q9*100) | AE9: =IF(AA9>85," ","WARNING")
A10: B | B10: PF25 N°22 | C10: =IFERROR(VLOOKUP(D10,#REF!,2,0)," ") | K10: =(F10-E10)*J10 -> 0 | L10: =(G10-F10)*J10 -> 0 | M10: =(#REF!-H10)*J10 -> #REF! | N10: =IF(I10=0,0,K10/I10) -> 0 | O10: =IF(I10=0,0,L10/I10) -> 0 | P10: =IF(I10=0,0,M10/I10) -> 0 | Q10: 24 | Z10: =IF(I10=0,0,(#REF!+T10)/I10) -> 0 | AA10: =IF(OR(Q10=0,I10=0),"",Z10/Q10*100) | AE10: =IF(AA10>85," ","WARNING")
A11: C | B11: PF25 N°23 | C11: =IFERROR(VLOOKUP(D11,#REF!,2,0)," ") | K11: =(F11-E11)*J11 -> 0 | L11: =(G11-F11)*J11 -> 0 | M11: =(#REF!-H11)*J11 -> #REF! | N11: =IF(I11=0,0,K11/I11) -> 0 | O11: =IF(I11=0,0,L11/I11) -> 0 | P11: =IF(I11=0,0,M11/I11) -> 0 | Q11: 24 | Z11: =IF(I11=0,0,(#REF!+T11)/I11) -> 0 | AA11: =IF(OR(Q11=0,I11=0),"",Z11/Q11*100) | AE11: =IF(AA11>85," ","WARNING")
A12: D | B12: PF25 N°24 | C12: =IFERROR(VLOOKUP(D12,#REF!,2,0)," ") | K12: =(F12-E12)*J12 -> 0 | L12: =(G12-F12)*J12 -> 0 | M12: =(#REF!-H12)*J12 -> #REF! | N12: =IF(I12=0,0,K12/I12) -> 0 | O12: =IF(I12=0,0,L12/I12) -> 0 | P12: =IF(I12=0,0,M12/I12) -> 0 | Q12: 24 | Z12: =IF(I12=0,0,(#REF!+T12)/I12) -> 0 | AA12: =IF(OR(Q12=0,I12=0),"",Z12/Q12*100) | AE12: =IF(AA12>85," ","WARNING")
A13: E | B13: PF25 N°25 | C13: =IFERROR(VLOOKUP(D13,#REF!,2,0)," ") | K13: =(F13-E13)*J13 -> 0 | L13: =(G13-F13)*J13 -> 0 | M13: =(#REF!-H13)*J13 -> #REF! | N13: =IF(I13=0,0,K13/I13) -> 0 | O13: =IF(I13=0,0,L13/I13) -> 0 | P13: =IF(I13=0,0,M13/I13) -> 0 | Q13: 24 | Z13: =IF(I13=0,0,(#REF!+T13)/I13) -> 0 | AA13: =IF(OR(Q13=0,I13=0),"",Z13/Q13*100) | AE13: =IF(AA13>85," ","WARNING")
A14: F | B14: PF25 N°26
A15: R | B15: PF21 N°27
A16: S | B16: PF42 N°20 | C16: =IFERROR(VLOOKUP(D16,#REF!,2,0)," ") | K16: =(F16-E16)*J16 -> 0 | L16: =(G16-F16)*J16 -> 0 | M16: =(#REF!-H16)*J16 -> #REF! | N16: =IF(I16=0,0,K16/I16) -> 0 | O16: =IF(I16=0,0,L16/I16) -> 0 | P16: =IF(I16=0,0,M16/I16) -> 0 | Q16: 24 | Z16: =IF(I16=0,0,(#REF!+T16)/I16) -> 0 | AA16: =IF(OR(Q16=0,I16=0),"",Z16/Q16*100) | AE16: =IF(AA16>85," ","WARNING")
A18: A | B18: SST16 | C18: =IFERROR(VLOOKUP(D18,Pieces!A:B,2,0)," ") -> outi-plot | D18: plot nez de marche | E18: 35750 | F18: 36340 | G18: 36340 | H18: 36340 | I18: =IFERROR(VLOOKUP(D18,Pieces!A:C,3,0),"Entrer la cadence") -> 75 | J18: 1 | K18: =(F18-E18)*J18 -> 590 | L18: =(G18-F18)*J18 -> 0 | M18: =(H18-G18)*J18 -> 0 | N18: =IF(I18=0,0,K18/I18) -> 7.8666667 | O18: =IF(I18=0,0,L18/I18) -> 0 | P18: =IF(I18=0,0,M18/I18) -> 0 | Q18: 9 | S18: =U18+T18-K18-L18-M18 -> 0 | U18: 590 | Z18: =IF(I18=0,0,(U18+T18)/I18) -> 7.8666667 | AA18: =IF(OR(Q18=0,I18=0),"",Z18/Q18*100) -> 87.407407 | AE18: =IF(AA18>85," ","WARNING")
A19: B | B19: SB16 | C19: =IFERROR(VLOOKUP(D19,Pieces!A:B,2,0)," ") -> BROCH L 230 | D19: BROCHE ACIER D13 ZINGUE L230 | E19: 0 | F19: 73 | G19: 73 | H19: 73 | I19: =IFERROR(VLOOKUP(D19,Pieces!A:C,3,0),"Entrer la cadence") -> 90 | J19: 1 | K19: =(F19-E19)*J19 -> 73 | L19: =(G19-F19)*J19 -> 0 | M19: =(H19-G19)*J19 -> 0 | N19: =IF(I19=0,0,K19/I19) -> 0.81111111 | O19: =IF(I19=0,0,L19/I19) -> 0 | P19: =IF(I19=0,0,M19/I19) -> 0 | Q19: 9 | R19: FS (BROCHE ACIER D13 ZINGUE L180)+ds (BROCHE ACIER D13 ZINGUE L230) 15:30 pm | S19: =U19+T19-K19-L19-M19 -> 0 | U19: 73 | Z19: =IF(I19=0,0,(U19+T19)/I19) -> 0.81111111 | AA19: =IF(OR(Q19=0,I19=0),"",Z19/Q19*100) -> 9.0123457 | AE19: =IF(AA19>85," ","WARNING") -> WARNING
A20: C | B20: BIGLIA 301 SM | C20: =IFERROR(VLOOKUP(D20,Pieces!A:B,2,0)," ") -> 512520 | D20: INSERTO MANOPOLA INOX M8 | E20: 2900 | F20: 3250 | G20: 3250 | H20: 3250 | I20: =IFERROR(VLOOKUP(D20,Pieces!A:C,3,0),"Entrer la cadence") -> 50 | J20: 1 | K20: =(F20-E20)*J20 -> 350 | L20: =(G20-F20)*J20 -> 0 | M20: =(H20-G20)*J20 -> 0 | N20: =IF(I20=0,0,K20/I20) -> 7 | O20: =IF(I20=0,0,L20/I20) -> 0 | P20: =IF(I20=0,0,M20/I20) -> 0 | Q20: 9 | S20: =U20+T20-K20-L20-M20 -> 0 | U20: 350 | Z20: =IF(I20=0,0,(U20+T20)/I20) -> 7 | AA20: =IF(OR(Q20=0,I20=0),"",Z20/Q20*100) -> 77.777778 | AE20: =IF(AA20>85," ","WARNING") -> WARNING
A21: D | B21: BIGLIA 42 S2M-bitourelle | C21: =IFERROR(VLOOKUP(D21,Pieces!A:B,2,0)," ") -> F045-CP2 | D21: BAGUE DECOLLETEE TUBE D'EAU UNO DISEL -CP2 | E21: 0 | F21: 310 | G21: 310 | H21: 310 | I21: =IFERROR(VLOOKUP(D21,Pieces!A:C,3,0),"Entrer la cadence") -> 30 | J21: 1 | K21: =(F21-E21)*J21 -> 310 | L21: =(G21-F21)*J21 -> 0 | M21: =(H21-G21)*J21 -> 0 | N21: =IF(I21=0,0,K21/I21) -> 10.333333 | O21: =IF(I21=0,0,L21/I21) -> 0 | P21: =IF(I21=0,0,M21/I21) -> 0 | Q21: 9 | R21: fs(BAGUE DECOLLETEE TUBE D'EAU UNO DISEL -CP2) + ds (BAGUE DECOLLETEE TUBE D'EAU UNO DISEL -CP2) | S21: =U21+T21-K21-L21-M21 -> 0 | U21: 310 | Z21: =IF(I21=0,0,(U21+T21)/I21) -> 10.333333 | AA21: =IF(OR(Q21=0,I21=0),"",Z21/Q21*100) -> 114.81481 | AE21: =IF(AA21>85," ","WARNING")
A22: E | B22: L32 | C22: =IFERROR(VLOOKUP(D22,Pieces!A:B,2,0)," ") -> 200200 | D22: EMBOUT DE TIGE | E22: 1152 | F22: 1530 | G22: 1530 | H22: 1530 | I22: =IFERROR(VLOOKUP(D22,Pieces!A:C,3,0),"Entrer la cadence") -> 60 | J22: 1 | K22: =(F22-E22)*J22 -> 378 | L22: =(G22-F22)*J22 -> 0 | M22: =(H22-G22)*J22 -> 0 | N22: =IF(I22=0,0,K22/I22) -> 6.3 | O22: =IF(I22=0,0,L22/I22) -> 0 | P22: =IF(I22=0,0,M22/I22) -> 0 | Q22: 9 | S22: =U22+T22-K22-L22-M22 -> 0 | U22: 378 | Z22: =IF(I22=0,0,(U22+T22)/I22) -> 6.3 | AA22: =IF(OR(Q22=0,I22=0),"",Z22/Q22*100) -> 70 | AE22: =IF(AA22>85," ","WARNING") -> WARNING
A23: I | B23: TSUGAMI | C23: =IFERROR(VLOOKUP(D23,Pieces!A:B,2,0)," ") -> - | D23: Arrêt | E23: 0 | F23: 0 | G23: 0 | H23: 0 | I23: =IFERROR(VLOOKUP(D23,Pieces!A:C,3,0),"Entrer la cadence") -> 1 | J23: 1 | K23: =(F23-E23)*J23 -> 0 | L23: =(G23-F23)*J23 -> 0 | M23: =(H23-G23)*J23 -> 0 | N23: =IF(I23=0,0,K23/I23) -> 0 | O23: =IF(I23=0,0,L23/I23) -> 0 | P23: =IF(I23=0,0,M23/I23) -> 0 | Q23: 9 | S23: =U23+T23-K23-L23-M23 -> 0 | U23: 0 | Z23: =IF(I23=0,0,(U23+T23)/I23) -> 0 | AA23: =IF(OR(Q23=0,I23=0),"",Z23/Q23*100) -> 0 | AE23: =IF(AA23>85," ","WARNING") -> WARNING
A24: G | B24: MORI SEIKI 3 axes | C24: =IFERROR(VLOOKUP(D24,Pieces!A:B,2,0)," ") -> I110-01-004 | D24: INSERT LEVIER SURMOULEE 345833-01 - fraisage | E24: 96 | F24: 126 | G24: 126 | H24: 126 | I24: =IFERROR(VLOOKUP(D24,Pieces!A:C,3,0),"Entrer la cadence") -> 28 | J24: 7 | K24: =(F24-E24)*J24 -> 210 | L24: =(G24-F24)*J24 -> 0 | M24: =(H24-G24)*J24 -> 0 | N24: =IF(I24=0,0,K24/I24) -> 7.5 | O24: =IF(I24=0,0,L24/I24) -> 0 | P24: =IF(I24=0,0,M24/I24) -> 0 | Q24: 9 | S24: =U24+T24-K24-L24-M24 -> 0 | U24: 210 | Z24: =IF(I24=0,0,(U24+T24)/I24) -> 7.5 | AA24: =IF(OR(Q24=0,I24=0),"",Z24/Q24*100) -> 83.333333 | AE24: =IF(AA24>85," ","WARNING") -> WARNING
A25: H | B25: MORI SEIKI 5 axes | C25: =IFERROR(VLOOKUP(D25,Pieces!A:B,2,0)," ") -> 480387 | D25: EVACUATION 2/3G X-ONE | E25: 136 | F25: 151 | G25: 151 | H25: 151 | I25: =IFERROR(VLOOKUP(D25,Pieces!A:C,3,0),"Entrer la cadence") -> 60 | J25: 20 | K25: =(F25-E25)*J25 -> 300 | L25: =(G25-F25)*J25 -> 0 | M25: =(H25-G25)*J25 -> 0 | N25: =IF(I25=0,0,K25/I25) -> 5 | O25: =IF(I25=0,0,L25/I25) -> 0 | P25: =IF(I25=0,0,M25/I25) -> 0 | Q25: 9 | S25: =U25+T25-K25-L25-M25 -> 0 | U25: 300 | Z25: =IF(I25=0,0,(U25+T25)/I25) -> 5 | AA25: =IF(OR(Q25=0,I25=0),"",Z25/Q25*100) -> 55.555556 | AE25: =IF(AA25>85," ","WARNING") -> WARNING
A26: L | B26: HARDING | C26: =IFERROR(VLOOKUP(D26,Pieces!A:B,2,0)," ") -> PIG 50 SE- harding | D26: PIGNON PLATEAU SIMPLE ETAGE D50 - contournage dents | E26: 172 | F26: 194 | G26: 194 | H26: 194 | I26: =IFERROR(VLOOKUP(D26,Pieces!A:C,3,0),"Entrer la cadence") -> 38 | J26: 51 | K26: =(F26-E26)*J26 -> 1122 | L26: =(G26-F26)*J26 -> 0 | M26: =(H26-G26)*J26 -> 0 | N26: =IF(I26=0,0,K26/I26) -> 29.526316 | O26: =IF(I26=0,0,L26/I26) -> 0 | P26: =IF(I26=0,0,M26/I26) -> 0 | Q26: 9 | R26: fs( piginon et clamping360) + ds ( piginon et claming 240) | S26: =U26+T26-K26-L26-M26 -> 0 | U26: 1122 | Z26: =IF(I26=0,0,(U26+T26)/I26) -> 29.526316 | AA26: =IF(OR(Q26=0,I26=0),"",Z26/Q26*100) -> 328.07018 | AE26: =IF(AA26>85," ","WARNING")
A27: K | B27: KITAMURA | C27: =IFERROR(VLOOKUP(D27,Pieces!A:B,2,0)," ") -> - | D27: Arrêt | E27: 0 | F27: 0 | G27: 0 | H27: 0 | I27: =IFERROR(VLOOKUP(D27,Pieces!A:C,3,0),"Entrer la cadence") -> 1 | J27: 1 | K27: =(F27-E27)*J27 -> 0 | L27: =(G27-F27)*J27 -> 0 | M27: =(H27-G27)*J27 -> 0 | N27: =IF(I27=0,0,K27/I27) -> 0 | O27: =IF(I27=0,0,L27/I27) -> 0 | P27: =IF(I27=0,0,M27/I27) -> 0 | Q27: 9 | S27: =U27+T27-K27-L27-M27 -> 0 | U27: 0 | Z27: =IF(I27=0,0,(U27+T27)/I27) -> 0 | AA27: =IF(OR(Q27=0,I27=0),"",Z27/Q27*100) -> 0 | AE27: =IF(AA27>85," ","WARNING") -> WARNING
A28: F | B28: MULTI BROCHE | C28: =IFERROR(VLOOKUP(D28,Pieces!A:B,2,0)," ") -> MPS000300 | D28: raccord HEX 17 | E28: 0 | F28: 1950 | G28: 1950 | H28: 1950 | I28: =IFERROR(VLOOKUP(D28,Pieces!A:C,3,0),"Entrer la cadence") -> 454 | J28: 1 | K28: =(F28-E28)*J28 -> 1950 | L28: =(G28-F28)*J28 -> 0 | M28: =(H28-G28)*J28 -> 0 | N28: =IF(I28=0,0,K28/I28) -> 4.2951542 | O28: =IF(I28=0,0,L28/I28) -> 0 | P28: =IF(I28=0,0,M28/I28) -> 0 | Q28: 9 | S28: =U28+T28-K28-L28-M28 -> 0 | U28: 1950 | Z28: =IF(I28=0,0,(U28+T28)/I28) -> 4.2951542 | AA28: =IF(OR(Q28=0,I28=0),"",Z28/Q28*100) -> 47.723935 | AE28: =IF(AA28>85," ","WARNING") -> WARNING
A29: J | B29: NAKAMURA | C29: =IFERROR(VLOOKUP(C28,Pieces!A:B,2,C280)," ") | D29: GOUJON DE ROUE MITSIBITCHI GM | E29: 0 | F29: 220 | G29: 220 | H29: 220 | I29: =IFERROR(VLOOKUP(D29,Pieces!A:C,3,0),"Entrer la cadence") -> 30 | J29: 1 | K29: =(F29-E29)*J29 -> 220 | L29: =(G29-F29)*J29 -> 0 | M29: =(H29-G29)*J29 -> 0 | N29: =IF(I29=0,0,K29/I29) -> 7.3333333 | O29: =IF(I29=0,0,L29/I29) -> 0 | P29: =IF(I29=0,0,M29/I29) -> 0 | Q29: 9 | S29: =U29+T29-K29-L29-M29 -> 0 | U29: 220 | Z29: =IF(I29=0,0,(U29+T29)/I29) -> 7.3333333 | AA29: =IF(OR(Q29=0,I29=0),"",Z29/Q29*100) -> 81.481481 | AE29: =IF(AA29>85," ","WARNING") -> WARNING
A30: M | B30: TOUR WEILER | C30: =IFERROR(VLOOKUP(D30,Pieces!A:B,2,0)," ") -> H001-PROD | D30: GOUJON DE ROUE HONDA PROD | E30: 1913 | F30: 1913 | G30: 1913 | H30: 1913 | I30: =IFERROR(VLOOKUP(D30,Pieces!A:C,3,0),"Entrer la cadence") -> 20 | J30: 1 | K30: =(F30-E30)*J30 -> 0 | L30: =(G30-F30)*J30 -> 0 | M30: =(H30-G30)*J30 -> 0 | N30: =IF(I30=0,0,K30/I30) -> 0 | O30: =IF(I30=0,0,L30/I30) -> 0 | P30: =IF(I30=0,0,M30/I30) -> 0 | Q30: 9 | S30: =U30+T30-K30-L30-M30 -> 0 | U30: 0 | Z30: =IF(I30=0,0,(U30+T30)/I30) -> 0 | AA30: =IF(OR(Q30=0,I30=0),"",Z30/Q30*100) -> 0 | AE30: =IF(AA30>85," ","WARNING") -> WARNING
Q31: temps d'ouverture | R31: 9
C38: Rédacteur | J38: Approbateur:
C39: Date | J39: Date:
C40: Visa | J40: Visa:

Sheet 18-01-2020
C1: Tableau de production journalière | Z1: CODE: DAS-PRO-16
Z2: DATE:30/08/2019
Z3: VERSION:07
Z4: PAGE:1
A8: SYMBOLE | B8: MACHINE | C8: REF ARTICLE | D8: DESIGNATION | E8: COMPTEUR HIER à8H | F8: COMPTEUR HIER à 13H | G8: COMPTEUR HIER à 19H | H8: COMPTEUR AUJOURD’HUI à 8h | I8: CADENCE | J8: NOMBRE DE PIECES FINIS PAR CYCLE | K8: PIECES SUIVANT COMPTEU 8h-->13h | L8: PIECES SUIVANT COMPTEUR 17H-->19H | M8: PIECES SUIVANT COMPTEUR 6h-->8h | N8: NOMBRE D'HEURES DE TRAVAIL 8h-->17h | O8: NOMBRE D'HEURES DE TRAVAIL 17H-->19H | P8: NOMBRE D'HEURES DE TRAVAIL 6h-->8h | Q8: NOMBRE D'HEURES DE TRAVAIL | R8: OBSERVATIONS | S8: Pieces manquantes | T8: PIECES NC | U8: Pieces REELLES | V8: Nombre des pieces à retoucher | W8: Cause de la non-conformité | X8: Effet de la non-conformité | Y8: Valeur de l'effet | Z8: NOMBRES D'HEURES SUIVANT LES PIECES REELLES | AA8: RENDEMENT | AB8: Fiche de contrôle qualité début de serie | AC8: Affutage | AD8: Gamme d'usingae | AE8: ALERTES
A9: A | B9: PF25 N°21 | C9: =IFERROR(VLOOKUP(D9,#REF!,2,0)," ") | K9: =(F9-E9)*J9 -> 0 | L9: =(G9-F9)*J9 -> 0 | M9: =(#REF!-H9)*J9 -> #REF! | N9: =IF(I9=0,0,K9/I9) -> 0 | O9: =IF(I9=0,0,L9/I9) -> 0 | P9: =IF(I9=0,0,M9/I9) -> 0 | Q9: 24 | Z9: =IF(I9=0,0,(#REF!+T9)/I9) -> 0 | AA9: =IF(OR(Q9=0,I9=0),"",Z9/Q9*100) | AE9: =IF(AA9>85," ","WARNING")
A10: B | B10: PF25 N°22 | C10: =IFERROR(VLOOKUP(D10,#REF!,2,0)," ") | K10: =(F10-E10)*J10 -> 0 | L10: =(G10-F10)*J10 -> 0 | M10: =(#REF!-H10)*J10 -> #REF! | N10: =IF(I10=0,0,K10/I10) -> 0 | O10: =IF(I10=0,0,L10/I10) -> 0 | P10: =IF(I10=0,0,M10/I10) -> 0 | Q10: 24 | Z10: =IF(I10=0,0,(#REF!+T10)/I10) -> 0 | AA10: =IF(OR(Q10=0,I10=0),"",Z10/Q10*100) | AE10: =IF(AA10>85," ","WARNING")
A11: C | B11: PF25 N°23 | C11: =IFERROR(VLOOKUP(D11,#REF!,2,0)," ") | K11: =(F11-E11)*J11 -> 0 | L11: =(G11-F11)*J11 -> 0 | M11: =(#REF!-H11)*J11 -> #REF! | N11: =IF(I11=0,0,K11/I11) -> 0 | O11: =IF(I11=0,0,L11/I11) -> 0 | P11: =IF(I11=0,0,M11/I11) -> 0 | Q11: 24 | Z11: =IF(I11=0,0,(#REF!+T11)/I11) -> 0 | AA11: =IF(OR(Q11=0,I11=0),"",Z11/Q11*100) | AE11: =IF(AA11>85," ","WARNING")
A12: D | B12: PF25 N°24 | C12: =IFERROR(VLOOKUP(D12,#REF!,2,0)," ") | K12: =(F12-E12)*J12 -> 0 | L12: =(G12-F12)*J12 -> 0 | M12: =(#REF!-H12)*J12 -> #REF! | N12: =IF(I12=0,0,K12/I12) -> 0 | O12: =IF(I12=0,0,L12/I12) -> 0 | P12: =IF(I12=0,0,M12/I12) -> 0 | Q12: 24 | Z12: =IF(I12=0,0,(#REF!+T12)/I12) -> 0 | AA12: =IF(OR(Q12=0,I12=0),"",Z12/Q12*100) | AE12: =IF(AA12>85," ","WARNING")
A13: E | B13: PF25 N°25 | C13: =IFERROR(VLOOKUP(D13,#REF!,2,0)," ") | K13: =(F13-E13)*J13 -> 0 | L13: =(G13-F13)*J13 -> 0 | M13: =(#REF!-H13)*J13 -> #REF! | N13: =IF(I13=0,0,K13/I13) -> 0 | O13: =IF(I13=0,0,L13/I13) -> 0 | P13: =IF(I13=0,0,M13/I13) -> 0 | Q13: 24 | Z13: =IF(I13=0,0,(#REF!+T13)/I13) -> 0 | AA13: =IF(OR(Q13=0,I13=0),"",Z13/Q13*100) | AE13: =IF(AA13>85," ","WARNING")
A14: F | B14: PF25 N°26
A15: R | B15: PF21 N°27
A16: S | B16: PF42 N°20 | C16: =IFERROR(VLOOKUP(D16,#REF!,2,0)," ") | K16: =(F16-E16)*J16 -> 0 | L16: =(G16-F16)*J16 -> 0 | M16: =(#REF!-H16)*J16 -> #REF! | N16: =IF(I16=0,0,K16/I16) -> 0 | O16: =IF(I16=0,0,L16/I16) -> 0 | P16: =IF(I16=0,0,M16/I16) -> 0 | Q16: 24 | Z16: =IF(I16=0,0,(#REF!+T16)/I16) -> 0 | AA16: =IF(OR(Q16=0,I16=0),"",Z16/Q16*100) | AE16: =IF(AA16>85," ","WARNING")
A18: A | B18: SST16 | C18: =IFERROR(VLOOKUP(D18,Pieces!A:B,2,0)," ") -> outi-plot | D18: plot nez de marche | E18: 35390 | F18: 35750 | G18: 35750 | H18: 35750 | I18: =IFERROR(VLOOKUP(D18,Pieces!A:C,3,0),"Entrer la cadence") -> 75 | J18: 1 | K18: =(F18-E18)*J18 -> 360 | L18: =(G18-F18)*J18 -> 0 | M18: =(H18-G18)*J18 -> 0 | N18: =IF(I18=0,0,K18/I18) -> 4.8 | O18: =IF(I18=0,0,L18/I18) -> 0 | P18: =IF(I18=0,0,M18/I18) -> 0 | Q18: 5 | S18: =U18+T18-K18-L18-M18 -> 0 | U18: 360 | Z18: =IF(I18=0,0,(U18+T18)/I18) -> 4.8 | AA18: =IF(OR(Q18=0,I18=0),"",Z18/Q18*100) -> 96 | AE18: =IF(AA18>85," ","WARNING")
A19: B | B19: SB16 | C19: =IFERROR(VLOOKUP(D19,Pieces!A:B,2,0)," ") -> BROCH L 180 | D19: BROCHE ACIER D13 ZINGUE L180 | E19: 443 | F19: 900 | G19: 880 | H19: 880 | I19: =IFERROR(VLOOKUP(D19,Pieces!A:C,3,0),"Entrer la cadence") -> 90 | J19: 1 | K19: =(F19-E19)*J19 -> 457 | L19: =(G19-F19)*J19 -> -20 | M19: =(H19-G19)*J19 -> 0 | N19: =IF(I19=0,0,K19/I19) -> 5.0777778 | O19: =IF(I19=0,0,L19/I19) -> -0.22222222 | P19: =IF(I19=0,0,M19/I19) -> 0 | Q19: 5 | S19: =U19+T19-K19-L19-M19 -> 0 | U19: 437 | Z19: =IF(I19=0,0,(U19+T19)/I19) -> 4.8555556 | AA19: =IF(OR(Q19=0,I19=0),"",Z19/Q19*100) -> 97.111111 | AE19: =IF(AA19>85," ","WARNING")
A20: C | B20: BIGLIA 301 SM | C20: =IFERROR(VLOOKUP(D20,Pieces!A:B,2,0)," ") -> 512520 | D20: INSERTO MANOPOLA INOX M8 | E20: 2725 | F20: 2900 | G20: 2900 | H20: 2900 | I20: =IFERROR(VLOOKUP(D20,Pieces!A:C,3,0),"Entrer la cadence") -> 50 | J20: 1 | K20: =(F20-E20)*J20 -> 175 | L20: =(G20-F20)*J20 -> 0 | M20: =(H20-G20)*J20 -> 0 | N20: =IF(I20=0,0,K20/I20) -> 3.5 | O20: =IF(I20=0,0,L20/I20) -> 0 | P20: =IF(I20=0,0,M20/I20) -> 0 | Q20: 5 | S20: =U20+T20-K20-L20-M20 -> 0 | U20: 175 | Z20: =IF(I20=0,0,(U20+T20)/I20) -> 3.5 | AA20: =IF(OR(Q20=0,I20=0),"",Z20/Q20*100) -> 70 | AE20: =IF(AA20>85," ","WARNING") -> WARNING
A21: D | B21: BIGLIA 42 S2M-bitourelle | C21: =IFERROR(VLOOKUP(D21,Pieces!A:B,2,0)," ") -> F045-CP2 | D21: BAGUE DECOLLETEE TUBE D'EAU UNO DISEL -CP2 | E21: 396 | F21: 479 | G21: 479 | H21: 479 | I21: =IFERROR(VLOOKUP(D21,Pieces!A:C,3,0),"Entrer la cadence") -> 30 | J21: 1 | K21: =(F21-E21)*J21 -> 83 | L21: =(G21-F21)*J21 -> 0 | M21: =(H21-G21)*J21 -> 0 | N21: =IF(I21=0,0,K21/I21) -> 2.7666667 | O21: =IF(I21=0,0,L21/I21) -> 0 | P21: =IF(I21=0,0,M21/I21) -> 0 | Q21: 5 | S21: =U21+T21-K21-L21-M21 -> 0 | U21: 83 | Z21: =IF(I21=0,0,(U21+T21)/I21) -> 2.7666667 | AA21: =IF(OR(Q21=0,I21=0),"",Z21/Q21*100) -> 55.333333 | AE21: =IF(AA21>85," ","WARNING") -> WARNING
A22: E | B22: L32 | C22: =IFERROR(VLOOKUP(D22,Pieces!A:B,2,0)," ") -> 200200 | D22: EMBOUT DE TIGE | E22: 942 | F22: 1152 | G22: 1152 | H22: 1152 | I22: =IFERROR(VLOOKUP(D22,Pieces!A:C,3,0),"Entrer la cadence") -> 60 | J22: 1 | K22: =(F22-E22)*J22 -> 210 | L22: =(G22-F22)*J22 -> 0 | M22: =(H22-G22)*J22 -> 0 | N22: =IF(I22=0,0,K22/I22) -> 3.5 | O22: =IF(I22=0,0,L22/I22) -> 0 | P22: =IF(I22=0,0,M22/I22) -> 0 | Q22: 5 | S22: =U22+T22-K22-L22-M22 -> 0 | U22: 210 | Z22: =IF(I22=0,0,(U22+T22)/I22) -> 3.5 | AA22: =IF(OR(Q22=0,I22=0),"",Z22/Q22*100) -> 70 | AE22: =IF(AA22>85," ","WARNING") -> WARNING
A23: I | B23: TSUGAMI | C23: =IFERROR(VLOOKUP(D23,Pieces!A:B,2,0)," ") -> - | D23: Arrêt | E23: 0 | F23: 0 | G23: 0 | H23: 0 | I23: =IFERROR(VLOOKUP(D23,Pieces!A:C,3,0),"Entrer la cadence") -> 1 | J23: 1 | K23: =(F23-E23)*J23 -> 0 | L23: =(G23-F23)*J23 -> 0 | M23: =(H23-G23)*J23 -> 0 | N23: =IF(I23=0,0,K23/I23) -> 0 | O23: =IF(I23=0,0,L23/I23) -> 0 | P23: =IF(I23=0,0,M23/I23) -> 0 | Q23: 5 | S23: =U23+T23-K23-L23-M23 -> 0 | U23: 0 | Z23: =IF(I23=0,0,(U23+T23)/I23) -> 0 | AA23: =IF(OR(Q23=0,I23=0),"",Z23/Q23*100) -> 0 | AE23: =IF(AA23>85," ","WARNING") -> WARNING
A24: G | B24: MORI SEIKI 3 axes | C24: =IFERROR(VLOOKUP(D24,Pieces!A:B,2,0)," ") -> I110-01-004 | D24: INSERT LEVIER SURMOULEE 345833-01 - fraisage | E24: 76 | F24: 96 | G24: 96 | H24: 96 | I24: =IFERROR(VLOOKUP(D24,Pieces!A:C,3,0),"Entrer la cadence") -> 28 | J24: 7 | K24: =(F24-E24)*J24 -> 140 | L24: =(G24-F24)*J24 -> 0 | M24: =(H24-G24)*J24 -> 0 | N24: =IF(I24=0,0,K24/I24) -> 5 | O24: =IF(I24=0,0,L24/I24) -> 0 | P24: =IF(I24=0,0,M24/I24) -> 0 | Q24: 5 | S24: =U24+T24-K24-L24-M24 -> 0 | U24: 140 | Z24: =IF(I24=0,0,(U24+T24)/I24) -> 5 | AA24: =IF(OR(Q24=0,I24=0),"",Z24/Q24*100) -> 100 | AE24: =IF(AA24>85," ","WARNING")
A25: H | B25: MORI SEIKI 5 axes | C25: =IFERROR(VLOOKUP(D25,Pieces!A:B,2,0)," ") -> 480387 | D25: EVACUATION 2/3G X-ONE | E25: 128 | F25: 136 | G25: 136 | H25: 136 | I25: =IFERROR(VLOOKUP(D25,Pieces!A:C,3,0),"Entrer la cadence") -> 60 | J25: 20 | K25: =(F25-E25)*J25 -> 160 | L25: =(G25-F25)*J25 -> 0 | M25: =(H25-G25)*J25 -> 0 | N25: =IF(I25=0,0,K25/I25) -> 2.6666667 | O25: =IF(I25=0,0,L25/I25) -> 0 | P25: =IF(I25=0,0,M25/I25) -> 0 | Q25: 5 | S25: =U25+T25-K25-L25-M25 -> 0 | U25: 160 | Z25: =IF(I25=0,0,(U25+T25)/I25) -> 2.6666667 | AA25: =IF(OR(Q25=0,I25=0),"",Z25/Q25*100) -> 53.333333 | AE25: =IF(AA25>85," ","WARNING") -> WARNING
A26: L | B26: HARDING | C26: =IFERROR(VLOOKUP(D26,Pieces!A:B,2,0)," ") -> PIG 50 SE- harding | D26: PIGNON PLATEAU SIMPLE ETAGE D50 - contournage dents | E26: 155 | F26: 172 | G26: 172 | H26: 172 | I26: =IFERROR(VLOOKUP(D26,Pieces!A:C,3,0),"Entrer la cadence") -> 38 | J26: 51 | K26: =(F26-E26)*J26 -> 867 | L26: =(G26-F26)*J26 -> 0 | M26: =(H26-G26)*J26 -> 0 | N26: =IF(I26=0,0,K26/I26) -> 22.815789 | O26: =IF(I26=0,0,L26/I26) -> 0 | P26: =IF(I26=0,0,M26/I26) -> 0 | Q26: 5 | S26: =U26+T26-K26-L26-M26 -> 0 | U26: 867 | Z26: =IF(I26=0,0,(U26+T26)/I26) -> 22.815789 | AA26: =IF(OR(Q26=0,I26=0),"",Z26/Q26*100) -> 456.31579 | AE26: =IF(AA26>85," ","WARNING")
A27: K | B27: KITAMURA | C27: =IFERROR(VLOOKUP(D27,Pieces!A:B,2,0)," ") -> - | D27: Arrêt | E27: 0 | F27: 0 | G27: 0 | H27: 0 | I27: =IFERROR(VLOOKUP(D27,Pieces!A:C,3,0),"Entrer la cadence") -> 1 | J27: 1 | K27: =(F27-E27)*J27 -> 0 | L27: =(G27-F27)*J27 -> 0 | M27: =(H27-G27)*J27 -> 0 | N27: =IF(I27=0,0,K27/I27) -> 0 | O27: =IF(I27=0,0,L27/I27) -> 0 | P27: =IF(I27=0,0,M27/I27) -> 0 | Q27: 5 | S27: =U27+T27-K27-L27-M27 -> 0 | U27: 0 | Z27: =IF(I27=0,0,(U27+T27)/I27) -> 0 | AA27: =IF(OR(Q27=0,I27=0),"",Z27/Q27*100) -> 0 | AE27: =IF(AA27>85," ","WARNING") -> WARNING
A28: F | B28: MULTI BROCHE | C28: =IFERROR(VLOOKUP(D28,Pieces!A:B,2,0)," ") -> MPS000300 | D28: raccord HEX 17 | E28: 180840 | F28: 180840 | G28: 180840 | H28: 180840 | I28: =IFERROR(VLOOKUP(D28,Pieces!A:C,3,0),"Entrer la cadence") -> 454 | J28: 1 | K28: =(F28-E28)*J28 -> 0 | L28: =(G28-F28)*J28 -> 0 | M28: =(H28-G28)*J28 -> 0 | N28: =IF(I28=0,0,K28/I28) -> 0 | O28: =IF(I28=0,0,L28/I28) -> 0 | P28: =IF(I28=0,0,M28/I28) -> 0 | Q28: 5 | S28: =U28+T28-K28-L28-M28 -> 0 | U28: 0 | Z28: =IF(I28=0,0,(U28+T28)/I28) -> 0 | AA28: =IF(OR(Q28=0,I28=0),"",Z28/Q28*100) -> 0 | AE28: =IF(AA28>85," ","WARNING") -> WARNING
A29: J | B29: NAKAMURA | C29: =IFERROR(VLOOKUP(C28,Pieces!A:B,2,C280)," ") | D29: GOUJON DE ROUE MITSIBITCHI GM | E29: 0 | G29: 0 | H29: 0 | I29: =IFERROR(VLOOKUP(D29,Pieces!A:C,3,0),"Entrer la cadence") -> 30 | J29: 1 | K29: =(F29-E29)*J29 -> 0 | L29: =(G29-F29)*J29 -> 0 | M29: =(H29-G29)*J29 -> 0 | N29: =IF(I29=0,0,K29/I29) -> 0 | O29: =IF(I29=0,0,L29/I29) -> 0 | P29: =IF(I29=0,0,M29/I29) -> 0 | Q29: 5 | S29: =U29+T29-K29-L29-M29 -> 0 | U29: 0 | Z29: =IF(I29=0,0,(U29+T29)/I29) -> 0 | AA29: =IF(OR(Q29=0,I29=0),"",Z29/Q29*100) -> 0 | AE29: =IF(AA29>85," ","WARNING") -> WARNING
A30: M | B30: TOUR WEILER | C30: =IFERROR(VLOOKUP(D30,Pieces!A:B,2,0)," ") -> H001-PROD | D30: GOUJON DE ROUE HONDA PROD | E30: 1913 | F30: 1913 | G30: 1913 | H30: 1913 | I30: =IFERROR(VLOOKUP(D30,Pieces!A:C,3,0),"Entrer la cadence") -> 20 | J30: 1 | K30: =(F30-E30)*J30 -> 0 | L30: =(G30-F30)*J30 -> 0 | M30: =(H30-G30)*J30 -> 0 | N30: =IF(I30=0,0,K30/I30) -> 0 | O30: =IF(I30=0,0,L30/I30) -> 0 | P30: =IF(I30=0,0,M30/I30) -> 0 | Q30: 5 | S30: =U30+T30-K30-L30-M30 -> 0 | U30: 0 | Z30: =IF(I30=0,0,(U30+T30)/I30) -> 0 | AA30: =IF(OR(Q30=0,I30=0),"",Z30/Q30*100) -> 0 | AE30: =IF(AA30>85," ","WARNING") -> WARNING
Q31: temps d'ouverture | R31: 5
C38: Rédacteur | J38: Approbateur:
C39: Date | J39: Date:
C40: Visa | J40: Visa:

Sheet 17-01-2020
C1: Tableau de production journalière | Z1: CODE: DAS-PRO-16
Z2: DATE:30/08/2019
Z3: VERSION:07
Z4: PAGE:1
A8: SYMBOLE | B8: MACHINE | C8: REF ARTICLE | D8: DESIGNATION | E8: COMPTEUR HIER à8H | F8: COMPTEUR HIER à 17H | G8: COMPTEUR HIER à 19H | H8: COMPTEUR AUJOURD’HUI à 8h | I8: CADENCE | J8: NOMBRE DE PIECES FINIS PAR CYCLE | K8: PIECES SUIVANT COMPTEU 8h-->17h | L8: PIECES SUIVANT COMPTEUR 17H-->19H | M8: PIECES SUIVANT COMPTEUR 6h-->8h | N8: NOMBRE D'HEURES DE TRAVAIL 8h-->17h | O8: NOMBRE D'HEURES DE TRAVAIL 17H-->19H | P8: NOMBRE D'HEURES DE TRAVAIL 6h-->8h | Q8: NOMBRE D'HEURES DE TRAVAIL | R8: OBSERVATIONS | S8: Pieces manquantes | T8: PIECES NC | U8: Pieces REELLES | V8: Nombre des pieces à retoucher | W8: Cause de la non-conformité | X8: Effet de la non-conformité | Y8: Valeur de l'effet | Z8: NOMBRES D'HEURES SUIVANT LES PIECES REELLES | AA8: RENDEMENT | AB8: Fiche de contrôle qualité début de serie | AC8: Affutage | AD8: Gamme d'usingae | AE8: ALERTES
A9: A | B9: PF25 N°21 | C9: =IFERROR(VLOOKUP(D9,#REF!,2,0)," ") | K9: =(F9-E9)*J9 -> 0 | L9: =(G9-F9)*J9 -> 0 | M9: =(#REF!-H9)*J9 -> #REF! | N9: =IF(I9=0,0,K9/I9) -> 0 | O9: =IF(I9=0,0,L9/I9) -> 0 | P9: =IF(I9=0,0,M9/I9) -> 0 | Q9: 24 | Z9: =IF(I9=0,0,(#REF!+T9)/I9) -> 0 | AA9: =IF(OR(Q9=0,I9=0),"",Z9/Q9*100) | AE9: =IF(AA9>85," ","WARNING")
A10: B | B10: PF25 N°22 | C10: =IFERROR(VLOOKUP(D10,#REF!,2,0)," ") | K10: =(F10-E10)*J10 -> 0 | L10: =(G10-F10)*J10 -> 0 | M10: =(#REF!-H10)*J10 -> #REF! | N10: =IF(I10=0,0,K10/I10) -> 0 | O10: =IF(I10=0,0,L10/I10) -> 0 | P10: =IF(I10=0,0,M10/I10) -> 0 | Q10: 24 | Z10: =IF(I10=0,0,(#REF!+T10)/I10) -> 0 | AA10: =IF(OR(Q10=0,I10=0),"",Z10/Q10*100) | AE10: =IF(AA10>85," ","WARNING")
A11: C | B11: PF25 N°23 | C11: =IFERROR(VLOOKUP(D11,#REF!,2,0)," ") | K11: =(F11-E11)*J11 -> 0 | L11: =(G11-F11)*J11 -> 0 | M11: =(#REF!-H11)*J11 -> #REF! | N11: =IF(I11=0,0,K11/I11) -> 0 | O11: =IF(I11=0,0,L11/I11) -> 0 | P11: =IF(I11=0,0,M11/I11) -> 0 | Q11: 24 | Z11: =IF(I11=0,0,(#REF!+T11)/I11) -> 0 | AA11: =IF(OR(Q11=0,I11=0),"",Z11/Q11*100) | AE11: =IF(AA11>85," ","WARNING")
A12: D | B12: PF25 N°24 | C12: =IFERROR(VLOOKUP(D12,#REF!,2,0)," ") | K12: =(F12-E12)*J12 -> 0 | L12: =(G12-F12)*J12 -> 0 | M12: =(#REF!-H12)*J12 -> #REF! | N12: =IF(I12=0,0,K12/I12) -> 0 | O12: =IF(I12=0,0,L12/I12) -> 0 | P12: =IF(I12=0,0,M12/I12) -> 0 | Q12: 24 | Z12: =IF(I12=0,0,(#REF!+T12)/I12) -> 0 | AA12: =IF(OR(Q12=0,I12=0),"",Z12/Q12*100) | AE12: =IF(AA12>85," ","WARNING")
A13: E | B13: PF25 N°25 | C13: =IFERROR(VLOOKUP(D13,#REF!,2,0)," ") | K13: =(F13-E13)*J13 -> 0 | L13: =(G13-F13)*J13 -> 0 | M13: =(#REF!-H13)*J13 -> #REF! | N13: =IF(I13=0,0,K13/I13) -> 0 | O13: =IF(I13=0,0,L13/I13) -> 0 | P13: =IF(I13=0,0,M13/I13) -> 0 | Q13: 24 | Z13: =IF(I13=0,0,(#REF!+T13)/I13) -> 0 | AA13: =IF(OR(Q13=0,I13=0),"",Z13/Q13*100) | AE13: =IF(AA13>85," ","WARNING")
A14: F | B14: PF25 N°26
A15: R | B15: PF21 N°27
A16: S | B16: PF42 N°20 | C16: =IFERROR(VLOOKUP(D16,#REF!,2,0)," ") | K16: =(F16-E16)*J16 -> 0 | L16: =(G16-F16)*J16 -> 0 | M16: =(#REF!-H16)*J16 -> #REF! | N16: =IF(I16=0,0,K16/I16) -> 0 | O16: =IF(I16=0,0,L16/I16) -> 0 | P16: =IF(I16=0,0,M16/I16) -> 0 | Q16: 24 | Z16: =IF(I16=0,0,(#REF!+T16)/I16) -> 0 | AA16: =IF(OR(Q16=0,I16=0),"",Z16/Q16*100) | AE16: =IF(AA16>85," ","WARNING")
A18: A | B18: SST16 | C18: =IFERROR(VLOOKUP(D18,Pieces!A:B,2,0)," ") -> outi-plot | D18: plot nez de marche | E18: 34740 | F18: 35390 | G18: 35390 | H18: 35390 | I18: =IFERROR(VLOOKUP(D18,Pieces!A:C,3,0),"Entrer la cadence") -> 75 | J18: 1 | K18: =(F18-E18)*J18 -> 650 | L18: =(G18-F18)*J18 -> 0 | M18: =(H18-G18)*J18 -> 0 | N18: =IF(I18=0,0,K18/I18) -> 8.6666667 | O18: =IF(I18=0,0,L18/I18) -> 0 | P18: =IF(I18=0,0,M18/I18) -> 0 | Q18: 9 | S18: =U18+T18-K18-L18-M18 -> 0 | U18: 650 | Z18: =IF(I18=0,0,(U18+T18)/I18) -> 8.6666667 | AA18: =IF(OR(Q18=0,I18=0),"",Z18/Q18*100) -> 96.296296 | AE18: =IF(AA18>85," ","WARNING")
A19: B | B19: SB16 | C19: =IFERROR(VLOOKUP(D19,Pieces!A:B,2,0)," ") -> BROCH L 180 | D19: BROCHE ACIER D13 ZINGUE L180 | E19: 0 | F19: 443 | G19: 443 | H19: 443 | I19: =IFERROR(VLOOKUP(D19,Pieces!A:C,3,0),"Entrer la cadence") -> 90 | J19: 1 | K19: =(F19-E19)*J19 -> 443 | L19: =(G19-F19)*J19 -> 0 | M19: =(H19-G19)*J19 -> 0 | N19: =IF(I19=0,0,K19/I19) -> 4.9222222 | O19: =IF(I19=0,0,L19/I19) -> 0 | P19: =IF(I19=0,0,M19/I19) -> 0 | Q19: 9 | R19: R+ DS | S19: =U19+T19-K19-L19-M19 -> 0 | U19: 443 | Z19: =IF(I19=0,0,(U19+T19)/I19) -> 4.9222222 | AA19: =IF(OR(Q19=0,I19=0),"",Z19/Q19*100) -> 54.691358 | AE19: =IF(AA19>85," ","WARNING") -> WARNING
A20: C | B20: BIGLIA 301 SM | C20: =IFERROR(VLOOKUP(D20,Pieces!A:B,2,0)," ") -> 512520 | D20: INSERTO MANOPOLA INOX M8 | E20: 2416 | F20: 2725 | G20: 2725 | H20: 2725 | I20: =IFERROR(VLOOKUP(D20,Pieces!A:C,3,0),"Entrer la cadence") -> 50 | J20: 1 | K20: =(F20-E20)*J20 -> 309 | L20: =(G20-F20)*J20 -> 0 | M20: =(H20-G20)*J20 -> 0 | N20: =IF(I20=0,0,K20/I20) -> 6.18 | O20: =IF(I20=0,0,L20/I20) -> 0 | P20: =IF(I20=0,0,M20/I20) -> 0 | Q20: 9 | S20: =U20+T20-K20-L20-M20 -> 0 | U20: 309 | Z20: =IF(I20=0,0,(U20+T20)/I20) -> 6.18 | AA20: =IF(OR(Q20=0,I20=0),"",Z20/Q20*100) -> 68.666667 | AE20: =IF(AA20>85," ","WARNING") -> WARNING
A21: D | B21: BIGLIA 42 S2M-bitourelle | C21: =IFERROR(VLOOKUP(D21,Pieces!A:B,2,0)," ") -> F045-CP2 | D21: BAGUE DECOLLETEE TUBE D'EAU UNO DISEL -CP2 | E21: 176 | F21: 396 | G21: 396 | H21: 396 | I21: =IFERROR(VLOOKUP(D21,Pieces!A:C,3,0),"Entrer la cadence") -> 30 | J21: 1 | K21: =(F21-E21)*J21 -> 220 | L21: =(G21-F21)*J21 -> 0 | M21: =(H21-G21)*J21 -> 0 | N21: =IF(I21=0,0,K21/I21) -> 7.3333333 | O21: =IF(I21=0,0,L21/I21) -> 0 | P21: =IF(I21=0,0,M21/I21) -> 0 | Q21: 9 | S21: =U21+T21-K21-L21-M21 -> 0 | U21: 220 | Z21: =IF(I21=0,0,(U21+T21)/I21) -> 7.3333333 | AA21: =IF(OR(Q21=0,I21=0),"",Z21/Q21*100) -> 81.481481 | AE21: =IF(AA21>85," ","WARNING") -> WARNING
A22: E | B22: L32 | C22: =IFERROR(VLOOKUP(D22,Pieces!A:B,2,0)," ") -> 200200 | D22: EMBOUT DE TIGE | E22: 610 | F22: 942 | G22: 942 | H22: 942 | I22: =IFERROR(VLOOKUP(D22,Pieces!A:C,3,0),"Entrer la cadence") -> 60 | J22: 1 | K22: =(F22-E22)*J22 -> 332 | L22: =(G22-F22)*J22 -> 0 | M22: =(H22-G22)*J22 -> 0 | N22: =IF(I22=0,0,K22/I22) -> 5.5333333 | O22: =IF(I22=0,0,L22/I22) -> 0 | P22: =IF(I22=0,0,M22/I22) -> 0 | Q22: 9 | S22: =U22+T22-K22-L22-M22 -> 0 | U22: 332 | Z22: =IF(I22=0,0,(U22+T22)/I22) -> 5.5333333 | AA22: =IF(OR(Q22=0,I22=0),"",Z22/Q22*100) -> 61.481481 | AE22: =IF(AA22>85," ","WARNING") -> WARNING
A23: I | B23: TSUGAMI | C23: =IFERROR(VLOOKUP(D23,Pieces!A:B,2,0)," ") -> - | D23: Arrêt | E23: 0 | F23: 0 | G23: 0 | H23: 0 | I23: =IFERROR(VLOOKUP(D23,Pieces!A:C,3,0),"Entrer la cadence") -> 1 | J23: 1 | K23: =(F23-E23)*J23 -> 0 | L23: =(G23-F23)*J23 -> 0 | M23: =(H23-G23)*J23 -> 0 | N23: =IF(I23=0,0,K23/I23) -> 0 | O23: =IF(I23=0,0,L23/I23) -> 0 | P23: =IF(I23=0,0,M23/I23) -> 0 | Q23: 9 | S23: =U23+T23-K23-L23-M23 -> 0 | U23: 0 | Z23: =IF(I23=0,0,(U23+T23)/I23) -> 0 | AA23: =IF(OR(Q23=0,I23=0),"",Z23/Q23*100) -> 0 | AE23: =IF(AA23>85," ","WARNING") -> WARNING
A24: G | B24: MORI SEIKI 3 axes | C24: =IFERROR(VLOOKUP(D24,Pieces!A:B,2,0)," ") -> I110-01-004 | D24: INSERT LEVIER SURMOULEE 345833-01 - fraisage | E24: 47 | F24: 76 | G24: 76 | H24: 76 | I24: =IFERROR(VLOOKUP(D24,Pieces!A:C,3,0),"Entrer la cadence") -> 28 | J24: 7 | K24: =(F24-E24)*J24 -> 203 | L24: =(G24-F24)*J24 -> 0 | M24: =(H24-G24)*J24 -> 0 | N24: =IF(I24=0,0,K24/I24) -> 7.25 | O24: =IF(I24=0,0,L24/I24) -> 0 | P24: =IF(I24=0,0,M24/I24) -> 0 | Q24: 9 | S24: =U24+T24-K24-L24-M24 -> 0 | U24: 203 | Z24: =IF(I24=0,0,(U24+T24)/I24) -> 7.25 | AA24: =IF(OR(Q24=0,I24=0),"",Z24/Q24*100) -> 80.555556 | AE24: =IF(AA24>85," ","WARNING") -> WARNING
A25: H | B25: MORI SEIKI 5 axes | C25: =IFERROR(VLOOKUP(D25,Pieces!A:B,2,0)," ") -> 480387 | D25: EVACUATION 2/3G X-ONE | E25: 80 | F25: 128 | G25: 128 | H25: 128 | I25: =IFERROR(VLOOKUP(D25,Pieces!A:C,3,0),"Entrer la cadence") -> 60 | J25: 20 | K25: =(F25-E25)*J25 -> 960 | L25: =(G25-F25)*J25 -> 0 | M25: =(H25-G25)*J25 -> 0 | N25: =IF(I25=0,0,K25/I25) -> 16 | O25: =IF(I25=0,0,L25/I25) -> 0 | P25: =IF(I25=0,0,M25/I25) -> 0 | Q25: 9 | S25: =U25+T25-K25-L25-M25 -> 0 | U25: 960 | Z25: =IF(I25=0,0,(U25+T25)/I25) -> 16 | AA25: =IF(OR(Q25=0,I25=0),"",Z25/Q25*100) -> 177.77778 | AE25: =IF(AA25>85," ","WARNING")
A26: L | B26: HARDING | C26: =IFERROR(VLOOKUP(D26,Pieces!A:B,2,0)," ") -> PIG 50 SE- harding | D26: PIGNON PLATEAU SIMPLE ETAGE D50 - contournage dents | E26: 129 | F26: 155 | G26: 155 | H26: 155 | I26: =IFERROR(VLOOKUP(D26,Pieces!A:C,3,0),"Entrer la cadence") -> 38 | J26: 51 | K26: =(F26-E26)*J26 -> 1326 | L26: =(G26-F26)*J26 -> 0 | M26: =(H26-G26)*J26 -> 0 | N26: =IF(I26=0,0,K26/I26) -> 34.894737 | O26: =IF(I26=0,0,L26/I26) -> 0 | P26: =IF(I26=0,0,M26/I26) -> 0 | Q26: 9 | S26: =U26+T26-K26-L26-M26 -> 0 | U26: 1326 | Z26: =IF(I26=0,0,(U26+T26)/I26) -> 34.894737 | AA26: =IF(OR(Q26=0,I26=0),"",Z26/Q26*100) -> 387.7193 | AE26: =IF(AA26>85," ","WARNING")
A27: K | B27: KITAMURA | C27: =IFERROR(VLOOKUP(D27,Pieces!A:B,2,0)," ") -> - | D27: Arrêt | E27: 0 | F27: 0 | G27: 0 | H27: 0 | I27: =IFERROR(VLOOKUP(D27,Pieces!A:C,3,0),"Entrer la cadence") -> 1 | J27: 1 | K27: =(F27-E27)*J27 -> 0 | L27: =(G27-F27)*J27 -> 0 | M27: =(H27-G27)*J27 -> 0 | N27: =IF(I27=0,0,K27/I27) -> 0 | O27: =IF(I27=0,0,L27/I27) -> 0 | P27: =IF(I27=0,0,M27/I27) -> 0 | Q27: 9 | S27: =U27+T27-K27-L27-M27 -> 0 | U27: 0 | Z27: =IF(I27=0,0,(U27+T27)/I27) -> 0 | AA27: =IF(OR(Q27=0,I27=0),"",Z27/Q27*100) -> 0 | AE27: =IF(AA27>85," ","WARNING") -> WARNING
A28: F | B28: MULTI BROCHE | C28: =IFERROR(VLOOKUP(D28,Pieces!A:B,2,0)," ") -> MPS000300 | D28: raccord HEX 17 | E28: 180777 | F28: 180840 | G28: 180840 | H28: 180840 | I28: =IFERROR(VLOOKUP(D28,Pieces!A:C,3,0),"Entrer la cadence") -> 454 | J28: 1 | K28: =(F28-E28)*J28 -> 63 | L28: =(G28-F28)*J28 -> 0 | M28: =(H28-G28)*J28 -> 0 | N28: =IF(I28=0,0,K28/I28) -> 0.13876652 | O28: =IF(I28=0,0,L28/I28) -> 0 | P28: =IF(I28=0,0,M28/I28) -> 0 | Q28: 9 | S28: =U28+T28-K28-L28-M28 -> 0 | U28: 63 | Z28: =IF(I28=0,0,(U28+T28)/I28) -> 0.13876652 | AA28: =IF(OR(Q28=0,I28=0),"",Z28/Q28*100) -> 1.5418502 | AE28: =IF(AA28>85," ","WARNING") -> WARNING
A29: J | B29: NAKAMURA | C29: =IFERROR(VLOOKUP(D29,Pieces!A:B,2,0)," ") -> MI018 | D29: GOUJON DE ROUE MITSIBITCHI GM | E29: 0 | F29: 0 | G29: 0 | H29: 0 | I29: =IFERROR(VLOOKUP(D29,Pieces!A:C,3,0),"Entrer la cadence") -> 30 | J29: 1 | K29: =(F29-E29)*J29 -> 0 | L29: =(G29-F29)*J29 -> 0 | M29: =(H29-G29)*J29 -> 0 | N29: =IF(I29=0,0,K29/I29) -> 0 | O29: =IF(I29=0,0,L29/I29) -> 0 | P29: =IF(I29=0,0,M29/I29) -> 0 | Q29: 9 | S29: =U29+T29-K29-L29-M29 -> 0 | U29: 0 | Z29: =IF(I29=0,0,(U29+T29)/I29) -> 0 | AA29: =IF(OR(Q29=0,I29=0),"",Z29/Q29*100) -> 0 | AE29: =IF(AA29>85," ","WARNING") -> WARNING
A30: M | B30: TOUR WEILER | C30: =IFERROR(VLOOKUP(D30,Pieces!A:B,2,0)," ") -> H001-PROD | D30: GOUJON DE ROUE HONDA PROD | E30: 1913 | F30: 1913 | G30: 1913 | H30: 1913 | I30: =IFERROR(VLOOKUP(D30,Pieces!A:C,3,0),"Entrer la cadence") -> 20 | J30: 1 | K30: =(F30-E30)*J30 -> 0 | L30: =(G30-F30)*J30 -> 0 | M30: =(H30-G30)*J30 -> 0 | N30: =IF(I30=0,0,K30/I30) -> 0 | O30: =IF(I30=0,0,L30/I30) -> 0 | P30: =IF(I30=0,0,M30/I30) -> 0 | Q30: 9 | R30: EN PANNE | S30: =U30+T30-K30-L30-M30 -> 0 | U30: 0 | Z30: =IF(I30=0,0,(U30+T30)/I30) -> 0 | AA30: =IF(OR(Q30=0,I30=0),"",Z30/Q30*100) -> 0 | AE30: =IF(AA30>85," ","WARNING") -> WARNING
Q31: temps d'ouverture | R31: 9
C38: Rédacteur | J38: Approbateur:
C39: Date | J39: Date:
C40: Visa | J40: Visa:

Sheet 16-01-2020
C1: Tableau de production journalière | Z1: CODE: DAS-PRO-16
Z2: DATE:30/08/2019
Z3: VERSION:07
Z4: PAGE:1
A8: SYMBOLE | B8: MACHINE | C8: REF ARTICLE | D8: DESIGNATION | E8: COMPTEUR HIER à8H | F8: COMPTEUR HIER à 17H | G8: COMPTEUR HIER à 19H | H8: COMPTEUR AUJOURD’HUI à 8h | I8: CADENCE | J8: NOMBRE DE PIECES FINIS PAR CYCLE | K8: PIECES SUIVANT COMPTEU 8h-->17h | L8: PIECES SUIVANT COMPTEUR 17H-->19H | M8: PIECES SUIVANT COMPTEUR 6h-->8h | N8: NOMBRE D'HEURES DE TRAVAIL 8h-->17h | O8: NOMBRE D'HEURES DE TRAVAIL 17H-->19H | P8: NOMBRE D'HEURES DE TRAVAIL 6h-->8h | Q8: NOMBRE D'HEURES DE TRAVAIL | R8: OBSERVATIONS | S8: Pieces manquantes | T8: PIECES NC | U8: Pieces REELLES | V8: Nombre des pieces à retoucher | W8: Cause de la non-conformité | X8: Effet de la non-conformité | Y8: Valeur de l'effet | Z8: NOMBRES D'HEURES SUIVANT LES PIECES REELLES | AA8: RENDEMENT | AB8: Fiche de contrôle qualité début de serie | AC8: Affutage | AD8: Gamme d'usingae | AE8: ALERTES
A9: A | B9: PF25 N°21 | C9: =IFERROR(VLOOKUP(D9,#REF!,2,0)," ") | K9: =(F9-E9)*J9 -> 0 | L9: =(G9-F9)*J9 -> 0 | M9: =(#REF!-H9)*J9 -> #REF! | N9: =IF(I9=0,0,K9/I9) -> 0 | O9: =IF(I9=0,0,L9/I9) -> 0 | P9: =IF(I9=0,0,M9/I9) -> 0 | Q9: 24 | Z9: =IF(I9=0,0,(#REF!+T9)/I9) -> 0 | AA9: =IF(OR(Q9=0,I9=0),"",Z9/Q9*100) | AE9: =IF(AA9>85," ","WARNING")
A10: B | B10: PF25 N°22 | C10: =IFERROR(VLOOKUP(D10,#REF!,2,0)," ") | K10: =(F10-E10)*J10 -> 0 | L10: =(G10-F10)*J10 -> 0 | M10: =(#REF!-H10)*J10 -> #REF! | N10: =IF(I10=0,0,K10/I10) -> 0 | O10: =IF(I10=0,0,L10/I10) -> 0 | P10: =IF(I10=0,0,M10/I10) -> 0 | Q10: 24 | Z10: =IF(I10=0,0,(#REF!+T10)/I10) -> 0 | AA10: =IF(OR(Q10=0,I10=0),"",Z10/Q10*100) | AE10: =IF(AA10>85," ","WARNING")
A11: C | B11: PF25 N°23 | C11: =IFERROR(VLOOKUP(D11,#REF!,2,0)," ") | K11: =(F11-E11)*J11 -> 0 | L11: =(G11-F11)*J11 -> 0 | M11: =(#REF!-H11)*J11 -> #REF! | N11: =IF(I11=0,0,K11/I11) -> 0 | O11: =IF(I11=0,0,L11/I11) -> 0 | P11: =IF(I11=0,0,M11/I11) -> 0 | Q11: 24 | Z11: =IF(I11=0,0,(#REF!+T11)/I11) -> 0 | AA11: =IF(OR(Q11=0,I11=0),"",Z11/Q11*100) | AE11: =IF(AA11>85," ","WARNING")
A12: D | B12: PF25 N°24 | C12: =IFERROR(VLOOKUP(D12,#REF!,2,0)," ") | K12: =(F12-E12)*J12 -> 0 | L12: =(G12-F12)*J12 -> 0 | M12: =(#REF!-H12)*J12 -> #REF! | N12: =IF(I12=0,0,K12/I12) -> 0 | O12: =IF(I12=0,0,L12/I12) -> 0 | P12: =IF(I12=0,0,M12/I12) -> 0 | Q12: 24 | Z12: =IF(I12=0,0,(#REF!+T12)/I12) -> 0 | AA12: =IF(OR(Q12=0,I12=0),"",Z12/Q12*100) | AE12: =IF(AA12>85," ","WARNING")
A13: E | B13: PF25 N°25 | C13: =IFERROR(VLOOKUP(D13,#REF!,2,0)," ") | K13: =(F13-E13)*J13 -> 0 | L13: =(G13-F13)*J13 -> 0 | M13: =(#REF!-H13)*J13 -> #REF! | N13: =IF(I13=0,0,K13/I13) -> 0 | O13: =IF(I13=0,0,L13/I13) -> 0 | P13: =IF(I13=0,0,M13/I13) -> 0 | Q13: 24 | Z13: =IF(I13=0,0,(#REF!+T13)/I13) -> 0 | AA13: =IF(OR(Q13=0,I13=0),"",Z13/Q13*100) | AE13: =IF(AA13>85," ","WARNING")
A14: F | B14: PF25 N°26
A15: R | B15: PF21 N°27
A16: S | B16: PF42 N°20 | C16: =IFERROR(VLOOKUP(D16,#REF!,2,0)," ") | K16: =(F16-E16)*J16 -> 0 | L16: =(G16-F16)*J16 -> 0 | M16: =(#REF!-H16)*J16 -> #REF! | N16: =IF(I16=0,0,K16/I16) -> 0 | O16: =IF(I16=0,0,L16/I16) -> 0 | P16: =IF(I16=0,0,M16/I16) -> 0 | Q16: 24 | Z16: =IF(I16=0,0,(#REF!+T16)/I16) -> 0 | AA16: =IF(OR(Q16=0,I16=0),"",Z16/Q16*100) | AE16: =IF(AA16>85," ","WARNING")
A18: A | B18: SST16 | C18: =IFERROR(VLOOKUP(D18,Pieces!A:B,2,0)," ") -> outi-plot | D18: plot nez de marche | E18: 34052 | F18: 34740 | G18: 34740 | H18: 34740 | I18: =IFERROR(VLOOKUP(D18,Pieces!A:C,3,0),"Entrer la cadence") -> 75 | J18: 1 | K18: =(F18-E18)*J18 -> 688 | L18: =(G18-F18)*J18 -> 0 | M18: =(H18-G18)*J18 -> 0 | N18: =IF(I18=0,0,K18/I18) -> 9.1733333 | O18: =IF(I18=0,0,L18/I18) -> 0 | P18: =IF(I18=0,0,M18/I18) -> 0 | Q18: 9 | S18: =U18+T18-K18-L18-M18 -> 0 | U18: 688 | Z18: =IF(I18=0,0,(U18+T18)/I18) -> 9.1733333 | AA18: =IF(OR(Q18=0,I18=0),"",Z18/Q18*100) -> 101.92593 | AE18: =IF(AA18>85," ","WARNING")
A19: B | B19: SB16 | C19: =IFERROR(VLOOKUP(D19,Pieces!A:B,2,0)," ") -> - | D19: Arrêt | E19: 0 | F19: 0 | G19: 0 | H19: 0 | I19: =IFERROR(VLOOKUP(D19,Pieces!A:C,3,0),"Entrer la cadence") -> 1 | J19: 1 | K19: =(F19-E19)*J19 -> 0 | L19: =(G19-F19)*J19 -> 0 | M19: =(H19-G19)*J19 -> 0 | N19: =IF(I19=0,0,K19/I19) -> 0 | O19: =IF(I19=0,0,L19/I19) -> 0 | P19: =IF(I19=0,0,M19/I19) -> 0 | Q19: 9 | S19: =U19+T19-K19-L19-M19 -> 0 | U19: 0 | Z19: =IF(I19=0,0,(U19+T19)/I19) -> 0 | AA19: =IF(OR(Q19=0,I19=0),"",Z19/Q19*100) -> 0 | AE19: =IF(AA19>85," ","WARNING") -> WARNING
A20: C | B20: BIGLIA 301 SM | C20: =IFERROR(VLOOKUP(D20,Pieces!A:B,2,0)," ") -> 512520 | D20: INSERTO MANOPOLA INOX M8 | E20: 2095 | F20: 2416 | G20: 2416 | H20: 2416 | I20: =IFERROR(VLOOKUP(D20,Pieces!A:C,3,0),"Entrer la cadence") -> 50 | J20: 1 | K20: =(F20-E20)*J20 -> 321 | L20: =(G20-F20)*J20 -> 0 | M20: =(H20-G20)*J20 -> 0 | N20: =IF(I20=0,0,K20/I20) -> 6.42 | O20: =IF(I20=0,0,L20/I20) -> 0 | P20: =IF(I20=0,0,M20/I20) -> 0 | Q20: 9 | S20: =U20+T20-K20-L20-M20 -> 0 | U20: 321 | Z20: =IF(I20=0,0,(U20+T20)/I20) -> 6.42 | AA20: =IF(OR(Q20=0,I20=0),"",Z20/Q20*100) -> 71.333333 | AE20: =IF(AA20>85," ","WARNING") -> WARNING
A21: D | B21: BIGLIA 42 S2M-bitourelle | C21: =IFERROR(VLOOKUP(D21,Pieces!A:B,2,0)," ") -> F046-CP2 | D21: BAGUE DECOLLETEE TUBE D'EAU PALIO -CP2 | E21: 0 | F21: 176 | G21: 176 | H21: 176 | I21: =IFERROR(VLOOKUP(D21,Pieces!A:C,3,0),"Entrer la cadence") -> 30 | J21: 1 | K21: =(F21-E21)*J21 -> 176 | L21: =(G21-F21)*J21 -> 0 | M21: =(H21-G21)*J21 -> 0 | N21: =IF(I21=0,0,K21/I21) -> 5.8666667 | O21: =IF(I21=0,0,L21/I21) -> 0 | P21: =IF(I21=0,0,M21/I21) -> 0 | Q21: 9 | R21: FS 5F045-CP2° + DS 5F046-CP2) | S21: =U21+T21-K21-L21-M21 -> 0 | U21: 176 | Z21: =IF(I21=0,0,(U21+T21)/I21) -> 5.8666667 | AA21: =IF(OR(Q21=0,I21=0),"",Z21/Q21*100) -> 65.185185 | AE21: =IF(AA21>85," ","WARNING") -> WARNING
A22: E | B22: L32 | C22: =IFERROR(VLOOKUP(D22,Pieces!A:B,2,0)," ") -> 200200 | D22: EMBOUT DE TIGE | E22: 303 | F22: 610 | G22: 610 | H22: 610 | I22: =IFERROR(VLOOKUP(D22,Pieces!A:C,3,0),"Entrer la cadence") -> 60 | J22: 1 | K22: =(F22-E22)*J22 -> 307 | L22: =(G22-F22)*J22 -> 0 | M22: =(H22-G22)*J22 -> 0 | N22: =IF(I22=0,0,K22/I22) -> 5.1166667 | O22: =IF(I22=0,0,L22/I22) -> 0 | P22: =IF(I22=0,0,M22/I22) -> 0 | Q22: 9 | R22: fs (EVACUATION 2/3G X-ONE) + ds (EMBOUT DE TIGE) | S22: =U22+T22-K22-L22-M22 -> 0 | U22: 307 | Z22: =IF(I22=0,0,(U22+T22)/I22) -> 5.1166667 | AA22: =IF(OR(Q22=0,I22=0),"",Z22/Q22*100) -> 56.851852 | AE22: =IF(AA22>85," ","WARNING") -> WARNING
A23: I | B23: TSUGAMI | C23: =IFERROR(VLOOKUP(D23,Pieces!A:B,2,0)," ") -> - | D23: Arrêt | E23: 0 | F23: 0 | G23: 0 | H23: 0 | I23: =IFERROR(VLOOKUP(D23,Pieces!A:C,3,0),"Entrer la cadence") -> 1 | J23: 1 | K23: =(F23-E23)*J23 -> 0 | L23: =(G23-F23)*J23 -> 0 | M23: =(H23-G23)*J23 -> 0 | N23: =IF(I23=0,0,K23/I23) -> 0 | O23: =IF(I23=0,0,L23/I23) -> 0 | P23: =IF(I23=0,0,M23/I23) -> 0 | Q23: 9 | S23: =U23+T23-K23-L23-M23 -> 0 | U23: 0 | Z23: =IF(I23=0,0,(U23+T23)/I23) -> 0 | AA23: =IF(OR(Q23=0,I23=0),"",Z23/Q23*100) -> 0 | AE23: =IF(AA23>85," ","WARNING") -> WARNING
A24: G | B24: MORI SEIKI 3 axes | C24: =IFERROR(VLOOKUP(D24,Pieces!A:B,2,0)," ") -> I110-01-004 | D24: INSERT LEVIER SURMOULEE 345833-01 - fraisage | E24: 0 | F24: 47 | G24: 47 | H24: 47 | I24: =IFERROR(VLOOKUP(D24,Pieces!A:C,3,0),"Entrer la cadence") -> 28 | J24: 7 | K24: =(F24-E24)*J24 -> 329 | L24: =(G24-F24)*J24 -> 0 | M24: =(H24-G24)*J24 -> 0 | N24: =IF(I24=0,0,K24/I24) -> 11.75 | O24: =IF(I24=0,0,L24/I24) -> 0 | P24: =IF(I24=0,0,M24/I24) -> 0 | Q24: 9 | S24: =U24+T24-K24-L24-M24 -> 0 | U24: 329 | Z24: =IF(I24=0,0,(U24+T24)/I24) -> 11.75 | AA24: =IF(OR(Q24=0,I24=0),"",Z24/Q24*100) -> 130.55556 | AE24: =IF(AA24>85," ","WARNING")
A25: H | B25: MORI SEIKI 5 axes | C25: =IFERROR(VLOOKUP(D25,Pieces!A:B,2,0)," ") -> 480387 | D25: EVACUATION 2/3G X-ONE | E25: 80 | F25: 80 | G25: 80 | H25: 80 | I25: =IFERROR(VLOOKUP(D25,Pieces!A:C,3,0),"Entrer la cadence") -> 60 | J25: 20 | K25: =(F25-E25)*J25 -> 0 | L25: =(G25-F25)*J25 -> 0 | M25: =(H25-G25)*J25 -> 0 | N25: =IF(I25=0,0,K25/I25) -> 0 | O25: =IF(I25=0,0,L25/I25) -> 0 | P25: =IF(I25=0,0,M25/I25) -> 0 | Q25: 9 | S25: =U25+T25-K25-L25-M25 -> 0 | U25: 0 | Z25: =IF(I25=0,0,(U25+T25)/I25) -> 0 | AA25: =IF(OR(Q25=0,I25=0),"",Z25/Q25*100) -> 0 | AE25: =IF(AA25>85," ","WARNING") -> WARNING
A26: L | B26: HARDING | C26: =IFERROR(VLOOKUP(D26,Pieces!A:B,2,0)," ") -> PIG 50 SE- harding | D26: PIGNON PLATEAU SIMPLE ETAGE D50 - contournage dents | E26: 102 | F26: 129 | G26: 129 | H26: 129 | I26: =IFERROR(VLOOKUP(D26,Pieces!A:C,3,0),"Entrer la cadence") -> 38 | J26: 51 | K26: =(F26-E26)*J26 -> 1377 | L26: =(G26-F26)*J26 -> 0 | M26: =(H26-G26)*J26 -> 0 | N26: =IF(I26=0,0,K26/I26) -> 36.236842 | O26: =IF(I26=0,0,L26/I26) -> 0 | P26: =IF(I26=0,0,M26/I26) -> 0 | Q26: 9 | S26: =U26+T26-K26-L26-M26 -> 0 | U26: 1377 | Z26: =IF(I26=0,0,(U26+T26)/I26) -> 36.236842 | AA26: =IF(OR(Q26=0,I26=0),"",Z26/Q26*100) -> 402.63158 | AE26: =IF(AA26>85," ","WARNING")
A27: K | B27: KITAMURA | C27: =IFERROR(VLOOKUP(D27,Pieces!A:B,2,0)," ") -> - | D27: Arrêt | E27: 0 | F27: 0 | G27: 0 | H27: 0 | I27: =IFERROR(VLOOKUP(D27,Pieces!A:C,3,0),"Entrer la cadence") -> 1 | J27: 1 | K27: =(F27-E27)*J27 -> 0 | L27: =(G27-F27)*J27 -> 0 | M27: =(H27-G27)*J27 -> 0 | N27: =IF(I27=0,0,K27/I27) -> 0 | O27: =IF(I27=0,0,L27/I27) -> 0 | P27: =IF(I27=0,0,M27/I27) -> 0 | Q27: 9 | S27: =U27+T27-K27-L27-M27 -> 0 | U27: 0 | Z27: =IF(I27=0,0,(U27+T27)/I27) -> 0 | AA27: =IF(OR(Q27=0,I27=0),"",Z27/Q27*100) -> 0 | AE27: =IF(AA27>85," ","WARNING") -> WARNING
A28: F | B28: MULTI BROCHE | C28: =IFERROR(VLOOKUP(D28,Pieces!A:B,2,0)," ") -> MPS000300 | D28: raccord HEX 17 | E28: 180777 | F28: 180777 | G28: 180777 | H28: 180777 | I28: =IFERROR(VLOOKUP(D28,Pieces!A:C,3,0),"Entrer la cadence") -> 454 | J28: 1 | K28: =(F28-E28)*J28 -> 0 | L28: =(G28-F28)*J28 -> 0 | M28: =(H28-G28)*J28 -> 0 | N28: =IF(I28=0,0,K28/I28) -> 0 | O28: =IF(I28=0,0,L28/I28) -> 0 | P28: =IF(I28=0,0,M28/I28) -> 0 | Q28: 9 | S28: =U28+T28-K28-L28-M28 -> 0 | U28: 0 | Z28: =IF(I28=0,0,(U28+T28)/I28) -> 0 | AA28: =IF(OR(Q28=0,I28=0),"",Z28/Q28*100) -> 0 | AE28: =IF(AA28>85," ","WARNING") -> WARNING
A29: J | B29: NAKAMURA | C29: =IFERROR(VLOOKUP(D29,Pieces!A:B,2,E290)," ") -> MI018 | D29: GOUJON DE ROUE MITSIBITCHI GM | E29: 0 | F29: 0 | G29: 0 | H29: 0 | I29: =IFERROR(VLOOKUP(D29,Pieces!A:C,3,0),"Entrer la cadence") -> 30 | J29: 1 | K29: =(F29-E29)*J29 -> 0 | L29: =(G29-F29)*J29 -> 0 | M29: =(H29-G29)*J29 -> 0 | N29: =IF(I29=0,0,K29/I29) -> 0 | O29: =IF(I29=0,0,L29/I29) -> 0 | P29: =IF(I29=0,0,M29/I29) -> 0 | Q29: 9 | R29: ds (ECROU DE ROUE TFR ISUZU -nak) + ds (16*27*64) | S29: =U29+T29-K29-L29-M29 -> 0 | U29: 0 | Z29: =IF(I29=0,0,(U29+T29)/I29) -> 0 | AA29: =IF(OR(Q29=0,I29=0),"",Z29/Q29*100) -> 0 | AE29: =IF(AA29>85," ","WARNING") -> WARNING
A30: M | B30: TOUR WEILER | C30: =IFERROR(VLOOKUP(D30,Pieces!A:B,2,0)," ") -> H001-PROD | D30: GOUJON DE ROUE HONDA PROD | E30: 1661 | F30: 1913 | G30: 1913 | H30: 1913 | I30: =IFERROR(VLOOKUP(D30,Pieces!A:C,3,0),"Entrer la cadence") -> 20 | J30: 1 | K30: =(F30-E30)*J30 -> 252 | L30: =(G30-F30)*J30 -> 0 | M30: =(H30-G30)*J30 -> 0 | N30: =IF(I30=0,0,K30/I30) -> 12.6 | O30: =IF(I30=0,0,L30/I30) -> 0 | P30: =IF(I30=0,0,M30/I30) -> 0 | Q30: 9 | S30: =U30+T30-K30-L30-M30 -> 0 | U30: 252 | Z30: =IF(I30=0,0,(U30+T30)/I30) -> 12.6 | AA30: =IF(OR(Q30=0,I30=0),"",Z30/Q30*100) -> 140 | AE30: =IF(AA30>85," ","WARNING")
Q31: temps d'ouverture | R31: 9
C38: Rédacteur | J38: Approbateur:
C39: Date | J39: Date:
C40: Visa | J40: Visa:

Sheet 15-01-2020
C1: Tableau de production journalière | Z1: CODE: DAS-PRO-16
Z2: DATE:30/08/2019
Z3: VERSION:07
Z4: PAGE:1
A8: SYMBOLE | B8: MACHINE | C8: REF ARTICLE | D8: DESIGNATION | E8: COMPTEUR HIER à8H | F8: COMPTEUR HIER à 17H | G8: COMPTEUR HIER à 19H | H8: COMPTEUR AUJOURD’HUI à 8h | I8: CADENCE | J8: NOMBRE DE PIECES FINIS PAR CYCLE | K8: PIECES SUIVANT COMPTEU 8h-->17h | L8: PIECES SUIVANT COMPTEUR 17H-->19H | M8: PIECES SUIVANT COMPTEUR 6h-->8h | N8: NOMBRE D'HEURES DE TRAVAIL 8h-->17h | O8: NOMBRE D'HEURES DE TRAVAIL 17H-->19H | P8: NOMBRE D'HEURES DE TRAVAIL 6h-->8h | Q8: NOMBRE D'HEURES DE TRAVAIL | R8: OBSERVATIONS | S8: Pieces manquantes | T8: PIECES NC | U8: Pieces REELLES | V8: Nombre des pieces à retoucher | W8: Cause de la non-conformité | X8: Effet de la non-conformité | Y8: Valeur de l'effet | Z8: NOMBRES D'HEURES SUIVANT LES PIECES REELLES | AA8: RENDEMENT | AB8: Fiche de contrôle qualité début de serie | AC8: Affutage | AD8: Gamme d'usingae | AE8: ALERTES
A9: A | B9: PF25 N°21 | C9: =IFERROR(VLOOKUP(D9,#REF!,2,0)," ") | K9: =(F9-E9)*J9 -> 0 | L9: =(G9-F9)*J9 -> 0 | M9: =(#REF!-H9)*J9 -> #REF! | N9: =IF(I9=0,0,K9/I9) -> 0 | O9: =IF(I9=0,0,L9/I9) -> 0 | P9: =IF(I9=0,0,M9/I9) -> 0 | Q9: 24 | Z9: =IF(I9=0,0,(#REF!+T9)/I9) -> 0 | AA9: =IF(OR(Q9=0,I9=0),"",Z9/Q9*100) | AE9: =IF(AA9>85," ","WARNING")
A10: B | B10: PF25 N°22 | C10: =IFERROR(VLOOKUP(D10,#REF!,2,0)," ") | K10: =(F10-E10)*J10 -> 0 | L10: =(G10-F10)*J10 -> 0 | M10: =(#REF!-H10)*J10 -> #REF! | N10: =IF(I10=0,0,K10/I10) -> 0 | O10: =IF(I10=0,0,L10/I10) -> 0 | P10: =IF(I10=0,0,M10/I10) -> 0 | Q10: 24 | Z10: =IF(I10=0,0,(#REF!+T10)/I10) -> 0 | AA10: =IF(OR(Q10=0,I10=0),"",Z10/Q10*100) | AE10: =IF(AA10>85," ","WARNING")
A11: C | B11: PF25 N°23 | C11: =IFERROR(VLOOKUP(D11,#REF!,2,0)," ") | K11: =(F11-E11)*J11 -> 0 | L11: =(G11-F11)*J11 -> 0 | M11: =(#REF!-H11)*J11 -> #REF! | N11: =IF(I11=0,0,K11/I11) -> 0 | O11: =IF(I11=0,0,L11/I11) -> 0 | P11: =IF(I11=0,0,M11/I11) -> 0 | Q11: 24 | Z11: =IF(I11=0,0,(#REF!+T11)/I11) -> 0 | AA11: =IF(OR(Q11=0,I11=0),"",Z11/Q11*100) | AE11: =IF(AA11>85," ","WARNING")
A12: D | B12: PF25 N°24 | C12: =IFERROR(VLOOKUP(D12,#REF!,2,0)," ") | K12: =(F12-E12)*J12 -> 0 | L12: =(G12-F12)*J12 -> 0 | M12: =(#REF!-H12)*J12 -> #REF! | N12: =IF(I12=0,0,K12/I12) -> 0 | O12: =IF(I12=0,0,L12/I12) -> 0 | P12: =IF(I12=0,0,M12/I12) -> 0 | Q12: 24 | Z12: =IF(I12=0,0,(#REF!+T12)/I12) -> 0 | AA12: =IF(OR(Q12=0,I12=0),"",Z12/Q12*100) | AE12: =IF(AA12>85," ","WARNING")
A13: E | B13: PF25 N°25 | C13: =IFERROR(VLOOKUP(D13,#REF!,2,0)," ") | K13: =(F13-E13)*J13 -> 0 | L13: =(G13-F13)*J13 -> 0 | M13: =(#REF!-H13)*J13 -> #REF! | N13: =IF(I13=0,0,K13/I13) -> 0 | O13: =IF(I13=0,0,L13/I13) -> 0 | P13: =IF(I13=0,0,M13/I13) -> 0 | Q13: 24 | Z13: =IF(I13=0,0,(#REF!+T13)/I13) -> 0 | AA13: =IF(OR(Q13=0,I13=0),"",Z13/Q13*100) | AE13: =IF(AA13>85," ","WARNING")
A14: F | B14: PF25 N°26
A15: R | B15: PF21 N°27
A16: S | B16: PF42 N°20 | C16: =IFERROR(VLOOKUP(D16,#REF!,2,0)," ") | K16: =(F16-E16)*J16 -> 0 | L16: =(G16-F16)*J16 -> 0 | M16: =(#REF!-H16)*J16 -> #REF! | N16: =IF(I16=0,0,K16/I16) -> 0 | O16: =IF(I16=0,0,L16/I16) -> 0 | P16: =IF(I16=0,0,M16/I16) -> 0 | Q16: 24 | Z16: =IF(I16=0,0,(#REF!+T16)/I16) -> 0 | AA16: =IF(OR(Q16=0,I16=0),"",Z16/Q16*100) | AE16: =IF(AA16>85," ","WARNING")
A18: A | B18: SST16 | C18: =IFERROR(VLOOKUP(D18,Pieces!A:B,2,0)," ") -> outi-plot | D18: plot nez de marche | E18: 33600 | F18: 34052 | G18: 34052 | H18: 34052 | I18: =IFERROR(VLOOKUP(D18,Pieces!A:C,3,0),"Entrer la cadence") -> 75 | J18: 1 | K18: =(F18-E18)*J18 -> 452 | L18: =(G18-F18)*J18 -> 0 | M18: =(H18-G18)*J18 -> 0 | N18: =IF(I18=0,0,K18/I18) -> 6.0266667 | O18: =IF(I18=0,0,L18/I18) -> 0 | P18: =IF(I18=0,0,M18/I18) -> 0 | Q18: 9 | S18: =U18+T18-K18-L18-M18 -> 0 | U18: 452 | Z18: =IF(I18=0,0,(U18+T18)/I18) -> 6.0266667 | AA18: =IF(OR(Q18=0,I18=0),"",Z18/Q18*100) -> 66.962963 | AE18: =IF(AA18>85," ","WARNING") -> WARNING
A19: B | B19: SB16 | C19: =IFERROR(VLOOKUP(D19,Pieces!A:B,2,0)," ") -> 199400 | D19: TIRANT ACIER D6 | E19: 10200 | F19: 11430 | G19: 11430 | H19: 11430 | I19: =IFERROR(VLOOKUP(D19,Pieces!A:C,3,0),"Entrer la cadence") -> 150 | J19: 1 | K19: =(F19-E19)*J19 -> 1230 | L19: =(G19-F19)*J19 -> 0 | M19: =(H19-G19)*J19 -> 0 | N19: =IF(I19=0,0,K19/I19) -> 8.2 | O19: =IF(I19=0,0,L19/I19) -> 0 | P19: =IF(I19=0,0,M19/I19) -> 0 | Q19: 9 | S19: =U19+T19-K19-L19-M19 -> 0 | U19: 1230 | Z19: =IF(I19=0,0,(U19+T19)/I19) -> 8.2 | AA19: =IF(OR(Q19=0,I19=0),"",Z19/Q19*100) -> 91.111111 | AE19: =IF(AA19>85," ","WARNING")
A20: C | B20: BIGLIA 301 SM | C20: =IFERROR(VLOOKUP(D20,Pieces!A:B,2,0)," ") -> 512520 | D20: INSERTO MANOPOLA INOX M8 | E20: 1800 | F20: 2095 | G20: 2095 | H20: 2095 | I20: =IFERROR(VLOOKUP(D20,Pieces!A:C,3,0),"Entrer la cadence") -> 50 | J20: 1 | K20: =(F20-E20)*J20 -> 295 | L20: =(G20-F20)*J20 -> 0 | M20: =(H20-G20)*J20 -> 0 | N20: =IF(I20=0,0,K20/I20) -> 5.9 | O20: =IF(I20=0,0,L20/I20) -> 0 | P20: =IF(I20=0,0,M20/I20) -> 0 | Q20: 9 | Z20: =IF(I20=0,0,(U20+T20)/I20) -> 0 | AA20: =IF(OR(Q20=0,I20=0),"",Z20/Q20*100) -> 0 | AE20: =IF(AA20>85," ","WARNING") -> WARNING
A21: D | B21: BIGLIA 42 S2M-bitourelle | C21: =IFERROR(VLOOKUP(D21,Pieces!A:B,2,0)," ") -> F045-CP2 | D21: BAGUE DECOLLETEE TUBE D'EAU UNO DISEL -CP2 | E21: 300 | F21: 415 | G21: 415 | H21: 415 | I21: =IFERROR(VLOOKUP(D21,Pieces!A:C,3,0),"Entrer la cadence") -> 30 | J21: 1 | K21: =(F21-E21)*J21 -> 115 | L21: =(G21-F21)*J21 -> 0 | M21: =(H21-G21)*J21 -> 0 | N21: =IF(I21=0,0,K21/I21) -> 3.8333333 | O21: =IF(I21=0,0,L21/I21) -> 0 | P21: =IF(I21=0,0,M21/I21) -> 0 | Q21: 9 | S21: =U21+T21-K21-L21-M21 -> 0 | U21: 115 | Z21: =IF(I21=0,0,(U21+T21)/I21) -> 3.8333333 | AA21: =IF(OR(Q21=0,I21=0),"",Z21/Q21*100) -> 42.592593 | AE21: =IF(AA21>85," ","WARNING") -> WARNING
A22: E | B22: L32 | C22: =IFERROR(VLOOKUP(D22,Pieces!A:B,2,0)," ") -> 200200 | D22: EMBOUT DE TIGE | E22: 96 | F22: 303 | G22: 303 | H22: 303 | I22: =IFERROR(VLOOKUP(D22,Pieces!A:C,3,0),"Entrer la cadence") -> 60 | J22: 1 | K22: =(F22-E22)*J22 -> 207 | L22: =(G22-F22)*J22 -> 0 | M22: =(H22-G22)*J22 -> 0 | N22: =IF(I22=0,0,K22/I22) -> 3.45 | O22: =IF(I22=0,0,L22/I22) -> 0 | P22: =IF(I22=0,0,M22/I22) -> 0 | Q22: 9 | R22: fs (EVACUATION 2/3G X-ONE) + ds (EMBOUT DE TIGE) | S22: =U22+T22-K22-L22-M22 -> 0 | U22: 207 | Z22: =IF(I22=0,0,(U22+T22)/I22) -> 3.45 | AA22: =IF(OR(Q22=0,I22=0),"",Z22/Q22*100) -> 38.333333 | AE22: =IF(AA22>85," ","WARNING") -> WARNING
A23: I | B23: TSUGAMI | C23: =IFERROR(VLOOKUP(D23,Pieces!A:B,2,0)," ") -> - | D23: Arrêt | E23: 0 | F23: 0 | G23: 0 | H23: 0 | I23: =IFERROR(VLOOKUP(D23,Pieces!A:C,3,0),"Entrer la cadence") -> 1 | J23: 1 | K23: =(F23-E23)*J23 -> 0 | L23: =(G23-F23)*J23 -> 0 | M23: =(H23-G23)*J23 -> 0 | N23: =IF(I23=0,0,K23/I23) -> 0 | O23: =IF(I23=0,0,L23/I23) -> 0 | P23: =IF(I23=0,0,M23/I23) -> 0 | Q23: 9 | S23: =U23+T23-K23-L23-M23 -> 0 | U23: 0 | Z23: =IF(I23=0,0,(U23+T23)/I23) -> 0 | AA23: =IF(OR(Q23=0,I23=0),"",Z23/Q23*100) -> 0 | AE23: =IF(AA23>85," ","WARNING") -> WARNING
A24: G | B24: MORI SEIKI 3 axes | C24: =IFERROR(VLOOKUP(D24,Pieces!A:B,2,0)," ") -> I110-01-004 | D24: INSERT LEVIER SURMOULEE 345833-01 - fraisage | E24: 0 | F24: 0 | G24: 0 | H24: 0 | I24: =IFERROR(VLOOKUP(D24,Pieces!A:C,3,0),"Entrer la cadence") -> 28 | J24: 7 | K24: =(F24-E24)*J24 -> 0 | L24: =(G24-F24)*J24 -> 0 | M24: =(H24-G24)*J24 -> 0 | N24: =IF(I24=0,0,K24/I24) -> 0 | O24: =IF(I24=0,0,L24/I24) -> 0 | P24: =IF(I24=0,0,M24/I24) -> 0 | Q24: 9 | S24: =U24+T24-K24-L24-M24 -> 0 | U24: 0 | Z24: =IF(I24=0,0,(U24+T24)/I24) -> 0 | AA24: =IF(OR(Q24=0,I24=0),"",Z24/Q24*100) -> 0 | AE24: =IF(AA24>85," ","WARNING") -> WARNING
A25: H | B25: MORI SEIKI 5 axes | C25: =IFERROR(VLOOKUP(D25,Pieces!A:B,2,0)," ") -> 480387 | D25: EVACUATION 2/3G X-ONE | E25: 80 | F25: 80 | G25: 80 | H25: 80 | I25: =IFERROR(VLOOKUP(D25,Pieces!A:C,3,0),"Entrer la cadence") -> 60 | J25: 20 | K25: =(F25-E25)*J25 -> 0 | L25: =(G25-F25)*J25 -> 0 | M25: =(H25-G25)*J25 -> 0 | N25: =IF(I25=0,0,K25/I25) -> 0 | O25: =IF(I25=0,0,L25/I25) -> 0 | P25: =IF(I25=0,0,M25/I25) -> 0 | Q25: 9 | S25: =U25+T25-K25-L25-M25 -> 0 | U25: 0 | Z25: =IF(I25=0,0,(U25+T25)/I25) -> 0 | AA25: =IF(OR(Q25=0,I25=0),"",Z25/Q25*100) -> 0 | AE25: =IF(AA25>85," ","WARNING") -> WARNING
A26: L | B26: HARDING | C26: =IFERROR(VLOOKUP(D26,Pieces!A:B,2,0)," ") -> PIG 50 SE- harding | D26: PIGNON PLATEAU SIMPLE ETAGE D50 - contournage dents | E26: 75 | F26: 102 | G26: 102 | H26: 102 | I26: =IFERROR(VLOOKUP(D26,Pieces!A:C,3,0),"Entrer la cadence") -> 38 | J26: 51 | K26: =(F26-E26)*J26 -> 1377 | L26: =(G26-F26)*J26 -> 0 | M26: =(H26-G26)*J26 -> 0 | N26: =IF(I26=0,0,K26/I26) -> 36.236842 | O26: =IF(I26=0,0,L26/I26) -> 0 | P26: =IF(I26=0,0,M26/I26) -> 0 | Q26: 9 | S26: =U26+T26-K26-L26-M26 -> 0 | U26: 1377 | Z26: =IF(I26=0,0,(U26+T26)/I26) -> 36.236842 | AA26: =IF(OR(Q26=0,I26=0),"",Z26/Q26*100) -> 402.63158 | AE26: =IF(AA26>85," ","WARNING")
A27: K | B27: KITAMURA | C27: =IFERROR(VLOOKUP(D27,Pieces!A:B,2,0)," ") -> - | D27: Arrêt | E27: 0 | F27: 0 | G27: 0 | H27: 0 | I27: =IFERROR(VLOOKUP(D27,Pieces!A:C,3,0),"Entrer la cadence") -> 1 | J27: 1 | K27: =(F27-E27)*J27 -> 0 | L27: =(G27-F27)*J27 -> 0 | M27: =(H27-G27)*J27 -> 0 | N27: =IF(I27=0,0,K27/I27) -> 0 | O27: =IF(I27=0,0,L27/I27) -> 0 | P27: =IF(I27=0,0,M27/I27) -> 0 | Q27: 9 | S27: =U27+T27-K27-L27-M27 -> 0 | U27: 0 | Z27: =IF(I27=0,0,(U27+T27)/I27) -> 0 | AA27: =IF(OR(Q27=0,I27=0),"",Z27/Q27*100) -> 0 | AE27: =IF(AA27>85," ","WARNING") -> WARNING
A28: F | B28: MULTI BROCHE | C28: =IFERROR(VLOOKUP(D28,Pieces!A:B,2,0)," ") -> MPS000300 | D28: raccord HEX 17 | E28: 180777 | F28: 180777 | G28: 180777 | H28: 180777 | I28: =IFERROR(VLOOKUP(D28,Pieces!A:C,3,0),"Entrer la cadence") -> 454 | J28: 1 | K28: =(F28-E28)*J28 -> 0 | L28: =(G28-F28)*J28 -> 0 | M28: =(H28-G28)*J28 -> 0 | N28: =IF(I28=0,0,K28/I28) -> 0 | O28: =IF(I28=0,0,L28/I28) -> 0 | P28: =IF(I28=0,0,M28/I28) -> 0 | Q28: 9 | S28: =U28+T28-K28-L28-M28 -> 0 | U28: 0 | Z28: =IF(I28=0,0,(U28+T28)/I28) -> 0 | AA28: =IF(OR(Q28=0,I28=0),"",Z28/Q28*100) -> 0 | AE28: =IF(AA28>85," ","WARNING") -> WARNING
A29: J | B29: NAKAMURA | C29: =IFERROR(VLOOKUP(D29,Pieces!A:B,2,0)," ") -> 18X27X43 | D29: BAGUE ALU 18*27*43 | E29: 384 | F29: 384 | G29: 384 | H29: 384 | I29: =IFERROR(VLOOKUP(D29,Pieces!A:C,3,0),"Entrer la cadence") -> 90 | J29: 1 | K29: =(F29-E29)*J29 -> 0 | L29: =(G29-F29)*J29 -> 0 | M29: =(H29-G29)*J29 -> 0 | N29: =IF(I29=0,0,K29/I29) -> 0 | O29: =IF(I29=0,0,L29/I29) -> 0 | P29: =IF(I29=0,0,M29/I29) -> 0 | Q29: 9 | R29: ds (ECROU DE ROUE TFR ISUZU -nak) + ds (16*27*64) | S29: =U29+T29-K29-L29-M29 -> 0 | U29: 0 | Z29: =IF(I29=0,0,(U29+T29)/I29) -> 0 | AA29: =IF(OR(Q29=0,I29=0),"",Z29/Q29*100) -> 0 | AE29: =IF(AA29>85," ","WARNING") -> WARNING
A30: M | B30: TOUR WEILER | C30: =IFERROR(VLOOKUP(D30,Pieces!A:B,2,0)," ") -> H001-PROD | D30: GOUJON DE ROUE HONDA PROD | E30: 1441 | F30: 1661 | G30: 1661 | H30: 1661 | I30: =IFERROR(VLOOKUP(D30,Pieces!A:C,3,0),"Entrer la cadence") -> 20 | J30: 1 | K30: =(F30-E30)*J30 -> 220 | L30: =(G30-F30)*J30 -> 0 | M30: =(H30-G30)*J30 -> 0 | N30: =IF(I30=0,0,K30/I30) -> 11 | O30: =IF(I30=0,0,L30/I30) -> 0 | P30: =IF(I30=0,0,M30/I30) -> 0 | Q30: 9 | S30: =U30+T30-K30-L30-M30 -> 0 | U30: 220 | Z30: =IF(I30=0,0,(U30+T30)/I30) -> 11 | AA30: =IF(OR(Q30=0,I30=0),"",Z30/Q30*100) -> 122.22222 | AE30: =IF(AA30>85," ","WARNING")
Q31: temps d'ouverture | R31: 9
C38: Rédacteur | J38: Approbateur:
C39: Date | J39: Date:
C40: Visa | J40: Visa:

Sheet 13-01-2020
C1: Tableau de production journalière | Z1: CODE: DAS-PRO-16
Z2: DATE:30/08/2019
Z3: VERSION:07
Z4: PAGE:1
A8: SYMBOLE | B8: MACHINE | C8: REF ARTICLE | D8: DESIGNATION | E8: COMPTEUR HIER à8H | F8: COMPTEUR HIER à 17H | G8: COMPTEUR HIER à 19H | H8: COMPTEUR AUJOURD’HUI à 8h | I8: CADENCE | J8: NOMBRE DE PIECES FINIS PAR CYCLE | K8: PIECES SUIVANT COMPTEU 8h-->17h | L8: PIECES SUIVANT COMPTEUR 17H-->19H | M8: PIECES SUIVANT COMPTEUR 6h-->8h | N8: NOMBRE D'HEURES DE TRAVAIL 8h-->17h | O8: NOMBRE D'HEURES DE TRAVAIL 17H-->19H | P8: NOMBRE D'HEURES DE TRAVAIL 6h-->8h | Q8: NOMBRE D'HEURES DE TRAVAIL | R8: OBSERVATIONS | S8: Pieces manquantes | T8: PIECES NC | U8: Pieces REELLES | V8: Nombre des pieces à retoucher | W8: Cause de la non-conformité | X8: Effet de la non-conformité | Y8: Valeur de l'effet | Z8: NOMBRES D'HEURES SUIVANT LES PIECES REELLES | AA8: RENDEMENT | AB8: Fiche de contrôle qualité début de serie | AC8: Affutage | AD8: Gamme d'usingae | AE8: ALERTES
A9: A | B9: PF25 N°21 | C9: =IFERROR(VLOOKUP(D9,#REF!,2,0)," ") | K9: =(F9-E9)*J9 -> 0 | L9: =(G9-F9)*J9 -> 0 | M9: =(#REF!-H9)*J9 -> #REF! | N9: =IF(I9=0,0,K9/I9) -> 0 | O9: =IF(I9=0,0,L9/I9) -> 0 | P9: =IF(I9=0,0,M9/I9) -> 0 | Q9: 24 | Z9: =IF(I9=0,0,(#REF!+T9)/I9) -> 0 | AA9: =IF(OR(Q9=0,I9=0),"",Z9/Q9*100) | AE9: =IF(AA9>85," ","WARNING")
A10: B | B10: PF25 N°22 | C10: =IFERROR(VLOOKUP(D10,#REF!,2,0)," ") | K10: =(F10-E10)*J10 -> 0 | L10: =(G10-F10)*J10 -> 0 | M10: =(#REF!-H10)*J10 -> #REF! | N10: =IF(I10=0,0,K10/I10) -> 0 | O10: =IF(I10=0,0,L10/I10) -> 0 | P10: =IF(I10=0,0,M10/I10) -> 0 | Q10: 24 | Z10: =IF(I10=0,0,(#REF!+T10)/I10) -> 0 | AA10: =IF(OR(Q10=0,I10=0),"",Z10/Q10*100) | AE10: =IF(AA10>85," ","WARNING")
A11: C | B11: PF25 N°23 | C11: =IFERROR(VLOOKUP(D11,#REF!,2,0)," ") | K11: =(F11-E11)*J11 -> 0 | L11: =(G11-F11)*J11 -> 0 | M11: =(#REF!-H11)*J11 -> #REF! | N11: =IF(I11=0,0,K11/I11) -> 0 | O11: =IF(I11=0,0,L11/I11) -> 0 | P11: =IF(I11=0,0,M11/I11) -> 0 | Q11: 24 | Z11: =IF(I11=0,0,(#REF!+T11)/I11) -> 0 | AA11: =IF(OR(Q11=0,I11=0),"",Z11/Q11*100) | AE11: =IF(AA11>85," ","WARNING")
A12: D | B12: PF25 N°24 | C12: =IFERROR(VLOOKUP(D12,#REF!,2,0)," ") | K12: =(F12-E12)*J12 -> 0 | L12: =(G12-F12)*J12 -> 0 | M12: =(#REF!-H12)*J12 -> #REF! | N12: =IF(I12=0,0,K12/I12) -> 0 | O12: =IF(I12=0,0,L12/I12) -> 0 | P12: =IF(I12=0,0,M12/I12) -> 0 | Q12: 24 | Z12: =IF(I12=0,0,(#REF!+T12)/I12) -> 0 | AA12: =IF(OR(Q12=0,I12=0),"",Z12/Q12*100) | AE12: =IF(AA12>85," ","WARNING")
A13: E | B13: PF25 N°25 | C13: =IFERROR(VLOOKUP(D13,#REF!,2,0)," ") | K13: =(F13-E13)*J13 -> 0 | L13: =(G13-F13)*J13 -> 0 | M13: =(#REF!-H13)*J13 -> #REF! | N13: =IF(I13=0,0,K13/I13) -> 0 | O13: =IF(I13=0,0,L13/I13) -> 0 | P13: =IF(I13=0,0,M13/I13) -> 0 | Q13: 24 | Z13: =IF(I13=0,0,(#REF!+T13)/I13) -> 0 | AA13: =IF(OR(Q13=0,I13=0),"",Z13/Q13*100) | AE13: =IF(AA13>85," ","WARNING")
A14: F | B14: PF25 N°26
A15: R | B15: PF21 N°27
A16: S | B16: PF42 N°20 | C16: =IFERROR(VLOOKUP(D16,#REF!,2,0)," ") | K16: =(F16-E16)*J16 -> 0 | L16: =(G16-F16)*J16 -> 0 | M16: =(#REF!-H16)*J16 -> #REF! | N16: =IF(I16=0,0,K16/I16) -> 0 | O16: =IF(I16=0,0,L16/I16) -> 0 | P16: =IF(I16=0,0,M16/I16) -> 0 | Q16: 24 | Z16: =IF(I16=0,0,(#REF!+T16)/I16) -> 0 | AA16: =IF(OR(Q16=0,I16=0),"",Z16/Q16*100) | AE16: =IF(AA16>85," ","WARNING")
A18: A | B18: SST16 | C18: =IFERROR(VLOOKUP(D18,Pieces!A:B,2,0)," ") -> outi-plot | D18: plot nez de marche | E18: 33000 | F18: 33600 | G18: 33600 | H18: 33600 | I18: =IFERROR(VLOOKUP(D18,Pieces!A:C,3,0),"Entrer la cadence") -> 75 | J18: 1 | K18: =(F18-E18)*J18 -> 600 | L18: =(G18-F18)*J18 -> 0 | M18: =(H18-G18)*J18 -> 0 | N18: =IF(I18=0,0,K18/I18) -> 8 | O18: =IF(I18=0,0,L18/I18) -> 0 | P18: =IF(I18=0,0,M18/I18) -> 0 | Q18: 9 | S18: =U18+T18-K18-L18-M18 -> 0 | U18: 600 | Z18: =IF(I18=0,0,(U18+T18)/I18) -> 8 | AA18: =IF(OR(Q18=0,I18=0),"",Z18/Q18*100) -> 88.888889 | AE18: =IF(AA18>85," ","WARNING")
A19: B | B19: SB16 | C19: =IFERROR(VLOOKUP(D19,Pieces!A:B,2,0)," ") -> 199400 | D19: TIRANT ACIER D6 | E19: 8700 | F19: 10200 | G19: 10200 | H19: 10200 | I19: =IFERROR(VLOOKUP(D19,Pieces!A:C,3,0),"Entrer la cadence") -> 150 | J19: 1 | K19: =(F19-E19)*J19 -> 1500 | L19: =(G19-F19)*J19 -> 0 | M19: =(H19-G19)*J19 -> 0 | N19: =IF(I19=0,0,K19/I19) -> 10 | O19: =IF(I19=0,0,L19/I19) -> 0 | P19: =IF(I19=0,0,M19/I19) -> 0 | Q19: 9 | S19: =U19+T19-K19-L19-M19 -> 0 | U19: 1500 | Z19: =IF(I19=0,0,(U19+T19)/I19) -> 10 | AA19: =IF(OR(Q19=0,I19=0),"",Z19/Q19*100) -> 111.11111 | AE19: =IF(AA19>85," ","WARNING")
A20: C | B20: BIGLIA 301 SM | C20: =IFERROR(VLOOKUP(D20,Pieces!A:B,2,0)," ") -> 512520 | D20: INSERTO MANOPOLA INOX M8 | E20: 1480 | F20: 1800 | G20: 1800 | H20: 1800 | I20: =IFERROR(VLOOKUP(D20,Pieces!A:C,3,0),"Entrer la cadence") -> 50 | J20: 1 | K20: =(F20-E20)*J20 -> 320 | L20: =(G20-F20)*J20 -> 0 | M20: =(H20-G20)*J20 -> 0 | N20: =IF(I20=0,0,K20/I20) -> 6.4 | O20: =IF(I20=0,0,L20/I20) -> 0 | P20: =IF(I20=0,0,M20/I20) -> 0 | Q20: 9 | Z20: =IF(I20=0,0,(U20+T20)/I20) -> 0 | AA20: =IF(OR(Q20=0,I20=0),"",Z20/Q20*100) -> 0 | AE20: =IF(AA20>85," ","WARNING") -> WARNING
A21: D | B21: BIGLIA 42 S2M-bitourelle | C21: =IFERROR(VLOOKUP(D21,Pieces!A:B,2,0)," ") -> F045-CP2 | D21: BAGUE DECOLLETEE TUBE D'EAU UNO DISEL -CP2 | E21: 123 | F21: 300 | G21: 300 | H21: 300 | I21: =IFERROR(VLOOKUP(D21,Pieces!A:C,3,0),"Entrer la cadence") -> 30 | J21: 1 | K21: =(F21-E21)*J21 -> 177 | L21: =(G21-F21)*J21 -> 0 | M21: =(H21-G21)*J21 -> 0 | N21: =IF(I21=0,0,K21/I21) -> 5.9 | O21: =IF(I21=0,0,L21/I21) -> 0 | P21: =IF(I21=0,0,M21/I21) -> 0 | Q21: 9 | S21: =U21+T21-K21-L21-M21 -> 0 | U21: 177 | Z21: =IF(I21=0,0,(U21+T21)/I21) -> 5.9 | AA21: =IF(OR(Q21=0,I21=0),"",Z21/Q21*100) -> 65.555556 | AE21: =IF(AA21>85," ","WARNING") -> WARNING
A22: E | B22: L32 | C22: =IFERROR(VLOOKUP(D22,Pieces!A:B,2,0)," ") -> 200200 | D22: EMBOUT DE TIGE | E22: 0 | F22: 96 | G22: 96 | H22: 96 | I22: =IFERROR(VLOOKUP(D22,Pieces!A:C,3,0),"Entrer la cadence") -> 60 | J22: 1 | K22: =(F22-E22)*J22 -> 96 | L22: =(G22-F22)*J22 -> 0 | M22: =(H22-G22)*J22 -> 0 | N22: =IF(I22=0,0,K22/I22) -> 1.6 | O22: =IF(I22=0,0,L22/I22) -> 0 | P22: =IF(I22=0,0,M22/I22) -> 0 | Q22: 9 | R22: fs (EVACUATION 2/3G X-ONE) + ds (EMBOUT DE TIGE) | S22: =U22+T22-K22-L22-M22 -> 0 | U22: 96 | Z22: =IF(I22=0,0,(U22+T22)/I22) -> 1.6 | AA22: =IF(OR(Q22=0,I22=0),"",Z22/Q22*100) -> 17.777778 | AE22: =IF(AA22>85," ","WARNING") -> WARNING
A23: I | B23: TSUGAMI | C23: =IFERROR(VLOOKUP(D23,Pieces!A:B,2,0)," ") -> - | D23: Arrêt | E23: 0 | F23: 0 | G23: 0 | H23: 0 | I23: =IFERROR(VLOOKUP(D23,Pieces!A:C,3,0),"Entrer la cadence") -> 1 | J23: 1 | K23: =(F23-E23)*J23 -> 0 | L23: =(G23-F23)*J23 -> 0 | M23: =(H23-G23)*J23 -> 0 | N23: =IF(I23=0,0,K23/I23) -> 0 | O23: =IF(I23=0,0,L23/I23) -> 0 | P23: =IF(I23=0,0,M23/I23) -> 0 | Q23: 9 | S23: =U23+T23-K23-L23-M23 -> 0 | U23: 0 | Z23: =IF(I23=0,0,(U23+T23)/I23) -> 0 | AA23: =IF(OR(Q23=0,I23=0),"",Z23/Q23*100) -> 0 | AE23: =IF(AA23>85," ","WARNING") -> WARNING
A24: G | B24: MORI SEIKI 3 axes | C24: =IFERROR(VLOOKUP(D24,Pieces!A:B,2,0)," ") -> I110-01-004 | D24: INSERT LEVIER SURMOULEE 345833-01 - fraisage | E24: 887 | F24: 887 | G24: 887 | H24: 887 | I24: =IFERROR(VLOOKUP(D24,Pieces!A:C,3,0),"Entrer la cadence") -> 28 | J24: 7 | K24: =(F24-E24)*J24 -> 0 | L24: =(G24-F24)*J24 -> 0 | M24: =(H24-G24)*J24 -> 0 | N24: =IF(I24=0,0,K24/I24) -> 0 | O24: =IF(I24=0,0,L24/I24) -> 0 | P24: =IF(I24=0,0,M24/I24) -> 0 | Q24: 9 | S24: =U24+T24-K24-L24-M24 -> 0 | U24: 0 | Z24: =IF(I24=0,0,(U24+T24)/I24) -> 0 | AA24: =IF(OR(Q24=0,I24=0),"",Z24/Q24*100) -> 0 | AE24: =IF(AA24>85," ","WARNING") -> WARNING
A25: H | B25: MORI SEIKI 5 axes | C25: =IFERROR(VLOOKUP(D25,Pieces!A:B,2,0)," ") -> 480387 | D25: EVACUATION 2/3G X-ONE | E25: 80 | F25: 80 | G25: 80 | H25: 80 | I25: =IFERROR(VLOOKUP(D25,Pieces!A:C,3,0),"Entrer la cadence") -> 60 | J25: 20 | K25: =(F25-E25)*J25 -> 0 | L25: =(G25-F25)*J25 -> 0 | M25: =(H25-G25)*J25 -> 0 | N25: =IF(I25=0,0,K25/I25) -> 0 | O25: =IF(I25=0,0,L25/I25) -> 0 | P25: =IF(I25=0,0,M25/I25) -> 0 | Q25: 9 | S25: =U25+T25-K25-L25-M25 -> 0 | U25: 0 | Z25: =IF(I25=0,0,(U25+T25)/I25) -> 0 | AA25: =IF(OR(Q25=0,I25=0),"",Z25/Q25*100) -> 0 | AE25: =IF(AA25>85," ","WARNING") -> WARNING
A26: L | B26: HARDING | C26: =IFERROR(VLOOKUP(D26,Pieces!A:B,2,0)," ") -> PIG 50 SE- harding | D26: PIGNON PLATEAU SIMPLE ETAGE D50 - contournage dents | E26: 54 | F26: 75 | G26: 75 | H26: 75 | I26: =IFERROR(VLOOKUP(D26,Pieces!A:C,3,0),"Entrer la cadence") -> 38 | J26: 51 | K26: =(F26-E26)*J26 -> 1071 | L26: =(G26-F26)*J26 -> 0 | M26: =(H26-G26)*J26 -> 0 | N26: =IF(I26=0,0,K26/I26) -> 28.184211 | O26: =IF(I26=0,0,L26/I26) -> 0 | P26: =IF(I26=0,0,M26/I26) -> 0 | Q26: 9 | S26: =U26+T26-K26-L26-M26 -> 0 | U26: 1071 | Z26: =IF(I26=0,0,(U26+T26)/I26) -> 28.184211 | AA26: =IF(OR(Q26=0,I26=0),"",Z26/Q26*100) -> 313.15789 | AE26: =IF(AA26>85," ","WARNING")
A27: K | B27: KITAMURA | C27: =IFERROR(VLOOKUP(D27,Pieces!A:B,2,0)," ") -> - | D27: Arrêt | E27: 0 | F27: 0 | G27: 0 | H27: 0 | I27: =IFERROR(VLOOKUP(D27,Pieces!A:C,3,0),"Entrer la cadence") -> 1 | J27: 1 | K27: =(F27-E27)*J27 -> 0 | L27: =(G27-F27)*J27 -> 0 | M27: =(H27-G27)*J27 -> 0 | N27: =IF(I27=0,0,K27/I27) -> 0 | O27: =IF(I27=0,0,L27/I27) -> 0 | P27: =IF(I27=0,0,M27/I27) -> 0 | Q27: 9 | S27: =U27+T27-K27-L27-M27 -> 0 | U27: 0 | Z27: =IF(I27=0,0,(U27+T27)/I27) -> 0 | AA27: =IF(OR(Q27=0,I27=0),"",Z27/Q27*100) -> 0 | AE27: =IF(AA27>85," ","WARNING") -> WARNING
A28: F | B28: MULTI BROCHE | C28: =IFERROR(VLOOKUP(D28,Pieces!A:B,2,0)," ") -> MPS000300 | D28: raccord HEX 17 | E28: 180777 | F28: 180777 | G28: 180777 | H28: 180777 | I28: =IFERROR(VLOOKUP(D28,Pieces!A:C,3,0),"Entrer la cadence") -> 454 | J28: 1 | K28: =(F28-E28)*J28 -> 0 | L28: =(G28-F28)*J28 -> 0 | M28: =(H28-G28)*J28 -> 0 | N28: =IF(I28=0,0,K28/I28) -> 0 | O28: =IF(I28=0,0,L28/I28) -> 0 | P28: =IF(I28=0,0,M28/I28) -> 0 | Q28: 9 | S28: =U28+T28-K28-L28-M28 -> 0 | U28: 0 | Z28: =IF(I28=0,0,(U28+T28)/I28) -> 0 | AA28: =IF(OR(Q28=0,I28=0),"",Z28/Q28*100) -> 0 | AE28: =IF(AA28>85," ","WARNING") -> WARNING
A29: J | B29: NAKAMURA | C29: =IFERROR(VLOOKUP(D29,Pieces!A:B,2,0)," ") -> 18X27X43 | D29: BAGUE ALU 18*27*43 | E29: 0 | F29: 384 | G29: 384 | H29: 384 | I29: =IFERROR(VLOOKUP(D29,Pieces!A:C,3,0),"Entrer la cadence") -> 90 | J29: 1 | K29: =(F29-E29)*J29 -> 384 | L29: =(G29-F29)*J29 -> 0 | M29: =(H29-G29)*J29 -> 0 | N29: =IF(I29=0,0,K29/I29) -> 4.2666667 | O29: =IF(I29=0,0,L29/I29) -> 0 | P29: =IF(I29=0,0,M29/I29) -> 0 | Q29: 9 | R29: ds (ECROU DE ROUE TFR ISUZU -nak) + ds (16*27*64) | S29: =U29+T29-K29-L29-M29 -> 0 | U29: 384 | Z29: =IF(I29=0,0,(U29+T29)/I29) -> 4.2666667 | AA29: =IF(OR(Q29=0,I29=0),"",Z29/Q29*100) -> 47.407407 | AE29: =IF(AA29>85," ","WARNING") -> WARNING
A30: M | B30: TOUR WEILER | C30: =IFERROR(VLOOKUP(D30,Pieces!A:B,2,0)," ") -> H001-PROD | D30: GOUJON DE ROUE HONDA PROD | E30: 1212 | F30: 1441 | G30: 1441 | H30: 1441 | I30: =IFERROR(VLOOKUP(D30,Pieces!A:C,3,0),"Entrer la cadence") -> 20 | J30: 1 | K30: =(F30-E30)*J30 -> 229 | L30: =(G30-F30)*J30 -> 0 | M30: =(H30-G30)*J30 -> 0 | N30: =IF(I30=0,0,K30/I30) -> 11.45 | O30: =IF(I30=0,0,L30/I30) -> 0 | P30: =IF(I30=0,0,M30/I30) -> 0 | Q30: 9 | S30: =U30+T30-K30-L30-M30 -> 0 | U30: 229 | Z30: =IF(I30=0,0,(U30+T30)/I30) -> 11.45 | AA30: =IF(OR(Q30=0,I30=0),"",Z30/Q30*100) -> 127.22222 | AE30: =IF(AA30>85," ","WARNING")
Q31: temps d'ouverture | R31: 9
C38: Rédacteur | J38: Approbateur:
C39: Date | J39: Date:
C40: Visa | J40: Visa:

Sheet 11-01-2020
C1: Tableau de production journalière | Z1: CODE: DAS-PRO-16
Z2: DATE:30/08/2019
Z3: VERSION:07
Z4: PAGE:1
A8: SYMBOLE | B8: MACHINE | C8: REF ARTICLE | D8: DESIGNATION | E8: COMPTEUR HIER à8H | F8: COMPTEUR HIER à 17H | G8: COMPTEUR HIER à 19H | H8: COMPTEUR AUJOURD’HUI à 8h | I8: CADENCE | J8: NOMBRE DE PIECES FINIS PAR CYCLE | K8: PIECES SUIVANT COMPTEU 8h-->17h | L8: PIECES SUIVANT COMPTEUR 17H-->19H | M8: PIECES SUIVANT COMPTEUR 6h-->8h | N8: NOMBRE D'HEURES DE TRAVAIL 8h-->17h | O8: NOMBRE D'HEURES DE TRAVAIL 17H-->19H | P8: NOMBRE D'HEURES DE TRAVAIL 6h-->8h | Q8: NOMBRE D'HEURES DE TRAVAIL | R8: OBSERVATIONS | S8: Pieces manquantes | T8: PIECES NC | U8: Pieces REELLES | V8: Nombre des pieces à retoucher | W8: Cause de la non-conformité | X8: Effet de la non-conformité | Y8: Valeur de l'effet | Z8: NOMBRES D'HEURES SUIVANT LES PIECES REELLES | AA8: RENDEMENT | AB8: Fiche de contrôle qualité début de serie | AC8: Affutage | AD8: Gamme d'usingae | AE8: ALERTES
A9: A | B9: PF25 N°21 | C9: =IFERROR(VLOOKUP(D9,#REF!,2,0)," ") | K9: =(F9-E9)*J9 -> 0 | L9: =(G9-F9)*J9 -> 0 | M9: =(#REF!-H9)*J9 -> #REF! | N9: =IF(I9=0,0,K9/I9) -> 0 | O9: =IF(I9=0,0,L9/I9) -> 0 | P9: =IF(I9=0,0,M9/I9) -> 0 | Q9: 24 | Z9: =IF(I9=0,0,(#REF!+T9)/I9) -> 0 | AA9: =IF(OR(Q9=0,I9=0),"",Z9/Q9*100) | AE9: =IF(AA9>85," ","WARNING")
A10: B | B10: PF25 N°22 | C10: =IFERROR(VLOOKUP(D10,#REF!,2,0)," ") | K10: =(F10-E10)*J10 -> 0 | L10: =(G10-F10)*J10 -> 0 | M10: =(#REF!-H10)*J10 -> #REF! | N10: =IF(I10=0,0,K10/I10) -> 0 | O10: =IF(I10=0,0,L10/I10) -> 0 | P10: =IF(I10=0,0,M10/I10) -> 0 | Q10: 24 | Z10: =IF(I10=0,0,(#REF!+T10)/I10) -> 0 | AA10: =IF(OR(Q10=0,I10=0),"",Z10/Q10*100) | AE10: =IF(AA10>85," ","WARNING")
A11: C | B11: PF25 N°23 | C11: =IFERROR(VLOOKUP(D11,#REF!,2,0)," ") | K11: =(F11-E11)*J11 -> 0 | L11: =(G11-F11)*J11 -> 0 | M11: =(#REF!-H11)*J11 -> #REF! | N11: =IF(I11=0,0,K11/I11) -> 0 | O11: =IF(I11=0,0,L11/I11) -> 0 | P11: =IF(I11=0,0,M11/I11) -> 0 | Q11: 24 | Z11: =IF(I11=0,0,(#REF!+T11)/I11) -> 0 | AA11: =IF(OR(Q11=0,I11=0),"",Z11/Q11*100) | AE11: =IF(AA11>85," ","WARNING")
A12: D | B12: PF25 N°24 | C12: =IFERROR(VLOOKUP(D12,#REF!,2,0)," ") | K12: =(F12-E12)*J12 -> 0 | L12: =(G12-F12)*J12 -> 0 | M12: =(#REF!-H12)*J12 -> #REF! | N12: =IF(I12=0,0,K12/I12) -> 0 | O12: =IF(I12=0,0,L12/I12) -> 0 | P12: =IF(I12=0,0,M12/I12) -> 0 | Q12: 24 | Z12: =IF(I12=0,0,(#REF!+T12)/I12) -> 0 | AA12: =IF(OR(Q12=0,I12=0),"",Z12/Q12*100) | AE12: =IF(AA12>85," ","WARNING")
A13: E | B13: PF25 N°25 | C13: =IFERROR(VLOOKUP(D13,#REF!,2,0)," ") | K13: =(F13-E13)*J13 -> 0 | L13: =(G13-F13)*J13 -> 0 | M13: =(#REF!-H13)*J13 -> #REF! | N13: =IF(I13=0,0,K13/I13) -> 0 | O13: =IF(I13=0,0,L13/I13) -> 0 | P13: =IF(I13=0,0,M13/I13) -> 0 | Q13: 24 | Z13: =IF(I13=0,0,(#REF!+T13)/I13) -> 0 | AA13: =IF(OR(Q13=0,I13=0),"",Z13/Q13*100) | AE13: =IF(AA13>85," ","WARNING")
A14: F | B14: PF25 N°26
A15: R | B15: PF21 N°27
A16: S | B16: PF42 N°20 | C16: =IFERROR(VLOOKUP(D16,#REF!,2,0)," ") | K16: =(F16-E16)*J16 -> 0 | L16: =(G16-F16)*J16 -> 0 | M16: =(#REF!-H16)*J16 -> #REF! | N16: =IF(I16=0,0,K16/I16) -> 0 | O16: =IF(I16=0,0,L16/I16) -> 0 | P16: =IF(I16=0,0,M16/I16) -> 0 | Q16: 24 | Z16: =IF(I16=0,0,(#REF!+T16)/I16) -> 0 | AA16: =IF(OR(Q16=0,I16=0),"",Z16/Q16*100) | AE16: =IF(AA16>85," ","WARNING")
A18: A | B18: SST16 | C18: =IFERROR(VLOOKUP(D18,Pieces!A:B,2,0)," ") -> outi-plot | D18: plot nez de marche | E18: 32075 | F18: 33000 | G18: 33000 | H18: 33000 | I18: =IFERROR(VLOOKUP(D18,Pieces!A:C,3,0),"Entrer la cadence") -> 75 | J18: 1 | K18: =(F18-E18)*J18 -> 925 | L18: =(G18-F18)*J18 -> 0 | M18: =(H18-G18)*J18 -> 0 | N18: =IF(I18=0,0,K18/I18) -> 12.333333 | O18: =IF(I18=0,0,L18/I18) -> 0 | P18: =IF(I18=0,0,M18/I18) -> 0 | Q18: 5 | S18: =U18+T18-K18-L18-M18 -> 0 | U18: 925 | Z18: =IF(I18=0,0,(U18+T18)/I18) -> 12.333333 | AA18: =IF(OR(Q18=0,I18=0),"",Z18/Q18*100) -> 246.66667 | AE18: =IF(AA18>85," ","WARNING")
A19: B | B19: SB16 | C19: =IFERROR(VLOOKUP(D19,Pieces!A:B,2,0)," ") -> 199400 | D19: TIRANT ACIER D6 | E19: 6250 | F19: 8700 | G19: 8700 | H19: 8700 | I19: =IFERROR(VLOOKUP(D19,Pieces!A:C,3,0),"Entrer la cadence") -> 150 | J19: 1 | K19: =(F19-E19)*J19 -> 2450 | L19: =(G19-F19)*J19 -> 0 | M19: =(H19-G19)*J19 -> 0 | N19: =IF(I19=0,0,K19/I19) -> 16.333333 | O19: =IF(I19=0,0,L19/I19) -> 0 | P19: =IF(I19=0,0,M19/I19) -> 0 | Q19: 5 | S19: =U19+T19-K19-L19-M19 -> 0 | U19: 2450 | Z19: =IF(I19=0,0,(U19+T19)/I19) -> 16.333333 | AA19: =IF(OR(Q19=0,I19=0),"",Z19/Q19*100) -> 326.66667 | AE19: =IF(AA19>85," ","WARNING")
A20: C | B20: BIGLIA 301 SM | C20: =IFERROR(VLOOKUP(D20,Pieces!A:B,2,0)," ") -> 512520 | D20: INSERTO MANOPOLA INOX M8 | E20: 1026 | F20: 1480 | G20: 1480 | H20: 1480 | I20: =IFERROR(VLOOKUP(D20,Pieces!A:C,3,0),"Entrer la cadence") -> 50 | J20: 1 | K20: =(F20-E20)*J20 -> 454 | L20: =(G20-F20)*J20 -> 0 | M20: =(H20-G20)*J20 -> 0 | N20: =IF(I20=0,0,K20/I20) -> 9.08 | O20: =IF(I20=0,0,L20/I20) -> 0 | P20: =IF(I20=0,0,M20/I20) -> 0 | Q20: 5 | Z20: =IF(I20=0,0,(U20+T20)/I20) -> 0 | AA20: =IF(OR(Q20=0,I20=0),"",Z20/Q20*100) -> 0 | AE20: =IF(AA20>85," ","WARNING") -> WARNING
A21: D | B21: BIGLIA 42 S2M-bitourelle | C21: =IFERROR(VLOOKUP(D21,Pieces!A:B,2,0)," ") -> F045-CP2 | D21: BAGUE DECOLLETEE TUBE D'EAU UNO DISEL -CP2 | E21: 0 | F21: 123 | G21: 123 | H21: 123 | I21: =IFERROR(VLOOKUP(D21,Pieces!A:C,3,0),"Entrer la cadence") -> 30 | J21: 1 | K21: =(F21-E21)*J21 -> 123 | L21: =(G21-F21)*J21 -> 0 | M21: =(H21-G21)*J21 -> 0 | N21: =IF(I21=0,0,K21/I21) -> 4.1 | O21: =IF(I21=0,0,L21/I21) -> 0 | P21: =IF(I21=0,0,M21/I21) -> 0 | Q21: 5 | R21: fs(INSERTO MANOPOLA INOX M8)+ds (BAGUE DECOLLETEE TUBE D'EAU UNO DISEL -CP2) | S21: =U21+T21-K21-L21-M21 -> 0 | U21: 123 | Z21: =IF(I21=0,0,(U21+T21)/I21) -> 4.1 | AA21: =IF(OR(Q21=0,I21=0),"",Z21/Q21*100) -> 82 | AE21: =IF(AA21>85," ","WARNING") -> WARNING
A22: E | B22: L32 | C22: =IFERROR(VLOOKUP(D22,Pieces!A:B,2,0)," ") -> 480387 | D22: EVACUATION 2/3G X-ONE carre l32 | E22: 0 | F22: 0 | G22: 0 | H22: 0 | I22: =IFERROR(VLOOKUP(D22,Pieces!A:C,3,0),"Entrer la cadence") -> 20 | J22: 1 | K22: =(F22-E22)*J22 -> 0 | L22: =(G22-F22)*J22 -> 0 | M22: =(H22-G22)*J22 -> 0 | N22: =IF(I22=0,0,K22/I22) -> 0 | O22: =IF(I22=0,0,L22/I22) -> 0 | P22: =IF(I22=0,0,M22/I22) -> 0 | Q22: 5 | S22: =U22+T22-K22-L22-M22 -> 0 | U22: 0 | Z22: =IF(I22=0,0,(U22+T22)/I22) -> 0 | AA22: =IF(OR(Q22=0,I22=0),"",Z22/Q22*100) -> 0 | AE22: =IF(AA22>85," ","WARNING") -> WARNING
A23: I | B23: TSUGAMI | C23: =IFERROR(VLOOKUP(D23,Pieces!A:B,2,0)," ") -> - | D23: Arrêt | E23: 0 | F23: 0 | G23: 0 | H23: 0 | I23: =IFERROR(VLOOKUP(D23,Pieces!A:C,3,0),"Entrer la cadence") -> 1 | J23: 1 | K23: =(F23-E23)*J23 -> 0 | L23: =(G23-F23)*J23 -> 0 | M23: =(H23-G23)*J23 -> 0 | N23: =IF(I23=0,0,K23/I23) -> 0 | O23: =IF(I23=0,0,L23/I23) -> 0 | P23: =IF(I23=0,0,M23/I23) -> 0 | Q23: 5 | S23: =U23+T23-K23-L23-M23 -> 0 | U23: 0 | Z23: =IF(I23=0,0,(U23+T23)/I23) -> 0 | AA23: =IF(OR(Q23=0,I23=0),"",Z23/Q23*100) -> 0 | AE23: =IF(AA23>85," ","WARNING") -> WARNING
A24: G | B24: MORI SEIKI 3 axes | C24: =IFERROR(VLOOKUP(D24,Pieces!A:B,2,0)," ") -> I110-01-004 | D24: INSERT LEVIER SURMOULEE 345833-01 - fraisage | E24: 887 | F24: 887 | G24: 887 | H24: 887 | I24: =IFERROR(VLOOKUP(D24,Pieces!A:C,3,0),"Entrer la cadence") -> 28 | J24: 7 | K24: =(F24-E24)*J24 -> 0 | L24: =(G24-F24)*J24 -> 0 | M24: =(H24-G24)*J24 -> 0 | N24: =IF(I24=0,0,K24/I24) -> 0 | O24: =IF(I24=0,0,L24/I24) -> 0 | P24: =IF(I24=0,0,M24/I24) -> 0 | Q24: 5 | S24: =U24+T24-K24-L24-M24 -> 0 | U24: 0 | Z24: =IF(I24=0,0,(U24+T24)/I24) -> 0 | AA24: =IF(OR(Q24=0,I24=0),"",Z24/Q24*100) -> 0 | AE24: =IF(AA24>85," ","WARNING") -> WARNING
A25: H | B25: MORI SEIKI 5 axes | C25: =IFERROR(VLOOKUP(D25,Pieces!A:B,2,0)," ") -> 480387 | D25: EVACUATION 2/3G X-ONE | E25: 80 | F25: 80 | G25: 80 | H25: 80 | I25: =IFERROR(VLOOKUP(D25,Pieces!A:C,3,0),"Entrer la cadence") -> 60 | J25: 20 | K25: =(F25-E25)*J25 -> 0 | L25: =(G25-F25)*J25 -> 0 | M25: =(H25-G25)*J25 -> 0 | N25: =IF(I25=0,0,K25/I25) -> 0 | O25: =IF(I25=0,0,L25/I25) -> 0 | P25: =IF(I25=0,0,M25/I25) -> 0 | Q25: 5 | S25: =U25+T25-K25-L25-M25 -> 0 | U25: 0 | Z25: =IF(I25=0,0,(U25+T25)/I25) -> 0 | AA25: =IF(OR(Q25=0,I25=0),"",Z25/Q25*100) -> 0 | AE25: =IF(AA25>85," ","WARNING") -> WARNING
A26: L | B26: HARDING | C26: =IFERROR(VLOOKUP(D26,Pieces!A:B,2,0)," ") -> PIG 50 SE- harding | D26: PIGNON PLATEAU SIMPLE ETAGE D50 - contournage dents | E26: 12 | F26: 54 | G26: 54 | H26: 54 | I26: =IFERROR(VLOOKUP(D26,Pieces!A:C,3,0),"Entrer la cadence") -> 38 | J26: 51 | K26: =(F26-E26)*J26 -> 2142 | L26: =(G26-F26)*J26 -> 0 | M26: =(H26-G26)*J26 -> 0 | N26: =IF(I26=0,0,K26/I26) -> 56.368421 | O26: =IF(I26=0,0,L26/I26) -> 0 | P26: =IF(I26=0,0,M26/I26) -> 0 | Q26: 5 | S26: =U26+T26-K26-L26-M26 -> 0 | U26: 2142 | Z26: =IF(I26=0,0,(U26+T26)/I26) -> 56.368421 | AA26: =IF(OR(Q26=0,I26=0),"",Z26/Q26*100) -> 1127.3684 | AE26: =IF(AA26>85," ","WARNING")
A27: K | B27: KITAMURA | C27: =IFERROR(VLOOKUP(D27,Pieces!A:B,2,0)," ") -> - | D27: Arrêt | E27: 0 | F27: 0 | G27: 0 | H27: 0 | I27: =IFERROR(VLOOKUP(D27,Pieces!A:C,3,0),"Entrer la cadence") -> 1 | J27: 1 | K27: =(F27-E27)*J27 -> 0 | L27: =(G27-F27)*J27 -> 0 | M27: =(H27-G27)*J27 -> 0 | N27: =IF(I27=0,0,K27/I27) -> 0 | O27: =IF(I27=0,0,L27/I27) -> 0 | P27: =IF(I27=0,0,M27/I27) -> 0 | Q27: 5 | S27: =U27+T27-K27-L27-M27 -> 0 | U27: 0 | Z27: =IF(I27=0,0,(U27+T27)/I27) -> 0 | AA27: =IF(OR(Q27=0,I27=0),"",Z27/Q27*100) -> 0 | AE27: =IF(AA27>85," ","WARNING") -> WARNING
A28: F | B28: MULTI BROCHE | C28: =IFERROR(VLOOKUP(D28,Pieces!A:B,2,0)," ") -> MPS000300 | D28: raccord HEX 17 | E28: 180777 | F28: 180777 | G28: 180777 | H28: 180777 | I28: =IFERROR(VLOOKUP(D28,Pieces!A:C,3,0),"Entrer la cadence") -> 454 | J28: 1 | K28: =(F28-E28)*J28 -> 0 | L28: =(G28-F28)*J28 -> 0 | M28: =(H28-G28)*J28 -> 0 | N28: =IF(I28=0,0,K28/I28) -> 0 | O28: =IF(I28=0,0,L28/I28) -> 0 | P28: =IF(I28=0,0,M28/I28) -> 0 | Q28: 5 | S28: =U28+T28-K28-L28-M28 -> 0 | U28: 0 | Z28: =IF(I28=0,0,(U28+T28)/I28) -> 0 | AA28: =IF(OR(Q28=0,I28=0),"",Z28/Q28*100) -> 0 | AE28: =IF(AA28>85," ","WARNING") -> WARNING
A29: J | B29: NAKAMURA | C29: =IFERROR(VLOOKUP(D29,Pieces!A:B,2,0)," ") -> I143-CP1 | D29: ECROU DE ROUE TFR ISUZU -nak | E29: 960 | F29: 1224 | G29: 1224 | H29: 1224 | I29: =IFERROR(VLOOKUP(D29,Pieces!A:C,3,0),"Entrer la cadence") -> 50 | J29: 1 | K29: =(F29-E29)*J29 -> 264 | L29: =(G29-F29)*J29 -> 0 | M29: =(H29-G29)*J29 -> 0 | N29: =IF(I29=0,0,K29/I29) -> 5.28 | O29: =IF(I29=0,0,L29/I29) -> 0 | P29: =IF(I29=0,0,M29/I29) -> 0 | Q29: 5 | S29: =U29+T29-K29-L29-M29 -> 0 | U29: 264 | Z29: =IF(I29=0,0,(U29+T29)/I29) -> 5.28 | AA29: =IF(OR(Q29=0,I29=0),"",Z29/Q29*100) -> 105.6 | AE29: =IF(AA29>85," ","WARNING")
A30: M | B30: TOUR WEILER | C30: =IFERROR(VLOOKUP(D30,Pieces!A:B,2,0)," ") -> H001-PROD | D30: GOUJON DE ROUE HONDA PROD | E30: 851 | F30: 1212 | G30: 1212 | H30: 1212 | I30: =IFERROR(VLOOKUP(D30,Pieces!A:C,3,0),"Entrer la cadence") -> 20 | J30: 1 | K30: =(F30-E30)*J30 -> 361 | L30: =(G30-F30)*J30 -> 0 | M30: =(H30-G30)*J30 -> 0 | N30: =IF(I30=0,0,K30/I30) -> 18.05 | O30: =IF(I30=0,0,L30/I30) -> 0 | P30: =IF(I30=0,0,M30/I30) -> 0 | Q30: 5 | S30: =U30+T30-K30-L30-M30 -> 0 | U30: 361 | Z30: =IF(I30=0,0,(U30+T30)/I30) -> 18.05 | AA30: =IF(OR(Q30=0,I30=0),"",Z30/Q30*100) -> 361 | AE30: =IF(AA30>85," ","WARNING")
Q31: temps d'ouverture | R31: 5
C38: Rédacteur | J38: Approbateur:
C39: Date | J39: Date:
C40: Visa | J40: Visa:

Sheet 10-01-2020
C1: Tableau de production journalière | Z1: CODE: DAS-PRO-16
Z2: DATE:30/08/2019
Z3: VERSION:07
Z4: PAGE:1
A8: SYMBOLE | B8: MACHINE | C8: REF ARTICLE | D8: DESIGNATION | E8: COMPTEUR HIER à8H | F8: COMPTEUR HIER à 17H | G8: COMPTEUR HIER à 19H | H8: COMPTEUR AUJOURD’HUI à 8h | I8: CADENCE | J8: NOMBRE DE PIECES FINIS PAR CYCLE | K8: PIECES SUIVANT COMPTEU 8h-->17h | L8: PIECES SUIVANT COMPTEUR 17H-->19H | M8: PIECES SUIVANT COMPTEUR 6h-->8h | N8: NOMBRE D'HEURES DE TRAVAIL 8h-->17h | O8: NOMBRE D'HEURES DE TRAVAIL 17H-->19H | P8: NOMBRE D'HEURES DE TRAVAIL 6h-->8h | Q8: NOMBRE D'HEURES DE TRAVAIL | R8: OBSERVATIONS | S8: Pieces manquantes | T8: PIECES NC | U8: Pieces REELLES | V8: Nombre des pieces à retoucher | W8: Cause de la non-conformité | X8: Effet de la non-conformité | Y8: Valeur de l'effet | Z8: NOMBRES D'HEURES SUIVANT LES PIECES REELLES | AA8: RENDEMENT | AB8: Fiche de contrôle qualité début de serie | AC8: Affutage | AD8: Gamme d'usingae | AE8: ALERTES
A9: A | B9: PF25 N°21 | C9: =IFERROR(VLOOKUP(D9,#REF!,2,0)," ") | K9: =(F9-E9)*J9 -> 0 | L9: =(G9-F9)*J9 -> 0 | M9: =(#REF!-H9)*J9 -> #REF! | N9: =IF(I9=0,0,K9/I9) -> 0 | O9: =IF(I9=0,0,L9/I9) -> 0 | P9: =IF(I9=0,0,M9/I9) -> 0 | Q9: 24 | Z9: =IF(I9=0,0,(#REF!+T9)/I9) -> 0 | AA9: =IF(OR(Q9=0,I9=0),"",Z9/Q9*100) | AE9: =IF(AA9>85," ","WARNING")
A10: B | B10: PF25 N°22 | C10: =IFERROR(VLOOKUP(D10,#REF!,2,0)," ") | K10: =(F10-E10)*J10 -> 0 | L10: =(G10-F10)*J10 -> 0 | M10: =(#REF!-H10)*J10 -> #REF! | N10: =IF(I10=0,0,K10/I10) -> 0 | O10: =IF(I10=0,0,L10/I10) -> 0 | P10: =IF(I10=0,0,M10/I10) -> 0 | Q10: 24 | Z10: =IF(I10=0,0,(#REF!+T10)/I10) -> 0 | AA10: =IF(OR(Q10=0,I10=0),"",Z10/Q10*100) | AE10: =IF(AA10>85," ","WARNING")
A11: C | B11: PF25 N°23 | C11: =IFERROR(VLOOKUP(D11,#REF!,2,0)," ") | K11: =(F11-E11)*J11 -> 0 | L11: =(G11-F11)*J11 -> 0 | M11: =(#REF!-H11)*J11 -> #REF! | N11: =IF(I11=0,0,K11/I11) -> 0 | O11: =IF(I11=0,0,L11/I11) -> 0 | P11: =IF(I11=0,0,M11/I11) -> 0 | Q11: 24 | Z11: =IF(I11=0,0,(#REF!+T11)/I11) -> 0 | AA11: =IF(OR(Q11=0,I11=0),"",Z11/Q11*100) | AE11: =IF(AA11>85," ","WARNING")
A12: D | B12: PF25 N°24 | C12: =IFERROR(VLOOKUP(D12,#REF!,2,0)," ") | K12: =(F12-E12)*J12 -> 0 | L12: =(G12-F12)*J12 -> 0 | M12: =(#REF!-H12)*J12 -> #REF! | N12: =IF(I12=0,0,K12/I12) -> 0 | O12: =IF(I12=0,0,L12/I12) -> 0 | P12: =IF(I12=0,0,M12/I12) -> 0 | Q12: 24 | Z12: =IF(I12=0,0,(#REF!+T12)/I12) -> 0 | AA12: =IF(OR(Q12=0,I12=0),"",Z12/Q12*100) | AE12: =IF(AA12>85," ","WARNING")
A13: E | B13: PF25 N°25 | C13: =IFERROR(VLOOKUP(D13,#REF!,2,0)," ") | K13: =(F13-E13)*J13 -> 0 | L13: =(G13-F13)*J13 -> 0 | M13: =(#REF!-H13)*J13 -> #REF! | N13: =IF(I13=0,0,K13/I13) -> 0 | O13: =IF(I13=0,0,L13/I13) -> 0 | P13: =IF(I13=0,0,M13/I13) -> 0 | Q13: 24 | Z13: =IF(I13=0,0,(#REF!+T13)/I13) -> 0 | AA13: =IF(OR(Q13=0,I13=0),"",Z13/Q13*100) | AE13: =IF(AA13>85," ","WARNING")
A14: F | B14: PF25 N°26
A15: R | B15: PF21 N°27
A16: S | B16: PF42 N°20 | C16: =IFERROR(VLOOKUP(D16,#REF!,2,0)," ") | K16: =(F16-E16)*J16 -> 0 | L16: =(G16-F16)*J16 -> 0 | M16: =(#REF!-H16)*J16 -> #REF! | N16: =IF(I16=0,0,K16/I16) -> 0 | O16: =IF(I16=0,0,L16/I16) -> 0 | P16: =IF(I16=0,0,M16/I16) -> 0 | Q16: 24 | Z16: =IF(I16=0,0,(#REF!+T16)/I16) -> 0 | AA16: =IF(OR(Q16=0,I16=0),"",Z16/Q16*100) | AE16: =IF(AA16>85," ","WARNING")
A18: A | B18: SST16 | C18: =IFERROR(VLOOKUP(D18,Pieces!A:B,2,0)," ") -> outi-plot | D18: plot nez de marche | E18: 31325 | F18: 32075 | G18: 32075 | H18: 32075 | I18: =IFERROR(VLOOKUP(D18,Pieces!A:C,3,0),"Entrer la cadence") -> 75 | J18: 1 | K18: =(F18-E18)*J18 -> 750 | L18: =(G18-F18)*J18 -> 0 | M18: =(H18-G18)*J18 -> 0 | N18: =IF(I18=0,0,K18/I18) -> 10 | O18: =IF(I18=0,0,L18/I18) -> 0 | P18: =IF(I18=0,0,M18/I18) -> 0 | Q18: 9 | S18: =U18+T18-K18-L18-M18 -> 0 | U18: 750 | Z18: =IF(I18=0,0,(U18+T18)/I18) -> 10 | AA18: =IF(OR(Q18=0,I18=0),"",Z18/Q18*100) -> 111.11111 | AE18: =IF(AA18>85," ","WARNING")
A19: B | B19: SB16 | C19: =IFERROR(VLOOKUP(D19,Pieces!A:B,2,0)," ") -> 199400 | D19: TIRANT ACIER D6 | E19: 4751 | F19: 6250 | G19: 6250 | H19: 6250 | I19: =IFERROR(VLOOKUP(D19,Pieces!A:C,3,0),"Entrer la cadence") -> 150 | J19: 1 | K19: =(F19-E19)*J19 -> 1499 | L19: =(G19-F19)*J19 -> 0 | M19: =(H19-G19)*J19 -> 0 | N19: =IF(I19=0,0,K19/I19) -> 9.9933333 | O19: =IF(I19=0,0,L19/I19) -> 0 | P19: =IF(I19=0,0,M19/I19) -> 0 | Q19: 9 | S19: =U19+T19-K19-L19-M19 -> 0 | U19: 1499 | Z19: =IF(I19=0,0,(U19+T19)/I19) -> 9.9933333 | AA19: =IF(OR(Q19=0,I19=0),"",Z19/Q19*100) -> 111.03704 | AE19: =IF(AA19>85," ","WARNING")
A20: C | B20: BIGLIA 301 SM | C20: =IFERROR(VLOOKUP(D20,Pieces!A:B,2,0)," ") -> 512520 | D20: INSERTO MANOPOLA INOX M8 | E20: 955 | F20: 1026 | G20: 1026 | H20: 1026 | I20: =IFERROR(VLOOKUP(D20,Pieces!A:C,3,0),"Entrer la cadence") -> 50 | J20: 1 | K20: =(F20-E20)*J20 -> 71 | L20: =(G20-F20)*J20 -> 0 | M20: =(H20-G20)*J20 -> 0 | N20: =IF(I20=0,0,K20/I20) -> 1.42 | O20: =IF(I20=0,0,L20/I20) -> 0 | P20: =IF(I20=0,0,M20/I20) -> 0 | Q20: 9 | Z20: =IF(I20=0,0,(U20+T20)/I20) -> 0 | AA20: =IF(OR(Q20=0,I20=0),"",Z20/Q20*100) -> 0 | AE20: =IF(AA20>85," ","WARNING") -> WARNING
A21: D | B21: BIGLIA 42 S2M-bitourelle | C21: =IFERROR(VLOOKUP(D21,Pieces!A:B,2,0)," ") -> I081-95-CP8 | D21: AXE BOITIER TFR+KB | E21: 820 | F21: 898 | G21: 898 | H21: 898 | I21: =IFERROR(VLOOKUP(D21,Pieces!A:C,3,0),"Entrer la cadence") -> 28 | J21: 1 | K21: =(F21-E21)*J21 -> 78 | L21: =(G21-F21)*J21 -> 0 | M21: =(H21-G21)*J21 -> 0 | N21: =IF(I21=0,0,K21/I21) -> 2.7857143 | O21: =IF(I21=0,0,L21/I21) -> 0 | P21: =IF(I21=0,0,M21/I21) -> 0 | Q21: 9 | S21: =U21+T21-K21-L21-M21 -> 0 | U21: 78 | Z21: =IF(I21=0,0,(U21+T21)/I21) -> 2.7857143 | AA21: =IF(OR(Q21=0,I21=0),"",Z21/Q21*100) -> 30.952381 | AE21: =IF(AA21>85," ","WARNING") -> WARNING
A22: E | B22: L32 | C22: =IFERROR(VLOOKUP(D22,Pieces!A:B,2,0)," ") -> 480387 | D22: EVACUATION 2/3G X-ONE carre l32 | E22: 0 | F22: 0 | G22: 0 | H22: 0 | I22: =IFERROR(VLOOKUP(D22,Pieces!A:C,3,0),"Entrer la cadence") -> 20 | J22: 1 | K22: =(F22-E22)*J22 -> 0 | L22: =(G22-F22)*J22 -> 0 | M22: =(H22-G22)*J22 -> 0 | N22: =IF(I22=0,0,K22/I22) -> 0 | O22: =IF(I22=0,0,L22/I22) -> 0 | P22: =IF(I22=0,0,M22/I22) -> 0 | Q22: 9 | S22: =U22+T22-K22-L22-M22 -> 0 | U22: 0 | Z22: =IF(I22=0,0,(U22+T22)/I22) -> 0 | AA22: =IF(OR(Q22=0,I22=0),"",Z22/Q22*100) -> 0 | AE22: =IF(AA22>85," ","WARNING") -> WARNING
A23: I | B23: TSUGAMI | C23: =IFERROR(VLOOKUP(D23,Pieces!A:B,2,0)," ") -> - | D23: Arrêt | E23: 0 | F23: 0 | G23: 0 | H23: 0 | I23: =IFERROR(VLOOKUP(D23,Pieces!A:C,3,0),"Entrer la cadence") -> 1 | J23: 1 | K23: =(F23-E23)*J23 -> 0 | L23: =(G23-F23)*J23 -> 0 | M23: =(H23-G23)*J23 -> 0 | N23: =IF(I23=0,0,K23/I23) -> 0 | O23: =IF(I23=0,0,L23/I23) -> 0 | P23: =IF(I23=0,0,M23/I23) -> 0 | Q23: 9 | S23: =U23+T23-K23-L23-M23 -> 0 | U23: 0 | Z23: =IF(I23=0,0,(U23+T23)/I23) -> 0 | AA23: =IF(OR(Q23=0,I23=0),"",Z23/Q23*100) -> 0 | AE23: =IF(AA23>85," ","WARNING") -> WARNING
A24: G | B24: MORI SEIKI 3 axes | C24: =IFERROR(VLOOKUP(D24,Pieces!A:B,2,0)," ") -> I110-01-004 | D24: INSERT LEVIER SURMOULEE 345833-01 - fraisage | E24: 887 | F24: 887 | G24: 887 | H24: 887 | I24: =IFERROR(VLOOKUP(D24,Pieces!A:C,3,0),"Entrer la cadence") -> 28 | J24: 7 | K24: =(F24-E24)*J24 -> 0 | L24: =(G24-F24)*J24 -> 0 | M24: =(H24-G24)*J24 -> 0 | N24: =IF(I24=0,0,K24/I24) -> 0 | O24: =IF(I24=0,0,L24/I24) -> 0 | P24: =IF(I24=0,0,M24/I24) -> 0 | Q24: 9 | S24: =U24+T24-K24-L24-M24 -> 0 | U24: 0 | Z24: =IF(I24=0,0,(U24+T24)/I24) -> 0 | AA24: =IF(OR(Q24=0,I24=0),"",Z24/Q24*100) -> 0 | AE24: =IF(AA24>85," ","WARNING") -> WARNING
A25: H | B25: MORI SEIKI 5 axes | C25: =IFERROR(VLOOKUP(D25,Pieces!A:B,2,0)," ") -> 480387 | D25: EVACUATION 2/3G X-ONE | E25: 80 | F25: 80 | G25: 80 | H25: 80 | I25: =IFERROR(VLOOKUP(D25,Pieces!A:C,3,0),"Entrer la cadence") -> 60 | J25: 20 | K25: =(F25-E25)*J25 -> 0 | L25: =(G25-F25)*J25 -> 0 | M25: =(H25-G25)*J25 -> 0 | N25: =IF(I25=0,0,K25/I25) -> 0 | O25: =IF(I25=0,0,L25/I25) -> 0 | P25: =IF(I25=0,0,M25/I25) -> 0 | Q25: 9 | S25: =U25+T25-K25-L25-M25 -> 0 | U25: 0 | Z25: =IF(I25=0,0,(U25+T25)/I25) -> 0 | AA25: =IF(OR(Q25=0,I25=0),"",Z25/Q25*100) -> 0 | AE25: =IF(AA25>85," ","WARNING") -> WARNING
A26: L | B26: HARDING | C26: =IFERROR(VLOOKUP(D26,Pieces!A:B,2,0)," ") -> PIG 50 SE- harding | D26: PIGNON PLATEAU SIMPLE ETAGE D50 - contournage dents | E26: 0 | F26: 12 | G26: 12 | H26: 12 | I26: =IFERROR(VLOOKUP(D26,Pieces!A:C,3,0),"Entrer la cadence") -> 38 | J26: 51 | K26: =(F26-E26)*J26 -> 612 | L26: =(G26-F26)*J26 -> 0 | M26: =(H26-G26)*J26 -> 0 | N26: =IF(I26=0,0,K26/I26) -> 16.105263 | O26: =IF(I26=0,0,L26/I26) -> 0 | P26: =IF(I26=0,0,M26/I26) -> 0 | Q26: 9 | R26: PIGNON PLATEAU SIMPLE ETAGE D50 - contournage dents + CLAMPING RING 360Fo) | S26: =U26+T26-K26-L26-M26 -> 0 | U26: 612 | Z26: =IF(I26=0,0,(U26+T26)/I26) -> 16.105263 | AA26: =IF(OR(Q26=0,I26=0),"",Z26/Q26*100) -> 178.94737 | AE26: =IF(AA26>85," ","WARNING")
A27: K | B27: KITAMURA | C27: =IFERROR(VLOOKUP(D27,Pieces!A:B,2,0)," ") -> - | D27: Arrêt | E27: 0 | F27: 0 | G27: 0 | H27: 0 | I27: =IFERROR(VLOOKUP(D27,Pieces!A:C,3,0),"Entrer la cadence") -> 1 | J27: 1 | K27: =(F27-E27)*J27 -> 0 | L27: =(G27-F27)*J27 -> 0 | M27: =(H27-G27)*J27 -> 0 | N27: =IF(I27=0,0,K27/I27) -> 0 | O27: =IF(I27=0,0,L27/I27) -> 0 | P27: =IF(I27=0,0,M27/I27) -> 0 | Q27: 9 | S27: =U27+T27-K27-L27-M27 -> 0 | U27: 0 | Z27: =IF(I27=0,0,(U27+T27)/I27) -> 0 | AA27: =IF(OR(Q27=0,I27=0),"",Z27/Q27*100) -> 0 | AE27: =IF(AA27>85," ","WARNING") -> WARNING
A28: F | B28: MULTI BROCHE | C28: =IFERROR(VLOOKUP(D28,Pieces!A:B,2,0)," ") -> MPS000300 | D28: raccord HEX 17 | E28: 180777 | F28: 180777 | G28: 180777 | H28: 180777 | I28: =IFERROR(VLOOKUP(D28,Pieces!A:C,3,0),"Entrer la cadence") -> 454 | J28: 1 | K28: =(F28-E28)*J28 -> 0 | L28: =(G28-F28)*J28 -> 0 | M28: =(H28-G28)*J28 -> 0 | N28: =IF(I28=0,0,K28/I28) -> 0 | O28: =IF(I28=0,0,L28/I28) -> 0 | P28: =IF(I28=0,0,M28/I28) -> 0 | Q28: 9 | S28: =U28+T28-K28-L28-M28 -> 0 | U28: 0 | Z28: =IF(I28=0,0,(U28+T28)/I28) -> 0 | AA28: =IF(OR(Q28=0,I28=0),"",Z28/Q28*100) -> 0 | AE28: =IF(AA28>85," ","WARNING") -> WARNING
A29: J | B29: NAKAMURA | C29: =IFERROR(VLOOKUP(D29,Pieces!A:B,2,0)," ") -> I143-CP1 | D29: ECROU DE ROUE TFR ISUZU -nak | E29: 671 | F29: 960 | G29: 960 | H29: 960 | I29: =IFERROR(VLOOKUP(D29,Pieces!A:C,3,0),"Entrer la cadence") -> 50 | J29: 1 | K29: =(F29-E29)*J29 -> 289 | L29: =(G29-F29)*J29 -> 0 | M29: =(H29-G29)*J29 -> 0 | N29: =IF(I29=0,0,K29/I29) -> 5.78 | O29: =IF(I29=0,0,L29/I29) -> 0 | P29: =IF(I29=0,0,M29/I29) -> 0 | Q29: 9 | S29: =U29+T29-K29-L29-M29 -> 0 | U29: 289 | Z29: =IF(I29=0,0,(U29+T29)/I29) -> 5.78 | AA29: =IF(OR(Q29=0,I29=0),"",Z29/Q29*100) -> 64.222222 | AE29: =IF(AA29>85," ","WARNING") -> WARNING
A30: M | B30: TOUR WEILER | C30: =IFERROR(VLOOKUP(D30,Pieces!A:B,2,0)," ") -> H001-PROD | D30: GOUJON DE ROUE HONDA PROD | E30: 656 | F30: 851 | G30: 851 | H30: 851 | I30: =IFERROR(VLOOKUP(D30,Pieces!A:C,3,0),"Entrer la cadence") -> 20 | J30: 1 | K30: =(F30-E30)*J30 -> 195 | L30: =(G30-F30)*J30 -> 0 | M30: =(H30-G30)*J30 -> 0 | N30: =IF(I30=0,0,K30/I30) -> 9.75 | O30: =IF(I30=0,0,L30/I30) -> 0 | P30: =IF(I30=0,0,M30/I30) -> 0 | Q30: 9 | S30: =U30+T30-K30-L30-M30 -> 0 | U30: 195 | Z30: =IF(I30=0,0,(U30+T30)/I30) -> 9.75 | AA30: =IF(OR(Q30=0,I30=0),"",Z30/Q30*100) -> 108.33333 | AE30: =IF(AA30>85," ","WARNING")
Q31: temps d'ouverture | R31: 9
C38: Rédacteur | J38: Approbateur:
C39: Date | J39: Date:
C40: Visa | J40: Visa:

Sheet 09-01-2020
C1: Tableau de production journalière | Z1: CODE: DAS-PRO-16
Z2: DATE:30/08/2019
Z3: VERSION:07
Z4: PAGE:1
A8: SYMBOLE | B8: MACHINE | C8: REF ARTICLE | D8: DESIGNATION | E8: COMPTEUR HIER à8H | F8: COMPTEUR HIER à 17H | G8: COMPTEUR HIER à 19H | H8: COMPTEUR AUJOURD’HUI à 8h | I8: CADENCE | J8: NOMBRE DE PIECES FINIS PAR CYCLE | K8: PIECES SUIVANT COMPTEU 8h-->17h | L8: PIECES SUIVANT COMPTEUR 17H-->19H | M8: PIECES SUIVANT COMPTEUR 6h-->8h | N8: NOMBRE D'HEURES DE TRAVAIL 8h-->17h | O8: NOMBRE D'HEURES DE TRAVAIL 17H-->19H | P8: NOMBRE D'HEURES DE TRAVAIL 6h-->8h | Q8: NOMBRE D'HEURES DE TRAVAIL | R8: OBSERVATIONS | S8: Pieces manquantes | T8: PIECES NC | U8: Pieces REELLES | V8: Nombre des pieces à retoucher | W8: Cause de la non-conformité | X8: Effet de la non-conformité | Y8: Valeur de l'effet | Z8: NOMBRES D'HEURES SUIVANT LES PIECES REELLES | AA8: RENDEMENT | AB8: Fiche de contrôle qualité début de serie | AC8: Affutage | AD8: Gamme d'usingae | AE8: ALERTES
A9: A | B9: PF25 N°21 | C9: =IFERROR(VLOOKUP(D9,#REF!,2,0)," ") | K9: =(F9-E9)*J9 -> 0 | L9: =(G9-F9)*J9 -> 0 | M9: =(#REF!-H9)*J9 -> #REF! | N9: =IF(I9=0,0,K9/I9) -> 0 | O9: =IF(I9=0,0,L9/I9) -> 0 | P9: =IF(I9=0,0,M9/I9) -> 0 | Q9: 24 | Z9: =IF(I9=0,0,(#REF!+T9)/I9) -> 0 | AA9: =IF(OR(Q9=0,I9=0),"",Z9/Q9*100) | AE9: =IF(AA9>85," ","WARNING")
A10: B | B10: PF25 N°22 | C10: =IFERROR(VLOOKUP(D10,#REF!,2,0)," ") | K10: =(F10-E10)*J10 -> 0 | L10: =(G10-F10)*J10 -> 0 | M10: =(#REF!-H10)*J10 -> #REF! | N10: =IF(I10=0,0,K10/I10) -> 0 | O10: =IF(I10=0,0,L10/I10) -> 0 | P10: =IF(I10=0,0,M10/I10) -> 0 | Q10: 24 | Z10: =IF(I10=0,0,(#REF!+T10)/I10) -> 0 | AA10: =IF(OR(Q10=0,I10=0),"",Z10/Q10*100) | AE10: =IF(AA10>85," ","WARNING")
A11: C | B11: PF25 N°23 | C11: =IFERROR(VLOOKUP(D11,#REF!,2,0)," ") | K11: =(F11-E11)*J11 -> 0 | L11: =(G11-F11)*J11 -> 0 | M11: =(#REF!-H11)*J11 -> #REF! | N11: =IF(I11=0,0,K11/I11) -> 0 | O11: =IF(I11=0,0,L11/I11) -> 0 | P11: =IF(I11=0,0,M11/I11) -> 0 | Q11: 24 | Z11: =IF(I11=0,0,(#REF!+T11)/I11) -> 0 | AA11: =IF(OR(Q11=0,I11=0),"",Z11/Q11*100) | AE11: =IF(AA11>85," ","WARNING")
A12: D | B12: PF25 N°24 | C12: =IFERROR(VLOOKUP(D12,#REF!,2,0)," ") | K12: =(F12-E12)*J12 -> 0 | L12: =(G12-F12)*J12 -> 0 | M12: =(#REF!-H12)*J12 -> #REF! | N12: =IF(I12=0,0,K12/I12) -> 0 | O12: =IF(I12=0,0,L12/I12) -> 0 | P12: =IF(I12=0,0,M12/I12) -> 0 | Q12: 24 | Z12: =IF(I12=0,0,(#REF!+T12)/I12) -> 0 | AA12: =IF(OR(Q12=0,I12=0),"",Z12/Q12*100) | AE12: =IF(AA12>85," ","WARNING")
A13: E | B13: PF25 N°25 | C13: =IFERROR(VLOOKUP(D13,#REF!,2,0)," ") | K13: =(F13-E13)*J13 -> 0 | L13: =(G13-F13)*J13 -> 0 | M13: =(#REF!-H13)*J13 -> #REF! | N13: =IF(I13=0,0,K13/I13) -> 0 | O13: =IF(I13=0,0,L13/I13) -> 0 | P13: =IF(I13=0,0,M13/I13) -> 0 | Q13: 24 | Z13: =IF(I13=0,0,(#REF!+T13)/I13) -> 0 | AA13: =IF(OR(Q13=0,I13=0),"",Z13/Q13*100) | AE13: =IF(AA13>85," ","WARNING")
A14: F | B14: PF25 N°26
A15: R | B15: PF21 N°27
A16: S | B16: PF42 N°20 | C16: =IFERROR(VLOOKUP(D16,#REF!,2,0)," ") | K16: =(F16-E16)*J16 -> 0 | L16: =(G16-F16)*J16 -> 0 | M16: =(#REF!-H16)*J16 -> #REF! | N16: =IF(I16=0,0,K16/I16) -> 0 | O16: =IF(I16=0,0,L16/I16) -> 0 | P16: =IF(I16=0,0,M16/I16) -> 0 | Q16: 24 | Z16: =IF(I16=0,0,(#REF!+T16)/I16) -> 0 | AA16: =IF(OR(Q16=0,I16=0),"",Z16/Q16*100) | AE16: =IF(AA16>85," ","WARNING")
A18: A | B18: SST16 | C18: =IFERROR(VLOOKUP(D18,Pieces!A:B,2,0)," ") -> outi-plot | D18: plot nez de marche | E18: 30685 | F18: 31325 | G18: 31325 | H18: 31325 | I18: =IFERROR(VLOOKUP(D18,Pieces!A:C,3,0),"Entrer la cadence") -> 75 | J18: 1 | K18: =(F18-E18)*J18 -> 640 | L18: =(G18-F18)*J18 -> 0 | M18: =(H18-G18)*J18 -> 0 | N18: =IF(I18=0,0,K18/I18) -> 8.5333333 | O18: =IF(I18=0,0,L18/I18) -> 0 | P18: =IF(I18=0,0,M18/I18) -> 0 | Q18: 9 | S18: =U18+T18-K18-L18-M18 -> 0 | U18: 640 | Z18: =IF(I18=0,0,(U18+T18)/I18) -> 8.5333333 | AA18: =IF(OR(Q18=0,I18=0),"",Z18/Q18*100) -> 94.814815 | AE18: =IF(AA18>85," ","WARNING")
A19: B | B19: SB16 | C19: =IFERROR(VLOOKUP(D19,Pieces!A:B,2,0)," ") -> 199400 | D19: TIRANT ACIER D6 | E19: 3290 | F19: 4751 | G19: 4751 | H19: 4751 | I19: =IFERROR(VLOOKUP(D19,Pieces!A:C,3,0),"Entrer la cadence") -> 150 | J19: 1 | K19: =(F19-E19)*J19 -> 1461 | L19: =(G19-F19)*J19 -> 0 | M19: =(H19-G19)*J19 -> 0 | N19: =IF(I19=0,0,K19/I19) -> 9.74 | O19: =IF(I19=0,0,L19/I19) -> 0 | P19: =IF(I19=0,0,M19/I19) -> 0 | Q19: 9 | S19: =U19+T19-K19-L19-M19 -> 0 | U19: 1461 | Z19: =IF(I19=0,0,(U19+T19)/I19) -> 9.74 | AA19: =IF(OR(Q19=0,I19=0),"",Z19/Q19*100) -> 108.22222 | AE19: =IF(AA19>85," ","WARNING")
A20: C | B20: BIGLIA 301 SM | C20: =IFERROR(VLOOKUP(D20,Pieces!A:B,2,0)," ") -> 512520 | D20: INSERTO MANOPOLA INOX M8 | E20: 732 | F20: 955 | G20: 955 | H20: 955 | I20: =IFERROR(VLOOKUP(D20,Pieces!A:C,3,0),"Entrer la cadence") -> 50 | J20: 1 | K20: =(F20-E20)*J20 -> 223 | L20: =(G20-F20)*J20 -> 0 | M20: =(H20-G20)*J20 -> 0 | N20: =IF(I20=0,0,K20/I20) -> 4.46 | O20: =IF(I20=0,0,L20/I20) -> 0 | P20: =IF(I20=0,0,M20/I20) -> 0 | Q20: 9 | Z20: =IF(I20=0,0,(U20+T20)/I20) -> 0 | AA20: =IF(OR(Q20=0,I20=0),"",Z20/Q20*100) -> 0 | AE20: =IF(AA20>85," ","WARNING") -> WARNING
A21: D | B21: BIGLIA 42 S2M-bitourelle | C21: =IFERROR(VLOOKUP(D21,Pieces!A:B,2,0)," ") -> I081-95-CP8 | D21: AXE BOITIER TFR+KB | E21: 708 | F21: 820 | G21: 820 | H21: 820 | I21: =IFERROR(VLOOKUP(D21,Pieces!A:C,3,0),"Entrer la cadence") -> 28 | J21: 1 | K21: =(F21-E21)*J21 -> 112 | L21: =(G21-F21)*J21 -> 0 | M21: =(H21-G21)*J21 -> 0 | N21: =IF(I21=0,0,K21/I21) -> 4 | O21: =IF(I21=0,0,L21/I21) -> 0 | P21: =IF(I21=0,0,M21/I21) -> 0 | Q21: 9 | S21: =U21+T21-K21-L21-M21 -> 0 | U21: 112 | Z21: =IF(I21=0,0,(U21+T21)/I21) -> 4 | AA21: =IF(OR(Q21=0,I21=0),"",Z21/Q21*100) -> 44.444444 | AE21: =IF(AA21>85," ","WARNING") -> WARNING
A22: E | B22: L32 | C22: =IFERROR(VLOOKUP(D22,Pieces!A:B,2,0)," ") -> 480387 | D22: EVACUATION 2/3G X-ONE carre l32 | E22: 0 | F22: 0 | G22: 0 | H22: 0 | I22: =IFERROR(VLOOKUP(D22,Pieces!A:C,3,0),"Entrer la cadence") -> 20 | J22: 1 | K22: =(F22-E22)*J22 -> 0 | L22: =(G22-F22)*J22 -> 0 | M22: =(H22-G22)*J22 -> 0 | N22: =IF(I22=0,0,K22/I22) -> 0 | O22: =IF(I22=0,0,L22/I22) -> 0 | P22: =IF(I22=0,0,M22/I22) -> 0 | Q22: 9 | S22: =U22+T22-K22-L22-M22 -> 0 | U22: 0 | Z22: =IF(I22=0,0,(U22+T22)/I22) -> 0 | AA22: =IF(OR(Q22=0,I22=0),"",Z22/Q22*100) -> 0 | AE22: =IF(AA22>85," ","WARNING") -> WARNING
A23: I | B23: TSUGAMI | C23: =IFERROR(VLOOKUP(D23,Pieces!A:B,2,0)," ") -> - | D23: Arrêt | E23: 0 | F23: 0 | G23: 0 | H23: 0 | I23: =IFERROR(VLOOKUP(D23,Pieces!A:C,3,0),"Entrer la cadence") -> 1 | J23: 1 | K23: =(F23-E23)*J23 -> 0 | L23: =(G23-F23)*J23 -> 0 | M23: =(H23-G23)*J23 -> 0 | N23: =IF(I23=0,0,K23/I23) -> 0 | O23: =IF(I23=0,0,L23/I23) -> 0 | P23: =IF(I23=0,0,M23/I23) -> 0 | Q23: 9 | S23: =U23+T23-K23-L23-M23 -> 0 | U23: 0 | Z23: =IF(I23=0,0,(U23+T23)/I23) -> 0 | AA23: =IF(OR(Q23=0,I23=0),"",Z23/Q23*100) -> 0 | AE23: =IF(AA23>85," ","WARNING") -> WARNING
A24: G | B24: MORI SEIKI 3 axes | C24: =IFERROR(VLOOKUP(D24,Pieces!A:B,2,0)," ") -> I110-01-004 | D24: INSERT LEVIER SURMOULEE 345833-01 - fraisage | E24: 887 | F24: 887 | G24: 887 | H24: 887 | I24: =IFERROR(VLOOKUP(D24,Pieces!A:C,3,0),"Entrer la cadence") -> 28 | J24: 7 | K24: =(F24-E24)*J24 -> 0 | L24: =(G24-F24)*J24 -> 0 | M24: =(H24-G24)*J24 -> 0 | N24: =IF(I24=0,0,K24/I24) -> 0 | O24: =IF(I24=0,0,L24/I24) -> 0 | P24: =IF(I24=0,0,M24/I24) -> 0 | Q24: 9 | S24: =U24+T24-K24-L24-M24 -> 0 | U24: 0 | Z24: =IF(I24=0,0,(U24+T24)/I24) -> 0 | AA24: =IF(OR(Q24=0,I24=0),"",Z24/Q24*100) -> 0 | AE24: =IF(AA24>85," ","WARNING") -> WARNING
A25: H | B25: MORI SEIKI 5 axes | C25: =IFERROR(VLOOKUP(D25,Pieces!A:B,2,0)," ") -> 480387 | D25: EVACUATION 2/3G X-ONE | E25: 80 | F25: 80 | G25: 80 | H25: 80 | I25: =IFERROR(VLOOKUP(D25,Pieces!A:C,3,0),"Entrer la cadence") -> 60 | J25: 20 | K25: =(F25-E25)*J25 -> 0 | L25: =(G25-F25)*J25 -> 0 | M25: =(H25-G25)*J25 -> 0 | N25: =IF(I25=0,0,K25/I25) -> 0 | O25: =IF(I25=0,0,L25/I25) -> 0 | P25: =IF(I25=0,0,M25/I25) -> 0 | Q25: 9 | S25: =U25+T25-K25-L25-M25 -> 0 | U25: 0 | Z25: =IF(I25=0,0,(U25+T25)/I25) -> 0 | AA25: =IF(OR(Q25=0,I25=0),"",Z25/Q25*100) -> 0 | AE25: =IF(AA25>85," ","WARNING") -> WARNING
A26: L | B26: HARDING | C26: =IFERROR(VLOOKUP(D26,Pieces!A:B,2,0)," ") -> PIG 50 SE- harding | D26: PIGNON PLATEAU SIMPLE ETAGE D50 - contournage dents | E26: 31 | F26: 31 | G26: 31 | H26: 31 | I26: =IFERROR(VLOOKUP(D26,Pieces!A:C,3,0),"Entrer la cadence") -> 38 | J26: 51 | K26: =(F26-E26)*J26 -> 0 | L26: =(G26-F26)*J26 -> 0 | M26: =(H26-G26)*J26 -> 0 | N26: =IF(I26=0,0,K26/I26) -> 0 | O26: =IF(I26=0,0,L26/I26) -> 0 | P26: =IF(I26=0,0,M26/I26) -> 0 | Q26: 9 | S26: =U26+T26-K26-L26-M26 -> 0 | U26: 0 | Z26: =IF(I26=0,0,(U26+T26)/I26) -> 0 | AA26: =IF(OR(Q26=0,I26=0),"",Z26/Q26*100) -> 0 | AE26: =IF(AA26>85," ","WARNING") -> WARNING
A27: K | B27: KITAMURA | C27: =IFERROR(VLOOKUP(D27,Pieces!A:B,2,0)," ") -> - | D27: Arrêt | E27: 0 | F27: 0 | G27: 0 | H27: 0 | I27: =IFERROR(VLOOKUP(D27,Pieces!A:C,3,0),"Entrer la cadence") -> 1 | J27: 1 | K27: =(F27-E27)*J27 -> 0 | L27: =(G27-F27)*J27 -> 0 | M27: =(H27-G27)*J27 -> 0 | N27: =IF(I27=0,0,K27/I27) -> 0 | O27: =IF(I27=0,0,L27/I27) -> 0 | P27: =IF(I27=0,0,M27/I27) -> 0 | Q27: 9 | S27: =U27+T27-K27-L27-M27 -> 0 | U27: 0 | Z27: =IF(I27=0,0,(U27+T27)/I27) -> 0 | AA27: =IF(OR(Q27=0,I27=0),"",Z27/Q27*100) -> 0 | AE27: =IF(AA27>85," ","WARNING") -> WARNING
A28: F | B28: MULTI BROCHE | C28: =IFERROR(VLOOKUP(D28,Pieces!A:B,2,0)," ") -> MPS000300 | D28: raccord HEX 17 | E28: 180777 | F28: 180777 | G28: 180777 | H28: 180777 | I28: =IFERROR(VLOOKUP(D28,Pieces!A:C,3,0),"Entrer la cadence") -> 454 | J28: 1 | K28: =(F28-E28)*J28 -> 0 | L28: =(G28-F28)*J28 -> 0 | M28: =(H28-G28)*J28 -> 0 | N28: =IF(I28=0,0,K28/I28) -> 0 | O28: =IF(I28=0,0,L28/I28) -> 0 | P28: =IF(I28=0,0,M28/I28) -> 0 | Q28: 9 | S28: =U28+T28-K28-L28-M28 -> 0 | U28: 0 | Z28: =IF(I28=0,0,(U28+T28)/I28) -> 0 | AA28: =IF(OR(Q28=0,I28=0),"",Z28/Q28*100) -> 0 | AE28: =IF(AA28>85," ","WARNING") -> WARNING
A29: J | B29: NAKAMURA | C29: =IFERROR(VLOOKUP(D29,Pieces!A:B,2,0)," ") -> I143-CP1 | D29: ECROU DE ROUE TFR ISUZU -nak | E29: 370 | F29: 671 | G29: 671 | H29: 671 | I29: =IFERROR(VLOOKUP(D29,Pieces!A:C,3,0),"Entrer la cadence") -> 50 | J29: 1 | K29: =(F29-E29)*J29 -> 301 | L29: =(G29-F29)*J29 -> 0 | M29: =(H29-G29)*J29 -> 0 | N29: =IF(I29=0,0,K29/I29) -> 6.02 | O29: =IF(I29=0,0,L29/I29) -> 0 | P29: =IF(I29=0,0,M29/I29) -> 0 | Q29: 9 | S29: =U29+T29-K29-L29-M29 -> 0 | U29: 301 | Z29: =IF(I29=0,0,(U29+T29)/I29) -> 6.02 | AA29: =IF(OR(Q29=0,I29=0),"",Z29/Q29*100) -> 66.888889 | AE29: =IF(AA29>85," ","WARNING") -> WARNING
A30: M | B30: TOUR WEILER | C30: =IFERROR(VLOOKUP(D30,Pieces!A:B,2,0)," ") -> H001-PROD | D30: GOUJON DE ROUE HONDA PROD | E30: 454 | F30: 656 | G30: 656 | H30: 656 | I30: =IFERROR(VLOOKUP(D30,Pieces!A:C,3,0),"Entrer la cadence") -> 20 | J30: 1 | K30: =(F30-E30)*J30 -> 202 | L30: =(G30-F30)*J30 -> 0 | M30: =(H30-G30)*J30 -> 0 | N30: =IF(I30=0,0,K30/I30) -> 10.1 | O30: =IF(I30=0,0,L30/I30) -> 0 | P30: =IF(I30=0,0,M30/I30) -> 0 | Q30: 9 | S30: =U30+T30-K30-L30-M30 -> 0 | U30: 202 | Z30: =IF(I30=0,0,(U30+T30)/I30) -> 10.1 | AA30: =IF(OR(Q30=0,I30=0),"",Z30/Q30*100) -> 112.22222 | AE30: =IF(AA30>85," ","WARNING")
Q31: temps d'ouverture | R31: 9
C38: Rédacteur | J38: Approbateur:
C39: Date | J39: Date:
C40: Visa | J40: Visa:

Sheet 08-01-2020
C1: Tableau de production journalière | Z1: CODE: DAS-PRO-16
Z2: DATE:30/08/2019
Z3: VERSION:07
Z4: PAGE:1
A8: SYMBOLE | B8: MACHINE | C8: REF ARTICLE | D8: DESIGNATION | E8: COMPTEUR HIER à8H | F8: COMPTEUR HIER à 17H | G8: COMPTEUR HIER à 19H | H8: COMPTEUR AUJOURD’HUI à 8h | I8: CADENCE | J8: NOMBRE DE PIECES FINIS PAR CYCLE | K8: PIECES SUIVANT COMPTEU 8h-->17h | L8: PIECES SUIVANT COMPTEUR 17H-->19H | M8: PIECES SUIVANT COMPTEUR 6h-->8h | N8: NOMBRE D'HEURES DE TRAVAIL 8h-->17h | O8: NOMBRE D'HEURES DE TRAVAIL 17H-->19H | P8: NOMBRE D'HEURES DE TRAVAIL 6h-->8h | Q8: NOMBRE D'HEURES DE TRAVAIL | R8: OBSERVATIONS | S8: Pieces manquantes | T8: PIECES NC | U8: Pieces REELLES | V8: Nombre des pieces à retoucher | W8: Cause de la non-conformité | X8: Effet de la non-conformité | Y8: Valeur de l'effet | Z8: NOMBRES D'HEURES SUIVANT LES PIECES REELLES | AA8: RENDEMENT | AB8: Fiche de contrôle qualité début de serie | AC8: Affutage | AD8: Gamme d'usingae | AE8: ALERTES
A9: A | B9: PF25 N°21 | C9: =IFERROR(VLOOKUP(D9,#REF!,2,0)," ") | K9: =(F9-E9)*J9 -> 0 | L9: =(G9-F9)*J9 -> 0 | M9: =(#REF!-H9)*J9 -> #REF! | N9: =IF(I9=0,0,K9/I9) -> 0 | O9: =IF(I9=0,0,L9/I9) -> 0 | P9: =IF(I9=0,0,M9/I9) -> 0 | Q9: 24 | Z9: =IF(I9=0,0,(#REF!+T9)/I9) -> 0 | AA9: =IF(OR(Q9=0,I9=0),"",Z9/Q9*100) | AE9: =IF(AA9>85," ","WARNING")
A10: B | B10: PF25 N°22 | C10: =IFERROR(VLOOKUP(D10,#REF!,2,0)," ") | K10: =(F10-E10)*J10 -> 0 | L10: =(G10-F10)*J10 -> 0 | M10: =(#REF!-H10)*J10 -> #REF! | N10: =IF(I10=0,0,K10/I10) -> 0 | O10: =IF(I10=0,0,L10/I10) -> 0 | P10: =IF(I10=0,0,M10/I10) -> 0 | Q10: 24 | Z10: =IF(I10=0,0,(#REF!+T10)/I10) -> 0 | AA10: =IF(OR(Q10=0,I10=0),"",Z10/Q10*100) | AE10: =IF(AA10>85," ","WARNING")
A11: C | B11: PF25 N°23 | C11: =IFERROR(VLOOKUP(D11,#REF!,2,0)," ") | K11: =(F11-E11)*J11 -> 0 | L11: =(G11-F11)*J11 -> 0 | M11: =(#REF!-H11)*J11 -> #REF! | N11: =IF(I11=0,0,K11/I11) -> 0 | O11: =IF(I11=0,0,L11/I11) -> 0 | P11: =IF(I11=0,0,M11/I11) -> 0 | Q11: 24 | Z11: =IF(I11=0,0,(#REF!+T11)/I11) -> 0 | AA11: =IF(OR(Q11=0,I11=0),"",Z11/Q11*100) | AE11: =IF(AA11>85," ","WARNING")
A12: D | B12: PF25 N°24 | C12: =IFERROR(VLOOKUP(D12,#REF!,2,0)," ") | K12: =(F12-E12)*J12 -> 0 | L12: =(G12-F12)*J12 -> 0 | M12: =(#REF!-H12)*J12 -> #REF! | N12: =IF(I12=0,0,K12/I12) -> 0 | O12: =IF(I12=0,0,L12/I12) -> 0 | P12: =IF(I12=0,0,M12/I12) -> 0 | Q12: 24 | Z12: =IF(I12=0,0,(#REF!+T12)/I12) -> 0 | AA12: =IF(OR(Q12=0,I12=0),"",Z12/Q12*100) | AE12: =IF(AA12>85," ","WARNING")
A13: E | B13: PF25 N°25 | C13: =IFERROR(VLOOKUP(D13,#REF!,2,0)," ") | K13: =(F13-E13)*J13 -> 0 | L13: =(G13-F13)*J13 -> 0 | M13: =(#REF!-H13)*J13 -> #REF! | N13: =IF(I13=0,0,K13/I13) -> 0 | O13: =IF(I13=0,0,L13/I13) -> 0 | P13: =IF(I13=0,0,M13/I13) -> 0 | Q13: 24 | Z13: =IF(I13=0,0,(#REF!+T13)/I13) -> 0 | AA13: =IF(OR(Q13=0,I13=0),"",Z13/Q13*100) | AE13: =IF(AA13>85," ","WARNING")
A14: F | B14: PF25 N°26
A15: R | B15: PF21 N°27
A16: S | B16: PF42 N°20 | C16: =IFERROR(VLOOKUP(D16,#REF!,2,0)," ") | K16: =(F16-E16)*J16 -> 0 | L16: =(G16-F16)*J16 -> 0 | M16: =(#REF!-H16)*J16 -> #REF! | N16: =IF(I16=0,0,K16/I16) -> 0 | O16: =IF(I16=0,0,L16/I16) -> 0 | P16: =IF(I16=0,0,M16/I16) -> 0 | Q16: 24 | Z16: =IF(I16=0,0,(#REF!+T16)/I16) -> 0 | AA16: =IF(OR(Q16=0,I16=0),"",Z16/Q16*100) | AE16: =IF(AA16>85," ","WARNING")
A18: A | B18: SST16 | C18: =IFERROR(VLOOKUP(D18,Pieces!A:B,2,0)," ") -> outi-plot | D18: plot nez de marche | E18: 30685 | F18: 30685 | G18: 30685 | H18: 30685 | I18: =IFERROR(VLOOKUP(D18,Pieces!A:C,3,0),"Entrer la cadence") -> 75 | J18: 1 | K18: =(F18-E18)*J18 -> 0 | L18: =(G18-F18)*J18 -> 0 | M18: =(H18-G18)*J18 -> 0 | N18: =IF(I18=0,0,K18/I18) -> 0 | O18: =IF(I18=0,0,L18/I18) -> 0 | P18: =IF(I18=0,0,M18/I18) -> 0 | Q18: 9 | S18: =U18+T18-K18-L18-M18 -> 900 | U18: 900 | Z18: =IF(I18=0,0,(U18+T18)/I18) -> 12 | AA18: =IF(OR(Q18=0,I18=0),"",Z18/Q18*100) -> 133.33333 | AE18: =IF(AA18>85," ","WARNING")
A19: B | B19: SB16 | C19: =IFERROR(VLOOKUP(D19,Pieces!A:B,2,0)," ") -> 199400 | D19: TIRANT ACIER D6 | E19: 3290 | F19: 3290 | G19: 3290 | H19: 3290 | I19: =IFERROR(VLOOKUP(D19,Pieces!A:C,3,0),"Entrer la cadence") -> 150 | J19: 1 | K19: =(F19-E19)*J19 -> 0 | L19: =(G19-F19)*J19 -> 0 | M19: =(H19-G19)*J19 -> 0 | N19: =IF(I19=0,0,K19/I19) -> 0 | O19: =IF(I19=0,0,L19/I19) -> 0 | P19: =IF(I19=0,0,M19/I19) -> 0 | Q19: 9 | S19: =U19+T19-K19-L19-M19 -> 1048 | U19: 1048 | Z19: =IF(I19=0,0,(U19+T19)/I19) -> 6.9866667 | AA19: =IF(OR(Q19=0,I19=0),"",Z19/Q19*100) -> 77.62963 | AE19: =IF(AA19>85," ","WARNING") -> WARNING
A20: C | B20: BIGLIA 301 SM | C20: =IFERROR(VLOOKUP(D20,Pieces!A:B,2,0)," ") -> 512520 | D20: INSERTO MANOPOLA INOX M8 | E20: 732 | F20: 732 | G20: 732 | H20: 732 | I20: =IFERROR(VLOOKUP(D20,Pieces!A:C,3,0),"Entrer la cadence") -> 50 | J20: 1 | K20: =(F20-E20)*J20 -> 0 | L20: =(G20-F20)*J20 -> 0 | M20: =(H20-G20)*J20 -> 0 | N20: =IF(I20=0,0,K20/I20) -> 0 | O20: =IF(I20=0,0,L20/I20) -> 0 | P20: =IF(I20=0,0,M20/I20) -> 0 | Q20: 9 | U20: 384 | Z20: =IF(I20=0,0,(U20+T20)/I20) -> 7.68 | AA20: =IF(OR(Q20=0,I20=0),"",Z20/Q20*100) -> 85.333333 | AE20: =IF(AA20>85," ","WARNING")
A21: D | B21: BIGLIA 42 S2M-bitourelle | C21: =IFERROR(VLOOKUP(D21,Pieces!A:B,2,0)," ") -> I081-95-CP8 | D21: AXE BOITIER TFR+KB | E21: 708 | F21: 708 | G21: 708 | H21: 708 | I21: =IFERROR(VLOOKUP(D21,Pieces!A:C,3,0),"Entrer la cadence") -> 28 | J21: 1 | K21: =(F21-E21)*J21 -> 0 | L21: =(G21-F21)*J21 -> 0 | M21: =(H21-G21)*J21 -> 0 | N21: =IF(I21=0,0,K21/I21) -> 0 | O21: =IF(I21=0,0,L21/I21) -> 0 | P21: =IF(I21=0,0,M21/I21) -> 0 | Q21: 9 | S21: =U21+T21-K21-L21-M21 -> 101 | U21: 101 | Z21: =IF(I21=0,0,(U21+T21)/I21) -> 3.6071429 | AA21: =IF(OR(Q21=0,I21=0),"",Z21/Q21*100) -> 40.079365 | AE21: =IF(AA21>85," ","WARNING") -> WARNING
A22: E | B22: L32 | C22: =IFERROR(VLOOKUP(D22,Pieces!A:B,2,0)," ") -> 480387 | D22: EVACUATION 2/3G X-ONE carre l32 | E22: 0 | F22: 0 | G22: 0 | H22: 0 | I22: =IFERROR(VLOOKUP(D22,Pieces!A:C,3,0),"Entrer la cadence") -> 20 | J22: 1 | K22: =(F22-E22)*J22 -> 0 | L22: =(G22-F22)*J22 -> 0 | M22: =(H22-G22)*J22 -> 0 | N22: =IF(I22=0,0,K22/I22) -> 0 | O22: =IF(I22=0,0,L22/I22) -> 0 | P22: =IF(I22=0,0,M22/I22) -> 0 | Q22: 9 | S22: =U22+T22-K22-L22-M22 -> 0 | U22: 0 | Z22: =IF(I22=0,0,(U22+T22)/I22) -> 0 | AA22: =IF(OR(Q22=0,I22=0),"",Z22/Q22*100) -> 0 | AE22: =IF(AA22>85," ","WARNING") -> WARNING
A23: I | B23: TSUGAMI | C23: =IFERROR(VLOOKUP(D23,Pieces!A:B,2,0)," ") -> - | D23: Arrêt | E23: 0 | F23: 0 | G23: 0 | H23: 0 | I23: =IFERROR(VLOOKUP(D23,Pieces!A:C,3,0),"Entrer la cadence") -> 1 | J23: 1 | K23: =(F23-E23)*J23 -> 0 | L23: =(G23-F23)*J23 -> 0 | M23: =(H23-G23)*J23 -> 0 | N23: =IF(I23=0,0,K23/I23) -> 0 | O23: =IF(I23=0,0,L23/I23) -> 0 | P23: =IF(I23=0,0,M23/I23) -> 0 | Q23: 9 | S23: =U23+T23-K23-L23-M23 -> 0 | U23: 0 | Z23: =IF(I23=0,0,(U23+T23)/I23) -> 0 | AA23: =IF(OR(Q23=0,I23=0),"",Z23/Q23*100) -> 0 | AE23: =IF(AA23>85," ","WARNING") -> WARNING
A24: G | B24: MORI SEIKI 3 axes | C24: =IFERROR(VLOOKUP(D24,Pieces!A:B,2,0)," ") -> I110-01-004 | D24: INSERT LEVIER SURMOULEE 345833-01 - fraisage | E24: 887 | F24: 887 | G24: 887 | H24: 887 | I24: =IFERROR(VLOOKUP(D24,Pieces!A:C,3,0),"Entrer la cadence") -> 28 | J24: 7 | K24: =(F24-E24)*J24 -> 0 | L24: =(G24-F24)*J24 -> 0 | M24: =(H24-G24)*J24 -> 0 | N24: =IF(I24=0,0,K24/I24) -> 0 | O24: =IF(I24=0,0,L24/I24) -> 0 | P24: =IF(I24=0,0,M24/I24) -> 0 | Q24: 9 | S24: =U24+T24-K24-L24-M24 -> 0 | U24: 0 | Z24: =IF(I24=0,0,(U24+T24)/I24) -> 0 | AA24: =IF(OR(Q24=0,I24=0),"",Z24/Q24*100) -> 0 | AE24: =IF(AA24>85," ","WARNING") -> WARNING
A25: H | B25: MORI SEIKI 5 axes | C25: =IFERROR(VLOOKUP(D25,Pieces!A:B,2,0)," ") -> 480387 | D25: EVACUATION 2/3G X-ONE | E25: 80 | F25: 80 | G25: 80 | H25: 80 | I25: =IFERROR(VLOOKUP(D25,Pieces!A:C,3,0),"Entrer la cadence") -> 60 | J25: 20 | K25: =(F25-E25)*J25 -> 0 | L25: =(G25-F25)*J25 -> 0 | M25: =(H25-G25)*J25 -> 0 | N25: =IF(I25=0,0,K25/I25) -> 0 | O25: =IF(I25=0,0,L25/I25) -> 0 | P25: =IF(I25=0,0,M25/I25) -> 0 | Q25: 9 | S25: =U25+T25-K25-L25-M25 -> 0 | U25: 0 | Z25: =IF(I25=0,0,(U25+T25)/I25) -> 0 | AA25: =IF(OR(Q25=0,I25=0),"",Z25/Q25*100) -> 0 | AE25: =IF(AA25>85," ","WARNING") -> WARNING
A26: L | B26: HARDING | C26: =IFERROR(VLOOKUP(D26,Pieces!A:B,2,0)," ") -> PIG 50 SE- harding | D26: PIGNON PLATEAU SIMPLE ETAGE D50 - contournage dents | E26: 31 | F26: 31 | G26: 31 | H26: 31 | I26: =IFERROR(VLOOKUP(D26,Pieces!A:C,3,0),"Entrer la cadence") -> 38 | J26: 51 | K26: =(F26-E26)*J26 -> 0 | L26: =(G26-F26)*J26 -> 0 | M26: =(H26-G26)*J26 -> 0 | N26: =IF(I26=0,0,K26/I26) -> 0 | O26: =IF(I26=0,0,L26/I26) -> 0 | P26: =IF(I26=0,0,M26/I26) -> 0 | Q26: 9 | S26: =U26+T26-K26-L26-M26 -> 408 | U26: 408 | Z26: =IF(I26=0,0,(U26+T26)/I26) -> 10.736842 | AA26: =IF(OR(Q26=0,I26=0),"",Z26/Q26*100) -> 119.29825 | AE26: =IF(AA26>85," ","WARNING")
A27: K | B27: KITAMURA | C27: =IFERROR(VLOOKUP(D27,Pieces!A:B,2,0)," ") -> - | D27: Arrêt | E27: 0 | F27: 0 | G27: 0 | H27: 0 | I27: =IFERROR(VLOOKUP(D27,Pieces!A:C,3,0),"Entrer la cadence") -> 1 | J27: 1 | K27: =(F27-E27)*J27 -> 0 | L27: =(G27-F27)*J27 -> 0 | M27: =(H27-G27)*J27 -> 0 | N27: =IF(I27=0,0,K27/I27) -> 0 | O27: =IF(I27=0,0,L27/I27) -> 0 | P27: =IF(I27=0,0,M27/I27) -> 0 | Q27: 9 | S27: =U27+T27-K27-L27-M27 -> 0 | U27: 0 | Z27: =IF(I27=0,0,(U27+T27)/I27) -> 0 | AA27: =IF(OR(Q27=0,I27=0),"",Z27/Q27*100) -> 0 | AE27: =IF(AA27>85," ","WARNING") -> WARNING
A28: F | B28: MULTI BROCHE | C28: =IFERROR(VLOOKUP(D28,Pieces!A:B,2,0)," ") -> MPS000300 | D28: raccord HEX 17 | E28: 180777 | F28: 180777 | G28: 180777 | H28: 180777 | I28: =IFERROR(VLOOKUP(D28,Pieces!A:C,3,0),"Entrer la cadence") -> 454 | J28: 1 | K28: =(F28-E28)*J28 -> 0 | L28: =(G28-F28)*J28 -> 0 | M28: =(H28-G28)*J28 -> 0 | N28: =IF(I28=0,0,K28/I28) -> 0 | O28: =IF(I28=0,0,L28/I28) -> 0 | P28: =IF(I28=0,0,M28/I28) -> 0 | Q28: 9 | S28: =U28+T28-K28-L28-M28 -> 0 | U28: 0 | Z28: =IF(I28=0,0,(U28+T28)/I28) -> 0 | AA28: =IF(OR(Q28=0,I28=0),"",Z28/Q28*100) -> 0 | AE28: =IF(AA28>85," ","WARNING") -> WARNING
A29: J | B29: NAKAMURA | C29: =IFERROR(VLOOKUP(D29,Pieces!A:B,2,0)," ") -> I143-CP1 | D29: ECROU DE ROUE TFR ISUZU -nak | E29: 370 | F29: 370 | G29: 370 | H29: 370 | I29: =IFERROR(VLOOKUP(D29,Pieces!A:C,3,0),"Entrer la cadence") -> 50 | J29: 1 | K29: =(F29-E29)*J29 -> 0 | L29: =(G29-F29)*J29 -> 0 | M29: =(H29-G29)*J29 -> 0 | N29: =IF(I29=0,0,K29/I29) -> 0 | O29: =IF(I29=0,0,L29/I29) -> 0 | P29: =IF(I29=0,0,M29/I29) -> 0 | Q29: 9 | S29: =U29+T29-K29-L29-M29 -> 398 | U29: 398 | Z29: =IF(I29=0,0,(U29+T29)/I29) -> 7.96 | AA29: =IF(OR(Q29=0,I29=0),"",Z29/Q29*100) -> 88.444444 | AE29: =IF(AA29>85," ","WARNING")
A30: M | B30: TOUR WEILER | C30: =IFERROR(VLOOKUP(D30,Pieces!A:B,2,0)," ") -> H001-PROD | D30: GOUJON DE ROUE HONDA PROD | E30: 454 | F30: 454 | G30: 454 | H30: 454 | I30: =IFERROR(VLOOKUP(D30,Pieces!A:C,3,0),"Entrer la cadence") -> 20 | J30: 1 | K30: =(F30-E30)*J30 -> 0 | L30: =(G30-F30)*J30 -> 0 | M30: =(H30-G30)*J30 -> 0 | N30: =IF(I30=0,0,K30/I30) -> 0 | O30: =IF(I30=0,0,L30/I30) -> 0 | P30: =IF(I30=0,0,M30/I30) -> 0 | Q30: 9 | S30: =U30+T30-K30-L30-M30 -> 170 | U30: 170 | Z30: =IF(I30=0,0,(U30+T30)/I30) -> 8.5 | AA30: =IF(OR(Q30=0,I30=0),"",Z30/Q30*100) -> 94.444444 | AE30: =IF(AA30>85," ","WARNING")
Q31: temps d'ouverture | R31: 9
C38: Rédacteur | J38: Approbateur:
C39: Date | J39: Date:
C40: Visa | J40: Visa:

Sheet 07-01-2020
C1: Tableau de production journalière | Z1: CODE: DAS-PRO-16
Z2: DATE:30/08/2019
Z3: VERSION:07
Z4: PAGE:1
A8: SYMBOLE | B8: MACHINE | C8: REF ARTICLE | D8: DESIGNATION | E8: COMPTEUR HIER à8H | F8: COMPTEUR HIER à 17H | G8: COMPTEUR HIER à 19H | H8: COMPTEUR AUJOURD’HUI à 8h | I8: CADENCE | J8: NOMBRE DE PIECES FINIS PAR CYCLE | K8: PIECES SUIVANT COMPTEU 8h-->17h | L8: PIECES SUIVANT COMPTEUR 17H-->19H | M8: PIECES SUIVANT COMPTEUR 6h-->8h | N8: NOMBRE D'HEURES DE TRAVAIL 8h-->17h | O8: NOMBRE D'HEURES DE TRAVAIL 17H-->19H | P8: NOMBRE D'HEURES DE TRAVAIL 6h-->8h | Q8: NOMBRE D'HEURES DE TRAVAIL | R8: OBSERVATIONS | S8: Pieces manquantes | T8: PIECES NC | U8: Pieces REELLES | V8: Nombre des pieces à retoucher | W8: Cause de la non-conformité | X8: Effet de la non-conformité | Y8: Valeur de l'effet | Z8: NOMBRES D'HEURES SUIVANT LES PIECES REELLES | AA8: RENDEMENT | AB8: Fiche de contrôle qualité début de serie | AC8: Affutage | AD8: Gamme d'usingae | AE8: ALERTES
A9: A | B9: PF25 N°21 | C9: =IFERROR(VLOOKUP(D9,#REF!,2,0)," ") | K9: =(F9-E9)*J9 -> 0 | L9: =(G9-F9)*J9 -> 0 | M9: =(#REF!-H9)*J9 -> #REF! | N9: =IF(I9=0,0,K9/I9) -> 0 | O9: =IF(I9=0,0,L9/I9) -> 0 | P9: =IF(I9=0,0,M9/I9) -> 0 | Q9: 24 | Z9: =IF(I9=0,0,(#REF!+T9)/I9) -> 0 | AA9: =IF(OR(Q9=0,I9=0),"",Z9/Q9*100) | AE9: =IF(AA9>85," ","WARNING")
A10: B | B10: PF25 N°22 | C10: =IFERROR(VLOOKUP(D10,#REF!,2,0)," ") | K10: =(F10-E10)*J10 -> 0 | L10: =(G10-F10)*J10 -> 0 | M10: =(#REF!-H10)*J10 -> #REF! | N10: =IF(I10=0,0,K10/I10) -> 0 | O10: =IF(I10=0,0,L10/I10) -> 0 | P10: =IF(I10=0,0,M10/I10) -> 0 | Q10: 24 | Z10: =IF(I10=0,0,(#REF!+T10)/I10) -> 0 | AA10: =IF(OR(Q10=0,I10=0),"",Z10/Q10*100) | AE10: =IF(AA10>85," ","WARNING")
A11: C | B11: PF25 N°23 | C11: =IFERROR(VLOOKUP(D11,#REF!,2,0)," ") | K11: =(F11-E11)*J11 -> 0 | L11: =(G11-F11)*J11 -> 0 | M11: =(#REF!-H11)*J11 -> #REF! | N11: =IF(I11=0,0,K11/I11) -> 0 | O11: =IF(I11=0,0,L11/I11) -> 0 | P11: =IF(I11=0,0,M11/I11) -> 0 | Q11: 24 | Z11: =IF(I11=0,0,(#REF!+T11)/I11) -> 0 | AA11: =IF(OR(Q11=0,I11=0),"",Z11/Q11*100) | AE11: =IF(AA11>85," ","WARNING")
A12: D | B12: PF25 N°24 | C12: =IFERROR(VLOOKUP(D12,#REF!,2,0)," ") | K12: =(F12-E12)*J12 -> 0 | L12: =(G12-F12)*J12 -> 0 | M12: =(#REF!-H12)*J12 -> #REF! | N12: =IF(I12=0,0,K12/I12) -> 0 | O12: =IF(I12=0,0,L12/I12) -> 0 | P12: =IF(I12=0,0,M12/I12) -> 0 | Q12: 24 | Z12: =IF(I12=0,0,(#REF!+T12)/I12) -> 0 | AA12: =IF(OR(Q12=0,I12=0),"",Z12/Q12*100) | AE12: =IF(AA12>85," ","WARNING")
A13: E | B13: PF25 N°25 | C13: =IFERROR(VLOOKUP(D13,#REF!,2,0)," ") | K13: =(F13-E13)*J13 -> 0 | L13: =(G13-F13)*J13 -> 0 | M13: =(#REF!-H13)*J13 -> #REF! | N13: =IF(I13=0,0,K13/I13) -> 0 | O13: =IF(I13=0,0,L13/I13) -> 0 | P13: =IF(I13=0,0,M13/I13) -> 0 | Q13: 24 | Z13: =IF(I13=0,0,(#REF!+T13)/I13) -> 0 | AA13: =IF(OR(Q13=0,I13=0),"",Z13/Q13*100) | AE13: =IF(AA13>85," ","WARNING")
A14: F | B14: PF25 N°26
A15: R | B15: PF21 N°27
A16: S | B16: PF42 N°20 | C16: =IFERROR(VLOOKUP(D16,#REF!,2,0)," ") | K16: =(F16-E16)*J16 -> 0 | L16: =(G16-F16)*J16 -> 0 | M16: =(#REF!-H16)*J16 -> #REF! | N16: =IF(I16=0,0,K16/I16) -> 0 | O16: =IF(I16=0,0,L16/I16) -> 0 | P16: =IF(I16=0,0,M16/I16) -> 0 | Q16: 24 | Z16: =IF(I16=0,0,(#REF!+T16)/I16) -> 0 | AA16: =IF(OR(Q16=0,I16=0),"",Z16/Q16*100) | AE16: =IF(AA16>85," ","WARNING")
A18: A | B18: SST16 | C18: =IFERROR(VLOOKUP(D18,Pieces!A:B,2,0)," ") -> outi-plot | D18: plot nez de marche | E18: 30041 | F18: 30685 | G18: 30685 | H18: 30685 | I18: =IFERROR(VLOOKUP(D18,Pieces!A:C,3,0),"Entrer la cadence") -> 75 | J18: 1 | K18: =(F18-E18)*J18 -> 644 | L18: =(G18-F18)*J18 -> 0 | M18: =(H18-G18)*J18 -> 0 | N18: =IF(I18=0,0,K18/I18) -> 8.5866667 | O18: =IF(I18=0,0,L18/I18) -> 0 | P18: =IF(I18=0,0,M18/I18) -> 0 | Q18: 13 | S18: =U18+T18-K18-L18-M18 -> 0 | U18: 644 | Z18: =IF(I18=0,0,(U18+T18)/I18) -> 8.5866667 | AA18: =IF(OR(Q18=0,I18=0),"",Z18/Q18*100) -> 66.051282 | AE18: =IF(AA18>85," ","WARNING") -> WARNING
A19: B | B19: SB16 | C19: =IFERROR(VLOOKUP(D19,Pieces!A:B,2,0)," ") -> 199400 | D19: TIRANT ACIER D6 | E19: 1730 | F19: 3290 | G19: 3290 | H19: 3290 | I19: =IFERROR(VLOOKUP(D19,Pieces!A:C,3,0),"Entrer la cadence") -> 150 | J19: 1 | K19: =(F19-E19)*J19 -> 1560 | L19: =(G19-F19)*J19 -> 0 | M19: =(H19-G19)*J19 -> 0 | N19: =IF(I19=0,0,K19/I19) -> 10.4 | O19: =IF(I19=0,0,L19/I19) -> 0 | P19: =IF(I19=0,0,M19/I19) -> 0 | Q19: 13 | S19: =U19+T19-K19-L19-M19 -> 0 | U19: 1560 | Z19: =IF(I19=0,0,(U19+T19)/I19) -> 10.4 | AA19: =IF(OR(Q19=0,I19=0),"",Z19/Q19*100) -> 80 | AE19: =IF(AA19>85," ","WARNING") -> WARNING
A20: C | B20: BIGLIA 301 SM | C20: =IFERROR(VLOOKUP(D20,Pieces!A:B,2,0)," ") -> 512520 | D20: INSERTO MANOPOLA INOX M8 | E20: 455 | F20: 732 | G20: 732 | H20: 732 | I20: =IFERROR(VLOOKUP(D20,Pieces!A:C,3,0),"Entrer la cadence") -> 50 | J20: 1 | K20: =(F20-E20)*J20 -> 277 | L20: =(G20-F20)*J20 -> 0 | M20: =(H20-G20)*J20 -> 0 | N20: =IF(I20=0,0,K20/I20) -> 5.54 | O20: =IF(I20=0,0,L20/I20) -> 0 | P20: =IF(I20=0,0,M20/I20) -> 0 | Q20: 13 | Z20: =IF(I20=0,0,(U20+T20)/I20) -> 0 | AA20: =IF(OR(Q20=0,I20=0),"",Z20/Q20*100) -> 0 | AE20: =IF(AA20>85," ","WARNING") -> WARNING
A21: D | B21: BIGLIA 42 S2M-bitourelle | C21: =IFERROR(VLOOKUP(D21,Pieces!A:B,2,0)," ") -> I081-95-CP8 | D21: AXE BOITIER TFR+KB | E21: 582 | F21: 708 | G21: 708 | H21: 708 | I21: =IFERROR(VLOOKUP(D21,Pieces!A:C,3,0),"Entrer la cadence") -> 28 | J21: 1 | K21: =(F21-E21)*J21 -> 126 | L21: =(G21-F21)*J21 -> 0 | M21: =(H21-G21)*J21 -> 0 | N21: =IF(I21=0,0,K21/I21) -> 4.5 | O21: =IF(I21=0,0,L21/I21) -> 0 | P21: =IF(I21=0,0,M21/I21) -> 0 | Q21: 13 | S21: =U21+T21-K21-L21-M21 -> 0 | U21: 126 | Z21: =IF(I21=0,0,(U21+T21)/I21) -> 4.5 | AA21: =IF(OR(Q21=0,I21=0),"",Z21/Q21*100) -> 34.615385 | AE21: =IF(AA21>85," ","WARNING") -> WARNING
A22: E | B22: L32 | C22: =IFERROR(VLOOKUP(D22,Pieces!A:B,2,0)," ") -> 480387 | D22: EVACUATION 2/3G X-ONE carre l32 | E22: 0 | F22: 0 | G22: 0 | H22: 0 | I22: =IFERROR(VLOOKUP(D22,Pieces!A:C,3,0),"Entrer la cadence") -> 20 | J22: 1 | K22: =(F22-E22)*J22 -> 0 | L22: =(G22-F22)*J22 -> 0 | M22: =(H22-G22)*J22 -> 0 | N22: =IF(I22=0,0,K22/I22) -> 0 | O22: =IF(I22=0,0,L22/I22) -> 0 | P22: =IF(I22=0,0,M22/I22) -> 0 | Q22: 13 | S22: =U22+T22-K22-L22-M22 -> 0 | U22: 0 | Z22: =IF(I22=0,0,(U22+T22)/I22) -> 0 | AA22: =IF(OR(Q22=0,I22=0),"",Z22/Q22*100) -> 0 | AE22: =IF(AA22>85," ","WARNING") -> WARNING
A23: I | B23: TSUGAMI | C23: =IFERROR(VLOOKUP(D23,Pieces!A:B,2,0)," ") -> - | D23: Arrêt | E23: 0 | F23: 0 | G23: 0 | H23: 0 | I23: =IFERROR(VLOOKUP(D23,Pieces!A:C,3,0),"Entrer la cadence") -> 1 | J23: 1 | K23: =(F23-E23)*J23 -> 0 | L23: =(G23-F23)*J23 -> 0 | M23: =(H23-G23)*J23 -> 0 | N23: =IF(I23=0,0,K23/I23) -> 0 | O23: =IF(I23=0,0,L23/I23) -> 0 | P23: =IF(I23=0,0,M23/I23) -> 0 | Q23: 13 | S23: =U23+T23-K23-L23-M23 -> 0 | U23: 0 | Z23: =IF(I23=0,0,(U23+T23)/I23) -> 0 | AA23: =IF(OR(Q23=0,I23=0),"",Z23/Q23*100) -> 0 | AE23: =IF(AA23>85," ","WARNING") -> WARNING
A24: G | B24: MORI SEIKI 3 axes | C24: =IFERROR(VLOOKUP(D24,Pieces!A:B,2,0)," ") -> I110-01-004 | D24: INSERT LEVIER SURMOULEE 345833-01 - fraisage | E24: 887 | F24: 887 | G24: 887 | H24: 887 | I24: =IFERROR(VLOOKUP(D24,Pieces!A:C,3,0),"Entrer la cadence") -> 28 | J24: 7 | K24: =(F24-E24)*J24 -> 0 | L24: =(G24-F24)*J24 -> 0 | M24: =(H24-G24)*J24 -> 0 | N24: =IF(I24=0,0,K24/I24) -> 0 | O24: =IF(I24=0,0,L24/I24) -> 0 | P24: =IF(I24=0,0,M24/I24) -> 0 | Q24: 9 | S24: =U24+T24-K24-L24-M24 -> 0 | U24: 0 | Z24: =IF(I24=0,0,(U24+T24)/I24) -> 0 | AA24: =IF(OR(Q24=0,I24=0),"",Z24/Q24*100) -> 0 | AE24: =IF(AA24>85," ","WARNING") -> WARNING
A25: H | B25: MORI SEIKI 5 axes | C25: =IFERROR(VLOOKUP(D25,Pieces!A:B,2,0)," ") -> 480387 | D25: EVACUATION 2/3G X-ONE | E25: 80 | F25: 80 | G25: 80 | H25: 80 | I25: =IFERROR(VLOOKUP(D25,Pieces!A:C,3,0),"Entrer la cadence") -> 60 | J25: 20 | K25: =(F25-E25)*J25 -> 0 | L25: =(G25-F25)*J25 -> 0 | M25: =(H25-G25)*J25 -> 0 | N25: =IF(I25=0,0,K25/I25) -> 0 | O25: =IF(I25=0,0,L25/I25) -> 0 | P25: =IF(I25=0,0,M25/I25) -> 0 | Q25: 9 | S25: =U25+T25-K25-L25-M25 -> 0 | U25: 0 | Z25: =IF(I25=0,0,(U25+T25)/I25) -> 0 | AA25: =IF(OR(Q25=0,I25=0),"",Z25/Q25*100) -> 0 | AE25: =IF(AA25>85," ","WARNING") -> WARNING
A26: L | B26: HARDING | C26: =IFERROR(VLOOKUP(D26,Pieces!A:B,2,0)," ") -> PIG 50 SE- harding | D26: PIGNON PLATEAU SIMPLE ETAGE D50 - contournage dents | E26: 24 | F26: 31 | G26: 31 | H26: 31 | I26: =IFERROR(VLOOKUP(D26,Pieces!A:C,3,0),"Entrer la cadence") -> 38 | J26: 51 | K26: =(F26-E26)*J26 -> 357 | L26: =(G26-F26)*J26 -> 0 | M26: =(H26-G26)*J26 -> 0 | N26: =IF(I26=0,0,K26/I26) -> 9.3947368 | O26: =IF(I26=0,0,L26/I26) -> 0 | P26: =IF(I26=0,0,M26/I26) -> 0 | Q26: 13 | S26: =U26+T26-K26-L26-M26 -> 0 | U26: 357 | Z26: =IF(I26=0,0,(U26+T26)/I26) -> 9.3947368 | AA26: =IF(OR(Q26=0,I26=0),"",Z26/Q26*100) -> 72.267206 | AE26: =IF(AA26>85," ","WARNING") -> WARNING
A27: K | B27: KITAMURA | C27: =IFERROR(VLOOKUP(D27,Pieces!A:B,2,0)," ") -> - | D27: Arrêt | E27: 0 | F27: 0 | G27: 0 | H27: 0 | I27: =IFERROR(VLOOKUP(D27,Pieces!A:C,3,0),"Entrer la cadence") -> 1 | J27: 1 | K27: =(F27-E27)*J27 -> 0 | L27: =(G27-F27)*J27 -> 0 | M27: =(H27-G27)*J27 -> 0 | N27: =IF(I27=0,0,K27/I27) -> 0 | O27: =IF(I27=0,0,L27/I27) -> 0 | P27: =IF(I27=0,0,M27/I27) -> 0 | Q27: 9 | S27: =U27+T27-K27-L27-M27 -> 0 | U27: 0 | Z27: =IF(I27=0,0,(U27+T27)/I27) -> 0 | AA27: =IF(OR(Q27=0,I27=0),"",Z27/Q27*100) -> 0 | AE27: =IF(AA27>85," ","WARNING") -> WARNING
A28: F | B28: MULTI BROCHE | C28: =IFERROR(VLOOKUP(D28,Pieces!A:B,2,0)," ") -> MPS000300 | D28: raccord HEX 17 | E28: 180777 | F28: 180777 | G28: 180777 | H28: 180777 | I28: =IFERROR(VLOOKUP(D28,Pieces!A:C,3,0),"Entrer la cadence") -> 454 | J28: 1 | K28: =(F28-E28)*J28 -> 0 | L28: =(G28-F28)*J28 -> 0 | M28: =(H28-G28)*J28 -> 0 | N28: =IF(I28=0,0,K28/I28) -> 0 | O28: =IF(I28=0,0,L28/I28) -> 0 | P28: =IF(I28=0,0,M28/I28) -> 0 | Q28: 9 | S28: =U28+T28-K28-L28-M28 -> 0 | U28: 0 | Z28: =IF(I28=0,0,(U28+T28)/I28) -> 0 | AA28: =IF(OR(Q28=0,I28=0),"",Z28/Q28*100) -> 0 | AE28: =IF(AA28>85," ","WARNING") -> WARNING
A29: J | B29: NAKAMURA | C29: =IFERROR(VLOOKUP(D29,Pieces!A:B,2,0)," ") -> I143-CP1 | D29: ECROU DE ROUE TFR ISUZU -nak | E29: 122 | F29: 370 | G29: 370 | H29: 370 | I29: =IFERROR(VLOOKUP(D29,Pieces!A:C,3,0),"Entrer la cadence") -> 50 | J29: 1 | K29: =(F29-E29)*J29 -> 248 | L29: =(G29-F29)*J29 -> 0 | M29: =(H29-G29)*J29 -> 0 | N29: =IF(I29=0,0,K29/I29) -> 4.96 | O29: =IF(I29=0,0,L29/I29) -> 0 | P29: =IF(I29=0,0,M29/I29) -> 0 | Q29: 9 | S29: =U29+T29-K29-L29-M29 -> 0 | U29: 248 | Z29: =IF(I29=0,0,(U29+T29)/I29) -> 4.96 | AA29: =IF(OR(Q29=0,I29=0),"",Z29/Q29*100) -> 55.111111 | AE29: =IF(AA29>85," ","WARNING") -> WARNING
A30: M | B30: TOUR WEILER | C30: =IFERROR(VLOOKUP(D30,Pieces!A:B,2,0)," ") -> H001-PROD | D30: GOUJON DE ROUE HONDA PROD | E30: 272 | F30: 454 | G30: 454 | H30: 454 | I30: =IFERROR(VLOOKUP(D30,Pieces!A:C,3,0),"Entrer la cadence") -> 20 | J30: 1 | K30: =(F30-E30)*J30 -> 182 | L30: =(G30-F30)*J30 -> 0 | M30: =(H30-G30)*J30 -> 0 | N30: =IF(I30=0,0,K30/I30) -> 9.1 | O30: =IF(I30=0,0,L30/I30) -> 0 | P30: =IF(I30=0,0,M30/I30) -> 0 | Q30: 9 | S30: =U30+T30-K30-L30-M30 -> 0 | U30: 182 | Z30: =IF(I30=0,0,(U30+T30)/I30) -> 9.1 | AA30: =IF(OR(Q30=0,I30=0),"",Z30/Q30*100) -> 101.11111 | AE30: =IF(AA30>85," ","WARNING")
Q31: temps d'ouverture | R31: 9
C38: Rédacteur | J38: Approbateur:
C39: Date | J39: Date:
C40: Visa | J40: Visa:

Sheet 06-01-2020
C1: Tableau de production journalière | Z1: CODE: DAS-PRO-16
Z2: DATE:30/08/2019
Z3: VERSION:07
Z4: PAGE:1
A8: SYMBOLE | B8: MACHINE | C8: REF ARTICLE | D8: DESIGNATION | E8: COMPTEUR HIER à8H | F8: COMPTEUR HIER à 17H | G8: COMPTEUR HIER à 19H | H8: COMPTEUR AUJOURD’HUI à 8h | I8: CADENCE | J8: NOMBRE DE PIECES FINIS PAR CYCLE | K8: PIECES SUIVANT COMPTEU 8h-->17h | L8: PIECES SUIVANT COMPTEUR 17H-->19H | M8: PIECES SUIVANT COMPTEUR 6h-->8h | N8: NOMBRE D'HEURES DE TRAVAIL 8h-->17h | O8: NOMBRE D'HEURES DE TRAVAIL 17H-->19H | P8: NOMBRE D'HEURES DE TRAVAIL 6h-->8h | Q8: NOMBRE D'HEURES DE TRAVAIL | R8: OBSERVATIONS | S8: Pieces manquantes | T8: PIECES NC | U8: Pieces REELLES | V8: Nombre des pieces à retoucher | W8: Cause de la non-conformité | X8: Effet de la non-conformité | Y8: Valeur de l'effet | Z8: NOMBRES D'HEURES SUIVANT LES PIECES REELLES | AA8: RENDEMENT | AB8: Fiche de contrôle qualité début de serie | AC8: Affutage | AD8: Gamme d'usingae | AE8: ALERTES
A9: A | B9: PF25 N°21 | C9: =IFERROR(VLOOKUP(D9,#REF!,2,0)," ") | K9: =(F9-E9)*J9 -> 0 | L9: =(G9-F9)*J9 -> 0 | M9: =(#REF!-H9)*J9 -> #REF! | N9: =IF(I9=0,0,K9/I9) -> 0 | O9: =IF(I9=0,0,L9/I9) -> 0 | P9: =IF(I9=0,0,M9/I9) -> 0 | Q9: 24 | Z9: =IF(I9=0,0,(#REF!+T9)/I9) -> 0 | AA9: =IF(OR(Q9=0,I9=0),"",Z9/Q9*100) | AE9: =IF(AA9>85," ","WARNING")
A10: B | B10: PF25 N°22 | C10: =IFERROR(VLOOKUP(D10,#REF!,2,0)," ") | K10: =(F10-E10)*J10 -> 0 | L10: =(G10-F10)*J10 -> 0 | M10: =(#REF!-H10)*J10 -> #REF! | N10: =IF(I10=0,0,K10/I10) -> 0 | O10: =IF(I10=0,0,L10/I10) -> 0 | P10: =IF(I10=0,0,M10/I10) -> 0 | Q10: 24 | Z10: =IF(I10=0,0,(#REF!+T10)/I10) -> 0 | AA10: =IF(OR(Q10=0,I10=0),"",Z10/Q10*100) | AE10: =IF(AA10>85," ","WARNING")
A11: C | B11: PF25 N°23 | C11: =IFERROR(VLOOKUP(D11,#REF!,2,0)," ") | K11: =(F11-E11)*J11 -> 0 | L11: =(G11-F11)*J11 -> 0 | M11: =(#REF!-H11)*J11 -> #REF! | N11: =IF(I11=0,0,K11/I11) -> 0 | O11: =IF(I11=0,0,L11/I11) -> 0 | P11: =IF(I11=0,0,M11/I11) -> 0 | Q11: 24 | Z11: =IF(I11=0,0,(#REF!+T11)/I11) -> 0 | AA11: =IF(OR(Q11=0,I11=0),"",Z11/Q11*100) | AE11: =IF(AA11>85," ","WARNING")
A12: D | B12: PF25 N°24 | C12: =IFERROR(VLOOKUP(D12,#REF!,2,0)," ") | K12: =(F12-E12)*J12 -> 0 | L12: =(G12-F12)*J12 -> 0 | M12: =(#REF!-H12)*J12 -> #REF! | N12: =IF(I12=0,0,K12/I12) -> 0 | O12: =IF(I12=0,0,L12/I12) -> 0 | P12: =IF(I12=0,0,M12/I12) -> 0 | Q12: 24 | Z12: =IF(I12=0,0,(#REF!+T12)/I12) -> 0 | AA12: =IF(OR(Q12=0,I12=0),"",Z12/Q12*100) | AE12: =IF(AA12>85," ","WARNING")
A13: E | B13: PF25 N°25 | C13: =IFERROR(VLOOKUP(D13,#REF!,2,0)," ") | K13: =(F13-E13)*J13 -> 0 | L13: =(G13-F13)*J13 -> 0 | M13: =(#REF!-H13)*J13 -> #REF! | N13: =IF(I13=0,0,K13/I13) -> 0 | O13: =IF(I13=0,0,L13/I13) -> 0 | P13: =IF(I13=0,0,M13/I13) -> 0 | Q13: 24 | Z13: =IF(I13=0,0,(#REF!+T13)/I13) -> 0 | AA13: =IF(OR(Q13=0,I13=0),"",Z13/Q13*100) | AE13: =IF(AA13>85," ","WARNING")
A14: F | B14: PF25 N°26
A15: R | B15: PF21 N°27
A16: S | B16: PF42 N°20 | C16: =IFERROR(VLOOKUP(D16,#REF!,2,0)," ") | K16: =(F16-E16)*J16 -> 0 | L16: =(G16-F16)*J16 -> 0 | M16: =(#REF!-H16)*J16 -> #REF! | N16: =IF(I16=0,0,K16/I16) -> 0 | O16: =IF(I16=0,0,L16/I16) -> 0 | P16: =IF(I16=0,0,M16/I16) -> 0 | Q16: 24 | Z16: =IF(I16=0,0,(#REF!+T16)/I16) -> 0 | AA16: =IF(OR(Q16=0,I16=0),"",Z16/Q16*100) | AE16: =IF(AA16>85," ","WARNING")
A18: A | B18: SST16 | C18: =IFERROR(VLOOKUP(D18,Pieces!A:B,2,0)," ") -> outi-plot | D18: plot nez de marche | E18: 29297 | F18: 29990 | G18: 29990 | H18: 30041 | I18: =IFERROR(VLOOKUP(D18,Pieces!A:C,3,0),"Entrer la cadence") -> 75 | J18: 1 | K18: =(F18-E18)*J18 -> 693 | L18: =(G18-F18)*J18 -> 0 | M18: =(H18-G18)*J18 -> 51 | N18: =IF(I18=0,0,K18/I18) -> 9.24 | O18: =IF(I18=0,0,L18/I18) -> 0 | P18: =IF(I18=0,0,M18/I18) -> 0.68 | Q18: 9 | S18: =U18+T18-K18-L18-M18 -> 0 | U18: 744 | Z18: =IF(I18=0,0,(U18+T18)/I18) -> 9.92 | AA18: =IF(OR(Q18=0,I18=0),"",Z18/Q18*100) -> 110.22222 | AE18: =IF(AA18>85," ","WARNING")
A19: B | B19: SB16 | C19: =IFERROR(VLOOKUP(D19,Pieces!A:B,2,0)," ") -> 199400 | D19: TIRANT ACIER D6 | E19: 48 | F19: 1373 | G19: 1373 | H19: 1730 | I19: =IFERROR(VLOOKUP(D19,Pieces!A:C,3,0),"Entrer la cadence") -> 150 | J19: 1 | K19: =(F19-E19)*J19 -> 1325 | L19: =(G19-F19)*J19 -> 0 | M19: =(H19-G19)*J19 -> 357 | N19: =IF(I19=0,0,K19/I19) -> 8.8333333 | O19: =IF(I19=0,0,L19/I19) -> 0 | P19: =IF(I19=0,0,M19/I19) -> 2.38 | Q19: 9 | S19: =U19+T19-K19-L19-M19 -> 0 | U19: 1682 | Z19: =IF(I19=0,0,(U19+T19)/I19) -> 11.213333 | AA19: =IF(OR(Q19=0,I19=0),"",Z19/Q19*100) -> 124.59259 | AE19: =IF(AA19>85," ","WARNING")
A20: C | B20: BIGLIA 301 SM | C20: =IFERROR(VLOOKUP(D20,Pieces!A:B,2,0)," ") -> 512520 | D20: INSERTO MANOPOLA INOX M8 | E20: 0 | F20: 406 | G20: 406 | H20: 455 | I20: =IFERROR(VLOOKUP(D20,Pieces!A:C,3,0),"Entrer la cadence") -> 50 | J20: 1 | K20: =(F20-E20)*J20 -> 406 | L20: =(G20-F20)*J20 -> 0 | M20: =(H20-G20)*J20 -> 49 | N20: =IF(I20=0,0,K20/I20) -> 8.12 | O20: =IF(I20=0,0,L20/I20) -> 0 | P20: =IF(I20=0,0,M20/I20) -> 0.98 | Q20: 9 | R20: FS(G011)+ ds (INSERTO MANOPOLA INOX M8) | S20: 0 | Z20: =IF(I20=0,0,(U20+T20)/I20) -> 0 | AA20: =IF(OR(Q20=0,I20=0),"",Z20/Q20*100) -> 0 | AE20: =IF(AA20>85," ","WARNING") -> WARNING
A21: D | B21: BIGLIA 42 S2M-bitourelle | C21: =IFERROR(VLOOKUP(D21,Pieces!A:B,2,0)," ") -> I081-95-CP8 | D21: AXE BOITIER TFR+KB | E21: 471 | F21: 582 | G21: 582 | H21: 582 | I21: =IFERROR(VLOOKUP(D21,Pieces!A:C,3,0),"Entrer la cadence") -> 28 | J21: 1 | K21: =(F21-E21)*J21 -> 111 | L21: =(G21-F21)*J21 -> 0 | M21: =(H21-G21)*J21 -> 0 | N21: =IF(I21=0,0,K21/I21) -> 3.9642857 | O21: =IF(I21=0,0,L21/I21) -> 0 | P21: =IF(I21=0,0,M21/I21) -> 0 | Q21: 9 | S21: =U21+T21-K21-L21-M21 -> 0 | U21: 111 | Z21: =IF(I21=0,0,(U21+T21)/I21) -> 3.9642857 | AA21: =IF(OR(Q21=0,I21=0),"",Z21/Q21*100) -> 44.047619 | AE21: =IF(AA21>85," ","WARNING") -> WARNING
A22: E | B22: L32 | C22: =IFERROR(VLOOKUP(D22,Pieces!A:B,2,0)," ") -> 480387 | D22: EVACUATION 2/3G X-ONE carre l32 | E22: 0 | F22: 0 | G22: 0 | H22: 0 | I22: =IFERROR(VLOOKUP(D22,Pieces!A:C,3,0),"Entrer la cadence") -> 20 | J22: 1 | K22: =(F22-E22)*J22 -> 0 | L22: =(G22-F22)*J22 -> 0 | M22: =(H22-G22)*J22 -> 0 | N22: =IF(I22=0,0,K22/I22) -> 0 | O22: =IF(I22=0,0,L22/I22) -> 0 | P22: =IF(I22=0,0,M22/I22) -> 0 | Q22: 9 | S22: =U22+T22-K22-L22-M22 -> 0 | U22: 0 | Z22: =IF(I22=0,0,(U22+T22)/I22) -> 0 | AA22: =IF(OR(Q22=0,I22=0),"",Z22/Q22*100) -> 0 | AE22: =IF(AA22>85," ","WARNING") -> WARNING
A23: I | B23: TSUGAMI | C23: =IFERROR(VLOOKUP(D23,Pieces!A:B,2,0)," ") -> - | D23: Arrêt | E23: 0 | F23: 0 | G23: 0 | H23: 0 | I23: =IFERROR(VLOOKUP(D23,Pieces!A:C,3,0),"Entrer la cadence") -> 1 | J23: 1 | K23: =(F23-E23)*J23 -> 0 | L23: =(G23-F23)*J23 -> 0 | M23: =(H23-G23)*J23 -> 0 | N23: =IF(I23=0,0,K23/I23) -> 0 | O23: =IF(I23=0,0,L23/I23) -> 0 | P23: =IF(I23=0,0,M23/I23) -> 0 | Q23: 9 | S23: =U23+T23-K23-L23-M23 -> 0 | U23: 0 | Z23: =IF(I23=0,0,(U23+T23)/I23) -> 0 | AA23: =IF(OR(Q23=0,I23=0),"",Z23/Q23*100) -> 0 | AE23: =IF(AA23>85," ","WARNING") -> WARNING
A24: G | B24: MORI SEIKI 3 axes | C24: =IFERROR(VLOOKUP(D24,Pieces!A:B,2,0)," ") -> I110-01-004 | D24: INSERT LEVIER SURMOULEE 345833-01 - fraisage | E24: 887 | F24: 887 | G24: 887 | H24: 887 | I24: =IFERROR(VLOOKUP(D24,Pieces!A:C,3,0),"Entrer la cadence") -> 28 | J24: 7 | K24: =(F24-E24)*J24 -> 0 | L24: =(G24-F24)*J24 -> 0 | M24: =(H24-G24)*J24 -> 0 | N24: =IF(I24=0,0,K24/I24) -> 0 | O24: =IF(I24=0,0,L24/I24) -> 0 | P24: =IF(I24=0,0,M24/I24) -> 0 | Q24: 9 | S24: =U24+T24-K24-L24-M24 -> 0 | U24: 0 | Z24: =IF(I24=0,0,(U24+T24)/I24) -> 0 | AA24: =IF(OR(Q24=0,I24=0),"",Z24/Q24*100) -> 0 | AE24: =IF(AA24>85," ","WARNING") -> WARNING
A25: H | B25: MORI SEIKI 5 axes | C25: =IFERROR(VLOOKUP(D25,Pieces!A:B,2,0)," ") -> 480387 | D25: EVACUATION 2/3G X-ONE | E25: 80 | F25: 80 | G25: 80 | H25: 80 | I25: =IFERROR(VLOOKUP(D25,Pieces!A:C,3,0),"Entrer la cadence") -> 60 | J25: 20 | K25: =(F25-E25)*J25 -> 0 | L25: =(G25-F25)*J25 -> 0 | M25: =(H25-G25)*J25 -> 0 | N25: =IF(I25=0,0,K25/I25) -> 0 | O25: =IF(I25=0,0,L25/I25) -> 0 | P25: =IF(I25=0,0,M25/I25) -> 0 | Q25: 9 | S25: =U25+T25-K25-L25-M25 -> 0 | U25: 0 | Z25: =IF(I25=0,0,(U25+T25)/I25) -> 0 | AA25: =IF(OR(Q25=0,I25=0),"",Z25/Q25*100) -> 0 | AE25: =IF(AA25>85," ","WARNING") -> WARNING
A26: L | B26: HARDING | C26: =IFERROR(VLOOKUP(D26,Pieces!A:B,2,0)," ") -> PIG 50 SE- harding | D26: PIGNON PLATEAU SIMPLE ETAGE D50 - contournage dents | E26: 15 | F26: 24 | G26: 24 | H26: 24 | I26: =IFERROR(VLOOKUP(D26,Pieces!A:C,3,0),"Entrer la cadence") -> 38 | J26: 51 | K26: =(F26-E26)*J26 -> 459 | L26: =(G26-F26)*J26 -> 0 | M26: =(H26-G26)*J26 -> 0 | N26: =IF(I26=0,0,K26/I26) -> 12.078947 | O26: =IF(I26=0,0,L26/I26) -> 0 | P26: =IF(I26=0,0,M26/I26) -> 0 | Q26: 9 | S26: =U26+T26-K26-L26-M26 -> 0 | U26: 459 | Z26: =IF(I26=0,0,(U26+T26)/I26) -> 12.078947 | AA26: =IF(OR(Q26=0,I26=0),"",Z26/Q26*100) -> 134.21053 | AE26: =IF(AA26>85," ","WARNING")
A27: K | B27: KITAMURA | C27: =IFERROR(VLOOKUP(D27,Pieces!A:B,2,0)," ") -> - | D27: Arrêt | E27: 0 | F27: 0 | G27: 0 | H27: 0 | I27: =IFERROR(VLOOKUP(D27,Pieces!A:C,3,0),"Entrer la cadence") -> 1 | J27: 1 | K27: =(F27-E27)*J27 -> 0 | L27: =(G27-F27)*J27 -> 0 | M27: =(H27-G27)*J27 -> 0 | N27: =IF(I27=0,0,K27/I27) -> 0 | O27: =IF(I27=0,0,L27/I27) -> 0 | P27: =IF(I27=0,0,M27/I27) -> 0 | Q27: 9 | S27: =U27+T27-K27-L27-M27 -> 0 | U27: 0 | Z27: =IF(I27=0,0,(U27+T27)/I27) -> 0 | AA27: =IF(OR(Q27=0,I27=0),"",Z27/Q27*100) -> 0 | AE27: =IF(AA27>85," ","WARNING") -> WARNING
A28: F | B28: MULTI BROCHE | C28: =IFERROR(VLOOKUP(D28,Pieces!A:B,2,0)," ") -> MPS000300 | D28: raccord HEX 17 | E28: 180777 | F28: 180777 | G28: 180777 | H28: 180777 | I28: =IFERROR(VLOOKUP(D28,Pieces!A:C,3,0),"Entrer la cadence") -> 454 | J28: 1 | K28: =(F28-E28)*J28 -> 0 | L28: =(G28-F28)*J28 -> 0 | M28: =(H28-G28)*J28 -> 0 | N28: =IF(I28=0,0,K28/I28) -> 0 | O28: =IF(I28=0,0,L28/I28) -> 0 | P28: =IF(I28=0,0,M28/I28) -> 0 | Q28: 9 | S28: =U28+T28-K28-L28-M28 -> 0 | U28: 0 | Z28: =IF(I28=0,0,(U28+T28)/I28) -> 0 | AA28: =IF(OR(Q28=0,I28=0),"",Z28/Q28*100) -> 0 | AE28: =IF(AA28>85," ","WARNING") -> WARNING
A29: J | B29: NAKAMURA | C29: =IFERROR(VLOOKUP(D29,Pieces!A:B,2,0)," ") -> I143-CP1 | D29: ECROU DE ROUE TFR ISUZU -nak | E29: 0 | F29: 0 | G29: 0 | H29: 122 | I29: =IFERROR(VLOOKUP(D29,Pieces!A:C,3,0),"Entrer la cadence") -> 50 | J29: 1 | K29: =(F29-E29)*J29 -> 0 | L29: =(G29-F29)*J29 -> 0 | M29: =(H29-G29)*J29 -> 122 | N29: =IF(I29=0,0,K29/I29) -> 0 | O29: =IF(I29=0,0,L29/I29) -> 0 | P29: =IF(I29=0,0,M29/I29) -> 2.44 | Q29: 9 | R29: fs (I143-CP1)+ ds (H001) | S29: =U29+T29-K29-L29-M29 -> 0 | U29: 122 | Z29: =IF(I29=0,0,(U29+T29)/I29) -> 2.44 | AA29: =IF(OR(Q29=0,I29=0),"",Z29/Q29*100) -> 27.111111 | AE29: =IF(AA29>85," ","WARNING") -> WARNING
A30: M | B30: TOUR WEILER | C30: =IFERROR(VLOOKUP(D30,Pieces!A:B,2,0)," ") -> H001-PROD | D30: GOUJON DE ROUE HONDA PROD | E30: 64 | F30: 270 | G30: 271 | H30: 272 | I30: =IFERROR(VLOOKUP(D30,Pieces!A:C,3,0),"Entrer la cadence") -> 20 | J30: 1 | K30: =(F30-E30)*J30 -> 206 | L30: =(G30-F30)*J30 -> 1 | M30: =(H30-G30)*J30 -> 1 | N30: =IF(I30=0,0,K30/I30) -> 10.3 | O30: =IF(I30=0,0,L30/I30) -> 0.05 | P30: =IF(I30=0,0,M30/I30) -> 0.05 | Q30: 9 | R30: FS(g018) + ds (H001) | S30: =U30+T30-K30-L30-M30 -> 0 | U30: 208 | Z30: =IF(I30=0,0,(U30+T30)/I30) -> 10.4 | AA30: =IF(OR(Q30=0,I30=0),"",Z30/Q30*100) -> 115.55556 | AE30: =IF(AA30>85," ","WARNING")
Q31: temps d'ouverture | R31: 9
C38: Rédacteur | J38: Approbateur:
C39: Date | J39: Date:
C40: Visa | J40: Visa:

Sheet 04-01-2020
C1: Tableau de production journalière | Z1: CODE: DAS-PRO-16
Z2: DATE:30/08/2019
Z3: VERSION:07
Z4: PAGE:1
A8: SYMBOLE | B8: MACHINE | C8: REF ARTICLE | D8: DESIGNATION | E8: COMPTEUR HIER à8H | F8: COMPTEUR HIER à 13:15H | G8: COMPTEUR HIER à 13:15H | H8: COMPTEUR AUJOURD’HUI à 8h | I8: CADENCE | J8: NOMBRE DE PIECES FINIS PAR CYCLE | K8: PIECES SUIVANT COMPTEU 8h-->17h | L8: PIECES SUIVANT COMPTEUR 17H-->19H | M8: PIECES SUIVANT COMPTEUR 6h-->8h | N8: NOMBRE D'HEURES DE TRAVAIL 8h-->17h | O8: NOMBRE D'HEURES DE TRAVAIL 17H-->19H | P8: NOMBRE D'HEURES DE TRAVAIL 6h-->8h | Q8: NOMBRE D'HEURES DE TRAVAIL | R8: OBSERVATIONS | S8: Pieces manquantes | T8: PIECES NC | U8: Pieces REELLES | V8: Nombre des pieces à retoucher | W8: Cause de la non-conformité | X8: Effet de la non-conformité | Y8: Valeur de l'effet | Z8: NOMBRES D'HEURES SUIVANT LES PIECES REELLES | AA8: RENDEMENT | AB8: Fiche de contrôle qualité début de serie | AC8: Affutage | AD8: Gamme d'usingae | AE8: ALERTES
A9: A | B9: PF25 N°21 | C9: =IFERROR(VLOOKUP(D9,#REF!,2,0)," ") | K9: =(F9-E9)*J9 -> 0 | L9: =(G9-F9)*J9 -> 0 | M9: =(#REF!-H9)*J9 -> #REF! | N9: =IF(I9=0,0,K9/I9) -> 0 | O9: =IF(I9=0,0,L9/I9) -> 0 | P9: =IF(I9=0,0,M9/I9) -> 0 | Q9: 24 | Z9: =IF(I9=0,0,(#REF!+T9)/I9) -> 0 | AA9: =IF(OR(Q9=0,I9=0),"",Z9/Q9*100) | AE9: =IF(AA9>85," ","WARNING")
A10: B | B10: PF25 N°22 | C10: =IFERROR(VLOOKUP(D10,#REF!,2,0)," ") | K10: =(F10-E10)*J10 -> 0 | L10: =(G10-F10)*J10 -> 0 | M10: =(#REF!-H10)*J10 -> #REF! | N10: =IF(I10=0,0,K10/I10) -> 0 | O10: =IF(I10=0,0,L10/I10) -> 0 | P10: =IF(I10=0,0,M10/I10) -> 0 | Q10: 24 | Z10: =IF(I10=0,0,(#REF!+T10)/I10) -> 0 | AA10: =IF(OR(Q10=0,I10=0),"",Z10/Q10*100) | AE10: =IF(AA10>85," ","WARNING")
A11: C | B11: PF25 N°23 | C11: =IFERROR(VLOOKUP(D11,#REF!,2,0)," ") | K11: =(F11-E11)*J11 -> 0 | L11: =(G11-F11)*J11 -> 0 | M11: =(#REF!-H11)*J11 -> #REF! | N11: =IF(I11=0,0,K11/I11) -> 0 | O11: =IF(I11=0,0,L11/I11) -> 0 | P11: =IF(I11=0,0,M11/I11) -> 0 | Q11: 24 | Z11: =IF(I11=0,0,(#REF!+T11)/I11) -> 0 | AA11: =IF(OR(Q11=0,I11=0),"",Z11/Q11*100) | AE11: =IF(AA11>85," ","WARNING")
A12: D | B12: PF25 N°24 | C12: =IFERROR(VLOOKUP(D12,#REF!,2,0)," ") | K12: =(F12-E12)*J12 -> 0 | L12: =(G12-F12)*J12 -> 0 | M12: =(#REF!-H12)*J12 -> #REF! | N12: =IF(I12=0,0,K12/I12) -> 0 | O12: =IF(I12=0,0,L12/I12) -> 0 | P12: =IF(I12=0,0,M12/I12) -> 0 | Q12: 24 | Z12: =IF(I12=0,0,(#REF!+T12)/I12) -> 0 | AA12: =IF(OR(Q12=0,I12=0),"",Z12/Q12*100) | AE12: =IF(AA12>85," ","WARNING")
A13: E | B13: PF25 N°25 | C13: =IFERROR(VLOOKUP(D13,#REF!,2,0)," ") | K13: =(F13-E13)*J13 -> 0 | L13: =(G13-F13)*J13 -> 0 | M13: =(#REF!-H13)*J13 -> #REF! | N13: =IF(I13=0,0,K13/I13) -> 0 | O13: =IF(I13=0,0,L13/I13) -> 0 | P13: =IF(I13=0,0,M13/I13) -> 0 | Q13: 24 | Z13: =IF(I13=0,0,(#REF!+T13)/I13) -> 0 | AA13: =IF(OR(Q13=0,I13=0),"",Z13/Q13*100) | AE13: =IF(AA13>85," ","WARNING")
A14: F | B14: PF25 N°26
A15: R | B15: PF21 N°27
A16: S | B16: PF42 N°20 | C16: =IFERROR(VLOOKUP(D16,#REF!,2,0)," ") | K16: =(F16-E16)*J16 -> 0 | L16: =(G16-F16)*J16 -> 0 | M16: =(#REF!-H16)*J16 -> #REF! | N16: =IF(I16=0,0,K16/I16) -> 0 | O16: =IF(I16=0,0,L16/I16) -> 0 | P16: =IF(I16=0,0,M16/I16) -> 0 | Q16: 24 | Z16: =IF(I16=0,0,(#REF!+T16)/I16) -> 0 | AA16: =IF(OR(Q16=0,I16=0),"",Z16/Q16*100) | AE16: =IF(AA16>85," ","WARNING")
A18: A | B18: SST16 | C18: =IFERROR(VLOOKUP(D18,Pieces!A:B,2,0)," ") -> outi-plot | D18: plot nez de marche | E18: 28850 | F18: 29180 | G18: 29180 | H18: 29297 | I18: =IFERROR(VLOOKUP(D18,Pieces!A:C,3,0),"Entrer la cadence") -> 75 | J18: 1 | K18: =(F18-E18)*J18 -> 330 | L18: =(G18-F18)*J18 -> 0 | M18: =(H18-G18)*J18 -> 117 | N18: =IF(I18=0,0,K18/I18) -> 4.4 | O18: =IF(I18=0,0,L18/I18) -> 0 | P18: =IF(I18=0,0,M18/I18) -> 1.56 | Q18: 5 | S18: =U18+T18-K18-L18-M18 -> 0 | U18: 447 | Z18: =IF(I18=0,0,(U18+T18)/I18) -> 5.96 | AA18: =IF(OR(Q18=0,I18=0),"",Z18/Q18*100) -> 119.2 | AE18: =IF(AA18>85," ","WARNING")
A19: B | B19: SB16 | C19: =IFERROR(VLOOKUP(D19,Pieces!A:B,2,0)," ") -> 199400 | D19: TIRANT ACIER D6 | E19: 0 | F19: 48 | G19: 48 | H19: 48 | I19: =IFERROR(VLOOKUP(D19,Pieces!A:C,3,0),"Entrer la cadence") -> 150 | J19: 1 | K19: =(F19-E19)*J19 -> 48 | L19: =(G19-F19)*J19 -> 0 | M19: =(H19-G19)*J19 -> 0 | N19: =IF(I19=0,0,K19/I19) -> 0.32 | O19: =IF(I19=0,0,L19/I19) -> 0 | P19: =IF(I19=0,0,M19/I19) -> 0 | Q19: 5 | R19: demarrage 12:30pm | S19: =U19+T19-K19-L19-M19 -> 0 | U19: 48 | Z19: =IF(I19=0,0,(U19+T19)/I19) -> 0.32 | AA19: =IF(OR(Q19=0,I19=0),"",Z19/Q19*100) -> 6.4 | AE19: =IF(AA19>85," ","WARNING") -> WARNING
A20: C | B20: BIGLIA 301 SM | C20: =IFERROR(VLOOKUP(D20,Pieces!A:B,2,0)," ") -> G011 | D20: BAGUE D32*22 L=21 | E20: 1084 | F20: 1151 | G20: 1151 | H20: 1151 | I20: =IFERROR(VLOOKUP(D20,Pieces!A:C,3,0),"Entrer la cadence") -> 45 | J20: 1 | K20: =(F20-E20)*J20 -> 67 | L20: =(G20-F20)*J20 -> 0 | M20: =(H20-G20)*J20 -> 0 | N20: =IF(I20=0,0,K20/I20) -> 1.4888889 | O20: =IF(I20=0,0,L20/I20) -> 0 | P20: =IF(I20=0,0,M20/I20) -> 0 | Q20: 5 | S20: =U20+T20-K20-L20-M20 -> 0 | U20: 67 | Z20: =IF(I20=0,0,(U20+T20)/I20) -> 1.4888889 | AA20: =IF(OR(Q20=0,I20=0),"",Z20/Q20*100) -> 29.777778 | AE20: =IF(AA20>85," ","WARNING") -> WARNING
A21: D | B21: BIGLIA 42 S2M-bitourelle | C21: =IFERROR(VLOOKUP(D21,Pieces!A:B,2,0)," ") -> I081-95-CP8 | D21: AXE BOITIER TFR+KB | E21: 411 | F21: 470 | G21: 470 | H21: 471 | I21: =IFERROR(VLOOKUP(D21,Pieces!A:C,3,0),"Entrer la cadence") -> 28 | J21: 1 | K21: =(F21-E21)*J21 -> 59 | L21: =(G21-F21)*J21 -> 0 | M21: =(H21-G21)*J21 -> 1 | N21: =IF(I21=0,0,K21/I21) -> 2.1071429 | O21: =IF(I21=0,0,L21/I21) -> 0 | P21: =IF(I21=0,0,M21/I21) -> 0.035714286 | Q21: 5 | S21: =U21+T21-K21-L21-M21 -> 0 | U21: 60 | Z21: =IF(I21=0,0,(U21+T21)/I21) -> 2.1428571 | AA21: =IF(OR(Q21=0,I21=0),"",Z21/Q21*100) -> 42.857143 | AE21: =IF(AA21>85," ","WARNING") -> WARNING
A22: E | B22: L32 | C22: =IFERROR(VLOOKUP(D22,Pieces!A:B,2,0)," ") -> 480387 | D22: EVACUATION 2/3G X-ONE carre l32 | E22: 0 | F22: 0 | G22: 0 | H22: 0 | I22: =IFERROR(VLOOKUP(D22,Pieces!A:C,3,0),"Entrer la cadence") -> 20 | J22: 1 | K22: =(F22-E22)*J22 -> 0 | L22: =(G22-F22)*J22 -> 0 | M22: =(H22-G22)*J22 -> 0 | N22: =IF(I22=0,0,K22/I22) -> 0 | O22: =IF(I22=0,0,L22/I22) -> 0 | P22: =IF(I22=0,0,M22/I22) -> 0 | Q22: 5 | S22: =U22+T22-K22-L22-M22 -> 0 | U22: 0 | Z22: =IF(I22=0,0,(U22+T22)/I22) -> 0 | AA22: =IF(OR(Q22=0,I22=0),"",Z22/Q22*100) -> 0 | AE22: =IF(AA22>85," ","WARNING") -> WARNING
A23: I | B23: TSUGAMI | C23: =IFERROR(VLOOKUP(D23,Pieces!A:B,2,0)," ") -> - | D23: Arrêt | E23: 0 | F23: 0 | G23: 0 | H23: 0 | I23: =IFERROR(VLOOKUP(D23,Pieces!A:C,3,0),"Entrer la cadence") -> 1 | J23: 1 | K23: =(F23-E23)*J23 -> 0 | L23: =(G23-F23)*J23 -> 0 | M23: =(H23-G23)*J23 -> 0 | N23: =IF(I23=0,0,K23/I23) -> 0 | O23: =IF(I23=0,0,L23/I23) -> 0 | P23: =IF(I23=0,0,M23/I23) -> 0 | Q23: 5 | S23: =U23+T23-K23-L23-M23 -> 0 | U23: 0 | Z23: =IF(I23=0,0,(U23+T23)/I23) -> 0 | AA23: =IF(OR(Q23=0,I23=0),"",Z23/Q23*100) -> 0 | AE23: =IF(AA23>85," ","WARNING") -> WARNING
A24: G | B24: MORI SEIKI 3 axes | C24: =IFERROR(VLOOKUP(D24,Pieces!A:B,2,0)," ") -> I110-01-004 | D24: INSERT LEVIER SURMOULEE 345833-01 - fraisage | E24: 887 | F24: 887 | G24: 887 | H24: 887 | I24: =IFERROR(VLOOKUP(D24,Pieces!A:C,3,0),"Entrer la cadence") -> 28 | J24: 7 | K24: =(F24-E24)*J24 -> 0 | L24: =(G24-F24)*J24 -> 0 | M24: =(H24-G24)*J24 -> 0 | N24: =IF(I24=0,0,K24/I24) -> 0 | O24: =IF(I24=0,0,L24/I24) -> 0 | P24: =IF(I24=0,0,M24/I24) -> 0 | Q24: 5 | S24: =U24+T24-K24-L24-M24 -> 0 | U24: 0 | Z24: =IF(I24=0,0,(U24+T24)/I24) -> 0 | AA24: =IF(OR(Q24=0,I24=0),"",Z24/Q24*100) -> 0 | AE24: =IF(AA24>85," ","WARNING") -> WARNING
A25: H | B25: MORI SEIKI 5 axes | C25: =IFERROR(VLOOKUP(D25,Pieces!A:B,2,0)," ") -> 480387 | D25: EVACUATION 2/3G X-ONE | E25: 80 | F25: 80 | G25: 80 | H25: 80 | I25: =IFERROR(VLOOKUP(D25,Pieces!A:C,3,0),"Entrer la cadence") -> 60 | J25: 20 | K25: =(F25-E25)*J25 -> 0 | L25: =(G25-F25)*J25 -> 0 | M25: =(H25-G25)*J25 -> 0 | N25: =IF(I25=0,0,K25/I25) -> 0 | O25: =IF(I25=0,0,L25/I25) -> 0 | P25: =IF(I25=0,0,M25/I25) -> 0 | Q25: 5 | S25: =U25+T25-K25-L25-M25 -> 0 | U25: 0 | Z25: =IF(I25=0,0,(U25+T25)/I25) -> 0 | AA25: =IF(OR(Q25=0,I25=0),"",Z25/Q25*100) -> 0 | AE25: =IF(AA25>85," ","WARNING") -> WARNING
A26: L | B26: HARDING | C26: =IFERROR(VLOOKUP(D26,Pieces!A:B,2,0)," ") -> PIG 50 SE- harding | D26: PIGNON PLATEAU SIMPLE ETAGE D50 - contournage dents | E26: 15 | F26: 15 | G26: 15 | H26: 15 | I26: =IFERROR(VLOOKUP(D26,Pieces!A:C,3,0),"Entrer la cadence") -> 38 | J26: 51 | K26: =(F26-E26)*J26 -> 0 | L26: =(G26-F26)*J26 -> 0 | M26: =(H26-G26)*J26 -> 0 | N26: =IF(I26=0,0,K26/I26) -> 0 | O26: =IF(I26=0,0,L26/I26) -> 0 | P26: =IF(I26=0,0,M26/I26) -> 0 | Q26: 5 | S26: =U26+T26-K26-L26-M26 -> 0 | U26: 0 | Z26: =IF(I26=0,0,(U26+T26)/I26) -> 0 | AA26: =IF(OR(Q26=0,I26=0),"",Z26/Q26*100) -> 0 | AE26: =IF(AA26>85," ","WARNING") -> WARNING
A27: K | B27: KITAMURA | C27: =IFERROR(VLOOKUP(D27,Pieces!A:B,2,0)," ") -> - | D27: Arrêt | E27: 0 | F27: 0 | G27: 0 | H27: 0 | I27: =IFERROR(VLOOKUP(D27,Pieces!A:C,3,0),"Entrer la cadence") -> 1 | J27: 1 | K27: =(F27-E27)*J27 -> 0 | L27: =(G27-F27)*J27 -> 0 | M27: =(H27-G27)*J27 -> 0 | N27: =IF(I27=0,0,K27/I27) -> 0 | O27: =IF(I27=0,0,L27/I27) -> 0 | P27: =IF(I27=0,0,M27/I27) -> 0 | Q27: 5 | S27: =U27+T27-K27-L27-M27 -> 0 | U27: 0 | Z27: =IF(I27=0,0,(U27+T27)/I27) -> 0 | AA27: =IF(OR(Q27=0,I27=0),"",Z27/Q27*100) -> 0 | AE27: =IF(AA27>85," ","WARNING") -> WARNING
A28: F | B28: MULTI BROCHE | C28: =IFERROR(VLOOKUP(D28,Pieces!A:B,2,0)," ") -> MPS000300 | D28: raccord HEX 17 | E28: 180777 | F28: 180777 | G28: 180777 | H28: 180777 | I28: =IFERROR(VLOOKUP(D28,Pieces!A:C,3,0),"Entrer la cadence") -> 454 | J28: 1 | K28: =(F28-E28)*J28 -> 0 | L28: =(G28-F28)*J28 -> 0 | M28: =(H28-G28)*J28 -> 0 | N28: =IF(I28=0,0,K28/I28) -> 0 | O28: =IF(I28=0,0,L28/I28) -> 0 | P28: =IF(I28=0,0,M28/I28) -> 0 | Q28: 5 | S28: =U28+T28-K28-L28-M28 -> 0 | U28: 0 | Z28: =IF(I28=0,0,(U28+T28)/I28) -> 0 | AA28: =IF(OR(Q28=0,I28=0),"",Z28/Q28*100) -> 0 | AE28: =IF(AA28>85," ","WARNING") -> WARNING
A29: J | B29: NAKAMURA | C29: =IFERROR(VLOOKUP(D29,Pieces!A:B,2,0)," ") -> I143-CP1 | D29: ECROU DE ROUE TFR ISUZU -nak | E29: 3390 | F29: 3630 | G29: 3630 | H29: 3630 | I29: =IFERROR(VLOOKUP(D29,Pieces!A:C,3,0),"Entrer la cadence") -> 50 | J29: 1 | K29: =(F29-E29)*J29 -> 240 | L29: =(G29-F29)*J29 -> 0 | M29: =(H29-G29)*J29 -> 0 | N29: =IF(I29=0,0,K29/I29) -> 4.8 | O29: =IF(I29=0,0,L29/I29) -> 0 | P29: =IF(I29=0,0,M29/I29) -> 0 | Q29: 5 | S29: =U29+T29-K29-L29-M29 -> 0 | U29: 240 | Z29: =IF(I29=0,0,(U29+T29)/I29) -> 4.8 | AA29: =IF(OR(Q29=0,I29=0),"",Z29/Q29*100) -> 96 | AE29: =IF(AA29>85," ","WARNING")
A30: M | B30: TOUR WEILER | C30: =IFERROR(VLOOKUP(D30,Pieces!A:B,2,0)," ") -> H001-PROD | D30: GOUJON DE ROUE HONDA PROD | E30: 0 | F30: 64 | G30: 64 | H30: 64 | I30: =IFERROR(VLOOKUP(D30,Pieces!A:C,3,0),"Entrer la cadence") -> 20 | J30: 1 | K30: =(F30-E30)*J30 -> 64 | L30: =(G30-F30)*J30 -> 0 | M30: =(H30-G30)*J30 -> 0 | N30: =IF(I30=0,0,K30/I30) -> 3.2 | O30: =IF(I30=0,0,L30/I30) -> 0 | P30: =IF(I30=0,0,M30/I30) -> 0 | Q30: 5 | R30: FS(g018) + ds (H001) | S30: =U30+T30-K30-L30-M30 -> 0 | U30: 64 | Z30: =IF(I30=0,0,(U30+T30)/I30) -> 3.2 | AA30: =IF(OR(Q30=0,I30=0),"",Z30/Q30*100) -> 64 | AE30: =IF(AA30>85," ","WARNING") -> WARNING
Q31: temps d'ouverture | R31: 5
C38: Rédacteur | J38: Approbateur:
C39: Date | J39: Date:
C40: Visa | J40: Visa:

Sheet 03-01-2020
C1: Tableau de production journalière | Z1: CODE: DAS-PRO-16
Z2: DATE:30/08/2019
Z3: VERSION:07
Z4: PAGE:1
A8: SYMBOLE | B8: MACHINE | C8: REF ARTICLE | D8: DESIGNATION | E8: COMPTEUR HIER à8H | F8: COMPTEUR HIER à 17H | G8: COMPTEUR HIER à 19H | H8: COMPTEUR AUJOURD’HUI à 8h | I8: CADENCE | J8: NOMBRE DE PIECES FINIS PAR CYCLE | K8: PIECES SUIVANT COMPTEU 8h-->17h | L8: PIECES SUIVANT COMPTEUR 17H-->19H | M8: PIECES SUIVANT COMPTEUR 6h-->8h | N8: NOMBRE D'HEURES DE TRAVAIL 8h-->17h | O8: NOMBRE D'HEURES DE TRAVAIL 17H-->19H | P8: NOMBRE D'HEURES DE TRAVAIL 6h-->8h | Q8: NOMBRE D'HEURES DE TRAVAIL | R8: OBSERVATIONS | S8: Pieces manquantes | T8: PIECES NC | U8: Pieces REELLES | V8: Nombre des pieces à retoucher | W8: Cause de la non-conformité | X8: Effet de la non-conformité | Y8: Valeur de l'effet | Z8: NOMBRES D'HEURES SUIVANT LES PIECES REELLES | AA8: RENDEMENT | AB8: Fiche de contrôle qualité début de serie | AC8: Affutage | AD8: Gamme d'usingae | AE8: ALERTES
A9: A | B9: PF25 N°21 | C9: =IFERROR(VLOOKUP(D9,#REF!,2,0)," ") | K9: =(F9-E9)*J9 -> 0 | L9: =(G9-F9)*J9 -> 0 | M9: =(#REF!-H9)*J9 -> #REF! | N9: =IF(I9=0,0,K9/I9) -> 0 | O9: =IF(I9=0,0,L9/I9) -> 0 | P9: =IF(I9=0,0,M9/I9) -> 0 | Q9: 24 | Z9: =IF(I9=0,0,(#REF!+T9)/I9) -> 0 | AA9: =IF(OR(Q9=0,I9=0),"",Z9/Q9*100) | AE9: =IF(AA9>85," ","WARNING")
A10: B | B10: PF25 N°22 | C10: =IFERROR(VLOOKUP(D10,#REF!,2,0)," ") | K10: =(F10-E10)*J10 -> 0 | L10: =(G10-F10)*J10 -> 0 | M10: =(#REF!-H10)*J10 -> #REF! | N10: =IF(I10=0,0,K10/I10) -> 0 | O10: =IF(I10=0,0,L10/I10) -> 0 | P10: =IF(I10=0,0,M10/I10) -> 0 | Q10: 24 | Z10: =IF(I10=0,0,(#REF!+T10)/I10) -> 0 | AA10: =IF(OR(Q10=0,I10=0),"",Z10/Q10*100) | AE10: =IF(AA10>85," ","WARNING")
A11: C | B11: PF25 N°23 | C11: =IFERROR(VLOOKUP(D11,#REF!,2,0)," ") | K11: =(F11-E11)*J11 -> 0 | L11: =(G11-F11)*J11 -> 0 | M11: =(#REF!-H11)*J11 -> #REF! | N11: =IF(I11=0,0,K11/I11) -> 0 | O11: =IF(I11=0,0,L11/I11) -> 0 | P11: =IF(I11=0,0,M11/I11) -> 0 | Q11: 24 | Z11: =IF(I11=0,0,(#REF!+T11)/I11) -> 0 | AA11: =IF(OR(Q11=0,I11=0),"",Z11/Q11*100) | AE11: =IF(AA11>85," ","WARNING")
A12: D | B12: PF25 N°24 | C12: =IFERROR(VLOOKUP(D12,#REF!,2,0)," ") | K12: =(F12-E12)*J12 -> 0 | L12: =(G12-F12)*J12 -> 0 | M12: =(#REF!-H12)*J12 -> #REF! | N12: =IF(I12=0,0,K12/I12) -> 0 | O12: =IF(I12=0,0,L12/I12) -> 0 | P12: =IF(I12=0,0,M12/I12) -> 0 | Q12: 24 | Z12: =IF(I12=0,0,(#REF!+T12)/I12) -> 0 | AA12: =IF(OR(Q12=0,I12=0),"",Z12/Q12*100) | AE12: =IF(AA12>85," ","WARNING")
A13: E | B13: PF25 N°25 | C13: =IFERROR(VLOOKUP(D13,#REF!,2,0)," ") | K13: =(F13-E13)*J13 -> 0 | L13: =(G13-F13)*J13 -> 0 | M13: =(#REF!-H13)*J13 -> #REF! | N13: =IF(I13=0,0,K13/I13) -> 0 | O13: =IF(I13=0,0,L13/I13) -> 0 | P13: =IF(I13=0,0,M13/I13) -> 0 | Q13: 24 | Z13: =IF(I13=0,0,(#REF!+T13)/I13) -> 0 | AA13: =IF(OR(Q13=0,I13=0),"",Z13/Q13*100) | AE13: =IF(AA13>85," ","WARNING")
A14: F | B14: PF25 N°26
A15: R | B15: PF21 N°27
A16: S | B16: PF42 N°20 | C16: =IFERROR(VLOOKUP(D16,#REF!,2,0)," ") | K16: =(F16-E16)*J16 -> 0 | L16: =(G16-F16)*J16 -> 0 | M16: =(#REF!-H16)*J16 -> #REF! | N16: =IF(I16=0,0,K16/I16) -> 0 | O16: =IF(I16=0,0,L16/I16) -> 0 | P16: =IF(I16=0,0,M16/I16) -> 0 | Q16: 24 | Z16: =IF(I16=0,0,(#REF!+T16)/I16) -> 0 | AA16: =IF(OR(Q16=0,I16=0),"",Z16/Q16*100) | AE16: =IF(AA16>85," ","WARNING")
A18: A | B18: SST16 | C18: =IFERROR(VLOOKUP(D18,Pieces!A:B,2,0)," ") -> outi-plot | D18: plot nez de marche | E18: 27950 | F18: 28600 | G18: 28600 | H18: 28850 | I18: =IFERROR(VLOOKUP(D18,Pieces!A:C,3,0),"Entrer la cadence") -> 75 | J18: 1 | K18: =(F18-E18)*J18 -> 650 | L18: =(G18-F18)*J18 -> 0 | M18: =(H18-G18)*J18 -> 250 | N18: =IF(I18=0,0,K18/I18) -> 8.6666667 | O18: =IF(I18=0,0,L18/I18) -> 0 | P18: =IF(I18=0,0,M18/I18) -> 3.3333333 | Q18: 9 | S18: =U18+T18-K18-L18-M18 -> 0 | U18: 900 | Z18: =IF(I18=0,0,(U18+T18)/I18) -> 12 | AA18: =IF(OR(Q18=0,I18=0),"",Z18/Q18*100) -> 133.33333 | AE18: =IF(AA18>85," ","WARNING")
A19: B | B19: SB16 | C19: =IFERROR(VLOOKUP(D19,Pieces!A:B,2,0)," ") -> ECR-6.5X10 | D19: ECROU 6.5X10 | E19: 1416 | F19: 2281 | G19: 2281 | H19: 2464 | I19: =IFERROR(VLOOKUP(D19,Pieces!A:C,3,0),"Entrer la cadence") -> 120 | J19: 1 | K19: =(F19-E19)*J19 -> 865 | L19: =(G19-F19)*J19 -> 0 | M19: =(H19-G19)*J19 -> 183 | N19: =IF(I19=0,0,K19/I19) -> 7.2083333 | O19: =IF(I19=0,0,L19/I19) -> 0 | P19: =IF(I19=0,0,M19/I19) -> 1.525 | Q19: 9 | S19: =U19+T19-K19-L19-M19 -> 0 | U19: 1048 | Z19: =IF(I19=0,0,(U19+T19)/I19) -> 8.7333333 | AA19: =IF(OR(Q19=0,I19=0),"",Z19/Q19*100) -> 97.037037 | AE19: =IF(AA19>85," ","WARNING")
A20: C | B20: BIGLIA 301 SM | C20: =IFERROR(VLOOKUP(D20,Pieces!A:B,2,0)," ") -> G011 | D20: BAGUE D32*22 L=21 | E20: 700 | F20: 981 | G20: 981 | H20: 1084 | I20: =IFERROR(VLOOKUP(D20,Pieces!A:C,3,0),"Entrer la cadence") -> 45 | J20: 1 | K20: =(F20-E20)*J20 -> 281 | L20: =(G20-F20)*J20 -> 0 | M20: =(H20-G20)*J20 -> 103 | N20: =IF(I20=0,0,K20/I20) -> 6.2444444 | O20: =IF(I20=0,0,L20/I20) -> 0 | P20: =IF(I20=0,0,M20/I20) -> 2.2888889 | Q20: 9 | S20: =U20+T20-K20-L20-M20 -> 0 | U20: 384 | Z20: =IF(I20=0,0,(U20+T20)/I20) -> 8.5333333 | AA20: =IF(OR(Q20=0,I20=0),"",Z20/Q20*100) -> 94.814815 | AE20: =IF(AA20>85," ","WARNING")
A21: D | B21: BIGLIA 42 S2M-bitourelle | C21: =IFERROR(VLOOKUP(D21,Pieces!A:B,2,0)," ") -> I081-95-CP8 | D21: AXE BOITIER TFR+KB | E21: 310 | F21: 410 | G21: 410 | H21: 411 | I21: =IFERROR(VLOOKUP(D21,Pieces!A:C,3,0),"Entrer la cadence") -> 28 | J21: 1 | K21: =(F21-E21)*J21 -> 100 | L21: =(G21-F21)*J21 -> 0 | M21: =(H21-G21)*J21 -> 1 | N21: =IF(I21=0,0,K21/I21) -> 3.5714286 | O21: =IF(I21=0,0,L21/I21) -> 0 | P21: =IF(I21=0,0,M21/I21) -> 0.035714286 | Q21: 9 | S21: =U21+T21-K21-L21-M21 -> 0 | U21: 101 | Z21: =IF(I21=0,0,(U21+T21)/I21) -> 3.6071429 | AA21: =IF(OR(Q21=0,I21=0),"",Z21/Q21*100) -> 40.079365 | AE21: =IF(AA21>85," ","WARNING") -> WARNING
A22: E | B22: L32 | C22: =IFERROR(VLOOKUP(D22,Pieces!A:B,2,0)," ") -> 480387 | D22: EVACUATION 2/3G X-ONE carre l32 | E22: 0 | F22: 0 | G22: 0 | H22: 0 | I22: =IFERROR(VLOOKUP(D22,Pieces!A:C,3,0),"Entrer la cadence") -> 20 | J22: 1 | K22: =(F22-E22)*J22 -> 0 | L22: =(G22-F22)*J22 -> 0 | M22: =(H22-G22)*J22 -> 0 | N22: =IF(I22=0,0,K22/I22) -> 0 | O22: =IF(I22=0,0,L22/I22) -> 0 | P22: =IF(I22=0,0,M22/I22) -> 0 | Q22: 9 | S22: =U22+T22-K22-L22-M22 -> 0 | U22: 0 | Z22: =IF(I22=0,0,(U22+T22)/I22) -> 0 | AA22: =IF(OR(Q22=0,I22=0),"",Z22/Q22*100) -> 0 | AE22: =IF(AA22>85," ","WARNING") -> WARNING
A23: I | B23: TSUGAMI | C23: =IFERROR(VLOOKUP(D23,Pieces!A:B,2,0)," ") -> - | D23: Arrêt | E23: 0 | F23: 0 | G23: 0 | H23: 0 | I23: =IFERROR(VLOOKUP(D23,Pieces!A:C,3,0),"Entrer la cadence") -> 1 | J23: 1 | K23: =(F23-E23)*J23 -> 0 | L23: =(G23-F23)*J23 -> 0 | M23: =(H23-G23)*J23 -> 0 | N23: =IF(I23=0,0,K23/I23) -> 0 | O23: =IF(I23=0,0,L23/I23) -> 0 | P23: =IF(I23=0,0,M23/I23) -> 0 | Q23: 9 | S23: =U23+T23-K23-L23-M23 -> 0 | U23: 0 | Z23: =IF(I23=0,0,(U23+T23)/I23) -> 0 | AA23: =IF(OR(Q23=0,I23=0),"",Z23/Q23*100) -> 0 | AE23: =IF(AA23>85," ","WARNING") -> WARNING
A24: G | B24: MORI SEIKI 3 axes | C24: =IFERROR(VLOOKUP(D24,Pieces!A:B,2,0)," ") -> I110-01-004 | D24: INSERT LEVIER SURMOULEE 345833-01 - fraisage | E24: 887 | F24: 887 | G24: 887 | H24: 887 | I24: =IFERROR(VLOOKUP(D24,Pieces!A:C,3,0),"Entrer la cadence") -> 28 | J24: 7 | K24: =(F24-E24)*J24 -> 0 | L24: =(G24-F24)*J24 -> 0 | M24: =(H24-G24)*J24 -> 0 | N24: =IF(I24=0,0,K24/I24) -> 0 | O24: =IF(I24=0,0,L24/I24) -> 0 | P24: =IF(I24=0,0,M24/I24) -> 0 | Q24: 9 | S24: =U24+T24-K24-L24-M24 -> 0 | U24: 0 | Z24: =IF(I24=0,0,(U24+T24)/I24) -> 0 | AA24: =IF(OR(Q24=0,I24=0),"",Z24/Q24*100) -> 0 | AE24: =IF(AA24>85," ","WARNING") -> WARNING
A25: H | B25: MORI SEIKI 5 axes | C25: =IFERROR(VLOOKUP(D25,Pieces!A:B,2,0)," ") -> 480387 | D25: EVACUATION 2/3G X-ONE | E25: 80 | F25: 80 | G25: 80 | H25: 80 | I25: =IFERROR(VLOOKUP(D25,Pieces!A:C,3,0),"Entrer la cadence") -> 60 | J25: 20 | K25: =(F25-E25)*J25 -> 0 | L25: =(G25-F25)*J25 -> 0 | M25: =(H25-G25)*J25 -> 0 | N25: =IF(I25=0,0,K25/I25) -> 0 | O25: =IF(I25=0,0,L25/I25) -> 0 | P25: =IF(I25=0,0,M25/I25) -> 0 | Q25: 9 | S25: =U25+T25-K25-L25-M25 -> 0 | U25: 0 | Z25: =IF(I25=0,0,(U25+T25)/I25) -> 0 | AA25: =IF(OR(Q25=0,I25=0),"",Z25/Q25*100) -> 0 | AE25: =IF(AA25>85," ","WARNING") -> WARNING
A26: L | B26: HARDING | C26: =IFERROR(VLOOKUP(D26,Pieces!A:B,2,0)," ") -> PIG 50 SE- harding | D26: PIGNON PLATEAU SIMPLE ETAGE D50 - contournage dents | E26: 7 | F26: 13 | G26: 13 | H26: 15 | I26: =IFERROR(VLOOKUP(D26,Pieces!A:C,3,0),"Entrer la cadence") -> 38 | J26: 51 | K26: =(F26-E26)*J26 -> 306 | L26: =(G26-F26)*J26 -> 0 | M26: =(H26-G26)*J26 -> 102 | N26: =IF(I26=0,0,K26/I26) -> 8.0526316 | O26: =IF(I26=0,0,L26/I26) -> 0 | P26: =IF(I26=0,0,M26/I26) -> 2.6842105 | Q26: 9 | S26: =U26+T26-K26-L26-M26 -> 0 | U26: 408 | Z26: =IF(I26=0,0,(U26+T26)/I26) -> 10.736842 | AA26: =IF(OR(Q26=0,I26=0),"",Z26/Q26*100) -> 119.29825 | AE26: =IF(AA26>85," ","WARNING")
A27: K | B27: KITAMURA | C27: =IFERROR(VLOOKUP(D27,Pieces!A:B,2,0)," ") -> - | D27: Arrêt | E27: 0 | F27: 0 | G27: 0 | H27: 0 | I27: =IFERROR(VLOOKUP(D27,Pieces!A:C,3,0),"Entrer la cadence") -> 1 | J27: 1 | K27: =(F27-E27)*J27 -> 0 | L27: =(G27-F27)*J27 -> 0 | M27: =(H27-G27)*J27 -> 0 | N27: =IF(I27=0,0,K27/I27) -> 0 | O27: =IF(I27=0,0,L27/I27) -> 0 | P27: =IF(I27=0,0,M27/I27) -> 0 | Q27: 9 | S27: =U27+T27-K27-L27-M27 -> 0 | U27: 0 | Z27: =IF(I27=0,0,(U27+T27)/I27) -> 0 | AA27: =IF(OR(Q27=0,I27=0),"",Z27/Q27*100) -> 0 | AE27: =IF(AA27>85," ","WARNING") -> WARNING
A28: F | B28: MULTI BROCHE | C28: =IFERROR(VLOOKUP(D28,Pieces!A:B,2,0)," ") -> MPS000300 | D28: raccord HEX 17 | E28: 180777 | F28: 180777 | G28: 180777 | H28: 180777 | I28: =IFERROR(VLOOKUP(D28,Pieces!A:C,3,0),"Entrer la cadence") -> 454 | J28: 1 | K28: =(F28-E28)*J28 -> 0 | L28: =(G28-F28)*J28 -> 0 | M28: =(H28-G28)*J28 -> 0 | N28: =IF(I28=0,0,K28/I28) -> 0 | O28: =IF(I28=0,0,L28/I28) -> 0 | P28: =IF(I28=0,0,M28/I28) -> 0 | Q28: 9 | S28: =U28+T28-K28-L28-M28 -> 0 | U28: 0 | Z28: =IF(I28=0,0,(U28+T28)/I28) -> 0 | AA28: =IF(OR(Q28=0,I28=0),"",Z28/Q28*100) -> 0 | AE28: =IF(AA28>85," ","WARNING") -> WARNING
A29: J | B29: NAKAMURA | C29: =IFERROR(VLOOKUP(D29,Pieces!A:B,2,0)," ") -> I143-CP1 | D29: ECROU DE ROUE TFR ISUZU -nak | E29: 2992 | F29: 3340 | G29: 3340 | H29: 3390 | I29: =IFERROR(VLOOKUP(D29,Pieces!A:C,3,0),"Entrer la cadence") -> 50 | J29: 1 | K29: =(F29-E29)*J29 -> 348 | L29: =(G29-F29)*J29 -> 0 | M29: =(H29-G29)*J29 -> 50 | N29: =IF(I29=0,0,K29/I29) -> 6.96 | O29: =IF(I29=0,0,L29/I29) -> 0 | P29: =IF(I29=0,0,M29/I29) -> 1 | Q29: 9 | S29: =U29+T29-K29-L29-M29 -> 0 | U29: 398 | Z29: =IF(I29=0,0,(U29+T29)/I29) -> 7.96 | AA29: =IF(OR(Q29=0,I29=0),"",Z29/Q29*100) -> 88.444444 | AE29: =IF(AA29>85," ","WARNING")
A30: M | B30: TOUR WEILER | C30: =IFERROR(VLOOKUP(D30,Pieces!A:B,2,0)," ") -> G018 | D30: GOUJON M12*1.5 L=50 | E30: 1030 | F30: 1200 | G30: 1200 | H30: 1200 | I30: =IFERROR(VLOOKUP(D30,Pieces!A:C,3,0),"Entrer la cadence") -> 20 | J30: 1 | K30: =(F30-E30)*J30 -> 170 | L30: =(G30-F30)*J30 -> 0 | M30: =(H30-G30)*J30 -> 0 | N30: =IF(I30=0,0,K30/I30) -> 8.5 | O30: =IF(I30=0,0,L30/I30) -> 0 | P30: =IF(I30=0,0,M30/I30) -> 0 | Q30: 9 | S30: =U30+T30-K30-L30-M30 -> 0 | U30: 170 | Z30: =IF(I30=0,0,(U30+T30)/I30) -> 8.5 | AA30: =IF(OR(Q30=0,I30=0),"",Z30/Q30*100) -> 94.444444 | AE30: =IF(AA30>85," ","WARNING")
Q31: temps d'ouverture | R31: 9
C38: Rédacteur | J38: Approbateur:
C39: Date | J39: Date:
C40: Visa | J40: Visa:

Sheet 02-01-2020
C1: Tableau de production journalière | Z1: CODE: DAS-PRO-16
Z2: DATE:30/08/2019
Z3: VERSION:07
Z4: PAGE:1
A8: SYMBOLE | B8: MACHINE | C8: REF ARTICLE | D8: DESIGNATION | E8: COMPTEUR HIER à8H | F8: COMPTEUR HIER à 17H | G8: COMPTEUR HIER à 19H | H8: COMPTEUR AUJOURD’HUI à 8h | I8: CADENCE | J8: NOMBRE DE PIECES FINIS PAR CYCLE | K8: PIECES SUIVANT COMPTEU 8h-->17h | L8: PIECES SUIVANT COMPTEUR 17H-->19H | M8: PIECES SUIVANT COMPTEUR 6h-->8h | N8: NOMBRE D'HEURES DE TRAVAIL 8h-->17h | O8: NOMBRE D'HEURES DE TRAVAIL 17H-->19H | P8: NOMBRE D'HEURES DE TRAVAIL 6h-->8h | Q8: NOMBRE D'HEURES DE TRAVAIL | R8: OBSERVATIONS | S8: Pieces manquantes | T8: PIECES NC | U8: Pieces REELLES | V8: Nombre des pieces à retoucher | W8: Cause de la non-conformité | X8: Effet de la non-conformité | Y8: Valeur de l'effet | Z8: NOMBRES D'HEURES SUIVANT LES PIECES REELLES | AA8: RENDEMENT | AB8: Fiche de contrôle qualité début de serie | AC8: Affutage | AD8: Gamme d'usingae | AE8: ALERTES
A9: A | B9: PF25 N°21 | C9: =IFERROR(VLOOKUP(D9,#REF!,2,0)," ") | K9: =(F9-E9)*J9 -> 0 | L9: =(G9-F9)*J9 -> 0 | M9: =(#REF!-H9)*J9 -> #REF! | N9: =IF(I9=0,0,K9/I9) -> 0 | O9: =IF(I9=0,0,L9/I9) -> 0 | P9: =IF(I9=0,0,M9/I9) -> 0 | Q9: 24 | Z9: =IF(I9=0,0,(#REF!+T9)/I9) -> 0 | AA9: =IF(OR(Q9=0,I9=0),"",Z9/Q9*100) | AE9: =IF(AA9>85," ","WARNING")
A10: B | B10: PF25 N°22 | C10: =IFERROR(VLOOKUP(D10,#REF!,2,0)," ") | K10: =(F10-E10)*J10 -> 0 | L10: =(G10-F10)*J10 -> 0 | M10: =(#REF!-H10)*J10 -> #REF! | N10: =IF(I10=0,0,K10/I10) -> 0 | O10: =IF(I10=0,0,L10/I10) -> 0 | P10: =IF(I10=0,0,M10/I10) -> 0 | Q10: 24 | Z10: =IF(I10=0,0,(#REF!+T10)/I10) -> 0 | AA10: =IF(OR(Q10=0,I10=0),"",Z10/Q10*100) | AE10: =IF(AA10>85," ","WARNING")
A11: C | B11: PF25 N°23 | C11: =IFERROR(VLOOKUP(D11,#REF!,2,0)," ") | K11: =(F11-E11)*J11 -> 0 | L11: =(G11-F11)*J11 -> 0 | M11: =(#REF!-H11)*J11 -> #REF! | N11: =IF(I11=0,0,K11/I11) -> 0 | O11: =IF(I11=0,0,L11/I11) -> 0 | P11: =IF(I11=0,0,M11/I11) -> 0 | Q11: 24 | Z11: =IF(I11=0,0,(#REF!+T11)/I11) -> 0 | AA11: =IF(OR(Q11=0,I11=0),"",Z11/Q11*100) | AE11: =IF(AA11>85," ","WARNING")
A12: D | B12: PF25 N°24 | C12: =IFERROR(VLOOKUP(D12,#REF!,2,0)," ") | K12: =(F12-E12)*J12 -> 0 | L12: =(G12-F12)*J12 -> 0 | M12: =(#REF!-H12)*J12 -> #REF! | N12: =IF(I12=0,0,K12/I12) -> 0 | O12: =IF(I12=0,0,L12/I12) -> 0 | P12: =IF(I12=0,0,M12/I12) -> 0 | Q12: 24 | Z12: =IF(I12=0,0,(#REF!+T12)/I12) -> 0 | AA12: =IF(OR(Q12=0,I12=0),"",Z12/Q12*100) | AE12: =IF(AA12>85," ","WARNING")
A13: E | B13: PF25 N°25 | C13: =IFERROR(VLOOKUP(D13,#REF!,2,0)," ") | K13: =(F13-E13)*J13 -> 0 | L13: =(G13-F13)*J13 -> 0 | M13: =(#REF!-H13)*J13 -> #REF! | N13: =IF(I13=0,0,K13/I13) -> 0 | O13: =IF(I13=0,0,L13/I13) -> 0 | P13: =IF(I13=0,0,M13/I13) -> 0 | Q13: 24 | Z13: =IF(I13=0,0,(#REF!+T13)/I13) -> 0 | AA13: =IF(OR(Q13=0,I13=0),"",Z13/Q13*100) | AE13: =IF(AA13>85," ","WARNING")
A14: F | B14: PF25 N°26
A15: R | B15: PF21 N°27
A16: S | B16: PF42 N°20 | C16: =IFERROR(VLOOKUP(D16,#REF!,2,0)," ") | K16: =(F16-E16)*J16 -> 0 | L16: =(G16-F16)*J16 -> 0 | M16: =(#REF!-H16)*J16 -> #REF! | N16: =IF(I16=0,0,K16/I16) -> 0 | O16: =IF(I16=0,0,L16/I16) -> 0 | P16: =IF(I16=0,0,M16/I16) -> 0 | Q16: 24 | Z16: =IF(I16=0,0,(#REF!+T16)/I16) -> 0 | AA16: =IF(OR(Q16=0,I16=0),"",Z16/Q16*100) | AE16: =IF(AA16>85," ","WARNING")
A18: A | B18: SST16 | C18: =IFERROR(VLOOKUP(D18,Pieces!A:B,2,0)," ") -> outi-plot | D18: plot nez de marche | E18: 27039 | F18: 27690 | G18: 27840 | H18: 27950 | I18: =IFERROR(VLOOKUP(D18,Pieces!A:C,3,0),"Entrer la cadence") -> 75 | J18: 1 | K18: =(F18-E18)*J18 -> 651 | L18: =(G18-F18)*J18 -> 150 | M18: =(H18-G18)*J18 -> 110 | N18: =IF(I18=0,0,K18/I18) -> 8.68 | O18: =IF(I18=0,0,L18/I18) -> 2 | P18: =IF(I18=0,0,M18/I18) -> 1.4666667 | Q18: 9 | S18: =U18+T18-K18-L18-M18 -> 0 | U18: 911 | Z18: =IF(I18=0,0,(U18+T18)/I18) -> 12.146667 | AA18: =IF(OR(Q18=0,I18=0),"",Z18/Q18*100) -> 134.96296 | AE18: =IF(AA18>85," ","WARNING")
A19: B | B19: SB16 | C19: =IFERROR(VLOOKUP(D19,Pieces!A:B,2,0)," ") -> ECR-6.5X10 | D19: ECROU 6.5X10 | E19: 387 | F19: 1170 | G19: 1290 | H19: 1416 | I19: =IFERROR(VLOOKUP(D19,Pieces!A:C,3,0),"Entrer la cadence") -> 120 | J19: 1 | K19: =(F19-E19)*J19 -> 783 | L19: =(G19-F19)*J19 -> 120 | M19: =(H19-G19)*J19 -> 126 | N19: =IF(I19=0,0,K19/I19) -> 6.525 | O19: =IF(I19=0,0,L19/I19) -> 1 | P19: =IF(I19=0,0,M19/I19) -> 1.05 | Q19: 9 | S19: =U19+T19-K19-L19-M19 -> 0 | U19: 1029 | Z19: =IF(I19=0,0,(U19+T19)/I19) -> 8.575 | AA19: =IF(OR(Q19=0,I19=0),"",Z19/Q19*100) -> 95.277778 | AE19: =IF(AA19>85," ","WARNING")
A20: C | B20: BIGLIA 301 SM | C20: =IFERROR(VLOOKUP(D20,Pieces!A:B,2,0)," ") -> G011 | D20: BAGUE D32*22 L=21 | E20: 343 | F20: 600 | G20: 660 | H20: 700 | I20: =IFERROR(VLOOKUP(D20,Pieces!A:C,3,0),"Entrer la cadence") -> 45 | J20: 1 | K20: =(F20-E20)*J20 -> 257 | L20: =(G20-F20)*J20 -> 60 | M20: =(H20-G20)*J20 -> 40 | N20: =IF(I20=0,0,K20/I20) -> 5.7111111 | O20: =IF(I20=0,0,L20/I20) -> 1.3333333 | P20: =IF(I20=0,0,M20/I20) -> 0.88888889 | Q20: 9 | S20: =U20+T20-K20-L20-M20 -> 0 | U20: 357 | Z20: =IF(I20=0,0,(U20+T20)/I20) -> 7.9333333 | AA20: =IF(OR(Q20=0,I20=0),"",Z20/Q20*100) -> 88.148148 | AE20: =IF(AA20>85," ","WARNING")
A21: D | B21: BIGLIA 42 S2M-bitourelle | C21: =IFERROR(VLOOKUP(D21,Pieces!A:B,2,0)," ") -> I081-95-CP8 | D21: AXE BOITIER TFR+KB | E21: 217 | F21: 286 | G21: 308 | H21: 310 | I21: =IFERROR(VLOOKUP(D21,Pieces!A:C,3,0),"Entrer la cadence") -> 28 | J21: 1 | K21: =(F21-E21)*J21 -> 69 | L21: =(G21-F21)*J21 -> 22 | M21: =(H21-G21)*J21 -> 2 | N21: =IF(I21=0,0,K21/I21) -> 2.4642857 | O21: =IF(I21=0,0,L21/I21) -> 0.78571429 | P21: =IF(I21=0,0,M21/I21) -> 0.071428571 | Q21: 9 | S21: =U21+T21-K21-L21-M21 -> 0 | U21: 93 | Z21: =IF(I21=0,0,(U21+T21)/I21) -> 3.3214286 | AA21: =IF(OR(Q21=0,I21=0),"",Z21/Q21*100) -> 36.904762 | AE21: =IF(AA21>85," ","WARNING") -> WARNING
A22: E | B22: L32 | C22: =IFERROR(VLOOKUP(D22,Pieces!A:B,2,0)," ") -> 480387 | D22: EVACUATION 2/3G X-ONE carre l32 | E22: 0 | F22: 0 | G22: 0 | H22: 0 | I22: =IFERROR(VLOOKUP(D22,Pieces!A:C,3,0),"Entrer la cadence") -> 20 | J22: 1 | K22: =(F22-E22)*J22 -> 0 | L22: =(G22-F22)*J22 -> 0 | M22: =(H22-G22)*J22 -> 0 | N22: =IF(I22=0,0,K22/I22) -> 0 | O22: =IF(I22=0,0,L22/I22) -> 0 | P22: =IF(I22=0,0,M22/I22) -> 0 | Q22: 9 | S22: =U22+T22-K22-L22-M22 -> 0 | U22: 0 | Z22: =IF(I22=0,0,(U22+T22)/I22) -> 0 | AA22: =IF(OR(Q22=0,I22=0),"",Z22/Q22*100) -> 0 | AE22: =IF(AA22>85," ","WARNING") -> WARNING
A23: I | B23: TSUGAMI | C23: =IFERROR(VLOOKUP(D23,Pieces!A:B,2,0)," ") -> - | D23: Arrêt | E23: 0 | F23: 0 | G23: 0 | H23: 0 | I23: =IFERROR(VLOOKUP(D23,Pieces!A:C,3,0),"Entrer la cadence") -> 1 | J23: 1 | K23: =(F23-E23)*J23 -> 0 | L23: =(G23-F23)*J23 -> 0 | M23: =(H23-G23)*J23 -> 0 | N23: =IF(I23=0,0,K23/I23) -> 0 | O23: =IF(I23=0,0,L23/I23) -> 0 | P23: =IF(I23=0,0,M23/I23) -> 0 | Q23: 9 | S23: =U23+T23-K23-L23-M23 -> 0 | U23: 0 | Z23: =IF(I23=0,0,(U23+T23)/I23) -> 0 | AA23: =IF(OR(Q23=0,I23=0),"",Z23/Q23*100) -> 0 | AE23: =IF(AA23>85," ","WARNING") -> WARNING
A24: G | B24: MORI SEIKI 3 axes | C24: =IFERROR(VLOOKUP(D24,Pieces!A:B,2,0)," ") -> I110-01-004 | D24: INSERT LEVIER SURMOULEE 345833-01 - fraisage | E24: 887 | F24: 887 | G24: 887 | H24: 887 | I24: =IFERROR(VLOOKUP(D24,Pieces!A:C,3,0),"Entrer la cadence") -> 28 | J24: 7 | K24: =(F24-E24)*J24 -> 0 | L24: =(G24-F24)*J24 -> 0 | M24: =(H24-G24)*J24 -> 0 | N24: =IF(I24=0,0,K24/I24) -> 0 | O24: =IF(I24=0,0,L24/I24) -> 0 | P24: =IF(I24=0,0,M24/I24) -> 0 | Q24: 9 | S24: =U24+T24-K24-L24-M24 -> 0 | U24: 0 | Z24: =IF(I24=0,0,(U24+T24)/I24) -> 0 | AA24: =IF(OR(Q24=0,I24=0),"",Z24/Q24*100) -> 0 | AE24: =IF(AA24>85," ","WARNING") -> WARNING
A25: H | B25: MORI SEIKI 5 axes | C25: =IFERROR(VLOOKUP(D25,Pieces!A:B,2,0)," ") -> 480387 | D25: EVACUATION 2/3G X-ONE | E25: 80 | F25: 80 | G25: 80 | H25: 80 | I25: =IFERROR(VLOOKUP(D25,Pieces!A:C,3,0),"Entrer la cadence") -> 60 | J25: 20 | K25: =(F25-E25)*J25 -> 0 | L25: =(G25-F25)*J25 -> 0 | M25: =(H25-G25)*J25 -> 0 | N25: =IF(I25=0,0,K25/I25) -> 0 | O25: =IF(I25=0,0,L25/I25) -> 0 | P25: =IF(I25=0,0,M25/I25) -> 0 | Q25: 9 | S25: =U25+T25-K25-L25-M25 -> 0 | U25: 0 | Z25: =IF(I25=0,0,(U25+T25)/I25) -> 0 | AA25: =IF(OR(Q25=0,I25=0),"",Z25/Q25*100) -> 0 | AE25: =IF(AA25>85," ","WARNING") -> WARNING
A26: L | B26: HARDING | C26: =IFERROR(VLOOKUP(D26,Pieces!A:B,2,0)," ") -> PIG 50 SE- harding | D26: PIGNON PLATEAU SIMPLE ETAGE D50 - contournage dents | E26: 0 | F26: 5 | G26: 5 | H26: 7 | I26: =IFERROR(VLOOKUP(D26,Pieces!A:C,3,0),"Entrer la cadence") -> 38 | J26: 51 | K26: =(F26-E26)*J26 -> 255 | L26: =(G26-F26)*J26 -> 0 | M26: =(H26-G26)*J26 -> 102 | N26: =IF(I26=0,0,K26/I26) -> 6.7105263 | O26: =IF(I26=0,0,L26/I26) -> 0 | P26: =IF(I26=0,0,M26/I26) -> 2.6842105 | Q26: 9 | S26: =U26+T26-K26-L26-M26 -> 0 | U26: 357 | Z26: =IF(I26=0,0,(U26+T26)/I26) -> 9.3947368 | AA26: =IF(OR(Q26=0,I26=0),"",Z26/Q26*100) -> 104.38596 | AE26: =IF(AA26>85," ","WARNING")
A27: K | B27: KITAMURA | C27: =IFERROR(VLOOKUP(D27,Pieces!A:B,2,0)," ") -> - | D27: Arrêt | E27: 0 | F27: 0 | G27: 0 | H27: 0 | I27: =IFERROR(VLOOKUP(D27,Pieces!A:C,3,0),"Entrer la cadence") -> 1 | J27: 1 | K27: =(F27-E27)*J27 -> 0 | L27: =(G27-F27)*J27 -> 0 | M27: =(H27-G27)*J27 -> 0 | N27: =IF(I27=0,0,K27/I27) -> 0 | O27: =IF(I27=0,0,L27/I27) -> 0 | P27: =IF(I27=0,0,M27/I27) -> 0 | Q27: 9 | S27: =U27+T27-K27-L27-M27 -> 0 | U27: 0 | Z27: =IF(I27=0,0,(U27+T27)/I27) -> 0 | AA27: =IF(OR(Q27=0,I27=0),"",Z27/Q27*100) -> 0 | AE27: =IF(AA27>85," ","WARNING") -> WARNING
A28: F | B28: MULTI BROCHE | C28: =IFERROR(VLOOKUP(D28,Pieces!A:B,2,0)," ") -> MPS000300 | D28: raccord HEX 17 | E28: 180777 | F28: 180777 | G28: 180777 | H28: 180777 | I28: =IFERROR(VLOOKUP(D28,Pieces!A:C,3,0),"Entrer la cadence") -> 454 | J28: 1 | K28: =(F28-E28)*J28 -> 0 | L28: =(G28-F28)*J28 -> 0 | M28: =(H28-G28)*J28 -> 0 | N28: =IF(I28=0,0,K28/I28) -> 0 | O28: =IF(I28=0,0,L28/I28) -> 0 | P28: =IF(I28=0,0,M28/I28) -> 0 | Q28: 9 | S28: =U28+T28-K28-L28-M28 -> 0 | U28: 0 | Z28: =IF(I28=0,0,(U28+T28)/I28) -> 0 | AA28: =IF(OR(Q28=0,I28=0),"",Z28/Q28*100) -> 0 | AE28: =IF(AA28>85," ","WARNING") -> WARNING
A29: J | B29: NAKAMURA | C29: =IFERROR(VLOOKUP(D29,Pieces!A:B,2,0)," ") -> I143-CP1 | D29: ECROU DE ROUE TFR ISUZU -nak | E29: 2561 | F29: 2940 | G29: 2940 | H29: 2992 | I29: =IFERROR(VLOOKUP(D29,Pieces!A:C,3,0),"Entrer la cadence") -> 50 | J29: 1 | K29: =(F29-E29)*J29 -> 379 | L29: =(G29-F29)*J29 -> 0 | M29: =(H29-G29)*J29 -> 52 | N29: =IF(I29=0,0,K29/I29) -> 7.58 | O29: =IF(I29=0,0,L29/I29) -> 0 | P29: =IF(I29=0,0,M29/I29) -> 1.04 | Q29: 9 | S29: =U29+T29-K29-L29-M29 -> 0 | U29: 431 | Z29: =IF(I29=0,0,(U29+T29)/I29) -> 8.62 | AA29: =IF(OR(Q29=0,I29=0),"",Z29/Q29*100) -> 95.777778 | AE29: =IF(AA29>85," ","WARNING")
A30: M | B30: TOUR WEILER | C30: =IFERROR(VLOOKUP(D30,Pieces!A:B,2,0)," ") -> G018 | D30: GOUJON M12*1.5 L=50 | E30: 839 | F30: 1030 | G30: 1030 | H30: 1030 | I30: =IFERROR(VLOOKUP(D30,Pieces!A:C,3,0),"Entrer la cadence") -> 20 | J30: 1 | K30: =(F30-E30)*J30 -> 191 | L30: =(G30-F30)*J30 -> 0 | M30: =(H30-G30)*J30 -> 0 | N30: =IF(I30=0,0,K30/I30) -> 9.55 | O30: =IF(I30=0,0,L30/I30) -> 0 | P30: =IF(I30=0,0,M30/I30) -> 0 | Q30: 9 | S30: =U30+T30-K30-L30-M30 -> 0 | U30: 191 | Z30: =IF(I30=0,0,(U30+T30)/I30) -> 9.55 | AA30: =IF(OR(Q30=0,I30=0),"",Z30/Q30*100) -> 106.11111 | AE30: =IF(AA30>85," ","WARNING")
Q31: temps d'ouverture | R31: 9
C38: Rédacteur | J38: Approbateur:
C39: Date | J39: Date:
C40: Visa | J40: Visa:
