Workbook
Name kk: #REF!
Name kk: #REF!
Name kk: #REF!
Name kk: #REF!
Name kk: #REF!
Name kk: #REF!
Name kk: #REF!
Name kk: #REF!
Name kk: #REF!
Name kk: #REF!
Name kk: #REF!
Name kk: #REF!
Name kk: #REF!
Name kk: #REF!
Name kk: #REF!
Name kk: #REF!
Name kk: #REF!
Name kk: #REF!
Name ll: #REF!
Name ll: #REF!
Name ll: #REF!
Name ll: #REF!
Name ll: #REF!
Name ll: #REF!
Name ll: #REF!
Name ll: #REF!
Name ll: #REF!
Name ll: #REF!
Name ll: #REF!
Name ll: #REF!
Name ll: #REF!
Name ll: #REF!
Name ll: #REF!
Name ll: #REF!
Name ll: #REF!
Name ll: #REF!
Name lllllll: OFFSET(#REF!,,,COUNTA(#REF!))
Name lllllll: OFFSET(#REF!,,,COUNTA(#REF!))
Name lllllll: OFFSET(#REF!,,,COUNTA(#REF!))
Name lllllll: OFFSET(#REF!,,,COUNTA(#REF!))
Name lllllll: OFFSET(#REF!,,,COUNTA(#REF!))
Name lllllll: OFFSET(#REF!,,,COUNTA(#REF!))
Name lllllll: OFFSET(#REF!,,,COUNTA(#REF!))
Name lllllll: OFFSET(#REF!,,,COUNTA(#REF!))
Name lllllll: OFFSET(#REF!,,,COUNTA(#REF!))
Name lllllll: OFFSET(#REF!,,,COUNTA(#REF!))
Name lllllll: OFFSET(#REF!,,,COUNTA(#REF!))
Name lllllll: OFFSET(#REF!,,,COUNTA(#REF!))
Name lllllll: OFFSET(#REF!,,,COUNTA(#REF!))
Name lllllll: OFFSET(#REF!,,,COUNTA(#REF!))
Name lllllll: OFFSET(#REF!,,,COUNTA(#REF!))
Name lllllll: OFFSET(#REF!,,,COUNTA(#REF!))
Name lllllll: OFFSET(Pieces!#REF!,,,COUNTA(Pieces!$A:$A))
Name lllllll: OFFSET(#REF!,,,COUNTA(#REF!))
Name maya: #REF!
Name maya: #REF!
Name maya: #REF!
Name maya: #REF!
Name maya: #REF!
Name maya: #REF!

Sheet MODELE
C1: Tableau de production journalière | Z1: CODE: DAS-PRO-16
Z2: DATE:30/08/2019
Z3: VERSION:07
Z4: PAGE:1
A8: SYMBOLE | B8: MACHINE | C8: REF ARTICLE | D8: DESIGNATION | E8: COMPTEUR HIER à8H | F8: COMPTEUR HIER à 17H | G8: COMPTEUR HIER à 21H | H8: COMPTEUR AUJOURD’HUI à 8h | I8: CADENCE | J8: NOMBRE DE PIECES FINIS PAR CYCLE | K8: PIECES SUIVANT COMPTEU 8h-->17h | L8: PIECES SUIVANT COMPTEUR 17H-->21H | M8: PIECES SUIVANT COMPTEUR 5h-->8h | N8: NOMBRE D'HEURES DE TRAVAIL 8h-->17h | O8: NOMBRE D'HEURES DE TRAVAIL 17H-->21H | P8: NOMBRE D'HEURES DE TRAVAIL 5h-->8h | Q8: NOMBRE D'HEURES DE TRAVAIL | R8: OBSERVATIONS | S8: Pieces manquantes | T8: PIECES NC | U8: Pieces REELLES | V8: Nombre des pieces à retoucher | W8: Cause de la non-conformité | X8: Effet de la non-conformité | Y8: Valeur de l'effet | Z8: NOMBRES D'HEURES SUIVANT LES PIECES REELLES | AA8: RENDEMENT | AB8: Fiche de contrôle qualité début de serie | AC8: Affutage | AD8: Gamme d'usingae | AE8: ALERTES
A9: A | B9: PF25 N°21 | C9: =IFERROR(VLOOKUP(D9,#REF!,2,0)," ") | K9: =(F9-E9)*J9 -> 0 | L9: =(G9-F9)*J9 -> 0 | M9: =(#REF!-H9)*J9 -> #REF! | N9: =IF(I9=0,0,K9/I9) -> 0 | O9: =IF(I9=0,0,L9/I9) -> 0 | P9: =IF(I9=0,0,M9/I9) -> 0 | Q9: 24 | Z9: =IF(I9=0,0,(#REF!+T9)/I9) -> 0 | AA9: =IF(OR(Q9=0,I9=0),"",Z9/Q9*100) | AE9: =IF(AA9>85," ","WARNING")
A10: B | B10: PF25 N°22 | C10: =IFERROR(VLOOKUP(D10,#REF!,2,0)," ") | K10: =(F10-E10)*J10 -> 0 | L10: =(G10-F10)*J10 -> 0 | M10: =(#REF!-H10)*J10 -> #REF! | N10: =IF(I10=0,0,K10/I10) -> 0 | O10: =IF(I10=0,0,L10/I10) -> 0 | P10: =IF(I10=0,0,M10/I10) -> 0 | Q10: 24 | Z10: =IF(I10=0,0,(#REF!+T10)/I10) -> 0 | AA10: =IF(OR(Q10=0,I10=0),"",Z10/Q10*100) | AE10: =IF(AA10>85," ","WARNING")
A11: C | B11: PF25 N°23 | C11: =IFERROR(VLOOKUP(D11,#REF!,2,0)," ") | K11: =(F11-E11)*J11 -> 0 | L11: =(G11-F11)*J11 -> 0 | M11: =(#REF!-H11)*J11 -> #REF! | N11: =IF(I11=0,0,K11/I11) -> 0 | O11: =IF(I11=0,0,L11/I11) -> 0 | P11: =IF(I11=0,0,M11/I11) -> 0 | Q11: 24 | Z11: =IF(I11=0,0,(#REF!+T11)/I11) -> 0 | AA11: =IF(OR(Q11=0,I11=0),"",Z11/Q11*100) | AE11: =IF(AA11>85," ","WARNING")
A12: D | B12: PF25 N°24 | C12: =IFERROR(VLOOKUP(D12,#REF!,2,0)," ") | K12: =(F12-E12)*J12 -> 0 | L12: =(G12-F12)*J12 -> 0 | M12: =(#REF!-H12)*J12 -> #REF! | N12: =IF(I12=0,0,K12/I12) -> 0 | O12: =IF(I12=0,0,L12/I12) -> 0 | P12: =IF(I12=0,0,M12/I12) -> 0 | Q12: 24 | Z12: =IF(I12=0,0,(#REF!+T12)/I12) -> 0 | AA12: =IF(OR(Q12=0,I12=0),"",Z12/Q12*100) | AE12: =IF(AA12>85," ","WARNING")
A13: E | B13: PF25 N°25 | C13: =IFERROR(VLOOKUP(D13,#REF!,2,0)," ") | K13: =(F13-E13)*J13 -> 0 | L13: =(G13-F13)*J13 -> 0 | M13: =(#REF!-H13)*J13 -> #REF! | N13: =IF(I13=0,0,K13/I13) -> 0 | O13: =IF(I13=0,0,L13/I13) -> 0 | P13: =IF(I13=0,0,M13/I13) -> 0 | Q13: 24 | Z13: =IF(I13=0,0,(#REF!+T13)/I13) -> 0 | AA13: =IF(OR(Q13=0,I13=0),"",Z13/Q13*100) | AE13: =IF(AA13>85," ","WARNING")
A14: F | B14: PF25 N°26
A15: R | B15: PF21 N°27
A16: S | B16: PF42 N°20 | C16: =IFERROR(VLOOKUP(D16,#REF!,2,0)," ") | K16: =(F16-E16)*J16 -> 0 | L16: =(G16-F16)*J16 -> 0 | M16: =(#REF!-H16)*J16 -> #REF! | N16: =IF(I16=0,0,K16/I16) -> 0 | O16: =IF(I16=0,0,L16/I16) -> 0 | P16: =IF(I16=0,0,M16/I16) -> 0 | Q16: 24 | Z16: =IF(I16=0,0,(#REF!+T16)/I16) -> 0 | AA16: =IF(OR(Q16=0,I16=0),"",Z16/Q16*100) | AE16: =IF(AA16>85," ","WARNING")
A18: A | B18: SST16 | C18: =IFERROR(VLOOKUP(D18,#REF!,2,0)," ") | I18: =IFERROR(VLOOKUP(D18,#REF!,3,0),"Entrer la cadence") -> Entrer la cadence | K18: =(F18-E18)*J18 -> 0 | L18: =(G18-F18)*J18 -> 0 | M18: =(H18-G18)*J18 -> 0 | N18: =IF(I18=0,0,K18/I18) -> #VALUE! | O18: =IF(I18=0,0,L18/I18) -> #VALUE! | P18: =IF(I18=0,0,M18/I18) -> #VALUE! | S18: =U18+T18-K18-L18-M18 -> 0 | Z18: =IF(I18=0,0,(U18+T18)/I18) -> #VALUE! | AA18: =IF(OR(Q18=0,I18=0),"",Z18/Q18*100) | AE18: =IF(AA18>85," ","WARNING")
A19: B | B19: SB16 | C19: =IFERROR(VLOOKUP(D19,#REF!,2,0)," ") | I19: =IFERROR(VLOOKUP(D19,#REF!,3,0),"Entrer la cadence") -> Entrer la cadence | K19: =(F19-E19)*J19 -> 0 | L19: =(G19-F19)*J19 -> 0 | M19: =(G19-H19)*J19 -> 0 | N19: =IF(I19=0,0,K19/I19) -> #VALUE! | O19: =IF(I19=0,0,L19/I19) -> #VALUE! | P19: =IF(I19=0,0,M19/I19) -> #VALUE! | S19: =U19+T19-K19-L19-M19 -> 0 | Z19: =IF(I19=0,0,(U19+T19)/I19) -> #VALUE! | AA19: =IF(OR(Q19=0,I19=0),"",Z19/Q19*100) | AE19: =IF(AA19>85," ","WARNING")
A20: C | B20: BIGLIA 301 SM | C20: =IFERROR(VLOOKUP(D20,#REF!,2,0)," ") | I20: =IFERROR(VLOOKUP(D20,#REF!,3,0),"Entrer la cadence") -> Entrer la cadence | K20: =(F20-E20)*J20 -> 0 | L20: =(G20-F20)*J20 -> 0 | M20: =(G20-H20)*J20 -> 0 | N20: =IF(I20=0,0,K20/I20) -> #VALUE! | O20: =IF(I20=0,0,L20/I20) -> #VALUE! | P20: =IF(I20=0,0,M20/I20) -> #VALUE! | S20: =U20+T20-K20-L20-M20 -> 0 | Z20: =IF(I20=0,0,(U20+T20)/I20) -> #VALUE! | AA20: =IF(OR(Q20=0,I20=0),"",Z20/Q20*100) | AE20: =IF(AA20>85," ","WARNING")
A21: D | B21: BIGLIA 42 S2M | C21: =IFERROR(VLOOKUP(D21,#REF!,2,0)," ") | I21: =IFERROR(VLOOKUP(D21,#REF!,3,0),"Entrer la cadence") -> Entrer la cadence | K21: =(F21-E21)*J21 -> 0 | L21: =(G21-F21)*J21 -> 0 | M21: =(G21-H21)*J21 -> 0 | N21: =IF(I21=0,0,K21/I21) -> #VALUE! | O21: =IF(I21=0,0,L21/I21) -> #VALUE! | P21: =IF(I21=0,0,M21/I21) -> #VALUE! | S21: =U21+T21-K21-L21-M21 -> 0 | Z21: =IF(I21=0,0,(U21+T21)/I21) -> #VALUE! | AA21: =IF(OR(Q21=0,I21=0),"",Z21/Q21*100) | AE21: =IF(AA21>85," ","WARNING")
A22: E | B22: L32 | C22: =IFERROR(VLOOKUP(D22,#REF!,2,0)," ") | I22: =IFERROR(VLOOKUP(D22,#REF!,3,0),"Entrer la cadence") -> Entrer la cadence | K22: =(F22-E22)*J22 -> 0 | L22: =(G22-F22)*J22 -> 0 | M22: =(G22-H22)*J22 -> 0 | N22: =IF(I22=0,0,K22/I22) -> #VALUE! | O22: =IF(I22=0,0,L22/I22) -> #VALUE! | P22: =IF(I22=0,0,M22/I22) -> #VALUE! | S22: =U22+T22-K22-L22-M22 -> 0 | Z22: =IF(I22=0,0,(U22+T22)/I22) -> #VALUE! | AA22: =IF(OR(Q22=0,I22=0),"",Z22/Q22*100) | AE22: =IF(AA22>85," ","WARNING")
A23: F | B23: MULTI BROCHE | C23: =IFERROR(VLOOKUP(D23,#REF!,2,0)," ") | I23: =IFERROR(VLOOKUP(D23,#REF!,3,0),"Entrer la cadence") -> Entrer la cadence | K23: =(F23-E23)*J23 -> 0 | L23: =(G23-F23)*J23 -> 0 | M23: =(G23-H23)*J23 -> 0 | N23: =IF(I23=0,0,K23/I23) -> #VALUE! | O23: =IF(I23=0,0,L23/I23) -> #VALUE! | P23: =IF(I23=0,0,M23/I23) -> #VALUE! | S23: =U23+T23-K23-L23-M23 -> 0 | Z23: =IF(I23=0,0,(U23+T23)/I23) -> #VALUE! | AA23: =IF(OR(Q23=0,I23=0),"",Z23/Q23*100) | AE23: =IF(AA23>85," ","WARNING")
A24: G | B24: MORI SEIKI 3 axes | C24: =IFERROR(VLOOKUP(D24,#REF!,2,0)," ") | I24: =IFERROR(VLOOKUP(D24,#REF!,3,0),"Entrer la cadence") -> Entrer la cadence | K24: =(F24-E24)*J24 -> 0 | L24: =(G24-F24)*J24 -> 0 | M24: =(G24-H24)*J24 -> 0 | N24: =IF(I24=0,0,K24/I24) -> #VALUE! | O24: =IF(I24=0,0,L24/I24) -> #VALUE! | P24: =IF(I24=0,0,M24/I24) -> #VALUE! | S24: =U24+T24-K24-L24-M24 -> 0 | Z24: =IF(I24=0,0,(U24+T24)/I24) -> #VALUE! | AA24: =IF(OR(Q24=0,I24=0),"",Z24/Q24*100) | AE24: =IF(AA24>85," ","WARNING")
A25: H | B25: MORI SEIKI 5 axes | C25: =IFERROR(VLOOKUP(D25,#REF!,2,0)," ") | I25: =IFERROR(VLOOKUP(D25,#REF!,3,0),"Entrer la cadence") -> Entrer la cadence | K25: =(F25-E25)*J25 -> 0 | L25: =(G25-F25)*J25 -> 0 | M25: =(G25-H25)*J25 -> 0 | N25: =IF(I25=0,0,K25/I25) -> #VALUE! | O25: =IF(I25=0,0,L25/I25) -> #VALUE! | P25: =IF(I25=0,0,M25/I25) -> #VALUE! | S25: =U25+T25-K25-L25-M25 -> 0 | Z25: =IF(I25=0,0,(U25+T25)/I25) -> #VALUE! | AA25: =IF(OR(Q25=0,I25=0),"",Z25/Q25*100) | AE25: =IF(AA25>85," ","WARNING")
A26: I | B26: TSUGAMI | C26: =IFERROR(VLOOKUP(D26,#REF!,2,0)," ") | I26: =IFERROR(VLOOKUP(D26,#REF!,3,0),"Entrer la cadence") -> Entrer la cadence | K26: =(F26-E26)*J26 -> 0 | L26: =(G26-F26)*J26 -> 0 | M26: =(G26-H26)*J26 -> 0 | N26: =IF(I26=0,0,K26/I26) -> #VALUE! | O26: =IF(I26=0,0,L26/I26) -> #VALUE! | P26: =IF(I26=0,0,M26/I26) -> #VALUE! | S26: =U26+T26-K26-L26-M26 -> 0 | Z26: =IF(I26=0,0,(U26+T26)/I26) -> #VALUE! | AA26: =IF(OR(Q26=0,I26=0),"",Z26/Q26*100) | AE26: =IF(AA26>85," ","WARNING")
A27: J | B27: NAKAMURA | C27: =IFERROR(VLOOKUP(D27,#REF!,2,0)," ") | I27: =IFERROR(VLOOKUP(D27,#REF!,3,0),"Entrer la cadence") -> Entrer la cadence | K27: =(F27-E27)*J27 -> 0 | L27: =(G27-F27)*J27 -> 0 | M27: =(G27-H27)*J27 -> 0 | N27: =IF(I27=0,0,K27/I27) -> #VALUE! | O27: =IF(I27=0,0,L27/I27) -> #VALUE! | P27: =IF(I27=0,0,M27/I27) -> #VALUE! | S27: =U27+T27-K27-L27-M27 -> 0 | Z27: =IF(I27=0,0,(U27+T27)/I27) -> #VALUE! | AA27: =IF(OR(Q27=0,I27=0),"",Z27/Q27*100) | AE27: =IF(AA27>85," ","WARNING")
A28: K | B28: KITAMURA | I28: =IFERROR(VLOOKUP(D28,#REF!,3,0),"Entrer la cadence") -> Entrer la cadence | K28: =(F28-E28)*J28 -> 0 | L28: =(G28-F28)*J28 -> 0 | M28: =(G28-H28)*J28 -> 0 | N28: =IF(I28=0,0,K28/I28) -> #VALUE! | O28: =IF(I28=0,0,L28/I28) -> #VALUE! | P28: =IF(I28=0,0,M28/I28) -> #VALUE! | S28: =U28+T28-K28-L28-M28 -> 0 | Z28: =IF(I28=0,0,(U28+T28)/I28) -> #VALUE! | AA28: =IF(OR(Q28=0,I28=0),"",Z28/Q28*100)
A29: L | B29: HARDING | I29: =IFERROR(VLOOKUP(D29,#REF!,3,0),"Entrer la cadence") -> Entrer la cadence | K29: =(F29-E29)*J29 -> 0 | L29: =(G29-F29)*J29 -> 0 | M29: =(G29-H29)*J29 -> 0 | N29: =IF(I29=0,0,K29/I29) -> #VALUE! | O29: =IF(I29=0,0,L29/I29) -> #VALUE! | P29: =IF(I29=0,0,M29/I29) -> #VALUE! | S29: =U29+T29-K29-L29-M29 -> 0 | Z29: =IF(I29=0,0,(U29+T29)/I29) -> #VALUE! | AA29: =IF(OR(Q29=0,I29=0),"",Z29/Q29*100)
A30: M | B30: TOUR WEILER | I30: =IFERROR(VLOOKUP(D30,#REF!,3,0),"Entrer la cadence") -> Entrer la cadence | K30: =(F30-E30)*J30 -> 0 | L30: =(G30-F30)*J30 -> 0 | M30: =(H30-G30)*J30 -> 0 | N30: =IF(I30=0,0,K30/I30) -> #VALUE! | O30: =IF(I30=0,0,L30/I30) -> #VALUE! | P30: =IF(I30=0,0,M30/I30) -> #VALUE! | S30: =U30+T30-K30-L30-M30 -> 0 | Z30: =IF(I30=0,0,(U30+T30)/I30) -> #VALUE! | AA30: =IF(OR(Q30=0,I30=0),"",Z30/Q30*100)
Q31: temps d'ouverture
C37: Rédacteur | J37: Approbateur:
C38: Date | J38: Date:
C39: Visa | J39: Visa:

Sheet Pieces
A1: desgination | B1: reference | C1: Cadence réelle | D1: machine
A2: BUSS. DIS. 14-3003 1320X28.7 AVP CARB | B2: 510081 | C2: 90
A3: ANNEAU 25.2*32*29 | B3: 4-7611 | C3: 120
A4: Anneau 30*38*23 | B4: 0-4599 | C4: 120
A5: Anneau BN 25.2*32*31.5 | B5: 0-3863 | C5: 90
A6: Anneau brut 30*28*27 | B6: 0-4965 | C6: 120
A7: Anneau Brute 28*38*40 | B7: 0-3879 | C7: 45
A8: anneau brute 30*38*21 | B8: 0-4457 | C8: 120
A9: Anneau Brute 30*38*25 | B9: 0-3883 | C9: 120
A10: Anneau Brute 30*38*27 | B10: 0-4965 | C10: 120
A11: Anneau Brute 30*38*33 | B11: 0-3864 | C11: 120
A12: Anneau FX 25.2*32*21 | B12: 0-4180 | C12: 120
A13: AOE 950 12 BOX SPINA INOX | B13: SPINA00010 | C13: 8
A14: AOE 950/12/9.5 SPINA INOX | B14: SPINA00009 | C14: 15
... A22: AXE AVEC INSERT INTEGRES | B22: 2018110-01 | C22: 12
A23: AXE BOITIER TFR+KB | B23: I081-95-CP8 | C23: 28 | D23: BIGLIA MIM
A24: AXE D15-M11x100 | B24: G022-CP1 | C24: 30
A25: AXE D'ARTICULATION | B25: 200101 | C25: 130
A26: AXE DE FREIN OM40 PROD | B26: M030-PROD | C26: 90
A27: AXE DIRECTION ISUZU | B27: I059 | C27: 70
A28: AXE ETRIER FORD RANGER-PROD | B28: FO011-PROD | C28: 45
A29: AXE ETRIER MITSUBISHI D21.2 PROD | B29: MI029-CP1-PROD | C29: 30
A30: AXE ETRIER MITSUBISHI D21.9 AVEC SOUFFLET-CP1 PROD | B30: MI030-CP1-PROD | C30: 30
A31: AXE ETRIER SUP MITSUBISHI L200(536) | B31: MI029 | C31: 30
A32: AXE FEMELLE | B32: AXE FEMELLE-D16 | C32: 30
A33: AXE FEMELLE | B33: 2018051-01 | C33: 30
A34: AXE FEMELLE M8X55 | B34: 2018106-02-02 | C34: 30
A35: AXE FOURCHETTE | B35: 19037-1 | C35: 70
A36: AXE FOURCHETTE SIMPLE | B36: 2018013-01 | C36: 120
A37: AXE GM JUMELLE MITSUBITCHI | B37: MI013-CP1 | C37: 50
... A45: AXE MALE EN I | B45: 2018146-02 | C45: 30
A46: AXE MALE L=100 | B46: 2018130 | C46: 30 | D46: l32
A47: AXE MALE SANS TROU | B47: AXE MALE S-T D16 | D47: L32
A48: AXE MALE V02 | B48: 2018106-02-01 | C48: 12 | D48: l32
A49: AXE MALE-001 | B49: 2018122-03 | C49: 60 | D49: l32
A50: AXE PORTE TURBINE D10 | B50: A001 | C50: 36
A51: Axe tendeur de 10 | B51: AXE - T - D10 | C51: 360
A52: AXE TENDEUR DE 11 | B52: AXE-T- D11 | C52: 90
A53: AXE TRIANGLE SUSPENSION-CP1 PROD | B53: I094-CP1-PROD | C53: 100
A54: BAGUE GALVANISEE 16X11X4 | B54: G022-CP5 | C54: 120
...

Sheet 21-01-2020
C1: Tableau de production journalière | Z1: CODE: DAS-PRO-16
Z2: DATE:30/08/2019
Z3: VERSION:07
Z4: PAGE:1
A8: SYMBOLE | B8: MACHINE | C8: REF ARTICLE | D8: DESIGNATION | E8: COMPTEUR HIER à8H | F8: COMPTEUR HIER à 13H | G8: COMPTEUR HIER à 19H | H8: COMPTEUR AUJOURD’HUI à 8h | I8: CADENCE | J8: NOMBRE DE PIECES FINIS PAR CYCLE | K8: PIECES SUIVANT COMPTEU 8h-->13h | L8: PIECES SUIVANT COMPTEUR 17H-->19H | M8: PIECES SUIVANT COMPTEUR 6h-->8h | N8: NOMBRE D'HEURES DE TRAVAIL 8h-->17h | O8: NOMBRE D'HEURES DE TRAVAIL 17H-->19H | P8: NOMBRE D'HEURES DE TRAVAIL 6h-->8h | Q8: NOMBRE D'HEURES DE TRAVAIL | R8: OBSERVATIONS | S8: Pieces manquantes | T8: PIECES NC | U8: Pieces REELLES | V8: Nombre des pieces à retoucher | W8: Cause de la non-conformité | X8: Effet de la non-conformité | Y8: Valeur de l'effet | Z8: NOMBRES D'HEURES SUIVANT LES PIECES REELLES | AA8: RENDEMENT | AB8: Fiche de contrôle qualité début de serie | AC8: Affutage | AD8: Gamme d'usingae | AE8: ALERTES
A9: A | B9: PF25 N°21 | C9: =IFERROR(VLOOKUP(D9,#REF!,2,0)," ") | K9: =(F9-E9)*J9 -> 0 | L9: =(G9-F9)*J9 -> 0 | M9: =(#REF!-H9)*J9 -> #REF! | N9: =IF(I9=0,0,K9/I9) -> 0 | O9: =IF(I9=0,0,L9/I9) -> 0 | P9: =IF(I9=0,0,M9/I9) -> 0 | Q9: 24 | Z9: =IF(I9=0,0,(#REF!+T9)/I9) -> 0 | AA9: =IF(OR(Q9=0,I9=0),"",Z9/Q9*100) | AE9: =IF(AA9>85," ","WARNING")
A10: B | B10: PF25 N°22 | C10: =IFERROR(VLOOKUP(D10,#REF!,2,0)," ") | K10: =(F10-E10)*J10 -> 0 | L10: =(G10-F10)*J10 -> 0 | M10: =(#REF!-H10)*J10 -> #REF! | N10: =IF(I10=0,0,K10/I10) -> 0 | O10: =IF(I10=0,0,L10/I10) -> 0 | P10: =IF(I10=0,0,M10/I10) -> 0 | Q10: 24 | Z10: =IF(I10=0,0,(#REF!+T10)/I10) -> 0 | AA10: =IF(OR(Q10=0,I10=0),"",Z10/Q10*100) | AE10: =IF(AA10>85," ","WARNING")
A11: C | B11: PF25 N°23 | C11: =IFERROR(VLOOKUP(D11,#REF!,2,0)," ") | K11: =(F11-E11)*J11 -> 0 | L11: =(G11-F11)*J11 -> 0 | M11: =(#REF!-H11)*J11 -> #REF! | N11: =IF(I11=0,0,K11/I11) -> 0 | O11: =IF(I11=0,0,L11/I11) -> 0 | P11: =IF(I11=0,0,M11/I11) -> 0 | Q11: 24 | Z11: =IF(I11=0,0,(#REF!+T11)/I11) -> 0 | AA11: =IF(OR(Q11=0,I11=0),"",Z11/Q11*100) | AE11: =IF(AA11>85," ","WARNING")
A12: D | B12: PF25 N°24 | C12: =IFERROR(VLOOKUP(D12,#REF!,2,0)," ") | K12: =(F12-E12)*J12 -> 0 | L12: =(G12-F12)*J12 -> 0 | M12: =(#REF!-H12)*J12 -> #REF! | N12: =IF(I12=0,0,K12/I12) -> 0 | O12: =IF(I12=0,0,L12/I12) -> 0 | P12: =IF(I12=0,0,M12/I12) -> 0 | Q12: 24 | Z12: =IF(I12=0,0,(#REF!+T12)/I12) -> 0 | AA12: =IF(OR(Q12=0,I12=0),"",Z12/Q12*100) | AE12: =IF(AA12>85," ","WARNING")
A13: E | B13: PF25 N°25 | C13: =IFERROR(VLOOKUP(D13,#REF!,2,0)," ") | K13: =(F13-E13)*J13 -> 0 | L13: =(G13-F13)*J13 -> 0 | M13: =(#REF!-H13)*J13 -> #REF! | N13: =IF(I13=0,0,K13/I13) -> 0 | O13: =IF(I13=0,0,L13/I13) -> 0 | P13: =IF(I13=0,0,M13/I13) -> 0 | Q13: 24 | Z13: =IF(I13=0,0,(#REF!+T13)/I13) -> 0 | AA13: =IF(OR(Q13=0,I13=0),"",Z13/Q13*100) | AE13: =IF(AA13>85," ","WARNING")
A14: F | B14: PF25 N°26
A15: R | B15: PF21 N°27
A16: S | B16: PF42 N°20 | C16: =IFERROR(VLOOKUP(D16,#REF!,2,0)," ") | K16: =(F16-E16)*J16 -> 0 | L16: =(G16-F16)*J16 -> 0 | M16: =(#REF!-H16)*J16 -> #REF! | N16: =IF(I16=0,0,K16/I16) -> 0 | O16: =IF(I16=0,0,L16/I16) -> 0 | P16: =IF(I16=0,0,M16/I16) -> 0 | Q16: 24 | Z16: =IF(I16=0,0,(#REF!+T16)/I16) -> 0 | AA16: =IF(OR(Q16=0,I16=0),"",Z16/Q16*100) | AE16: =IF(AA16>85," ","WARNING")
A18: A | B18: SST16 | C18: =IFERROR(VLOOKUP(D18,Pieces!A:B,2,0)," ") -> outi-plot | D18: plot nez de marche | E18: 36340 | I18: =IFERROR(VLOOKUP(D18,Pieces!A:C,3,0),"Entrer la cadence") -> 75 | J18: 1 | K18: =(F18-E18)*J18 -> -36340 | L18: =(G18-F18)*J18 -> 0 | M18: =(H18-G18)*J18 -> 0 | N18: =IF(I18=0,0,K18/I18) -> -484.53333 | O18: =IF(I18=0,0,L18/I18) -> 0 | P18: =IF(I18=0,0,M18/I18) -> 0 | Q18: 9 | S18: =U18+T18-K18-L18-M18 -> 36930 | U18: 590 | Z18: =IF(I18=0,0,(U18+T18)/I18) -> 7.8666667 | AA18: =IF(OR(Q18=0,I18=0),"",Z18/Q18*100) -> 87.407407 | AE18: =IF(AA18>85," ","WARNING")
A19: B | B19: SB16 | C19: =IFERROR(VLOOKUP(D19,Pieces!A:B,2,0)," ") -> BROCH L 230 | D19: BROCHE ACIER D13 ZINGUE L230 | E19: 73 | I19: =IFERROR(VLOOKUP(D19,Pieces!A:C,3,0),"Entrer la cadence") -> 90 | J19: 1 | K19: =(F19-E19)*J19 -> -73 | L19: =(G19-F19)*J19 -> 0 | M19: =(H19-G19)*J19 -> 0 | N19: =IF(I19=0,0,K19/I19) -> -0.81111111 | O19: =IF(I19=0,0,L19/I19) -> 0 | P19: =IF(I19=0,0,M19/I19) -> 0 | Q19: 9 | S19: =U19+T19-K19-L19-M19 -> 146 | U19: 73 | Z19: =IF(I19=0,0,(U19+T19)/I19) -> 0.81111111 | AA19: =IF(OR(Q19=0,I19=0),"",Z19/Q19*100) -> 9.0123457 | AE19: =IF(AA19>85," ","WARNING") -> WARNING
A20: C | B20: BIGLIA 301 SM | C20: =IFERROR(VLOOKUP(D20,Pieces!A:B,2,0)," ") -> 512520 | D20: INSERTO MANOPOLA INOX M8 | E20: 3250 | I20: =IFERROR(VLOOKUP(D20,Pieces!A:C,3,0),"Entrer la cadence") -> 50 | J20: 1 | K20: =(F20-E20)*J20 -> -3250 | L20: =(G20-F20)*J20 -> 0 | M20: =(H20-G20)*J20 -> 0 | N20: =IF(I20=0,0,K20/I20) -> -65 | O20: =IF(I20=0,0,L20/I20) -> 0 | P20: =IF(I20=0,0,M20/I20) -> 0 | Q20: 9 | S20: =U20+T20-K20-L20-M20 -> 3600 | U20: 350 | Z20: =IF(I20=0,0,(U20+T20)/I20) -> 7 | AA20: =IF(OR(Q20=0,I20=0),"",Z20/Q20*100) -> 77.777778 | AE20: =IF(AA20>85," ","WARNING") -> WARNING
A21: D | B21: BIGLIA 42 S2M-bitourelle | C21: =IFERROR(VLOOKUP(D21,Pieces!A:B,2,0)," ") -> F045-CP2 | D21: BAGUE DECOLLETEE TUBE D'EAU UNO DISEL -CP2 | E21: 310 | I21: =IFERROR(VLOOKUP(D21,Pieces!A:C,3,0),"Entrer la cadence") -> 30 | J21: 1 | K21: =(F21-E21)*J21 -> -310 | L21: =(G21-F21)*J21 -> 0 | M21: =(H21-G21)*J21 -> 0 | N21: =IF(I21=0,0,K21/I21) -> -10.333333 | O21: =IF(I21=0,0,L21/I21) -> 0 | P21: =IF(I21=0,0,M21/I21) -> 0 | Q21: 9 | S21: =U21+T21-K21-L21-M21 -> 620 | U21: 310 | Z21: =IF(I21=0,0,(U21+T21)/I21) -> 10.333333 | AA21: =IF(OR(Q21=0,I21=0),"",Z21/Q21*100) -> 114.81481 | AE21: =IF(AA21>85," ","WARNING")
A22: E | B22: L32 | C22: =IFERROR(VLOOKUP(D22,Pieces!A:B,2,0)," ") -> 200200 | D22: EMBOUT DE TIGE | E22: 1530 | I22: =IFERROR(VLOOKUP(D22,Pieces!A:C,3,0),"Entrer la cadence") -> 60 | J22: 1 | K22: =(F22-E22)*J22 -> -1530 | L22: =(G22-F22)*J22 -> 0 | M22: =(H22-G22)*J22 -> 0 | N22: =IF(I22=0,0,K22/I22) -> -25.5 | O22: =IF(I22=0,0,L22/I22) -> 0 | P22: =IF(I22=0,0,M22/I22) -> 0 | Q22: 9 | S22: =U22+T22-K22-L22-M22 -> 1908 | U22: 378 | Z22: =IF(I22=0,0,(U22+T22)/I22) -> 6.3 | AA22: =IF(OR(Q22=0,I22=0),"",Z22/Q22*100) -> 70 | AE22: =IF(AA22>85," ","WARNING") -> WARNING
A23: I | B23: TSUGAMI | C23: =IFERROR(VLOOKUP(D23,Pieces!A:B,2,0)," ") -> - | D23: Arrêt | E23: 0 | I23: =IFERROR(VLOOKUP(D23,Pieces!A:C,3,0),"Entrer la cadence") -> 1 | J23: 1 | K23: =(F23-E23)*J23 -> 0 | L23: =(G23-F23)*J23 -> 0 | M23: =(H23-G23)*J23 -> 0 | N23: =IF(I23=0,0,K23/I23) -> 0 | O23: =IF(I23=0,0,L23/I23) -> 0 | P23: =IF(I23=0,0,M23/I23) -> 0 | Q23: 9 | S23: =U23+T23-K23-L23-M23 -> 0 | U23: 0 | Z23: =IF(I23=0,0,(U23+T23)/I23) -> 0 | AA23: =IF(OR(Q23=0,I23=0),"",Z23/Q23*100) -> 0 | AE23: =IF(AA23>85," ","WARNING") -> WARNING
A24: G | B24: MORI SEIKI 3 axes | C24: =IFERROR(VLOOKUP(D24,Pieces!A:B,2,0)," ") -> I110-01-004 | D24: INSERT LEVIER SURMOULEE 345833-01 - fraisage | E24: 126 | I24: =IFERROR(VLOOKUP(D24,Pieces!A:C,3,0),"Entrer la cadence") -> 28 | J24: 7 | K24: =(F24-E24)*J24 -> -882 | L24: =(G24-F24)*J24 -> 0 | M24: =(H24-G24)*J24 -> 0 | N24: =IF(I24=0,0,K24/I24) -> -31.5 | O24: =IF(I24=0,0,L24/I24) -> 0 | P24: =IF(I24=0,0,M24/I24) -> 0 | Q24: 9 | S24: =U24+T24-K24-L24-M24 -> 1092 | U24: 210 | Z24: =IF(I24=0,0,(U24+T24)/I24) -> 7.5 | AA24: =IF(OR(Q24=0,I24=0),"",Z24/Q24*100) -> 83.333333 | AE24: =IF(AA24>85," ","WARNING") -> WARNING
A25: H | B25: MORI SEIKI 5 axes | C25: =IFERROR(VLOOKUP(D25,Pieces!A:B,2,0)," ") -> 480387 | D25: EVACUATION 2/3G X-ONE | E25: 151 | I25: =IFERROR(VLOOKUP(D25,Pieces!A:C,3,0),"Entrer la cadence") -> 60 | J25: 20 | K25: =(F25-E25)*J25 -> -3020 | L25: =(G25-F25)*J25 -> 0 | M25: =(H25-G25)*J25 -> 0 | N25: =IF(I25=0,0,K25/I25) -> -50.333333 | O25: =IF(I25=0,0,L25/I25) -> 0 | P25: =IF(I25=0,0,M25/I25) -> 0 | Q25: 9 | S25: =U25+T25-K25-L25-M25 -> 3320 | U25: 300 | Z25: =IF(I25=0,0,(U25+T25)/I25) -> 5 | AA25: =IF(OR(Q25=0,I25=0),"",Z25/Q25*100) -> 55.555556 | AE25: =IF(AA25>85," ","WARNING") -> WARNING
A26: L | B26: HARDING | C26: =IFERROR(VLOOKUP(D26,Pieces!A:B,2,0)," ") -> PIG 50 SE- harding | D26: PIGNON PLATEAU SIMPLE ETAGE D50 - contournage dents | E26: 194 | I26: =IFERROR(VLOOKUP(D26,Pieces!A:C,3,0),"Entrer la cadence") -> 38 | J26: 51 | K26: =(F26-E26)*J26 -> -9894 | L26: =(G26-F26)*J26 -> 0 | M26: =(H26-G26)*J26 -> 0 | N26: =IF(I26=0,0,K26/I26) -> -260.36842 | O26: =IF(I26=0,0,L26/I26) -> 0 | P26: =IF(I26=0,0,M26/I26) -> 0 | Q26: 9 | S26: =U26+T26-K26-L26-M26 -> 11016 | U26: 1122 | Z26: =IF(I26=0,0,(U26+T26)/I26) -> 29.526316 | AA26: =IF(OR(Q26=0,I26=0),"",Z26/Q26*100) -> 328.07018 | AE26: =IF(AA26>85," ","WARNING")
A27: K | B27: KITAMURA | C27: =IFERROR(VLOOKUP(D27,Pieces!A:B,2,0)," ") -> - | D27: Arrêt | E27: 0 | I27: =IFERROR(VLOOKUP(D27,Pieces!A:C,3,0),"Entrer la cadence") -> 1 | J27: 1 | K27: =(F27-E27)*J27 -> 0 | L27: =(G27-F27)*J27 -> 0 | M27: =(H27-G27)*J27 -> 0 | N27: =IF(I27=0,0,K27/I27) -> 0 | O27: =IF(I27=0,0,L27/I27) -> 0 | P27: =IF(I27=0,0,M27/I27) -> 0 | Q27: 9 | S27: =U27+T27-K27-L27-M27 -> 0 | U27: 0 | Z27: =IF(I27=0,0,(U27+T27)/I27) -> 0 | AA27: =IF(OR(Q27=0,I27=0),"",Z27/Q27*100) -> 0 | AE27: =IF(AA27>85," ","WARNING") -> WARNING
A28: F | B28: MULTI BROCHE | C28: =IFERROR(VLOOKUP(D28,Pieces!A:B,2,0)," ") -> MPS000300 | D28: raccord HEX 17 | E28: 1950 | I28: =IFERROR(VLOOKUP(D28,Pieces!A:C,3,0),"Entrer la cadence") -> 454 | J28: 1 | K28: =(F28-E28)*J28 -> -1950 | L28: =(G28-F28)*J28 -> 0 | M28: =(H28-G28)*J28 -> 0 | N28: =IF(I28=0,0,K28/I28) -> -4.2951542 | O28: =IF(I28=0,0,L28/I28) -> 0 | P28: =IF(I28=0,0,M28/I28) -> 0 | Q28: 9 | S28: =U28+T28-K28-L28-M28 -> 3900 | U28: 1950 | Z28: =IF(I28=0,0,(U28+T28)/I28) -> 4.2951542 | AA28: =IF(OR(Q28=0,I28=0),"",Z28/Q28*100) -> 47.723935 | AE28: =IF(AA28>85," ","WARNING") -> WARNING
A29: J | B29: NAKAMURA | C29: =IFERROR(VLOOKUP(C28,Pieces!A:B,2,C280)," ") | D29: GOUJON DE ROUE MITSIBITCHI GM | E29: 220 | I29: =IFERROR(VLOOKUP(D29,Pieces!A:C,3,0),"Entrer la cadence") -> 30 | J29: 1 | K29: =(F29-E29)*J29 -> -220 | L29: =(G29-F29)*J29 -> 0 | M29: =(H29-G29)*J29 -> 0 | N29: =IF(I29=0,0,K29/I29) -> -7.3333333 | O29: =IF(I29=0,0,L29/I29) -> 0 | P29: =IF(I29=0,0,M29/I29) -> 0 | Q29: 9 | S29: =U29+T29-K29-L29-M29 -> 440 | U29: 220 | Z29: =IF(I29=0,0,(U29+T29)/I29) -> 7.3333333 | AA29: =IF(OR(Q29=0,I29=0),"",Z29/Q29*100) -> 81.481481 | AE29: =IF(AA29>85," ","WARNING") -> WARNING
A30: M | B30: TOUR WEILER | C30: =IFERROR(VLOOKUP(D30,Pieces!A:B,2,0)," ") -> H001-PROD | D30: GOUJON DE ROUE HONDA PROD | E30: 1913 | I30: =IFERROR(VLOOKUP(D30,Pieces!A:C,3,0),"Entrer la cadence") -> 20 | J30: 1 | K30: =(F30-E30)*J30 -> -1913 | L30: =(G30-F30)*J30 -> 0 | M30: =(H30-G30)*J30 -> 0 | N30: =IF(I30=0,0,K30/I30) -> -95.65 | O30: =IF(I30=0,0,L30/I30) -> 0 | P30: =IF(I30=0,0,M30/I30) -> 0 | Q30: 9 | S30: =U30+T30-K30-L30-M30 -> 1913 | U30: 0 | Z30: =IF(I30=0,0,(U30+T30)/I30) -> 0 | AA30: =IF(OR(Q30=0,I30=0),"",Z30/Q30*100) -> 0 | AE30: =IF(AA30>85," ","WARNING") -> WARNING
Q31: temps d'ouverture | R31: 9
C38: Rédacteur | J38: Approbateur:
C39: Date | J39: Date:
C40: Visa | J40: Visa:

Sheet 20-01-2020
C1: Tableau de production journalière | Z1: CODE: DAS-PRO-16
Z2: DATE:30/08/2019
Z3: VERSION:07
Z4: PAGE:1
A8: SYMBOLE | B8: MACHINE | C8: REF ARTICLE | D8: DESIGNATION | E8: COMPTEUR HIER à8H | F8: COMPTEUR HIER à 13H | G8: COMPTEUR HIER à 19H | H8: COMPTEUR AUJOURD’HUI à 8h | I8: CADENCE | J8: NOMBRE DE PIECES FINIS PAR CYCLE | K8: PIECES SUIVANT COMPTEU 8h-->13h | L8: PIECES SUIVANT COMPTEUR 17H-->19H | M8: PIECES SUIVANT COMPTEUR 6h-->8h | N8: NOMBRE D'HEURES DE TRAVAIL 8h-->17h | O8: NOMBRE D'HEURES DE TRAVAIL 17H-->19H | P8: NOMBRE D'HEURES DE TRAVAIL 6h-->8h | Q8: NOMBRE D'HEURES DE TRAVAIL | R8: OBSERVATIONS | S8: Pieces manquantes | T8: PIECES NC | U8: Pieces REELLES | V8: Nombre des pieces à retoucher | W8: Cause de la non-conformité | X8: Effet de la non-conformité | Y8: Valeur de l'effet | Z8: NOMBRES D'HEURES SUIVANT LES PIECES REELLES | AA8: RENDEMENT | AB8: Fiche de contrôle qualité début de serie | AC8: Affutage | AD8: Gamme d'usingae | AE8: ALERTES
A9: A | B9: PF25 N°21 | C9: =IFERROR(VLOOKUP(D9,#REF!,2,0)," ") | K9: =(F9-E9)*J9 -> 0 | L9: =(G9-F9)*J9 -> 0 | M9: =(#REF!-H9)*J9 -> #REF! | N9: =IF(I9=0,0,K9/I9) -> 0 | O9: =IF(I9=0,0,L9/I9) -> 0 | P9: =IF(I9=0,0,M9/I9) -> 0 | Q9: 24 | Z9: =IF(I9=0,0,(#REF!+T9)/I9) -> 0 | AA9: =IF(OR(Q9=0,I9=0),"",Z9/Q9*100) | AE9: =IF(AA9>85," ","WARNING")
A10: B | B10: PF25 N°22 | C10: =IFERROR(VLOOKUP(D10,#REF!,2,0)," ") | K10: =(F10-E10)*J10 -> 0 | L10: =(G10-F10)*J10 -> 0 | M10: =(#REF!-H10)*J10 -> #REF! | N10: =IF(I10=0,0,K10/I10) -> 0 | O10: =IF(I10=0,0,L10/I10) -> 0 | P10: =IF(I10=0,0,M10/I10) -> 0 | Q10: 24 | Z10: =IF(I10=0,0,(#REF!+T10)/I10) -> 0 | AA10: =IF(OR(Q10=0,I10=0),"",Z10/Q10*100) | AE10: =IF(AA10>85," ","WARNING")
A11: C | B11: PF25 N°23 | C11: =IFERROR(VLOOKUP(D11,#REF!,2,0)," ") | K11: =(F11-E11)*J11 -> 0 | L11: =(G11-F11)*J11 -> 0 | M11: =(#REF!-H11)*J11 -> #REF! | N11: =IF(I11=0,0,K11/I11) -> 0 | O11: =IF(I11=0,0,L11/I11) -> 0 | P11: =IF(I11=0,0,M11/I11) -> 0 | Q11: 24 | Z11: =IF(I11=0,0,(#REF!+T11)/I11) -> 0 | AA11: =IF(OR(Q11=0,I11=0),"",Z11/Q11*100) | AE11: =IF(AA11>85," ","WARNING")
A12: D | B12: PF25 N°24 | C12: =IFERROR(VLOOKUP(D12,#REF!,2,0)," ") | K12: =(F12-E12)*J12 -> 0 | L12: =(G12-F12)*J12 -> 0 | M12: =(#REF!-H12)*J12 -> #REF! | N12: =IF(I12=0,0,K12/I12) -> 0 | O12: =IF(I12=0,0,L12/I12) -> 0 | P12: =IF(I12=0,0,M12/I12) -> 0 | Q12: 24 | Z12: =IF(I12=0,0,(#REF!+T12)/I12) -> 0 | AA12: =IF(OR(Q12=0,I12=0),"",Z12/Q12*100) | AE12: =IF(AA12>85," ","WARNING")
A13: E | B13: PF25 N°25 | C13: =IFERROR(VLOOKUP(D13,#REF!,2,0)," ") | K13: =(F13-E13)*J13 -> 0 | L13: =(G13-F13)*J13 -> 0 | M13: =(#REF!-H13)*J13 -> #REF! | N13: =IF(I13=0,0,K13/I13) -> 0 | O13: =IF(I13=0,0,L13/I13) -> 0 | P13: =IF(I13=0,0,M13/I13) -> 0 | Q13: 24 | Z13: =IF(I13=0,0,(#REF!+T13)/I13) -> 0 | AA13: =IF(OR(Q13=0,I13=0),"",Z13/Q13*100) | AE13: =IF(AA13>85," ","WARNING")
A14: F | B14: PF25 N°26
A15: R | B15: PF21 N°27
A16: S | B16: PF42 N°20 | C16: =IFERROR(VLOOKUP(D16,#REF!,2,0)," ") | K16: =(F16-E16)*J16 -> 0 | L16: =(G16-F16)*J16 -> 0 | M16: =(#REF!-H16)*J16 -> #REF! | N16: =IF(I16=0,0,K16/I16) -> 0 | O16: =IF(I16=0,0,L16/I16) -> 0 | P16: =IF(I16=0,0,M16/I16) -> 0 | Q16: 24 | Z16: =IF(I16=0,0,(#REF!+T16)/I16) -> 0 | AA16: =IF(OR(Q16=0,I16=0),"",Z16/Q16*100) | AE16: =IF(AA16>85," ","WARNING")
A18: A | B18: SST16 | C18: =IFERROR(VLOOKUP(D18,Pieces!A:B,2,0)," ") -> outi-plot | D18: plot nez de marche | E18: 35750 | F18: 36340 | G18: 36340 | H18: 36340 | I18: =IFERROR(VLOOKUP(D18,Pieces!A:C,3,0),"Entrer la cadence") -> 75 | J18: 1 | K18: =(F18-E18)*J18 -> 590 | L18: =(G18-F18)*J18 -> 0 | M18: =(H18-G18)*J18 -> 0 | N18: =IF(I18=0,0,K18/I18) -> 7.8666667 | O18: =IF(I18=0,0,L18/I18) -> 0 | P18: =IF(I18=0,0,M18/I18) -> 0 | Q18: 9 | S18: =U18+T18-K18-L18-M18 -> 0 | U18: 590 | Z18: =IF(I18=0,0,(U18+T18)/I18) -> 7.8666667 | AA18: =IF(OR(Q18=0,I18=0),"",Z18/Q18*100) -> 87.407407 | AE18: =IF(AA18>85," ","WARNING")
A19: B | B19: SB16 | C19: =IFERROR(VLOOKUP(D19,Pieces!A:B,2,0)," ") -> BROCH L 230 | D19: BROCHE ACIER D13 ZINGUE L230 | E19: 0 | F19: 73 | G19: 73 | H19: 73 | I19: =IFERROR(VLOOKUP(D19,Pieces!A:C,3,0),"Entrer la cadence") -> 90 | J19: 1 | K19: =(F19-E19)*J19 -> 73 | L19: =(G19-F19)*J19 -> 0 | M19: =(H19-G19)*J19 -> 0 | N19: =IF(I19=0,0,K19/I19) -> 0.81111111 | O19: =IF(I19=0,0,L19/I19) -> 0 | P19: =IF(I19=0,0,M19/I19) -> 0 | Q19: 9 | R19: FS (BROCHE ACIER D13 ZINGUE L180)+ds (BROCHE ACIER D13 ZINGUE L230) 15:30 pm | S19: =U19+T19-K19-L19-M19 -> 0 | U19: 73 | Z19: =IF(I19=0,0,(U19+T19)/I19) -> 0.81111111 | AA19: =IF(OR(Q19=0,I19=0),"",Z19/Q19*100) -> 9.0123457 | AE19: =IF(AA19>85," ","WARNING") -> WARNING
A20: C | B20: BIGLIA 301 SM | C20: =IFERROR(VLOOKUP(D20,Pieces!A:B,2,0)," ") -> 512520 | D20: INSERTO MANOPOLA INOX M8 | E20: 2900 | F20: 3250 | G20: 3250 | H20: 3250 | I20: =IFERROR(VLOOKUP(D20,Pieces!A:C,3,0),"Entrer la cadence") -> 50 | J20: 1 | K20: =(F20-E20)*J20 -> 350 | L20: =(G20-F20)*J20 -> 0 | M20: =(H20-G20)*J20 -> 0 | N20: =IF(I20=0,0,K20/I20) -> 7 | O20: =IF(I20=0,0,L20/I20) -> 0 | P20: =IF(I20=0,0,M20/I20) -> 0 | Q20: 9 | S20: =U20+T20-K20-L20-M20 -> 0 | U20: 350 | Z20: =IF(I20=0,0,(U20+T20)/I20) -> 7 | AA20: =IF(OR(Q20=0,I20=0),"",Z20/Q20*100) -> 77.777778 | AE20: =IF(AA20>85," ","WARNING") -> WARNING
A21: D | B21: BIGLIA 42 S2M-bitourelle | C21: =IFERROR(VLOOKUP(D21,Pieces!A:B,2,0)," ") -> F045-CP2 | D21: BAGUE DECOLLETEE TUBE D'EAU UNO DISEL -CP2 | E21: 0 | F21: 310 | G21: 310 | H21: 310 | I21: =IFERROR(VLOOKUP(D21,Pieces!A:C,3,0),"Entrer la cadence") -> 30 | J21: 1 | K21: =(F21-E21)*J21 -> 310 | L21: =(G21-F21)*J21 -> 0 | M21: =(H21-G21)*J21 -> 0 | N21: =IF(I21=0,0,K21/I21) -> 10.333333 | O21: =IF(I21=0,0,L21/I21) -> 0 | P21: =IF(I21=0,0,M21/I21) -> 0 | Q21: 9 | R21: fs(BAGUE DECOLLETEE TUBE D'EAU UNO DISEL -CP2) + ds (BAGUE DECOLLETEE TUBE D'EAU UNO DISEL -CP2) | S21: =U21+T21-K21-L21-M21 -> 0 | U21: 310 | Z21: =IF(I21=0,0,(U21+T21)/I21) -> 10.333333 | AA21: =IF(OR(Q21=0,I21=0),"",Z21/Q21*100) -> 114.81481 | AE21: =IF(AA21>85," ","WARNING")
A22: E | B22: L32 | C22: =IFERROR(VLOOKUP(D22,Pieces!A:B,2,0)," ") -> 200200 | D22: EMBOUT DE TIGE | E22: 1152 | F22: 1530 | G22: 1530 | H22: 1530 | I22: =IFERROR(VLOOKUP(D22,Pieces!A:C,3,0),"Entrer la cadence") -> 60 | J22: 1 | K22: =(F22-E22)*J22 -> 378 | L22: =(G22-F22)*J22 -> 0 | M22: =(H22-G22)*J22 -> 0 | N22: =IF(I22=0,0,K22/I22) -> 6.3 | O22: =IF(I22=0,0,L22/I22) -> 0 | P22: =IF(I22=0,0,M22/I22) -> 0 | Q22: 9 | S22: =U22+T22-K22-L22-M22 -> 0 | U22: 378 | Z22: =IF(I22=0,0,(U22+T22)/I22) -> 6.3 | AA22: =IF(OR(Q22=0,I22=0),"",Z22/Q22*100) -> 70 | AE22: =IF(AA22>85," ","WARNING") -> WARNING
A23: I | B23: TSUGAMI | C23: =IFERROR(VLOOKUP(D23,Pieces!A:B,2,0)," ") -> - | D23: Arrêt | E23: 0 | F23: 0 | G23: 0 | H23: 0 | I23: =IFERROR(VLOOKUP(D23,Pieces!A:C,3,0),"Entrer la cadence") -> 1 | J23: 1 | K23: =(F23-E23)*J23 -> 0 | L23: =(G23-F23)*J23 -> 0 | M23: =(H23-G23)*J23 -> 0 | N23: =IF(I23=0,0,K23/I23) -> 0 | O23: =IF(I23=0,0,L23/I23) -> 0 | P23: =IF(I23=0,0,M23/I23) -> 0 | Q23: 9 | S23: =U23+T23-K23-L23-M23 -> 0 | U23: 0 | Z23: =IF(I23=0,0,(U23+T23)/I23) -> 0 | AA23: =IF(OR(Q23=0,I23=0),"",Z23/Q23*100) -> 0 | AE23: =IF(AA23>85," ","WARNING") -> WARNING
A24: G | B24: MORI SEIKI 3 axes | C24: =IFERROR(VLOOKUP(D24,Pieces!A:B,2,0)," ") -> I110-01-004 | D24: INSERT LEVIER SURMOULEE 345833-01 - fraisage | E24: 96 | F24: 126 | G24: 126 | H24: 126 | I24: =IFERROR(VLOOKUP(D24,Pieces!A:C,3,0),"Entrer la cadence") -> 28 | J24: 7 | K24: =(F24-E24)*J24 -> 210 | L24: =(G24-F24)*J24 -> 0 | M24: =(H24-G24)*J24 -> 0 | N24: =IF(I24=0,0,K24/I24) -> 7.5 | O24: =IF(I24=0,0,L24/I24) -> 0 | P24: =IF(I24=0,0,M24/I24) -> 0 | Q24: 9 | S24: =U24+T24-K24-L24-M24 -> 0 | U24: 210 | Z24: =IF(I24=0,0,(U24+T24)/I24) -> 7.5 | AA24: =IF(OR(Q24=0,I24=0),"",Z24/Q24*100) -> 83.333333 | AE24: =IF(AA24>85," ","WARNING") -> WARNING
A25: H | B25: MORI SEIKI 5 axes | C25: =IFERROR(VLOOKUP(D25,Pieces!A:B,2,0)," ") -> 480387 | D25: EVACUATION 2/3G X-ONE | E25: 136 | F25: 151 | G25: 151 | H25: 151 | I25: =IFERROR(VLOOKUP(D25,Pieces!A:C,3,0),"Entrer la cadence") -> 60 | J25: 20 | K25: =(F25-E25)*J25 -> 300 | L25: =(G25-F25)*J25 -> 0 | M25: =(H25-G25)*J25 -> 0 | N25: =IF(I25=0,0,K25/I25) -> 5 | O25: =IF(I25=0,0,L25/I25) -> 0 | P25: =IF(I25=0,0,M25/I25) -> 0 | Q25: 9 | S25: =U25+T25-K25-L25-M25 -> 0 | U25: 300 | Z25: =IF(I25=0,0,(U25+T25)/I25) -> 5 | AA25: =IF(OR(Q25=0,I25=0),"",Z25/Q25*100) -> 55.555556 | AE25: =IF(AA25>85," ","WARNING") -> WARNING
A26: L | B26: HARDING | C26: =IFERROR(VLOOKUP(D26,Pieces!A:B,2,0)," ") -> PIG 50 SE- harding | D26: PIGNON PLATEAU SIMPLE ETAGE D50 - contournage dents | E26: 172 | F26: 194 | G26: 194 | H26: 194 | I26: =IFERROR(VLOOKUP(D26,Pieces!A:C,3,0),"Entrer la cadence") -> 38 | J26: 51 | K26: =(F26-E26)*J26 -> 1122 | L26: =(G26-F26)*J26 -> 0 | M26: =(H26-G26)*J26 -> 0 | N26: =IF(I26=0,0,K26/I26) -> 29.526316 | O26: =IF(I26=0,0,L26/I26) -> 0 | P26: =IF(I26=0,0,M26/I26) -> 0 | Q26: 9 | R26: fs( piginon et clamping360) + ds ( piginon et claming 240) | S26: =U26+T26-K26-L26-M26 -> 0 | U26: 1122 | Z26: =IF(I26=0,0,(U26+T26)/I26) -> 29.526316 | AA26: =IF(OR(Q26=0,I26=0),"",Z26/Q26*100) -> 328.07018 | AE26: =IF(AA26>85," ","WARNING")
A27: K | B27: KITAMURA | C27: =IFERROR(VLOOKUP(D27,Pieces!A:B,2,0)," ") -> - | D27: Arrêt | E27: 0 | F27: 0 | G27: 0 | H27: 0 | I27: =IFERROR(VLOOKUP(D27,Pieces!A:C,3,0),"Entrer la cadence") -> 1 | J27: 1 | K27: =(F27-E27)*J27 -> 0 | L27: =(G27-F27)*J27 -> 0 | M27: =(H27-G27)*J27 -> 0 | N27: =IF(I27=0,0,K27/I27) -> 0 | O27: =IF(I27=0,0,L27/I27) -> 0 | P27: =IF(I27=0,0,M27/I27) -> 0 | Q27: 9 | S27: =U27+T27-K27-L27-M27 -> 0 | U27: 0 | Z27: =IF(I27=0,0,(U27+T27)/I27) -> 0 | AA27: =IF(OR(Q27=0,I27=0),"",Z27/Q27*100) -> 0 | AE27: =IF(AA27>85," ","WARNING") -> WARNING
A28: F | B28: MULTI BROCHE | C28: =IFERROR(VLOOKUP(D28,Pieces!A:B,2,0)," ") -> MPS000300 | D28: raccord HEX 17 | E28: 0 | F28: 1950 | G28: 1950 | H28: 1950 | I28: =IFERROR(VLOOKUP(D28,Pieces!A:C,3,0),"Entrer la cadence") -> 454 | J28: 1 | K28: =(F28-E28)*J28 -> 1950 | L28: =(G28-F28)*J28 -> 0 | M28: =(H28-G28)*J28 -> 0 | N28: =IF(I28=0,0,K28/I28) -> 4.2951542 | O28: =IF(I28=0,0,L28/I28) -> 0 | P28: =IF(I28=0,0,M28/I28) -> 0 | Q28: 9 | S28: =U28+T28-K28-L28-M28 -> 0 | U28: 1950 | Z28: =IF(I28=0,0,(U28+T28)/I28) -> 4.2951542 | AA28: =IF(OR(Q28=0,I28=0),"",Z28/Q28*100) -> 47.723935 | AE28: =IF(AA28>85," ","WARNING") -> WARNING
A29: J | B29: NAKAMURA | C29: =IFERROR(VLOOKUP(C28,Pieces!A:B,2,C280)," ") | D29: GOUJON DE ROUE MITSIBITCHI GM | E29: 0 | F29: 220 | G29: 220 | H29: 220 | I29: =IFERROR(VLOOKUP(D29,Pieces!A:C,3,0),"Entrer la cadence") -> 30 | J29: 1 | K29: =(F29-E29)*J29 -> 220 | L29: =(G29-F29)*J29 -> 0 | M29: =(H29-G29)*J29 -> 0 | N29: =IF(I29=0,0,K29/I29) -> 7.3333333 | O29: =IF(I29=0,0,L29/I29) -> 0 | P29: =IF(I29=0,0,M29/I29) -> 0 | Q29: 9 | S29: =U29+T29-K29-L29-M29 -> 0 | U29: 220 | Z29: =IF(I29=0,0,(U29+T29)/I29) -> 7.3333333 | AA29: =IF(OR(Q29=0,I29=0),"",Z29/Q29*100) -> 81.481481 | AE29: =IF(AA29>85," ","WARNING") -> WARNING
A30: M | B30: TOUR WEILER | C30: =IFERROR(VLOOKUP(D30,Pieces!A:B,2,0)," ") -> H001-PROD | D30: GOUJON DE ROUE HONDA PROD | E30: 1913 | F30: 1913 | G30: 1913 | H30: 1913 | I30: =IFERROR(VLOOKUP(D30,Pieces!A:C,3,0),"Entrer la cadence") -> 20 | J30: 1 | K30: =(F30-E30)*J30 -> 0 | L30: =(G30-F30)*J30 -> 0 | M30: =(H30-G30)*J30 -> 0 | N30: =IF(I30=0,0,K30/I30) -> 0 | O30: =IF(I30=0,0,L30/I30) -> 0 | P30: =IF(I30=0,0,M30/I30) -> 0 | Q30: 9 | S30: =U30+T30-K30-L30-M30 -> 0 | U30: 0 | Z30: =IF(I30=0,0,(U30+T30)/I30) -> 0 | AA30: =IF(OR(Q30=0,I30=0),"",Z30/Q30*100) -> 0 | AE30: =IF(AA30>85," ","WARNING") -> WARNING
Q31: temps d'ouverture | R31: 9
C38: Rédacteur | J38: Approbateur:
C39: Date | J39: Date:
C40: Visa | J40: Visa:

Sheet 18-01-2020
C1: Tableau de production journalière | Z1: CODE: DAS-PRO-16
Z2: DATE:30/08/2019
Z3: VERSION:07
Z4: PAGE:1
A8: SYMBOLE | B8: MACHINE | C8: REF ARTICLE | D8: DESIGNATION | E8: COMPTEUR HIER à8H | F8: COMPTEUR HIER à 13H | G8: COMPTEUR HIER à 19H | H8: COMPTEUR AUJOURD’HUI à 8h | I8: CADENCE | J8: NOMBRE DE PIECES FINIS PAR CYCLE | K8: PIECES SUIVANT COMPTEU 8h-->13h | L8: PIECES SUIVANT COMPTEUR 17H-->19H | M8: PIECES SUIVANT COMPTEUR 6h-->8h | N8: NOMBRE D'HEURES DE TRAVAIL 8h-->17h | O8: NOMBRE D'HEURES DE TRAVAIL 17H-->19H | P8: NOMBRE D'HEURES DE TRAVAIL 6h-->8h | Q8: NOMBRE D'HEURES DE TRAVAIL | R8: OBSERVATIONS | S8: Pieces manquantes | T8: PIECES NC | U8: Pieces REELLES | V8: Nombre des pieces à retoucher | W8: Cause de la non-conformité | X8: Effet de la non-conformité | Y8: Valeur de l'effet | Z8: NOMBRES D'HEURES SUIVANT LES PIECES REELLES | AA8: RENDEMENT | AB8: Fiche de contrôle qualité début de serie | AC8: Affutage | AD8: Gamme d'usingae | AE8: ALERTES
A9: A | B9: PF25 N°21 | C9: =IFERROR(VLOOKUP(D9,#REF!,2,0)," ") | K9: =(F9-E9)*J9 -> 0 | L9: =(G9-F9)*J9 -> 0 | M9: =(#REF!-H9)*J9 -> #REF! | N9: =IF(I9=0,0,K9/I9) -> 0 | O9: =IF(I9=0,0,L9/I9) -> 0 | P9: =IF(I9=0,0,M9/I9) -> 0 | Q9: 24 | Z9: =IF(I9=0,0,(#REF!+T9)/I9) -> 0 | AA9: =IF(OR(Q9=0,I9=0),"",Z9/Q9*100) | AE9: =IF(AA9>85," ","WARNING")
A10: B | B10: PF25 N°22 | C10: =IFERROR(VLOOKUP(D10,#REF!,2,0)," ") | K10: =(F10-E10)*J10 -> 0 | L10: =(G10-F10)*J10 -> 0 | M10: =(#REF!-H10)*J10 -> #REF! | N10: =IF(I10=0,0,K10/I10) -> 0 | O10: =IF(I10=0,0,L10/I10) -> 0 | P10: =IF(I10=0,0,M10/I10) -> 0 | Q10: 24 | Z10: =IF(I10=0,0,(#REF!+T10)/I10) -> 0 | AA10: =IF(OR(Q10=0,I10=0),"",Z10/Q10*100) | AE10: =IF(AA10>85," ","WARNING")
A11: C | B11: PF25 N°23 | C11: =IFERROR(VLOOKUP(D11,#REF!,2,0)," ") | K11: =(F11-E11)*J11 -> 0 | L11: =(G11-F11)*J11 -> 0 | M11: =(#REF!-H11)*J11 -> #REF! | N11: =IF(I11=0,0,K11/I11) -> 0 | O11: =IF(I11=0,0,L11/I11) -> 0 | P11: =IF(I11=0,0,M11/I11) -> 0 | Q11: 24 | Z11: =IF(I11=0,0,(#REF!+T11)/I11) -> 0 | AA11: =IF(OR(Q11=0,I11=0),"",Z11/Q11*100) | AE11: =IF(AA11>85," ","WARNING")
A12: D | B12: PF25 N°24 | C12: =IFERROR(VLOOKUP(D12,#REF!,2,0)," ") | K12: =(F12-E12)*J12 -> 0 | L12: =(G12-F12)*J12 -> 0 | M12: =(#REF!-H12)*J12 -> #REF! | N12: =IF(I12=0,0,K12/I12) -> 0 | O12: =IF(I12=0,0,L12/I12) -> 0 | P12: =IF(I12=0,0,M12/I12) -> 0 | Q12: 24 | Z12: =IF(I12=0,0,(#REF!+T12)/I12) -> 0 | AA12: =IF(OR(Q12=0,I12=0),"",Z12/Q12*100) | AE12: =IF(AA12>85," ","WARNING")
A13: E | B13: PF25 N°25 | C13: =IFERROR(VLOOKUP(D13,#REF!,2,0)," ") | K13: =(F13-E13)*J13 -> 0 | L13: =(G13-F13)*J13 -> 0 | M13: =(#REF!-H13)*J13 -> #REF! | N13: =IF(I13=0,0,K13/I13) -> 0 | O13: =IF(I13=0,0,L13/I13) -> 0 | P13: =IF(I13=0,0,M13/I13) -> 0 | Q13: 24 | Z13: =IF(I13=0,0,(#REF!+T13)/I13) -> 0 | AA13: =IF(OR(Q13=0,I13=0),"",Z13/Q13*100) | AE13: =IF(AA13>85," ","WARNING")
A14: F | B14: PF25 N°26
A15: R | B15: PF21 N°27
A16: S | B16: PF42 N°20 | C16: =IFERROR(VLOOKUP(D16,#REF!,2,0)," ") | K16: =(F16-E16)*J16 -> 0 | L16: =(G16-F16)*J16 -> 0 | M16: =(#REF!-H16)*J16 -> #REF! | N16: =IF(I16=0,0,K16/I16) -> 0 | O16: =IF(I16=0,0,L16/I16) -> 0 | P16: =IF(I16=0,0,M16/I16) -> 0 | Q16: 24 | Z16: =IF(I16=0,0,(#REF!+T16)/I16) -> 0 | AA16: =IF(OR(Q16=0,I16=0),"",Z16/Q16*100) | AE16: =IF(AA16>85," ","WARNING")
A18: A | B18: SST16 | C18: =IFERROR(VLOOKUP(D18,Pieces!A:B,2,0)," ") -> outi-plot | D18: plot nez de marche | E18: 35390 | F18: 35750 | G18: 35750 | H18: 35750 | I18: =IFERROR(VLOOKUP(D18,Pieces!A:C,3,0),"Entrer la cadence") -> 75 | J18: 1 | K18: =(F18-E18)*J18 -> 360 | L18: =(G18-F18)*J18 -> 0 | M18: =(H18-G18)*J18 -> 0 | N18: =IF(I18=0,0,K18/I18) -> 4.8 | O18: =IF(I18=0,0,L18/I18) -> 0 | P18: =IF(I18=0,0,M18/I18) -> 0 | Q18: 5 | S18: =U18+T18-K18-L18-M18 -> 0 | U18: 360 | Z18: =IF(I18=0,0,(U18+T18)/I18) -> 4.8 | AA18: =IF(OR(Q18=0,I18=0),"",Z18/Q18*100) -> 96 | AE18: =IF(AA18>85," ","WARNING")
A19: B | B19: SB16 | C19: =IFERROR(VLOOKUP(D19,Pieces!A:B,2,0)," ") -> BROCH L 180 | D19: BROCHE ACIER D13 ZINGUE L180 | E19: 443 | F19: 900 | G19: 880 | H19: 880 | I19: =IFERROR(VLOOKUP(D19,Pieces!A:C,3,0),"Entrer la cadence") -> 90 | J19: 1 | K19: =(F19-E19)*J19 -> 457 | L19: =(G19-F19)*J19 -> -20 | M19: =(H19-G19)*J19 -> 0 | N19: =IF(I19=0,0,K19/I19) -> 5.0777778 | O19: =IF(I19=0,0,L19/I19) -> -0.22222222 | P19: =IF(I19=0,0,M19/I19) -> 0 | Q19: 5 | S19: =U19+T19-K19-L19-M19 -> 0 | U19: 437 | Z19: =IF(I19=0,0,(U19+T19)/I19) -> 4.8555556 | AA19: =IF(OR(Q19=0,I19=0),"",Z19/Q19*100) -> 97.111111 | AE19: =IF(AA19>85," ","WARNING")
A20: C | B20: BIGLIA 301 SM | C20: =IFERROR(VLOOKUP(D20,Pieces!A:B,2,0)," ") -> 512520 | D20: INSERTO MANOPOLA INOX M8 | E20: 2725 | F20: 2900 | G20: 2900 | H20: 2900 | I20: =IFERROR(VLOOKUP(D20,Pieces!A:C,3,0),"Entrer la cadence") -> 50 | J20: 1 | K20: =(F20-E20)*J20 -> 175 | L20: =(G20-F20)*J20 -> 0 | M20: =(H20-G20)*J20 -> 0 | N20: =IF(I20=0,0,K20/I20) -> 3.5 | O20: =IF(I20=0,0,L20/I20) -> 0 | P20: =IF(I20=0,0,M20/I20) -> 0 | Q20: 5 | S20: =U20+T20-K20-L20-M20 -> 0 | U20: 175 | Z20: =IF(I20=0,0,(U20+T20)/I20) -> 3.5 | AA20: =IF(OR(Q20=0,I20=0),"",Z20/Q20*100) -> 70 | AE20: =IF(AA20>85," ","WARNING") -> WARNING
A21: D | B21: BIGLIA 42 S2M-bitourelle | C21: =IFERROR(VLOOKUP(D21,Pieces!A:B,2,0)," ") -> F045-CP2 | D21: BAGUE DECOLLETEE TUBE D'EAU UNO DISEL -CP2 | E21: 396 | F21: 479 | G21: 479 | H21: 479 | I21: =IFERROR(VLOOKUP(D21,Pieces!A:C,3,0),"Entrer la cadence") -> 30 | J21: 1 | K21: =(F21-E21)*J21 -> 83 | L21: =(G21-F21)*J21 -> 0 | M21: =(H21-G21)*J21 -> 0 | N21: =IF(I21=0,0,K21/I21) -> 2.7666667 | O21: =IF(I21=0,0,L21/I21) -> 0 | P21: =IF(I21=0,0,M21/I21) -> 0 | Q21: 5 | S21: =U21+T21-K21-L21-M21 -> 0 | U21: 83 | Z21: =IF(I21=0,0,(U21+T21)/I21) -> 2.7666667 | AA21: =IF(OR(Q21=0,I21=0),"",Z21/Q21*100) -> 55.333333 | AE21: =IF(AA21>85," ","WARNING") -> WARNING
A22: E | B22: L32 | C22: =IFERROR(VLOOKUP(D22,Pieces!A:B,2,0)," ") -> 200200 | D22: EMBOUT DE TIGE | E22: 942 | F22: 1152 | G22: 1152 | H22: 1152 | I22: =IFERROR(VLOOKUP(D22,Pieces!A:C,3,0),"Entrer la cadence") -> 60 | J22: 1 | K22: =(F22-E22)*J22 -> 210 | L22: =(G22-F22)*J22 -> 0 | M22: =(H22-G22)*J22 -> 0 | N22: =IF(I22=0,0,K22/I22) -> 3.5 | O22: =IF(I22=0,0,L22/I22) -> 0 | P22: =IF(I22=0,0,M22/I22) -> 0 | Q22: 5 | S22: =U22+T22-K22-L22-M22 -> 0 | U22: 210 | Z22: =IF(I22=0,0,(U22+T22)/I22) -> 3.5 | AA22: =IF(OR(Q22=0,I22=0),"",Z22/Q22*100) -> 70 | AE22: =IF(AA22>85," ","WARNING") -> WARNING
A23: I | B23: TSUGAMI | C23: =IFERROR(VLOOKUP(D23,Pieces!A:B,2,0)," ") -> - | D23: Arrêt | E23: 0 | F23: 0 | G23: 0 | H23: 0 | I23: =IFERROR(VLOOKUP(D23,Pieces!A:C,3,0),"Entrer la cadence") -> 1 | J23: 1 | K23: =(F23-E23)*J23 -> 0 | L23: =(G23-F23)*J23 -> 0 | M23: =(H23-G23)*J23 -> 0 | N23: =IF(I23=0,0,K23/I23) -> 0 | O23: =IF(I23=0,0,L23/I23) -> 0 | P23: =IF(I23=0,0,M23/I23) -> 0 | Q23: 5 | S23: =U23+T23-K23-L23-M23 -> 0 | U23: 0 | Z23: =IF(I23=0,0,(U23+T23)/I23) -> 0 | AA23: =IF(OR(Q23=0,I23=0),"",Z23/Q23*100) -> 0 | AE23: =IF(AA23>85," ","WARNING") -> WARNING
A24: G | B24: MORI SEIKI 3 axes | C24: =IFERROR(VLOOKUP(D24,Pieces!A:B,2,0)," ") -> I110-01-004 | D24: INSERT LEVIER SURMOULEE 345833-01 - fraisage | E24: 76 | F24: 96 | G24: 96 | H24: 96 | I24: =IFERROR(VLOOKUP(D24,Pieces!A:C,3,0),"Entrer la cadence") -> 28 | J24: 7 | K24: =(F24-E24)*J24 -> 140 | L24: =(G24-F24)*J24 -> 0 | M24: =(H24-G24)*J24 -> 0 | N24: =IF(I24=0,0,K24/I24) -> 5 | O24: =IF(I24=0,0,L24/I24) -> 0 | P24: =IF(I24=0,0,M24/I24) -> 0 | Q24: 5 | S24: =U24+T24-K24-L24-M24 -> 0 | U24: 140 | Z24: =IF(I24=0,0,(U24+T24)/I24) -> 5 | AA24: =IF(OR(Q24=0,I24=0),"",Z24/Q24*100) -> 100 | AE24: =IF(AA24>85," ","WARNING")
A25: H | B25: MORI SEIKI 5 axes | C25: =IFERROR(VLOOKUP(D25,Pieces!A:B,2,0)," ") -> 480387 | D25: EVACUATION 2/3G X-ONE | E25: 128 | F25: 136 | G25: 136 | H25: 136 | I25: =IFERROR(VLOOKUP(D25,Pieces!A:C,3,0),"Entrer la cadence") -> 60 | J25: 20 | K25: =(F25-E25)*J25 -> 160 | L25: =(G25-F25)*J25 -> 0 | M25: =(H25-G25)*J25 -> 0 | N25: =IF(I25=0,0,K25/I25) -> 2.6666667 | O25: =IF(I25=0,0,L25/I25) -> 0 | P25: =IF(I25=0,0,M25/I25) -> 0 | Q25: 5 | S25: =U25+T25-K25-L25-M25 -> 0 | U25: 160 | Z25: =IF(I25=0,0,(U25+T25)/I25) -> 2.6666667 | AA25: =IF(OR(Q25=0,I25=0),"",Z25/Q25*100) -> 53.333333 | AE25: =IF(AA25>85," ","WARNING") -> WARNING
A26: L | B26: HARDING | C26: =IFERROR(VLOOKUP(D26,Pieces!A:B,2,0)," ") -> PIG 50 SE- harding | D26: PIGNON PLATEAU SIMPLE ETAGE D50 - contournage dents | E26: 155 | F26: 172 | G26: 172 | H26: 172 | I26: =IFERROR(VLOOKUP(D26,Pieces!A:C,3,0),"Entrer la cadence") -> 38 | J26: 51 | K26: =(F26-E26)*J26 -> 867 | L26: =(G26-F26)*J26 -> 0 | M26: =(H26-G26)*J26 -> 0 | N26: =IF(I26=0,0,K26/I26) -> 22.815789 | O26: =IF(I26=0,0,L26/I26) -> 0 | P26: =IF(I26=0,0,M26/I26) -> 0 | Q26: 5 | S26: =U26+T26-K26-L26-M26 -> 0 | U26: 867 | Z26: =IF(I26=0,0,(U26+T26)/I26) -> 22.815789 | AA26: =IF(OR(Q26=0,I26=0),"",Z26/Q26*100) -> 456.31579 | AE26: =IF(AA26>85," ","WARNING")
A27: K | B27: KITAMURA | C27: =IFERROR(VLOOKUP(D27,Pieces!A:B,2,0)," ") -> - | D27: Arrêt | E27: 0 | F27: 0 | G27: 0 | H27: 0 | I27: =IFERROR(VLOOKUP(D27,Pieces!A:C,3,0),"Entrer la cadence") -> 1 | J27: 1 | K27: =(F27-E27)*J27 -> 0 | L27: =(G27-F27)*J27 -> 0 | M27: =(H27-G27)*J27 -> 0 | N27: =IF(I27=0,0,K27/I27) -> 0 | O27: =IF(I27=0,0,L27/I27) -> 0 | P27: =IF(I27=0,0,M27/I27) -> 0 | Q27: 5 | S27: =U27+T27-K27-L27-M27 -> 0 | U27: 0 | Z27: =IF(I27=0,0,(U27+T27)/I27) -> 0 | AA27: =IF(OR(Q27=0,I27=0),"",Z27/Q27*100) -> 0 | AE27: =IF(AA27>85," ","WARNING") -> WARNING
A28: F | B28: MULTI BROCHE | C28: =IFERROR(VLOOKUP(D28,Pieces!A:B,2,0)," ") -> MPS000300 | D28: raccord HEX 17 | E28: 180840 | F28: 180840 | G28: 180840 | H28: 180840 | I28: =IFERROR(VLOOKUP(D28,Pieces!A:C,3,0),"Entrer la cadence") -> 454 | J28: 1 | K28: =(F28-E28)*J28 -> 0 | L28: =(G28-F28)*J28 -> 0 | M28: =(H28-G28)*J28 -> 0 | N28: =IF(I28=0,0,K28/I28) -> 0 | O28: =IF(I28=0,0,L28/I28) -> 0 | P28: =IF(I28=0,0,M28/I28) -> 0 | Q28: 5 | S28: =U28+T28-K28-L28-M28 -> 0 | U28: 0 | Z28: =IF(I28=0,0,(U28+T28)/I28) -> 0 | AA28: =IF(OR(Q28=0,I28=0),"",Z28/Q28*100) -> 0 | AE28: =IF(AA28>85," ","WARNING") -> WARNING
A29: J | B29: NAKAMURA | C29: =IFERROR(VLOOKUP(C28,Pieces!A:B,2,C280)," ") | D29: GOUJON DE ROUE MITSIBITCHI GM | E29: 0 | G29: 0 | H29: 0 | I29: =IFERROR(VLOOKUP(D29,Pieces!A:C,3,0),"Entrer la cadence") -> 30 | J29: 1 | K29: =(F29-E29)*J29 -> 0 | L29: =(G29-F29)*J29 -> 0 | M29: =(H29-G29)*J29 -> 0 | N29: =IF(I29=0,0,K29/I29) -> 0 | O29: =IF(I29=0,0,L29/I29) -> 0 | P29: =IF(I29=0,0,M29/I29) -> 0 | Q29: 5 | S29: =U29+T29-K29-L29-M29 -> 0 | U29: 0 | Z29: =IF(I29=0,0,(U29+T29)/I29) -> 0 | AA29: =IF(OR(Q29=0,I29=0),"",Z29/Q29*100) -> 0 | AE29: =IF(AA29>85," ","WARNING") -> WARNING
A30: M | B30: TOUR WEILER | C30: =IFERROR(VLOOKUP(D30,Pieces!A:B,2,0)," ") -> H001-PROD | D30: GOUJON DE ROUE HONDA PROD | E30: 1913 | F30: 1913 | G30: 1913 | H30: 1913 | I30: =IFERROR(VLOOKUP(D30,Pieces!A:C,3,0),"Entrer la cadence") -> 20 | J30: 1 | K30: =(F30-E30)*J30 -> 0 | L30: =(G30-F30)*J30 -> 0 | M30: =(H30-G30)*J30 -> 0 | N30: =IF(I30=0,0,K30/I30) -> 0 | O30: =IF(I30=0,0,L30/I30) -> 0 | P30: =IF(I30=0,0,M30/I30) -> 0 | Q30: 5 | S30: =U30+T30-K30-L30-M30 -> 0 | U30: 0 | Z30: =IF(I30=0,0,(U30+T30)/I30) -> 0 | AA30: =IF(OR(Q30=0,I30=0),"",Z30/Q30*100) -> 0 | AE30: =IF(AA30>85," ","WARNING") -> WARNING
Q31: temps d'ouverture | R31: 5
C38: Rédacteur | J38: Approbateur:
C39: Date | J39: Date:
C40: Visa | J40: Visa:

Sheet 17-01-2020
C1: Tableau de production journalière | Z1: CODE: DAS-PRO-16
Z2: DATE:30/08/2019
Z3: VERSION:07
Z4: PAGE:1
A8: SYMBOLE | B8: MACHINE | C8: REF ARTICLE | D8: DESIGNATION | E8: COMPTEUR HIER à8H | F8: COMPTEUR HIER à 17H | G8: COMPTEUR HIER à 19H | H8: COMPTEUR AUJOURD’HUI à 8h | I8: CADENCE | J8: NOMBRE DE PIECES FINIS PAR CYCLE | K8: PIECES SUIVANT COMPTEU 8h-->17h | L8: PIECES SUIVANT COMPTEUR 17H-->19H | M8: PIECES SUIVANT COMPTEUR 6h-->8h | N8: NOMBRE D'HEURES DE TRAVAIL 8h-->17h | O8: NOMBRE D'HEURES DE TRAVAIL 17H-->19H | P8: NOMBRE D'HEURES DE TRAVAIL 6h-->8h | Q8: NOMBRE D'HEURES DE TRAVAIL | R8: OBSERVATIONS | S8: Pieces manquantes | T8: PIECES NC | U8: Pieces REELLES | V8: Nombre des pieces à retoucher | W8: Cause de la non-conformité | X8: Effet de la non-conformité | Y8: Valeur de l'effet | Z8: NOMBRES D'HEURES SUIVANT LES PIECES REELLES | AA8: RENDEMENT | AB8: Fiche de contrôle qualité début de serie | AC8: Affutage | AD8: Gamme d'usingae | AE8: ALERTES
A9: A | B9: PF25 N°21 | C9: =IFERROR(VLOOKUP(D9,#REF!,2,0)," ") | K9: =(F9-E9)*J9 -> 0 | L9: =(G9-F9)*J9 -> 0 | M9: =(#REF!-H9)*J9 -> #REF! | N9: =IF(I9=0,0,K9/I9) -> 0 | O9: =IF(I9=0,0,L9/I9) -> 0 | P9: =IF(I9=0,0,M9/I9) -> 0 | Q9: 24 | Z9: =IF(I9=0,0,(#REF!+T9)/I9) -> 0 | AA9: =IF(OR(Q9=0,I9=0),"",Z9/Q9*100) | AE9: =IF(AA9>85," ","WARNING")
A10: B | B10: PF25 N°22 | C10: =IFERROR(VLOOKUP(D10,#REF!,2,0)," ") | K10: =(F10-E10)*J10 -> 0 | L10: =(G10-F10)*J10 -> 0 | M10: =(#REF!-H10)*J10 -> #REF! | N10: =IF(I10=0,0,K10/I10) -> 0 | O10: =IF(I10=0,0,L10/I10) -> 0 | P10: =IF(I10=0,0,M10/I10) -> 0 | Q10: 24 | Z10: =IF(I10=0,0,(#REF!+T10)/I10) -> 0 | AA10: =IF(OR(Q10=0,I10=0),"",Z10/Q10*100) | AE10: =IF(AA10>85," ","WARNING")
A11: C | B11: PF25 N°23 | C11: =IFERROR(VLOOKUP(D11,#REF!,2,0)," ") | K11: =(F11-E11)*J11 -> 0 | L11: =(G11-F11)*J11 -> 0 | M11: =(#REF!-H11)*J11 -> #REF! | N11: =IF(I11=0,0,K11/I11) -> 0 | O11: =IF(I11=0,0,L11/I11) -> 0 | P11: =IF(I11=0,0,M11/I11) -> 0 | Q11: 24 | Z11: =IF(I11=0,0,(#REF!+T11)/I11) -> 0 | AA11: =IF(OR(Q11=0,I11=0),"",Z11/Q11*100) | AE11: =IF(AA11>85," ","WARNING")
A12: D | B12: PF25 N°24 | C12: =IFERROR(VLOOKUP(D12,#REF!,2,0)," ") | K12: =(F12-E12)*J12 -> 0 | L12: =(G12-F12)*J12 -> 0 | M12: =(#REF!-H12)*J12 -> #REF! | N12: =IF(I12=0,0,K12/I12) -> 0 | O12: =IF(I12=0,0,L12/I12) -> 0 | P12: =IF(I12=0,0,M12/I12) -> 0 | Q12: 24 | Z12: =IF(I12=0,0,(#REF!+T12)/I12) -> 0 | AA12: =IF(OR(Q12=0,I12=0),"",Z12/Q12*100) | AE12: =IF(AA12>85," ","WARNING")
A13: E | B13: PF25 N°25 | C13: =IFERROR(VLOOKUP(D13,#REF!,2,0)," ") | K13: =(F13-E13)*J13 -> 0 | L13: =(G13-F13)*J13 -> 0 | M13: =(#REF!-H13)*J13 -> #REF! | N13: =IF(I13=0,0,K13/I13) -> 0 | O13: =IF(I13=0,0,L13/I13) -> 0 | P13: =IF(I13=0,0,M13/I13) -> 0 | Q13: 24 | Z13: =IF(I13=0,0,(#REF!+T13)/I13) -> 0 | AA13: =IF(OR(Q13=0,I13=0),"",Z13/Q13*100) | AE13: =IF(AA13>85," ","WARNING")
A14: F | B14: PF25 N°26
A15: R | B15: PF21 N°27
A16: S | B16: PF42 N°20 | C16: =IFERROR(VLOOKUP(D16,#REF!,2,0)," ") | K16: =(F16-E16)*J16 -> 0 | L16: =(G16-F16)*J16 -> 0 | M16: =(#REF!-H16)*J16 -> #REF! | N16: =IF(I16=0,0,K16/I16) -> 0 | O16: =IF(I16=0,0,L16/I16) -> 0 | P16: =IF(I16=0,0,M16/I16) -> 0 | Q16: 24 | Z16: =IF(I16=0,0,(#REF!+T16)/I16) -> 0 | AA16: =IF(OR(Q16=0,I16=0),"",Z16/Q16*100) | AE16: =IF(AA16>85," ","WARNING")
A18: A | B18: SST16 | C18: =IFERROR(VLOOKUP(D18,Pieces!A:B,2,0)," ") -> outi-plot | D18: plot nez de marche | E18: 34740 | F18: 35390 | G18: 35390 | H18: 35390 | I18: =IFERROR(VLOOKUP(D18,Pieces!A:C,3,0),"Entrer la cadence") -> 75 | J18: 1 | K18: =(F18-E18)*J18 -> 650 | L18: =(G18-F18)*J18 -> 0 | M18: =(H18-G18)*J18 -> 0 | N18: =IF(I18=0,0,K18/I18) -> 8.6666667 | O18: =IF(I18=0,0,L18/I18) -> 0 | P18: =IF(I18=0,0,M18/I18) -> 0 | Q18: 9 | S18: =U18+T18-K18-L18-M18 -> 0 | U18: 650 | Z18: =IF(I18=0,0,(U18+T18)/I18) -> 8.6666667 | AA18: =IF(OR(Q18=0,I18=0),"",Z18/Q18*100) -> 96.296296 | AE18: =IF(AA18>85," ","WARNING")
A19: B | B19: SB16 | C19: =IFERROR(VLOOKUP(D19,Pieces!A:B,2,0)," ") -> BROCH L 180 | D19: BROCHE ACIER D13 ZINGUE L180 | E19: 0 | F19: 443 | G19: 443 | H19: 443 | I19: =IFERROR(VLOOKUP(D19,Pieces!A:C,3,0),"Entrer la cadence") -> 90 | J19: 1 | K19: =(F19-E19)*J19 -> 443 | L19: =(G19-F19)*J19 -> 0 | M19: =(H19-G19)*J19 -> 0 | N19: =IF(I19=0,0,K19/I19) -> 4.9222222 | O19: =IF(I19=0,0,L19/I19) -> 0 | P19: =IF(I19=0,0,M19/I19) -> 0 | Q19: 9 | R19: R+ DS | S19: =U19+T19-K19-L19-M19 -> 0 | U19: 443 | Z19: =IF(I19=0,0,(U19+T19)/I19) -> 4.9222222 | AA19: =IF(OR(Q19=0,I19=0),"",Z19/Q19*100) -> 54.691358 | AE19: =IF(AA19>85," ","WARNING") -> WARNING
A20: C | B20: BIGLIA 301 SM | C20: =IFERROR(VLOOKUP(D20,Pieces!A:B,2,0)," ") -> 512520 | D20: INSERTO MANOPOLA INOX M8 | E20: 2416 | F20: 2725 | G20: 2725 | H20: 2725 | I20: =IFERROR(VLOOKUP(D20,Pieces!A:C,3,0),"Entrer la cadence") -> 50 | J20: 1 | K20: =(F20-E20)*J20 -> 309 | L20: =(G20-F20)*J20 -> 0 | M20: =(H20-G20)*J20 -> 0 | N20: =IF(I20=0,0,K20/I20) -> 6.18 | O20: =IF(I20=0,0,L20/I20) -> 0 | P20: =IF(I20=0,0,M20/I20) -> 0 | Q20: 9 | S20: =U20+T20-K20-L20-M20 -> 0 | U20: 309 | Z20: =IF(I20=0,0,(U20+T20)/I20) -> 6.18 | AA20: =IF(OR(Q20=0,I20=0),"",Z20/Q20*100) -> 68.666667 | AE20: =IF(AA20>85," ","WARNING") -> WARNING
A21: D | B21: BIGLIA 42 S2M-bitourelle | C21: =IFERROR(VLOOKUP(D21,Pieces!A:B,2,0)," ") -> F045-CP2 | D21: BAGUE DECOLLETEE TUBE D'EAU UNO DISEL -CP2 | E21: 176 | F21: 396 | G21: 396 | H21: 396 | I21: =IFERROR(VLOOKUP(D21,Pieces!A:C,3,0),"Entrer la cadence") -> 30 | J21: 1 | K21: =(F21-E21)*J21 -> 220 | L21: =(G21-F21)*J21 -> 0 | M21: =(H21-G21)*J21 -> 0 | N21: =IF(I21=0,0,K21/I21) -> 7.3333333 | O21: =IF(I21=0,0,L21/I21) -> 0 | P21: =IF(I21=0,0,M21/I21) -> 0 | Q21: 9 | S21: =U21+T21-K21-L21-M21 -> 0 | U21: 220 | Z21: =IF(I21=0,0,(U21+T21)/I21) -> 7.3333333 | AA21: =IF(OR(Q21=0,I21=0),"",Z21/Q21*100) -> 81.481481 | AE21: =IF(AA21>85," ","WARNING") -> WARNING
A22: E | B22: L32 | C22: =IFERROR(VLOOKUP(D22,Pieces!A:B,2,0)," ") -> 200200 | D22: EMBOUT DE TIGE | E22: 610 | F22: 942 | G22: 942 | H22: 942 | I22: =IFERROR(VLOOKUP(D22,Pieces!A:C,3,0),"Entrer la cadence") -> 60 | J22: 1 | K22: =(F22-E22)*J22 -> 332 | L22: =(G22-F22)*J22 -> 0 | M22: =(H22-G22)*J22 -> 0 | N22: =IF(I22=0,0,K22/I22) -> 5.5333333 | O22: =IF(I22=0,0,L22/I22) -> 0 | P22: =IF(I22=0,0,M22/I22) -> 0 | Q22: 9 | S22: =U22+T22-K22-L22-M22 -> 0 | U22: 332 | Z22: =IF(I22=0,0,(U22+T22)/I22) -> 5.5333333 | AA22: =IF(OR(Q22=0,I22=0),"",Z22/Q22*100) -> 61.481481 | AE22: =IF(AA22>85," ","WARNING") -> WARNING
A23: I | B23: TSUGAMI | C23: =IFERROR(VLOOKUP(D23,Pieces!A:B,2,0)," ") -> - | D23: Arrêt | E23: 0 | F23: 0 | G23: 0 | H23: 0 | I23: =IFERROR(VLOOKUP(D23,Pieces!A:C,3,0),"Entrer la cadence") -> 1 | J23: 1 | K23: =(F23-E23)*J23 -> 0 | L23: =(G23-F23)*J23 -> 0 | M23: =(H23-G23)*J23 -> 0 | N23: =IF(I23=0,0,K23/I23) -> 0 | O23: =IF(I23=0,0,L23/I23) -> 0 | P23: =IF(I23=0,0,M23/I23) -> 0 | Q23: 9 | S23: =U23+T23-K23-L23-M23 -> 0 | U23: 0 | Z23: =IF(I23=0,0,(U23+T23)/I23) -> 0 | AA23: =IF(OR(Q23=0,I23=0),"",Z23/Q23*100) -> 0 | AE23: =IF(AA23>85," ","WARNING") -> WARNING
A24: G | B24: MORI SEIKI 3 axes | C24: =IFERROR(VLOOKUP(D24,Pieces!A:B,2,0)," ") -> I110-01-004 | D24: INSERT LEVIER SURMOULEE 345833-01 - fraisage | E24: 47 | F24: 76 | G24: 76 | H24: 76 | I24: =IFERROR(VLOOKUP(D24,Pieces!A:C,3,0),"Entrer la cadence") -> 28 | J24: 7 | K24: =(F24-E24)*J24 -> 203 | L24: =(G24-F24)*J24 -> 0 | M24: =(H24-G24)*J24 -> 0 | N24: =IF(I24=0,0,K24/I24) -> 7.25 | O24: =IF(I24=0,0,L24/I24) -> 0 | P24: =IF(I24=0,0,M24/I24) -> 0 | Q24: 9 | S24: =U24+T24-K24-L24-M24 -> 0 | U24: 203 | Z24: =IF(I24=0,0,(U24+T24)/I24) -> 7.25 | AA24: =IF(OR(Q24=0,I24=0),"",Z24/Q24*100) -> 80.555556 | AE24: =IF(AA24>85," ","WARNING") -> WARNING
A25: H | B25: MORI SEIKI 5 axes | C25: =IFERROR(VLOOKUP(D25,Pieces!A:B,2,0)," ") -> 480387 | D25: EVACUATION 2/3G X-ONE | E25: 80 | F25: 128 | G25: 128 | H25: 128 | I25: =IFERROR(VLOOKUP(D25,Pieces!A:C,3,0),"Entrer la cadence") -> 60 | J25: 20 | K25: =(F25-E25)*J25 -> 960 | L25: =(G25-F25)*J25 -> 0 | M25: =(H25-G25)*J25 -> 0 | N25: =IF(I25=0,0,K25/I25) -> 16 | O25: =IF(I25=0,0,L25/I25) -> 0 | P25: =IF(I25=0,0,M25/I25) -> 0 | Q25: 9 | S25: =U25+T25-K25-L25-M25 -> 0 | U25: 960 | Z25: =IF(I25=0,0,(U25+T25)/I25) -> 16 | AA25: =IF(OR(Q25=0,I25=0),"",Z25/Q25*100) -> 177.77778 | AE25: =IF(AA25>85," ","WARNING")
A26: L | B26: HARDING | C26: =IFERROR(VLOOKUP(D26,Pieces!A:B,2,0)," ") -> PIG 50 SE- harding | D26: PIGNON PLATEAU SIMPLE ETAGE D50 - contournage dents | E26: 129 | F26: 155 | G26: 155 | H26: 155 | I26: =IFERROR(VLOOKUP(D26,Pieces!A:C,3,0),"Entrer la cadence") -> 38 | J26: 51 | K26: =(F26-E26)*J26 -> 1326 | L26: =(G26-F26)*J26 -> 0 | M26: =(H26-G26)*J26 -> 0 | N26: =IF(I26=0,0,K26/I26) -> 34.894737 | O26: =IF(I26=0,0,L26/I26) -> 0 | P26: =IF(I26=0,0,M26/I26) -> 0 | Q26: 9 | S26: =U26+T26-K26-L26-M26 -> 0 | U26: 1326 | Z26: =IF(I26=0,0,(U26+T26)/I26) -> 34.894737 | AA26: =IF(OR(Q26=0,I26=0),"",Z26/Q26*100) -> 387.7193 | AE26: =IF(AA26>85," ","WARNING")
A27: K | B27: KITAMURA | C27: =IFERROR(VLOOKUP(D27,Pieces!A:B,2,0)," ") -> - | D27: Arrêt | E27: 0 | F27: 0 | G27: 0 | H27: 0 | I27: =IFERROR(VLOOKUP(D27,Pieces!A:C,3,0),"Entrer la cadence") -> 1 | J27: 1 | K27: =(F27-E27)*J27 -> 0 | L27: =(G27-F27)*J27 -> 0 | M27: =(H27-G27)*J27 -> 0 | N27: =IF(I27=0,0,K27/I27) -> 0 | O27: =IF(I27=0,0,L27/I27) -> 0 | P27: =IF(I27=0,0,M27/I27) -> 0 | Q27: 9 | S27: =U27+T27-K27-L27-M27 -> 0 | U27: 0 | Z27: =IF(I27=0,0,(U27+T27)/I27) -> 0 | AA27: =IF(OR(Q27=0,I27=0),"",Z27/Q27*100) -> 0 | AE27: =IF(AA27>85," ","WARNING") -> WARNING
A28: F | B28: MULTI BROCHE | C28: =IFERROR(VLOOKUP(D28,Pieces!A:B,2,0)," ") -> MPS000300 | D28: raccord HEX 17 | E28: 180777 | F28: 180840 | G28: 180840 | H28: 180840 | I28: =IFERROR(VLOOKUP(D28,Pieces!A:C,3,0),"Entrer la cadence") -> 454 | J28: 1 | K28: =(F28-E28)*J28 -> 63 | L28: =(G28-F28)*J28 -> 0 | M28: =(H28-G28)*J28 -> 0 | N28: =IF(I28=0,0,K28/I28) -> 0.13876652 | O28: =IF(I28=0,0,L28/I28) -> 0 | P28: =IF(I28=0,0,M28/I28) -> 0 | Q28: 9 | S28: =U28+T28-K28-L28-M28 -> 0 | U28: 63 | Z28: =IF(I28=0,0,(U28+T28)/I28) -> 0.13876652 | AA28: =IF(OR(Q28=0,I28=0),"",Z28/Q28*100) -> 1.5418502 | AE28: =IF(AA28>85," ","WARNING") -> WARNING
A29: J | B29: NAKAMURA | C29: =IFERROR(VLOOKUP(D29,Pieces!A:B,2,0)," ") -> MI018 | D29: GOUJON DE ROUE MITSIBITCHI GM | E29: 0 | F29: 0 | G29: 0 | H29: 0 | I29: =IFERROR(VLOOKUP(D29,Pieces!A:C,3,0),"Entrer la cadence") -> 30 | J29: 1 | K29: =(F29-E29)*J29 -> 0 | L29: =(G29-F29)*J29 -> 0 | M29: =(H29-G29)*J29 -> 0 | N29: =IF(I29=0,0,K29/I29) -> 0 | O29: =IF(I29=0,0,L29/I29) -> 0 | P29: =IF(I29=0,0,M29/I29) -> 0 | Q29: 9 | S29: =U29+T29-K29-L29-M29 -> 0 | U29: 0 | Z29: =IF(I29=0,0,(U29+T29)/I29) -> 0 | AA29: =IF(OR(Q29=0,I29=0),"",Z29/Q29*100) -> 0 | AE29: =IF(AA29>85," ","WARNING") -> WARNING
A30: M | B30: TOUR WEILER | C30: =IFERROR(VLOOKUP(D30,Pieces!A:B,2,0)," ") -> H001-PROD | D30: GOUJON DE ROUE HONDA PROD | E30: 1913 | F30: 1913 | G30: 1913 | H30: 1913 | I30: =IFERROR(VLOOKUP(D30,Pieces!A:C,3,0),"Entrer la cadence") -> 20 | J30: 1 | K30: =(F30-E30)*J30 -> 0 | L30: =(G30-F30)*J30 -> 0 | M30: =(H30-G30)*J30 -> 0 | N30: =IF(I30=0,0,K30/I30) -> 0 | O30: =IF(I30=0,0,L30/I30) -> 0 | P30: =IF(I30=0,0,M30/I30) -> 0 | Q30: 9 | R30: EN PANNE | S30: =U30+T30-K30-L30-M30 -> 0 | U30: 0 | Z30: =IF(I30=0,0,(U30+T30)/I30) -> 0 | AA30: =IF(OR(Q30=0,I30=0),"",Z30/Q30*100) -> 0 | AE30: =IF(AA30>85," ","WARNING") -> WARNING
Q31: temps d'ouverture | R31: 9
C38: Rédacteur | J38: Approbateur:
C39: Date | J39: Date:
C40: Visa | J40: Visa:

Sheet 16-01-2020
C1: Tableau de production journalière | Z1: CODE: DAS-PRO-16
Z2: DATE:30/08/2019
Z3: VERSION:07
Z4: PAGE:1
