Workbook
Name ALCOR: [1]Feuil1!$D$18:$F$18
Name C.A.P.L.: [1]Feuil1!$D$20:$F$20
Name C.I.C.: [1]Feuil1!$D$14:$F$14
Name CALVET_AGRO: [1]Feuil1!$D$21:$F$21
Name CAPL___UAPL: [1]Feuil1!$D$7:$F$7
Name client: 'base information contact'!$B$1:$D$1
Name Coopérative_Jura_Mont_Blanc: [1]Feuil1!$D$15:$F$15
Name COPAL: [1]Feuil1!$D$12:$F$12
Name GPS___MAGNAN: [1]Feuil1!$D$13:$F$13
Name JEEM: [1]Feuil1!$D$16:$F$16
Name LA_PERIGOURDINE: [1]Feuil1!$D$10:$F$10
Name MAGNE: [1]Feuil1!$D$19:$F$19
Name PERIS: [1]Feuil1!$D$9:$F$9
Name PERRET: [1]Feuil1!$D$8:$F$8
Name PRODIA: 'base information contact'!$B$2:$D$2

Sheet Suivi réétiquetage
A1: mise à jour 10/01/2020
A2: Suivi réétiquetage
A3: États | B3: Produit | C3: États des étiquettes | D3: Nombre d'étiquettes demandées | E3: Clients | F3: Nom du contact | G3: Adresse e-mail du contcat | H3: Adresse d'envoi des étiquettes | I3: Date d'envoi e-mail Information n°1 | J3: Date d'envoie e-mail Information n°2 | K3: Date d'envoi e-mail à Approservice | L3: Date d'envoi e-mail au client | M3: Date de renvoi de la fiche de mise en conformité par le client (avec les quantités) | N3: Commentaires
E4: tulipe | F4: =VLOOKUP(E4,'base information contact'!A1:D567,2,FALSE) -> pacrette | G4: =VLOOKUP(E4,'base information contact'!A1:D567,3,FALSE) -> qsddqs@gmail.com | H4: =VLOOKUP(E4,'base information contact'!A1:D567,4,FALSE) -> 6 rue de coquelicot
A5: "=si(I5<>" ";"Envoie e-mail Information n°1 a réaliser"; si(J5<>""; "Envoie e-mail Information n°2 a réaliser", si(k5<>"","Envoie e-mail Approservice a réaliser"; si(L5<>""; "Envoie e-mail au client a réaliser", si(M5<>""; ""; "Récépissé mise conformité reçus")))))" | F5: =VLOOKUP(E5,'base information contact'!A2:D568,2,FALSE) -> #N/A | G5: =VLOOKUP(E5,'base information contact'!A2:D568,3,FALSE) -> #N/A | H5: =VLOOKUP(E5,'base information contact'!A2:D568,4,FALSE) -> #N/A
F6: =VLOOKUP(E6,'base information contact'!A19:D569,2,FALSE) -> #N/A | G6: =VLOOKUP(E6,'base information contact'!A19:D569,3,FALSE) -> #N/A | H6: =VLOOKUP(E6,'base information contact'!A19:D569,4,FALSE) -> #N/A
F7: =VLOOKUP(E7,'base information contact'!A19:D570,2,FALSE) -> #N/A | G7: =VLOOKUP(E7,'base information contact'!A19:D570,3,FALSE) -> #N/A | H7: =VLOOKUP(E7,'base information contact'!A19:D570,4,FALSE) -> #N/A
F8: =VLOOKUP(E8,'base information contact'!A19:D571,2,FALSE) -> #N/A | G8: =VLOOKUP(E8,'base information contact'!A19:D571,3,FALSE) -> #N/A | H8: =VLOOKUP(E8,'base information contact'!A19:D571,4,FALSE) -> #N/A
F9: =VLOOKUP(E9,'base information contact'!A19:D572,2,FALSE) -> #N/A | G9: =VLOOKUP(E9,'base information contact'!A19:D572,3,FALSE) -> #N/A | H9: =VLOOKUP(E9,'base information contact'!A19:D572,4,FALSE) -> #N/A
F10: =VLOOKUP(E10,'base information contact'!A19:D573,2,FALSE) -> #N/A | G10: =VLOOKUP(E10,'base information contact'!A19:D573,3,FALSE) -> #N/A | H10: =VLOOKUP(E10,'base information contact'!A19:D573,4,FALSE) -> #N/A
F11: =VLOOKUP(E11,'base information contact'!A19:D574,2,FALSE) -> #N/A | G11: =VLOOKUP(E11,'base information contact'!A19:D574,3,FALSE) -> #N/A | H11: =VLOOKUP(E11,'base information contact'!A19:D574,4,FALSE) -> #N/A
F12: =VLOOKUP(E12,'base information contact'!A19:D575,2,FALSE) -> #N/A | G12: =VLOOKUP(E12,'base information contact'!A19:D575,3,FALSE) -> #N/A | H12: =VLOOKUP(E12,'base information contact'!A19:D575,4,FALSE) -> #N/A
F13: =VLOOKUP(E13,'base information contact'!A19:D576,2,FALSE) -> #N/A | G13: =VLOOKUP(E13,'base information contact'!A19:D576,3,FALSE) -> #N/A | H13: =VLOOKUP(E13,'base information contact'!A19:D576,4,FALSE) -> #N/A
F14: =VLOOKUP(E14,'base information contact'!A19:D577,2,FALSE) -> #N/A | G14: =VLOOKUP(E14,'base information contact'!A19:D577,3,FALSE) -> #N/A | H14: =VLOOKUP(E14,'base information contact'!A19:D577,4,FALSE) -> #N/A
F15: =VLOOKUP(E15,'base information contact'!A19:D578,2,FALSE) -> #N/A | G15: =VLOOKUP(E15,'base information contact'!A19:D578,3,FALSE) -> #N/A | H15: =VLOOKUP(E15,'base information contact'!A19:D578,4,FALSE) -> #N/A
F16: =VLOOKUP(E16,'base information contact'!A19:D579,2,FALSE) -> #N/A | G16: =VLOOKUP(E16,'base information contact'!A19:D579,3,FALSE) -> #N/A | H16: =VLOOKUP(E16,'base information contact'!A19:D579,4,FALSE) -> #N/A
F17: =VLOOKUP(E17,'base information contact'!A19:D580,2,FALSE) -> #N/A | G17: =VLOOKUP(E17,'base information contact'!A19:D580,3,FALSE) -> #N/A | H17: =VLOOKUP(E17,'base information contact'!A19:D580,4,FALSE) -> #N/A
F18: =VLOOKUP(E18,'base information contact'!A19:D581,2,FALSE) -> #N/A | G18: =VLOOKUP(E18,'base information contact'!A19:D581,3,FALSE) -> #N/A | H18: =VLOOKUP(E18,'base information contact'!A19:D581,4,FALSE) -> #N/A
F19: =VLOOKUP(E19,'base information contact'!A19:D582,2,FALSE) -> #N/A | G19: =VLOOKUP(E19,'base information contact'!A19:D582,3,FALSE) -> #N/A | H19: =VLOOKUP(E19,'base information contact'!A19:D582,4,FALSE) -> #N/A
F20: =VLOOKUP(E20,'base information contact'!A19:D583,2,FALSE) -> #N/A | G20: =VLOOKUP(E20,'base information contact'!A19:D583,3,FALSE) -> #N/A | H20: =VLOOKUP(E20,'base information contact'!A19:D583,4,FALSE) -> #N/A
F21: =VLOOKUP(E21,'base information contact'!A19:D584,2,FALSE) -> #N/A | G21: =VLOOKUP(E21,'base information contact'!A19:D584,3,FALSE) -> #N/A | H21: =VLOOKUP(E21,'base information contact'!A19:D584,4,FALSE) -> #N/A
F22: =VLOOKUP(E22,'base information contact'!A19:D585,2,FALSE) -> #N/A | G22: =VLOOKUP(E22,'base information contact'!A19:D585,3,FALSE) -> #N/A | H22: =VLOOKUP(E22,'base information contact'!A19:D585,4,FALSE) -> #N/A
F23: =VLOOKUP(E23,'base information contact'!A20:D586,2,FALSE) -> #N/A | G23: =VLOOKUP(E23,'base information contact'!A20:D586,3,FALSE) -> #N/A | H23: =VLOOKUP(E23,'base information contact'!A20:D586,4,FALSE) -> #N/A
F24: =VLOOKUP(E24,'base information contact'!A21:D587,2,FALSE) -> #N/A | G24: =VLOOKUP(E24,'base information contact'!A21:D587,3,FALSE) -> #N/A | H24: =VLOOKUP(E24,'base information contact'!A21:D587,4,FALSE) -> #N/A
F25: =VLOOKUP(E25,'base information contact'!A22:D588,2,FALSE) -> #N/A | G25: =VLOOKUP(E25,'base information contact'!A22:D588,3,FALSE) -> #N/A | H25: =VLOOKUP(E25,'base information contact'!A22:D588,4,FALSE) -> #N/A
F26: =VLOOKUP(E26,'base information contact'!A23:D589,2,FALSE) -> #N/A | G26: =VLOOKUP(E26,'base information contact'!A23:D589,3,FALSE) -> #N/A | H26: =VLOOKUP(E26,'base information contact'!A23:D589,4,FALSE) -> #N/A
F27: =VLOOKUP(E27,'base information contact'!A24:D590,2,FALSE) -> #N/A | G27: =VLOOKUP(E27,'base information contact'!A24:D590,3,FALSE) -> #N/A | H27: =VLOOKUP(E27,'base information contact'!A24:D590,4,FALSE) -> #N/A
F28: =VLOOKUP(E28,'base information contact'!A25:D591,2,FALSE) -> #N/A | G28: =VLOOKUP(E28,'base information contact'!A25:D591,3,FALSE) -> #N/A | H28: =VLOOKUP(E28,'base information contact'!A25:D591,4,FALSE) -> #N/A
F29: =VLOOKUP(E29,'base information contact'!A26:D592,2,FALSE) -> #N/A | G29: =VLOOKUP(E29,'base information contact'!A26:D592,3,FALSE) -> #N/A | H29: =VLOOKUP(E29,'base information contact'!A26:D592,4,FALSE) -> #N/A
F30: =VLOOKUP(E30,'base information contact'!A27:D593,2,FALSE) -> #N/A | G30: =VLOOKUP(E30,'base information contact'!A27:D593,3,FALSE) -> #N/A | H30: =VLOOKUP(E30,'base information contact'!A27:D593,4,FALSE) -> #N/A
F31: =VLOOKUP(E31,'base information contact'!A28:D594,2,FALSE) -> #N/A | G31: =VLOOKUP(E31,'base information contact'!A28:D594,3,FALSE) -> #N/A | H31: =VLOOKUP(E31,'base information contact'!A28:D594,4,FALSE) -> #N/A
F32: =VLOOKUP(E32,'base information contact'!A29:D595,2,FALSE) -> #N/A | G32: =VLOOKUP(E32,'base information contact'!A29:D595,3,FALSE) -> #N/A | H32: =VLOOKUP(E32,'base information contact'!A29:D595,4,FALSE) -> #N/A
F33: =VLOOKUP(E33,'base information contact'!A30:D596,2,FALSE) -> #N/A | G33: =VLOOKUP(E33,'base information contact'!A30:D596,3,FALSE) -> #N/A | H33: =VLOOKUP(E33,'base information contact'!A30:D596,4,FALSE) -> #N/A
... F512: =VLOOKUP(E512,'base information contact'!A509:D1075,2,FALSE) -> #N/A | G512: =VLOOKUP(E512,'base information contact'!A509:D1075,3,FALSE) -> #N/A | H512: =VLOOKUP(E512,'base information contact'!A509:D1075,4,FALSE) -> #N/A

Sheet base information étiquette
A1: produit | B1: référence | C1: états (en livraison, en stock, en prévision) | D1: Type d'étiquttes | E1: 2D (oui/non) | F1: commentaires
A2: Monitor

Sheet base information contact
A1: client | B1: nom du contact | C1: e-mail | D1: adresse de livraison | F1: La recherv prend en compte le premier, si plusieur résultat
A2: tulipe | B2: pacrette | C2: qsddqs@gmail.com | D2: 6 rue de coquelicot
