Workbook

Sheet stat
A1: MELANIE B | B1: =COUNTIFS(DIMANCHE25:MARDI27!$F$5:$F$45,">01/01/2000 20:44:00",DIMANCHE25:MARDI27!$D$5:$D$45,"=MELANIE B") -> #VALUE!
A2: TIFFANY | B2: =COUNTIFS(DIMANCHE25!$F$5:$F$45,">01/01/2000 20:44:00",DIMANCHE25!$D$5:$D$45,"=TIFFANY")/5 -> 0 | C2: =COUNTIFS(LUNDI26!$F$5:$F$45,">01/01/2000 20:44:00",LUNDI26!$D$5:$D$45,"=TIFFANY")/5 -> 0
A3: GUILLAUME | B3: =COUNTIFS(DIMANCHE25!$F$5:$F$45,">01/01/2000 20:44:00",DIMANCHE25!$D$5:$D$45,"=GUIILAUME")/5 -> 0 | C3: =COUNTIFS(LUNDI26!$F$5:$F$45,">01/01/2000 20:44:00",LUNDI26!$D$5:$D$45,"=TIFFANY")/5 -> 0
A4: BIETRIX | B4: =COUNTIFS(DIMANCHE25!$F$5:$F$45,">01/01/2000 20:44:00",DIMANCHE25!$D$5:$D$45,"=TIFFANY")/5 -> 0 | C4: =COUNTIFS(LUNDI26!$F$5:$F$45,">01/01/2000 20:44:00",LUNDI26!$D$5:$D$45,"=TIFFANY")/5 -> 0
A5: MELANIE P | B5: =COUNTIFS(DIMANCHE25!$F$5:$F$45,">01/01/2000 20:44:00",DIMANCHE25!$D$5:$D$45,"=TIFFANY")/5 -> 0 | C5: =COUNTIFS(LUNDI26!$F$5:$F$45,">01/01/2000 20:44:00",LUNDI26!$D$5:$D$45,"=TIFFANY")/5 -> 0
A6: CYRIELLE | B6: =COUNTIFS(DIMANCHE25!$F$5:$F$45,">01/01/2000 20:44:00",DIMANCHE25!$D$5:$D$45,"=TIFFANY")/5 -> 0 | C6: =COUNTIFS(LUNDI26!$F$5:$F$45,">01/01/2000 20:44:00",LUNDI26!$D$5:$D$45,"=TIFFANY")/5 -> 0
A7: KYLLIAN | B7: =COUNTIFS(DIMANCHE25!$F$5:$F$45,">01/01/2000 20:44:00",DIMANCHE25!$D$5:$D$45,"=TIFFANY")/5 -> 0 | C7: =COUNTIFS(LUNDI26!$F$5:$F$45,">01/01/2000 20:44:00",LUNDI26!$D$5:$D$45,"=TIFFANY")/5 -> 0
A8: FATIHA | B8: =COUNTIFS(DIMANCHE25!$F$5:$F$45,">01/01/2000 20:44:00",DIMANCHE25!$D$5:$D$45,"=TIFFANY")/5 -> 0 | C8: =COUNTIFS(LUNDI26!$F$5:$F$45,">01/01/2000 20:44:00",LUNDI26!$D$5:$D$45,"=TIFFANY")/5 -> 0
A9: MARION | B9: =COUNTIFS(DIMANCHE25!$F$5:$F$45,">01/01/2000 20:44:00",DIMANCHE25!$D$5:$D$45,"=TIFFANY")/5 -> 0 | C9: =COUNTIFS(LUNDI26!$F$5:$F$45,">01/01/2000 20:44:00",LUNDI26!$D$5:$D$45,"=TIFFANY")/5 -> 0
A10: GIULIA | B10: =COUNTIFS(DIMANCHE25!$F$5:$F$45,">01/01/2000 20:44:00",DIMANCHE25!$D$5:$D$45,"=TIFFANY")/5 -> 0 | C10: =COUNTIFS(LUNDI26!$F$5:$F$45,">01/01/2000 20:44:00",LUNDI26!$D$5:$D$45,"=TIFFANY")/5 -> 0
A11: CHLOE | B11: =COUNTIFS(DIMANCHE25!$F$5:$F$45,">01/01/2000 20:44:00",DIMANCHE25!$D$5:$D$45,"=TIFFANY")/5 -> 0 | C11: =COUNTIFS(LUNDI26!$F$5:$F$45,">01/01/2000 20:44:00",LUNDI26!$D$5:$D$45,"=TIFFANY")/5 -> 0
A12: AGATHE | B12: =COUNTIFS(DIMANCHE25!$F$5:$F$45,">01/01/2000 20:44:00",DIMANCHE25!$D$5:$D$45,"=TIFFANY")/5 -> 0 | C12: =COUNTIFS(LUNDI26!$F$5:$F$45,">01/01/2000 20:44:00",LUNDI26!$D$5:$D$45,"=TIFFANY")/5 -> 0
A13: WILSON | B13: =COUNTIFS(DIMANCHE25!$F$5:$F$45,">01/01/2000 20:44:00",DIMANCHE25!$D$5:$D$45,"=TIFFANY")/5 -> 0 | C13: =COUNTIFS(LUNDI26!$F$5:$F$45,">01/01/2000 20:44:00",LUNDI26!$D$5:$D$45,"=TIFFANY")/5 -> 0
A14: RYAN | B14: =COUNTIFS(DIMANCHE25!$F$5:$F$45,">01/01/2000 20:44:00",DIMANCHE25!$D$5:$D$45,"=TIFFANY")/5 -> 0 | C14: =COUNTIFS(LUNDI26!$F$5:$F$45,">01/01/2000 20:44:00",LUNDI26!$D$5:$D$45,"=TIFFANY")/5 -> 0
A15: MICHEL | B15: =COUNTIFS(DIMANCHE25!$F$5:$F$45,">01/01/2000 20:44:00",DIMANCHE25!$D$5:$D$45,"=TIFFANY")/5 -> 0 | C15: =COUNTIFS(LUNDI26!$F$5:$F$45,">01/01/2000 20:44:00",LUNDI26!$D$5:$D$45,"=TIFFANY")/5 -> 0
... A19: ENZO | B19: =COUNTIFS(DIMANCHE25!$F$5:$F$45,">01/01/2000 20:44:00",DIMANCHE25!$D$5:$D$45,"=TIFFANY")/5 -> 0 | C19: =COUNTIFS(LUNDI26!$F$5:$F$45,">01/01/2000 20:44:00",LUNDI26!$D$5:$D$45,"=TIFFANY")/5 -> 0
A20: DENIS | B20: =COUNTIFS([2]DIMANCHE!$F$5:$F$45,">01/01/2000 20:44:00",[2]DIMANCHE!$D$5:$D$45,"=DENIS")/5 -> #VALUE! | C20: =COUNTIFS(LUNDI26!$F$5:$F$45,">01/01/2000 20:44:00",LUNDI26!$D$5:$D$45,"=DENIS")/5 -> 0
A21: SANDRINE | B21: =COUNTIFS(DIMANCHE25:MARDI27!F5:F45,">01/01/2000 20:44:00",DIMANCHE25:MARDI27!D5:D45,"=SANDRINE") -> #VALUE! | C21: =COUNTIFS(LUNDI26!$F$5:$F$45,">01/01/2000 20:44:00",LUNDI26!$D$5:$D$45,"=SANDRINE")/5 -> 0.2
A22: NOEMIE | B22: =COUNTIFS(DIMANCHE25!$F$5:$F$45,">01/01/2000 20:44:00",DIMANCHE25!$D$5:$D$45,"=NOEMIE")/2 -> 0.5 | C22: =COUNTIFS(LUNDI26!$F$5:$F$45,">01/01/2000 20:44:00",LUNDI26!$D$5:$D$45,"=NOEMIE")/5 -> 0.2
A23: SABRYA | B23: =COUNTIFS(DIMANCHE25!$F$5:$F$45,">01/01/2000 20:44:00",DIMANCHE25!$D$5:$D$45,"=SABRYA")/5 -> 0.2 | C23: =COUNTIFS(LUNDI26!$F$5:$F$45,">01/01/2000 20:44:00",LUNDI26!$D$5:$D$45,"=SABRYA")/5 -> 0.2 | D23: =COUNTIFS(LUNDI26!$F$5:$F$45,">01/01/2000 20:44:00",LUNDI26!$D$5:$D$45,"=SABRYA")/5 -> 0.2 | E23: =COUNTIFS(LUNDI26!$F$5:$F$45,">01/01/2000 20:44:00",LUNDI26!$D$5:$D$45,"=SABRYA")/5 -> 0.2 | F23: =COUNTIFS(LUNDI26!$F$5:$F$45,">01/01/2000 20:44:00",LUNDI26!$D$5:$D$45,"=SABRYA")/5 -> 0.2 | G23: =COUNTIFS(LUNDI26!$F$5:$F$45,">01/01/2000 20:44:00",LUNDI26!$D$5:$D$45,"=SABRYA")/5 -> 0.2
A24: HELINA | B24: =COUNTIFS(DIMANCHE25!$F$5:$F$45,">01/01/2000 20:44:00",DIMANCHE25!$D$5:$D$45,"=HELINA")/5 -> 0.2 | C24: =COUNTIFS(LUNDI26!$F$5:$F$45,">01/01/2000 20:44:00",LUNDI26!$D$5:$D$45,"=TIFFANY")/5 -> 0
A25: LAURA M | B25: =COUNTIFS(DIMANCHE25!$F$5:$F$45,">01/01/2000 20:44:00",DIMANCHE25!$D$5:$D$45,"=LAURA M")/5 -> 0.2 | C25: =COUNTIFS(LUNDI26!$F$5:$F$45,">01/01/2000 20:44:00",LUNDI26!$D$5:$D$45,"=TIFFANY")/5 -> 0
A26: MAEHVA | B26: =COUNTIFS(DIMANCHE25!$F$5:$F$45,">01/01/2000 20:44:00",DIMANCHE25!$D$5:$D$45,"=MAEHVA")/5 -> 0.2 | C26: =COUNTIFS(LUNDI26!$F$5:$F$45,">01/01/2000 20:44:00",LUNDI26!$D$5:$D$45,"=TIFFANY")/5 -> 0
A27: EMILIE | B27: =COUNTIFS(DIMANCHE25!$F$5:$F$45,">01/01/2000 20:44:00",DIMANCHE25!$D$5:$D$45,"=EMILIE")/5 -> 0.2 | C27: =COUNTIFS(LUNDI26!$F$5:$F$45,">01/01/2000 20:44:00",LUNDI26!$D$5:$D$45,"=TIFFANY")/5 -> 0
A28: KITTI | B28: =COUNTIFS(DIMANCHE25!$F$5:$F$45,">01/01/2000 20:44:00",DIMANCHE25!$D$5:$D$45,"=KITTI")/5 -> 0.2 | C28: =COUNTIFS(LUNDI26!$F$5:$F$45,">01/01/2000 20:44:00",LUNDI26!$D$5:$D$45,"=TIFFANY")/5 -> 0
A29: LAURINE | B29: =COUNTIFS(DIMANCHE25!$F$5:$F$45,">01/01/2000 20:44:00",DIMANCHE25!$D$5:$D$45,"=LAURINE") -> 1 | C29: =COUNTIFS(LUNDI26!$F$5:$F$45,">01/01/2000 20:44:00",LUNDI26!$D$5:$D$45,"=TIFFANY")/5 -> 0
A30: JOEL | B30: =COUNTIFS(DIMANCHE25!$F$5:$F$45,">01/01/2000 20:44:00",DIMANCHE25!$D$5:$D$45,"=TIFFANY")/5 -> 0 | C30: =COUNTIFS(LUNDI26!$F$5:$F$45,">01/01/2000 20:44:00",LUNDI26!$D$5:$D$45,"=TIFFANY")/5 -> 0
A31: JENNIFER | B31: =COUNTIFS(DIMANCHE25!$F$5:$F$45,">01/01/2000 20:44:00",DIMANCHE25!$D$5:$D$45,"=TIFFANY")/5 -> 0 | C31: =COUNTIFS(LUNDI26!$F$5:$F$45,">01/01/2000 20:44:00",LUNDI26!$D$5:$D$45,"=TIFFANY")/5 -> 0
A32: ADELINE | B32: =COUNTIFS(DIMANCHE25!$F$5:$F$45,">01/01/2000 20:44:00",DIMANCHE25!$D$5:$D$45,"=TIFFANY")/5 -> 0 | C32: =COUNTIFS(LUNDI26!$F$5:$F$45,">01/01/2000 20:44:00",LUNDI26!$D$5:$D$45,"=TIFFANY")/5 -> 0
A33: GEMA | B33: =COUNTIFS(DIMANCHE25!$F$5:$F$45,">01/01/2000 20:44:00",DIMANCHE25!$D$5:$D$45,"=TIFFANY")/5 -> 0 | C33: =COUNTIFS(LUNDI26!$F$5:$F$45,">01/01/2000 20:44:00",LUNDI26!$D$5:$D$45,"=TIFFANY")/5 -> 0
A34: LAURA | B34: =COUNTIFS(DIMANCHE25!$F$5:$F$45,">01/01/2000 20:44:00",DIMANCHE25!$D$5:$D$45,"=TIFFANY")/5 -> 0 | C34: =COUNTIFS(LUNDI26!$F$5:$F$45,">01/01/2000 20:44:00",LUNDI26!$D$5:$D$45,"=TIFFANY")/5 -> 0
A35: ANNE | B35: =COUNTIFS(DIMANCHE25!$F$5:$F$45,">01/01/2000 20:44:00",DIMANCHE25!$D$5:$D$45,"=TIFFANY")/5 -> 0 | C35: =COUNTIFS(LUNDI26!$F$5:$F$45,">01/01/2000 20:44:00",LUNDI26!$D$5:$D$45,"=TIFFANY")/5 -> 0
A36: MARIA STEFANIA | B36: =COUNTIFS(DIMANCHE25!$F$5:$F$45,">01/01/2000 20:44:00",DIMANCHE25!$D$5:$D$45,"=TIFFANY")/5 -> 0 | C36: =COUNTIFS(LUNDI26!$F$5:$F$45,">01/01/2000 20:44:00",LUNDI26!$D$5:$D$45,"=TIFFANY")/5 -> 0

Sheet DIMANCHE25
G1: HAP | J1: REEL | P1: ECART
DH2: =J2*24 -> 0 | DK2: REEL
DH3: =G2*24 -> 0 | DK3: HAP
C4: FC | D4: NOM CMS | E4: SHIFT | G4: PAUSE | H4: 8H | L4: 9H | P4: 10H | T4: 11H | X4: 12H | AB4: 13H | AF4: 14H | AJ4: 15H | AN4: 16H | AR4: 17H | AV4: 18H | AZ4: 19H | BD4: 20H | BH4: 21H | BL4: 22H | BP4: 23H | BT4: 00H | BX4: 01H00 | CB4: 02H00 | CF4: BREAK | CJ4: LUNCH
A5: 0.011111111 | B5: =SUM(F5-E5)-G5+A5 -> 0.29166667 | C5: =IF(ISNA(VLOOKUP(D5,[1]listing!$A$1:$E$80,4,FALSE)),"NN",VLOOKUP(D5,[1]listing!$A$1:$E$80,4,FALSE)) -> 48 | D5: MELANIE B | E5: 36526.323 | F5: 36526.645 | G5: 0.041666667 | I5: 12 | J5: 12 | K5: 12 | L5: 12 | M5: 12 | N5: 12 | O5: 12 | P5: B | Q5: 12 | R5: 12 | S5: 12 | T5: 12 | U5: 12 | V5: 12 | W5: 12 | X5: L | Y5: L | Z5: L | AA5: F | AB5: F | AC5: F | AD5: F | AE5: F | AF5: F | AG5: F | AH5: F | AI5: F | AJ5: CC | AK5: CC | CN5: =D5 -> MELANIE B | DK5: PERSONNE 1
A6: 0.011111111 | B6: =SUM(F6-E6)-G6+A6 -> 0.29166667 | C6: =IF(ISNA(VLOOKUP(D6,[1]listing!$A$1:$E$80,4,FALSE)),"NN",VLOOKUP(D6,[1]listing!$A$1:$E$80,4,FALSE)) -> 62 | D6: TIFFANY | E6: 36526.323 | F6: 36526.645 | G6: 0.041666667 | I6: 11 | J6: 11 | K6: 11 | L6: 11 | M6: 11 | N6: 11 | O6: B | P6: 11 | Q6: 11 | R6: 11 | S6: 11 | T6: 11 | U6: 11 | V6: 11 | W6: 11 | X6: L | Y6: L | Z6: L | AA6: F | AB6: F | AC6: F | AD6: F | AE6: F | AF6: F | AG6: F | AH6: F | AI6: F | AJ6: CC | AK6: CC | CN6: =D6 -> TIFFANY | DK6: PERSONNE 2
A7: 0.011111111 | B7: =SUM(F7-E7)-G7+A7 -> 0.29166667 | C7: =IF(ISNA(VLOOKUP(D7,[1]listing!$A$1:$E$80,4,FALSE)),"NN",VLOOKUP(D7,[1]listing!$A$1:$E$80,4,FALSE)) -> 65 | D7: GUILLAUME | E7: 36526.323 | F7: 36526.645 | G7: 0.041666667 | I7: 23 | J7: 23 | K7: 23 | L7: 23 | M7: 23 | N7: 23 | O7: 23 | P7: B | Q7: 23 | R7: 23 | S7: 23 | T7: 23 | U7: 23 | V7: 23 | W7: 23 | X7: L | Y7: L | Z7: L | AA7: F | AB7: F | AC7: F | AD7: F | AE7: F | AF7: F | AG7: F | AH7: F | AI7: F | AJ7: CC | AK7: CC | CN7: =D7 -> GUILLAUME | DK7: PERSONNE 3
A8: 0.011111111 | B8: =SUM(F8-E8)-G8+A8 -> 0.33333333 | C8: =IF(ISNA(VLOOKUP(D8,[1]listing!$A$1:$E$80,4,FALSE)),"NN",VLOOKUP(D8,[1]listing!$A$1:$E$80,4,FALSE)) -> 59 | D8: BIETRIX | E8: 36526.323 | F8: 36526.687 | G8: 0.041666667 | I8: 24 | J8: 24 | K8: 24 | L8: 24 | M8: 24 | N8: 24 | O8: B | P8: 24 | Q8: 24 | R8: 24 | S8: 24 | T8: 24 | U8: 24 | V8: 24 | W8: 24 | X8: L | Y8: L | Z8: L | AA8: F | AB8: 29 | AC8: 29 | AD8: 29 | AE8: 29 | AF8: F | AG8: F | AH8: F | AI8: F | AJ8: F | AK8: F | AL8: F | AM8: F | AN8: CC | AO8: CC | CN8: =D8 -> BIETRIX | DK8: PERSONNE 4
A9: 0.011111111 | B9: =SUM(F9-E9)-G9+A9 -> 0.29166667 | C9: =IF(ISNA(VLOOKUP(D9,[1]listing!$A$1:$E$80,4,FALSE)),"NN",VLOOKUP(D9,[1]listing!$A$1:$E$80,4,FALSE)) -> 14 | D9: MELANIE P | E9: 36526.396 | F9: 36526.718 | G9: 0.041666667 | N9: F | O9: F | P9: 26 | Q9: 26 | R9: 26 | S9: 26 | T9: 26 | U9: 26 | V9: 26 | W9: 26 | X9: F | Y9: F | Z9: F | AA9: F | AB9: L | AC9: L | AD9: L | AE9: F | AF9: 20 | AG9: 20 | AH9: 20 | AI9: 20 | AJ9: 20 | AK9: 20 | AL9: 20 | AM9: 20 | AN9: B | AO9: F | AP9: F | AQ9: CC | AR9: CC | CN9: =D9 -> MELANIE P | DK9: PERSONNE 5
A10: 0.011111111 | B10: =SUM(F10-E10)-G10+A10 -> 0.29166667 | C10: =IF(ISNA(VLOOKUP(D10,[1]listing!$A$1:$E$80,4,FALSE)),"NN",VLOOKUP(D10,[1]listing!$A$1:$E$80,4,FALSE)) -> 26 | D10: CYRIELLE | E10: 36526.396 | F10: 36526.718 | G10: 0.041666667 | N10: F | O10: F | P10: 30 | Q10: 30 | R10: 30 | S10: 30 | T10: 30 | U10: 30 | V10: 30 | W10: 30 | X10: F | Y10: F | Z10: F | AA10: F | AB10: L | AC10: L | AD10: L | AE10: F | AF10: F | AG10: F | AH10: F | AI10: F | AJ10: F | AK10: F | AL10: F | AM10: F | AN10: B | AO10: F | AP10: F | AQ10: CC | AR10: CC | CN10: =D10 -> CYRIELLE | DK10: PERSONNE 6
A11: 0.011111111 | B11: =SUM(F11-E11)-G11+A11 -> 0.29166667 | C11: =IF(ISNA(VLOOKUP(D11,[1]listing!$A$1:$E$80,4,FALSE)),"NN",VLOOKUP(D11,[1]listing!$A$1:$E$80,4,FALSE)) -> 37 | D11: KYLLIAN | E11: 36526.396 | F11: 36526.718 | G11: 0.041666667 | N11: F | O11: F | P11: 35 | Q11: 35 | R11: 35 | S11: 35 | T11: 35 | U11: 35 | V11: 35 | W11: 35 | X11: F | Y11: F | Z11: F | AA11: F | AB11: L | AC11: L | AD11: L | AE11: F | AF11: F | AG11: F | AH11: F | AI11: F | AJ11: F | AK11: F | AL11: F | AM11: F | AN11: B | AO11: F | AP11: F | AQ11: CC | AR11: CC | CN11: =D11 -> KYLLIAN | DK11: PERSONNE 7
A12: 0.011111111 | B12: =SUM(F12-E12)-G12+A12 -> 0.29166667 | C12: =IF(ISNA(VLOOKUP(D12,[1]listing!$A$1:$E$80,4,FALSE)),"NN",VLOOKUP(D12,[1]listing!$A$1:$E$80,4,FALSE)) -> NN | D12: PERSONNE 3 | E12: 36526.396 | F12: 36526.718 | G12: 0.041666667 | N12: F | O12: F | P12: 24 | Q12: 24 | R12: 24 | S12: 24 | T12: 37 | U12: 37 | V12: 37 | W12: 37 | X12: F | Y12: F | Z12: F | AA12: F | AB12: L | AC12: L | AD12: L | AE12: F | AF12: 29 | AG12: 29 | AH12: 29 | AI12: 29 | AJ12: F | AK12: F | AL12: F | AM12: F | AN12: B | AO12: F | AP12: F | AQ12: CC | AR12: CC | CN12: =D12 -> PERSONNE 3 | DK12: PERSONNE 8
A13: 0.011111111 | B13: =SUM(F13-E13)-G13+A13 -> 0.29166667 | C13: =IF(ISNA(VLOOKUP(D13,[1]listing!$A$1:$E$80,4,FALSE)),"NN",VLOOKUP(D13,[1]listing!$A$1:$E$80,4,FALSE)) -> 79 | D13: MARION | E13: 36526.396 | F13: 36526.718 | G13: 0.041666667 | N13: F | O13: F | P13: 20 | Q13: 20 | R13: 20 | S13: 20 | T13: 20 | U13: 20 | V13: 20 | W13: 20 | X13: F | Y13: F | Z13: F | AA13: F | AB13: L | AC13: L | AD13: L | AE13: F | AF13: 10 | AG13: 10 | AH13: 10 | AI13: 10 | AJ13: 10 | AK13: 10 | AL13: 10 | AM13: 10 | AN13: B | AO13: F | AP13: F | AQ13: CC | AR13: CC | CN13: =D13 -> MARION
A14: 0.011111111 | B14: =SUM(F14-E14)-G14+A14 -> 0.29166667 | C14: =IF(ISNA(VLOOKUP(D14,[1]listing!$A$1:$E$80,4,FALSE)),"NN",VLOOKUP(D14,[1]listing!$A$1:$E$80,4,FALSE)) -> NN | D14: PERSONNE 4 | E14: 36526.458 | F14: 36526.781 | G14: 0.041666667 | T14: F | U14: 10 | V14: 10 | W14: 10 | X14: 10 | Y14: 24 | Z14: 24 | AA14: 24 | AB14: K | AC14: 10 | AD14: 10 | AE14: 10 | AF14: L | AG14: L | AH14: L | AI14: F | AJ14: 12 | AK14: 12 | AL14: 12 | AM14: 12 | AN14: 12 | AO14: 12 | AP14: 12 | AQ14: 12 | AR14: 12 | AS14: 12 | AT14: 12 | AU14: 12 | AV14: B | AW14: CC | AX14: CC | CN14: =D14 -> PERSONNE 4
A15: 0.011111111 | B15: =SUM(F15-E15)-G15+A15 -> 0.29166667 | C15: =IF(ISNA(VLOOKUP(D15,[1]listing!$A$1:$E$80,4,FALSE)),"NN",VLOOKUP(D15,[1]listing!$A$1:$E$80,4,FALSE)) -> 23 | D15: CHLOE | E15: 36526.458 | F15: 36526.781 | G15: 0.041666667 | T15: F | U15: 29 | V15: 29 | W15: 29 | X15: 29 | Y15: 29 | Z15: 29 | AA15: 29 | AB15: F | AC15: F | AD15: F | AE15: F | AF15: L | AG15: L | AH15: L | AI15: F | AJ15: 11 | AK15: 11 | AL15: 11 | AM15: 11 | AN15: 11 | AO15: 11 | AP15: 11 | AQ15: 11 | AR15: 11 | AS15: 11 | AT15: 11 | AU15: 11 | AV15: B | AW15: CC | AX15: CC | CN15: =D15 -> CHLOE
A16: 0.011111111 | B16: =SUM(F16-E16)-G16+A16 -> 0.29166667 | C16: =IF(ISNA(VLOOKUP(D16,[1]listing!$A$1:$E$80,4,FALSE)),"NN",VLOOKUP(D16,[1]listing!$A$1:$E$80,4,FALSE)) -> 19 | D16: AGATHE | E16: 36526.458 | F16: 36526.781 | G16: 0.041666667 | T16: F | U16: F | V16: F | W16: F | X16: F | Y16: F | Z16: F | AA16: F | AB16: F | AC16: F | AD16: F | AE16: F | AF16: L | AG16: L | AH16: L | AI16: F | AJ16: F | AK16: F | AL16: F | AM16: F | AN16: 10 | AO16: 10 | AP16: 10 | AQ16: 10 | AR16: 10 | AS16: 10 | AT16: 10 | AU16: 10 | AV16: B | AW16: CC | AX16: CC | CN16: =D16 -> AGATHE
A17: 0.011111111 | B17: =SUM(F17-E17)-G17+A17 -> 0.29166667 | C17: =IF(ISNA(VLOOKUP(D17,[1]listing!$A$1:$E$80,4,FALSE)),"NN",VLOOKUP(D17,[1]listing!$A$1:$E$80,4,FALSE)) -> 53 | D17: WILSON | E17: 36526.49 | F17: 36526.812 | G17: 0.041666667 | W17: F | X17: 11 | Y17: 11 | Z17: 11 | AA17: 11 | AB17: 11 | AC17: 11 | AD17: 11 | AE17: 11 | AF17: 11 | AG17: 11 | AH17: 11 | AI17: 11 | AJ17: L | AK17: L | AL17: L | AM17: F | AN17: 20 | AO17: 20 | AP17: 20 | AQ17: 20 | AR17: 20 | AS17: 20 | AT17: 20 | AU17: 20 | AV17: B | AW17: TDC | AZ17: CC | BA17: CC | CN17: =D17 -> WILSON
A18: 0.011111111 | B18: =SUM(F18-E18)-G18+A18 -> 0.29166667 | C18: =IF(ISNA(VLOOKUP(D18,[1]listing!$A$1:$E$80,4,FALSE)),"NN",VLOOKUP(D18,[1]listing!$A$1:$E$80,4,FALSE)) -> NN | D18: RYAN | E18: 36526.49 | F18: 36526.812 | G18: 0.041666667 | H18: I | W18: F | X18: 23 | Y18: 23 | Z18: 23 | AA18: 23 | AB18: 23 | AC18: 23 | AD18: 23 | AE18: 23 | AF18: 23 | AG18: 23 | AH18: 23 | AI18: 23 | AJ18: L | AK18: L | AL18: L | AM18: F | AN18: F | AO18: F | AP18: F | AQ18: F | AR18: F | AS18: F | AT18: F | AU18: F | AV18: B | AW18: SAC | AZ18: CC | BA18: CC | CN18: =D18 -> RYAN
A19: 0.011111111 | B19: =SUM(F19-E19)-G19+A19 -> 0.29166667 | C19: =IF(ISNA(VLOOKUP(D19,[1]listing!$A$1:$E$80,4,FALSE)),"NN",VLOOKUP(D19,[1]listing!$A$1:$E$80,4,FALSE)) -> NN | D19: MICHEL | E19: 36526.49 | F19: 36526.812 | G19: 0.041666667 | W19: F | X19: 24 | Y19: 24 | Z19: 24 | AA19: 24 | AB19: 24 | AC19: 24 | AD19: 24 | AE19: 24 | AF19: 24 | AG19: 24 | AH19: 24 | AI19: 24 | AJ19: L | AK19: L | AL19: L | AM19: F | AN19: F | AO19: F | AP19: F | AQ19: F | AR19: F | AS19: F | AT19: F | AU19: F | AV19: B | AW19: SAC | AZ19: CC | BA19: CC | CN19: =D19 -> MICHEL
A20: 0.011111111 | B20: =SUM(F20-E20)-G20+A20 -> 0.29166667 | C20: =IF(ISNA(VLOOKUP(D20,[1]listing!$A$1:$E$80,4,FALSE)),"NN",VLOOKUP(D20,[1]listing!$A$1:$E$80,4,FALSE)) -> NN | D20: PERSONNE 5 | E20: 36526.49 | F20: 36526.812 | G20: 0.041666667 | W20: F | X20: 26 | Y20: 26 | Z20: 26 | AA20: K | AB20: 24 | AC20: 24 | AD20: 24 | AE20: 24 | AF20: 26 | AG20: 23 | AH20: 26 | AI20: 26 | AJ20: L | AK20: L | AL20: L | AM20: F | AN20: F | AO20: F | AP20: F | AQ20: F | AR20: F | AS20: F | AT20: F | AU20: F | AV20: B | AW20: FRIGO | AZ20: CC | BA20: CC | CN20: =D20 -> PERSONNE 5
A21: 0.011111111 | B21: =SUM(F21-E21)-G21+A21 -> 0.14583333 | C21: =IF(ISNA(VLOOKUP(D21,[1]listing!$A$1:$E$80,4,FALSE)),"NN",VLOOKUP(D21,[1]listing!$A$1:$E$80,4,FALSE)) -> NN | D21: PERSONNE 2 | E21: 36526.49 | F21: 36526.625 | G21: 0 | W21: F | X21: 24 | Y21: 24 | Z21: 24 | AA21: K | AB21: K | AC21: 23 | AD21: 23 | AE21: F | AF21: CC | AG21: CC | AH21: F | AI21: F | CN21: =D21 -> PERSONNE 2
A22: 0.011111111 | B22: =SUM(F22-E22)-G22+A22 -> 0.33333333 | C22: =IF(ISNA(VLOOKUP(D22,[1]listing!$A$1:$E$80,4,FALSE)),"NN",VLOOKUP(D22,[1]listing!$A$1:$E$80,4,FALSE)) -> 9 | D22: LAURINE L | E22: 36526.49 | F22: 36526.854 | G22: 0.041666667 | W22: F | X22: 30 | Y22: 30 | Z22: 30 | AA22: 30 | AB22: 30 | AC22: 30 | AD22: 30 | AE22: 30 | AF22: 30 | AG22: 30 | AH22: 30 | AI22: 30 | AJ22: L | AK22: L | AL22: L | AM22: F | AN22: F | AO22: F | AP22: F | AQ22: F | AR22: F | AS22: F | AT22: F | AU22: F | AV22: B | AW22: F | AX22: F | AY22: F | AZ22: F | BA22: F | BB22: F | BC22: F | BD22: CC | BE22: CC | CN22: =D22 -> LAURINE L
A23: 0.011111111 | B23: =SUM(F23-E23)-G23+A23 -> 0.33333333 | C23: =IF(ISNA(VLOOKUP(D23,[1]listing!$A$1:$E$80,4,FALSE)),"NN",VLOOKUP(D23,[1]listing!$A$1:$E$80,4,FALSE)) -> 47 | D23: ENZO | E23: 36526.49 | F23: 36526.854 | G23: 0.041666667 | W23: F | X23: 35 | Y23: 35 | Z23: 35 | AA23: 35 | AB23: 35 | AC23: 35 | AD23: 35 | AE23: 35 | AF23: 35 | AG23: 35 | AH23: 35 | AI23: 35 | AJ23: L | AK23: L | AL23: L | AM23: F | AN23: F | AO23: F | AP23: F | AQ23: F | AR23: F | AS23: F | AT23: F | AU23: F | AV23: B | AW23: F | AX23: F | AY23: F | AZ23: F | BA23: F | BB23: F | BC23: F | BD23: CC | BE23: CC | CN23: =D23 -> ENZO
A24: 0.011111111 | B24: =SUM(F24-E24)-G24+A24 -> 0.36458333 | C24: =IF(ISNA(VLOOKUP(D24,[1]listing!$A$1:$E$80,4,FALSE)),"NN",VLOOKUP(D24,[1]listing!$A$1:$E$80,4,FALSE)) -> 10 | D24: DENIS | E24: 36526.5 | F24: 36526.906 | G24: 0.052083333 | X24: F | Y24: F | Z24: F | AA24: F | AB24: F | AC24: F | AD24: F | AE24: F | AF24: F | AG24: F | AH24: F | AI24: F | AJ24: L | AK24: L | AL24: L | AM24: F | AN24: F | AO24: F | AP24: F | AQ24: F | AR24: F | AS24: F | AT24: F | AU24: F | AV24: B | AW24: F | AX24: F | AY24: F | AZ24: F | BA24: F | BB24: F | BC24: F | BD24: B | BE24: CC | BF24: CC | BG24: F | BH24: F | BI24: F | BJ24: F | CN24: =D24 -> DENIS
A25: 0.011111111 | B25: =SUM(F25-E25)-G25+A25 -> 0.36458333 | C25: =IF(ISNA(VLOOKUP(D25,[1]listing!$A$1:$E$80,4,FALSE)),"NN",VLOOKUP(D25,[1]listing!$A$1:$E$80,4,FALSE)) -> NN | D25: PERSONNE 1 | E25: 36526.5 | F25: 36526.906 | G25: 0.052083333 | X25: F | Y25: F | Z25: F | AA25: F | AB25: F | AC25: 23 | AD25: 24 | AE25: F | AF25: 24 | AG25: 24 | AH25: 24 | AI25: K | AJ25: L | AK25: L | AL25: L | AM25: F | AN25: F | AO25: F | AP25: F | AQ25: F | AR25: F | AS25: F | AT25: F | AU25: F | AV25: B | AW25: F | AX25: F | AY25: F | AZ25: F | BA25: F | BB25: F | BC25: F | BD25: B | BE25: CC | BF25: CC | BG25: F | BH25: F | BI25: F | BJ25: F | CN25: =D25 -> PERSONNE 1
A26: 0.011111111 | B26: =SUM(F26-E26)-G26+A26 -> 0.33333333 | C26: =IF(ISNA(VLOOKUP(D26,[1]listing!$A$1:$E$80,4,FALSE)),"NN",VLOOKUP(D26,[1]listing!$A$1:$E$80,4,FALSE)) -> 32 | D26: NOEMIE | E26: 36526.542 | F26: 36526.906 | G26: 0.041666667 | AB26: F | AC26: F | AD26: F | AE26: F | AF26: F | AG26: F | AH26: F | AI26: F | AJ26: F | AK26: F | AL26: F | AM26: F | AN26: L | AO26: L | AP26: L | AQ26: F | AR26: F | AS26: F | AT26: F | AU26: F | AV26: F | AW26: F | AX26: F | AY26: F | AZ26: F | BA26: F | BB26: F | BC26: F | BD26: B | BE26: CC | BF26: CC | BG26: F | BH26: F | BI26: F | BJ26: F | CN26: =D26 -> NOEMIE
A27: 0.011111111 | B27: =SUM(F27-E27)-G27+A27 -> 0.29166667 | C27: =IF(ISNA(VLOOKUP(D27,[1]listing!$A$1:$E$80,4,FALSE)),"NN",VLOOKUP(D27,[1]listing!$A$1:$E$80,4,FALSE)) -> 25 | D27: SABRYA | E27: 36526.583 | F27: 36526.906 | G27: 0.041666667 | AF27: F | AG27: F | AH27: F | AI27: F | AJ27: 24 | AK27: 24 | AL27: 24 | AM27: 24 | AN27: 24 | AO27: 24 | AP27: 24 | AQ27: 24 | AR27: L | AS27: L | AT27: L | AU27: F | AV27: 11 | AW27: 11 | AX27: 11 | AY27: 11 | AZ27: 11 | BA27: 11 | BB27: 11 | BC27: 11 | BD27: B | BE27: CC | BF27: CC | BG27: F | BH27: F | BI27: F | BJ27: F | CN27: =D27 -> SABRYA
A28: 0.011111111 | B28: =SUM(F28-E28)-G28+A28 -> 0.29166667 | C28: =IF(ISNA(VLOOKUP(D28,[1]listing!$A$1:$E$80,4,FALSE)),"NN",VLOOKUP(D28,[1]listing!$A$1:$E$80,4,FALSE)) -> NN | D28: HELINA | E28: 36526.583 | F28: 36526.906 | G28: 0.041666667 | AF28: F | AG28: F | AH28: F | AI28: F | AJ28: F | AK28: F | AL28: F | AM28: F | AN28: F | AO28: F | AP28: F | AQ28: F | AR28: L | AS28: L | AT28: L | AU28: F | AV28: 29 | AW28: 29 | AX28: 29 | AY28: 29 | AZ28: 29 | BA28: 29 | BB28: 29 | BC28: 29 | BD28: B | BE28: CC | BF28: CC | BG28: F | BH28: F | BI28: F | BJ28: F | CN28: =D28 -> HELINA
A29: 0.011111111 | B29: =SUM(F29-E29)-G29+A29 -> 0.29166667 | C29: =IF(ISNA(VLOOKUP(D29,[1]listing!$A$1:$E$80,4,FALSE)),"NN",VLOOKUP(D29,[1]listing!$A$1:$E$80,4,FALSE)) -> NN | D29: LAURA M | E29: 36526.583 | F29: 36526.906 | G29: 0.041666667 | AF29: F | AG29: F | AH29: F | AI29: F | AJ29: F | AK29: F | AL29: F | AM29: F | AN29: F | AO29: F | AP29: F | AQ29: F | AR29: L | AS29: L | AT29: L | AU29: F | AV29: F | AW29: F | AX29: F | AY29: F | AZ29: F | BA29: F | BB29: F | BC29: F | BD29: B | BE29: CC | BF29: CC | BG29: F | BH29: F | BI29: F | BJ29: F | CN29: =D29 -> LAURA M
A30: 0.011111111 | B30: =SUM(F30-E30)-G30+A30 -> 0.29166667 | C30: =IF(ISNA(VLOOKUP(D30,[1]listing!$A$1:$E$80,4,FALSE)),"NN",VLOOKUP(D30,[1]listing!$A$1:$E$80,4,FALSE)) -> NN | D30: MAEHVA | E30: 36526.583 | F30: 36526.906 | G30: 0.041666667 | AF30: F | AG30: F | AH30: F | AI30: F | AJ30: F | AK30: F | AL30: F | AM30: F | AN30: F | AO30: F | AP30: F | AQ30: F | AR30: L | AS30: L | AT30: L | AU30: F | AV30: 10 | AW30: 10 | AX30: 10 | AY30: 10 | AZ30: 10 | BA30: 10 | BB30: 10 | BC30: 10 | BD30: B | BE30: CC | BF30: CC | BG30: F | BH30: F | BI30: F | BJ30: F | CN30: =D30 -> MAEHVA
A31: 0.011111111 | B31: =SUM(F31-E31)-G31+A31 -> 0.29166667 | C31: =IF(ISNA(VLOOKUP(D31,[1]listing!$A$1:$E$80,4,FALSE)),"NN",VLOOKUP(D31,[1]listing!$A$1:$E$80,4,FALSE)) -> NN | D31: EMILIE | E31: 36526.583 | F31: 36526.906 | G31: 0.041666667 | AF31: F | AG31: F | AH31: F | AI31: F | AJ31: F | AK31: F | AL31: F | AM31: F | AN31: L | AO31: L | AP31: L | AQ31: F | AR31: 26 | AS31: 26 | AT31: 26 | AU31: 26 | AV31: 26 | AW31: 26 | AX31: 26 | AY31: 26 | AZ31: 26 | BA31: 26 | BB31: 26 | BC31: 26 | BD31: B | BE31: CC | BF31: CC | BG31: F | BH31: F | BI31: F | BJ31: F | CN31: =D31 -> EMILIE
A32: 0.011111111 | B32: =SUM(F32-E32)-G32+A32 -> 0.29166667 | C32: =IF(ISNA(VLOOKUP(D32,[1]listing!$A$1:$E$80,4,FALSE)),"NN",VLOOKUP(D32,[1]listing!$A$1:$E$80,4,FALSE)) -> NN | D32: KITTI | E32: 36526.583 | F32: 36526.906 | G32: 0.041666667 | H32: XC | AF32: F | AG32: F | AH32: F | AI32: F | AJ32: F | AK32: K | AL32: F | AM32: F | AN32: L | AO32: L | AP32: L | AQ32: F | AR32: 23 | AS32: 23 | AT32: 23 | AU32: 23 | AV32: 23 | AW32: 23 | AX32: 23 | AY32: 23 | AZ32: 23 | BA32: 23 | BB32: 23 | BC32: 23 | BD32: B | BE32: CC | BF32: CC | BG32: F | BH32: F | BI32: F | BJ32: F | CN32: =D32 -> KITTI
A33: 0.011111111 | B33: =SUM(F33-E33)-G33+A33 -> 0.29166667 | C33: =IF(ISNA(VLOOKUP(D33,[1]listing!$A$1:$E$80,4,FALSE)),"NN",VLOOKUP(D33,[1]listing!$A$1:$E$80,4,FALSE)) -> 13 | D33: LAURINE | E33: 36526.583 | F33: 36526.906 | G33: 0.041666667 | H33: XC | AF33: F | AG33: TDC | AJ33: F | AK33: F | AL33: F | AM33: F | AN33: L | AO33: L | AP33: L | AQ33: F | AR33: 24 | AS33: 24 | AT33: 24 | AU33: 24 | AV33: 24 | AW33: 24 | AX33: 24 | AY33: 24 | AZ33: 24 | BA33: 24 | BB33: 24 | BC33: 24 | BD33: B | BE33: CC | BF33: CC | BG33: F | BH33: F | BI33: F | BJ33: F | CN33: =D33 -> LAURINE
A34: 0.011111111 | B34: =SUM(F34-E34)-G34+A34 -> 0.29166667 | C34: =IF(ISNA(VLOOKUP(D34,[1]listing!$A$1:$E$80,4,FALSE)),"NN",VLOOKUP(D34,[1]listing!$A$1:$E$80,4,FALSE)) -> 24 | D34: JOEL | E34: 36526.583 | F34: 36526.906 | G34: 0.041666667 | H34: P | AF34: F | AG34: TDC | AJ34: F | AK34: 23 | AL34: 10 | AM34: 12 | AN34: L | AO34: L | AP34: L | AQ34: F | AR34: 13 | AS34: 35 | AT34: 35 | AU34: 35 | AV34: 10 | AW34: 35 | AX34: 35 | AY34: 35 | AZ34: 35 | BA34: 35 | BB34: 35 | BC34: 35 | BD34: B | BE34: CC | BF34: CC | BG34: F | BH34: F | BI34: F | BJ34: F | CN34: =D34 -> JOEL
A35: 0.011111111 | B35: =SUM(F35-E35)-G35+A35 -> 0.29166667 | C35: =IF(ISNA(VLOOKUP(D35,[1]listing!$A$1:$E$80,4,FALSE)),"NN",VLOOKUP(D35,[1]listing!$A$1:$E$80,4,FALSE)) -> 34 | D35: JENNIFER | E35: 36526.583 | F35: 36526.906 | G35: 0.041666667 | H35: I | AF35: F | AG35: SAC | AJ35: F | AK35: F | AL35: K | AM35: F | AN35: L | AO35: L | AP35: L | AQ35: F | AR35: 37 | AS35: 37 | AT35: 37 | AU35: 37 | AV35: 24 | AW35: 24 | AX35: 24 | AY35: 24 | AZ35: 37 | BA35: 37 | BB35: 37 | BC35: 37 | BD35: B | BE35: CC | BF35: CC | BG35: F | BH35: F | BI35: F | BJ35: F | CN35: =D35 -> JENNIFER
A36: 0.011111111 | B36: =SUM(F36-E36)-G36+A36 -> 0.29166667 | C36: =IF(ISNA(VLOOKUP(D36,[1]listing!$A$1:$E$80,4,FALSE)),"NN",VLOOKUP(D36,[1]listing!$A$1:$E$80,4,FALSE)) -> 16 | D36: ADELINE | E36: 36526.583 | F36: 36526.906 | G36: 0.041666667 | AF36: F | AG36: SAC | AJ36: 26 | AK36: 26 | AL36: 26 | AM36: 26 | AN36: 26 | AO36: 26 | AP36: 26 | AQ36: 26 | AR36: L | AS36: L | AT36: L | AU36: F | AV36: F | AW36: F | AX36: F | AY36: F | AZ36: F | BA36: F | BB36: F | BC36: F | BD36: B | BE36: CC | BF36: CC | BG36: F | BH36: F | BI36: F | BJ36: F | CN36: =D36 -> ADELINE
A37: 0.011111111 | B37: =SUM(F37-E37)-G37+A37 -> 0.29166667 | C37: =IF(ISNA(VLOOKUP(D37,[1]listing!$A$1:$E$80,4,FALSE)),"NN",VLOOKUP(D37,[1]listing!$A$1:$E$80,4,FALSE)) -> 39 | D37: GEMA | E37: 36526.583 | F37: 36526.906 | G37: 0.041666667 | AF37: F | AG37: FRIGO | AJ37: 30 | AK37: 30 | AL37: 30 | AM37: 30 | AN37: 30 | AO37: 30 | AP37: 30 | AQ37: 30 | AR37: L | AS37: L | AT37: L | AU37: F | AV37: F | AW37: F | AX37: F | AY37: F | AZ37: F | BA37: F | BB37: F | BC37: F | BD37: B | BE37: CC | BF37: CC | BG37: F | BH37: F | BI37: F | BJ37: F | CN37: =D37 -> GEMA
A38: 0.011111111 | B38: =SUM(F38-E38)-G38+A38 -> 0.29166667 | C38: =IF(ISNA(VLOOKUP(D38,[1]listing!$A$1:$E$80,4,FALSE)),"NN",VLOOKUP(D38,[1]listing!$A$1:$E$80,4,FALSE)) -> 46 | D38: LAURA | E38: 36526.583 | F38: 36526.906 | G38: 0.041666667 | AF38: F | AG38: FRIGO | AJ38: 35 | AK38: 35 | AL38: 35 | AM38: 35 | AN38: 35 | AO38: 35 | AP38: 35 | AQ38: 35 | AR38: L | AS38: L | AT38: L | AU38: F | AV38: 20 | AW38: 20 | AX38: 20 | AY38: 20 | AZ38: 20 | BA38: 20 | BB38: 20 | BC38: 20 | BD38: B | BE38: CC | BF38: CC | BG38: F | BH38: F | BI38: F | BJ38: F | CN38: =D38 -> LAURA
A39: 0.011111111 | B39: =SUM(F39-E39)-G39+A39 -> 0.29166667 | C39: =IF(ISNA(VLOOKUP(D39,[1]listing!$A$1:$E$80,4,FALSE)),"NN",VLOOKUP(D39,[1]listing!$A$1:$E$80,4,FALSE)) -> 49 | D39: ANNE | E39: 36526.583 | F39: 36526.906 | G39: 0.041666667 | AF39: F | AG39: POUBELLES | AJ39: 37 | AK39: 37 | AL39: 37 | AM39: 37 | AN39: 37 | AO39: 37 | AP39: 37 | AQ39: 37 | AR39: L | AS39: L | AT39: L | AU39: F | AV39: F | AW39: F | AX39: F | AY39: F | AZ39: F | BA39: F | BB39: F | BC39: F | BD39: B | BE39: CC | BF39: CC | BG39: F | BH39: F | BI39: F | BJ39: F | CN39: =D39 -> ANNE
A40: 0.011111111 | B40: =SUM(F40-E40)-G40+A40 -> 0.29166667 | C40: =IF(ISNA(VLOOKUP(D40,[1]listing!$A$1:$E$80,4,FALSE)),"NN",VLOOKUP(D40,[1]listing!$A$1:$E$80,4,FALSE)) -> 11 | D40: MARIA STEFANIA | E40: 36526.583 | F40: 36526.906 | G40: 0.041666667 | AF40: F | AG40: POUBELLES | AJ40: F | AK40: F | AL40: F | AM40: F | AN40: F | AO40: F | AP40: F | AQ40: F | AR40: L | AS40: L | AT40: L | AU40: F | AV40: 30 | AW40: 30 | AX40: 30 | AY40: 30 | AZ40: 30 | BA40: 30 | BB40: 30 | BC40: 30 | BD40: B | BE40: CC | BF40: CC | BG40: F | BH40: F | BI40: F | BJ40: F | CN40: =D40 -> MARIA STEFANIA
...

Sheet LUNDI26
G1: HAP | J1: REEL | P1: ECART
DH2: =J2*24 -> 0 | DK2: REEL
DH3: =G2*24 -> 0 | DK3: HAP
C4: FC | D4: NOM CMS | E4: SHIFT | G4: PAUSE | H4: 8H | L4: 9H | P4: 10H | T4: 11H | X4: 12H | AB4: 13H | AF4: 14H | AJ4: 15H | AN4: 16H | AR4: 17H | AV4: 18H | AZ4: 19H | BD4: 20H | BH4: 21H | BL4: 22H | BP4: 23H | BT4: 00H | BX4: 01H00 | CB4: 02H00 | CF4: BREAK | CJ4: LUNCH
A5: 0.011111111 | B5: =SUM(F5-E5)-G5+A5 -> 0.29166667 | C5: =IF(ISNA(VLOOKUP(D5,[1]listing!$A$1:$E$80,4,FALSE)),"NN",VLOOKUP(D5,[1]listing!$A$1:$E$80,4,FALSE)) -> 48 | D5: MELANIE B | E5: 36526.323 | F5: 36526.645 | G5: 0.041666667 | H5: 12 | I5: 12 | J5: 12 | K5: 12 | L5: 12 | M5: 12 | N5: 12 | O5: 12 | P5: B | Q5: 12 | R5: 12 | S5: 12 | T5: 12 | U5: 12 | V5: 12 | W5: 12 | X5: L | Y5: L | Z5: L | AA5: F | AB5: F | AC5: F | AD5: F | AE5: F | AF5: F | AG5: F | AH5: F | AI5: F | AJ5: CC | AK5: CC | CN5: =D5 -> MELANIE B
A6: 0.011111111 | B6: =SUM(F6-E6)-G6+A6 -> 0.29166667 | C6: =IF(ISNA(VLOOKUP(D6,[1]listing!$A$1:$E$80,4,FALSE)),"NN",VLOOKUP(D6,[1]listing!$A$1:$E$80,4,FALSE)) -> 62 | D6: TIFFANY | E6: 36526.323 | F6: 36526.645 | G6: 0.041666667 | H6: 11 | I6: 11 | J6: 11 | K6: 11 | L6: 11 | M6: 11 | N6: 11 | O6: B | P6: 11 | Q6: 11 | R6: 11 | S6: 11 | T6: 11 | U6: 11 | V6: 11 | W6: 11 | X6: L | Y6: L | Z6: L | AA6: F | AB6: F | AC6: F | AD6: F | AE6: F | AF6: F | AG6: F | AH6: F | AI6: F | AJ6: CC | AK6: CC | CN6: =D6 -> TIFFANY
A7: 0.011111111 | B7: =SUM(F7-E7)-G7+A7 -> 0.29166667 | C7: =IF(ISNA(VLOOKUP(D7,[1]listing!$A$1:$E$80,4,FALSE)),"NN",VLOOKUP(D7,[1]listing!$A$1:$E$80,4,FALSE)) -> 65 | D7: GUILLAUME | E7: 36526.323 | F7: 36526.645 | G7: 0.041666667 | H7: 23 | I7: 23 | J7: 23 | K7: 23 | L7: 23 | M7: 23 | N7: 23 | O7: 23 | P7: B | Q7: 23 | R7: 23 | S7: 23 | T7: 23 | U7: 23 | V7: 23 | W7: 23 | X7: L | Y7: L | Z7: L | AA7: F | AB7: F | AC7: F | AD7: F | AE7: F | AF7: F | AG7: F | AH7: F | AI7: F | AJ7: CC | AK7: CC | CN7: =D7 -> GUILLAUME
A8: 0.011111111 | B8: =SUM(F8-E8)-G8+A8 -> 0.33333333 | C8: =IF(ISNA(VLOOKUP(D8,[1]listing!$A$1:$E$80,4,FALSE)),"NN",VLOOKUP(D8,[1]listing!$A$1:$E$80,4,FALSE)) -> 59 | D8: BIETRIX | E8: 36526.323 | F8: 36526.687 | G8: 0.041666667 | H8: 24 | I8: 24 | J8: 24 | K8: 24 | L8: 24 | M8: 24 | N8: 24 | O8: B | P8: 24 | Q8: 24 | R8: 24 | S8: 24 | T8: 24 | U8: 24 | V8: 24 | W8: 24 | X8: L | Y8: L | Z8: L | AA8: F | AB8: 29 | AC8: 29 | AD8: 29 | AE8: 29 | AF8: F | AG8: F | AH8: F | AI8: F | AJ8: F | AK8: F | AL8: F | AM8: F | AN8: CC | AO8: CC | CN8: =D8 -> BIETRIX
A9: 0.011111111 | B9: =SUM(F9-E9)-G9+A9 -> 0.29166667 | C9: =IF(ISNA(VLOOKUP(D9,[1]listing!$A$1:$E$80,4,FALSE)),"NN",VLOOKUP(D9,[1]listing!$A$1:$E$80,4,FALSE)) -> 14 | D9: MELANIE P | E9: 36526.396 | F9: 36526.718 | G9: 0.041666667 | N9: F | O9: F | P9: 26 | Q9: 26 | R9: 26 | S9: 26 | T9: 26 | U9: 26 | V9: 26 | W9: 26 | X9: F | Y9: F | Z9: F | AA9: F | AB9: L | AC9: L | AD9: L | AE9: F | AF9: 20 | AG9: 20 | AH9: 20 | AI9: 20 | AJ9: 20 | AK9: 20 | AL9: 20 | AM9: 20 | AN9: B | AO9: F | AP9: F | AQ9: CC | AR9: CC | CN9: =D9 -> MELANIE P
A10: 0.011111111 | B10: =SUM(F10-E10)-G10+A10 -> 0.29166667 | C10: =IF(ISNA(VLOOKUP(D10,[1]listing!$A$1:$E$80,4,FALSE)),"NN",VLOOKUP(D10,[1]listing!$A$1:$E$80,4,FALSE)) -> 26 | D10: CYRIELLE | E10: 36526.396 | F10: 36526.718 | G10: 0.041666667 | N10: F | O10: F | P10: 30 | Q10: 30 | R10: 30 | S10: 30 | T10: 30 | U10: 30 | V10: 30 | W10: 30 | X10: F | Y10: F | Z10: F | AA10: F | AB10: L | AC10: L | AD10: L | AE10: F | AF10: F | AG10: F | AH10: F | AI10: F | AJ10: F | AK10: F | AL10: F | AM10: F | AN10: B | AO10: F | AP10: F | AQ10: CC | AR10: CC | CN10: =D10 -> CYRIELLE
A11: 0.011111111 | B11: =SUM(F11-E11)-G11+A11 -> 0.29166667 | C11: =IF(ISNA(VLOOKUP(D11,[1]listing!$A$1:$E$80,4,FALSE)),"NN",VLOOKUP(D11,[1]listing!$A$1:$E$80,4,FALSE)) -> 37 | D11: KYLLIAN | E11: 36526.396 | F11: 36526.718 | G11: 0.041666667 | N11: F | O11: F | P11: 35 | Q11: 35 | R11: 35 | S11: 35 | T11: 35 | U11: 35 | V11: 35 | W11: 35 | X11: F | Y11: F | Z11: F | AA11: F | AB11: L | AC11: L | AD11: L | AE11: F | AF11: F | AG11: F | AH11: F | AI11: F | AJ11: F | AK11: F | AL11: F | AM11: F | AN11: B | AO11: F | AP11: F | AQ11: CC | AR11: CC | CN11: =D11 -> KYLLIAN
A12: 0.011111111 | B12: =SUM(F12-E12)-G12+A12 -> 0.29166667 | C12: =IF(ISNA(VLOOKUP(D12,[1]listing!$A$1:$E$80,4,FALSE)),"NN",VLOOKUP(D12,[1]listing!$A$1:$E$80,4,FALSE)) -> 41 | D12: FATIHA | E12: 36526.396 | F12: 36526.718 | G12: 0.041666667 | N12: F | O12: F | P12: 37 | Q12: 37 | R12: 37 | S12: 37 | T12: 37 | U12: 37 | V12: 37 | W12: 37 | X12: F | Y12: F | Z12: F | AA12: F | AB12: L | AC12: L | AD12: L | AE12: F | AF12: 29 | AG12: 29 | AH12: 29 | AI12: 29 | AJ12: F | AK12: F | AL12: F | AM12: F | AN12: B | AO12: F | AP12: F | AQ12: CC | AR12: CC | CN12: =D12 -> FATIHA
A13: 0.011111111 | B13: =SUM(F13-E13)-G13+A13 -> 0.29166667 | C13: =IF(ISNA(VLOOKUP(D13,[1]listing!$A$1:$E$80,4,FALSE)),"NN",VLOOKUP(D13,[1]listing!$A$1:$E$80,4,FALSE)) -> 79 | D13: MARION | E13: 36526.396 | F13: 36526.718 | G13: 0.041666667 | N13: F | O13: F | P13: 20 | Q13: 20 | R13: 20 | S13: 20 | T13: 20 | U13: 20 | V13: 20 | W13: 20 | X13: F | Y13: F | Z13: F | AA13: F | AB13: L | AC13: L | AD13: L | AE13: F | AF13: 10 | AG13: 10 | AH13: 10 | AI13: 10 | AJ13: 10 | AK13: 10 | AL13: 10 | AM13: 10 | AN13: B | AO13: F | AP13: F | AQ13: CC | AR13: CC | CN13: =D13 -> MARION
A14: 0.011111111 | B14: =SUM(F14-E14)-G14+A14 -> 0.29166667 | C14: =IF(ISNA(VLOOKUP(D14,[1]listing!$A$1:$E$80,4,FALSE)),"NN",VLOOKUP(D14,[1]listing!$A$1:$E$80,4,FALSE)) -> 1 | D14: GIULIA | E14: 36526.458 | F14: 36526.781 | G14: 0.041666667 | T14: F | U14: 10 | V14: 10 | W14: 10 | X14: 10 | Y14: 10 | Z14: 10 | AA14: 10 | AB14: 10 | AC14: 10 | AD14: 10 | AE14: 10 | AF14: L | AG14: L | AH14: L | AI14: F | AJ14: 12 | AK14: 12 | AL14: 12 | AM14: 12 | AN14: 12 | AO14: 12 | AP14: 12 | AQ14: 12 | AR14: 12 | AS14: 12 | AT14: 12 | AU14: 12 | AV14: B | AW14: CC | AX14: CC | CN14: =D14 -> GIULIA
A15: 0.011111111 | B15: =SUM(F15-E15)-G15+A15 -> 0.29166667 | C15: =IF(ISNA(VLOOKUP(D15,[1]listing!$A$1:$E$80,4,FALSE)),"NN",VLOOKUP(D15,[1]listing!$A$1:$E$80,4,FALSE)) -> 23 | D15: CHLOE | E15: 36526.458 | F15: 36526.781 | G15: 0.041666667 | T15: F | U15: 29 | V15: 29 | W15: 29 | X15: 29 | Y15: 29 | Z15: 29 | AA15: 29 | AB15: F | AC15: F | AD15: F | AE15: F | AF15: L | AG15: L | AH15: L | AI15: F | AJ15: 11 | AK15: 11 | AL15: 11 | AM15: 11 | AN15: 11 | AO15: 11 | AP15: 11 | AQ15: 11 | AR15: 11 | AS15: 11 | AT15: 11 | AU15: 11 | AV15: B | AW15: CC | AX15: CC | CN15: =D15 -> CHLOE
A16: 0.011111111 | B16: =SUM(F16-E16)-G16+A16 -> 0.29166667 | C16: =IF(ISNA(VLOOKUP(D16,[1]listing!$A$1:$E$80,4,FALSE)),"NN",VLOOKUP(D16,[1]listing!$A$1:$E$80,4,FALSE)) -> 19 | D16: AGATHE | E16: 36526.458 | F16: 36526.781 | G16: 0.041666667 | T16: F | U16: F | V16: F | W16: F | X16: F | Y16: F | Z16: F | AA16: F | AB16: F | AC16: F | AD16: F | AE16: F | AF16: L | AG16: L | AH16: L | AI16: F | AJ16: F | AK16: F | AL16: F | AM16: F | AN16: 10 | AO16: 10 | AP16: 10 | AQ16: 10 | AR16: 10 | AS16: 10 | AT16: 10 | AU16: 10 | AV16: B | AW16: CC | AX16: CC | CN16: =D16 -> AGATHE
A17: 0.011111111 | B17: =SUM(F17-E17)-G17+A17 -> 0.29166667 | C17: =IF(ISNA(VLOOKUP(D17,[1]listing!$A$1:$E$80,4,FALSE)),"NN",VLOOKUP(D17,[1]listing!$A$1:$E$80,4,FALSE)) -> 53 | D17: WILSON | E17: 36526.49 | F17: 36526.812 | G17: 0.041666667 | W17: F | X17: 11 | Y17: 11 | Z17: 11 | AA17: 11 | AB17: 11 | AC17: 11 | AD17: 11 | AE17: 11 | AF17: 11 | AG17: 11 | AH17: 11 | AI17: 11 | AJ17: L | AK17: L | AL17: L | AM17: F | AN17: 20 | AO17: 20 | AP17: 20 | AQ17: 20 | AR17: 20 | AS17: 20 | AT17: 20 | AU17: 20 | AV17: B | AW17: TDC | AZ17: CC | BA17: CC | CN17: =D17 -> WILSON
A18: 0.011111111 | B18: =SUM(F18-E18)-G18+A18 -> 0.29166667 | C18: =IF(ISNA(VLOOKUP(D18,[1]listing!$A$1:$E$80,4,FALSE)),"NN",VLOOKUP(D18,[1]listing!$A$1:$E$80,4,FALSE)) -> NN | D18: RYAN | E18: 36526.49 | F18: 36526.812 | G18: 0.041666667 | W18: F | X18: 23 | Y18: 23 | Z18: 23 | AA18: 23 | AB18: 23 | AC18: 23 | AD18: 23 | AE18: 23 | AF18: 23 | AG18: 23 | AH18: 23 | AI18: 23 | AJ18: L | AK18: L | AL18: L | AM18: F | AN18: F | AO18: F | AP18: F | AQ18: F | AR18: F | AS18: F | AT18: F | AU18: F | AV18: B | AW18: SAC | AZ18: CC | BA18: CC | CN18: =D18 -> RYAN
A19: 0.011111111 | B19: =SUM(F19-E19)-G19+A19 -> 0.29166667 | C19: =IF(ISNA(VLOOKUP(D19,[1]listing!$A$1:$E$80,4,FALSE)),"NN",VLOOKUP(D19,[1]listing!$A$1:$E$80,4,FALSE)) -> NN | D19: MICHEL | E19: 36526.49 | F19: 36526.812 | G19: 0.041666667 | W19: F | X19: 24 | Y19: 24 | Z19: 24 | AA19: 24 | AB19: 24 | AC19: 24 | AD19: 24 | AE19: 24 | AF19: 24 | AG19: 24 | AH19: 24 | AI19: 24 | AJ19: L | AK19: L | AL19: L | AM19: F | AN19: F | AO19: F | AP19: F | AQ19: F | AR19: F | AS19: F | AT19: F | AU19: F | AV19: B | AW19: SAC | AZ19: CC | BA19: CC | CN19: =D19 -> MICHEL
A20: 0.011111111 | B20: =SUM(F20-E20)-G20+A20 -> 0.29166667 | C20: =IF(ISNA(VLOOKUP(D20,[1]listing!$A$1:$E$80,4,FALSE)),"NN",VLOOKUP(D20,[1]listing!$A$1:$E$80,4,FALSE)) -> 36 | D20: MOHAMED | E20: 36526.49 | F20: 36526.812 | G20: 0.041666667 | W20: F | X20: 26 | Y20: 26 | Z20: 26 | AA20: 26 | AB20: 26 | AC20: 26 | AD20: 26 | AE20: 26 | AF20: 26 | AG20: 26 | AH20: 26 | AI20: 26 | AJ20: L | AK20: L | AL20: L | AM20: F | AN20: F | AO20: F | AP20: F | AQ20: F | AR20: F | AS20: F | AT20: F | AU20: F | AV20: B | AW20: FRIGO | AZ20: CC | BA20: CC | CN20: =D20 -> MOHAMED
A21: 0.011111111 | B21: =SUM(F21-E21)-G21+A21 -> 0.14583333 | C21: =IF(ISNA(VLOOKUP(D21,[1]listing!$A$1:$E$80,4,FALSE)),"NN",VLOOKUP(D21,[1]listing!$A$1:$E$80,4,FALSE)) -> 55 | D21: NORMA | E21: 36526.49 | F21: 36526.625 | G21: 0 | W21: F | X21: F | Y21: F | Z21: F | AA21: F | AB21: F | AC21: F | AD21: F | AE21: F | AF21: CC | AG21: CC | AH21: F | AI21: F | CN21: =D21 -> NORMA
A22: 0.011111111 | B22: =SUM(F22-E22)-G22+A22 -> 0.33333333 | C22: =IF(ISNA(VLOOKUP(D22,[1]listing!$A$1:$E$80,4,FALSE)),"NN",VLOOKUP(D22,[1]listing!$A$1:$E$80,4,FALSE)) -> 9 | D22: LAURINE L | E22: 36526.49 | F22: 36526.854 | G22: 0.041666667 | W22: F | X22: 30 | Y22: 30 | Z22: 30 | AA22: 30 | AB22: 30 | AC22: 30 | AD22: 30 | AE22: 30 | AF22: 30 | AG22: 30 | AH22: 30 | AI22: 30 | AJ22: L | AK22: L | AL22: L | AM22: F | AN22: F | AO22: F | AP22: F | AQ22: F | AR22: F | AS22: F | AT22: F | AU22: F | AV22: B | AW22: F | AX22: F | AY22: F | AZ22: F | BA22: F | BB22: F | BC22: F | BD22: CC | BE22: CC | CN22: =D22 -> LAURINE L
A23: 0.011111111 | B23: =SUM(F23-E23)-G23+A23 -> 0.33333333 | C23: =IF(ISNA(VLOOKUP(D23,[1]listing!$A$1:$E$80,4,FALSE)),"NN",VLOOKUP(D23,[1]listing!$A$1:$E$80,4,FALSE)) -> 47 | D23: ENZO | E23: 36526.49 | F23: 36526.854 | G23: 0.041666667 | W23: F | X23: 35 | Y23: 35 | Z23: 35 | AA23: 35 | AB23: 35 | AC23: 35 | AD23: 35 | AE23: 35 | AF23: 35 | AG23: 35 | AH23: 35 | AI23: 35 | AJ23: L | AK23: L | AL23: L | AM23: F | AN23: F | AO23: F | AP23: F | AQ23: F | AR23: F | AS23: F | AT23: F | AU23: F | AV23: B | AW23: F | AX23: F | AY23: F | AZ23: F | BA23: F | BB23: F | BC23: F | BD23: CC | BE23: CC | CN23: =D23 -> ENZO
A24: 0.011111111 | B24: =SUM(F24-E24)-G24+A24 -> 0.36458333 | C24: =IF(ISNA(VLOOKUP(D24,[1]listing!$A$1:$E$80,4,FALSE)),"NN",VLOOKUP(D24,[1]listing!$A$1:$E$80,4,FALSE)) -> NN | D24: PAUL | E24: 36526.5 | F24: 36526.906 | G24: 0.052083333 | X24: F | Y24: F | Z24: F | AA24: F | AB24: F | AC24: F | AD24: F | AE24: F | AF24: F | AG24: F | AH24: F | AI24: F | AJ24: L | AK24: L | AL24: L | AM24: F | AN24: F | AO24: F | AP24: F | AQ24: F | AR24: F | AS24: F | AT24: F | AU24: F | AV24: B | AW24: F | AX24: F | AY24: F | AZ24: F | BA24: F | BB24: F | BC24: F | BD24: B | BE24: CC | BF24: CC | BG24: F | BH24: F | BI24: F | BJ24: F | CN24: =D24 -> PAUL
A25: 0.011111111 | B25: =SUM(F25-E25)-G25+A25 -> 0.36458333 | C25: =IF(ISNA(VLOOKUP(D25,[1]listing!$A$1:$E$80,4,FALSE)),"NN",VLOOKUP(D25,[1]listing!$A$1:$E$80,4,FALSE)) -> 4 | D25: SANDRINE | E25: 36526.5 | F25: 36526.906 | G25: 0.052083333 | X25: F | Y25: F | Z25: F | AA25: F | AB25: F | AC25: F | AD25: F | AE25: F | AF25: F | AG25: F | AH25: F | AI25: F | AJ25: L | AK25: L | AL25: L | AM25: F | AN25: F | AO25: F | AP25: F | AQ25: F | AR25: F | AS25: F | AT25: F | AU25: F | AV25: B | AW25: F | AX25: F | AY25: F | AZ25: F | BA25: F | BB25: F | BC25: F | BD25: B | BE25: CC | BF25: CC | BG25: F | BH25: F | BI25: F | BJ25: F | CN25: =D25 -> SANDRINE
A26: 0.011111111 | B26: =SUM(F26-E26)-G26+A26 -> 0.33333333 | C26: =IF(ISNA(VLOOKUP(D26,[1]listing!$A$1:$E$80,4,FALSE)),"NN",VLOOKUP(D26,[1]listing!$A$1:$E$80,4,FALSE)) -> 32 | D26: NOEMIE | E26: 36526.542 | F26: 36526.906 | G26: 0.041666667 | AB26: F | AC26: F | AD26: F | AE26: F | AF26: F | AG26: F | AH26: F | AI26: F | AJ26: F | AK26: F | AL26: F | AM26: F | AN26: L | AO26: L | AP26: L | AQ26: F | AR26: F | AS26: F | AT26: F | AU26: F | AV26: F | AW26: F | AX26: F | AY26: F | AZ26: F | BA26: F | BB26: F | BC26: F | BD26: B | BE26: CC | BF26: CC | BG26: F | BH26: F | BI26: F | BJ26: F | CN26: =D26 -> NOEMIE
A27: 0.011111111 | B27: =SUM(F27-E27)-G27+A27 -> 0.29166667 | C27: =IF(ISNA(VLOOKUP(D27,[1]listing!$A$1:$E$80,4,FALSE)),"NN",VLOOKUP(D27,[1]listing!$A$1:$E$80,4,FALSE)) -> 25 | D27: SABRYA | E27: 36526.583 | F27: 36526.906 | G27: 0.041666667 | AF27: F | AG27: F | AH27: F | AI27: F | AJ27: 24 | AK27: 24 | AL27: 24 | AM27: 24 | AN27: 24 | AO27: 24 | AP27: 24 | AQ27: 24 | AR27: L | AS27: L | AT27: L | AU27: F | AV27: 11 | AW27: 11 | AX27: 11 | AY27: 11 | AZ27: 11 | BA27: 11 | BB27: 11 | BC27: 11 | BD27: B | BE27: CC | BF27: CC | BG27: F | BH27: F | BI27: F | BJ27: F | CN27: =D27 -> SABRYA
A28: 0.011111111 | B28: =SUM(F28-E28)-G28+A28 -> 0.29166667 | C28: =IF(ISNA(VLOOKUP(D28,[1]listing!$A$1:$E$80,4,FALSE)),"NN",VLOOKUP(D28,[1]listing!$A$1:$E$80,4,FALSE)) -> NN | D28: HELINA | E28: 36526.583 | F28: 36526.906 | G28: 0.041666667 | AF28: F | AG28: F | AH28: F | AI28: F | AJ28: F | AK28: F | AL28: F | AM28: F | AN28: F | AO28: F | AP28: F | AQ28: F | AR28: L | AS28: L | AT28: L | AU28: F | AV28: 29 | AW28: 29 | AX28: 29 | AY28: 29 | AZ28: 29 | BA28: 29 | BB28: 29 | BC28: 29 | BD28: B | BE28: CC | BF28: CC | BG28: F | BH28: F | BI28: F | BJ28: F | CN28: =D28 -> HELINA
A29: 0.011111111 | B29: =SUM(F29-E29)-G29+A29 -> 0.29166667 | C29: =IF(ISNA(VLOOKUP(D29,[1]listing!$A$1:$E$80,4,FALSE)),"NN",VLOOKUP(D29,[1]listing!$A$1:$E$80,4,FALSE)) -> NN | D29: LAURA M | E29: 36526.583 | F29: 36526.906 | G29: 0.041666667 | AF29: F | AG29: F | AH29: F | AI29: F | AJ29: F | AK29: F | AL29: F | AM29: F | AN29: F | AO29: F | AP29: F | AQ29: F | AR29: L | AS29: L | AT29: L | AU29: F | AV29: F | AW29: F | AX29: F | AY29: F | AZ29: F | BA29: F | BB29: F | BC29: F | BD29: B | BE29: CC | BF29: CC | BG29: F | BH29: F | BI29: F | BJ29: F | CN29: =D29 -> LAURA M
A30: 0.011111111 | B30: =SUM(F30-E30)-G30+A30 -> 0.29166667 | C30: =IF(ISNA(VLOOKUP(D30,[1]listing!$A$1:$E$80,4,FALSE)),"NN",VLOOKUP(D30,[1]listing!$A$1:$E$80,4,FALSE)) -> NN | D30: MAEHVA | E30: 36526.583 | F30: 36526.906 | G30: 0.041666667 | AF30: F | AG30: F | AH30: F | AI30: F | AJ30: F | AK30: F | AL30: F | AM30: F | AN30: F | AO30: F | AP30: F | AQ30: F | AR30: L | AS30: L | AT30: L | AU30: F | AV30: 10 | AW30: 10 | AX30: 10 | AY30: 10 | AZ30: 10 | BA30: 10 | BB30: 10 | BC30: 10 | BD30: B | BE30: CC | BF30: CC | BG30: F | BH30: F | BI30: F | BJ30: F | CN30: =D30 -> MAEHVA
A31: 0.011111111 | B31: =SUM(F31-E31)-G31+A31 -> 0.29166667 | C31: =IF(ISNA(VLOOKUP(D31,[1]listing!$A$1:$E$80,4,FALSE)),"NN",VLOOKUP(D31,[1]listing!$A$1:$E$80,4,FALSE)) -> NN | D31: EMILIE | E31: 36526.583 | F31: 36526.906 | G31: 0.041666667 | AF31: F | AG31: F | AH31: F | AI31: F | AJ31: F | AK31: F | AL31: F | AM31: F | AN31: L | AO31: L | AP31: L | AQ31: F | AR31: 26 | AS31: 26 | AT31: 26 | AU31: 26 | AV31: 26 | AW31: 26 | AX31: 26 | AY31: 26 | AZ31: 26 | BA31: 26 | BB31: 26 | BC31: 26 | BD31: B | BE31: CC | BF31: CC | BG31: F | BH31: F | BI31: F | BJ31: F | CN31: =D31 -> EMILIE
A32: 0.011111111 | B32: =SUM(F32-E32)-G32+A32 -> 0.29166667 | C32: =IF(ISNA(VLOOKUP(D32,[1]listing!$A$1:$E$80,4,FALSE)),"NN",VLOOKUP(D32,[1]listing!$A$1:$E$80,4,FALSE)) -> NN | D32: KITTI | E32: 36526.583 | F32: 36526.906 | G32: 0.041666667 | AF32: F | AG32: F | AH32: F | AI32: F | AJ32: F | AK32: F | AL32: F | AM32: F | AN32: L | AO32: L | AP32: L | AQ32: F | AR32: 23 | AS32: 23 | AT32: 23 | AU32: 23 | AV32: 23 | AW32: 23 | AX32: 23 | AY32: 23 | AZ32: 23 | BA32: 23 | BB32: 23 | BC32: 23 | BD32: B | BE32: CC | BF32: CC | BG32: F | BH32: F | BI32: F | BJ32: F | CN32: =D32 -> KITTI
A33: 0.011111111 | B33: =SUM(F33-E33)-G33+A33 -> 0.29166667 | C33: =IF(ISNA(VLOOKUP(D33,[1]listing!$A$1:$E$80,4,FALSE)),"NN",VLOOKUP(D33,[1]listing!$A$1:$E$80,4,FALSE)) -> 13 | D33: LAURINE | E33: 36526.583 | F33: 36526.906 | G33: 0.041666667 | AF33: F | AG33: TDC | AJ33: F | AK33: F | AL33: F | AM33: F | AN33: L | AO33: L | AP33: L | AQ33: F | AR33: 24 | AS33: 24 | AT33: 24 | AU33: 24 | AV33: 24 | AW33: 24 | AX33: 24 | AY33: 24 | AZ33: 24 | BA33: 24 | BB33: 24 | BC33: 24 | BD33: B | BE33: CC | BF33: CC | BG33: F | BH33: F | BI33: F | BJ33: F | CN33: =D33 -> LAURINE
A34: 0.011111111 | B34: =SUM(F34-E34)-G34+A34 -> 0.29166667 | C34: =IF(ISNA(VLOOKUP(D34,[1]listing!$A$1:$E$80,4,FALSE)),"NN",VLOOKUP(D34,[1]listing!$A$1:$E$80,4,FALSE)) -> 24 | D34: JOEL | E34: 36526.583 | F34: 36526.906 | G34: 0.041666667 | AF34: F | AG34: TDC | AJ34: F | AK34: F | AL34: F | AM34: F | AN34: L | AO34: L | AP34: L | AQ34: F | AR34: 35 | AS34: 35 | AT34: 35 | AU34: 35 | AV34: 35 | AW34: 35 | AX34: 35 | AY34: 35 | AZ34: 35 | BA34: 35 | BB34: 35 | BC34: 35 | BD34: B | BE34: CC | BF34: CC | BG34: F | BH34: F | BI34: F | BJ34: F | CN34: =D34 -> JOEL
A35: 0.011111111 | B35: =SUM(F35-E35)-G35+A35 -> 0.29166667 | C35: =IF(ISNA(VLOOKUP(D35,[1]listing!$A$1:$E$80,4,FALSE)),"NN",VLOOKUP(D35,[1]listing!$A$1:$E$80,4,FALSE)) -> 34 | D35: JENNIFER | E35: 36526.583 | F35: 36526.906 | G35: 0.041666667 | AF35: F | AG35: SAC | AJ35: F | AK35: F | AL35: F | AM35: F | AN35: L | AO35: L | AP35: L | AQ35: F | AR35: 37 | AS35: 37 | AT35: 37 | AU35: 37 | AV35: 37 | AW35: 37 | AX35: 37 | AY35: 37 | AZ35: 37 | BA35: 37 | BB35: 37 | BC35: 37 | BD35: B | BE35: CC | BF35: CC | BG35: F | BH35: F | BI35: F | BJ35: F | CN35: =D35 -> JENNIFER
A36: 0.011111111 | B36: =SUM(F36-E36)-G36+A36 -> 0.29166667 | C36: =IF(ISNA(VLOOKUP(D36,[1]listing!$A$1:$E$80,4,FALSE)),"NN",VLOOKUP(D36,[1]listing!$A$1:$E$80,4,FALSE)) -> 16 | D36: ADELINE | E36: 36526.583 | F36: 36526.906 | G36: 0.041666667 | AF36: F | AG36: SAC | AJ36: 26 | AK36: 26 | AL36: 26 | AM36: 26 | AN36: 26 | AO36: 26 | AP36: 26 | AQ36: 26 | AR36: L | AS36: L | AT36: L | AU36: F | AV36: F | AW36: F | AX36: F | AY36: F | AZ36: F | BA36: F | BB36: F | BC36: F | BD36: B | BE36: CC | BF36: CC | BG36: F | BH36: F | BI36: F | BJ36: F | CN36: =D36 -> ADELINE
A37: 0.011111111 | B37: =SUM(F37-E37)-G37+A37 -> 0.29166667 | C37: =IF(ISNA(VLOOKUP(D37,[1]listing!$A$1:$E$80,4,FALSE)),"NN",VLOOKUP(D37,[1]listing!$A$1:$E$80,4,FALSE)) -> 39 | D37: GEMA | E37: 36526.583 | F37: 36526.906 | G37: 0.041666667 | AF37: F | AG37: FRIGO | AJ37: 30 | AK37: 30 | AL37: 30 | AM37: 30 | AN37: 30 | AO37: 30 | AP37: 30 | AQ37: 30 | AR37: L | AS37: L | AT37: L | AU37: F | AV37: F | AW37: F | AX37: F | AY37: F | AZ37: F | BA37: F | BB37: F | BC37: F | BD37: B | BE37: CC | BF37: CC | BG37: F | BH37: F | BI37: F | BJ37: F | CN37: =D37 -> GEMA
A38: 0.011111111 | B38: =SUM(F38-E38)-G38+A38 -> 0.29166667 | C38: =IF(ISNA(VLOOKUP(D38,[1]listing!$A$1:$E$80,4,FALSE)),"NN",VLOOKUP(D38,[1]listing!$A$1:$E$80,4,FALSE)) -> 46 | D38: LAURA | E38: 36526.583 | F38: 36526.906 | G38: 0.041666667 | AF38: F | AG38: FRIGO | AJ38: 35 | AK38: 35 | AL38: 35 | AM38: 35 | AN38: 35 | AO38: 35 | AP38: 35 | AQ38: 35 | AR38: L | AS38: L | AT38: L | AU38: F | AV38: 20 | AW38: 20 | AX38: 20 | AY38: 20 | AZ38: 20 | BA38: 20 | BB38: 20 | BC38: 20 | BD38: B | BE38: CC | BF38: CC | BG38: F | BH38: F | BI38: F | BJ38: F | CN38: =D38 -> LAURA
A39: 0.011111111 | B39: =SUM(F39-E39)-G39+A39 -> 0.29166667 | C39: =IF(ISNA(VLOOKUP(D39,[1]listing!$A$1:$E$80,4,FALSE)),"NN",VLOOKUP(D39,[1]listing!$A$1:$E$80,4,FALSE)) -> 49 | D39: ANNE | E39: 36526.583 | F39: 36526.906 | G39: 0.041666667 | AF39: F | AG39: POUBELLES | AJ39: 37 | AK39: 37 | AL39: 37 | AM39: 37 | AN39: 37 | AO39: 37 | AP39: 37 | AQ39: 37 | AR39: L | AS39: L | AT39: L | AU39: F | AV39: F | AW39: F | AX39: F | AY39: F | AZ39: F | BA39: F | BB39: F | BC39: F | BD39: B | BE39: CC | BF39: CC | BG39: F | BH39: F | BI39: F | BJ39: F | CN39: =D39 -> ANNE
A40: 0.011111111 | B40: =SUM(F40-E40)-G40+A40 -> 0.29166667 | C40: =IF(ISNA(VLOOKUP(D40,[1]listing!$A$1:$E$80,4,FALSE)),"NN",VLOOKUP(D40,[1]listing!$A$1:$E$80,4,FALSE)) -> 11 | D40: MARIA STEFANIA | E40: 36526.583 | F40: 36526.906 | G40: 0.041666667 | AF40: F | AG40: POUBELLES | AJ40: F | AK40: F | AL40: F | AM40: F | AN40: F | AO40: F | AP40: F | AQ40: F | AR40: L | AS40: L | AT40: L | AU40: F | AV40: 30 | AW40: 30 | AX40: 30 | AY40: 30 | AZ40: 30 | BA40: 30 | BB40: 30 | BC40: 30 | BD40: B | BE40: CC | BF40: CC | BG40: F | BH40: F | BI40: F | BJ40: F | CN40: =D40 -> MARIA STEFANIA
...

Sheet MARDI27
G1: HAP | J1: REEL | P1: ECART
DH2: =J2*24 -> 0 | DK2: REEL
DH3: =G2*24 -> 0 | DK3: HAP
C4: FC | D4: NOM CMS | E4: SHIFT | G4: PAUSE | H4: 8H | L4: 9H | P4: 10H | T4: 11H | X4: 12H | AB4: 13H | AF4: 14H | AJ4: 15H | AN4: 16H | AR4: 17H | AV4: 18H | AZ4: 19H | BD4: 20H | BH4: 21H | BL4: 22H | BP4: 23H | BT4: 00H | BX4: 01H00 | CB4: 02H00 | CF4: BREAK | CJ4: LUNCH
A5: 0.011111111 | B5: =SUM(F5-E5)-G5+A5 -> 0.29166667 | C5: =IF(ISNA(VLOOKUP(D5,[1]listing!$A$1:$E$80,4,FALSE)),"NN",VLOOKUP(D5,[1]listing!$A$1:$E$80,4,FALSE)) -> 48 | D5: MELANIE B | E5: 36526.323 | F5: 36526.645 | G5: 0.041666667 | H5: 12 | I5: 12 | J5: 12 | K5: 12 | L5: 12 | M5: 12 | N5: 12 | O5: 12 | P5: B | Q5: 12 | R5: 12 | S5: 12 | T5: 12 | U5: 12 | V5: 12 | W5: 12 | X5: L | Y5: L | Z5: L | AA5: F | AB5: F | AC5: F | AD5: F | AE5: F | AF5: F | AG5: F | AH5: F | AI5: F | AJ5: CC | AK5: CC | CN5: =D5 -> MELANIE B
A6: 0.011111111 | B6: =SUM(F6-E6)-G6+A6 -> 0.29166667 | C6: =IF(ISNA(VLOOKUP(D6,[1]listing!$A$1:$E$80,4,FALSE)),"NN",VLOOKUP(D6,[1]listing!$A$1:$E$80,4,FALSE)) -> 62 | D6: TIFFANY | E6: 36526.323 | F6: 36526.645 | G6: 0.041666667 | H6: 11 | I6: 11 | J6: 11 | K6: 11 | L6: 11 | M6: 11 | N6: 11 | O6: B | P6: 11 | Q6: 11 | R6: 11 | S6: 11 | T6: 11 | U6: 11 | V6: 11 | W6: 11 | X6: L | Y6: L | Z6: L | AA6: F | AB6: F | AC6: F | AD6: F | AE6: F | AF6: F | AG6: F | AH6: F | AI6: F | AJ6: CC | AK6: CC | CN6: =D6 -> TIFFANY
A7: 0.011111111 | B7: =SUM(F7-E7)-G7+A7 -> 0.29166667 | C7: =IF(ISNA(VLOOKUP(D7,[1]listing!$A$1:$E$80,4,FALSE)),"NN",VLOOKUP(D7,[1]listing!$A$1:$E$80,4,FALSE)) -> 65 | D7: GUILLAUME | E7: 36526.323 | F7: 36526.645 | G7: 0.041666667 | H7: 23 | I7: 23 | J7: 23 | K7: 23 | L7: 23 | M7: 23 | N7: 23 | O7: 23 | P7: B | Q7: 23 | R7: 23 | S7: 23 | T7: 23 | U7: 23 | V7: 23 | W7: 23 | X7: L | Y7: L | Z7: L | AA7: F | AB7: F | AC7: F | AD7: F | AE7: F | AF7: F | AG7: F | AH7: F | AI7: F | AJ7: CC | AK7: CC | CN7: =D7 -> GUILLAUME
A8: 0.011111111 | B8: =SUM(F8-E8)-G8+A8 -> 0.33333333 | C8: =IF(ISNA(VLOOKUP(D8,[1]listing!$A$1:$E$80,4,FALSE)),"NN",VLOOKUP(D8,[1]listing!$A$1:$E$80,4,FALSE)) -> 59 | D8: BIETRIX | E8: 36526.323 | F8: 36526.687 | G8: 0.041666667 | H8: 24 | I8: 24 | J8: 24 | K8: 24 | L8: 24 | M8: 24 | N8: 24 | O8: B | P8: 24 | Q8: 24 | R8: 24 | S8: 24 | T8: 24 | U8: 24 | V8: 24 | W8: 24 | X8: L | Y8: L | Z8: L | AA8: F | AB8: 29 | AC8: 29 | AD8: 29 | AE8: 29 | AF8: F | AG8: F | AH8: F | AI8: F | AJ8: F | AK8: F | AL8: F | AM8: F | AN8: CC | AO8: CC | CN8: =D8 -> BIETRIX
A9: 0.011111111 | B9: =SUM(F9-E9)-G9+A9 -> 0.29166667 | C9: =IF(ISNA(VLOOKUP(D9,[1]listing!$A$1:$E$80,4,FALSE)),"NN",VLOOKUP(D9,[1]listing!$A$1:$E$80,4,FALSE)) -> 14 | D9: MELANIE P | E9: 36526.396 | F9: 36526.718 | G9: 0.041666667 | N9: F | O9: F | P9: 26 | Q9: 26 | R9: 26 | S9: 26 | T9: 26 | U9: 26 | V9: 26 | W9: 26 | X9: F | Y9: F | Z9: F | AA9: F | AB9: L | AC9: L | AD9: L | AE9: F | AF9: 20 | AG9: 20 | AH9: 20 | AI9: 20 | AJ9: 20 | AK9: 20 | AL9: 20 | AM9: 20 | AN9: B | AO9: F | AP9: F | AQ9: CC | AR9: CC | CN9: =D9 -> MELANIE P
A10: 0.011111111 | B10: =SUM(F10-E10)-G10+A10 -> 0.29166667 | C10: =IF(ISNA(VLOOKUP(D10,[1]listing!$A$1:$E$80,4,FALSE)),"NN",VLOOKUP(D10,[1]listing!$A$1:$E$80,4,FALSE)) -> 26 | D10: CYRIELLE | E10: 36526.396 | F10: 36526.718 | G10: 0.041666667 | N10: F | O10: F | P10: 30 | Q10: 30 | R10: 30 | S10: 30 | T10: 30 | U10: 30 | V10: 30 | W10: 30 | X10: F | Y10: F | Z10: F | AA10: F | AB10: L | AC10: L | AD10: L | AE10: F | AF10: F | AG10: F | AH10: F | AI10: F | AJ10: F | AK10: F | AL10: F | AM10: F | AN10: B | AO10: F | AP10: F | AQ10: CC | AR10: CC | CN10: =D10 -> CYRIELLE
A11: 0.011111111 | B11: =SUM(F11-E11)-G11+A11 -> 0.29166667 | C11: =IF(ISNA(VLOOKUP(D11,[1]listing!$A$1:$E$80,4,FALSE)),"NN",VLOOKUP(D11,[1]listing!$A$1:$E$80,4,FALSE)) -> 37 | D11: KYLLIAN | E11: 36526.396 | F11: 36526.718 | G11: 0.041666667 | N11: F | O11: F | P11: 35 | Q11: 35 | R11: 35 | S11: 35 | T11: 35 | U11: 35 | V11: 35 | W11: 35 | X11: F | Y11: F | Z11: F | AA11: F | AB11: L | AC11: L | AD11: L | AE11: F | AF11: F | AG11: F | AH11: F | AI11: F | AJ11: F | AK11: F | AL11: F | AM11: F | AN11: B | AO11: F | AP11: F | AQ11: CC | AR11: CC | CN11: =D11 -> KYLLIAN
A12: 0.011111111 | B12: =SUM(F12-E12)-G12+A12 -> 0.29166667 | C12: =IF(ISNA(VLOOKUP(D12,[1]listing!$A$1:$E$80,4,FALSE)),"NN",VLOOKUP(D12,[1]listing!$A$1:$E$80,4,FALSE)) -> 41 | D12: FATIHA | E12: 36526.396 | F12: 36526.718 | G12: 0.041666667 | N12: F | O12: F | P12: 37 | Q12: 37 | R12: 37 | S12: 37 | T12: 37 | U12: 37 | V12: 37 | W12: 37 | X12: F | Y12: F | Z12: F | AA12: F | AB12: L | AC12: L | AD12: L | AE12: F | AF12: 29 | AG12: 29 | AH12: 29 | AI12: 29 | AJ12: F | AK12: F | AL12: F | AM12: F | AN12: B | AO12: F | AP12: F | AQ12: CC | AR12: CC | CN12: =D12 -> FATIHA
A13: 0.011111111 | B13: =SUM(F13-E13)-G13+A13 -> 0.29166667 | C13: =IF(ISNA(VLOOKUP(D13,[1]listing!$A$1:$E$80,4,FALSE)),"NN",VLOOKUP(D13,[1]listing!$A$1:$E$80,4,FALSE)) -> 79 | D13: MARION | E13: 36526.396 | F13: 36526.718 | G13: 0.041666667 | N13: F | O13: F | P13: 20 | Q13: 20 | R13: 20 | S13: 20 | T13: 20 | U13: 20 | V13: 20 | W13: 20 | X13: F | Y13: F | Z13: F | AA13: F | AB13: L | AC13: L | AD13: L | AE13: F | AF13: 10 | AG13: 10 | AH13: 10 | AI13: 10 | AJ13: 10 | AK13: 10 | AL13: 10 | AM13: 10 | AN13: B | AO13: F | AP13: F | AQ13: CC | AR13: CC | CN13: =D13 -> MARION
A14: 0.011111111 | B14: =SUM(F14-E14)-G14+A14 -> 0.29166667 | C14: =IF(ISNA(VLOOKUP(D14,[1]listing!$A$1:$E$80,4,FALSE)),"NN",VLOOKUP(D14,[1]listing!$A$1:$E$80,4,FALSE)) -> 1 | D14: GIULIA | E14: 36526.458 | F14: 36526.781 | G14: 0.041666667 | T14: F | U14: 10 | V14: 10 | W14: 10 | X14: 10 | Y14: 10 | Z14: 10 | AA14: 10 | AB14: 10 | AC14: 10 | AD14: 10 | AE14: 10 | AF14: L | AG14: L | AH14: L | AI14: F | AJ14: 12 | AK14: 12 | AL14: 12 | AM14: 12 | AN14: 12 | AO14: 12 | AP14: 12 | AQ14: 12 | AR14: 12 | AS14: 12 | AT14: 12 | AU14: 12 | AV14: B | AW14: CC | AX14: CC | CN14: =D14 -> GIULIA
A15: 0.011111111 | B15: =SUM(F15-E15)-G15+A15 -> 0.29166667 | C15: =IF(ISNA(VLOOKUP(D15,[1]listing!$A$1:$E$80,4,FALSE)),"NN",VLOOKUP(D15,[1]listing!$A$1:$E$80,4,FALSE)) -> 23 | D15: CHLOE | E15: 36526.458 | F15: 36526.781 | G15: 0.041666667 | T15: F | U15: 29 | V15: 29 | W15: 29 | X15: 29 | Y15: 29 | Z15: 29 | AA15: 29 | AB15: F | AC15: F | AD15: F | AE15: F | AF15: L | AG15: L | AH15: L | AI15: F | AJ15: 11 | AK15: 11 | AL15: 11 | AM15: 11 | AN15: 11 | AO15: 11 | AP15: 11 | AQ15: 11 | AR15: 11 | AS15: 11 | AT15: 11 | AU15: 11 | AV15: B | AW15: CC | AX15: CC | CN15: =D15 -> CHLOE
A16: 0.011111111 | B16: =SUM(F16-E16)-G16+A16 -> 0.29166667 | C16: =IF(ISNA(VLOOKUP(D16,[1]listing!$A$1:$E$80,4,FALSE)),"NN",VLOOKUP(D16,[1]listing!$A$1:$E$80,4,FALSE)) -> 19 | D16: AGATHE | E16: 36526.458 | F16: 36526.781 | G16: 0.041666667 | T16: F | U16: F | V16: F | W16: F | X16: F | Y16: F | Z16: F | AA16: F | AB16: F | AC16: F | AD16: F | AE16: F | AF16: L | AG16: L | AH16: L | AI16: F | AJ16: F | AK16: F | AL16: F | AM16: F | AN16: 10 | AO16: 10 | AP16: 10 | AQ16: 10 | AR16: 10 | AS16: 10 | AT16: 10 | AU16: 10 | AV16: B | AW16: CC | AX16: CC | CN16: =D16 -> AGATHE
A17: 0.011111111 | B17: =SUM(F17-E17)-G17+A17 -> 0.29166667 | C17: =IF(ISNA(VLOOKUP(D17,[1]listing!$A$1:$E$80,4,FALSE)),"NN",VLOOKUP(D17,[1]listing!$A$1:$E$80,4,FALSE)) -> 53 | D17: WILSON | E17: 36526.49 | F17: 36526.812 | G17: 0.041666667 | W17: F | X17: 11 | Y17: 11 | Z17: 11 | AA17: 11 | AB17: 11 | AC17: 11 | AD17: 11 | AE17: 11 | AF17: 11 | AG17: 11 | AH17: 11 | AI17: 11 | AJ17: L | AK17: L | AL17: L | AM17: F | AN17: 20 | AO17: 20 | AP17: 20 | AQ17: 20 | AR17: 20 | AS17: 20 | AT17: 20 | AU17: 20 | AV17: B | AW17: TDC | AZ17: CC | BA17: CC | CN17: =D17 -> WILSON
A18: 0.011111111 | B18: =SUM(F18-E18)-G18+A18 -> 0.29166667 | C18: =IF(ISNA(VLOOKUP(D18,[1]listing!$A$1:$E$80,4,FALSE)),"NN",VLOOKUP(D18,[1]listing!$A$1:$E$80,4,FALSE)) -> NN | D18: RYAN | E18: 36526.49 | F18: 36526.812 | G18: 0.041666667 | W18: F | X18: 23 | Y18: 23 | Z18: 23 | AA18: 23 | AB18: 23 | AC18: 23 | AD18: 23 | AE18: 23 | AF18: 23 | AG18: 23 | AH18: 23 | AI18: 23 | AJ18: L | AK18: L | AL18: L | AM18: F | AN18: F | AO18: F | AP18: F | AQ18: F | AR18: F | AS18: F | AT18: F | AU18: F | AV18: B | AW18: SAC | AZ18: CC | BA18: CC | CN18: =D18 -> RYAN
A19: 0.011111111 | B19: =SUM(F19-E19)-G19+A19 -> 0.29166667 | C19: =IF(ISNA(VLOOKUP(D19,[1]listing!$A$1:$E$80,4,FALSE)),"NN",VLOOKUP(D19,[1]listing!$A$1:$E$80,4,FALSE)) -> NN | D19: MICHEL | E19: 36526.49 | F19: 36526.812 | G19: 0.041666667 | W19: F | X19: 24 | Y19: 24 | Z19: 24 | AA19: 24 | AB19: 24 | AC19: 24 | AD19: 24 | AE19: 24 | AF19: 24 | AG19: 24 | AH19: 24 | AI19: 24 | AJ19: L | AK19: L | AL19: L | AM19: F | AN19: F | AO19: F | AP19: F | AQ19: F | AR19: F | AS19: F | AT19: F | AU19: F | AV19: B | AW19: SAC | AZ19: CC | BA19: CC | CN19: =D19 -> MICHEL
A20: 0.011111111 | B20: =SUM(F20-E20)-G20+A20 -> 0.29166667 | C20: =IF(ISNA(VLOOKUP(D20,[1]listing!$A$1:$E$80,4,FALSE)),"NN",VLOOKUP(D20,[1]listing!$A$1:$E$80,4,FALSE)) -> 36 | D20: MOHAMED | E20: 36526.49 | F20: 36526.812 | G20: 0.041666667 | W20: F | X20: 26 | Y20: 26 | Z20: 26 | AA20: 26 | AB20: 26 | AC20: 26 | AD20: 26 | AE20: 26 | AF20: 26 | AG20: 26 | AH20: 26 | AI20: 26 | AJ20: L | AK20: L | AL20: L | AM20: F | AN20: F | AO20: F | AP20: F | AQ20: F | AR20: F | AS20: F | AT20: F | AU20: F | AV20: B | AW20: FRIGO | AZ20: CC | BA20: CC | CN20: =D20 -> MOHAMED
A21: 0.011111111 | B21: =SUM(F21-E21)-G21+A21 -> 0.14583333 | C21: =IF(ISNA(VLOOKUP(D21,[1]listing!$A$1:$E$80,4,FALSE)),"NN",VLOOKUP(D21,[1]listing!$A$1:$E$80,4,FALSE)) -> 55 | D21: NORMA | E21: 36526.49 | F21: 36526.625 | G21: 0 | W21: F | X21: F | Y21: F | Z21: F | AA21: F | AB21: F | AC21: F | AD21: F | AE21: F | AF21: CC | AG21: CC | AH21: F | AI21: F | CN21: =D21 -> NORMA
