Workbook
Name CARBURANT: 'TABLEAU BASE_2020'!$AF:$AF
Name CARBURANT: 'TABLEAU BASE_2019'!$AF:$AF
Name COLIS: 'TABLEAU BASE_2020'!$K:$K
Name COLIS: 'TABLEAU BASE_2019'!$K:$K
Name COLIS_EXPORT: 'TABLEAU BASE_2020'!$S:$S
Name COLIS_EXPORT: 'TABLEAU BASE_2019'!$S:$S
Name COLIS_LOG: 'TABLEAU BASE_2020'!$Q:$Q
Name COLIS_LOG: 'TABLEAU BASE_2019'!$Q:$Q
Name COLIS_TSP: 'TABLEAU BASE_2020'!$W:$W
Name COLIS_TSP: 'TABLEAU BASE_2019'!$W:$W
Name COLIS1: 'TABLEAU BASE_2020'!$L:$L
Name COLIS1: 'TABLEAU BASE_2019'!$L:$L
Name COLIS2: 'TABLEAU BASE_2020'!$M:$M
Name COLIS2: 'TABLEAU BASE_2019'!$M:$M
Name COLIS3: 'TABLEAU BASE_2020'!$N:$N
Name COLIS3: 'TABLEAU BASE_2019'!$N:$N
Name COLIS4: 'TABLEAU BASE_2020'!$O:$O
Name COLIS4: 'TABLEAU BASE_2019'!$O:$O
Name COLIS5: 'TABLEAU BASE_2020'!$P:$P
Name COLIS5: 'TABLEAU BASE_2019'!$P:$P
Name COMMENTAIRE: 'TABLEAU BASE_2020'!$F:$F
Name COMMENTAIRE: 'TABLEAU BASE_2019'!$F:$F
Name DATE: 'TABLEAU BASE_2020'!$B:$B
Name DATE: 'TABLEAU BASE_2019'!$B:$B
Name DATE_SAISIE_CDE: 'TABLEAU BASE_2020'!$A:$A
Name DATE_SAISIE_CDE: 'TABLEAU BASE_2019'!$A:$A
Name FACTURE: 'TABLEAU BASE_2020'!$H:$H
Name FACTURE: 'TABLEAU BASE_2019'!$H:$H
Name MONTANT: 'TABLEAU BASE_2020'!$I:$I
Name MONTANT: 'TABLEAU BASE_2019'!$I:$I
Name NOM: 'TABLEAU BASE_2020'!$C:$C
Name NOM: 'TABLEAU BASE_2019'!$C:$C
Name PAYS: 'TABLEAU BASE_2020'!$D:$D
Name PAYS: 'TABLEAU BASE_2019'!$D:$D
Name PI: 'TABLEAU BASE_2020'!$G:$G
Name PI: 'TABLEAU BASE_2019'!$G:$G
Name PRIX_EXPE: 'TABLEAU BASE_2020'!$AA:$AA
Name PRIX_EXPE: 'TABLEAU BASE_2019'!$AA:$AA
Name SAISIE: 'TABLEAU BASE_2020'!$E:$E
Name SAISIE: 'TABLEAU BASE_2019'!$E:$E
Name STATUT: 'TABLEAU BASE_2020'!$J:$J
Name STATUT: 'TABLEAU BASE_2019'!$J:$J
Name SURETE: 'TABLEAU BASE_2020'!$AE:$AE
Name SURETE: 'TABLEAU BASE_2019'!$AE:$AE
Name TRANSPORTEUR: #REF!
Name TSP: 'TABLEAU BASE_2020'!$Y:$Y
Name TSP: 'TABLEAU BASE_2019'!$Y:$Y
Name ZONE: 'TABLEAU BASE_2020'!$Z:$Z
Name ZONE: 'TABLEAU BASE_2019'!$Z:$Z

Sheet BDD_1
A1: Liste des Pays Transporteur Chronopost | E1: Mode de Saisie : | F1: INTERFACE
A2: ALLEMAGNE | B2: Z1 | C2: 6.9 | F2: DOLIBARR
A3: Autriche | B3: Z2 | C3: 9 | F3: NON-SAISIE
A4: Belgique | B4: Z1 | C4: 6.9
A5: Bulgarie | B5: Z3 | C5: 9
A6: Croatie | B6: Z3 | C6: 9
A7: Danemark | B7: Z2 | C7: 9
A8: Espagne | B8: Z2 | C8: 9
A9: Estonie | B9: Z3 | C9: 9
A10: Finlande | B10: Z2 | C10: 9
A11: Grece | B11: Z2 | C11: 9
A12: Hongrie | B12: Z3 | C12: 9
A13: Irlande | B13: Z2 | C13: 9
A14: Italie | B14: Z2 | C14: 9 | E14: STATUT : | F14: PAYEE
A15: Lettonie | B15: Z3 | C15: 9 | F15: GRATUITE
A16: Lituanie | B16: Z3 | C16: 9 | F16: IMPAYEE
A17: Luxembourg | B17: Z1 | C17: 6.9 | F17: ANNULEE
A18: Pays-Bas | B18: Z1 | C18: 6.9
A19: Pologne | B19: Z3 | C19: 9
A20: Portugal | B20: Z2 | C20: 9
A21: Rep.Tcheque | B21: Z3 | C21: 9
A22: Roumanie | B22: Z3 | C22: 9 | E22: LISTE TSPS | F22: CHRONOPOST | G22: SURETE | H22: 0.65
A23: Royaume-Uni | B23: Z2 | C23: 9 | F23: TNT | G23: SURETE | H23: 0
A24: Slovaquie | B24: Z3 | C24: 9 | F24: DACHSER
A25: Slovénie | B25: Z3 | C25: 9 | F25: TSP CLIENT
A26: Suède | B26: Z2 | C26: 9 | F26: CHRONOPOST FR
F27: TNT FR

Sheet BDD_2
A3: Poids | B3: ZONE 1 | D3: Poids | E3: ZONE 2 | G3: Poids | H3: ZONE 3
A4: 0 | B4: 0 | D4: 0 | E4: 0 | G4: 0 | H4: 0
A5: 1 | B5: =9.43 -> 9.43 | D5: 1 | E5: =11.9 -> 11.9 | G5: 1 | H5: =16.63 -> 16.63
A6: 2 | B6: =9.78 -> 9.78 | D6: 2 | E6: =12.28 -> 12.28 | G6: 2 | H6: =17.16 -> 17.16
A7: 3 | B7: =10.13 -> 10.13 | D7: 3 | E7: =12.66 -> 12.66 | G7: 3 | H7: =17.69 -> 17.69
A8: 4 | B8: =10.48 -> 10.48 | D8: 4 | E8: =13.04 -> 13.04 | G8: 4 | H8: =18.22 -> 18.22
A9: 5 | B9: =10.83 -> 10.83 | D9: 5 | E9: =13.42 -> 13.42 | G9: 5 | H9: =18.75 -> 18.75
A10: 6 | B10: =11.61 -> 11.61 | D10: 6 | E10: =14.24 -> 14.24 | G10: 6 | H10: =19.91 -> 19.91
A11: 7 | B11: =12.39 -> 12.39 | D11: 7 | E11: =15.06 -> 15.06 | G11: 7 | H11: =21.07 -> 21.07
A12: 8 | B12: =13.17 -> 13.17 | D12: 8 | E12: =15.88 -> 15.88 | G12: 8 | H12: =22.23 -> 22.23
A13: 9 | B13: =13.95 -> 13.95 | D13: 9 | E13: =16.7 -> 16.7 | G13: 9 | H13: =23.39 -> 23.39
A14: 10 | B14: =14.73 -> 14.73 | D14: 10 | E14: =17.52 -> 17.52 | G14: 10 | H14: =24.55 -> 24.55
A15: 11 | B15: =15.51 -> 15.51 | D15: 11 | E15: =18.34 -> 18.34 | G15: 11 | H15: =25.71 -> 25.71
A16: 12 | B16: =16.29 -> 16.29 | D16: 12 | E16: =19.16 -> 19.16 | G16: 12 | H16: =26.87 -> 26.87
A17: 13 | B17: =17.07 -> 17.07 | D17: 13 | E17: =19.98 -> 19.98 | G17: 13 | H17: =28.03 -> 28.03
A18: 14 | B18: =17.85 -> 17.85 | D18: 14 | E18: =20.8 -> 20.8 | G18: 14 | H18: =29.19 -> 29.19
A19: 15 | B19: =18.63 -> 18.63 | D19: 15 | E19: =21.62 -> 21.62 | G19: 15 | H19: =30.35 -> 30.35
A20: 16 | B20: =19.41 -> 19.41 | D20: 16 | E20: =22.44 -> 22.44 | G20: 16 | H20: =31.51 -> 31.51
A21: 17 | B21: =20.19 -> 20.19 | D21: 17 | E21: =23.26 -> 23.26 | G21: 17 | H21: =32.67 -> 32.67
A22: 18 | B22: 20.97 | D22: 18 | E22: =24.08 -> 24.08 | G22: 18 | H22: =33.83 -> 33.83
A23: 19 | B23: =21.75 -> 21.75 | D23: 19 | E23: =24.9 -> 24.9 | G23: 19 | H23: =34.99 -> 34.99
A24: 20 | B24: =22.53 -> 22.53 | D24: 20 | E24: =25.72 -> 25.72 | G24: 20 | H24: =36.15 -> 36.15
A25: 21 | B25: =23.31 -> 23.31 | D25: 21 | E25: =26.54 -> 26.54 | G25: 21 | H25: =37.31 -> 37.31
A26: 22 | B26: =24.09 -> 24.09 | D26: 22 | E26: =27.36 -> 27.36 | G26: 22 | H26: =38.47 -> 38.47
A27: 23 | B27: =24.87 -> 24.87 | D27: 23 | E27: =28.18 -> 28.18 | G27: 23 | H27: =39.63 -> 39.63
A28: 24 | B28: =25.65 -> 25.65 | D28: 24 | E28: =29 -> 29 | G28: 24 | H28: =40.79 -> 40.79
A29: 25 | B29: =26.43 -> 26.43 | D29: 25 | E29: =29.82 -> 29.82 | G29: 25 | H29: =41.95 -> 41.95
A30: 26 | B30: =27.21 -> 27.21 | D30: 26 | E30: =30.64 -> 30.64 | G30: 26 | H30: =43.11 -> 43.11
A31: 27 | B31: =27.99 -> 27.99 | D31: 27 | E31: =31.46 -> 31.46 | G31: 27 | H31: =44.27 -> 44.27
A32: 28 | B32: =28.77 -> 28.77 | D32: 28 | E32: =32.28 -> 32.28 | G32: 28 | H32: =45.43 -> 45.43
A33: 29 | B33: =29.55 -> 29.55 | D33: 29 | E33: =33.1 -> 33.1 | G33: 29 | H33: =46.59 -> 46.59
A34: 30 | B34: =30.33 -> 30.33 | D34: 30 | E34: =33.92 -> 33.92 | G34: 30 | H34: =47.75 -> 47.75
A35: 31 | B35: =B34+$B$106 -> 31.17 | D35: 31 | E35: =E34+$E$106 -> 34.81 | G35: 31 | H35: =H34+$H$106 -> 49
A36: 32 | B36: =B35+$B$106 -> 32.01 | D36: 32 | E36: =E35+$E$106 -> 35.7 | G36: 32 | H36: =H35+$H$106 -> 50.25
A37: 33 | B37: =B36+$B$106 -> 32.85 | D37: 33 | E37: =E36+$E$106 -> 36.59 | G37: 33 | H37: =H36+$H$106 -> 51.5
A38: 34 | B38: =B37+$B$106 -> 33.69 | D38: 34 | E38: =E37+$E$106 -> 37.48 | G38: 34 | H38: =H37+$H$106 -> 52.75
A39: 35 | B39: =B38+$B$106 -> 34.53 | D39: 35 | E39: =E38+$E$106 -> 38.37 | G39: 35 | H39: =H38+$H$106 -> 54
A40: 36 | B40: =B39+$B$106 -> 35.37 | D40: 36 | E40: =E39+$E$106 -> 39.26 | G40: 36 | H40: =H39+$H$106 -> 55.25
A41: 37 | B41: =B40+$B$106 -> 36.21 | D41: 37 | E41: =E40+$E$106 -> 40.15 | G41: 37 | H41: =H40+$H$106 -> 56.5
A42: 38 | B42: =B41+$B$106 -> 37.05 | D42: 38 | E42: =E41+$E$106 -> 41.04 | G42: 38 | H42: =H41+$H$106 -> 57.75
A43: 39 | B43: =B42+$B$106 -> 37.89 | D43: 39 | E43: =E42+$E$106 -> 41.93 | G43: 39 | H43: =H42+$H$106 -> 59
A44: 40 | B44: =(10*$B$106)+$B$34 -> 38.73 | D44: 40 | E44: =E43+$E$106 -> 42.82 | G44: 40 | H44: =H43+$H$106 -> 60.25
A45: 41 | B45: =38.73+$B$106 -> 39.57 | D45: 41 | E45: =E44+$E$106 -> 43.71 | G45: 41 | H45: =H44+$H$106 -> 61.5
A46: 42 | B46: =B45+$B$106 -> 40.41 | D46: 42 | E46: =E45+$E$106 -> 44.6 | G46: 42 | H46: =H45+$H$106 -> 62.75
A47: 43 | B47: =B46+$B$106 -> 41.25 | D47: 43 | E47: =E46+$E$106 -> 45.49 | G47: 43 | H47: =H46+$H$106 -> 64
A48: 44 | B48: =B47+$B$106 -> 42.09 | D48: 44 | E48: =E47+$E$106 -> 46.38 | G48: 44 | H48: =H47+$H$106 -> 65.25
A49: 45 | B49: =B48+$B$106 -> 42.93 | D49: 45 | E49: =E48+$E$106 -> 47.27 | G49: 45 | H49: =H48+$H$106 -> 66.5
A50: 46 | B50: =B49+$B$106 -> 43.77 | D50: 46 | E50: =E49+$E$106 -> 48.16 | G50: 46 | H50: =H49+$H$106 -> 67.75
A51: 47 | B51: =B50+$B$106 -> 44.61 | D51: 47 | E51: =E50+$E$106 -> 49.05 | G51: 47 | H51: =H50+$H$106 -> 69
A52: 48 | B52: =B51+$B$106 -> 45.45 | D52: 48 | E52: =E51+$E$106 -> 49.94 | G52: 48 | H52: =H51+$H$106 -> 70.25
A53: 49 | B53: =B52+$B$106 -> 46.29 | D53: 49 | E53: =E52+$E$106 -> 50.83 | G53: 49 | H53: =H52+$H$106 -> 71.5
A54: 50 | B54: =B53+$B$106 -> 47.13 | D54: 50 | E54: =E53+$E$106 -> 51.72 | G54: 50 | H54: =H53+$H$106 -> 72.75
A55: 51 | B55: =B54+$B$106 -> 47.97 | D55: 51 | E55: =E54+$E$106 -> 52.61 | G55: 51 | H55: =H54+$H$106 -> 74
A56: 52 | B56: =B55+$B$106 -> 48.81 | D56: 52 | E56: =E55+$E$106 -> 53.5 | G56: 52 | H56: =H55+$H$106 -> 75.25
A57: 53 | B57: =B56+$B$106 -> 49.65 | D57: 53 | E57: =E56+$E$106 -> 54.39 | G57: 53 | H57: =H56+$H$106 -> 76.5
... A104: 100 | B104: =B103+$B$106 -> 89.13 | D104: 100 | E104: =E103+$E$106 -> 96.22 | G104: 100 | H104: =H103+$H$106 -> 135.25
A106: Kg Sup. | B106: =0.84 -> 0.84 | E106: =0.89 -> 0.89 | H106: =1.25 -> 1.25

Sheet TABLEAU BASE_2019
A1: DATE SAISIE CDE | B1: DATE EXPEDITION | C1: NOM CLIENT | D1: PAYS | E1: PLATEFORME SAISIE | F1: COMMENTAIRE | G1: REF PI | H1: REF FACTURE | I1: MONTANT CDE | J1: STATUT | K1: NBRE COLIS | L1: REF COLIS 1 | M1: REF COLIS 2 | N1: REF COLIS 3 | O1: REF COLIS 4 | P1: REF COLIS 5 | Q1: POIDS ESTIME LOG | S1: POIDS ESTIME EXPORT | U1: POIDS ESTIME ARRONDI | W1: POIDS FACTURE TSP | Y1: TRANSPORTEUR | Z1: ZONE | AA1: PRIX EXPE ESTIME | AB1: SURCHARGE ? | AC1: MONTANT SURCHARGE | AD1: CALCUL SURCHARGE | AE1: SURETE | AF1: CARBURANT | AG1: PRIX TOTAL ESTIME | AH1: PRIX MARGE A 15% | AI1: PRIX FACTURE PAR VDLV | AJ1: PRIX REEL FACTURE PAR TSP | AK1: DIFFERENCE
A2: 43790 | B2: 43803 | C2: K110-IKE | D2: GRECE | E2: INTERFACE | F2: 30 Meubles présentoirs offerts | G2: FAXW1911-0016 | H2: =IF(E2="INTERFACE",G2," ") -> FAXW1911-0016 | I2: 4301 | J2: IMPAYEE | K2: 19 | L2: 109334658 | Q2: 115.3 | R2: kg | T2: kg | U2: =ROUNDUP(S2,0) -> 0 | V2: kg | X2: kg | Y2: TNT | Z2: =VLOOKUP("GRECE",BDD_1!$A$2:$C$26,2,FALSE) -> Z2 | AB2: =IF(AND(Y2="CHRONOPOST",K2>1),"OUI","NON") -> NON | AC2: =IF(AB2="NON","0",IF(AND(AB2="OUI",Z2=1),6.9,9)) -> 0 | AD2: =IF(AB2="NON","0",IF(Y2="CHRONOPOST",((K2-1)*AC2),"")) -> 0 | AE2: =IF(Y2="CHRONOPOST",BDD_1!$H$22*K2,BDD_1!$H$23*K2) -> 0 | AF2: =IF(Y2="CHRONOPOST",((AA2+AD2)*0.15),0) -> 0 | AG2: =AA2+AD2+AE2+AF2 -> 0 | AH2: =(AG2+(AG2*0.15)) -> 0 | AI2: 0 | AK2: =AI2-AJ2 -> 0
A3: 43790 | B3: 43803 | C3: K110-IKE | D3: GRECE | E3: INTERFACE | F3: Cdes 16 + 17 expédiées ens | G3: FAXW1911-0017 | H3: =IF(E3="INTERFACE",G3," ") -> FAXW1911-0017 | I3: 4571.5 | J3: IMPAYEE | K3: 8 | L3: 109334658 | Q3: 120 | R3: kg | T3: kg | U3: =ROUNDUP(S3,0) -> 0 | V3: kg | X3: kg | Y3: TNT | Z3: =VLOOKUP("GRECE",BDD_1!$A$2:$C$26,2,FALSE) -> Z2 | AA3: =IFERROR(IF(Z3="1",INDEX(BDD_2!$A$5:$B$104,$U$2,$Z$2),INDEX(BDD_2!$D$5:$E$104,$U$2,$Z$2)),"") | AB3: =IF(AND(Y3="CHRONOPOST",K3>1),"OUI","NON") -> NON | AC3: =IF(AB3="NON","0",IF(AND(AB3="OUI",Z3=1),6.9,9)) -> 0 | AD3: =IF(AB3="NON","0",IF(Y3="CHRONOPOST",((K3-1)*AC3),"")) -> 0 | AE3: =IF(Y3="CHRONOPOST",BDD_1!$H$22*K3,BDD_1!$H$23*K3) -> 0 | AF3: =IF(Y3="CHRONOPOST",((AA3+AD3)*0.15),0) -> 0 | AG3: =AA3+AD3+AE3+AF3 -> #VALUE! | AH3: =(AG3+(AG3*0.15)) -> #VALUE! | AI3: 0 | AK3: =AI3-AJ3 -> 0
A4: 43790 | B4: 43803 | C4: K110-IKE | D4: GRECE | E4: DOLIBARR | F4: Frais de Port Cdes 16+17 | G4: PR1911-7271 | H4: FA1911-9326 | I4: 199.44 | J4: IMPAYEE | K4: =19+8 -> 27 | L4: 109334658 | Q4: =Q2+Q3 -> 235.3 | R4: kg | S4: 180 | T4: kg | U4: =ROUNDUP(S4,0) -> 180 | V4: kg | W4: 450.75 | X4: kg | Y4: TNT | Z4: =VLOOKUP("GRECE",BDD_1!$A$2:$C$26,2,FALSE) -> Z2 | AB4: =IF(AND(Y4="CHRONOPOST",K4>1),"OUI","NON") -> NON | AC4: =IF(AB4="NON","0",IF(AND(AB4="OUI",Z4=1),6.9,9)) -> 0 | AD4: =IF(AB4="NON","0",IF(Y4="CHRONOPOST",((K4-1)*AC4),"")) -> 0 | AE4: =IF(Y4="CHRONOPOST",BDD_1!$H$22*K4,BDD_1!$H$23*K4) -> 0 | AF4: =IF(Y4="CHRONOPOST",((AA4+AD4)*0.15),0) -> 0 | AG4: =AA4+AD4+AE4+AF4 -> 0 | AH4: =(AG4+(AG4*0.15)) -> 0 | AI4: 199.44 | AJ4: 291.79 | AK4: =AI4-AJ4 -> -92.35
A5: 43795 | B5: 43802 | C5: DIAMOND FLAVOURS | D5: PAYS-BAS | E5: INTERFACE | G5: FAXW1911-0019 | H5: =IF(E5="INTERFACE",G5," ") -> FAXW1911-0019 | I5: 6028.75 | J5: PAYEE | K5: 5 | L5: 108434779 | Q5: 106.6 | R5: kg | S5: 180 | T5: kg | U5: =ROUNDUP(S5,0) -> 180 | V5: kg | W5: 132 | X5: kg | Y5: TNT | Z5: =VLOOKUP("PAYS-BAS",BDD_1!$A$2:$C$26,2,FALSE) -> Z1 | AA5: =IFERROR(IF(Z5="1",INDEX(BDD_2!$A$5:$B$104,$U$2,$Z$2),INDEX(BDD_2!$D$5:$E$104,$U$2,$Z$2)),"") | AB5: =IF(AND(Y5="CHRONOPOST",K5>1),"OUI","NON") -> NON | AC5: =IF(AB5="NON","0",IF(AND(AB5="OUI",Z5=1),6.9,9)) -> 0 | AD5: =IF(AB5="NON","0",IF(Y5="CHRONOPOST",((K5-1)*AC5),"")) -> 0 | AE5: =IF(Y5="CHRONOPOST",BDD_1!$H$22*K5,BDD_1!$H$23*K5) -> 0 | AF5: =IF(Y5="CHRONOPOST",((AA5+AD5)*0.15),0) -> 0 | AG5: =AA5+AD5+AE5+AF5 -> #VALUE! | AH5: =(AG5+(AG5*0.15)) -> #VALUE! | AI5: 111.25 | AJ5: 103.81 | AK5: =AI5-AJ5 -> 7.44
A6: 43795 | B6: 43802 | C6: ZWOOFS | D6: PAYS-BAS | E6: INTERFACE | G6: FAXW1911-0020 | H6: =IF(E6="INTERFACE",G6," ") -> FAXW1911-0020 | I6: 1224.87 | J6: PAYEE | K6: 1 | L6: XJ004022412JF | Q6: 17.1 | R6: kg | S6: 18.45 | T6: kg | U6: =ROUNDUP(S6,0) -> 19 | V6: kg | X6: kg | Y6: CHRONOPOST | Z6: =VLOOKUP("PAYS-BAS",BDD_1!$A$2:$C$26,2,FALSE) -> Z1 | AA6: =IFERROR(IF(Z6="1",INDEX(BDD_2!$A$5:$B$104,$U$2,$Z$2),INDEX(BDD_2!$D$5:$E$104,$U$2,$Z$2)),"") | AB6: =IF(AND(Y6="CHRONOPOST",K6>1),"OUI","NON") -> NON | AC6: =IF(AB6="NON","0",IF(AND(AB6="OUI",Z6=1),6.9,9)) -> 0 | AD6: =IF(AB6="NON","0",IF(Y6="CHRONOPOST",((K6-1)*AC6),"")) -> 0 | AE6: =IF(Y6="CHRONOPOST",BDD_1!$H$22*K6,BDD_1!$H$23*K6) -> 0.65 | AF6: =IF(Y6="CHRONOPOST",((AA6+AD6)*0.15),0) -> #VALUE! | AG6: =AA6+AD6+AE6+AF6 -> #VALUE! | AH6: =(AG6+(AG6*0.15)) -> #VALUE! | AI6: 29.37 | AK6: =AI6-AJ6 -> 29.37
A7: 43795 | B7: 43803 | C7: HLMH | D7: ALLEMAGNE | E7: INTERFACE | G7: FAXW1911-0021 | H7: =IF(E7="INTERFACE",G7," ") -> FAXW1911-0021 | I7: 1701.48 | J7: PAYEE | K7: 2 | L7: XJ004216170JF | M7: XJ004216166JF | Q7: =2.3+23.4 -> 25.7 | R7: kg | S7: 27.92 | T7: kg | U7: =ROUNDUP(S7,0) -> 28 | V7: kg | X7: kg | Y7: CHRONOPOST | Z7: =VLOOKUP("ALLEMAGNE",BDD_1!$A$2:$C$26,2,FALSE) -> Z1 | AA7: =INDEX(BDD_2!$B$5:$H$104,MATCH(U7,BDD_2!$A$5:$A$104,1)) -> #REF! | AB7: =IF(AND(Y7="CHRONOPOST",K7>1),"OUI","NON") -> OUI | AC7: =IF(AB7="NON","0",IF(AND(AB7="OUI",Z7=1),6.9,9)) -> 9 | AD7: =IF(AB7="NON","0",IF(Y7="CHRONOPOST",((K7-1)*AC7),"")) -> 9 | AE7: =IF(Y7="CHRONOPOST",BDD_1!$H$22*K7,BDD_1!$H$23*K7) -> 1.3 | AF7: =IF(Y7="CHRONOPOST",((AA7+AD7)*0.15),0) -> #REF! | AG7: =AA7+AD7+AE7+AF7 -> #REF! | AH7: =(AG7+(AG7*0.15)) -> #REF! | AI7: 46.48 | AK7: =AI7-AJ7 -> 46.48
A8: 43801 | B8: 43801 | C8: PRIMERA EVERS | D8: PAYS-BAS | E8: INTERFACE | G8: FAXW1912-0001 | H8: =IF(E8="INTERFACE",G8," ") -> FAXW1912-0001 | I8: 153.05 | J8: PAYEE | K8: 1 | L8: XJ003913775JF | Q8: 2.3 | R8: kg | S8: 4.05 | T8: kg | U8: =ROUNDUP(S8,0) -> 5 | V8: kg | X8: kg | Y8: CHRONOPOST | Z8: =VLOOKUP("PAYS-BAS",BDD_1!$A$2:$C$26,2,FALSE) -> Z1 | AA8: =INDEX(BDD_2!$B$5:$H$104,MATCH(U8,BDD_2!$A$5:$A$104,1)) -> #REF! | AB8: =IF(AND(Y8="CHRONOPOST",K8>1),"OUI","NON") -> NON | AC8: =IF(AB8="NON","0",IF(AND(AB8="OUI",Z8=1),6.9,9)) -> 0 | AD8: =IF(AB8="NON","0",IF(Y8="CHRONOPOST",((K8-1)*AC8),"")) -> 0 | AE8: =IF(Y8="CHRONOPOST",BDD_1!$H$22*K8,BDD_1!$H$23*K8) -> 0.65 | AF8: =IF(Y8="CHRONOPOST",((AA8+AD8)*0.15),0) -> #REF! | AG8: =AA8+AD8+AE8+AF8 -> #REF! | AH8: =(AG8+(AG8*0.15)) -> #REF! | AI8: 15.05 | AK8: =AI8-AJ8 -> 15.05
A9: 43803 | B9: 43810 | C9: HLMH | D9: ALLEMAGNE | E9: INTERFACE | G9: FAXW1912-0002 | H9: =IF(E9="INTERFACE",G9," ") -> FAXW1912-0002 | I9: 1843.48 | J9: PAYEE | K9: 2 | L9: XJ005048985JF | M9: XJ005048977JF | Q9: =11.9+18.79 -> 30.69 | R9: kg | S9: 31.53 | T9: kg | U9: =ROUNDUP(S9,0) -> 32 | V9: kg | X9: kg | Y9: CHRONOPOST | Z9: =VLOOKUP("grece",BDD_1!$A$2:$C$26,2,FALSE) -> Z2 | AA9: =INDEX(BDD_2!$B$5:$H$104,MATCH(U9,BDD_2!$A$5:$A$104,1)) -> #REF! | AB9: =IF(AND(Y9="CHRONOPOST",K9>1),"OUI","NON") -> OUI | AC9: =IF(AB9="NON","0",IF(AND(AB9="OUI",Z9=1),6.9,9)) -> 9 | AD9: =IF(AB9="NON","0",IF(Y9="CHRONOPOST",((K9-1)*AC9),"")) -> 9 | AE9: =IF(Y9="CHRONOPOST",BDD_1!$H$22*K9,BDD_1!$H$23*K9) -> 1.3 | AF9: =IF(Y9="CHRONOPOST",((AA9+AD9)*0.15),0) -> #REF! | AG9: =AA9+AD9+AE9+AF9 -> #REF! | AH9: =(AG9+(AG9*0.15)) -> #REF! | AI9: 46.48 | AK9: =AI9-AJ9 -> 46.48
A10: 43803 | B10: 43803 | C10: VAPERALIA | D10: ESPAGNE | E10: NON-SAISIE | H10: =IF(E10="INTERFACE",G10," ") | J10: GRATUITE | K10: 1 | L10: XJ004200002JF | Q10: 0.6 | R10: kg | S10: 0 | T10: kg | U10: =ROUNDUP(S10,0) -> 0 | V10: kg | X10: kg | Y10: CHRONOPOST | Z10: =VLOOKUP("ESPAGNE",BDD_1!$A$2:$C$26,2,FALSE) -> Z2 | AA10: =INDEX(BDD_2!$B$5:$H$104,MATCH(U10,BDD_2!$A$5:$A$104,1)) -> #N/A | AB10: =IF(AND(Y10="CHRONOPOST",K10>1),"OUI","NON") -> NON | AC10: =IF(AB10="NON","0",IF(AND(AB10="OUI",Z10=1),6.9,9)) -> 0 | AD10: =IF(AB10="NON","0",IF(Y10="CHRONOPOST",((K10-1)*AC10),"")) -> 0 | AE10: =IF(Y10="CHRONOPOST",BDD_1!$H$22*K10,BDD_1!$H$23*K10) -> 0.65 | AF10: =IF(Y10="CHRONOPOST",((AA10+AD10)*0.15),0) -> #N/A | AG10: =AA10+AD10+AE10+AF10 -> #N/A | AH10: =(AG10+(AG10*0.15)) -> #N/A | AI10: 0 | AK10: =AI10-AJ10 -> 0
A11: 43803 | B11: 43803 | C11: VDLV HOLLAND | D11: PAYS-BAS | E11: NON-SAISIE | H11: =IF(E11="INTERFACE",G11," ") | J11: GRATUITE | K11: 1 | L11: XJ004200815JF | Q11: 0.6 | R11: kg | S11: 0 | T11: kg | U11: =ROUNDUP(S11,0) -> 0 | V11: kg | X11: kg | Y11: CHRONOPOST | Z11: =VLOOKUP("PAYS-BAS",BDD_1!$A$2:$C$26,2,FALSE) -> Z1 | AA11: =INDEX(BDD_2!$B$5:$H$104,MATCH(U11,BDD_2!$A$5:$A$104,1)) -> #N/A | AB11: =IF(AND(Y11="CHRONOPOST",K11>1),"OUI","NON") -> NON | AC11: =IF(AB11="NON","0",IF(AND(AB11="OUI",Z11=1),6.9,9)) -> 0 | AD11: =IF(AB11="NON","0",IF(Y11="CHRONOPOST",((K11-1)*AC11),"")) -> 0 | AE11: =IF(Y11="CHRONOPOST",BDD_1!$H$22*K11,BDD_1!$H$23*K11) -> 0.65 | AF11: =IF(Y11="CHRONOPOST",((AA11+AD11)*0.15),0) -> #N/A | AG11: =AA11+AD11+AE11+AF11 -> #N/A | AH11: =(AG11+(AG11*0.15)) -> #N/A | AI11: 0 | AK11: =AI11-AJ11 -> 0
A12: 43808 | B12: 43808 | C12: TGC TRADING | D12: PAYS-BAS | E12: INTERFACE | G12: FAXW1912-0003 | H12: =IF(E12="INTERFACE",G12," ") -> FAXW1912-0003 | I12: 2137.07 | J12: PAYEE | K12: 2 | L12: XJ004794005JF | M12: XJ004794014JF | Q12: =14.4+21.1 -> 35.5 | R12: kg | S12: 38.85 | T12: kg | U12: =ROUNDUP(S12,0) -> 39 | V12: kg | X12: kg | Y12: CHRONOPOST | Z12: =VLOOKUP("PAYS-BAS",BDD_1!$A$2:$C$26,2,FALSE) -> Z1 | AA12: =INDEX(BDD_2!$B$5:$H$104,MATCH(U12,BDD_2!$A$5:$A$104,1)) -> #REF! | AB12: =IF(AND(Y12="CHRONOPOST",K12>1),"OUI","NON") -> OUI | AC12: =IF(AB12="NON","0",IF(AND(AB12="OUI",Z12=1),6.9,9)) -> 9 | AD12: =IF(AB12="NON","0",IF(Y12="CHRONOPOST",((K12-1)*AC12),"")) -> 9 | AE12: =IF(Y12="CHRONOPOST",BDD_1!$H$22*K12,BDD_1!$H$23*K12) -> 1.3 | AF12: =IF(Y12="CHRONOPOST",((AA12+AD12)*0.15),0) -> #REF! | AG12: =AA12+AD12+AE12+AF12 -> #REF! | AH12: =(AG12+(AG12*0.15)) -> #REF! | AI12: 52.07 | AK12: =AI12-AJ12 -> 52.07
A13: 43815 | B13: 43816 | C13: TGC TRADING | D13: PAYS-BAS | E13: INTERFACE | G13: FAXW1912-0004 | H13: =IF(E13="INTERFACE",G13," ") -> FAXW1912-0004 | I13: 1143.51 | J13: PAYEE | K13: 2 | L13: XJ005815047JF | M13: XJ005815033JF | Q13: =5.6+19.29 -> 24.89 | R13: kg | S13: 28.14 | T13: kg | U13: =ROUNDUP(S13,0) -> 29 | V13: kg | X13: kg | Y13: CHRONOPOST | Z13: =VLOOKUP("PAYS-BAS",BDD_1!$A$2:$C$26,2,FALSE) -> Z1 | AA13: =INDEX(BDD_2!$B$5:$H$104,MATCH(U13,BDD_2!$A$5:$A$104,1)) -> #REF! | AB13: =IF(AND(Y13="CHRONOPOST",K13>1),"OUI","NON") -> OUI | AC13: =IF(AB13="NON","0",IF(AND(AB13="OUI",Z13=1),6.9,9)) -> 9 | AD13: =IF(AB13="NON","0",IF(Y13="CHRONOPOST",((K13-1)*AC13),"")) -> 9 | AE13: =IF(Y13="CHRONOPOST",BDD_1!$H$22*K13,BDD_1!$H$23*K13) -> 1.3 | AF13: =IF(Y13="CHRONOPOST",((AA13+AD13)*0.15),0) -> #REF! | AG13: =AA13+AD13+AE13+AF13 -> #REF! | AH13: =(AG13+(AG13*0.15)) -> #REF! | AI13: 48.51 | AK13: =AI13-AJ13 -> 48.51
A14: 43815 | B14: 43822 | C14: DIAMOND FLAVOURS | D14: PAYS-BAS | E14: INTERFACE | G14: FAXW1912-0005 | H14: =IF(E14="INTERFACE",G14," ") -> FAXW1912-0005 | I14: 3964.28 | J14: IMPAYEE | K14: 3 | L14: 121204090 | Q14: 62.4 | R14: kg | S14: 67.63 | T14: kg | U14: =ROUNDUP(S14,0) -> 68 | V14: kg | W14: 62.4 | X14: kg | Y14: TNT | Z14: =VLOOKUP("PAYS-BAS",BDD_1!$A$2:$C$26,2,FALSE) -> Z1 | AA14: 72.3 | AB14: =IF(AND(Y14="CHRONOPOST",K14>1),"OUI","NON") -> NON | AC14: =IF(AB14="NON","0",IF(AND(AB14="OUI",Z14=1),6.9,9)) -> 0 | AD14: =IF(AB14="NON","0",IF(Y14="CHRONOPOST",((K14-1)*AC14),"")) -> 0 | AE14: =IF(Y14="CHRONOPOST",BDD_1!$H$22*K14,BDD_1!$H$23*K14) -> 0 | AF14: =IF(Y14="CHRONOPOST",((AA14+AD14)*0.15),0) -> 0 | AG14: =AA14+AD14+AE14+AF14 -> 72.3 | AH14: =(AG14+(AG14*0.15)) -> 83.145 | AI14: 82.78 | AJ14: 62.67 | AK14: =AI14-AJ14 -> 20.11
A15: 43815 | B15: 43823 | C15: JOHA VAPE | D15: IRLANDE | E15: INTERFACE | G15: FAXW1912-0006 | H15: =IF(E15="INTERFACE",G15," ") -> FAXW1912-0006 | I15: 1045.06 | J15: PAYEE | K15: 1 | L15: XJ006404621JF | Q15: 20.2 | R15: kg | S15: 18.34 | T15: kg | U15: =ROUNDUP(S15,0) -> 19 | V15: kg | X15: kg | Y15: CHRONOPOST | Z15: =VLOOKUP("IRLANDE",BDD_1!$A$2:$C$26,2,FALSE) -> Z2 | AA15: =INDEX(BDD_2!$B$5:$H$104,MATCH(U15,BDD_2!$A$5:$A$104,1)) -> #REF! | AB15: =IF(AND(Y15="CHRONOPOST",K15>1),"OUI","NON") -> NON | AC15: =IF(AB15="NON","0",IF(AND(AB15="OUI",Z15=1),6.9,9)) -> 0 | AD15: =IF(AB15="NON","0",IF(Y15="CHRONOPOST",((K15-1)*AC15),"")) -> 0 | AE15: =IF(Y15="CHRONOPOST",BDD_1!$H$22*K15,BDD_1!$H$23*K15) -> 0.65 | AF15: =IF(Y15="CHRONOPOST",((AA15+AD15)*0.15),0) -> #REF! | AG15: =AA15+AD15+AE15+AF15 -> #REF! | AH15: =(AG15+(AG15*0.15)) -> #REF! | AI15: 29.37 | AK15: =AI15-AJ15 -> 29.37
A16: 43818 | B16: 43818 | C16: K110-IKE | D16: GRECE | E16: NON-SAISIE | F16: ECHANTILLONS NOUVEAUTES | H16: =IF(E16="INTERFACE",G16," ") | J16: GRATUITE | K16: 1 | L16: 119456917 | Q16: 0.4 | R16: kg | S16: 0 | T16: kg | U16: =ROUNDUP(S16,0) -> 0 | V16: kg | W16: 0.6 | X16: kg | Y16: TNT | Z16: =VLOOKUP("GRECE",BDD_1!$A$2:$C$26,2,FALSE) -> Z2 | AA16: 0 | AB16: =IF(AND(Y16="CHRONOPOST",K16>1),"OUI","NON") -> NON | AC16: =IF(AB16="NON","0",IF(AND(AB16="OUI",Z16=1),6.9,9)) -> 0 | AD16: =IF(AB16="NON","0",IF(Y16="CHRONOPOST",((K16-1)*AC16),"")) -> 0 | AE16: =IF(Y16="CHRONOPOST",BDD_1!$H$22*K16,BDD_1!$H$23*K16) -> 0 | AF16: =IF(Y16="CHRONOPOST",((AA16+AD16)*0.15),0) -> 0 | AG16: =AA16+AD16+AE16+AF16 -> 0 | AH16: =(AG16+(AG16*0.15)) -> 0 | AI16: 0 | AJ16: 19.19 | AK16: =AI16-AJ16 -> -19.19
A17: 43818 | B17: 43818 | C17: HLMH | D17: ALLEMAGNE | E17: NON-SAISIE | F17: ECHANTILLONS NOUVEAUTES | H17: =IF(E17="INTERFACE",G17," ") | J17: GRATUITE | K17: 1 | L17: XJ006080979JF | Q17: 0.4 | R17: kg | S17: 0 | T17: kg | U17: =ROUNDUP(S17,0) -> 0 | V17: kg | X17: kg | Y17: CHRONOPOST | Z17: =VLOOKUP("ALLEMAGNE",BDD_1!$A$2:$C$26,2,FALSE) -> Z1 | AA17: =INDEX(BDD_2!$B$5:$H$104,MATCH(U17,BDD_2!$A$5:$A$104,1)) -> #N/A | AB17: =IF(AND(Y17="CHRONOPOST",K17>1),"OUI","NON") -> NON | AC17: =IF(AB17="NON","0",IF(AND(AB17="OUI",Z17=1),6.9,9)) -> 0 | AD17: =IF(AB17="NON","0",IF(Y17="CHRONOPOST",((K17-1)*AC17),"")) -> 0 | AE17: =IF(Y17="CHRONOPOST",BDD_1!$H$22*K17,BDD_1!$H$23*K17) -> 0.65 | AF17: =IF(Y17="CHRONOPOST",((AA17+AD17)*0.15),0) -> #N/A | AG17: =AA17+AD17+AE17+AF17 -> #N/A | AH17: =(AG17+(AG17*0.15)) -> #N/A | AI17: 0 | AK17: =AI17-AJ17 -> 0
A18: 43818 | B18: 43818 | C18: VAPERALIA | D18: ESPAGNE | E18: NON-SAISIE | F18: ECHANTILLONS NOUVEAUTES | H18: =IF(E18="INTERFACE",G18," ") | J18: GRATUITE | K18: 1 | L18: XJ006081271JF | Q18: 0.4 | R18: kg | S18: 0 | T18: kg | U18: =ROUNDUP(S18,0) -> 0 | V18: kg | X18: kg | Y18: CHRONOPOST | Z18: =VLOOKUP("ESPAGNE",BDD_1!$A$2:$C$26,2,FALSE) -> Z2 | AA18: =INDEX(BDD_2!$B$5:$H$104,MATCH(U18,BDD_2!$A$5:$A$104,1)) -> #N/A | AB18: =IF(AND(Y18="CHRONOPOST",K18>1),"OUI","NON") -> NON | AC18: =IF(AB18="NON","0",IF(AND(AB18="OUI",Z18=1),6.9,9)) -> 0 | AD18: =IF(AB18="NON","0",IF(Y18="CHRONOPOST",((K18-1)*AC18),"")) -> 0 | AE18: =IF(Y18="CHRONOPOST",BDD_1!$H$22*K18,BDD_1!$H$23*K18) -> 0.65 | AF18: =IF(Y18="CHRONOPOST",((AA18+AD18)*0.15),0) -> #N/A | AG18: =AA18+AD18+AE18+AF18 -> #N/A | AH18: =(AG18+(AG18*0.15)) -> #N/A | AI18: 0 | AK18: =AI18-AJ18 -> 0
A19: 43818 | B19: 43818 | C19: VDLV HOLLAND | D19: PAYS-BAS | E19: NON-SAISIE | F19: ECHANTILLONS NOUVEAUTES | H19: =IF(E19="INTERFACE",G19," ") | J19: GRATUITE | K19: 1 | L19: XJ006081550JF | Q19: 0.4 | R19: kg | S19: 0 | T19: kg | U19: =ROUNDUP(S19,0) -> 0 | V19: kg | X19: kg | Y19: CHRONOPOST | Z19: =VLOOKUP("PAYS-BAS",BDD_1!$A$2:$C$26,2,FALSE) -> Z1 | AA19: =INDEX(BDD_2!$B$5:$H$104,MATCH(U19,BDD_2!$A$5:$A$104,1)) -> #N/A | AB19: =IF(AND(Y19="CHRONOPOST",K19>1),"OUI","NON") -> NON | AC19: =IF(AB19="NON","0",IF(AND(AB19="OUI",Z19=1),6.9,9)) -> 0 | AD19: =IF(AB19="NON","0",IF(Y19="CHRONOPOST",((K19-1)*AC19),"")) -> 0 | AE19: =IF(Y19="CHRONOPOST",BDD_1!$H$22*K19,BDD_1!$H$23*K19) -> 0.65 | AF19: =IF(Y19="CHRONOPOST",((AA19+AD19)*0.15),0) -> #N/A | AG19: =AA19+AD19+AE19+AF19 -> #N/A | AH19: =(AG19+(AG19*0.15)) -> #N/A | AI19: 0 | AK19: =AI19-AJ19 -> 0
A20: 43818 | B20: 43818 | C20: IMPULS DISTRO | D20: PAYS-BAS | E20: INTERFACE | G20: FAXW1912-0007 | H20: =IF(E20="INTERFACE",G20," ") -> FAXW1912-0007 | I20: 699.25 | J20: IMPAYEE | K20: 1 | L20: XJ006121506JF | Q20: 11.6 | R20: kg | S20: 13.18 | T20: kg | U20: =ROUNDUP(S20,0) -> 14 | V20: kg | X20: kg | Y20: CHRONOPOST | Z20: =VLOOKUP("PAYS-BAS",BDD_1!$A$2:$C$26,2,FALSE) -> Z1 | AA20: =INDEX(BDD_2!$B$5:$H$104,MATCH(U20,BDD_2!$A$5:$A$104,1)) -> #REF! | AB20: =IF(AND(Y20="CHRONOPOST",K20>1),"OUI","NON") -> NON | AC20: =IF(AB20="NON","0",IF(AND(AB20="OUI",Z20=1),6.9,9)) -> 0 | AD20: =IF(AB20="NON","0",IF(Y20="CHRONOPOST",((K20-1)*AC20),"")) -> 0 | AE20: =IF(Y20="CHRONOPOST",BDD_1!$H$22*K20,BDD_1!$H$23*K20) -> 0.65 | AF20: =IF(Y20="CHRONOPOST",((AA20+AD20)*0.15),0) -> #REF! | AG20: =AA20+AD20+AE20+AF20 -> #REF! | AH20: =(AG20+(AG20*0.15)) -> #REF! | AI20: 24.25 | AK20: =AI20-AJ20 -> 24.25
A21: 43822 | B21: 43822 | C21: PRIMERA EVERS | D21: PAYS-BAS | E21: INTERFACE | G21: FAXW1912-0008 | H21: =IF(E21="INTERFACE",G21," ") -> FAXW1912-0008 | I21: 144.74 | J21: IMPAYEE | K21: 1 | L21: XJ006365579JF | Q21: 2.5 | R21: kg | S21: 3.94 | T21: kg | U21: =ROUNDUP(S21,0) -> 4 | V21: kg | X21: kg | Y21: CHRONOPOST | Z21: =VLOOKUP("PAYS-BAS",BDD_1!$A$2:$C$26,2,FALSE) -> Z1 | AA21: =INDEX(BDD_2!$B$5:$H$104,MATCH(U21,BDD_2!$A$5:$A$104,1)) -> #REF! | AB21: =IF(AND(Y21="CHRONOPOST",K21>1),"OUI","NON") -> NON | AC21: =IF(AB21="NON","0",IF(AND(AB21="OUI",Z21=1),6.9,9)) -> 0 | AD21: =IF(AB21="NON","0",IF(Y21="CHRONOPOST",((K21-1)*AC21),"")) -> 0 | AE21: =IF(Y21="CHRONOPOST",BDD_1!$H$22*K21,BDD_1!$H$23*K21) -> 0.65 | AF21: =IF(Y21="CHRONOPOST",((AA21+AD21)*0.15),0) -> #REF! | AG21: =AA21+AD21+AE21+AF21 -> #REF! | AH21: =(AG21+(AG21*0.15)) -> #REF! | AI21: 12.74 | AK21: =AI21-AJ21 -> 12.74
A22: 43823 | B22: 43830 | C22: ZWOOFS | D22: PAYS-BAS | E22: INTERFACE | G22: FAXW1912-0009 | H22: =IF(E22="INTERFACE",G22," ") -> FAXW1912-0009 | I22: 826.82 | J22: IMPAYEE | K22: 1 | L22: XJ006793921JF | Q22: 12.3 | R22: kg | T22: kg | U22: =ROUNDUP(S22,0) -> 0 | V22: kg | X22: kg | Z22: =VLOOKUP("PAYS-BAS",BDD_1!$A$2:$C$26,2,FALSE) -> Z1 | AA22: =INDEX(BDD_2!$B$5:$H$104,MATCH(U22,BDD_2!$A$5:$A$104,1)) -> #N/A | AB22: =IF(AND(Y22="CHRONOPOST",K22>1),"OUI","NON") -> NON | AC22: =IF(AB22="NON","0",IF(AND(AB22="OUI",Z22=1),6.9,9)) -> 0 | AD22: =IF(AB22="NON","0",IF(Y22="CHRONOPOST",((K22-1)*AC22),"")) -> 0 | AE22: =IF(Y22="CHRONOPOST",BDD_1!$H$22*K22,BDD_1!$H$23*K22) -> 0 | AF22: =IF(Y22="CHRONOPOST",((AA22+AD22)*0.15),0) -> 0 | AG22: =AA22+AD22+AE22+AF22 -> #N/A | AH22: =(AG22+(AG22*0.15)) -> #N/A | AK22: =AI22-AJ22 -> 0
A23: 43825 | B23: 43836 | C23: VAPERALIA | D23: ESPAGNE | E23: INTERFACE | G23: FAXW1912-0010 | H23: =IF(E23="INTERFACE",G23," ") -> FAXW1912-0010 | I23: 6105.94 | J23: PAYEE | K23: 3 | L23: 123921813 | Q23: 98 | R23: kg | S23: 100 | T23: kg | U23: =ROUNDUP(S23,0) -> 100 | V23: kg | X23: kg | Y23: TNT | Z23: =VLOOKUP("ESPAGNE",BDD_1!$A$2:$C$26,2,FALSE) -> Z2 | AA23: 98.21 | AB23: =IF(AND(Y23="CHRONOPOST",K23>1),"OUI","NON") -> NON | AC23: =IF(AB23="NON","0",IF(AND(AB23="OUI",Z23=1),6.9,9)) -> 0 | AD23: =IF(AB23="NON","0",IF(Y23="CHRONOPOST",((K23-1)*AC23),"")) -> 0 | AE23: =IF(Y23="CHRONOPOST",BDD_1!$H$22*K23,BDD_1!$H$23*K23) -> 0 | AF23: =IF(Y23="CHRONOPOST",((AA23+AD23)*0.15),0) -> 0 | AG23: =AA23+AD23+AE23+AF23 -> 98.21 | AH23: =(AG23+(AG23*0.15)) -> 112.9415 | AI23: =112.94 -> 112.94 | AK23: =AI23-AJ23 -> 112.94
A24: 43825 | B24: 43836 | C24: VAPERALIA | D24: ESPAGNE | E24: INTERFACE | G24: AVX1912-0024 | H24: =IF(E24="INTERFACE",G24," ") -> AVX1912-0024 | I24: -362.5 | J24: PAYEE | L24: N/A | Q24: 0 | R24: kg | S24: 0 | T24: kg | U24: =ROUNDUP(S24,0) -> 0 | V24: kg | W24: 0 | X24: kg | AA24: =INDEX(BDD_2!$B$5:$H$104,MATCH(U24,BDD_2!$A$5:$A$104,1)) -> #N/A | AB24: =IF(AND(Y24="CHRONOPOST",K24>1),"OUI","NON") -> NON | AC24: =IF(AB24="NON","0",IF(AND(AB24="OUI",Z24=1),6.9,9)) -> 0 | AD24: =IF(AB24="NON","0",IF(Y24="CHRONOPOST",((K24-1)*AC24),"")) -> 0 | AE24: =IF(Y24="CHRONOPOST",BDD_1!$H$22*K24,BDD_1!$H$23*K24) -> 0 | AF24: =IF(Y24="CHRONOPOST",((AA24+AD24)*0.15),0) -> 0 | AG24: =AA24+AD24+AE24+AF24 -> #N/A | AH24: =(AG24+(AG24*0.15)) -> #N/A | AK24: =AI24-AJ24 -> 0
A25: 43829 | B25: 43843 | C25: HLMH | D25: ALLEMAGNE | E25: INTERFACE | G25: FAXW1912-0011 | H25: =IF(E25="INTERFACE",G25," ") -> FAXW1912-0011 | I25: 4326.8 | J25: IMPAYEE | K25: 3 | R25: kg | S25: 73.76 | T25: kg | U25: =ROUNDUP(S25,0) -> 74 | V25: kg | X25: kg | Y25: CHRONOPOST | Z25: =VLOOKUP("ALLEMAGNE",BDD_1!$A$2:$C$26,2,FALSE) -> Z1 | AA25: =79.39 -> 79.39 | AB25: =IF(AND(Y25="CHRONOPOST",K25>1),"OUI","NON") -> OUI | AC25: =IF(AB25="NON","0",IF(AND(AB25="OUI",Z25=1),6.9,9)) -> 9 | AD25: =IF(AB25="NON","0",IF(Y25="CHRONOPOST",((K25-1)*AC25),"")) -> 18 | AE25: =IF(Y25="CHRONOPOST",BDD_1!$H$22*K25,BDD_1!$H$23*K25) -> 1.95 | AF25: =IF(Y25="CHRONOPOST",((AA25+AD25)*0.15),0) -> 14.6085 | AG25: =AA25+AD25+AE25+AF25 -> 113.9485 | AH25: =(AG25+(AG25*0.15)) -> 131.04077 | AI25: 91.3 | AK25: =AI25-AJ25 -> 91.3
A26: 43829 | B26: 43837 | C26: TGC TRADING | D26: PAYS-BAS | E26: INTERFACE | G26: FAXW1912-0012 | H26: =IF(E26="INTERFACE",G26," ") -> FAXW1912-0012 | I26: 2605.85 | J26: IMPAYEE | K26: 2 | L26: XJ007214252JF | M26: XJ007214252JF | Q26: =14.4+14.4 -> 28.8 | R26: kg | S26: 46.5 | T26: kg | U26: =ROUNDUP(S26,0) -> 47 | V26: kg | X26: kg | Y26: CHRONOPOST | Z26: =VLOOKUP("PAYS-BAS",BDD_1!$A$2:$C$26,2,FALSE) -> Z1 | AA26: 54.71 | AB26: =IF(AND(Y26="CHRONOPOST",K26>1),"OUI","NON") -> OUI | AC26: =IF(AB26="NON","",IF(AND(AB26="OUI",Z26=1),6.9,9)) -> 9 | AD26: =IF(AB26="NON","",IF(Y26="CHRONOPOST",((K26-1)*AC26),"")) -> 9 | AE26: =IF(Y26="CHRONOPOST",BDD_1!$H$22*K26,BDD_1!$H$23*K26) -> 1.3 | AF26: =IF(Y26="CHRONOPOST",((AA26+AD26)*0.15),0) -> 9.5565 | AG26: =AA26+AD26+AE26+AF26 -> 74.5665 | AH26: =(AG26+(AG26*0.15)) -> 85.751475 | AI26: 70.85 | AK26: =AI26-AJ26 -> 70.85
A27: 43830 | B27: N/A | C27: SHOP E-CIGARETTE | D27: ROYAUME-UNI | E27: INTERFACE | G27: FAXW1912-0013 | H27: =IF(E27="INTERFACE",G27," ") -> FAXW1912-0013 | I27: 1970.79 | J27: ANNULEE | L27: N/A | R27: kg | T27: kg | V27: kg | X27: kg | Z27: =VLOOKUP("PAYS-BAS",BDD_1!$A$2:$C$26,2,FALSE) -> Z1 | AB27: =IF(AND(Y27="CHRONOPOST",K27>1),"OUI","NON") -> NON | AC27: =IF(AB27="NON","",IF(AND(AB27="OUI",Z27=1),6.9,9)) | AD27: =IF(AB27="NON","0",IF(Y27="CHRONOPOST",((K27-1)*AC27),"0")) -> 0 | AE27: =IF(Y27="CHRONOPOST",BDD_1!$H$22*K27,BDD_1!$H$23*K27) -> 0 | AF27: =IF(Y27="CHRONOPOST",((AA27+AD27)*0.15),0) -> 0 | AG27: =AA27+AD27+AE27+AF27 -> 0 | AH27: =(AG27+(AG27*0.15)) -> 0 | AK27: =AG27-AI27 -> 0
A28: 43830 | B28: N/A | C28: SHOP E-CIGARETTE | D28: ROYAUME-UNI | E28: INTERFACE | G28: AVX1912-0025 | H28: =IF(E28="INTERFACE",G28," ") -> AVX1912-0025 | I28: -1970.29 | J28: ANNULEE | L28: N/A | R28: kg | T28: kg | V28: kg | X28: kg | Z28: =VLOOKUP("PAYS-BAS",BDD_1!$A$2:$C$26,2,FALSE) -> Z1 | AB28: =IF(AND(Y28="CHRONOPOST",K28>1),"OUI","NON") -> NON | AC28: =IF(AB28="NON","",IF(AND(AB28="OUI",Z28=1),6.9,9)) | AD28: =IF(AB28="NON","0",IF(Y28="CHRONOPOST",((K28-1)*AC28),"0")) -> 0 | AE28: =IF(Y28="CHRONOPOST",BDD_1!$H$22*K28,BDD_1!$H$23*K28) -> 0 | AF28: =IF(Y28="CHRONOPOST",((AA28+AD28)*0.15),0) -> 0 | AG28: =AA28+AD28+AE28+AF28 -> 0 | AH28: =(AG28+(AG28*0.15)) -> 0 | AK28: =AG28-AI28 -> 0
A29: 43830 | B29: 43839 | C29: SHOP E-CIGARETTE | D29: ROYAUME-UNI | E29: INTERFACE | F29: A Expédier avec FAXW2001-0001 | G29: FAXW1912-0014 | H29: =IF(E29="INTERFACE",G29," ") -> FAXW1912-0014 | I29: 2135.79 | J29: PAYEE | K29: 1 | L29: N/A | R29: kg | T29: kg | V29: kg | X29: kg | Y29: CHRONOPOST | Z29: =VLOOKUP("ROYAUME-UNI",BDD_1!$A$2:$C$26,2,FALSE) -> Z2 | AA29: 33.92 | AB29: =IF(AND(Y29="CHRONOPOST",K29>1),"OUI","NON") -> NON | AC29: =IF(AB29="NON","",IF(AND(AB29="OUI",Z29=1),6.9,9)) | AD29: =IF(AB29="NON","0",IF(Y29="CHRONOPOST",((K29-1)*AC29),"0")) -> 0 | AE29: =IF(Y29="CHRONOPOST",BDD_1!$H$22*K29,BDD_1!$H$23*K29) -> 0.65 | AF29: =IF(Y29="CHRONOPOST",((AA29+AD29)*0.15),0) -> 5.088 | AG29: =AA29+AD29+AE29+AF29 -> 39.658 | AH29: =(AG29+(AG29*0.15)) -> 45.6067 | AI29: =40.79 -> 40.79 | AK29: =AG29-AI29 -> -1.132
H30: =IF(E30="INTERFACE",G30," ")
H31: =IF(E31="INTERFACE",G31," ")
H32: =IF(E32="INTERFACE",G32," ")
H33: =IF(E33="INTERFACE",G33," ")
H34: =IF(E34="INTERFACE",G34," ")
H35: =IF(E35="INTERFACE",G35," ")
H36: =IF(E36="INTERFACE",G36," ")
H37: =IF(E37="INTERFACE",G37," ")
H38: =IF(E38="INTERFACE",G38," ")
H39: =IF(E39="INTERFACE",G39," ")
H40: =IF(E40="INTERFACE",G40," ")
H41: =IF(E41="INTERFACE",G41," ")
... H1287: =IF(E1287="INTERFACE",G1287," ")

Sheet TABLEAU BASE_2020
A1: DATE SAISIE CDE | B1: DATE EXPEDITION | C1: NOM CLIENT | D1: PAYS | E1: PLATEFORME SAISIE | F1: COMMENTAIRE | G1: REF PI | H1: REF FACTURE | I1: MONTANT CDE | J1: STATUT | K1: NBRE COLIS | L1: REF COLIS 1 | M1: REF COLIS 2 | N1: REF COLIS 3 | O1: REF COLIS 4 | P1: REF COLIS 5 | Q1: POIDS ESTIME LOG | S1: POIDS ESTIME EXPORT | U1: POIDS ESTIME ARRONDI | W1: POIDS FACTURE TSP | Y1: TRANSPORTEUR | Z1: ZONE | AA1: PRIX EXPE ESTIME | AB1: SURCHARGE ? | AC1: MONTANT SURCHARGE | AD1: CALCUL SURCHARGE | AE1: SURETE | AF1: CARBURANT | AG1: PRIX TOTAL ESTIME | AH1: PRIX MARGE A 15% | AI1: PRIX FACTURE PAR VDLV | AJ1: PRIX REEL FACTURE PAR TSP | AK1: DIFFERENCE
A2: 43833 | B2: 43839 | C2: SHOP E-CIGARETTE | D2: ROYAUME-UNI | E2: INTERFACE | F2: A Expédier avec FAXW1912-0014 | G2: FAXW2001-0001 | H2: =IF(E2="INTERFACE",G2," ") -> FAXW2001-0001 | I2: 281.06 | J2: PAYEE | K2: 1 | R2: kg | S2: 40 | T2: kg | U2: =ROUNDUP(S2,0) -> 40 | V2: kg | X2: kg | Y2: CHRONOPOST | Z2: =VLOOKUP("ROYAUME-UNI",BDD_1!$A$2:$C$26,2,FALSE) -> Z2 | AA2: 42.32 | AB2: =IF(AND(Y2="CHRONOPOST",K2>1),"OUI","NON") -> NON | AC2: =IF(AB2="NON","0",IF(AND(AB2="OUI",Z2=1),6.9,9)) -> 0 | AD2: =IF(AB2="NON","0",IF(Y2="CHRONOPOST",((K2-1)*AC2),"0")) -> 0 | AE2: =IF(Y2="CHRONOPOST",BDD_1!$H$22*K2,BDD_1!$H$23*K2) -> 0.65 | AF2: =IF(Y2="CHRONOPOST",((AA2+AD2)*0.15),0) -> 6.348 | AG2: =AA2+AD2+AE2+AF2 -> 49.318 | AH2: =(AG2+(AG2*0.15)) -> 56.7157 | AI2: =40.79+11.06 -> 51.85 | AK2: =AI2-AJ2 -> 51.85
A3: 43837 | C3: DIAMOND FLAVOURS | D3: PAYS-BAS | E3: INTERFACE | G3: FAXW2001-0002 | H3: =IF(E3="INTERFACE",G3," ") -> FAXW2001-0002 | I3: 3636.9 | J3: IMPAYEE | K3: 3 | R3: kg | S3: 75 | T3: kg | U3: =ROUNDUP(S3,0) -> 75 | V3: kg | X3: kg | Y3: TNT | Z3: =VLOOKUP("PAYS-BAS",BDD_1!$A$2:$C$26,2,FALSE) -> Z1 | AA3: 79.4 | AB3: =IF(AND(Y3="CHRONOPOST",K3>1),"OUI","NON") -> NON | AC3: =IF(AB3="NON","0",IF(AND(AB3="OUI",Z3=1),6.9,9)) -> 0 | AD3: =IF(AB3="NON","0",IF(Y3="CHRONOPOST",((K3-1)*AC3),"0")) -> 0 | AE3: =IF(Y3="CHRONOPOST",BDD_1!$H$22*K3,BDD_1!$H$23*K3) -> 0 | AF3: =IF(Y3="CHRONOPOST",((AA3+AD3)*0.15),0) -> 0 | AG3: =AA3+AD3+AE3+AF3 -> 79.4 | AH3: =(AG3+(AG3*0.15)) -> 91.31 | AI3: 91.31 | AK3: =AI3-AJ3 -> 91.31
H4: =IF(E4="INTERFACE",G4," ") | R4: kg | V4: kg | AB4: =IF(Y4="CHRONOPOST","OUI","NON") -> NON | AK4: =AI4-AJ4 -> 0
H5: =IF(E5="INTERFACE",G5," ") | AB5: =IF(Y5="CHRONOPOST","OUI","NON") -> NON | AK5: =AI5-AJ5 -> 0
H6: =IF(E6="INTERFACE",G6," ") | AB6: =IF(Y6="CHRONOPOST","OUI","NON") -> NON | AK6: =AI6-AJ6 -> 0
H7: =IF(E7="INTERFACE",G7," ") | AB7: =IF(Y7="CHRONOPOST","OUI","NON") -> NON | AK7: =AI7-AJ7 -> 0
H8: =IF(E8="INTERFACE",G8," ") | AB8: =IF(Y8="CHRONOPOST","OUI","NON") -> NON | AK8: =AI8-AJ8 -> 0
H9: =IF(E9="INTERFACE",G9," ") | AB9: =IF(Y9="CHRONOPOST","OUI","NON") -> NON | AK9: =AI9-AJ9 -> 0
H10: =IF(E10="INTERFACE",G10," ") | AB10: =IF(Y10="CHRONOPOST","OUI","NON") -> NON | AK10: =AI10-AJ10 -> 0
H11: =IF(E11="INTERFACE",G11," ") | AB11: =IF(Y11="CHRONOPOST","OUI","NON") -> NON | AK11: =AI11-AJ11 -> 0
H12: =IF(E12="INTERFACE",G12," ") | AB12: =IF(Y12="CHRONOPOST","OUI","NON") -> NON | AK12: =AI12-AJ12 -> 0
H13: =IF(E13="INTERFACE",G13," ") | AB13: =IF(Y13="CHRONOPOST","OUI","NON") -> NON | AK13: =AI13-AJ13 -> 0
H14: =IF(E14="INTERFACE",G14," ") | AB14: =IF(Y14="CHRONOPOST","OUI","NON") -> NON | AK14: =AI14-AJ14 -> 0
H15: =IF(E15="INTERFACE",G15," ") | AB15: =IF(Y15="CHRONOPOST","OUI","NON") -> NON | AK15: =AI15-AJ15 -> 0
H16: =IF(E16="INTERFACE",G16," ") | AB16: =IF(Y16="CHRONOPOST","OUI","NON") -> NON | AK16: =AI16-AJ16 -> 0
... H22: =IF(E22="INTERFACE",G22," ") | AB22: =IF(Y22="CHRONOPOST","OUI","NON") -> NON | AK22: =AI22-AJ22 -> 0
H23: =IF(E23="INTERFACE",G23," ") | AK23: =AI23-AJ23 -> 0
H24: =IF(E24="INTERFACE",G24," ") | AK24: =AI24-AJ24 -> 0
H25: =IF(E25="INTERFACE",G25," ") | AK25: =AI25-AJ25 -> 0
H26: =IF(E26="INTERFACE",G26," ") | AK26: =AI26-AJ26 -> 0
H27: =IF(E27="INTERFACE",G27," ") | AK27: =AI27-AJ27 -> 0
H28: =IF(E28="INTERFACE",G28," ") | AK28: =AI28-AJ28 -> 0
H29: =IF(E29="INTERFACE",G29," ") | AK29: =AI29-AJ29 -> 0
H30: =IF(E30="INTERFACE",G30," ")
H31: =IF(E31="INTERFACE",G31," ")
H32: =IF(E32="INTERFACE",G32," ")
H33: =IF(E33="INTERFACE",G33," ")
H34: =IF(E34="INTERFACE",G34," ")
H35: =IF(E35="INTERFACE",G35," ")
H36: =IF(E36="INTERFACE",G36," ")
H37: =IF(E37="INTERFACE",G37," ")
H38: =IF(E38="INTERFACE",G38," ")
H39: =IF(E39="INTERFACE",G39," ")
H40: =IF(E40="INTERFACE",G40," ")
H41: =IF(E41="INTERFACE",G41," ")
... H1321: =IF(E1321="INTERFACE",G1321," ")

Sheet Feuil1
