Workbook
Name essai: 'Calendrier réél'!$A$1:$Q$38
Name essai: 'Prévisionnel 10'!$A$1:$Q$38
Name essai: 'Prévisionnel 11'!$A$1:$E$20
Name essai: 'Prévisionnel 9'!$A$1:$Q$38
Name essai: 'Temps de travail 14'!$A$1:$R$34
Name impression: 'Calendrier réél'!$A$1:$Q$38
Name impression: 'Prévisionnel 10'!$A$1:$Q$38
Name impression: 'Prévisionnel 11'!$A$1:$E$20
Name impression: 'Prévisionnel 9'!$A$1:$Q$38
Name impression: 'Temps de travail 14'!$A$1:$R$34
Name Tableau: 'Prévisionnel 11'!$A$6:$D$20

Sheet contacts 14
A1: Saisonniers 2019 / greffons | C1: A partir du 10 janvier 2019
A3: Equipe CRVI | F3: Equipe Aghione / Aleria
B5: nb fagots | C5: 850 | G5: nb fagots | H5: 480
A6: nom | B6: tel | C6: dispo | D6: papiers | F6: nom | G6: tel | H6: dispo | I6: papiers
A7: Damien | B7: 613688709
A8: Momo | B8: 618526189 | F8: Nicolas Bonnet | G8: 607422198 | H8: ok | I8: oui
A9: Agnès Guilland | B9: 648612278 | C9: ok | D9: oui | F9: Stéphane Robert | G9: 615822173 | H9: ok | I9: oui
A10: Sophie Fontana | B10: 665441101 | C10: ok | D10: oui | F10: Bertrand Plancke | G10: 619859454 | H10: ok | I10: oui
A11: Anne Romeyer | B11: 688474449 | C11: ok | D11: oui | F11: Geoffrey Plancke | G11: 617840950 | H11: ok | I11: oui
A12: Coralie Kasule | B12: 614295219 | C12: ok | D12: oui | F12: Clémentine Gambet | G12: 608953716 | H12: ok | I12: oui
A13: Barbara Boryslawska | B13: 602105949 | C13: ok | D13: oui
A14: Francesca Vergellati | B14: 628751203 | C14: ok | D14: oui
A15: Delphine Jacquemin | B15: 625805897 | C15: ok | D15: oui
A16: Michel Alram | C16: ok | D16: oui
A17: Patricia Verdat | B17: 619873086 | C17: ok | D17: oui

Sheet Temps de travail 14
A1: CRVI | B1: Barcelo | C1: Poli Tony | D1: Renucci | E1: Mondange | F1: JBDP | G1: Suzzoni | H1: Poli Eric | I1: autres | J1: travaux vignes
A2: =[1]!NO_COULEUR(A1) -> 16777215 | B2: =[1]!NO_COULEUR(B1) -> 10079487 | C2: =[1]!NO_COULEUR(C1) -> 10092543 | D2: =[1]!NO_COULEUR(D1) -> 16777164 | E2: =[1]!NO_COULEUR(E1) -> 16751052 | F2: =[1]!NO_COULEUR(F1) -> 13434828 | G2: =[1]!NO_COULEUR(G1) -> 16764057 | H2: =[1]!NO_COULEUR(H1) -> 14277081 | ... J2: =[1]!NO_COULEUR(J1) -> 13408767
B4: Organisation de la récolte de greffons 2019
B6: ='contacts 14'!A8 -> Momo | C6: ='contacts 14'!A9 -> Agnès Guilland | D6: ='contacts 14'!A10 -> Sophie Fontana | E6: ='contacts 14'!A11 -> Anne Romeyer | F6: ='contacts 14'!A12 -> Coralie Kasule | G6: ='contacts 14'!A13 -> Barbara Boryslawska | H6: ='contacts 14'!A14 -> Francesca Vergellati | I6: ='contacts 14'!A15 -> Delphine Jacquemin | J6: ='contacts 14'!A16 -> Michel Alram | K6: ='contacts 14'!A17 -> Patricia Verdat | L6: ='contacts 14'!F8 -> Nicolas Bonnet | M6: ='contacts 14'!F9 -> Stéphane Robert | N6: ='contacts 14'!F10 -> Bertrand Plancke | O6: ='contacts 14'!F11 -> Geoffrey Plancke | P6: ='contacts 14'!F12 -> Clémentine Gambet
A7: 43479
A8: 43480 | B8: 16 | I8: 7 | J8: 7 | K8: 7 | R8: =SUM(B8:Q8) -> 37 | S8: =SUM(C8:Q8) -> 21
A9: 43481 | I9: 7 | J9: 7 | K9: 7 | R9: =SUM(B9:Q9)+R8 -> 58 | S9: =SUM(C9:Q9)+S8 -> 42
A10: 43482 | I10: 4 | J10: 8 | K10: 8 | R10: =SUM(B10:Q10)+R9 -> 78 | S10: =SUM(C10:Q10)+S9 -> 62
A11: 43483 | I11: 7 | J11: 7 | K11: 7 | R11: =SUM(B11:Q11)+R10 -> 99 | S11: =SUM(C11:Q11)+S10 -> 83
A12: 43484 | R12: =SUM(B12:Q12)+R11 -> 99 | S12: =SUM(C12:Q12)+S11 -> 83
A13: 43485 | R13: =SUM(B13:Q13)+R12 -> 99 | S13: =SUM(C13:Q13)+S12 -> 83
A14: 43486 | C14: 7 | D14: 7 | E14: 7 | F14: 7 | G14: 7 | H14: 7 | I14: 7 | J14: 7 | K14: 7 | L14: 7 | M14: 7 | N14: 7 | O14: 7 | P14: 7 | R14: =SUM(B14:Q14)+R13 -> 197 | S14: =SUM(C14:Q14)+S13 -> 181 | U14: En cours 2019 | AD14: =TODAY() -> 43838 | AE14: prévu
A15: 43487 | C15: 9 | D15: 9 | E15: 9 | F15: 9 | G15: 9 | H15: 9 | I15: 9 | J15: 7 | K15: 7 | L15: 7 | M15: 7 | N15: 7 | O15: 7 | P15: 7 | R15: =SUM(B15:Q15)+R14 -> 309 | S15: =SUM(C15:Q15)+S14 -> 293 | V15: nb h | W15: nb fag prévu | X15: nb fag en cours | Y15: nb fag/h | Z15: nb h prévues | AA15: nb fag/ j /personne
A16: 43488 | C16: 7 | D16: 7 | E16: 7 | F16: 7 | G16: 7 | H16: 7 | I16: 7 | J16: 9 | K16: 9 | L16: 9 | M16: 9 | N16: 9 | O16: 9 | P16: 9 | R16: =SUM(B16:Q16)+R15 -> 421 | S16: =SUM(C16:Q16)+S15 -> 405 | U16: CRVI | V16: =AD16 -> 581 | W16: =#REF!/1000 -> #REF! | X16: =#REF!/1000 -> #REF! | Y16: =X16/V16 -> #REF! | Z16: =W16/Y34 -> #REF! | AA16: =+W16/V16*7 -> #REF! | AC16: CRVI | AD16: =[1]!somme_si_couleur(B7:Q32,16777215) -> 581 | AE16: =Z16 -> #REF!
A17: 43489 | C17: 9 | D17: 9 | E17: 9 | F17: 9 | G17: 9 | H17: 9 | I17: 7 | J17: 7 | K17: 7 | L17: 7 | M17: 7 | N17: 7 | O17: 7 | P17: 7 | R17: =SUM(B17:Q17)+R16 -> 531 | S17: =SUM(C17:Q17)+S16 -> 515 | U17: Barcelo | V17: =AD17 -> 0 | W17: =#REF!/1000 -> #REF! | X17: =#REF!/1000 -> #REF! | Y17: =X17/V17 -> #REF! | Z17: =W17/Y35 -> #REF! | AA17: =+W17/V17*7 -> #REF! | AC17: Barcelo | AD17: =[1]!somme_si_couleur(B7:Q32,10079487) -> 0 | AE17: =Z17 -> #REF!
A18: 43490 | C18: 7 | D18: 7 | E18: 7 | F18: 7 | G18: 7 | H18: 7 | I18: 7 | J18: 7 | K18: 9 | L18: 9 | M18: 9 | N18: 9 | O18: 9 | P18: 9 | R18: =SUM(B18:Q18)+R17 -> 641 | S18: =SUM(C18:Q18)+S17 -> 625 | U18: Mondange | V18: =AD18 -> 252 | W18: =#REF!/1000 -> #REF! | X18: =#REF!/1000 -> #REF! | Y18: =X18/V18 -> #REF! | Z18: =W18/Y36 -> #REF! | AA18: =+W18/V18*7 -> #REF! | AC18: Mondange | AD18: =[1]!somme_si_couleur(B7:Q32,16751052) -> 252 | AE18: =Z18 -> #REF!
A19: 43491 | R19: =SUM(B19:Q19)+R18 -> 641 | S19: =SUM(C19:Q19)+S18 -> 625 | U19: JBDP | V19: =AD19 -> 154 | W19: =#REF!/1000 -> #REF! | X19: =#REF!/1000 -> #REF! | Y19: =X19/V19 -> #REF! | Z19: =W19/Y37/1.3 -> #REF! | AA19: =+W19/V19*7 -> #REF! | AC19: JBDP | AD19: =[1]!somme_si_couleur(B7:Q32,13434828) -> 154 | AE19: =Z19 -> #REF!
A20: 43492 | R20: =SUM(B20:Q20)+R19 -> 641 | S20: =SUM(C20:Q20)+S19 -> 625 | U20: Poli T | V20: =AD20 -> 0 | W20: =#REF!/1000 -> #REF! | X20: =#REF!/1000 -> #REF! | Y20: =X20/V20 -> #REF! | Z20: 0 | AA20: =+W20/V20*7 -> #REF! | AC20: Poli Tony | AD20: =[1]!somme_si_couleur(B7:Q32,10092543) -> 0 | AE20: =Z20 -> 0
A21: 43493 | C21: 7 | D21: 7 | E21: 7 | F21: 7 | G21: 7 | H21: 7 | I21: 9 | J21: 9 | K21: 9 | L21: 9 | M21: 9 | N21: 9 | O21: 9 | P21: 9 | R21: =SUM(B21:Q21)+R20 -> 755 | S21: =SUM(C21:Q21)+S20 -> 739 | U21: Suzzoni | V21: =AD21 -> 144 | W21: =#REF!/1000 -> #REF! | X21: =#REF!/1000 -> #REF! | Y21: =X21/V21 -> #REF! | Z21: =W21/Y39 -> #REF! | AA21: =+W21/V21*7 -> #REF! | AC21: Suzzoni | AD21: =[1]!somme_si_couleur(B7:Q32,16764057) -> 144 | AE21: =Z21 -> #REF!
A22: 43494 | C22: 7 | D22: 7 | E22: 7 | F22: 7 | G22: 7 | H22: 7 | I22: 9 | J22: 9 | K22: 9 | L22: 9 | M22: 9 | N22: 9 | O22: 9 | P22: 9 | R22: =SUM(B22:Q22)+R21 -> 869 | S22: =SUM(C22:Q22)+S21 -> 853 | U22: Renucci | V22: =AD22 -> 62 | W22: =#REF!/1000 -> #REF! | X22: =#REF!/1000 -> #REF! | Y22: =X22/V22 -> #REF! | Z22: =W22/Y40 -> #REF! | AA22: =+W22/V22*7 -> #REF! | AC22: Renucci | AD22: =[1]!somme_si_couleur(B7:Q32,16777164) -> 62 | AE22: =Z22 -> #REF!
A23: 43495 | C23: 7 | D23: 7 | E23: 7 | F23: 7 | G23: 7 | H23: 7 | I23: 7 | J23: 7 | K23: 7 | L23: 7 | M23: 7 | N23: 7 | O23: 7 | P23: 7 | R23: =SUM(B23:Q23)+R22 -> 967 | S23: =SUM(C23:Q23)+S22 -> 951 | U23: Poli E | V23: =AD23 -> 117 | W23: =#REF!/1000 -> #REF! | X23: =#REF!/1000 -> #REF! | Y23: =X23/V23 -> #REF! | Z23: =W23/0.5 -> #REF! | AA23: =+W23/V23*7 -> #REF! | AC23: Poli Eric | AD23: =[1]!somme_si_couleur(B7:Q32,14277081) -> 117 | AE23: =Z23 -> #REF!
A24: 43496 | C24: 7 | D24: 7 | E24: 7 | F24: 7 | G24: 7 | H24: 7 | I24: 7 | J24: 7 | K24: 7 | L24: 7 | M24: 7 | N24: 7 | O24: 7 | P24: 7 | R24: =SUM(B24:Q24)+R23 -> 1065 | S24: =SUM(C24:Q24)+S23 -> 1049 | U24: TOTAL | V24: =SUM(V16:V23) -> 1310 | W24: =SUM(W16:W23) -> #REF! | Y24: =+X24/V24 -> 0 | AA24: =+W24/V24*7 -> #REF! | AC24: autre greffon | AD24: =[1]!somme_si_couleur(B7:Q32,65280) -> 21 | AE24: 21
A25: 43497 | C25: 7 | D25: 7 | E25: 7 | F25: 7 | G25: 7 | H25: 7 | I25: 7 | J25: 7 | K25: 7 | L25: 7 | M25: 7 | N25: 7 | O25: 7 | P25: 7 | R25: =SUM(B25:Q25)+R24 -> 1163 | S25: =SUM(C25:Q25)+S24 -> 1147 | U25: autre | V25: =AD24 -> 21 | AC25: autres travaux | AD25: =[1]!somme_si_couleur(B12:Q32,13408767) -> 0 | AE25: 0
A26: 43498 | R26: =SUM(B26:Q26)+R25 -> 1163 | S26: =SUM(C26:Q26)+S25 -> 1147 | U26: travaux vigne | V26: =AD25 -> 0
A27: 43499 | R27: =SUM(B27:Q27)+R26 -> 1163 | S27: =SUM(C27:Q27)+S26 -> 1147 | U27: TOTAL CDD | V27: =+V24+V25+V26 -> 1331 | AC27: Total | AD27: =SUM(AD16:AD25) -> 1331 | AE27: =SUM(AE16:AE25) -> #REF!
A28: 43500 | C28: 7 | D28: 7 | E28: 7 | F28: 7 | G28: 7 | H28: 7 | I28: 7 | J28: 7 | K28: 7 | L28: 7 | M28: 7 | N28: 7 | O28: 7 | P28: 7 | R28: =SUM(B28:Q28)+R27 -> 1261 | S28: =SUM(C28:Q28)+S27 -> 1245 | U28: Albertini | V28: 15 | W28: =#REF!/1000 -> #REF!
A29: 43501 | C29: 7 | D29: 7 | E29: 7 | F29: 7 | G29: 7 | H29: 7 | I29: 7 | M29: 7 | N29: 7 | O29: 7 | R29: =SUM(B29:Q29)+R28 -> 1331 | S29: =SUM(C29:Q29)+S28 -> 1315 | U29: Bourde | W29: =#REF!/1000 -> #REF!
A30: 43502 | R30: =SUM(B30:Q30)+R29 -> 1331 | S30: =SUM(C30:Q30)+S29 -> 1315 | U30: Total fagots | W30: =+W24+W28+W29 -> #REF!
A31: 43503 | R31: =SUM(B31:Q31)+R30 -> 1331 | S31: =SUM(C31:Q31)+S30 -> 1315
A32: 43504 | R32: =SUM(B32:Q32)+R31 -> 1331 | S32: =SUM(C32:Q32)+S31 -> 1315 | U32: Fait en 2018 | AD32: 43122 | AE32: prévu
A33: 43505 | R33: =SUM(B33:Q33)+R32 -> 1331 | S33: =SUM(C33:Q33)+S32 -> 1315 | V33: nb h | W33: nb fag | Y33: nb fag/h | AA33: nb fag/ j /personne
A34: 43506 | R34: =SUM(B34:Q34)+R33 -> 1331 | S34: =SUM(C34:Q34)+S33 -> 1315 | U34: CRVI | V34: 585 | W34: 574 | Y34: 0.98119658 | AA34: 6.8683761 | AC34: CRVI | AD34: 585 | AE34: 623
A35: 43507 | R35: =SUM(B35:Q35)+R34 -> 1331 | S35: =SUM(C35:Q35)+S34 -> 1315 | U35: Barcelo | V35: 147 | W35: 153 | Y35: 1.0408163 | AA35: 7.2857143 | AC35: Barcelo | AD35: 147 | AE35: 222
A36: 43508 | R36: =SUM(B36:Q36)+R35 -> 1331 | S36: =SUM(C36:Q36)+S35 -> 1315 | U36: Mondange | V36: 222.5 | W36: 212 | Y36: 0.95280899 | AA36: 6.6696629 | AC36: Mondange | AD36: 222.5 | AE36: 248
A37: 43509 | R37: =SUM(B37:Q37)+R36 -> 1331 | S37: =SUM(C37:Q37)+S36 -> 1315 | U37: JBDP | V37: 110 | W37: 62 | Y37: 0.56 | AA37: 2.6727273 | AC37: JBDP | AD37: 110 | AE37: 74
A38: 43510 | R38: =SUM(B38:Q38)+R37 -> 1331 | S38: =SUM(C38:Q38)+S37 -> 1315 | U38: Poli | V38: 28 | W38: 26 | Y38: 0.92857143 | AA38: 6.5 | AC38: Poli | AD38: 28 | AE38: 0
A39: 43511 | R39: =SUM(B39:Q39)+R38 -> 1331 | S39: =SUM(C39:Q39)+S38 -> 1315 | U39: Suzzoni | V39: 150 | W39: 104 | Y39: 0.69 | AA39: 5.7866667 | AC39: Suzzoni | AD39: 150 | AE39: 193
A40: 43512 | R40: =SUM(B40:Q40)+R39 -> 1331 | S40: =SUM(C40:Q40)+S39 -> 1315 | U40: Renucci | V40: 171.5 | W40: 152 | Y40: 0.88629738 | AA40: 6.2040816 | AC40: Renucci | AD40: 171.5 | AE40: 165
A41: 43513 | R41: =SUM(B41:Q41)+R40 -> 1331 | S41: =SUM(C41:Q41)+S40 -> 1315 | U41: TOTAL | V41: 1414 | W41: 1283 | Y41: 0.90735502 | AA41: 6.3514851 | AC41: autre greffon | AD41: 44 | AE41: 70
A42: 43514 | R42: =SUM(B42:Q42)+R41 -> 1331 | S42: =SUM(C42:Q42)+S41 -> 1315 | U42: autre | V42: 44 | AC42: autres travaux | AD42: 27 | AE42: 70
...

Sheet contacts
A1: Saisonniers 2019 / greffons | C1: A partir du 10 janvier 2019
A3: Equipe CRVI | F3: Equipe Ghiso / Figari
B5: nb fagots | C5: 550 | G5: nb fagots | H5: 270
A6: nom | B6: tel | C6: dispo | D6: papiers | F6: nom | G6: tel | H6: dispo | I6: papiers
A7: Damien | B7: 613688709 | F7: Bertrand Plancke | G7: 619859454 | H7: ok | I7: oui
A8: Momo | B8: 618526189 | F8: Emily Le Berre | G8: 640249406 | H8: ok | I8: oui
A9: Michel Alram | B9: 669220783 | C9: ok | D9: oui | F9: Jan Jerzi Kielban | H9: ok | I9: oui
A10: Agnès Guilland | B10: 648612278 | C10: ok | D10: oui | F10: Aicha Verdier | G10: 616029606 | H10: ok | I10: oui
A11: Jasmine Rafoni | B11: 610981752 | C11: ok | D11: oui | F11: Paul-André Dompietrini | G11: 620253727 | H11: ok | I11: oui
A12: Coralie Kasule | B12: 614295219 | C12: ok | D12: oui
A13: Valérie Ginoux | B13: 627365493 | C13: ok | D13: oui

Sheet Prévisionnel 9
A1: CRVI | B1: Barcelo | C1: Poli Tony | D1: Renucci | E1: Mondange | F1: JBDP | G1: Suzzoni | H1: Poli Eric | I1: autre / greffons | J1: autre / crvi
A2: =[1]!NO_COULEUR(A1) -> 16777215 | B2: =[1]!NO_COULEUR(B1) -> 10079487 | C2: =[1]!NO_COULEUR(C1) -> 10092543 | D2: =[1]!NO_COULEUR(D1) -> 16777164 | E2: =[1]!NO_COULEUR(E1) -> 16751052 | F2: =[1]!NO_COULEUR(F1) -> 13434828 | G2: =[1]!NO_COULEUR(G1) -> 16764057 | H2: =[1]!NO_COULEUR(H1) -> 14277081 | ... J2: =[1]!NO_COULEUR(J1) -> 13408767
B4: Organisation de la récolte de greffons 2020
B6: =contacts!A8 -> Momo | C6: =contacts!A9 -> Michel Alram | D6: =contacts!A10 -> Agnès Guilland | E6: =contacts!A11 -> Jasmine Rafoni | F6: =contacts!A12 -> Coralie Kasule | G6: =contacts!A13 -> Valérie Ginoux | H6: =contacts!A14 -> 0 | I6: =contacts!A15 -> 0 | J6: =contacts!F7 -> Bertrand Plancke | K6: =contacts!F8 -> Emily Le Berre | L6: =contacts!F9 -> Jan Jerzi Kielban | M6: =contacts!F10 -> Aicha Verdier | N6: =contacts!F11 -> Paul-André Dompietrini | O6: =contacts!F12 -> 0 | P6: =contacts!F13 -> 0
A7: 43802 | B7: 7 | C7: 7 | F7: 7 | J7: 7 | Q7: =SUM(B7:P7) -> 28 | R7: =SUM(C7:P7) -> 21
A8: 43803 | B8: 7 | C8: 7 | F8: 4.5 | J8: 7 | Q8: =SUM(B8:P8)+Q7 -> 53.5 | R8: =SUM(C8:P8)+R7 -> 39.5
A9: 43804 | B9: 0 | C9: 2 | F9: 2 | J9: 0 | Q9: =SUM(B9:P9)+Q8 -> 57.5 | R9: =SUM(C9:P9)+R8 -> 43.5
A10: 43805 | B10: 7 | C10: 8 | F10: 7 | J10: 8 | Q10: =SUM(B10:P10)+Q9 -> 87.5 | R10: =SUM(C10:P10)+R9 -> 66.5
A11: 43806 | Q11: =SUM(B11:P11)+Q10 -> 87.5 | R11: =SUM(C11:P11)+R10 -> 66.5
A12: 43807 | Q12: =SUM(B12:P12)+Q11 -> 87.5 | R12: =SUM(C12:P12)+R11 -> 66.5
A13: 43808 | B13: 7 | C13: 8 | F13: 6.5 | J13: 8 | Q13: =SUM(B13:P13)+Q12 -> 117 | R13: =SUM(C13:P13)+R12 -> 89
A14: 43809 | B14: 7 | C14: 7 | F14: 7 | J14: 7 | Q14: =SUM(B14:P14)+Q13 -> 145 | R14: =SUM(C14:P14)+R13 -> 110 | T14: En cours 2020
A15: 43810 | B15: 7 | C15: 7 | J15: 7 | Q15: =SUM(B15:P15)+Q14 -> 166 | R15: =SUM(C15:P15)+R14 -> 124 | U15: nb h en cours | V15: nb fag prévu | W15: nb fag en cours | X15: nb fag/h | Y15: nb h prévues | Z15: nb fag/ j /personne | AC15: nb h faites | AD15: nb h prévues
A16: 43811 | B16: 7 | C16: 7 | J16: 7 | Q16: =SUM(B16:P16)+Q15 -> 187 | R16: =SUM(C16:P16)+R15 -> 138 | T16: CRVI | U16: =AC16 -> 634 | V16: =[2]Récolte!$M$87/1000 -> 607 | W16: =[2]Récolte!$N$87/1000 -> 29 | X16: =W16/U16 -> 0.045741325 | Y16: =V16/GETPIVOTDATA(" nb fag / h",TCD!$A$1,"Vigne","CRVI") -> 630.2383 | Z16: =+W16/U16*7 -> 0.32018927 | AB16: CRVI | AC16: =[1]!somme_si_couleur(B7:P48,16777215) -> 634 | AD16: =Y16 -> 630.2383
A17: 43812 | C17: 7 | Q17: =SUM(B17:P17)+Q16 -> 194 | R17: =SUM(C17:P17)+R16 -> 145 | T17: Barcelo | Z17: =+V17/U17*7 -> #DIV/0! | AB17: Barcelo | AC17: =[1]!somme_si_couleur(B7:P48,10079487) -> 0 | AD17: =Y17 -> 0
A18: 43813 | Q18: =SUM(B18:P18)+Q17 -> 194 | R18: =SUM(C18:P18)+R17 -> 145 | T18: Mondange | U18: =AC18 -> 315 | V18: =[2]Récolte!$P$87/1000 -> 272 | W18: =[2]Récolte!$Q$87/1000 -> 0 | X18: =W18/U18 -> 0 | Y18: =V18/GETPIVOTDATA(" nb fag / h",TCD!$A$1,"Vigne","Mondange") -> 312.71064 | Z18: =+W18/U18*7 -> 0 | AB18: Mondange | AC18: =[1]!somme_si_couleur(B7:P48,16751052) -> 315 | AD18: =Y18 -> 312.71064
A19: 43814 | Q19: =SUM(B19:P19)+Q18 -> 194 | R19: =SUM(C19:P19)+R18 -> 145 | T19: JBDP | U19: =AC19 -> 0 | V19: =[2]Récolte!$S$87/1000 -> 0 | W19: =[2]Récolte!$T$87/1000 -> 0 | X19: =W19/U19 -> #DIV/0! | Y19: =V19/GETPIVOTDATA(" nb fag / h",TCD!$A$1,"Vigne","JBDP") -> 0 | Z19: =+W19/U19*7 -> #DIV/0! | AB19: JBDP | AC19: =[1]!somme_si_couleur(B7:P48,13434828) -> 0 | AD19: =Y19 -> 0
A20: 43815 | B20: 4 | C20: 7 | Q20: =SUM(B20:P20)+Q19 -> 205 | R20: =SUM(C20:P20)+R19 -> 152 | T20: Poli T | AB20: Poli Tony | AC20: =[1]!somme_si_couleur(B7:P48,10092543) -> 0 | AD20: =Y20 -> 0
A21: 43816 | C21: 7 | Q21: =SUM(B21:P21)+Q20 -> 212 | R21: =SUM(C21:P21)+R20 -> 159 | T21: Suzzoni | U21: =AC21 -> 0 | V21: =[2]Récolte!$D$87/1000 -> 0 | W21: =[2]Récolte!$E$87/1000 -> 0 | X21: =W21/U21 -> #DIV/0! | Y21: =V21/GETPIVOTDATA(" nb fag / h",TCD!$A$1,"Vigne","Suzzoni") -> 0 | Z21: =+W21/U21*7 -> #DIV/0! | AB21: Suzzoni | AC21: =[1]!somme_si_couleur(B7:P48,16764057) -> 0 | AD21: =Y21 -> 0
Q22: =SUM(B22:P22)+Q21 -> 212 | R22: =SUM(C22:P22)+R21 -> 159 | T22: Renucci | U22: =AC22 -> 194 | V22: =[2]Récolte!$AB$68/1000 -> 146 | W22: =[2]Récolte!$AC$68/1000 -> 146 | X22: =W22/U22 -> 0.75257732 | Y22: =IF(V22/GETPIVOTDATA(" nb fag / h",TCD!$A$1,"Vigne","Renucci")<AC22,AC22,V22/GETPIVOTDATA(" nb fag / h",TCD!$A$1,"Vigne","Renucci")) -> 194 | Z22: =+W22/U22*7 -> 5.2680412 | AB22: Renucci | AC22: =[1]!somme_si_couleur(B7:P48,16777164) -> 194 | AD22: =Y22 -> 194
A23: 43843 | D23: 7 | E23: 7 | F23: 7 | G23: 7 | K23: 7 | L23: 7 | M23: 7 | N23: 7 | Q23: =SUM(B23:P23)+Q22 -> 268 | R23: =SUM(C23:P23)+R22 -> 215 | T23: Poli E | U23: =AC23 -> 312 | V23: =[2]Récolte!$V$87/1000 -> 159 | W23: =[2]Récolte!$W$87/1000 -> 0 | X23: =W23/U23 -> 0 | Y23: =V23/GETPIVOTDATA(" nb fag / h",TCD!$A$1,"Vigne","Poli E") -> 313.58333 | Z23: =+W23/U23*7 -> 0 | AB23: Poli Eric | AC23: =[1]!somme_si_couleur(B7:P48,14277081) -> 312 | AD23: =Y23 -> 313.58333
A24: 43844 | D24: 7 | E24: 7 | F24: 7 | G24: 7 | K24: 7 | L24: 7 | M24: 7 | N24: 7 | Q24: =SUM(B24:P24)+Q23 -> 324 | R24: =SUM(C24:P24)+R23 -> 271 | T24: TOTAL | U24: =SUM(U16:U23) -> 1455 | V24: =SUM(V16:V23) -> 1184 | W24: =SUM(W16:W23) -> 175 | X24: =W24/U24 -> 0.12027491 | Y24: =SUM(Y16:Y23) -> 1450.5323 | Z24: =+W24/U24*7 -> 0.8419244 | AB24: Total | AC24: =SUM(AC16:AC23) -> 1455 | AD24: =SUM(AD16:AD23) -> 1450.5323
A25: 43845 | D25: 7 | E25: 7 | F25: 7 | G25: 7 | K25: 7 | L25: 7 | M25: 7 | N25: 7 | Q25: =SUM(B25:P25)+Q24 -> 380 | R25: =SUM(C25:P25)+R24 -> 327 | T25: autre | U25: =AC25 -> 36 | AB25: autre greffon | AC25: =[1]!somme_si_couleur(B7:P48,65280) -> 36 | AD25: 36
A26: 43846 | D26: 7 | E26: 7 | F26: 7 | G26: 7 | J26: 7 | K26: 7 | L26: 7 | M26: 7 | N26: 7 | Q26: =SUM(B26:P26)+Q25 -> 443 | R26: =SUM(C26:P26)+R25 -> 390 | T26: travaux vigne | U26: =AC26 -> 0 | AB26: autres travaux | AC26: =[1]!somme_si_couleur(B7:P48,13408767) -> 0 | AD26: 0
A27: 43847 | D27: 7 | E27: 7 | F27: 7 | G27: 7 | J27: 7 | K27: 7 | L27: 7 | M27: 7 | N27: 7 | Q27: =SUM(B27:P27)+Q26 -> 506 | R27: =SUM(C27:P27)+R26 -> 453 | T27: TOTAL CDD | U27: =+U24+U25+U26 -> 1491 | X27: =+W24/SUM(B7:N22) -> 0.8254717
A28: 43848 | Q28: =SUM(B28:P28)+Q27 -> 506 | R28: =SUM(C28:P28)+R27 -> 453 | T28: Albertini | U28: 15 | V28: =[2]Récolte!$G$87/1000 -> 70 | W28: =[2]Récolte!$H$87/1000 -> 0 | AB28: Total | AC28: =SUM(AC24:AC26) -> 1491 | AD28: =SUM(AD24:AD26) -> 1486.5323
A29: 43849 | Q29: =SUM(B29:P29)+Q28 -> 506 | R29: =SUM(C29:P29)+R28 -> 453
A30: 43850 | D30: 7 | E30: 7 | F30: 7 | G30: 7 | J30: 7 | K30: 7 | L30: 7 | M30: 7 | N30: 7 | Q30: =SUM(B30:P30)+Q29 -> 569 | R30: =SUM(C30:P30)+R29 -> 516 | T30: Total fagots | V30: =+V24+V28+V29 -> 1254
A31: 43851 | D31: 7 | E31: 7 | F31: 7 | G31: 7 | J31: 7 | K31: 7 | L31: 7 | M31: 7 | N31: 7 | Q31: =SUM(B31:P31)+Q30 -> 632 | R31: =SUM(C31:P31)+R30 -> 579
A32: 43852 | D32: 7 | E32: 7 | F32: 7 | G32: 7 | J32: 7 | K32: 7 | L32: 7 | M32: 7 | N32: 7 | Q32: =SUM(B32:P32)+Q31 -> 695 | R32: =SUM(C32:P32)+R31 -> 642
A33: 43853 | D33: 7 | E33: 7 | F33: 7 | G33: 7 | J33: 7 | K33: 7 | L33: 7 | M33: 7 | N33: 7 | Q33: =SUM(B33:P33)+Q32 -> 758 | R33: =SUM(C33:P33)+R32 -> 705
A34: 43854 | D34: 7 | E34: 7 | F34: 9 | G34: 9 | J34: 7 | K34: 7 | L34: 7 | M34: 7 | N34: 7 | Q34: =SUM(B34:P34)+Q33 -> 825 | R34: =SUM(C34:P34)+R33 -> 772
A35: 43855 | Q35: =SUM(B35:P35)+Q34 -> 825 | R35: =SUM(C35:P35)+R34 -> 772
A36: 43856 | Q36: =SUM(B36:P36)+Q35 -> 825 | R36: =SUM(C36:P36)+R35 -> 772
A37: 43857 | B37: 18 | D37: 9 | E37: 7 | F37: 9 | G37: 7 | J37: 9 | K37: 7 | L37: 9 | M37: 9 | N37: 9 | Q37: =SUM(B37:P37)+Q36 -> 918 | R37: =SUM(C37:P37)+R36 -> 847
A38: 43858 | B38: 8 | D38: 8 | E38: 7 | F38: 8 | G38: 7 | J38: 8 | K38: 7 | L38: 8 | M38: 8 | N38: 8 | Q38: =SUM(B38:P38)+Q37 -> 995 | R38: =SUM(C38:P38)+R37 -> 916
A39: 43859 | B39: 8 | D39: 8 | E39: 7 | F39: 8 | G39: 7 | J39: 8 | K39: 7 | L39: 8 | M39: 8 | N39: 8 | Q39: =SUM(B39:P39)+Q38 -> 1072 | R39: =SUM(C39:P39)+R38 -> 985
A40: 43860 | B40: 8 | D40: 8 | E40: 7 | F40: 8 | G40: 7 | J40: 8 | K40: 7 | L40: 8 | M40: 8 | N40: 8 | Q40: =SUM(B40:P40)+Q39 -> 1149 | R40: =SUM(C40:P40)+R39 -> 1054
A41: 43861 | B41: 18 | D41: 9 | E41: 7 | F41: 9 | G41: 7 | J41: 9 | K41: 7 | L41: 9 | M41: 9 | N41: 9 | Q41: =SUM(B41:P41)+Q40 -> 1242 | R41: =SUM(C41:P41)+R40 -> 1129
A42: 43862 | Q42: =SUM(B42:P42)+Q41 -> 1242 | R42: =SUM(C42:P42)+R41 -> 1129
...

Sheet Prévisionnel 10
A1: CRVI | B1: Barcelo | C1: Poli Tony | D1: Renucci | E1: Mondange | F1: JBDP | G1: Suzzoni | H1: Poli Eric | I1: autre / greffons | J1: autre / crvi
A2: =[1]!NO_COULEUR(A1) -> 16777215 | B2: =[1]!NO_COULEUR(B1) -> 10079487 | C2: =[1]!NO_COULEUR(C1) -> 10092543 | D2: =[1]!NO_COULEUR(D1) -> 16777164 | E2: =[1]!NO_COULEUR(E1) -> 16751052 | F2: =[1]!NO_COULEUR(F1) -> 13434828 | G2: =[1]!NO_COULEUR(G1) -> 16764057 | H2: =[1]!NO_COULEUR(H1) -> 14277081 | ... J2: =[1]!NO_COULEUR(J1) -> 13408767
B4: Organisation de la récolte de greffons 2020
B6: =contacts!A8 -> Momo | C6: =contacts!A9 -> Michel Alram | D6: =contacts!A10 -> Agnès Guilland | E6: =contacts!A11 -> Jasmine Rafoni | F6: =contacts!A12 -> Coralie Kasule | G6: =contacts!A13 -> Valérie Ginoux | H6: =contacts!A14 -> 0 | I6: =contacts!A15 -> 0 | J6: =contacts!F7 -> Bertrand Plancke | K6: =contacts!F8 -> Emily Le Berre | L6: =contacts!F9 -> Jan Jerzi Kielban | M6: =contacts!F10 -> Aicha Verdier | N6: =contacts!F11 -> Paul-André Dompietrini | O6: =contacts!F12 -> 0 | P6: =contacts!F13 -> 0
A7: 43802 | B7: 7 | C7: 7 | F7: 7 | J7: 7 | Q7: =SUM(B7:P7) -> 28 | R7: =SUM(C7:P7) -> 21
A8: 43803 | B8: 7 | C8: 7 | F8: 4.5 | J8: 7 | Q8: =SUM(B8:P8)+Q7 -> 53.5 | R8: =SUM(C8:P8)+R7 -> 39.5
A9: 43804 | B9: 0 | C9: 2 | F9: 2 | J9: 0 | Q9: =SUM(B9:P9)+Q8 -> 57.5 | R9: =SUM(C9:P9)+R8 -> 43.5
A10: 43805 | B10: 7 | C10: 8 | F10: 7 | J10: 8 | Q10: =SUM(B10:P10)+Q9 -> 87.5 | R10: =SUM(C10:P10)+R9 -> 66.5
A11: 43806 | Q11: =SUM(B11:P11)+Q10 -> 87.5 | R11: =SUM(C11:P11)+R10 -> 66.5
A12: 43807 | Q12: =SUM(B12:P12)+Q11 -> 87.5 | R12: =SUM(C12:P12)+R11 -> 66.5
A13: 43808 | B13: 7 | C13: 8 | F13: 6.5 | J13: 8 | Q13: =SUM(B13:P13)+Q12 -> 117 | R13: =SUM(C13:P13)+R12 -> 89
A14: 43809 | B14: 7 | C14: 7 | F14: 7 | J14: 7 | Q14: =SUM(B14:P14)+Q13 -> 145 | R14: =SUM(C14:P14)+R13 -> 110 | T14: En cours 2020
A15: 43810 | B15: 7 | C15: 7 | J15: 7 | Q15: =SUM(B15:P15)+Q14 -> 166 | R15: =SUM(C15:P15)+R14 -> 124 | U15: nb h en cours | V15: nb fag prévu | W15: nb fag en cours | X15: nb fag/h | Y15: nb h prévues | Z15: nb fag/ j /personne | AC15: nb h faites | AD15: nb h prévues
A16: 43811 | B16: 7 | C16: 7 | J16: 7 | Q16: =SUM(B16:P16)+Q15 -> 187 | R16: =SUM(C16:P16)+R15 -> 138 | T16: CRVI | U16: =AC16 -> 634 | V16: =[2]Récolte!$M$87/1000 -> 607 | W16: =[2]Récolte!$N$87/1000 -> 29 | X16: =W16/U16 -> 0.045741325 | Y16: =V16/GETPIVOTDATA(" nb fag / h",TCD!$A$1,"Vigne","CRVI") -> 630.2383 | Z16: =+W16/U16*7 -> 0.32018927 | AB16: CRVI | AC16: =[1]!somme_si_couleur(B7:P48,16777215) -> 634 | AD16: =Y16 -> 630.2383
A17: 43812 | C17: 7 | Q17: =SUM(B17:P17)+Q16 -> 194 | R17: =SUM(C17:P17)+R16 -> 145 | T17: Barcelo | Z17: =+V17/U17*7 -> #DIV/0! | AB17: Barcelo | AC17: =[1]!somme_si_couleur(B7:P48,10079487) -> 0 | AD17: =Y17 -> 0
A18: 43813 | Q18: =SUM(B18:P18)+Q17 -> 194 | R18: =SUM(C18:P18)+R17 -> 145 | T18: Mondange | U18: =AC18 -> 315 | V18: =[2]Récolte!$P$87/1000 -> 272 | W18: =[2]Récolte!$Q$87/1000 -> 0 | X18: =W18/U18 -> 0 | Y18: =V18/GETPIVOTDATA(" nb fag / h",TCD!$A$1,"Vigne","Mondange") -> 312.71064 | Z18: =+W18/U18*7 -> 0 | AB18: Mondange | AC18: =[1]!somme_si_couleur(B7:P48,16751052) -> 315 | AD18: =Y18 -> 312.71064
A19: 43814 | Q19: =SUM(B19:P19)+Q18 -> 194 | R19: =SUM(C19:P19)+R18 -> 145 | T19: JBDP | U19: =AC19 -> 0 | V19: =[2]Récolte!$S$87/1000 -> 0 | W19: =[2]Récolte!$T$87/1000 -> 0 | X19: =W19/U19 -> #DIV/0! | Y19: =V19/GETPIVOTDATA(" nb fag / h",TCD!$A$1,"Vigne","JBDP") -> 0 | Z19: =+W19/U19*7 -> #DIV/0! | AB19: JBDP | AC19: =[1]!somme_si_couleur(B7:P48,13434828) -> 0 | AD19: =Y19 -> 0
A20: 43815 | B20: 4 | C20: 7 | Q20: =SUM(B20:P20)+Q19 -> 205 | R20: =SUM(C20:P20)+R19 -> 152 | T20: Poli T | AB20: Poli Tony | AC20: =[1]!somme_si_couleur(B7:P48,10092543) -> 0 | AD20: =Y20 -> 0
A21: 43816 | C21: 7 | Q21: =SUM(B21:P21)+Q20 -> 212 | R21: =SUM(C21:P21)+R20 -> 159 | T21: Suzzoni | U21: =AC21 -> 0 | V21: =[2]Récolte!$D$87/1000 -> 0 | W21: =[2]Récolte!$E$87/1000 -> 0 | X21: =W21/U21 -> #DIV/0! | Y21: =V21/GETPIVOTDATA(" nb fag / h",TCD!$A$1,"Vigne","Suzzoni") -> 0 | Z21: =+W21/U21*7 -> #DIV/0! | AB21: Suzzoni | AC21: =[1]!somme_si_couleur(B7:P48,16764057) -> 0 | AD21: =Y21 -> 0
Q22: =SUM(B22:P22)+Q21 -> 212 | R22: =SUM(C22:P22)+R21 -> 159 | T22: Renucci | U22: =AC22 -> 194 | V22: =[2]Récolte!$AB$68/1000 -> 146 | W22: =[2]Récolte!$AC$68/1000 -> 146 | X22: =W22/U22 -> 0.75257732 | Y22: =IF(V22/GETPIVOTDATA(" nb fag / h",TCD!$A$1,"Vigne","Renucci")<AC22,AC22,V22/GETPIVOTDATA(" nb fag / h",TCD!$A$1,"Vigne","Renucci")) -> 194 | Z22: =+W22/U22*7 -> 5.2680412 | AB22: Renucci | AC22: =[1]!somme_si_couleur(B7:P48,16777164) -> 194 | AD22: =Y22 -> 194
A23: 43843 | D23: 7 | E23: 7 | F23: 7 | G23: 7 | H23: 7 | K23: 7 | L23: 7 | M23: 7 | N23: 7 | Q23: =SUM(B23:P23)+Q22 -> 275 | R23: =SUM(C23:P23)+R22 -> 222 | T23: Poli E | U23: =AC23 -> 312 | V23: =[2]Récolte!$V$87/1000 -> 159 | W23: =[2]Récolte!$W$87/1000 -> 0 | X23: =W23/U23 -> 0 | Y23: =V23/GETPIVOTDATA(" nb fag / h",TCD!$A$1,"Vigne","Poli E") -> 313.58333 | Z23: =+W23/U23*7 -> 0 | AB23: Poli Eric | AC23: =[1]!somme_si_couleur(B7:P48,14277081) -> 312 | AD23: =Y23 -> 313.58333
A24: 43844 | D24: 7 | E24: 7 | F24: 7 | G24: 7 | H24: 7 | K24: 7 | L24: 7 | M24: 7 | N24: 7 | Q24: =SUM(B24:P24)+Q23 -> 338 | R24: =SUM(C24:P24)+R23 -> 285 | T24: TOTAL | U24: =SUM(U16:U23) -> 1455 | V24: =SUM(V16:V23) -> 1184 | W24: =SUM(W16:W23) -> 175 | X24: =W24/U24 -> 0.12027491 | Y24: =SUM(Y16:Y23) -> 1450.5323 | Z24: =+W24/U24*7 -> 0.8419244 | AB24: Total | AC24: =SUM(AC16:AC23) -> 1455 | AD24: =SUM(AD16:AD23) -> 1450.5323
A25: 43845 | D25: 7 | E25: 7 | F25: 7 | G25: 7 | H25: 7 | K25: 7 | L25: 7 | M25: 7 | N25: 7 | Q25: =SUM(B25:P25)+Q24 -> 401 | R25: =SUM(C25:P25)+R24 -> 348 | T25: autre | U25: =AC25 -> 36 | AB25: autre greffon | AC25: =[1]!somme_si_couleur(B7:P48,65280) -> 36 | AD25: 36
A26: 43846 | D26: 7 | E26: 7 | F26: 7 | G26: 7 | H26: 7 | J26: 7 | K26: 7 | L26: 7 | M26: 7 | N26: 7 | Q26: =SUM(B26:P26)+Q25 -> 471 | R26: =SUM(C26:P26)+R25 -> 418 | T26: travaux vigne | U26: =AC26 -> 0 | AB26: autres travaux | AC26: =[1]!somme_si_couleur(B7:P48,13408767) -> 0 | AD26: 0
A27: 43847 | D27: 7 | E27: 7 | F27: 7 | G27: 7 | H27: 7 | J27: 7 | K27: 7 | L27: 7 | M27: 7 | N27: 7 | Q27: =SUM(B27:P27)+Q26 -> 541 | R27: =SUM(C27:P27)+R26 -> 488 | T27: TOTAL CDD | U27: =+U24+U25+U26 -> 1491 | X27: =+W24/SUM(B7:N22) -> 0.8254717
A28: 43848 | Q28: =SUM(B28:P28)+Q27 -> 541 | R28: =SUM(C28:P28)+R27 -> 488 | T28: Albertini | U28: 15 | V28: =[2]Récolte!$G$87/1000 -> 70 | W28: =[2]Récolte!$H$87/1000 -> 0 | AB28: Total | AC28: =SUM(AC24:AC26) -> 1491 | AD28: =SUM(AD24:AD26) -> 1486.5323
A29: 43849 | Q29: =SUM(B29:P29)+Q28 -> 541 | R29: =SUM(C29:P29)+R28 -> 488
A30: 43850 | D30: 7 | E30: 7 | F30: 7 | G30: 7 | H30: 7 | J30: 7 | K30: 7 | L30: 7 | M30: 7 | N30: 7 | Q30: =SUM(B30:P30)+Q29 -> 611 | R30: =SUM(C30:P30)+R29 -> 558 | T30: Total fagots | V30: =+V24+V28+V29 -> 1254
A31: 43851 | D31: 7 | E31: 7 | F31: 7 | G31: 7 | H31: 7 | J31: 7 | K31: 7 | L31: 7 | M31: 7 | N31: 7 | Q31: =SUM(B31:P31)+Q30 -> 681 | R31: =SUM(C31:P31)+R30 -> 628
A32: 43852 | D32: 7 | E32: 7 | F32: 7 | G32: 7 | H32: 7 | J32: 7 | K32: 7 | L32: 7 | M32: 7 | N32: 7 | Q32: =SUM(B32:P32)+Q31 -> 751 | R32: =SUM(C32:P32)+R31 -> 698
A33: 43853 | D33: 7 | E33: 7 | F33: 7 | G33: 7 | H33: 7 | J33: 7 | K33: 7 | L33: 7 | M33: 7 | N33: 7 | Q33: =SUM(B33:P33)+Q32 -> 821 | R33: =SUM(C33:P33)+R32 -> 768
A34: 43854 | D34: 7 | E34: 7 | F34: 7 | G34: 9 | H34: 9 | J34: 7 | K34: 7 | L34: 7 | M34: 7 | N34: 7 | Q34: =SUM(B34:P34)+Q33 -> 895 | R34: =SUM(C34:P34)+R33 -> 842
A35: 43855 | Q35: =SUM(B35:P35)+Q34 -> 895 | R35: =SUM(C35:P35)+R34 -> 842
A36: 43856 | Q36: =SUM(B36:P36)+Q35 -> 895 | R36: =SUM(C36:P36)+R35 -> 842
A37: 43857 | B37: 18 | D37: 9 | E37: 7 | F37: 9 | G37: 7 | H37: 7 | J37: 9 | K37: 7 | L37: 9 | M37: 9 | N37: 9 | Q37: =SUM(B37:P37)+Q36 -> 995 | R37: =SUM(C37:P37)+R36 -> 924
A38: 43858 | B38: 8 | D38: 8 | E38: 7 | F38: 8 | G38: 7 | H38: 7 | J38: 8 | K38: 7 | L38: 8 | M38: 8 | N38: 8 | Q38: =SUM(B38:P38)+Q37 -> 1079 | R38: =SUM(C38:P38)+R37 -> 1000
A39: 43859 | B39: 8 | D39: 8 | E39: 7 | F39: 8 | G39: 7 | H39: 7 | J39: 8 | K39: 7 | L39: 8 | M39: 8 | N39: 8 | Q39: =SUM(B39:P39)+Q38 -> 1163 | R39: =SUM(C39:P39)+R38 -> 1076
A40: 43860 | B40: 8 | D40: 8 | E40: 7 | F40: 8 | G40: 7 | H40: 7 | J40: 8 | K40: 7 | L40: 8 | M40: 8 | N40: 8 | Q40: =SUM(B40:P40)+Q39 -> 1247 | R40: =SUM(C40:P40)+R39 -> 1152
A41: 43861 | B41: 18 | D41: 9 | E41: 7 | F41: 9 | G41: 7 | H41: 7 | J41: 9 | K41: 7 | L41: 9 | M41: 9 | N41: 9 | Q41: =SUM(B41:P41)+Q40 -> 1347 | R41: =SUM(C41:P41)+R40 -> 1234
A42: 43862 | Q42: =SUM(B42:P42)+Q41 -> 1347 | R42: =SUM(C42:P42)+R41 -> 1234
...

Sheet Prévisionnel 11
B1: A | C1: B | D1: C | E1: D
B2: =[1]!NO_COULEUR(B1) -> 16777215 | C2: =[1]!NO_COULEUR(C1) -> 10079487 | D2: =[1]!NO_COULEUR(D1) -> 10092543 | E2: =[1]!NO_COULEUR(E1) -> 16777164
B6: x | C6: y | D6: z
A7: 43831 | B7: 7 | D7: 4
A8: 43832 | B8: 2 | C8: 10 | D8: 5
A9: 43833 | B9: 8 | C9: 12 | D9: 4
A10: 43834 | C10: 10
A11: 43835 | F11: Tableau 1 | I11: Tableau 2
A12: 43836 | B12: 8 | D12: 5
A13: 43837 | B13: 7 | C13: 5 | D13: 4 | F13: Résultat au 8/01 | I13: Résultat au 10/01
A14: 43838 | B14: 7 | C14: 6 | D14: 6 | G14: somme | J14: somme
A15: 43839 | B15: 7 | C15: 8 | F15: A | G15: =[1]!somme_si_couleur(A7:D14,16777215) -> 31 | I15: A | J15: =[1]!somme_si_couleur(A7:D16,16777215) -> 39
A16: 43840 | B16: 7 | F16: B | G16: =[1]!somme_si_couleur(A7:D14,10079487) -> 22 | I16: B | J16: =[1]!somme_si_couleur(A7:D16,10079487) -> 22
A17: 43841 | F17: C | G17: =[1]!somme_si_couleur(A7:D14,10092543) -> 31 | I17: C | J17: =[1]!somme_si_couleur(A7:D16,10092543) -> 45
A18: 43842 | D18: 13 | F18: D | G18: =[1]!somme_si_couleur(A7:D14,16777164) -> 26 | I18: D | J18: =[1]!somme_si_couleur(A7:D16,16777164) -> 26
A19: 43843 | B19: 7 | D19: 12
A20: 43844 | B20: 7 | D20: 13
F22: Je voudrais inscrire une formule (en G15, G16, G17 et G18) qui tienne compte de la date de manière à n'avoir qu'un seul tableau de résultats
F24: Par exemple lorsque j'ouvre le fichier le 8 janvier j'ai les résultats du tableau 1
F25: Lorsque j'ouvrirai le fichier le 10 janvier j'aurai les résultats du tableau 2

Sheet Calendrier réél
A1: CRVI | B1: Barcelo | C1: Poli Tony | D1: Renucci | E1: Mondange | F1: JBDP | G1: Suzzoni | H1: Poli Eric | I1: autre / greffons | J1: autre / crvi
A2: =[1]!NO_COULEUR(A1) -> 16777215 | B2: =[1]!NO_COULEUR(B1) -> 10079487 | C2: =[1]!NO_COULEUR(C1) -> 10092543 | D2: =[1]!NO_COULEUR(D1) -> 16777164 | E2: =[1]!NO_COULEUR(E1) -> 16751052 | F2: =[1]!NO_COULEUR(F1) -> 13434828 | G2: =[1]!NO_COULEUR(G1) -> 16764057 | H2: =[1]!NO_COULEUR(H1) -> 14277081 | ... J2: =[1]!NO_COULEUR(J1) -> 13408767
B4: Organisation de la récolte de greffons 2020
B6: =contacts!A8 -> Momo | C6: =contacts!A9 -> Michel Alram | D6: =contacts!A10 -> Agnès Guilland | E6: =contacts!A11 -> Jasmine Rafoni | F6: =contacts!A12 -> Coralie Kasule | G6: =contacts!A13 -> Valérie Ginoux | H6: =contacts!A14 -> 0 | I6: =contacts!A15 -> 0 | J6: =contacts!F7 -> Bertrand Plancke | K6: =contacts!F8 -> Emily Le Berre | L6: =contacts!F9 -> Jan Jerzi Kielban | M6: =contacts!F10 -> Aicha Verdier | N6: =contacts!F11 -> Paul-André Dompietrini | O6: =contacts!F12 -> 0 | P6: =contacts!F13 -> 0
A7: 43802 | B7: 7 | C7: 7 | F7: 7 | J7: 7 | Q7: =SUM(B7:P7) -> 28 | R7: =SUM(C7:P7) -> 21
A8: 43803 | B8: 7 | C8: 7 | F8: 4.5 | J8: 7 | Q8: =SUM(B8:P8)+Q7 -> 53.5 | R8: =SUM(C8:P8)+R7 -> 39.5
A9: 43804 | B9: 0 | C9: 2 | F9: 2 | J9: 0 | Q9: =SUM(B9:P9)+Q8 -> 57.5 | R9: =SUM(C9:P9)+R8 -> 43.5
A10: 43805 | B10: 7 | C10: 8 | F10: 7 | J10: 8 | Q10: =SUM(B10:P10)+Q9 -> 87.5 | R10: =SUM(C10:P10)+R9 -> 66.5
A11: 43806 | Q11: =SUM(B11:P11)+Q10 -> 87.5 | R11: =SUM(C11:P11)+R10 -> 66.5
A12: 43807 | Q12: =SUM(B12:P12)+Q11 -> 87.5 | R12: =SUM(C12:P12)+R11 -> 66.5
A13: 43808 | B13: 7 | C13: 8 | F13: 6.5 | J13: 8 | Q13: =SUM(B13:P13)+Q12 -> 117 | R13: =SUM(C13:P13)+R12 -> 89
A14: 43809 | B14: 7 | C14: 7 | F14: 7 | J14: 7 | Q14: =SUM(B14:P14)+Q13 -> 145 | R14: =SUM(C14:P14)+R13 -> 110 | T14: En cours 2020
A15: 43810 | B15: 7 | C15: 7 | J15: 7 | Q15: =SUM(B15:P15)+Q14 -> 166 | R15: =SUM(C15:P15)+R14 -> 124 | U15: nb h en cours | V15: nb fag prévu | W15: nb fag en cours | X15: nb fag/h | Y15: nb h prévues | Z15: nb fag/ j /personne | AC15: nb h faites | AD15: nb h prévues
A16: 43811 | B16: 7 | C16: 7 | J16: 7 | Q16: =SUM(B16:P16)+Q15 -> 187 | R16: =SUM(C16:P16)+R15 -> 138 | T16: CRVI | U16: =AC16 -> 18 | V16: =#REF!/1000 -> #REF! | W16: =#REF!/1000 -> #REF! | X16: =W16/U16 -> #REF! | Y16: =V16/GETPIVOTDATA(" nb fag / h",TCD!$A$1,"Vigne","CRVI") -> #REF! | Z16: =+W16/U16*7 -> #REF! | AB16: CRVI | AC16: =[1]!somme_si_couleur(B7:P44,16777215) -> 18 | AD16: =Y16 -> #REF!
A17: 43812 | C17: 7 | Q17: =SUM(B17:P17)+Q16 -> 194 | R17: =SUM(C17:P17)+R16 -> 145 | T17: Barcelo | Z17: =+V17/U17*7 -> #DIV/0! | AB17: Barcelo | AC17: =[1]!somme_si_couleur(B7:P44,10079487) -> 0 | AD17: =Y17 -> 0
A18: 43813 | Q18: =SUM(B18:P18)+Q17 -> 194 | R18: =SUM(C18:P18)+R17 -> 145 | T18: Mondange | U18: =AC18 -> 0 | V18: =#REF!/1000 -> #REF! | W18: =#REF!/1000 -> #REF! | X18: =W18/U18 -> #REF! | Y18: =V18/GETPIVOTDATA(" nb fag / h",TCD!$A$1,"Vigne","Mondange") -> #REF! | Z18: =+W18/U18*7 -> #REF! | AB18: Mondange | AC18: =[1]!somme_si_couleur(B7:P44,16751052) -> 0 | AD18: =Y18 -> #REF!
A19: 43814 | Q19: =SUM(B19:P19)+Q18 -> 194 | R19: =SUM(C19:P19)+R18 -> 145 | T19: JBDP | U19: =AC19 -> 0 | V19: =#REF!/1000 -> #REF! | W19: =#REF!/1000 -> #REF! | X19: =W19/U19 -> #REF! | Y19: =V19/GETPIVOTDATA(" nb fag / h",TCD!$A$1,"Vigne","JBDP") -> #REF! | Z19: =+W19/U19*7 -> #REF! | AB19: JBDP | AC19: =[1]!somme_si_couleur(B7:P44,13434828) -> 0 | AD19: =Y19 -> #REF!
A20: 43815 | B20: 4 | C20: 7 | Q20: =SUM(B20:P20)+Q19 -> 205 | R20: =SUM(C20:P20)+R19 -> 152 | T20: Poli T | AB20: Poli Tony | AC20: =[1]!somme_si_couleur(B7:P44,10092543) -> 0 | AD20: =Y20 -> 0
A21: 43816 | C21: 7 | Q21: =SUM(B21:P21)+Q20 -> 212 | R21: =SUM(C21:P21)+R20 -> 159 | T21: Suzzoni | U21: =AC21 -> 0 | V21: =#REF!/1000 -> #REF! | W21: =#REF!/1000 -> #REF! | X21: =W21/U21 -> #REF! | Y21: =V21/GETPIVOTDATA(" nb fag / h",TCD!$A$1,"Vigne","Suzzoni") -> #REF! | Z21: =+W21/U21*7 -> #REF! | AB21: Suzzoni | AC21: =[1]!somme_si_couleur(B7:P44,16764057) -> 0 | AD21: =Y21 -> #REF!
Q22: =SUM(B22:P22)+Q21 -> 212 | R22: =SUM(C22:P22)+R21 -> 159 | T22: Renucci | U22: =AC22 -> 194 | V22: =#REF!/1000 -> #REF! | W22: =#REF!/1000 -> #REF! | X22: =W22/U22 -> #REF! | Y22: =IF(V22/GETPIVOTDATA(" nb fag / h",TCD!$A$1,"Vigne","Renucci")<AC22,AC22,V22/GETPIVOTDATA(" nb fag / h",TCD!$A$1,"Vigne","Renucci")) -> #REF! | Z22: =+W22/U22*7 -> #REF! | AB22: Renucci | AC22: =[1]!somme_si_couleur(B7:P44,16777164) -> 194 | AD22: =Y22 -> #REF!
A23: 43843 | Q23: =SUM(B23:P23)+Q22 -> 212 | R23: =SUM(C23:P23)+R22 -> 159 | T23: Poli E | U23: =AC23 -> 0 | V23: =#REF!/1000 -> #REF! | W23: =#REF!/1000 -> #REF! | X23: =W23/U23 -> #REF! | Y23: =V23/GETPIVOTDATA(" nb fag / h",TCD!$A$1,"Vigne","Poli E") -> #REF! | Z23: =+W23/U23*7 -> #REF! | AB23: Poli Eric | AC23: =[1]!somme_si_couleur(B7:P44,14277081) -> 0 | AD23: =Y23 -> #REF!
A24: 43844 | Q24: =SUM(B24:P24)+Q23 -> 212 | R24: =SUM(C24:P24)+R23 -> 159 | T24: TOTAL | U24: =SUM(U16:U23) -> 212 | V24: =SUM(V16:V23) -> #REF! | W24: =SUM(W16:W23) -> #REF! | X24: =+W24/U24 -> #REF! | Y24: =SUM(Y16:Y23) -> #REF! | Z24: =+W24/U24*7 -> #REF! | AB24: Total | AC24: =SUM(AC16:AC23) -> 212 | AD24: =SUM(AD16:AD23) -> #REF!
A25: 43845 | Q25: =SUM(B25:P25)+Q24 -> 212 | R25: =SUM(C25:P25)+R24 -> 159 | T25: autre | U25: =AC24 -> 212 | AB25: autre greffon | AC25: =[1]!somme_si_couleur(B7:P48,65280) -> 0 | AD25: 36
A26: 43846 | Q26: =SUM(B26:P26)+Q25 -> 212 | R26: =SUM(C26:P26)+R25 -> 159 | T26: travaux vigne | U26: =AC25 -> 0 | AB26: autres travaux | AC26: =[1]!somme_si_couleur(B7:P48,13408767) -> 0 | AD26: 0
A27: 43847 | Q27: =SUM(B27:P27)+Q26 -> 212 | R27: =SUM(C27:P27)+R26 -> 159 | T27: TOTAL CDD | U27: =+U24+U25+U26 -> 424 | X27: =+W24/SUM(B7:N22) -> #REF!
A28: 43848 | Q28: =SUM(B28:P28)+Q27 -> 212 | R28: =SUM(C28:P28)+R27 -> 159 | T28: Albertini | U28: 15 | V28: =#REF!/1000 -> #REF! | W28: =#REF!/1000 -> #REF! | AB28: Total | AC28: =SUM(AC24:AC26) -> 212 | AD28: =SUM(AD24:AD26) -> #REF!
A29: 43849 | Q29: =SUM(B29:P29)+Q28 -> 212 | R29: =SUM(C29:P29)+R28 -> 159
A30: 43850 | Q30: =SUM(B30:P30)+Q29 -> 212 | R30: =SUM(C30:P30)+R29 -> 159 | T30: Total fagots | V30: =+V24+V28+V29 -> #REF!
A31: 43851 | Q31: =SUM(B31:P31)+Q30 -> 212 | R31: =SUM(C31:P31)+R30 -> 159
A32: 43852 | Q32: =SUM(B32:P32)+Q31 -> 212 | R32: =SUM(C32:P32)+R31 -> 159
A33: 43853 | Q33: =SUM(B33:P33)+Q32 -> 212 | R33: =SUM(C33:P33)+R32 -> 159
A34: 43854 | Q34: =SUM(B34:P34)+Q33 -> 212 | R34: =SUM(C34:P34)+R33 -> 159
A35: 43855 | Q35: =SUM(B35:P35)+Q34 -> 212 | R35: =SUM(C35:P35)+R34 -> 159
A36: 43856 | Q36: =SUM(B36:P36)+Q35 -> 212 | R36: =SUM(C36:P36)+R35 -> 159
A37: 43857 | Q37: =SUM(B37:P37)+Q36 -> 212 | R37: =SUM(C37:P37)+R36 -> 159
A38: 43858 | Q38: =SUM(B38:P38)+Q37 -> 212 | R38: =SUM(C38:P38)+R37 -> 159
A39: 43859 | Q39: =SUM(B39:P39)+Q38 -> 212 | R39: =SUM(C39:P39)+R38 -> 159
A40: 43860 | Q40: =SUM(B40:P40)+Q39 -> 212 | R40: =SUM(C40:P40)+R39 -> 159
A41: 43861 | Q41: =SUM(B41:P41)+Q40 -> 212 | R41: =SUM(C41:P41)+R40 -> 159
A42: 43862 | Q42: =SUM(B42:P42)+Q41 -> 212 | R42: =SUM(C42:P42)+R41 -> 159
...

Sheet Temps de récolte par fagot
A2: Vigne | B2: Année | C2: nb heures | D2: nb fagots | E2: nb fag / h | F2: nb fag/j/personne
A3: CRVI | B3: 2020
A4: CRVI | B4: 2019 | C4: 632 | D4: 524 | E4: =+D4/C4 -> 0.82911392 | F4: =+E4*7 -> 5.8037975
A5: CRVI | B5: 2018 | C5: 585 | D5: 574 | E5: =+D5/C5 -> 0.98119658 | F5: =+E5*7 -> 6.8683761
A6: CRVI | B6: 2017 | C6: 829 | D6: 670 | E6: =+D6/C6 -> 0.80820265 | F6: =+E6*7 -> 5.6574186
A7: CRVI | B7: 2016 | C7: 894 | D7: 907 | E7: =+D7/C7 -> 1.0145414 | F7: =+E7*7 -> 7.1017897
A8: CRVI | B8: 2015 | C8: 712 | D8: 842 | E8: =+D8/C8 -> 1.1825843 | F8: =+E8*7 -> 8.2780899
A9: Barcelo | B9: 2019
A10: Barcelo | B10: 2018 | C10: 147 | D10: 153 | E10: =+D10/C10 -> 1.0408163 | F10: =+E10*7 -> 7.2857143
A11: Barcelo | B11: 2017 | C11: 191 | D11: 175 | E11: =+D11/C11 -> 0.91623037 | F11: =+E11*7 -> 6.4136126
A12: Barcelo | B12: 2016 | C12: 272 | D12: 266 | E12: =+D12/C12 -> 0.97794118 | F12: =+E12*7 -> 6.8455882
A13: Barcelo | B13: 2015 | C13: 469 | D13: 379 | E13: =+D13/C13 -> 0.80810235 | F13: =+E13*7 -> 5.6567164
A14: Mondange | B14: 2020
A15: Mondange | B15: 2019 | C15: 405.5 | D15: 336 | E15: =+D15/C15 -> 0.82860666 | F15: =+E15*7 -> 5.8002466
A16: Mondange | B16: 2018 | C16: 222.5 | D16: 212 | E16: =+D16/C16 -> 0.95280899 | F16: =+E16*7 -> 6.6696629
A17: Mondange | B17: 2017 | C17: 157 | D17: 130 | E17: =+D17/C17 -> 0.82802548 | F17: =+E17*7 -> 5.7961783
A18: Mondange | B18: 2016
A19: Mondange | B19: 2015
A20: JBDP | B20: 2020
A21: JBDP | B21: 2019 | C21: 112 | D21: 98 | E21: =+D21/C21 -> 0.875 | F21: =+E21*7 -> 6.125
A22: JBDP | B22: 2018 | C22: 110 | D22: 62 | E22: =+D22/C22 -> 0.56363636 | F22: =+E22*7 -> 3.9454545
A23: JBDP | B23: 2017 | C23: 67 | D23: 27 | E23: =+D23/C23 -> 0.40298507 | F23: =+E23*7 -> 2.8208955
A24: JBDP | B24: 2016
A25: JBDP | B25: 2015
A26: Poli T | B26: 2019
A27: Poli T | B27: 2018 | C27: 28 | D27: 26 | E27: =+D27/C27 -> 0.92857143 | F27: =+E27*7 -> 6.5
A28: Poli T | B28: 2017 | C28: 177 | D28: 174 | E28: =+D28/C28 -> 0.98305085 | F28: =+E28*7 -> 6.8813559
A29: Poli T | B29: 2016 | C29: 236.5 | D29: 215 | E29: =+D29/C29 -> 0.90909091 | F29: =+E29*7 -> 6.3636364
A30: Poli T | B30: 2015 | C30: 168 | D30: 121 | E30: =+D30/C30 -> 0.7202381 | F30: =+E30*7 -> 5.0416667
A31: Suzzoni | B31: 2020
A32: Suzzoni | B32: 2019 | C32: 140 | D32: 100 | E32: =+D32/C32 -> 0.71428571 | F32: =+E32*7 -> 5
A33: Suzzoni | B33: 2018 | C33: 150 | D33: 104 | E33: =+D33/C33 -> 0.69333333 | F33: =+E33*7 -> 4.8533333
A34: Suzzoni | B34: 2017 | C34: 195 | D34: 132 | E34: =+D34/C34 -> 0.67692308 | F34: =+E34*7 -> 4.7384615
A35: Suzzoni | B35: 2016
A36: Suzzoni | B36: 2015
A37: Renucci | B37: 2020 | C37: 194 | D37: 146 | E37: =+D37/C37 -> 0.75257732 | F37: =+E37*7 -> 5.2680412
A38: Renucci | B38: 2019 | C38: 70 | D38: 68 | E38: =+D38/C38 -> 0.97142857 | F38: =+E38*7 -> 6.8
A39: Renucci | B39: 2018 | C39: 171.5 | D39: 152 | E39: =+D39/C39 -> 0.88629738 | F39: =+E39*7 -> 6.2040816
A40: Renucci | B40: 2017 | C40: 84 | D40: 58 | E40: =+D40/C40 -> 0.69047619 | F40: =+E40*7 -> 4.8333333
A41: Renucci | B41: 2016
...

Sheet TCD
A1: Étiquettes de lignes | B1: nb heures | C1: de nb fagots | D1: nb fag / h | E1: nb fag/j/personne
A2: Barcelo | B2: 269.75 | C2: 243.25 | D2: 0.93577255 | E2: 6.5504079
A3: 2015 | B3: 469 | C3: 379 | D3: 0.80810235 | E3: 5.6567164
A4: 2016 | B4: 272 | C4: 266 | D4: 0.97794118 | E4: 6.8455882
A5: 2017 | B5: 191 | C5: 175 | D5: 0.91623037 | E5: 6.4136126
A6: 2018 | B6: 147 | C6: 153 | D6: 1.0408163 | E6: 7.2857143
A7: 2019
A8: CRVI | B8: 730.4 | C8: 703.4 | D8: 0.96312776 | E8: 6.7418943
A9: 2015 | B9: 712 | C9: 842 | D9: 1.1825843 | E9: 8.2780899
A10: 2016 | B10: 894 | C10: 907 | D10: 1.0145414 | E10: 7.1017897
A11: 2017 | B11: 829 | C11: 670 | D11: 0.80820265 | E11: 5.6574186
A12: 2018 | B12: 585 | C12: 574 | D12: 0.98119658 | E12: 6.8683761
A13: 2019 | B13: 632 | C13: 524 | D13: 0.82911392 | E13: 5.8037975
A14: 2020
A15: JBDP | B15: 96.333333 | C15: 62.333333 | D15: 0.61387381 | E15: 4.2971167
A16: 2015
A17: 2016
A18: 2017 | B18: 67 | C18: 27 | D18: 0.40298507 | E18: 2.8208955
A19: 2018 | B19: 110 | C19: 62 | D19: 0.56363636 | E19: 3.9454545
A20: 2019 | B20: 112 | C20: 98 | D20: 0.875 | E20: 6.125
A21: 2020
A22: Mondange | B22: 261.66667 | C22: 226 | D22: 0.86981371 | E22: 6.088696
A23: 2015
A24: 2016
A25: 2017 | B25: 157 | C25: 130 | D25: 0.82802548 | E25: 5.7961783
A26: 2018 | B26: 222.5 | C26: 212 | D26: 0.95280899 | E26: 6.6696629
A27: 2019 | B27: 405.5 | C27: 336 | D27: 0.82860666 | E27: 5.8002466
A28: 2020
A29: Poli E | B29: 106.5 | C29: 54 | D29: 0.50704225 | E29: 3.5492958
A30: 2015
A31: 2016
A32: 2017
A33: 2018
A34: 2019 | B34: 106.5 | C34: 54 | D34: 0.50704225 | E34: 3.5492958
A35: 2020
A36: Poli T | B36: 152.375 | C36: 134 | D36: 0.88523782 | E36: 6.1966647
A37: 2015 | B37: 168 | C37: 121 | D37: 0.7202381 | E37: 5.0416667
A38: 2016 | B38: 236.5 | C38: 215 | D38: 0.90909091 | E38: 6.3636364
A39: 2017 | B39: 177 | C39: 174 | D39: 0.98305085 | E39: 6.8813559
A40: 2018 | B40: 28 | C40: 26 | D40: 0.92857143 | E40: 6.5
...
