Workbook

Sheet Feuil1
A1: Site | B1: Région | C1: Famille | D1: Prestataire externe | E1: Famille d'Achats référencée | F1: Si "Non" Famille d'Achat mentionnée | G1: "Fournisseurs référencés" | H1: Délai | I1: Qualité | J1: Expertise | K1: Sécurité | L1: Note Moyenne | M1: Date de réception fichier | N1: Année | O1: Trimestre | P1: Correspondant site | Q1: Evaluateur | R1: Acheteur | S1: Commentaires | T1: Nouveau fichier note de 1 à 4 = NF / Ancien fichier note de 1 à 3 = AF | U1: Utilisateur
A2: Vitrolles 2 | B2: Sud | C2: Services Généraux | D2: AAI | E2: =IF(OR(COUNTIF(C2,"*Contrôles Règlementaires*"),COUNTIF(C2,"*Emballage - Carton*"),COUNTIF(C2,"*Emballage - Etiquettes*"),COUNTIF(C2,"*Emballage - Film*"),COUNTIF(C2,"*Emballage - Generaliste*"),COUNTIF(C2,"*Emballage - Palettes*"),COUNTIF(C2,"*Energies*"),COUNTIF(C2,"*EPI - Equipement Protection Individuelle*"),COUNTIF(C2,"*Formation*"),COUNTIF(C2,"*Fournitures Bureau*"),COUNTIF(C2,"*Gardiennage*"),COUNTIF(C2,"*Gaz chariots*"),COUNTIF(C2,"*Interim*"),COUNTIF(C2,"*Location de Voiture*"),COUNTIF(C2,"*Maintenance Imprimantes*"),COUNTIF(C2,"*Maintenance Imprimantes*"),COUNTIF(C2,"*Maintenance RF*"),COUNTIF(C2,"*Manutention*"),COUNTIF(C2,"*Nettoyage*"),COUNTIF(C2,"*Opérateurs téléphoniques - Fixe*"),COUNTIF(C2,"*Opérateurs téléphoniques - Mobile*"),COUNTIF(C2,"*Racks*"),COUNTIF(C2,"*Sécurité Incendie*"),COUNTIF(C2,"*Services Généraux*"),COUNTIF(C2,"*Signalétique / Management visuel*"),COUNTIF(C2,"*Traitement des Déchets*"),COUNTIF(C2,"*Vêtement de Travail*"),COUNTIF(C2,"*Multi Functionnal Print*")),"Oui","Non") -> Oui | G2: Non | L2: 1.66 | M2: 43555 | N2: 2019 | O2: T1/2019 | P2: S.Sagnelogue | R2: =VLOOKUP(C2,'[1]Familles d''Achats'!A$2:B$26,2,TRUE) -> Valérie Jouhaud | T2: AF
A3: Réau | B3: Nord | C3: Services Généraux | D3: ACMS | E3: =IF(OR(COUNTIF(C3,"*Contrôles Règlementaires*"),COUNTIF(C3,"*Emballage - Carton*"),COUNTIF(C3,"*Emballage - Etiquettes*"),COUNTIF(C3,"*Emballage - Film*"),COUNTIF(C3,"*Emballage - Generaliste*"),COUNTIF(C3,"*Emballage - Palettes*"),COUNTIF(C3,"*Energies*"),COUNTIF(C3,"*EPI - Equipement Protection Individuelle*"),COUNTIF(C3,"*Formation*"),COUNTIF(C3,"*Fournitures Bureau*"),COUNTIF(C3,"*Gardiennage*"),COUNTIF(C3,"*Gaz chariots*"),COUNTIF(C3,"*Interim*"),COUNTIF(C3,"*Location de Voiture*"),COUNTIF(C3,"*Maintenance Imprimantes*"),COUNTIF(C3,"*Maintenance Imprimantes*"),COUNTIF(C3,"*Maintenance RF*"),COUNTIF(C3,"*Manutention*"),COUNTIF(C3,"*Nettoyage*"),COUNTIF(C3,"*Opérateurs téléphoniques - Fixe*"),COUNTIF(C3,"*Opérateurs téléphoniques - Mobile*"),COUNTIF(C3,"*Racks*"),COUNTIF(C3,"*Sécurité Incendie*"),COUNTIF(C3,"*Services Généraux*"),COUNTIF(C3,"*Signalétique / Management visuel*"),COUNTIF(C3,"*Traitement des Déchets*"),COUNTIF(C3,"*Vêtement de Travail*"),COUNTIF(C3,"*Multi Functionnal Print*")),"Oui","Non") -> Oui | G3: Non | H3: 1 | I3: 1 | J3: 1 | K3: 3 | L3: =AVERAGE(H3:K3) -> 1.5 | N3: 2019 | O3: T3/2019 | Q3: Stéphanie Sagnelonge | R3: =VLOOKUP(C3,'[1]Familles d''Achats'!A$2:B$26,2,TRUE) -> Valérie Jouhaud | S3: Difficulté a voir des rdv pour visites / aucun contact avec le medecin du travail | T3: NF | U3: HASSIA
A4: Réau | B4: Nord | C4: Services Généraux | D4: ACMS | E4: =IF(OR(COUNTIF(C4,"*Contrôles Règlementaires*"),COUNTIF(C4,"*Emballage - Carton*"),COUNTIF(C4,"*Emballage - Etiquettes*"),COUNTIF(C4,"*Emballage - Film*"),COUNTIF(C4,"*Emballage - Generaliste*"),COUNTIF(C4,"*Emballage - Palettes*"),COUNTIF(C4,"*Energies*"),COUNTIF(C4,"*EPI - Equipement Protection Individuelle*"),COUNTIF(C4,"*Formation*"),COUNTIF(C4,"*Fournitures Bureau*"),COUNTIF(C4,"*Gardiennage*"),COUNTIF(C4,"*Gaz chariots*"),COUNTIF(C4,"*Interim*"),COUNTIF(C4,"*Location de Voiture*"),COUNTIF(C4,"*Maintenance Imprimantes*"),COUNTIF(C4,"*Maintenance Imprimantes*"),COUNTIF(C4,"*Maintenance RF*"),COUNTIF(C4,"*Manutention*"),COUNTIF(C4,"*Nettoyage*"),COUNTIF(C4,"*Opérateurs téléphoniques - Fixe*"),COUNTIF(C4,"*Opérateurs téléphoniques - Mobile*"),COUNTIF(C4,"*Racks*"),COUNTIF(C4,"*Sécurité Incendie*"),COUNTIF(C4,"*Services Généraux*"),COUNTIF(C4,"*Signalétique / Management visuel*"),COUNTIF(C4,"*Traitement des Déchets*"),COUNTIF(C4,"*Vêtement de Travail*"),COUNTIF(C4,"*Multi Functionnal Print*")),"Oui","Non") -> Oui | G4: Non | H4: 1 | I4: 1 | J4: 1 | K4: 3 | L4: =AVERAGE(H4:K4) -> 1.5 | N4: 2019 | O4: T2/2019 | Q4: Stéphanie Sagnelonge | R4: =VLOOKUP(C4,'[1]Familles d''Achats'!A$2:B$26,2,TRUE) -> Valérie Jouhaud | S4: Difficulté a voir des rdv pour visites / aucun contact avec le medecin du travail | T4: NF | U4: HASSIA
A5: Réau | B5: Nord | C5: Services Généraux | D5: ACMS | E5: =IF(OR(COUNTIF(C5,"*Contrôles Règlementaires*"),COUNTIF(C5,"*Emballage - Carton*"),COUNTIF(C5,"*Emballage - Etiquettes*"),COUNTIF(C5,"*Emballage - Film*"),COUNTIF(C5,"*Emballage - Generaliste*"),COUNTIF(C5,"*Emballage - Palettes*"),COUNTIF(C5,"*Energies*"),COUNTIF(C5,"*EPI - Equipement Protection Individuelle*"),COUNTIF(C5,"*Formation*"),COUNTIF(C5,"*Fournitures Bureau*"),COUNTIF(C5,"*Gardiennage*"),COUNTIF(C5,"*Gaz chariots*"),COUNTIF(C5,"*Interim*"),COUNTIF(C5,"*Location de Voiture*"),COUNTIF(C5,"*Maintenance Imprimantes*"),COUNTIF(C5,"*Maintenance Imprimantes*"),COUNTIF(C5,"*Maintenance RF*"),COUNTIF(C5,"*Manutention*"),COUNTIF(C5,"*Nettoyage*"),COUNTIF(C5,"*Opérateurs téléphoniques - Fixe*"),COUNTIF(C5,"*Opérateurs téléphoniques - Mobile*"),COUNTIF(C5,"*Racks*"),COUNTIF(C5,"*Sécurité Incendie*"),COUNTIF(C5,"*Services Généraux*"),COUNTIF(C5,"*Signalétique / Management visuel*"),COUNTIF(C5,"*Traitement des Déchets*"),COUNTIF(C5,"*Vêtement de Travail*"),COUNTIF(C5,"*Multi Functionnal Print*")),"Oui","Non") -> Oui | G5: Non | H5: 1 | I5: 1 | J5: 1 | K5: 3 | L5: =AVERAGE(H5:K5) -> 1.5 | N5: 2019 | O5: T1/2019 | Q5: Stéphanie Sagnelonge | R5: =VLOOKUP(C5,'[1]Familles d''Achats'!A$2:B$26,2,TRUE) -> Valérie Jouhaud | S5: Difficulté a voir des rdv pour visites / aucun contact avec le medecin du travail | T5: NF | U5: HASSIA
A6: Bruyeres sur Oise | B6: Centre | C6: Interim | D6: Actual | E6: =IF(OR(COUNTIF(C6,"*Contrôles Règlementaires*"),COUNTIF(C6,"*Emballage - Carton*"),COUNTIF(C6,"*Emballage - Etiquettes*"),COUNTIF(C6,"*Emballage - Film*"),COUNTIF(C6,"*Emballage - Generaliste*"),COUNTIF(C6,"*Emballage - Palettes*"),COUNTIF(C6,"*Energies*"),COUNTIF(C6,"*EPI - Equipement Protection Individuelle*"),COUNTIF(C6,"*Formation*"),COUNTIF(C6,"*Fournitures Bureau*"),COUNTIF(C6,"*Gardiennage*"),COUNTIF(C6,"*Gaz chariots*"),COUNTIF(C6,"*Interim*"),COUNTIF(C6,"*Location de Voiture*"),COUNTIF(C6,"*Maintenance Imprimantes*"),COUNTIF(C6,"*Maintenance Imprimantes*"),COUNTIF(C6,"*Maintenance RF*"),COUNTIF(C6,"*Manutention*"),COUNTIF(C6,"*Nettoyage*"),COUNTIF(C6,"*Opérateurs téléphoniques - Fixe*"),COUNTIF(C6,"*Opérateurs téléphoniques - Mobile*"),COUNTIF(C6,"*Racks*"),COUNTIF(C6,"*Sécurité Incendie*"),COUNTIF(C6,"*Services Généraux*"),COUNTIF(C6,"*Signalétique / Management visuel*"),COUNTIF(C6,"*Traitement des Déchets*"),COUNTIF(C6,"*Vêtement de Travail*"),COUNTIF(C6,"*Multi Functionnal Print*")),"Oui","Non") -> Oui | G6: Oui | H6: 2 | I6: 2 | J6: 3 | L6: 1.75 | M6: 43752 | N6: 2019 | O6: T3/2019 | P6: Caroline Peixoto | R6: =VLOOKUP(C6,'[1]Familles d''Achats'!A$2:B$26,2,TRUE) -> Claire Martin | S6: pb assiduité et qualité | T6: NF | U6: HASSIA
A7: Réau | B7: Nord | C7: Interim | D7: Actual | E7: =IF(OR(COUNTIF(C7,"*Contrôles Règlementaires*"),COUNTIF(C7,"*Emballage - Carton*"),COUNTIF(C7,"*Emballage - Etiquettes*"),COUNTIF(C7,"*Emballage - Film*"),COUNTIF(C7,"*Emballage - Generaliste*"),COUNTIF(C7,"*Emballage - Palettes*"),COUNTIF(C7,"*Energies*"),COUNTIF(C7,"*EPI - Equipement Protection Individuelle*"),COUNTIF(C7,"*Formation*"),COUNTIF(C7,"*Fournitures Bureau*"),COUNTIF(C7,"*Gardiennage*"),COUNTIF(C7,"*Gaz chariots*"),COUNTIF(C7,"*Interim*"),COUNTIF(C7,"*Location de Voiture*"),COUNTIF(C7,"*Maintenance Imprimantes*"),COUNTIF(C7,"*Maintenance Imprimantes*"),COUNTIF(C7,"*Maintenance RF*"),COUNTIF(C7,"*Manutention*"),COUNTIF(C7,"*Nettoyage*"),COUNTIF(C7,"*Opérateurs téléphoniques - Fixe*"),COUNTIF(C7,"*Opérateurs téléphoniques - Mobile*"),COUNTIF(C7,"*Racks*"),COUNTIF(C7,"*Sécurité Incendie*"),COUNTIF(C7,"*Services Généraux*"),COUNTIF(C7,"*Signalétique / Management visuel*"),COUNTIF(C7,"*Traitement des Déchets*"),COUNTIF(C7,"*Vêtement de Travail*"),COUNTIF(C7,"*Multi Functionnal Print*")),"Oui","Non") -> Oui | G7: Oui | H7: 1 | I7: 1 | J7: 1 | K7: 1 | L7: =AVERAGE(H7:K7) -> 1 | N7: 2019 | O7: T3/2019 | Q7: Stéphanie Sagnelonge | R7: =VLOOKUP(C7,'[1]Familles d''Achats'!A$2:B$26,2,TRUE) -> Claire Martin | S7: Pas de retours aux demandes | T7: NF | U7: HASSIA
A8: Réau | B8: Nord | C8: Interim | D8: Actual | E8: =IF(OR(COUNTIF(C8,"*Contrôles Règlementaires*"),COUNTIF(C8,"*Emballage - Carton*"),COUNTIF(C8,"*Emballage - Etiquettes*"),COUNTIF(C8,"*Emballage - Film*"),COUNTIF(C8,"*Emballage - Generaliste*"),COUNTIF(C8,"*Emballage - Palettes*"),COUNTIF(C8,"*Energies*"),COUNTIF(C8,"*EPI - Equipement Protection Individuelle*"),COUNTIF(C8,"*Formation*"),COUNTIF(C8,"*Fournitures Bureau*"),COUNTIF(C8,"*Gardiennage*"),COUNTIF(C8,"*Gaz chariots*"),COUNTIF(C8,"*Interim*"),COUNTIF(C8,"*Location de Voiture*"),COUNTIF(C8,"*Maintenance Imprimantes*"),COUNTIF(C8,"*Maintenance Imprimantes*"),COUNTIF(C8,"*Maintenance RF*"),COUNTIF(C8,"*Manutention*"),COUNTIF(C8,"*Nettoyage*"),COUNTIF(C8,"*Opérateurs téléphoniques - Fixe*"),COUNTIF(C8,"*Opérateurs téléphoniques - Mobile*"),COUNTIF(C8,"*Racks*"),COUNTIF(C8,"*Sécurité Incendie*"),COUNTIF(C8,"*Services Généraux*"),COUNTIF(C8,"*Signalétique / Management visuel*"),COUNTIF(C8,"*Traitement des Déchets*"),COUNTIF(C8,"*Vêtement de Travail*"),COUNTIF(C8,"*Multi Functionnal Print*")),"Oui","Non") -> Oui | G8: Oui | H8: 1 | I8: 1 | J8: 1 | K8: 1 | L8: =AVERAGE(H8:K8) -> 1 | N8: 2019 | O8: T2/2019 | Q8: Stéphanie Sagnelonge | R8: =VLOOKUP(C8,'[1]Familles d''Achats'!A$2:B$26,2,TRUE) -> Claire Martin | S8: pas de retour aux demandes | T8: NF | U8: HASSIA
A9: Réau | B9: Nord | C9: Interim | D9: Actual | E9: =IF(OR(COUNTIF(C9,"*Contrôles Règlementaires*"),COUNTIF(C9,"*Emballage - Carton*"),COUNTIF(C9,"*Emballage - Etiquettes*"),COUNTIF(C9,"*Emballage - Film*"),COUNTIF(C9,"*Emballage - Generaliste*"),COUNTIF(C9,"*Emballage - Palettes*"),COUNTIF(C9,"*Energies*"),COUNTIF(C9,"*EPI - Equipement Protection Individuelle*"),COUNTIF(C9,"*Formation*"),COUNTIF(C9,"*Fournitures Bureau*"),COUNTIF(C9,"*Gardiennage*"),COUNTIF(C9,"*Gaz chariots*"),COUNTIF(C9,"*Interim*"),COUNTIF(C9,"*Location de Voiture*"),COUNTIF(C9,"*Maintenance Imprimantes*"),COUNTIF(C9,"*Maintenance Imprimantes*"),COUNTIF(C9,"*Maintenance RF*"),COUNTIF(C9,"*Manutention*"),COUNTIF(C9,"*Nettoyage*"),COUNTIF(C9,"*Opérateurs téléphoniques - Fixe*"),COUNTIF(C9,"*Opérateurs téléphoniques - Mobile*"),COUNTIF(C9,"*Racks*"),COUNTIF(C9,"*Sécurité Incendie*"),COUNTIF(C9,"*Services Généraux*"),COUNTIF(C9,"*Signalétique / Management visuel*"),COUNTIF(C9,"*Traitement des Déchets*"),COUNTIF(C9,"*Vêtement de Travail*"),COUNTIF(C9,"*Multi Functionnal Print*")),"Oui","Non") -> Oui | G9: Oui | H9: 1 | I9: 1 | J9: 1 | K9: 1 | L9: =AVERAGE(H9:K9) -> 1 | N9: 2019 | O9: T1/2019 | Q9: Stéphanie Sagnelonge | R9: =VLOOKUP(C9,'[1]Familles d''Achats'!A$2:B$26,2,TRUE) -> Claire Martin | S9: pas de retour aux demandes | T9: NF | U9: HASSIA
A10: Vitrolles 2 | B10: Sud | C10: Interim | D10: Adequat | E10: =IF(OR(COUNTIF(C10,"*Contrôles Règlementaires*"),COUNTIF(C10,"*Emballage - Carton*"),COUNTIF(C10,"*Emballage - Etiquettes*"),COUNTIF(C10,"*Emballage - Film*"),COUNTIF(C10,"*Emballage - Generaliste*"),COUNTIF(C10,"*Emballage - Palettes*"),COUNTIF(C10,"*Energies*"),COUNTIF(C10,"*EPI - Equipement Protection Individuelle*"),COUNTIF(C10,"*Formation*"),COUNTIF(C10,"*Fournitures Bureau*"),COUNTIF(C10,"*Gardiennage*"),COUNTIF(C10,"*Gaz chariots*"),COUNTIF(C10,"*Interim*"),COUNTIF(C10,"*Location de Voiture*"),COUNTIF(C10,"*Maintenance Imprimantes*"),COUNTIF(C10,"*Maintenance Imprimantes*"),COUNTIF(C10,"*Maintenance RF*"),COUNTIF(C10,"*Manutention*"),COUNTIF(C10,"*Nettoyage*"),COUNTIF(C10,"*Opérateurs téléphoniques - Fixe*"),COUNTIF(C10,"*Opérateurs téléphoniques - Mobile*"),COUNTIF(C10,"*Racks*"),COUNTIF(C10,"*Sécurité Incendie*"),COUNTIF(C10,"*Services Généraux*"),COUNTIF(C10,"*Signalétique / Management visuel*"),COUNTIF(C10,"*Traitement des Déchets*"),COUNTIF(C10,"*Vêtement de Travail*"),COUNTIF(C10,"*Multi Functionnal Print*")),"Oui","Non") -> Oui | G10: Oui | H10: 1.33 | I10: 1.33 | J10: 1.33 | K10: 1.33 | L10: 1.33 | M10: 43555 | N10: 2019 | O10: T1/2019 | P10: S.Sagnelogue | R10: =VLOOKUP(C10,'[1]Familles d''Achats'!A$2:B$26,2,TRUE) -> Claire Martin | T10: AF
A11: Vitrolles 2 | B11: Sud | C11: Interim | D11: Adequat | E11: =IF(OR(COUNTIF(C11,"*Contrôles Règlementaires*"),COUNTIF(C11,"*Emballage - Carton*"),COUNTIF(C11,"*Emballage - Etiquettes*"),COUNTIF(C11,"*Emballage - Film*"),COUNTIF(C11,"*Emballage - Generaliste*"),COUNTIF(C11,"*Emballage - Palettes*"),COUNTIF(C11,"*Energies*"),COUNTIF(C11,"*EPI - Equipement Protection Individuelle*"),COUNTIF(C11,"*Formation*"),COUNTIF(C11,"*Fournitures Bureau*"),COUNTIF(C11,"*Gardiennage*"),COUNTIF(C11,"*Gaz chariots*"),COUNTIF(C11,"*Interim*"),COUNTIF(C11,"*Location de Voiture*"),COUNTIF(C11,"*Maintenance Imprimantes*"),COUNTIF(C11,"*Maintenance Imprimantes*"),COUNTIF(C11,"*Maintenance RF*"),COUNTIF(C11,"*Manutention*"),COUNTIF(C11,"*Nettoyage*"),COUNTIF(C11,"*Opérateurs téléphoniques - Fixe*"),COUNTIF(C11,"*Opérateurs téléphoniques - Mobile*"),COUNTIF(C11,"*Racks*"),COUNTIF(C11,"*Sécurité Incendie*"),COUNTIF(C11,"*Services Généraux*"),COUNTIF(C11,"*Signalétique / Management visuel*"),COUNTIF(C11,"*Traitement des Déchets*"),COUNTIF(C11,"*Vêtement de Travail*"),COUNTIF(C11,"*Multi Functionnal Print*")),"Oui","Non") -> Oui | G11: Oui | H11: 1.33 | I11: 1.33 | J11: 1.33 | K11: 1.33 | L11: 1.33 | M11: 43646 | N11: 2019 | O11: T2/2019 | P11: S.Sagnelogue | R11: =VLOOKUP(C11,'[1]Familles d''Achats'!A$2:B$26,2,TRUE) -> Claire Martin | T11: AF
A12: Saint Vulbas l'Oreal Logistique | B12: Centre | C12: Interim | D12: Adequat | E12: =IF(OR(COUNTIF(C12,"*Contrôles Règlementaires*"),COUNTIF(C12,"*Emballage - Carton*"),COUNTIF(C12,"*Emballage - Etiquettes*"),COUNTIF(C12,"*Emballage - Film*"),COUNTIF(C12,"*Emballage - Generaliste*"),COUNTIF(C12,"*Emballage - Palettes*"),COUNTIF(C12,"*Energies*"),COUNTIF(C12,"*EPI - Equipement Protection Individuelle*"),COUNTIF(C12,"*Formation*"),COUNTIF(C12,"*Fournitures Bureau*"),COUNTIF(C12,"*Gardiennage*"),COUNTIF(C12,"*Gaz chariots*"),COUNTIF(C12,"*Interim*"),COUNTIF(C12,"*Location de Voiture*"),COUNTIF(C12,"*Maintenance Imprimantes*"),COUNTIF(C12,"*Maintenance Imprimantes*"),COUNTIF(C12,"*Maintenance RF*"),COUNTIF(C12,"*Manutention*"),COUNTIF(C12,"*Nettoyage*"),COUNTIF(C12,"*Opérateurs téléphoniques - Fixe*"),COUNTIF(C12,"*Opérateurs téléphoniques - Mobile*"),COUNTIF(C12,"*Racks*"),COUNTIF(C12,"*Sécurité Incendie*"),COUNTIF(C12,"*Services Généraux*"),COUNTIF(C12,"*Signalétique / Management visuel*"),COUNTIF(C12,"*Traitement des Déchets*"),COUNTIF(C12,"*Vêtement de Travail*"),COUNTIF(C12,"*Multi Functionnal Print*")),"Oui","Non") -> Oui | G12: Oui | H12: 1 | I12: 1 | J12: 1 | K12: 2 | L12: 1.25 | M12: 43732 | N12: 2019 | O12: T3/2019 | P12: Christian Bernard | R12: =VLOOKUP(C12,'[1]Familles d''Achats'!A$2:B$26,2,TRUE) -> Claire Martin | T12: NF | U12: HASSIA
A13: Salon de Provence | B13: TD | C13: Interim | D13: Alliance | E13: =IF(OR(COUNTIF(C13,"*Contrôles Règlementaires*"),COUNTIF(C13,"*Emballage - Carton*"),COUNTIF(C13,"*Emballage - Etiquettes*"),COUNTIF(C13,"*Emballage - Film*"),COUNTIF(C13,"*Emballage - Generaliste*"),COUNTIF(C13,"*Emballage - Palettes*"),COUNTIF(C13,"*Energies*"),COUNTIF(C13,"*EPI - Equipement Protection Individuelle*"),COUNTIF(C13,"*Formation*"),COUNTIF(C13,"*Fournitures Bureau*"),COUNTIF(C13,"*Gardiennage*"),COUNTIF(C13,"*Gaz chariots*"),COUNTIF(C13,"*Interim*"),COUNTIF(C13,"*Location de Voiture*"),COUNTIF(C13,"*Maintenance Imprimantes*"),COUNTIF(C13,"*Maintenance Imprimantes*"),COUNTIF(C13,"*Maintenance RF*"),COUNTIF(C13,"*Manutention*"),COUNTIF(C13,"*Nettoyage*"),COUNTIF(C13,"*Opérateurs téléphoniques - Fixe*"),COUNTIF(C13,"*Opérateurs téléphoniques - Mobile*"),COUNTIF(C13,"*Racks*"),COUNTIF(C13,"*Sécurité Incendie*"),COUNTIF(C13,"*Services Généraux*"),COUNTIF(C13,"*Signalétique / Management visuel*"),COUNTIF(C13,"*Traitement des Déchets*"),COUNTIF(C13,"*Vêtement de Travail*"),COUNTIF(C13,"*Multi Functionnal Print*")),"Oui","Non") -> Oui | G13: Oui | L13: 1.33 | M13: 43555 | N13: 2019 | O13: T1/2019 | P13: S.Sagnelogue | R13: =VLOOKUP(C13,'[1]Familles d''Achats'!A$2:B$26,2,TRUE) -> Claire Martin | T13: AF
A14: Satolas IDC22 (OSF/PEPSICO) | B14: Sud | C14: Interim | D14: Alliance | E14: =IF(OR(COUNTIF(C14,"*Contrôles Règlementaires*"),COUNTIF(C14,"*Emballage - Carton*"),COUNTIF(C14,"*Emballage - Etiquettes*"),COUNTIF(C14,"*Emballage - Film*"),COUNTIF(C14,"*Emballage - Generaliste*"),COUNTIF(C14,"*Emballage - Palettes*"),COUNTIF(C14,"*Energies*"),COUNTIF(C14,"*EPI - Equipement Protection Individuelle*"),COUNTIF(C14,"*Formation*"),COUNTIF(C14,"*Fournitures Bureau*"),COUNTIF(C14,"*Gardiennage*"),COUNTIF(C14,"*Gaz chariots*"),COUNTIF(C14,"*Interim*"),COUNTIF(C14,"*Location de Voiture*"),COUNTIF(C14,"*Maintenance Imprimantes*"),COUNTIF(C14,"*Maintenance Imprimantes*"),COUNTIF(C14,"*Maintenance RF*"),COUNTIF(C14,"*Manutention*"),COUNTIF(C14,"*Nettoyage*"),COUNTIF(C14,"*Opérateurs téléphoniques - Fixe*"),COUNTIF(C14,"*Opérateurs téléphoniques - Mobile*"),COUNTIF(C14,"*Racks*"),COUNTIF(C14,"*Sécurité Incendie*"),COUNTIF(C14,"*Services Généraux*"),COUNTIF(C14,"*Signalétique / Management visuel*"),COUNTIF(C14,"*Traitement des Déchets*"),COUNTIF(C14,"*Vêtement de Travail*"),COUNTIF(C14,"*Multi Functionnal Print*")),"Oui","Non") -> Oui | G14: Oui | H14: 2 | I14: 2 | J14: 1 | K14: 2 | L14: =AVERAGE(H14:K14) -> 1.75 | N14: 2019 | O14: T3/2019 | P14: C.Feret | Q14: Thomas Courvallain | R14: =VLOOKUP(C14,'[1]Familles d''Achats'!A$2:B$26,2,TRUE) -> Claire Martin | S14: Tres peu d'affaire avec cette companie d'ETT - peu ou pas de proposition de candidat | T14: NF | U14: HASSIA
A15: Satolas IDC22 (OSF/PEPSICO) | B15: Sud | C15: Interim | D15: Alliance | E15: =IF(OR(COUNTIF(C15,"*Contrôles Règlementaires*"),COUNTIF(C15,"*Emballage - Carton*"),COUNTIF(C15,"*Emballage - Etiquettes*"),COUNTIF(C15,"*Emballage - Film*"),COUNTIF(C15,"*Emballage - Generaliste*"),COUNTIF(C15,"*Emballage - Palettes*"),COUNTIF(C15,"*Energies*"),COUNTIF(C15,"*EPI - Equipement Protection Individuelle*"),COUNTIF(C15,"*Formation*"),COUNTIF(C15,"*Fournitures Bureau*"),COUNTIF(C15,"*Gardiennage*"),COUNTIF(C15,"*Gaz chariots*"),COUNTIF(C15,"*Interim*"),COUNTIF(C15,"*Location de Voiture*"),COUNTIF(C15,"*Maintenance Imprimantes*"),COUNTIF(C15,"*Maintenance Imprimantes*"),COUNTIF(C15,"*Maintenance RF*"),COUNTIF(C15,"*Manutention*"),COUNTIF(C15,"*Nettoyage*"),COUNTIF(C15,"*Opérateurs téléphoniques - Fixe*"),COUNTIF(C15,"*Opérateurs téléphoniques - Mobile*"),COUNTIF(C15,"*Racks*"),COUNTIF(C15,"*Sécurité Incendie*"),COUNTIF(C15,"*Services Généraux*"),COUNTIF(C15,"*Signalétique / Management visuel*"),COUNTIF(C15,"*Traitement des Déchets*"),COUNTIF(C15,"*Vêtement de Travail*"),COUNTIF(C15,"*Multi Functionnal Print*")),"Oui","Non") -> Oui | G15: Oui | H15: 2 | I15: 2 | J15: 1 | K15: 2 | L15: =AVERAGE(H15:K15) -> 1.75 | N15: 2019 | O15: T2/2019 | P15: C.Feret | Q15: Thomas Courvallain | R15: =VLOOKUP(C15,'[1]Familles d''Achats'!A$2:B$26,2,TRUE) -> Claire Martin | S15: Tres peu d'affaire avec cette companie d'ETT - peu ou pas de proposition de candidat | T15: NF | U15: HASSIA
A16: Satolas IDC22 (OSF/PEPSICO) | B16: Sud | C16: Interim | D16: Alliance | E16: =IF(OR(COUNTIF(C16,"*Contrôles Règlementaires*"),COUNTIF(C16,"*Emballage - Carton*"),COUNTIF(C16,"*Emballage - Etiquettes*"),COUNTIF(C16,"*Emballage - Film*"),COUNTIF(C16,"*Emballage - Generaliste*"),COUNTIF(C16,"*Emballage - Palettes*"),COUNTIF(C16,"*Energies*"),COUNTIF(C16,"*EPI - Equipement Protection Individuelle*"),COUNTIF(C16,"*Formation*"),COUNTIF(C16,"*Fournitures Bureau*"),COUNTIF(C16,"*Gardiennage*"),COUNTIF(C16,"*Gaz chariots*"),COUNTIF(C16,"*Interim*"),COUNTIF(C16,"*Location de Voiture*"),COUNTIF(C16,"*Maintenance Imprimantes*"),COUNTIF(C16,"*Maintenance Imprimantes*"),COUNTIF(C16,"*Maintenance RF*"),COUNTIF(C16,"*Manutention*"),COUNTIF(C16,"*Nettoyage*"),COUNTIF(C16,"*Opérateurs téléphoniques - Fixe*"),COUNTIF(C16,"*Opérateurs téléphoniques - Mobile*"),COUNTIF(C16,"*Racks*"),COUNTIF(C16,"*Sécurité Incendie*"),COUNTIF(C16,"*Services Généraux*"),COUNTIF(C16,"*Signalétique / Management visuel*"),COUNTIF(C16,"*Traitement des Déchets*"),COUNTIF(C16,"*Vêtement de Travail*"),COUNTIF(C16,"*Multi Functionnal Print*")),"Oui","Non") -> Oui | G16: Oui | H16: 2 | I16: 2 | J16: 1 | K16: 2 | L16: =AVERAGE(H16:K16) -> 1.75 | N16: 2019 | O16: T1/2019 | P16: C.Feret | Q16: Thomas Courvallain | R16: =VLOOKUP(C16,'[1]Familles d''Achats'!A$2:B$26,2,TRUE) -> Claire Martin | S16: Tres peu d'affaire avec cette companie d'ETT - peu ou pas de proposition de candidat | T16: NF | U16: HASSIA
A17: Chateauneuf sur Loire | B17: Centre | C17: Location de Voiture | D17: Amex | E17: =IF(OR(COUNTIF(C17,"*Contrôles Règlementaires*"),COUNTIF(C17,"*Emballage - Carton*"),COUNTIF(C17,"*Emballage - Etiquettes*"),COUNTIF(C17,"*Emballage - Film*"),COUNTIF(C17,"*Emballage - Generaliste*"),COUNTIF(C17,"*Emballage - Palettes*"),COUNTIF(C17,"*Energies*"),COUNTIF(C17,"*EPI - Equipement Protection Individuelle*"),COUNTIF(C17,"*Formation*"),COUNTIF(C17,"*Fournitures Bureau*"),COUNTIF(C17,"*Gardiennage*"),COUNTIF(C17,"*Gaz chariots*"),COUNTIF(C17,"*Interim*"),COUNTIF(C17,"*Location de Voiture*"),COUNTIF(C17,"*Maintenance Imprimantes*"),COUNTIF(C17,"*Maintenance Imprimantes*"),COUNTIF(C17,"*Maintenance RF*"),COUNTIF(C17,"*Manutention*"),COUNTIF(C17,"*Nettoyage*"),COUNTIF(C17,"*Opérateurs téléphoniques - Fixe*"),COUNTIF(C17,"*Opérateurs téléphoniques - Mobile*"),COUNTIF(C17,"*Racks*"),COUNTIF(C17,"*Sécurité Incendie*"),COUNTIF(C17,"*Services Généraux*"),COUNTIF(C17,"*Signalétique / Management visuel*"),COUNTIF(C17,"*Traitement des Déchets*"),COUNTIF(C17,"*Vêtement de Travail*"),COUNTIF(C17,"*Multi Functionnal Print*")),"Oui","Non") -> Oui | G17: Non | H17: 1 | I17: 1 | J17: 1 | K17: 1 | L17: 1 | M17: 43741 | N17: 2019 | O17: T3/2019 | P17: Sophie Le Guevel | R17: =VLOOKUP(C17,'[1]Familles d''Achats'!A$2:B$26,2,TRUE) -> Claire Martin | S17: Toutes mes demandes sur le portail ne sont pas traitées. Je suis obligée de les appeler pour que ma demande soit traitée. | T17: NF | U17: HASSIA
A18: Ingré | B18: Sud | C18: Contrôles règlementaires | D18: Apave | E18: =IF(OR(COUNTIF(C18,"*Contrôles Règlementaires*"),COUNTIF(C18,"*Emballage - Carton*"),COUNTIF(C18,"*Emballage - Etiquettes*"),COUNTIF(C18,"*Emballage - Film*"),COUNTIF(C18,"*Emballage - Generaliste*"),COUNTIF(C18,"*Emballage - Palettes*"),COUNTIF(C18,"*Energies*"),COUNTIF(C18,"*EPI - Equipement Protection Individuelle*"),COUNTIF(C18,"*Formation*"),COUNTIF(C18,"*Fournitures Bureau*"),COUNTIF(C18,"*Gardiennage*"),COUNTIF(C18,"*Gaz chariots*"),COUNTIF(C18,"*Interim*"),COUNTIF(C18,"*Location de Voiture*"),COUNTIF(C18,"*Maintenance Imprimantes*"),COUNTIF(C18,"*Maintenance Imprimantes*"),COUNTIF(C18,"*Maintenance RF*"),COUNTIF(C18,"*Manutention*"),COUNTIF(C18,"*Nettoyage*"),COUNTIF(C18,"*Opérateurs téléphoniques - Fixe*"),COUNTIF(C18,"*Opérateurs téléphoniques - Mobile*"),COUNTIF(C18,"*Racks*"),COUNTIF(C18,"*Sécurité Incendie*"),COUNTIF(C18,"*Services Généraux*"),COUNTIF(C18,"*Signalétique / Management visuel*"),COUNTIF(C18,"*Traitement des Déchets*"),COUNTIF(C18,"*Vêtement de Travail*"),COUNTIF(C18,"*Multi Functionnal Print*")),"Oui","Non") -> Oui | G18: Oui | L18: 1.33 | M18: 43555 | N18: 2019 | O18: T1/2019 | P18: S.Sagnelogue | R18: =VLOOKUP(C18,'[1]Familles d''Achats'!A$2:B$26,2,TRUE) -> Valérie Jouhaud | T18: AF
A19: Saint Vulbas 2B/2C | B19: Sud | C19: Contrôles règlementaires | D19: Apave | E19: =IF(OR(COUNTIF(C19,"*Contrôles Règlementaires*"),COUNTIF(C19,"*Emballage - Carton*"),COUNTIF(C19,"*Emballage - Etiquettes*"),COUNTIF(C19,"*Emballage - Film*"),COUNTIF(C19,"*Emballage - Generaliste*"),COUNTIF(C19,"*Emballage - Palettes*"),COUNTIF(C19,"*Energies*"),COUNTIF(C19,"*EPI - Equipement Protection Individuelle*"),COUNTIF(C19,"*Formation*"),COUNTIF(C19,"*Fournitures Bureau*"),COUNTIF(C19,"*Gardiennage*"),COUNTIF(C19,"*Gaz chariots*"),COUNTIF(C19,"*Interim*"),COUNTIF(C19,"*Location de Voiture*"),COUNTIF(C19,"*Maintenance Imprimantes*"),COUNTIF(C19,"*Maintenance Imprimantes*"),COUNTIF(C19,"*Maintenance RF*"),COUNTIF(C19,"*Manutention*"),COUNTIF(C19,"*Nettoyage*"),COUNTIF(C19,"*Opérateurs téléphoniques - Fixe*"),COUNTIF(C19,"*Opérateurs téléphoniques - Mobile*"),COUNTIF(C19,"*Racks*"),COUNTIF(C19,"*Sécurité Incendie*"),COUNTIF(C19,"*Services Généraux*"),COUNTIF(C19,"*Signalétique / Management visuel*"),COUNTIF(C19,"*Traitement des Déchets*"),COUNTIF(C19,"*Vêtement de Travail*"),COUNTIF(C19,"*Multi Functionnal Print*")),"Oui","Non") -> Oui | G19: Oui | L19: 1.33 | M19: 43555 | N19: 2019 | O19: T1/2019 | P19: S.Sagnelogue | R19: =VLOOKUP(C19,'[1]Familles d''Achats'!A$2:B$26,2,TRUE) -> Valérie Jouhaud | T19: AF
A20: Villebarou | B20: Nord | C20: Contrôles règlementaires | D20: Apave | E20: =IF(OR(COUNTIF(C20,"*Contrôles Règlementaires*"),COUNTIF(C20,"*Emballage - Carton*"),COUNTIF(C20,"*Emballage - Etiquettes*"),COUNTIF(C20,"*Emballage - Film*"),COUNTIF(C20,"*Emballage - Generaliste*"),COUNTIF(C20,"*Emballage - Palettes*"),COUNTIF(C20,"*Energies*"),COUNTIF(C20,"*EPI - Equipement Protection Individuelle*"),COUNTIF(C20,"*Formation*"),COUNTIF(C20,"*Fournitures Bureau*"),COUNTIF(C20,"*Gardiennage*"),COUNTIF(C20,"*Gaz chariots*"),COUNTIF(C20,"*Interim*"),COUNTIF(C20,"*Location de Voiture*"),COUNTIF(C20,"*Maintenance Imprimantes*"),COUNTIF(C20,"*Maintenance Imprimantes*"),COUNTIF(C20,"*Maintenance RF*"),COUNTIF(C20,"*Manutention*"),COUNTIF(C20,"*Nettoyage*"),COUNTIF(C20,"*Opérateurs téléphoniques - Fixe*"),COUNTIF(C20,"*Opérateurs téléphoniques - Mobile*"),COUNTIF(C20,"*Racks*"),COUNTIF(C20,"*Sécurité Incendie*"),COUNTIF(C20,"*Services Généraux*"),COUNTIF(C20,"*Signalétique / Management visuel*"),COUNTIF(C20,"*Traitement des Déchets*"),COUNTIF(C20,"*Vêtement de Travail*"),COUNTIF(C20,"*Multi Functionnal Print*")),"Oui","Non") -> Oui | G20: Oui | L20: 1.75 | M20: 43646 | N20: 2019 | O20: T2/2019 | P20: Franck Montibeller | R20: =VLOOKUP(C20,'[1]Familles d''Achats'!A$2:B$26,2,TRUE) -> Valérie Jouhaud | T20: AF
A21: Bruyeres sur Oise | B21: Nord | C21: Services Généraux | D21: Assa Abloy | E21: =IF(OR(COUNTIF(C21,"*Contrôles Règlementaires*"),COUNTIF(C21,"*Emballage - Carton*"),COUNTIF(C21,"*Emballage - Etiquettes*"),COUNTIF(C21,"*Emballage - Film*"),COUNTIF(C21,"*Emballage - Generaliste*"),COUNTIF(C21,"*Emballage - Palettes*"),COUNTIF(C21,"*Energies*"),COUNTIF(C21,"*EPI - Equipement Protection Individuelle*"),COUNTIF(C21,"*Formation*"),COUNTIF(C21,"*Fournitures Bureau*"),COUNTIF(C21,"*Gardiennage*"),COUNTIF(C21,"*Gaz chariots*"),COUNTIF(C21,"*Interim*"),COUNTIF(C21,"*Location de Voiture*"),COUNTIF(C21,"*Maintenance Imprimantes*"),COUNTIF(C21,"*Maintenance Imprimantes*"),COUNTIF(C21,"*Maintenance RF*"),COUNTIF(C21,"*Manutention*"),COUNTIF(C21,"*Nettoyage*"),COUNTIF(C21,"*Opérateurs téléphoniques - Fixe*"),COUNTIF(C21,"*Opérateurs téléphoniques - Mobile*"),COUNTIF(C21,"*Racks*"),COUNTIF(C21,"*Sécurité Incendie*"),COUNTIF(C21,"*Services Généraux*"),COUNTIF(C21,"*Signalétique / Management visuel*"),COUNTIF(C21,"*Traitement des Déchets*"),COUNTIF(C21,"*Vêtement de Travail*"),COUNTIF(C21,"*Multi Functionnal Print*")),"Oui","Non") -> Oui | G21: Non | H21: 1 | I21: 2 | J21: 1 | K21: 3 | L21: 1.75 | M21: 43754 | N21: 2019 | O21: T2/2019 | P21: Natacha Linet | Q21: Natacha Linet | R21: =VLOOKUP(C21,'[1]Familles d''Achats'!A$2:B$26,2,TRUE) -> Valérie Jouhaud | S21: Délais extrêment longs pour devis et réparation / Aucun suivi technique | T21: NF | U21: HASSIA
A22: Meung sur Loire | B22: Nord | C22: Services Généraux | D22: Assa Abloy | E22: =IF(OR(COUNTIF(C22,"*Contrôles Règlementaires*"),COUNTIF(C22,"*Emballage - Carton*"),COUNTIF(C22,"*Emballage - Etiquettes*"),COUNTIF(C22,"*Emballage - Film*"),COUNTIF(C22,"*Emballage - Generaliste*"),COUNTIF(C22,"*Emballage - Palettes*"),COUNTIF(C22,"*Energies*"),COUNTIF(C22,"*EPI - Equipement Protection Individuelle*"),COUNTIF(C22,"*Formation*"),COUNTIF(C22,"*Fournitures Bureau*"),COUNTIF(C22,"*Gardiennage*"),COUNTIF(C22,"*Gaz chariots*"),COUNTIF(C22,"*Interim*"),COUNTIF(C22,"*Location de Voiture*"),COUNTIF(C22,"*Maintenance Imprimantes*"),COUNTIF(C22,"*Maintenance Imprimantes*"),COUNTIF(C22,"*Maintenance RF*"),COUNTIF(C22,"*Manutention*"),COUNTIF(C22,"*Nettoyage*"),COUNTIF(C22,"*Opérateurs téléphoniques - Fixe*"),COUNTIF(C22,"*Opérateurs téléphoniques - Mobile*"),COUNTIF(C22,"*Racks*"),COUNTIF(C22,"*Sécurité Incendie*"),COUNTIF(C22,"*Services Généraux*"),COUNTIF(C22,"*Signalétique / Management visuel*"),COUNTIF(C22,"*Traitement des Déchets*"),COUNTIF(C22,"*Vêtement de Travail*"),COUNTIF(C22,"*Multi Functionnal Print*")),"Oui","Non") -> Oui | G22: Non | H22: 1 | I22: 2 | J22: 1 | K22: 3 | L22: =AVERAGE(H22:K22) -> 1.75 | N22: 2019 | O22: T2/2019 | P22: Natacha Linet | Q22: Natacha Linet | R22: =VLOOKUP(C22,'[1]Familles d''Achats'!A$2:B$26,2,TRUE) -> Valérie Jouhaud | S22: Délais extrêment longs pour devis et réparation / Aucun suivi technique | T22: NF | U22: HASSIA
A23: Meung sur Loire | B23: Nord | C23: Nettoyage | D23: Atalian | E23: =IF(OR(COUNTIF(C23,"*Contrôles Règlementaires*"),COUNTIF(C23,"*Emballage - Carton*"),COUNTIF(C23,"*Emballage - Etiquettes*"),COUNTIF(C23,"*Emballage - Film*"),COUNTIF(C23,"*Emballage - Generaliste*"),COUNTIF(C23,"*Emballage - Palettes*"),COUNTIF(C23,"*Energies*"),COUNTIF(C23,"*EPI - Equipement Protection Individuelle*"),COUNTIF(C23,"*Formation*"),COUNTIF(C23,"*Fournitures Bureau*"),COUNTIF(C23,"*Gardiennage*"),COUNTIF(C23,"*Gaz chariots*"),COUNTIF(C23,"*Interim*"),COUNTIF(C23,"*Location de Voiture*"),COUNTIF(C23,"*Maintenance Imprimantes*"),COUNTIF(C23,"*Maintenance Imprimantes*"),COUNTIF(C23,"*Maintenance RF*"),COUNTIF(C23,"*Manutention*"),COUNTIF(C23,"*Nettoyage*"),COUNTIF(C23,"*Opérateurs téléphoniques - Fixe*"),COUNTIF(C23,"*Opérateurs téléphoniques - Mobile*"),COUNTIF(C23,"*Racks*"),COUNTIF(C23,"*Sécurité Incendie*"),COUNTIF(C23,"*Services Généraux*"),COUNTIF(C23,"*Signalétique / Management visuel*"),COUNTIF(C23,"*Traitement des Déchets*"),COUNTIF(C23,"*Vêtement de Travail*"),COUNTIF(C23,"*Multi Functionnal Print*")),"Oui","Non") -> Oui | G23: Oui | H23: 1 | I23: 1 | J23: 1 | K23: 3 | L23: =AVERAGE(H23:K23) -> 1.5 | M23: 43767 | N23: 2019 | O23: T3/2019 | P23: Natacha Linet | Q23: Natacha Linet | R23: =VLOOKUP(C23,'[1]Familles d''Achats'!A$2:B$26,2,TRUE) -> Valérie Jouhaud | S23: Absentéisme récurrent / Autolaveuse non opérationnelle / Absence de plan d'actions / Qualité de la prestation entrepôt médiocre | T23: NF | U23: HASSIA
A24: Bruyeres sur Oise | B24: Nord | C24: Services Généraux | D24: Axima réfrigération | E24: =IF(OR(COUNTIF(C24,"*Contrôles Règlementaires*"),COUNTIF(C24,"*Emballage - Carton*"),COUNTIF(C24,"*Emballage - Etiquettes*"),COUNTIF(C24,"*Emballage - Film*"),COUNTIF(C24,"*Emballage - Generaliste*"),COUNTIF(C24,"*Emballage - Palettes*"),COUNTIF(C24,"*Energies*"),COUNTIF(C24,"*EPI - Equipement Protection Individuelle*"),COUNTIF(C24,"*Formation*"),COUNTIF(C24,"*Fournitures Bureau*"),COUNTIF(C24,"*Gardiennage*"),COUNTIF(C24,"*Gaz chariots*"),COUNTIF(C24,"*Interim*"),COUNTIF(C24,"*Location de Voiture*"),COUNTIF(C24,"*Maintenance Imprimantes*"),COUNTIF(C24,"*Maintenance Imprimantes*"),COUNTIF(C24,"*Maintenance RF*"),COUNTIF(C24,"*Manutention*"),COUNTIF(C24,"*Nettoyage*"),COUNTIF(C24,"*Opérateurs téléphoniques - Fixe*"),COUNTIF(C24,"*Opérateurs téléphoniques - Mobile*"),COUNTIF(C24,"*Racks*"),COUNTIF(C24,"*Sécurité Incendie*"),COUNTIF(C24,"*Services Généraux*"),COUNTIF(C24,"*Signalétique / Management visuel*"),COUNTIF(C24,"*Traitement des Déchets*"),COUNTIF(C24,"*Vêtement de Travail*"),COUNTIF(C24,"*Multi Functionnal Print*")),"Oui","Non") -> Oui | G24: Non | H24: 1 | I24: 2 | J24: 1 | K24: 3 | L24: 1.75 | M24: 43754 | N24: 2019 | O24: T2/2019 | P24: Natacha Linet | Q24: Natacha Linet | R24: =VLOOKUP(C24,'[1]Familles d''Achats'!A$2:B$26,2,TRUE) -> Valérie Jouhaud | S24: Nombreuses relances pour obtenir les devis et pour intervention après validation devis + Besoin de réaliser des relances par mail pour avoir des explications avec demande de dépannage | T24: NF | U24: HASSIA
A25: Meung sur Loire | B25: Nord | C25: Services Généraux | D25: Axima réfrigération | E25: =IF(OR(COUNTIF(C25,"*Contrôles Règlementaires*"),COUNTIF(C25,"*Emballage - Carton*"),COUNTIF(C25,"*Emballage - Etiquettes*"),COUNTIF(C25,"*Emballage - Film*"),COUNTIF(C25,"*Emballage - Generaliste*"),COUNTIF(C25,"*Emballage - Palettes*"),COUNTIF(C25,"*Energies*"),COUNTIF(C25,"*EPI - Equipement Protection Individuelle*"),COUNTIF(C25,"*Formation*"),COUNTIF(C25,"*Fournitures Bureau*"),COUNTIF(C25,"*Gardiennage*"),COUNTIF(C25,"*Gaz chariots*"),COUNTIF(C25,"*Interim*"),COUNTIF(C25,"*Location de Voiture*"),COUNTIF(C25,"*Maintenance Imprimantes*"),COUNTIF(C25,"*Maintenance Imprimantes*"),COUNTIF(C25,"*Maintenance RF*"),COUNTIF(C25,"*Manutention*"),COUNTIF(C25,"*Nettoyage*"),COUNTIF(C25,"*Opérateurs téléphoniques - Fixe*"),COUNTIF(C25,"*Opérateurs téléphoniques - Mobile*"),COUNTIF(C25,"*Racks*"),COUNTIF(C25,"*Sécurité Incendie*"),COUNTIF(C25,"*Services Généraux*"),COUNTIF(C25,"*Signalétique / Management visuel*"),COUNTIF(C25,"*Traitement des Déchets*"),COUNTIF(C25,"*Vêtement de Travail*"),COUNTIF(C25,"*Multi Functionnal Print*")),"Oui","Non") -> Oui | G25: Non | H25: 1 | I25: 2 | J25: 1 | K25: 3 | L25: =AVERAGE(H25:K25) -> 1.75 | M25: 43767 | N25: 2019 | O25: T3/2019 | P25: Natacha Linet | Q25: Natacha Linet | R25: =VLOOKUP(C25,'[1]Familles d''Achats'!A$2:B$26,2,TRUE) -> Valérie Jouhaud | S25: Absence de suivi / Devis non réalisés après les visites contrat / Absence de retour suite à des mails | T25: NF | U25: HASSIA
A26: Meung sur Loire | B26: Nord | C26: Services Généraux | D26: Axima réfrigération | E26: =IF(OR(COUNTIF(C26,"*Contrôles Règlementaires*"),COUNTIF(C26,"*Emballage - Carton*"),COUNTIF(C26,"*Emballage - Etiquettes*"),COUNTIF(C26,"*Emballage - Film*"),COUNTIF(C26,"*Emballage - Generaliste*"),COUNTIF(C26,"*Emballage - Palettes*"),COUNTIF(C26,"*Energies*"),COUNTIF(C26,"*EPI - Equipement Protection Individuelle*"),COUNTIF(C26,"*Formation*"),COUNTIF(C26,"*Fournitures Bureau*"),COUNTIF(C26,"*Gardiennage*"),COUNTIF(C26,"*Gaz chariots*"),COUNTIF(C26,"*Interim*"),COUNTIF(C26,"*Location de Voiture*"),COUNTIF(C26,"*Maintenance Imprimantes*"),COUNTIF(C26,"*Maintenance Imprimantes*"),COUNTIF(C26,"*Maintenance RF*"),COUNTIF(C26,"*Manutention*"),COUNTIF(C26,"*Nettoyage*"),COUNTIF(C26,"*Opérateurs téléphoniques - Fixe*"),COUNTIF(C26,"*Opérateurs téléphoniques - Mobile*"),COUNTIF(C26,"*Racks*"),COUNTIF(C26,"*Sécurité Incendie*"),COUNTIF(C26,"*Services Généraux*"),COUNTIF(C26,"*Signalétique / Management visuel*"),COUNTIF(C26,"*Traitement des Déchets*"),COUNTIF(C26,"*Vêtement de Travail*"),COUNTIF(C26,"*Multi Functionnal Print*")),"Oui","Non") -> Oui | G26: Non | H26: 1 | I26: 2 | J26: 1 | K26: 3 | L26: =AVERAGE(H26:K26) -> 1.75 | N26: 2019 | O26: T2/2019 | P26: Natacha Linet | Q26: Natacha Linet | R26: =VLOOKUP(C26,'[1]Familles d''Achats'!A$2:B$26,2,TRUE) -> Valérie Jouhaud | S26: Nombreuses relances pour obtenir les devis et pour intervention après validation devis + Besoin de réaliser des relances par mail pour avoir des explications avec demande de dépannage | T26: NF | U26: HASSIA
A27: Fos sur Mer | B27: Sud | C27: Manutention | D27: Barthelemy | E27: =IF(OR(COUNTIF(C27,"*Contrôles Règlementaires*"),COUNTIF(C27,"*Emballage - Carton*"),COUNTIF(C27,"*Emballage - Etiquettes*"),COUNTIF(C27,"*Emballage - Film*"),COUNTIF(C27,"*Emballage - Generaliste*"),COUNTIF(C27,"*Emballage - Palettes*"),COUNTIF(C27,"*Energies*"),COUNTIF(C27,"*EPI - Equipement Protection Individuelle*"),COUNTIF(C27,"*Formation*"),COUNTIF(C27,"*Fournitures Bureau*"),COUNTIF(C27,"*Gardiennage*"),COUNTIF(C27,"*Gaz chariots*"),COUNTIF(C27,"*Interim*"),COUNTIF(C27,"*Location de Voiture*"),COUNTIF(C27,"*Maintenance Imprimantes*"),COUNTIF(C27,"*Maintenance Imprimantes*"),COUNTIF(C27,"*Maintenance RF*"),COUNTIF(C27,"*Manutention*"),COUNTIF(C27,"*Nettoyage*"),COUNTIF(C27,"*Opérateurs téléphoniques - Fixe*"),COUNTIF(C27,"*Opérateurs téléphoniques - Mobile*"),COUNTIF(C27,"*Racks*"),COUNTIF(C27,"*Sécurité Incendie*"),COUNTIF(C27,"*Services Généraux*"),COUNTIF(C27,"*Signalétique / Management visuel*"),COUNTIF(C27,"*Traitement des Déchets*"),COUNTIF(C27,"*Vêtement de Travail*"),COUNTIF(C27,"*Multi Functionnal Print*")),"Oui","Non") -> Oui | G27: Non | H27: 1.33 | L27: 1.33 | M27: 43555 | N27: 2019 | O27: T1/2019 | P27: S.Sagnelogue | R27: =VLOOKUP(C27,'[1]Familles d''Achats'!A$2:B$26,2,TRUE) -> Marie-Helene Denaux | S27: 1er trim : pb batterie 2e trim : pb galets Changement de tous les jeux de galets sur les neufs chariots => le pb persiste, une analyse est portée au siège de fenwick et une nouvelle génération de galet sera testée courant juillet | T27: AF
A28: Fos sur Mer | B28: Sud | C28: Manutention | D28: Barthelemy | E28: =IF(OR(COUNTIF(C28,"*Contrôles Règlementaires*"),COUNTIF(C28,"*Emballage - Carton*"),COUNTIF(C28,"*Emballage - Etiquettes*"),COUNTIF(C28,"*Emballage - Film*"),COUNTIF(C28,"*Emballage - Generaliste*"),COUNTIF(C28,"*Emballage - Palettes*"),COUNTIF(C28,"*Energies*"),COUNTIF(C28,"*EPI - Equipement Protection Individuelle*"),COUNTIF(C28,"*Formation*"),COUNTIF(C28,"*Fournitures Bureau*"),COUNTIF(C28,"*Gardiennage*"),COUNTIF(C28,"*Gaz chariots*"),COUNTIF(C28,"*Interim*"),COUNTIF(C28,"*Location de Voiture*"),COUNTIF(C28,"*Maintenance Imprimantes*"),COUNTIF(C28,"*Maintenance Imprimantes*"),COUNTIF(C28,"*Maintenance RF*"),COUNTIF(C28,"*Manutention*"),COUNTIF(C28,"*Nettoyage*"),COUNTIF(C28,"*Opérateurs téléphoniques - Fixe*"),COUNTIF(C28,"*Opérateurs téléphoniques - Mobile*"),COUNTIF(C28,"*Racks*"),COUNTIF(C28,"*Sécurité Incendie*"),COUNTIF(C28,"*Services Généraux*"),COUNTIF(C28,"*Signalétique / Management visuel*"),COUNTIF(C28,"*Traitement des Déchets*"),COUNTIF(C28,"*Vêtement de Travail*"),COUNTIF(C28,"*Multi Functionnal Print*")),"Oui","Non") -> Oui | G28: Non | H28: 1.33 | L28: 1.33 | M28: 43646 | N28: 2019 | O28: T2/2019 | P28: S.Sagnelogue | R28: =VLOOKUP(C28,'[1]Familles d''Achats'!A$2:B$26,2,TRUE) -> Marie-Helene Denaux | S28: 1er trim : pb batterie 2e trim : pb galets Changement de tous les jeux de galets sur les neufs chariots => le pb persiste, une analyse est portée au siège de fenwick et une nouvelle génération de galet sera testée courant juillet | T28: AF
A29: Réau | B29: Nord | C29: Interim | D29: Crit | E29: =IF(OR(COUNTIF(C29,"*Contrôles Règlementaires*"),COUNTIF(C29,"*Emballage - Carton*"),COUNTIF(C29,"*Emballage - Etiquettes*"),COUNTIF(C29,"*Emballage - Film*"),COUNTIF(C29,"*Emballage - Generaliste*"),COUNTIF(C29,"*Emballage - Palettes*"),COUNTIF(C29,"*Energies*"),COUNTIF(C29,"*EPI - Equipement Protection Individuelle*"),COUNTIF(C29,"*Formation*"),COUNTIF(C29,"*Fournitures Bureau*"),COUNTIF(C29,"*Gardiennage*"),COUNTIF(C29,"*Gaz chariots*"),COUNTIF(C29,"*Interim*"),COUNTIF(C29,"*Location de Voiture*"),COUNTIF(C29,"*Maintenance Imprimantes*"),COUNTIF(C29,"*Maintenance Imprimantes*"),COUNTIF(C29,"*Maintenance RF*"),COUNTIF(C29,"*Manutention*"),COUNTIF(C29,"*Nettoyage*"),COUNTIF(C29,"*Opérateurs téléphoniques - Fixe*"),COUNTIF(C29,"*Opérateurs téléphoniques - Mobile*"),COUNTIF(C29,"*Racks*"),COUNTIF(C29,"*Sécurité Incendie*"),COUNTIF(C29,"*Services Généraux*"),COUNTIF(C29,"*Signalétique / Management visuel*"),COUNTIF(C29,"*Traitement des Déchets*"),COUNTIF(C29,"*Vêtement de Travail*"),COUNTIF(C29,"*Multi Functionnal Print*")),"Oui","Non") -> Oui | G29: Oui | H29: 1 | I29: 1 | J29: 1 | K29: 1 | L29: =AVERAGE(H29:K29) -> 1 | N29: 2019 | O29: T2/2019 | Q29: Stéphanie Sagnelonge | R29: =VLOOKUP(C29,'[1]Familles d''Achats'!A$2:B$26,2,TRUE) -> Claire Martin | S29: pas de retour aux demandes | T29: NF | U29: HASSIA
A30: Réau | B30: Nord | C30: Interim | D30: Crit | E30: =IF(OR(COUNTIF(C30,"*Contrôles Règlementaires*"),COUNTIF(C30,"*Emballage - Carton*"),COUNTIF(C30,"*Emballage - Etiquettes*"),COUNTIF(C30,"*Emballage - Film*"),COUNTIF(C30,"*Emballage - Generaliste*"),COUNTIF(C30,"*Emballage - Palettes*"),COUNTIF(C30,"*Energies*"),COUNTIF(C30,"*EPI - Equipement Protection Individuelle*"),COUNTIF(C30,"*Formation*"),COUNTIF(C30,"*Fournitures Bureau*"),COUNTIF(C30,"*Gardiennage*"),COUNTIF(C30,"*Gaz chariots*"),COUNTIF(C30,"*Interim*"),COUNTIF(C30,"*Location de Voiture*"),COUNTIF(C30,"*Maintenance Imprimantes*"),COUNTIF(C30,"*Maintenance Imprimantes*"),COUNTIF(C30,"*Maintenance RF*"),COUNTIF(C30,"*Manutention*"),COUNTIF(C30,"*Nettoyage*"),COUNTIF(C30,"*Opérateurs téléphoniques - Fixe*"),COUNTIF(C30,"*Opérateurs téléphoniques - Mobile*"),COUNTIF(C30,"*Racks*"),COUNTIF(C30,"*Sécurité Incendie*"),COUNTIF(C30,"*Services Généraux*"),COUNTIF(C30,"*Signalétique / Management visuel*"),COUNTIF(C30,"*Traitement des Déchets*"),COUNTIF(C30,"*Vêtement de Travail*"),COUNTIF(C30,"*Multi Functionnal Print*")),"Oui","Non") -> Oui | G30: Oui | H30: 1 | I30: 1 | J30: 1 | K30: 1 | L30: =AVERAGE(H30:K30) -> 1 | N30: 2019 | O30: T1/2019 | Q30: Stéphanie Sagnelonge | R30: =VLOOKUP(C30,'[1]Familles d''Achats'!A$2:B$26,2,TRUE) -> Claire Martin | S30: pas de retour aux demandes | T30: NF | U30: HASSIA
A31: Roissy en Brie | B31: TD | C31: Interim | D31: Crit | E31: =IF(OR(COUNTIF(C31,"*Contrôles Règlementaires*"),COUNTIF(C31,"*Emballage - Carton*"),COUNTIF(C31,"*Emballage - Etiquettes*"),COUNTIF(C31,"*Emballage - Film*"),COUNTIF(C31,"*Emballage - Generaliste*"),COUNTIF(C31,"*Emballage - Palettes*"),COUNTIF(C31,"*Energies*"),COUNTIF(C31,"*EPI - Equipement Protection Individuelle*"),COUNTIF(C31,"*Formation*"),COUNTIF(C31,"*Fournitures Bureau*"),COUNTIF(C31,"*Gardiennage*"),COUNTIF(C31,"*Gaz chariots*"),COUNTIF(C31,"*Interim*"),COUNTIF(C31,"*Location de Voiture*"),COUNTIF(C31,"*Maintenance Imprimantes*"),COUNTIF(C31,"*Maintenance Imprimantes*"),COUNTIF(C31,"*Maintenance RF*"),COUNTIF(C31,"*Manutention*"),COUNTIF(C31,"*Nettoyage*"),COUNTIF(C31,"*Opérateurs téléphoniques - Fixe*"),COUNTIF(C31,"*Opérateurs téléphoniques - Mobile*"),COUNTIF(C31,"*Racks*"),COUNTIF(C31,"*Sécurité Incendie*"),COUNTIF(C31,"*Services Généraux*"),COUNTIF(C31,"*Signalétique / Management visuel*"),COUNTIF(C31,"*Traitement des Déchets*"),COUNTIF(C31,"*Vêtement de Travail*"),COUNTIF(C31,"*Multi Functionnal Print*")),"Oui","Non") -> Oui | G31: Oui | H31: 1 | I31: 1 | J31: 1 | K31: 1 | L31: =AVERAGE(H31:K31) -> 1 | M31: 43775 | N31: 2019 | O31: T3/2019 | P31: Francis Montoro | Q31: Catherine Masson | R31: =VLOOKUP(C31,'[1]Familles d''Achats'!A$2:B$26,2,TRUE) -> Claire Martin | S31: A la suite de mauvaises délégations + une absence de communication, nous ne commandons plus personne chez eux. Pas de réaction de leur part. | T31: NF | U31: HASSIA
A32: Artenay | B32: Centre | C32: Contrôles règlementaires | D32: Dalkia | E32: =IF(OR(COUNTIF(C32,"*Contrôles Règlementaires*"),COUNTIF(C32,"*Emballage - Carton*"),COUNTIF(C32,"*Emballage - Etiquettes*"),COUNTIF(C32,"*Emballage - Film*"),COUNTIF(C32,"*Emballage - Generaliste*"),COUNTIF(C32,"*Emballage - Palettes*"),COUNTIF(C32,"*Energies*"),COUNTIF(C32,"*EPI - Equipement Protection Individuelle*"),COUNTIF(C32,"*Formation*"),COUNTIF(C32,"*Fournitures Bureau*"),COUNTIF(C32,"*Gardiennage*"),COUNTIF(C32,"*Gaz chariots*"),COUNTIF(C32,"*Interim*"),COUNTIF(C32,"*Location de Voiture*"),COUNTIF(C32,"*Maintenance Imprimantes*"),COUNTIF(C32,"*Maintenance Imprimantes*"),COUNTIF(C32,"*Maintenance RF*"),COUNTIF(C32,"*Manutention*"),COUNTIF(C32,"*Nettoyage*"),COUNTIF(C32,"*Opérateurs téléphoniques - Fixe*"),COUNTIF(C32,"*Opérateurs téléphoniques - Mobile*"),COUNTIF(C32,"*Racks*"),COUNTIF(C32,"*Sécurité Incendie*"),COUNTIF(C32,"*Services Généraux*"),COUNTIF(C32,"*Signalétique / Management visuel*"),COUNTIF(C32,"*Traitement des Déchets*"),COUNTIF(C32,"*Vêtement de Travail*"),COUNTIF(C32,"*Multi Functionnal Print*")),"Oui","Non") -> Oui | G32: Non | H32: 1.33 | I32: 1.33 | J32: 1.33 | K32: 1.33 | L32: 1.33 | M32: 43555 | N32: 2019 | O32: T1/2019 | P32: Marion Fernandes | R32: =VLOOKUP(C32,'[1]Familles d''Achats'!A$2:B$26,2,TRUE) -> Valérie Jouhaud | T32: AF
A33: Artenay | B33: Centre | C33: Contrôles règlementaires | D33: Dalkia | E33: =IF(OR(COUNTIF(C33,"*Contrôles Règlementaires*"),COUNTIF(C33,"*Emballage - Carton*"),COUNTIF(C33,"*Emballage - Etiquettes*"),COUNTIF(C33,"*Emballage - Film*"),COUNTIF(C33,"*Emballage - Generaliste*"),COUNTIF(C33,"*Emballage - Palettes*"),COUNTIF(C33,"*Energies*"),COUNTIF(C33,"*EPI - Equipement Protection Individuelle*"),COUNTIF(C33,"*Formation*"),COUNTIF(C33,"*Fournitures Bureau*"),COUNTIF(C33,"*Gardiennage*"),COUNTIF(C33,"*Gaz chariots*"),COUNTIF(C33,"*Interim*"),COUNTIF(C33,"*Location de Voiture*"),COUNTIF(C33,"*Maintenance Imprimantes*"),COUNTIF(C33,"*Maintenance Imprimantes*"),COUNTIF(C33,"*Maintenance RF*"),COUNTIF(C33,"*Manutention*"),COUNTIF(C33,"*Nettoyage*"),COUNTIF(C33,"*Opérateurs téléphoniques - Fixe*"),COUNTIF(C33,"*Opérateurs téléphoniques - Mobile*"),COUNTIF(C33,"*Racks*"),COUNTIF(C33,"*Sécurité Incendie*"),COUNTIF(C33,"*Services Généraux*"),COUNTIF(C33,"*Signalétique / Management visuel*"),COUNTIF(C33,"*Traitement des Déchets*"),COUNTIF(C33,"*Vêtement de Travail*"),COUNTIF(C33,"*Multi Functionnal Print*")),"Oui","Non") -> Oui | G33: Non | H33: 1.33 | I33: 1.33 | J33: 1.33 | K33: 1.33 | L33: 1.33 | M33: 43646 | N33: 2019 | O33: T2/2019 | P33: Marion Fernandes | R33: =VLOOKUP(C33,'[1]Familles d''Achats'!A$2:B$26,2,TRUE) -> Valérie Jouhaud | T33: AF
A34: Amblainville | B34: Nord | C34: Vêtement de travail | D34: DB Vetpro | E34: =IF(OR(COUNTIF(C34,"*Contrôles Règlementaires*"),COUNTIF(C34,"*Emballage - Carton*"),COUNTIF(C34,"*Emballage - Etiquettes*"),COUNTIF(C34,"*Emballage - Film*"),COUNTIF(C34,"*Emballage - Generaliste*"),COUNTIF(C34,"*Emballage - Palettes*"),COUNTIF(C34,"*Energies*"),COUNTIF(C34,"*EPI - Equipement Protection Individuelle*"),COUNTIF(C34,"*Formation*"),COUNTIF(C34,"*Fournitures Bureau*"),COUNTIF(C34,"*Gardiennage*"),COUNTIF(C34,"*Gaz chariots*"),COUNTIF(C34,"*Interim*"),COUNTIF(C34,"*Location de Voiture*"),COUNTIF(C34,"*Maintenance Imprimantes*"),COUNTIF(C34,"*Maintenance Imprimantes*"),COUNTIF(C34,"*Maintenance RF*"),COUNTIF(C34,"*Manutention*"),COUNTIF(C34,"*Nettoyage*"),COUNTIF(C34,"*Opérateurs téléphoniques - Fixe*"),COUNTIF(C34,"*Opérateurs téléphoniques - Mobile*"),COUNTIF(C34,"*Racks*"),COUNTIF(C34,"*Sécurité Incendie*"),COUNTIF(C34,"*Services Généraux*"),COUNTIF(C34,"*Signalétique / Management visuel*"),COUNTIF(C34,"*Traitement des Déchets*"),COUNTIF(C34,"*Vêtement de Travail*"),COUNTIF(C34,"*Multi Functionnal Print*")),"Oui","Non") -> Oui | G34: Oui | H34: 1 | I34: 2 | J34: 2 | K34: 2 | L34: =AVERAGE(H34:K34) -> 1.75 | M34: 43781 | N34: 2019 | O34: T3/2019 | P34: Pauline Landier | Q34: Pauline Landier | R34: =VLOOKUP(C34,'[1]Familles d''Achats'!A$2:B$26,2,TRUE) -> Claire Martin | S34: Délai de livraison long avec erreur sur adresse donc problème de livraison chez Prévoté. Les quantités livrées ne sont pas les bonnes et aucun retour / information par DB VET PRO. Pb sur une référence de chasuble haute visibilité bi-colors. Tailles de pantalons trop petites par rapport à la réalité. Veste de travail livrée de mauvaise qualité. | T34: NF | U34: HASSIA
A35: Artenay | B35: Centre | C35: Nettoyage | D35: ELIS | E35: =IF(OR(COUNTIF(C35,"*Contrôles Règlementaires*"),COUNTIF(C35,"*Emballage - Carton*"),COUNTIF(C35,"*Emballage - Etiquettes*"),COUNTIF(C35,"*Emballage - Film*"),COUNTIF(C35,"*Emballage - Generaliste*"),COUNTIF(C35,"*Emballage - Palettes*"),COUNTIF(C35,"*Energies*"),COUNTIF(C35,"*EPI - Equipement Protection Individuelle*"),COUNTIF(C35,"*Formation*"),COUNTIF(C35,"*Fournitures Bureau*"),COUNTIF(C35,"*Gardiennage*"),COUNTIF(C35,"*Gaz chariots*"),COUNTIF(C35,"*Interim*"),COUNTIF(C35,"*Location de Voiture*"),COUNTIF(C35,"*Maintenance Imprimantes*"),COUNTIF(C35,"*Maintenance Imprimantes*"),COUNTIF(C35,"*Maintenance RF*"),COUNTIF(C35,"*Manutention*"),COUNTIF(C35,"*Nettoyage*"),COUNTIF(C35,"*Opérateurs téléphoniques - Fixe*"),COUNTIF(C35,"*Opérateurs téléphoniques - Mobile*"),COUNTIF(C35,"*Racks*"),COUNTIF(C35,"*Sécurité Incendie*"),COUNTIF(C35,"*Services Généraux*"),COUNTIF(C35,"*Signalétique / Management visuel*"),COUNTIF(C35,"*Traitement des Déchets*"),COUNTIF(C35,"*Vêtement de Travail*"),COUNTIF(C35,"*Multi Functionnal Print*")),"Oui","Non") -> Oui | G35: Non | H35: 1.33 | I35: 1.33 | J35: 1.33 | K35: 1.33 | L35: 1.33 | M35: 43555 | N35: 2019 | O35: T1/2019 | P35: Marion Fernandes | R35: =VLOOKUP(C35,'[1]Familles d''Achats'!A$2:B$26,2,TRUE) -> Valérie Jouhaud | T35: AF
A36: Artenay | B36: Centre | C36: Nettoyage | D36: ELIS | E36: =IF(OR(COUNTIF(C36,"*Contrôles Règlementaires*"),COUNTIF(C36,"*Emballage - Carton*"),COUNTIF(C36,"*Emballage - Etiquettes*"),COUNTIF(C36,"*Emballage - Film*"),COUNTIF(C36,"*Emballage - Generaliste*"),COUNTIF(C36,"*Emballage - Palettes*"),COUNTIF(C36,"*Energies*"),COUNTIF(C36,"*EPI - Equipement Protection Individuelle*"),COUNTIF(C36,"*Formation*"),COUNTIF(C36,"*Fournitures Bureau*"),COUNTIF(C36,"*Gardiennage*"),COUNTIF(C36,"*Gaz chariots*"),COUNTIF(C36,"*Interim*"),COUNTIF(C36,"*Location de Voiture*"),COUNTIF(C36,"*Maintenance Imprimantes*"),COUNTIF(C36,"*Maintenance Imprimantes*"),COUNTIF(C36,"*Maintenance RF*"),COUNTIF(C36,"*Manutention*"),COUNTIF(C36,"*Nettoyage*"),COUNTIF(C36,"*Opérateurs téléphoniques - Fixe*"),COUNTIF(C36,"*Opérateurs téléphoniques - Mobile*"),COUNTIF(C36,"*Racks*"),COUNTIF(C36,"*Sécurité Incendie*"),COUNTIF(C36,"*Services Généraux*"),COUNTIF(C36,"*Signalétique / Management visuel*"),COUNTIF(C36,"*Traitement des Déchets*"),COUNTIF(C36,"*Vêtement de Travail*"),COUNTIF(C36,"*Multi Functionnal Print*")),"Oui","Non") -> Oui | G36: Non | H36: 1.33 | I36: 1.33 | J36: 1.33 | K36: 1.33 | L36: 1.33 | M36: 43646 | N36: 2019 | O36: T2/2019 | P36: Marion Fernandes | R36: =VLOOKUP(C36,'[1]Familles d''Achats'!A$2:B$26,2,TRUE) -> Valérie Jouhaud | T36: AF
A37: Pourpy | B37: Nord | C37: Nettoyage | D37: ELIS | E37: =IF(OR(COUNTIF(C37,"*Contrôles Règlementaires*"),COUNTIF(C37,"*Emballage - Carton*"),COUNTIF(C37,"*Emballage - Etiquettes*"),COUNTIF(C37,"*Emballage - Film*"),COUNTIF(C37,"*Emballage - Generaliste*"),COUNTIF(C37,"*Emballage - Palettes*"),COUNTIF(C37,"*Energies*"),COUNTIF(C37,"*EPI - Equipement Protection Individuelle*"),COUNTIF(C37,"*Formation*"),COUNTIF(C37,"*Fournitures Bureau*"),COUNTIF(C37,"*Gardiennage*"),COUNTIF(C37,"*Gaz chariots*"),COUNTIF(C37,"*Interim*"),COUNTIF(C37,"*Location de Voiture*"),COUNTIF(C37,"*Maintenance Imprimantes*"),COUNTIF(C37,"*Maintenance Imprimantes*"),COUNTIF(C37,"*Maintenance RF*"),COUNTIF(C37,"*Manutention*"),COUNTIF(C37,"*Nettoyage*"),COUNTIF(C37,"*Opérateurs téléphoniques - Fixe*"),COUNTIF(C37,"*Opérateurs téléphoniques - Mobile*"),COUNTIF(C37,"*Racks*"),COUNTIF(C37,"*Sécurité Incendie*"),COUNTIF(C37,"*Services Généraux*"),COUNTIF(C37,"*Signalétique / Management visuel*"),COUNTIF(C37,"*Traitement des Déchets*"),COUNTIF(C37,"*Vêtement de Travail*"),COUNTIF(C37,"*Multi Functionnal Print*")),"Oui","Non") -> Oui | G37: Non | H37: 1.33 | I37: 1.33 | J37: 1.33 | K37: 1.33 | L37: 1.33 | M37: 43555 | N37: 2019 | O37: T1/2019 | P37: Sylvie Mathe | R37: =VLOOKUP(C37,'[1]Familles d''Achats'!A$2:B$26,2,TRUE) -> Valérie Jouhaud | T37: AF
A38: Pourpy | B38: Nord | C38: Nettoyage | D38: ELIS | E38: =IF(OR(COUNTIF(C38,"*Contrôles Règlementaires*"),COUNTIF(C38,"*Emballage - Carton*"),COUNTIF(C38,"*Emballage - Etiquettes*"),COUNTIF(C38,"*Emballage - Film*"),COUNTIF(C38,"*Emballage - Generaliste*"),COUNTIF(C38,"*Emballage - Palettes*"),COUNTIF(C38,"*Energies*"),COUNTIF(C38,"*EPI - Equipement Protection Individuelle*"),COUNTIF(C38,"*Formation*"),COUNTIF(C38,"*Fournitures Bureau*"),COUNTIF(C38,"*Gardiennage*"),COUNTIF(C38,"*Gaz chariots*"),COUNTIF(C38,"*Interim*"),COUNTIF(C38,"*Location de Voiture*"),COUNTIF(C38,"*Maintenance Imprimantes*"),COUNTIF(C38,"*Maintenance Imprimantes*"),COUNTIF(C38,"*Maintenance RF*"),COUNTIF(C38,"*Manutention*"),COUNTIF(C38,"*Nettoyage*"),COUNTIF(C38,"*Opérateurs téléphoniques - Fixe*"),COUNTIF(C38,"*Opérateurs téléphoniques - Mobile*"),COUNTIF(C38,"*Racks*"),COUNTIF(C38,"*Sécurité Incendie*"),COUNTIF(C38,"*Services Généraux*"),COUNTIF(C38,"*Signalétique / Management visuel*"),COUNTIF(C38,"*Traitement des Déchets*"),COUNTIF(C38,"*Vêtement de Travail*"),COUNTIF(C38,"*Multi Functionnal Print*")),"Oui","Non") -> Oui | G38: Non | H38: 1.33 | I38: 1.33 | J38: 1.33 | K38: 1.33 | L38: 1.33 | M38: 43646 | N38: 2019 | O38: T2/2019 | P38: Sylvie Mathe | R38: =VLOOKUP(C38,'[1]Familles d''Achats'!A$2:B$26,2,TRUE) -> Valérie Jouhaud | T38: AF
A39: Fos sur Mer | B39: Sud | C39: Manutention | D39: Fenwick | E39: =IF(OR(COUNTIF(C39,"*Contrôles Règlementaires*"),COUNTIF(C39,"*Emballage - Carton*"),COUNTIF(C39,"*Emballage - Etiquettes*"),COUNTIF(C39,"*Emballage - Film*"),COUNTIF(C39,"*Emballage - Generaliste*"),COUNTIF(C39,"*Emballage - Palettes*"),COUNTIF(C39,"*Energies*"),COUNTIF(C39,"*EPI - Equipement Protection Individuelle*"),COUNTIF(C39,"*Formation*"),COUNTIF(C39,"*Fournitures Bureau*"),COUNTIF(C39,"*Gardiennage*"),COUNTIF(C39,"*Gaz chariots*"),COUNTIF(C39,"*Interim*"),COUNTIF(C39,"*Location de Voiture*"),COUNTIF(C39,"*Maintenance Imprimantes*"),COUNTIF(C39,"*Maintenance Imprimantes*"),COUNTIF(C39,"*Maintenance RF*"),COUNTIF(C39,"*Manutention*"),COUNTIF(C39,"*Nettoyage*"),COUNTIF(C39,"*Opérateurs téléphoniques - Fixe*"),COUNTIF(C39,"*Opérateurs téléphoniques - Mobile*"),COUNTIF(C39,"*Racks*"),COUNTIF(C39,"*Sécurité Incendie*"),COUNTIF(C39,"*Services Généraux*"),COUNTIF(C39,"*Signalétique / Management visuel*"),COUNTIF(C39,"*Traitement des Déchets*"),COUNTIF(C39,"*Vêtement de Travail*"),COUNTIF(C39,"*Multi Functionnal Print*")),"Oui","Non") -> Oui | G39: Oui | H39: 1.33 | I39: 1.33 | J39: 1.33 | K39: 1.33 | L39: 1.33 | M39: 43555 | N39: 2019 | O39: T1/2019 | P39: Christel Veglia | R39: =VLOOKUP(C39,'[1]Familles d''Achats'!A$2:B$26,2,TRUE) -> Marie-Helene Denaux | T39: AF
A40: Fos sur Mer | B40: Sud | C40: Manutention | D40: Fenwick | E40: =IF(OR(COUNTIF(C40,"*Contrôles Règlementaires*"),COUNTIF(C40,"*Emballage - Carton*"),COUNTIF(C40,"*Emballage - Etiquettes*"),COUNTIF(C40,"*Emballage - Film*"),COUNTIF(C40,"*Emballage - Generaliste*"),COUNTIF(C40,"*Emballage - Palettes*"),COUNTIF(C40,"*Energies*"),COUNTIF(C40,"*EPI - Equipement Protection Individuelle*"),COUNTIF(C40,"*Formation*"),COUNTIF(C40,"*Fournitures Bureau*"),COUNTIF(C40,"*Gardiennage*"),COUNTIF(C40,"*Gaz chariots*"),COUNTIF(C40,"*Interim*"),COUNTIF(C40,"*Location de Voiture*"),COUNTIF(C40,"*Maintenance Imprimantes*"),COUNTIF(C40,"*Maintenance Imprimantes*"),COUNTIF(C40,"*Maintenance RF*"),COUNTIF(C40,"*Manutention*"),COUNTIF(C40,"*Nettoyage*"),COUNTIF(C40,"*Opérateurs téléphoniques - Fixe*"),COUNTIF(C40,"*Opérateurs téléphoniques - Mobile*"),COUNTIF(C40,"*Racks*"),COUNTIF(C40,"*Sécurité Incendie*"),COUNTIF(C40,"*Services Généraux*"),COUNTIF(C40,"*Signalétique / Management visuel*"),COUNTIF(C40,"*Traitement des Déchets*"),COUNTIF(C40,"*Vêtement de Travail*"),COUNTIF(C40,"*Multi Functionnal Print*")),"Oui","Non") -> Oui | G40: Oui | H40: 1.33 | I40: 1.33 | J40: 1.33 | K40: 1.33 | L40: 1.33 | M40: 43646 | N40: 2019 | O40: T2/2019 | P40: Christel Veglia | R40: =VLOOKUP(C40,'[1]Familles d''Achats'!A$2:B$26,2,TRUE) -> Marie-Helene Denaux | T40: AF
A41: Satolas IDC22 (OSF/PEPSICO) | B41: Sud | C41: Manutention | D41: Fenwick | E41: =IF(OR(COUNTIF(C41,"*Contrôles Règlementaires*"),COUNTIF(C41,"*Emballage - Carton*"),COUNTIF(C41,"*Emballage - Etiquettes*"),COUNTIF(C41,"*Emballage - Film*"),COUNTIF(C41,"*Emballage - Generaliste*"),COUNTIF(C41,"*Emballage - Palettes*"),COUNTIF(C41,"*Energies*"),COUNTIF(C41,"*EPI - Equipement Protection Individuelle*"),COUNTIF(C41,"*Formation*"),COUNTIF(C41,"*Fournitures Bureau*"),COUNTIF(C41,"*Gardiennage*"),COUNTIF(C41,"*Gaz chariots*"),COUNTIF(C41,"*Interim*"),COUNTIF(C41,"*Location de Voiture*"),COUNTIF(C41,"*Maintenance Imprimantes*"),COUNTIF(C41,"*Maintenance Imprimantes*"),COUNTIF(C41,"*Maintenance RF*"),COUNTIF(C41,"*Manutention*"),COUNTIF(C41,"*Nettoyage*"),COUNTIF(C41,"*Opérateurs téléphoniques - Fixe*"),COUNTIF(C41,"*Opérateurs téléphoniques - Mobile*"),COUNTIF(C41,"*Racks*"),COUNTIF(C41,"*Sécurité Incendie*"),COUNTIF(C41,"*Services Généraux*"),COUNTIF(C41,"*Signalétique / Management visuel*"),COUNTIF(C41,"*Traitement des Déchets*"),COUNTIF(C41,"*Vêtement de Travail*"),COUNTIF(C41,"*Multi Functionnal Print*")),"Oui","Non") -> Oui | G41: Oui | H41: 1 | I41: 1 | J41: 1 | K41: 1 | L41: 1 | M41: 43727 | N41: 2019 | O41: T3/2019 | P41: S.Sagnelogue | R41: =VLOOKUP(C41,'[1]Familles d''Achats'!A$2:B$26,2,TRUE) -> Marie-Helene Denaux | S41: Très forte dégradation depuis fin 2018. Manque cruel d'effectif chez le prestataire et manque d'accompagnement. | T41: NF | U41: HASSIA
A42: Vitrolles 2 | B42: Sud | C42: Manutention | D42: Fenwick | E42: =IF(OR(COUNTIF(C42,"*Contrôles Règlementaires*"),COUNTIF(C42,"*Emballage - Carton*"),COUNTIF(C42,"*Emballage - Etiquettes*"),COUNTIF(C42,"*Emballage - Film*"),COUNTIF(C42,"*Emballage - Generaliste*"),COUNTIF(C42,"*Emballage - Palettes*"),COUNTIF(C42,"*Energies*"),COUNTIF(C42,"*EPI - Equipement Protection Individuelle*"),COUNTIF(C42,"*Formation*"),COUNTIF(C42,"*Fournitures Bureau*"),COUNTIF(C42,"*Gardiennage*"),COUNTIF(C42,"*Gaz chariots*"),COUNTIF(C42,"*Interim*"),COUNTIF(C42,"*Location de Voiture*"),COUNTIF(C42,"*Maintenance Imprimantes*"),COUNTIF(C42,"*Maintenance Imprimantes*"),COUNTIF(C42,"*Maintenance RF*"),COUNTIF(C42,"*Manutention*"),COUNTIF(C42,"*Nettoyage*"),COUNTIF(C42,"*Opérateurs téléphoniques - Fixe*"),COUNTIF(C42,"*Opérateurs téléphoniques - Mobile*"),COUNTIF(C42,"*Racks*"),COUNTIF(C42,"*Sécurité Incendie*"),COUNTIF(C42,"*Services Généraux*"),COUNTIF(C42,"*Signalétique / Management visuel*"),COUNTIF(C42,"*Traitement des Déchets*"),COUNTIF(C42,"*Vêtement de Travail*"),COUNTIF(C42,"*Multi Functionnal Print*")),"Oui","Non") -> Oui | G42: Oui | H42: 1.33 | I42: 1.33 | J42: 1.33 | K42: 1.33 | L42: 1.33 | M42: 43555 | N42: 2019 | O42: T1/2019 | P42: S.Sagnelogue | R42: =VLOOKUP(C42,'[1]Familles d''Achats'!A$2:B$26,2,TRUE) -> Marie-Helene Denaux | T42: AF
A43: Vitrolles 2 | B43: Sud | C43: Manutention | D43: Fenwick | E43: =IF(OR(COUNTIF(C43,"*Contrôles Règlementaires*"),COUNTIF(C43,"*Emballage - Carton*"),COUNTIF(C43,"*Emballage - Etiquettes*"),COUNTIF(C43,"*Emballage - Film*"),COUNTIF(C43,"*Emballage - Generaliste*"),COUNTIF(C43,"*Emballage - Palettes*"),COUNTIF(C43,"*Energies*"),COUNTIF(C43,"*EPI - Equipement Protection Individuelle*"),COUNTIF(C43,"*Formation*"),COUNTIF(C43,"*Fournitures Bureau*"),COUNTIF(C43,"*Gardiennage*"),COUNTIF(C43,"*Gaz chariots*"),COUNTIF(C43,"*Interim*"),COUNTIF(C43,"*Location de Voiture*"),COUNTIF(C43,"*Maintenance Imprimantes*"),COUNTIF(C43,"*Maintenance Imprimantes*"),COUNTIF(C43,"*Maintenance RF*"),COUNTIF(C43,"*Manutention*"),COUNTIF(C43,"*Nettoyage*"),COUNTIF(C43,"*Opérateurs téléphoniques - Fixe*"),COUNTIF(C43,"*Opérateurs téléphoniques - Mobile*"),COUNTIF(C43,"*Racks*"),COUNTIF(C43,"*Sécurité Incendie*"),COUNTIF(C43,"*Services Généraux*"),COUNTIF(C43,"*Signalétique / Management visuel*"),COUNTIF(C43,"*Traitement des Déchets*"),COUNTIF(C43,"*Vêtement de Travail*"),COUNTIF(C43,"*Multi Functionnal Print*")),"Oui","Non") -> Oui | G43: Oui | H43: 1.33 | I43: 1.33 | J43: 1.33 | K43: 1.33 | L43: 1.33 | M43: 43646 | N43: 2019 | O43: T2/2019 | P43: S.Sagnelogue | R43: =VLOOKUP(C43,'[1]Familles d''Achats'!A$2:B$26,2,TRUE) -> Marie-Helene Denaux | T43: AF
A44: Pourpy | B44: Nord | C44: Manutention | D44: Fenwick | E44: =IF(OR(COUNTIF(C44,"*Contrôles Règlementaires*"),COUNTIF(C44,"*Emballage - Carton*"),COUNTIF(C44,"*Emballage - Etiquettes*"),COUNTIF(C44,"*Emballage - Film*"),COUNTIF(C44,"*Emballage - Generaliste*"),COUNTIF(C44,"*Emballage - Palettes*"),COUNTIF(C44,"*Energies*"),COUNTIF(C44,"*EPI - Equipement Protection Individuelle*"),COUNTIF(C44,"*Formation*"),COUNTIF(C44,"*Fournitures Bureau*"),COUNTIF(C44,"*Gardiennage*"),COUNTIF(C44,"*Gaz chariots*"),COUNTIF(C44,"*Interim*"),COUNTIF(C44,"*Location de Voiture*"),COUNTIF(C44,"*Maintenance Imprimantes*"),COUNTIF(C44,"*Maintenance Imprimantes*"),COUNTIF(C44,"*Maintenance RF*"),COUNTIF(C44,"*Manutention*"),COUNTIF(C44,"*Nettoyage*"),COUNTIF(C44,"*Opérateurs téléphoniques - Fixe*"),COUNTIF(C44,"*Opérateurs téléphoniques - Mobile*"),COUNTIF(C44,"*Racks*"),COUNTIF(C44,"*Sécurité Incendie*"),COUNTIF(C44,"*Services Généraux*"),COUNTIF(C44,"*Signalétique / Management visuel*"),COUNTIF(C44,"*Traitement des Déchets*"),COUNTIF(C44,"*Vêtement de Travail*"),COUNTIF(C44,"*Multi Functionnal Print*")),"Oui","Non") -> Oui | G44: Oui | H44: 1.33 | I44: 1.33 | J44: 2.67 | L44: =AVERAGE(H44:K44) -> 1.7766667 | M44: 43555 | N44: 2019 | O44: T1/2019 | P44: S.Sagnelogue | R44: =VLOOKUP(C44,'[1]Familles d''Achats'!A$2:B$26,2,TRUE) -> Marie-Helene Denaux | T44: AF
A45: Pourpy | B45: Nord | C45: Manutention | D45: Fenwick | E45: =IF(OR(COUNTIF(C45,"*Contrôles Règlementaires*"),COUNTIF(C45,"*Emballage - Carton*"),COUNTIF(C45,"*Emballage - Etiquettes*"),COUNTIF(C45,"*Emballage - Film*"),COUNTIF(C45,"*Emballage - Generaliste*"),COUNTIF(C45,"*Emballage - Palettes*"),COUNTIF(C45,"*Energies*"),COUNTIF(C45,"*EPI - Equipement Protection Individuelle*"),COUNTIF(C45,"*Formation*"),COUNTIF(C45,"*Fournitures Bureau*"),COUNTIF(C45,"*Gardiennage*"),COUNTIF(C45,"*Gaz chariots*"),COUNTIF(C45,"*Interim*"),COUNTIF(C45,"*Location de Voiture*"),COUNTIF(C45,"*Maintenance Imprimantes*"),COUNTIF(C45,"*Maintenance Imprimantes*"),COUNTIF(C45,"*Maintenance RF*"),COUNTIF(C45,"*Manutention*"),COUNTIF(C45,"*Nettoyage*"),COUNTIF(C45,"*Opérateurs téléphoniques - Fixe*"),COUNTIF(C45,"*Opérateurs téléphoniques - Mobile*"),COUNTIF(C45,"*Racks*"),COUNTIF(C45,"*Sécurité Incendie*"),COUNTIF(C45,"*Services Généraux*"),COUNTIF(C45,"*Signalétique / Management visuel*"),COUNTIF(C45,"*Traitement des Déchets*"),COUNTIF(C45,"*Vêtement de Travail*"),COUNTIF(C45,"*Multi Functionnal Print*")),"Oui","Non") -> Oui | G45: Oui | H45: 1.33 | I45: 1.33 | J45: 2.67 | L45: =AVERAGE(H45:K45) -> 1.7766667 | M45: 43646 | N45: 2019 | O45: T2/2019 | P45: S.Sagnelogue | R45: =VLOOKUP(C45,'[1]Familles d''Achats'!A$2:B$26,2,TRUE) -> Marie-Helene Denaux | T45: AF
A46: Saint Vulbas l'Oreal Logistique | B46: Centre | C46: Manutention | D46: Fenwick | E46: =IF(OR(COUNTIF(C46,"*Contrôles Règlementaires*"),COUNTIF(C46,"*Emballage - Carton*"),COUNTIF(C46,"*Emballage - Etiquettes*"),COUNTIF(C46,"*Emballage - Film*"),COUNTIF(C46,"*Emballage - Generaliste*"),COUNTIF(C46,"*Emballage - Palettes*"),COUNTIF(C46,"*Energies*"),COUNTIF(C46,"*EPI - Equipement Protection Individuelle*"),COUNTIF(C46,"*Formation*"),COUNTIF(C46,"*Fournitures Bureau*"),COUNTIF(C46,"*Gardiennage*"),COUNTIF(C46,"*Gaz chariots*"),COUNTIF(C46,"*Interim*"),COUNTIF(C46,"*Location de Voiture*"),COUNTIF(C46,"*Maintenance Imprimantes*"),COUNTIF(C46,"*Maintenance Imprimantes*"),COUNTIF(C46,"*Maintenance RF*"),COUNTIF(C46,"*Manutention*"),COUNTIF(C46,"*Nettoyage*"),COUNTIF(C46,"*Opérateurs téléphoniques - Fixe*"),COUNTIF(C46,"*Opérateurs téléphoniques - Mobile*"),COUNTIF(C46,"*Racks*"),COUNTIF(C46,"*Sécurité Incendie*"),COUNTIF(C46,"*Services Généraux*"),COUNTIF(C46,"*Signalétique / Management visuel*"),COUNTIF(C46,"*Traitement des Déchets*"),COUNTIF(C46,"*Vêtement de Travail*"),COUNTIF(C46,"*Multi Functionnal Print*")),"Oui","Non") -> Oui | G46: Oui | H46: 1 | I46: 1 | J46: 1 | K46: 3 | L46: 1.5 | M46: 43732 | N46: 2019 | O46: T3/2019 | P46: Christian Bernard | R46: =VLOOKUP(C46,'[1]Familles d''Achats'!A$2:B$26,2,TRUE) -> Marie-Helene Denaux | T46: NF | U46: HASSIA
A47: Saint Georges d'Esperanche | B47: Centre | C47: Manutention | D47: Fenwick | E47: =IF(OR(COUNTIF(C47,"*Contrôles Règlementaires*"),COUNTIF(C47,"*Emballage - Carton*"),COUNTIF(C47,"*Emballage - Etiquettes*"),COUNTIF(C47,"*Emballage - Film*"),COUNTIF(C47,"*Emballage - Generaliste*"),COUNTIF(C47,"*Emballage - Palettes*"),COUNTIF(C47,"*Energies*"),COUNTIF(C47,"*EPI - Equipement Protection Individuelle*"),COUNTIF(C47,"*Formation*"),COUNTIF(C47,"*Fournitures Bureau*"),COUNTIF(C47,"*Gardiennage*"),COUNTIF(C47,"*Gaz chariots*"),COUNTIF(C47,"*Interim*"),COUNTIF(C47,"*Location de Voiture*"),COUNTIF(C47,"*Maintenance Imprimantes*"),COUNTIF(C47,"*Maintenance Imprimantes*"),COUNTIF(C47,"*Maintenance RF*"),COUNTIF(C47,"*Manutention*"),COUNTIF(C47,"*Nettoyage*"),COUNTIF(C47,"*Opérateurs téléphoniques - Fixe*"),COUNTIF(C47,"*Opérateurs téléphoniques - Mobile*"),COUNTIF(C47,"*Racks*"),COUNTIF(C47,"*Sécurité Incendie*"),COUNTIF(C47,"*Services Généraux*"),COUNTIF(C47,"*Signalétique / Management visuel*"),COUNTIF(C47,"*Traitement des Déchets*"),COUNTIF(C47,"*Vêtement de Travail*"),COUNTIF(C47,"*Multi Functionnal Print*")),"Oui","Non") -> Oui | G47: Oui | H47: 1 | I47: 1 | J47: 1 | K47: 1 | L47: 1 | M47: 43728 | N47: 2019 | O47: T1/2019 | P47: Lauriane Arizzi | R47: =VLOOKUP(C47,'[1]Familles d''Achats'!A$2:B$26,2,TRUE) -> Marie-Helene Denaux | S47: délai d'intervention trop long aucune réactivité devis trop élevé aucune relation client dégradation importante du prestataire en 2019 | T47: NF | U47: HASSIA
A48: Saint Georges d'Esperanche | B48: Centre | C48: Manutention | D48: Fenwick | E48: =IF(OR(COUNTIF(C48,"*Contrôles Règlementaires*"),COUNTIF(C48,"*Emballage - Carton*"),COUNTIF(C48,"*Emballage - Etiquettes*"),COUNTIF(C48,"*Emballage - Film*"),COUNTIF(C48,"*Emballage - Generaliste*"),COUNTIF(C48,"*Emballage - Palettes*"),COUNTIF(C48,"*Energies*"),COUNTIF(C48,"*EPI - Equipement Protection Individuelle*"),COUNTIF(C48,"*Formation*"),COUNTIF(C48,"*Fournitures Bureau*"),COUNTIF(C48,"*Gardiennage*"),COUNTIF(C48,"*Gaz chariots*"),COUNTIF(C48,"*Interim*"),COUNTIF(C48,"*Location de Voiture*"),COUNTIF(C48,"*Maintenance Imprimantes*"),COUNTIF(C48,"*Maintenance Imprimantes*"),COUNTIF(C48,"*Maintenance RF*"),COUNTIF(C48,"*Manutention*"),COUNTIF(C48,"*Nettoyage*"),COUNTIF(C48,"*Opérateurs téléphoniques - Fixe*"),COUNTIF(C48,"*Opérateurs téléphoniques - Mobile*"),COUNTIF(C48,"*Racks*"),COUNTIF(C48,"*Sécurité Incendie*"),COUNTIF(C48,"*Services Généraux*"),COUNTIF(C48,"*Signalétique / Management visuel*"),COUNTIF(C48,"*Traitement des Déchets*"),COUNTIF(C48,"*Vêtement de Travail*"),COUNTIF(C48,"*Multi Functionnal Print*")),"Oui","Non") -> Oui | G48: Oui | H48: 1 | I48: 1 | J48: 1 | K48: 1 | L48: 1 | M48: 43728 | N48: 2019 | O48: T2/2019 | P48: Lauriane Arizzi | Q48: Jean-Luc Blein; Cécile Dompietrini; Fabien Court; David Besson | R48: =VLOOKUP(C48,'[1]Familles d''Achats'!A$2:B$26,2,TRUE) -> Marie-Helene Denaux | S48: délai d'intervention trop long aucune réactivité devis trop élevé aucune relation client dégradation importante du prestataire en 2019 | T48: NF | U48: HASSIA
A49: Ingré | B49: Centre | C49: Manutention | D49: Fenwick | E49: =IF(OR(COUNTIF(C49,"*Contrôles Règlementaires*"),COUNTIF(C49,"*Emballage - Carton*"),COUNTIF(C49,"*Emballage - Etiquettes*"),COUNTIF(C49,"*Emballage - Film*"),COUNTIF(C49,"*Emballage - Generaliste*"),COUNTIF(C49,"*Emballage - Palettes*"),COUNTIF(C49,"*Energies*"),COUNTIF(C49,"*EPI - Equipement Protection Individuelle*"),COUNTIF(C49,"*Formation*"),COUNTIF(C49,"*Fournitures Bureau*"),COUNTIF(C49,"*Gardiennage*"),COUNTIF(C49,"*Gaz chariots*"),COUNTIF(C49,"*Interim*"),COUNTIF(C49,"*Location de Voiture*"),COUNTIF(C49,"*Maintenance Imprimantes*"),COUNTIF(C49,"*Maintenance Imprimantes*"),COUNTIF(C49,"*Maintenance RF*"),COUNTIF(C49,"*Manutention*"),COUNTIF(C49,"*Nettoyage*"),COUNTIF(C49,"*Opérateurs téléphoniques - Fixe*"),COUNTIF(C49,"*Opérateurs téléphoniques - Mobile*"),COUNTIF(C49,"*Racks*"),COUNTIF(C49,"*Sécurité Incendie*"),COUNTIF(C49,"*Services Généraux*"),COUNTIF(C49,"*Signalétique / Management visuel*"),COUNTIF(C49,"*Traitement des Déchets*"),COUNTIF(C49,"*Vêtement de Travail*"),COUNTIF(C49,"*Multi Functionnal Print*")),"Oui","Non") -> Oui | G49: Oui | H49: 1 | I49: 1 | J49: 1 | K49: 3 | L49: 1.5 | M49: 43754 | N49: 2019 | O49: T3/2019 | P49: Marie Cécile Bellier | R49: =VLOOKUP(C49,'[1]Familles d''Achats'!A$2:B$26,2,TRUE) -> Marie-Helene Denaux | S49: Temps d'intervention trop long et devis non communiquer | T49: NF | U49: HASSIA
A50: Satolas IDC22 (OSF/PEPSICO) | B50: Sud | C50: Manutention | D50: Fenwick | E50: =IF(OR(COUNTIF(C50,"*Contrôles Règlementaires*"),COUNTIF(C50,"*Emballage - Carton*"),COUNTIF(C50,"*Emballage - Etiquettes*"),COUNTIF(C50,"*Emballage - Film*"),COUNTIF(C50,"*Emballage - Generaliste*"),COUNTIF(C50,"*Emballage - Palettes*"),COUNTIF(C50,"*Energies*"),COUNTIF(C50,"*EPI - Equipement Protection Individuelle*"),COUNTIF(C50,"*Formation*"),COUNTIF(C50,"*Fournitures Bureau*"),COUNTIF(C50,"*Gardiennage*"),COUNTIF(C50,"*Gaz chariots*"),COUNTIF(C50,"*Interim*"),COUNTIF(C50,"*Location de Voiture*"),COUNTIF(C50,"*Maintenance Imprimantes*"),COUNTIF(C50,"*Maintenance Imprimantes*"),COUNTIF(C50,"*Maintenance RF*"),COUNTIF(C50,"*Manutention*"),COUNTIF(C50,"*Nettoyage*"),COUNTIF(C50,"*Opérateurs téléphoniques - Fixe*"),COUNTIF(C50,"*Opérateurs téléphoniques - Mobile*"),COUNTIF(C50,"*Racks*"),COUNTIF(C50,"*Sécurité Incendie*"),COUNTIF(C50,"*Services Généraux*"),COUNTIF(C50,"*Signalétique / Management visuel*"),COUNTIF(C50,"*Traitement des Déchets*"),COUNTIF(C50,"*Vêtement de Travail*"),COUNTIF(C50,"*Multi Functionnal Print*")),"Oui","Non") -> Oui | G50: Oui | H50: 1 | I50: 1 | J50: 1 | K50: 1 | L50: =AVERAGE(H50:K50) -> 1 | N50: 2019 | O50: T3/2019 | P50: C.Feret | Q50: Thomas Courvallain | R50: =VLOOKUP(C50,'[1]Familles d''Achats'!A$2:B$26,2,TRUE) -> Marie-Helene Denaux | S50: Très forte dégradation depuis fin 2018. Manque cruel d'effectif chez le prestataire et manque d'accompagnement. | T50: NF | U50: HASSIA
A51: Meung sur Loire | B51: Nord | C51: Manutention | D51: Fenwick | E51: =IF(OR(COUNTIF(C51,"*Contrôles Règlementaires*"),COUNTIF(C51,"*Emballage - Carton*"),COUNTIF(C51,"*Emballage - Etiquettes*"),COUNTIF(C51,"*Emballage - Film*"),COUNTIF(C51,"*Emballage - Generaliste*"),COUNTIF(C51,"*Emballage - Palettes*"),COUNTIF(C51,"*Energies*"),COUNTIF(C51,"*EPI - Equipement Protection Individuelle*"),COUNTIF(C51,"*Formation*"),COUNTIF(C51,"*Fournitures Bureau*"),COUNTIF(C51,"*Gardiennage*"),COUNTIF(C51,"*Gaz chariots*"),COUNTIF(C51,"*Interim*"),COUNTIF(C51,"*Location de Voiture*"),COUNTIF(C51,"*Maintenance Imprimantes*"),COUNTIF(C51,"*Maintenance Imprimantes*"),COUNTIF(C51,"*Maintenance RF*"),COUNTIF(C51,"*Manutention*"),COUNTIF(C51,"*Nettoyage*"),COUNTIF(C51,"*Opérateurs téléphoniques - Fixe*"),COUNTIF(C51,"*Opérateurs téléphoniques - Mobile*"),COUNTIF(C51,"*Racks*"),COUNTIF(C51,"*Sécurité Incendie*"),COUNTIF(C51,"*Services Généraux*"),COUNTIF(C51,"*Signalétique / Management visuel*"),COUNTIF(C51,"*Traitement des Déchets*"),COUNTIF(C51,"*Vêtement de Travail*"),COUNTIF(C51,"*Multi Functionnal Print*")),"Oui","Non") -> Oui | G51: Oui | H51: 1 | I51: 1 | J51: 1 | K51: 2 | L51: =AVERAGE(H51:K51) -> 1.25 | M51: 43767 | N51: 2019 | O51: T3/2019 | P51: Natacha Linet | Q51: Natacha Linet | R51: =VLOOKUP(C51,'[1]Familles d''Achats'!A$2:B$26,2,TRUE) -> Marie-Helene Denaux | S51: Présence irréguliére le mardi / prévention non faite….. | T51: NF | U51: HASSIA
A52: Satolas IDC22 (OSF/PEPSICO) | B52: Sud | C52: Manutention | D52: Fenwick | E52: =IF(OR(COUNTIF(C52,"*Contrôles Règlementaires*"),COUNTIF(C52,"*Emballage - Carton*"),COUNTIF(C52,"*Emballage - Etiquettes*"),COUNTIF(C52,"*Emballage - Film*"),COUNTIF(C52,"*Emballage - Generaliste*"),COUNTIF(C52,"*Emballage - Palettes*"),COUNTIF(C52,"*Energies*"),COUNTIF(C52,"*EPI - Equipement Protection Individuelle*"),COUNTIF(C52,"*Formation*"),COUNTIF(C52,"*Fournitures Bureau*"),COUNTIF(C52,"*Gardiennage*"),COUNTIF(C52,"*Gaz chariots*"),COUNTIF(C52,"*Interim*"),COUNTIF(C52,"*Location de Voiture*"),COUNTIF(C52,"*Maintenance Imprimantes*"),COUNTIF(C52,"*Maintenance Imprimantes*"),COUNTIF(C52,"*Maintenance RF*"),COUNTIF(C52,"*Manutention*"),COUNTIF(C52,"*Nettoyage*"),COUNTIF(C52,"*Opérateurs téléphoniques - Fixe*"),COUNTIF(C52,"*Opérateurs téléphoniques - Mobile*"),COUNTIF(C52,"*Racks*"),COUNTIF(C52,"*Sécurité Incendie*"),COUNTIF(C52,"*Services Généraux*"),COUNTIF(C52,"*Signalétique / Management visuel*"),COUNTIF(C52,"*Traitement des Déchets*"),COUNTIF(C52,"*Vêtement de Travail*"),COUNTIF(C52,"*Multi Functionnal Print*")),"Oui","Non") -> Oui | G52: Oui | H52: 1 | I52: 1 | J52: 1 | K52: 1 | L52: =AVERAGE(H52:K52) -> 1 | N52: 2019 | O52: T2/2019 | P52: C.Feret | Q52: Thomas Courvallain | R52: =VLOOKUP(C52,'[1]Familles d''Achats'!A$2:B$26,2,TRUE) -> Marie-Helene Denaux | S52: Très forte dégradation depuis fin 2018. Manque cruel d'effectif chez le prestataire et manque d'accompagnement. | T52: NF | U52: HASSIA
A53: Boigny sur Bionne | B53: Centre | C53: Manutention | D53: Fenwick | E53: =IF(OR(COUNTIF(C53,"*Contrôles Règlementaires*"),COUNTIF(C53,"*Emballage - Carton*"),COUNTIF(C53,"*Emballage - Etiquettes*"),COUNTIF(C53,"*Emballage - Film*"),COUNTIF(C53,"*Emballage - Generaliste*"),COUNTIF(C53,"*Emballage - Palettes*"),COUNTIF(C53,"*Energies*"),COUNTIF(C53,"*EPI - Equipement Protection Individuelle*"),COUNTIF(C53,"*Formation*"),COUNTIF(C53,"*Fournitures Bureau*"),COUNTIF(C53,"*Gardiennage*"),COUNTIF(C53,"*Gaz chariots*"),COUNTIF(C53,"*Interim*"),COUNTIF(C53,"*Location de Voiture*"),COUNTIF(C53,"*Maintenance Imprimantes*"),COUNTIF(C53,"*Maintenance Imprimantes*"),COUNTIF(C53,"*Maintenance RF*"),COUNTIF(C53,"*Manutention*"),COUNTIF(C53,"*Nettoyage*"),COUNTIF(C53,"*Opérateurs téléphoniques - Fixe*"),COUNTIF(C53,"*Opérateurs téléphoniques - Mobile*"),COUNTIF(C53,"*Racks*"),COUNTIF(C53,"*Sécurité Incendie*"),COUNTIF(C53,"*Services Généraux*"),COUNTIF(C53,"*Signalétique / Management visuel*"),COUNTIF(C53,"*Traitement des Déchets*"),COUNTIF(C53,"*Vêtement de Travail*"),COUNTIF(C53,"*Multi Functionnal Print*")),"Oui","Non") -> Oui | G53: Oui | H53: 1 | L53: =AVERAGE(H53:K53) -> 1 | M53: 43773 | N53: 2019 | O53: T3/2019 | P53: Laurent Samson | Q53: K. BOURSAUD (RE MARS) | R53: =VLOOKUP(C53,'[1]Familles d''Achats'!A$2:B$26,2,TRUE) -> Marie-Helene Denaux | S53: Le préventif n'est plus fait seulement le correctif. | T53: NF | U53: HASSIA
A54: Satolas IDC22 (OSF/PEPSICO) | B54: Sud | C54: Manutention | D54: Fenwick | E54: =IF(OR(COUNTIF(C54,"*Contrôles Règlementaires*"),COUNTIF(C54,"*Emballage - Carton*"),COUNTIF(C54,"*Emballage - Etiquettes*"),COUNTIF(C54,"*Emballage - Film*"),COUNTIF(C54,"*Emballage - Generaliste*"),COUNTIF(C54,"*Emballage - Palettes*"),COUNTIF(C54,"*Energies*"),COUNTIF(C54,"*EPI - Equipement Protection Individuelle*"),COUNTIF(C54,"*Formation*"),COUNTIF(C54,"*Fournitures Bureau*"),COUNTIF(C54,"*Gardiennage*"),COUNTIF(C54,"*Gaz chariots*"),COUNTIF(C54,"*Interim*"),COUNTIF(C54,"*Location de Voiture*"),COUNTIF(C54,"*Maintenance Imprimantes*"),COUNTIF(C54,"*Maintenance Imprimantes*"),COUNTIF(C54,"*Maintenance RF*"),COUNTIF(C54,"*Manutention*"),COUNTIF(C54,"*Nettoyage*"),COUNTIF(C54,"*Opérateurs téléphoniques - Fixe*"),COUNTIF(C54,"*Opérateurs téléphoniques - Mobile*"),COUNTIF(C54,"*Racks*"),COUNTIF(C54,"*Sécurité Incendie*"),COUNTIF(C54,"*Services Généraux*"),COUNTIF(C54,"*Signalétique / Management visuel*"),COUNTIF(C54,"*Traitement des Déchets*"),COUNTIF(C54,"*Vêtement de Travail*"),COUNTIF(C54,"*Multi Functionnal Print*")),"Oui","Non") -> Oui | G54: Oui | H54: 1 | I54: 1 | J54: 1 | K54: 1 | L54: =AVERAGE(H54:K54) -> 1 | N54: 2019 | O54: T1/2019 | P54: C.Feret | Q54: Thomas Courvallain | R54: =VLOOKUP(C54,'[1]Familles d''Achats'!A$2:B$26,2,TRUE) -> Marie-Helene Denaux | S54: Très forte dégradation depuis fin 2018. Manque cruel d'effectif chez le prestataire et manque d'accompagnement. | T54: NF | U54: HASSIA
A55: Saint Vulbas l'Oreal Logistique | B55: Centre | C55: Gardiennage | D55: GLN | E55: =IF(OR(COUNTIF(C55,"*Contrôles Règlementaires*"),COUNTIF(C55,"*Emballage - Carton*"),COUNTIF(C55,"*Emballage - Etiquettes*"),COUNTIF(C55,"*Emballage - Film*"),COUNTIF(C55,"*Emballage - Generaliste*"),COUNTIF(C55,"*Emballage - Palettes*"),COUNTIF(C55,"*Energies*"),COUNTIF(C55,"*EPI - Equipement Protection Individuelle*"),COUNTIF(C55,"*Formation*"),COUNTIF(C55,"*Fournitures Bureau*"),COUNTIF(C55,"*Gardiennage*"),COUNTIF(C55,"*Gaz chariots*"),COUNTIF(C55,"*Interim*"),COUNTIF(C55,"*Location de Voiture*"),COUNTIF(C55,"*Maintenance Imprimantes*"),COUNTIF(C55,"*Maintenance Imprimantes*"),COUNTIF(C55,"*Maintenance RF*"),COUNTIF(C55,"*Manutention*"),COUNTIF(C55,"*Nettoyage*"),COUNTIF(C55,"*Opérateurs téléphoniques - Fixe*"),COUNTIF(C55,"*Opérateurs téléphoniques - Mobile*"),COUNTIF(C55,"*Racks*"),COUNTIF(C55,"*Sécurité Incendie*"),COUNTIF(C55,"*Services Généraux*"),COUNTIF(C55,"*Signalétique / Management visuel*"),COUNTIF(C55,"*Traitement des Déchets*"),COUNTIF(C55,"*Vêtement de Travail*"),COUNTIF(C55,"*Multi Functionnal Print*")),"Oui","Non") -> Oui | G55: Non | H55: 1 | I55: 1 | J55: 1 | K55: 1 | L55: 1 | M55: 43732 | N55: 2019 | O55: T3/2019 | P55: Christian Bernard | R55: =VLOOKUP(C55,'[1]Familles d''Achats'!A$2:B$26,2,TRUE) -> Valérie Jouhaud | T55: NF | U55: HASSIA
A56: Duppigheim | B56: TD | C56: Nettoyage | D56: GSF | E56: =IF(OR(COUNTIF(C56,"*Contrôles Règlementaires*"),COUNTIF(C56,"*Emballage - Carton*"),COUNTIF(C56,"*Emballage - Etiquettes*"),COUNTIF(C56,"*Emballage - Film*"),COUNTIF(C56,"*Emballage - Generaliste*"),COUNTIF(C56,"*Emballage - Palettes*"),COUNTIF(C56,"*Energies*"),COUNTIF(C56,"*EPI - Equipement Protection Individuelle*"),COUNTIF(C56,"*Formation*"),COUNTIF(C56,"*Fournitures Bureau*"),COUNTIF(C56,"*Gardiennage*"),COUNTIF(C56,"*Gaz chariots*"),COUNTIF(C56,"*Interim*"),COUNTIF(C56,"*Location de Voiture*"),COUNTIF(C56,"*Maintenance Imprimantes*"),COUNTIF(C56,"*Maintenance Imprimantes*"),COUNTIF(C56,"*Maintenance RF*"),COUNTIF(C56,"*Manutention*"),COUNTIF(C56,"*Nettoyage*"),COUNTIF(C56,"*Opérateurs téléphoniques - Fixe*"),COUNTIF(C56,"*Opérateurs téléphoniques - Mobile*"),COUNTIF(C56,"*Racks*"),COUNTIF(C56,"*Sécurité Incendie*"),COUNTIF(C56,"*Services Généraux*"),COUNTIF(C56,"*Signalétique / Management visuel*"),COUNTIF(C56,"*Traitement des Déchets*"),COUNTIF(C56,"*Vêtement de Travail*"),COUNTIF(C56,"*Multi Functionnal Print*")),"Oui","Non") -> Oui | G56: Oui | H56: 1.33 | I56: 1.33 | J56: 1.33 | K56: 1.33 | L56: 1.33 | M56: 43555 | N56: 2019 | O56: T1/2019 | R56: =VLOOKUP(C56,'[1]Familles d''Achats'!A$2:B$26,2,TRUE) -> Valérie Jouhaud | T56: AF
A57: Bruyeres sur Oise | B57: Nord | C57: Nettoyage | D57: GSF | E57: =IF(OR(COUNTIF(C57,"*Contrôles Règlementaires*"),COUNTIF(C57,"*Emballage - Carton*"),COUNTIF(C57,"*Emballage - Etiquettes*"),COUNTIF(C57,"*Emballage - Film*"),COUNTIF(C57,"*Emballage - Generaliste*"),COUNTIF(C57,"*Emballage - Palettes*"),COUNTIF(C57,"*Energies*"),COUNTIF(C57,"*EPI - Equipement Protection Individuelle*"),COUNTIF(C57,"*Formation*"),COUNTIF(C57,"*Fournitures Bureau*"),COUNTIF(C57,"*Gardiennage*"),COUNTIF(C57,"*Gaz chariots*"),COUNTIF(C57,"*Interim*"),COUNTIF(C57,"*Location de Voiture*"),COUNTIF(C57,"*Maintenance Imprimantes*"),COUNTIF(C57,"*Maintenance Imprimantes*"),COUNTIF(C57,"*Maintenance RF*"),COUNTIF(C57,"*Manutention*"),COUNTIF(C57,"*Nettoyage*"),COUNTIF(C57,"*Opérateurs téléphoniques - Fixe*"),COUNTIF(C57,"*Opérateurs téléphoniques - Mobile*"),COUNTIF(C57,"*Racks*"),COUNTIF(C57,"*Sécurité Incendie*"),COUNTIF(C57,"*Services Généraux*"),COUNTIF(C57,"*Signalétique / Management visuel*"),COUNTIF(C57,"*Traitement des Déchets*"),COUNTIF(C57,"*Vêtement de Travail*"),COUNTIF(C57,"*Multi Functionnal Print*")),"Oui","Non") -> Oui | G57: Oui | H57: 1.33 | I57: 1.33 | J57: 1.33 | K57: =2*4/3 -> 2.6666667 | L57: 1.66 | M57: 43555 | N57: 2019 | O57: T1/2019 | P57: S.Sagnelogue | R57: =VLOOKUP(C57,'[1]Familles d''Achats'!A$2:B$26,2,TRUE) -> Valérie Jouhaud | S57: Absence répétée de Mr Cassé Le 27/03 absence transmise au prestataire par XPO Mésentente avec certains salariés XPO Finition bureau et entrepôt Abords de quai sales Mise en cire non réalisée du 2018 Pas toujours d'anticipation surle remplacement du personnel | T57: AF
A58: Saint Sorlin ITM | B58: Centre | C58: Nettoyage | D58: GSF | E58: =IF(OR(COUNTIF(C58,"*Contrôles Règlementaires*"),COUNTIF(C58,"*Emballage - Carton*"),COUNTIF(C58,"*Emballage - Etiquettes*"),COUNTIF(C58,"*Emballage - Film*"),COUNTIF(C58,"*Emballage - Generaliste*"),COUNTIF(C58,"*Emballage - Palettes*"),COUNTIF(C58,"*Energies*"),COUNTIF(C58,"*EPI - Equipement Protection Individuelle*"),COUNTIF(C58,"*Formation*"),COUNTIF(C58,"*Fournitures Bureau*"),COUNTIF(C58,"*Gardiennage*"),COUNTIF(C58,"*Gaz chariots*"),COUNTIF(C58,"*Interim*"),COUNTIF(C58,"*Location de Voiture*"),COUNTIF(C58,"*Maintenance Imprimantes*"),COUNTIF(C58,"*Maintenance Imprimantes*"),COUNTIF(C58,"*Maintenance RF*"),COUNTIF(C58,"*Manutention*"),COUNTIF(C58,"*Nettoyage*"),COUNTIF(C58,"*Opérateurs téléphoniques - Fixe*"),COUNTIF(C58,"*Opérateurs téléphoniques - Mobile*"),COUNTIF(C58,"*Racks*"),COUNTIF(C58,"*Sécurité Incendie*"),COUNTIF(C58,"*Services Généraux*"),COUNTIF(C58,"*Signalétique / Management visuel*"),COUNTIF(C58,"*Traitement des Déchets*"),COUNTIF(C58,"*Vêtement de Travail*"),COUNTIF(C58,"*Multi Functionnal Print*")),"Oui","Non") -> Oui | G58: Oui | H58: 1 | I58: 1 | J58: 1 | K58: 1 | L58: =AVERAGE(H58:K58) -> 1 | N58: 2019 | O58: T3/2019 | P58: A.Dutrieux | Q58: Eric Chanel | R58: =VLOOKUP(C58,'[1]Familles d''Achats'!A$2:B$26,2,TRUE) -> Valérie Jouhaud | S58: Changement de personnel régulièrement qui entraine presque systématiquement une période de latence sans ménage Le local ménage est très mal tenu, présence de moisi dans les seaux Les poubelles ne sont pas changées, les sols et les bureaux ne sont pas nettoyés, les sanitaires non plus, les rouleaux papier toilette et essuie main ne sont pas renouvelés. Chaque nouvel arrivant ne reçoit pas la formation nécessaire à établir un travail de qualité | T58: NF | U58: HASSIA
A59: Ingré | B59: Sud | C59: Maintenance RF | D59: Hub one | E59: =IF(OR(COUNTIF(C59,"*Contrôles Règlementaires*"),COUNTIF(C59,"*Emballage - Carton*"),COUNTIF(C59,"*Emballage - Etiquettes*"),COUNTIF(C59,"*Emballage - Film*"),COUNTIF(C59,"*Emballage - Generaliste*"),COUNTIF(C59,"*Emballage - Palettes*"),COUNTIF(C59,"*Energies*"),COUNTIF(C59,"*EPI - Equipement Protection Individuelle*"),COUNTIF(C59,"*Formation*"),COUNTIF(C59,"*Fournitures Bureau*"),COUNTIF(C59,"*Gardiennage*"),COUNTIF(C59,"*Gaz chariots*"),COUNTIF(C59,"*Interim*"),COUNTIF(C59,"*Location de Voiture*"),COUNTIF(C59,"*Maintenance Imprimantes*"),COUNTIF(C59,"*Maintenance Imprimantes*"),COUNTIF(C59,"*Maintenance RF*"),COUNTIF(C59,"*Manutention*"),COUNTIF(C59,"*Nettoyage*"),COUNTIF(C59,"*Opérateurs téléphoniques - Fixe*"),COUNTIF(C59,"*Opérateurs téléphoniques - Mobile*"),COUNTIF(C59,"*Racks*"),COUNTIF(C59,"*Sécurité Incendie*"),COUNTIF(C59,"*Services Généraux*"),COUNTIF(C59,"*Signalétique / Management visuel*"),COUNTIF(C59,"*Traitement des Déchets*"),COUNTIF(C59,"*Vêtement de Travail*"),COUNTIF(C59,"*Multi Functionnal Print*")),"Oui","Non") -> Oui | G59: Non | H59: 1.33 | I59: 1.33 | J59: 1.33 | K59: 1.33 | L59: 1.33 | M59: 43555 | N59: 2019 | O59: T1/2019 | P59: Marie Cécile Bellier | Q59: Stephane Cointepas | R59: =VLOOKUP(C59,'[1]Familles d''Achats'!A$2:B$26,2,TRUE) -> Zohra Bridja | T59: AF
A60: Amblainville | B60: Nord | C60: Traitement des Déchets | D60: Ise Marcelpoil | E60: =IF(OR(COUNTIF(C60,"*Contrôles Règlementaires*"),COUNTIF(C60,"*Emballage - Carton*"),COUNTIF(C60,"*Emballage - Etiquettes*"),COUNTIF(C60,"*Emballage - Film*"),COUNTIF(C60,"*Emballage - Generaliste*"),COUNTIF(C60,"*Emballage - Palettes*"),COUNTIF(C60,"*Energies*"),COUNTIF(C60,"*EPI - Equipement Protection Individuelle*"),COUNTIF(C60,"*Formation*"),COUNTIF(C60,"*Fournitures Bureau*"),COUNTIF(C60,"*Gardiennage*"),COUNTIF(C60,"*Gaz chariots*"),COUNTIF(C60,"*Interim*"),COUNTIF(C60,"*Location de Voiture*"),COUNTIF(C60,"*Maintenance Imprimantes*"),COUNTIF(C60,"*Maintenance Imprimantes*"),COUNTIF(C60,"*Maintenance RF*"),COUNTIF(C60,"*Manutention*"),COUNTIF(C60,"*Nettoyage*"),COUNTIF(C60,"*Opérateurs téléphoniques - Fixe*"),COUNTIF(C60,"*Opérateurs téléphoniques - Mobile*"),COUNTIF(C60,"*Racks*"),COUNTIF(C60,"*Sécurité Incendie*"),COUNTIF(C60,"*Services Généraux*"),COUNTIF(C60,"*Signalétique / Management visuel*"),COUNTIF(C60,"*Traitement des Déchets*"),COUNTIF(C60,"*Vêtement de Travail*"),COUNTIF(C60,"*Multi Functionnal Print*")),"Oui","Non") -> Oui | G60: Oui | H60: 1.33 | K60: 1.33 | L60: 1.33 | M60: 43555 | N60: 2019 | O60: T1/2019 | P60: Pauline Landier | R60: =VLOOKUP(C60,'[1]Familles d''Achats'!A$2:B$26,2,TRUE) -> Valérie Jouhaud | T60: AF
A61: Amblainville | B61: Nord | C61: Traitement des Déchets | D61: Ise Marcelpoil | E61: =IF(OR(COUNTIF(C61,"*Contrôles Règlementaires*"),COUNTIF(C61,"*Emballage - Carton*"),COUNTIF(C61,"*Emballage - Etiquettes*"),COUNTIF(C61,"*Emballage - Film*"),COUNTIF(C61,"*Emballage - Generaliste*"),COUNTIF(C61,"*Emballage - Palettes*"),COUNTIF(C61,"*Energies*"),COUNTIF(C61,"*EPI - Equipement Protection Individuelle*"),COUNTIF(C61,"*Formation*"),COUNTIF(C61,"*Fournitures Bureau*"),COUNTIF(C61,"*Gardiennage*"),COUNTIF(C61,"*Gaz chariots*"),COUNTIF(C61,"*Interim*"),COUNTIF(C61,"*Location de Voiture*"),COUNTIF(C61,"*Maintenance Imprimantes*"),COUNTIF(C61,"*Maintenance Imprimantes*"),COUNTIF(C61,"*Maintenance RF*"),COUNTIF(C61,"*Manutention*"),COUNTIF(C61,"*Nettoyage*"),COUNTIF(C61,"*Opérateurs téléphoniques - Fixe*"),COUNTIF(C61,"*Opérateurs téléphoniques - Mobile*"),COUNTIF(C61,"*Racks*"),COUNTIF(C61,"*Sécurité Incendie*"),COUNTIF(C61,"*Services Généraux*"),COUNTIF(C61,"*Signalétique / Management visuel*"),COUNTIF(C61,"*Traitement des Déchets*"),COUNTIF(C61,"*Vêtement de Travail*"),COUNTIF(C61,"*Multi Functionnal Print*")),"Oui","Non") -> Oui | G61: Oui | H61: 1.33 | K61: 1.33 | L61: 1.33 | M61: 43646 | N61: 2019 | O61: T2/2019 | P61: Pauline Landier | R61: =VLOOKUP(C61,'[1]Familles d''Achats'!A$2:B$26,2,TRUE) -> Valérie Jouhaud | S61: Ne respecte pas les délais données pour les enlèvements. Action: appel téléphonique et mail au client - David GILBERT T2 : mêmes problèmes - actions: suivi des retards dans un fichier pour communication mensuel avec le client David GILBERt | T61: AF
A62: Réau | B62: Nord | C62: Traitement des Déchets | D62: Ise Marcelpoil | E62: =IF(OR(COUNTIF(C62,"*Contrôles Règlementaires*"),COUNTIF(C62,"*Emballage - Carton*"),COUNTIF(C62,"*Emballage - Etiquettes*"),COUNTIF(C62,"*Emballage - Film*"),COUNTIF(C62,"*Emballage - Generaliste*"),COUNTIF(C62,"*Emballage - Palettes*"),COUNTIF(C62,"*Energies*"),COUNTIF(C62,"*EPI - Equipement Protection Individuelle*"),COUNTIF(C62,"*Formation*"),COUNTIF(C62,"*Fournitures Bureau*"),COUNTIF(C62,"*Gardiennage*"),COUNTIF(C62,"*Gaz chariots*"),COUNTIF(C62,"*Interim*"),COUNTIF(C62,"*Location de Voiture*"),COUNTIF(C62,"*Maintenance Imprimantes*"),COUNTIF(C62,"*Maintenance Imprimantes*"),COUNTIF(C62,"*Maintenance RF*"),COUNTIF(C62,"*Manutention*"),COUNTIF(C62,"*Nettoyage*"),COUNTIF(C62,"*Opérateurs téléphoniques - Fixe*"),COUNTIF(C62,"*Opérateurs téléphoniques - Mobile*"),COUNTIF(C62,"*Racks*"),COUNTIF(C62,"*Sécurité Incendie*"),COUNTIF(C62,"*Services Généraux*"),COUNTIF(C62,"*Signalétique / Management visuel*"),COUNTIF(C62,"*Traitement des Déchets*"),COUNTIF(C62,"*Vêtement de Travail*"),COUNTIF(C62,"*Multi Functionnal Print*")),"Oui","Non") -> Oui | G62: Oui | H62: 1 | I62: 1 | J62: 1 | K62: 1 | L62: =AVERAGE(H62:K62) -> 1 | N62: 2019 | O62: T2/2019 | Q62: Stéphanie Sagnelonge | R62: =VLOOKUP(C62,'[1]Familles d''Achats'!A$2:B$26,2,TRUE) -> Valérie Jouhaud | S62: prestation ne correspond pas à notre demande | T62: NF | U62: HASSIA
A63: Réau | B63: Nord | C63: Traitement des Déchets | D63: Ise Marcelpoil | E63: =IF(OR(COUNTIF(C63,"*Contrôles Règlementaires*"),COUNTIF(C63,"*Emballage - Carton*"),COUNTIF(C63,"*Emballage - Etiquettes*"),COUNTIF(C63,"*Emballage - Film*"),COUNTIF(C63,"*Emballage - Generaliste*"),COUNTIF(C63,"*Emballage - Palettes*"),COUNTIF(C63,"*Energies*"),COUNTIF(C63,"*EPI - Equipement Protection Individuelle*"),COUNTIF(C63,"*Formation*"),COUNTIF(C63,"*Fournitures Bureau*"),COUNTIF(C63,"*Gardiennage*"),COUNTIF(C63,"*Gaz chariots*"),COUNTIF(C63,"*Interim*"),COUNTIF(C63,"*Location de Voiture*"),COUNTIF(C63,"*Maintenance Imprimantes*"),COUNTIF(C63,"*Maintenance Imprimantes*"),COUNTIF(C63,"*Maintenance RF*"),COUNTIF(C63,"*Manutention*"),COUNTIF(C63,"*Nettoyage*"),COUNTIF(C63,"*Opérateurs téléphoniques - Fixe*"),COUNTIF(C63,"*Opérateurs téléphoniques - Mobile*"),COUNTIF(C63,"*Racks*"),COUNTIF(C63,"*Sécurité Incendie*"),COUNTIF(C63,"*Services Généraux*"),COUNTIF(C63,"*Signalétique / Management visuel*"),COUNTIF(C63,"*Traitement des Déchets*"),COUNTIF(C63,"*Vêtement de Travail*"),COUNTIF(C63,"*Multi Functionnal Print*")),"Oui","Non") -> Oui | G63: Oui | H63: 1 | I63: 1 | J63: 1 | K63: 1 | L63: =AVERAGE(H63:K63) -> 1 | N63: 2019 | O63: T1/2019 | Q63: Stéphanie Sagnelonge | R63: =VLOOKUP(C63,'[1]Familles d''Achats'!A$2:B$26,2,TRUE) -> Valérie Jouhaud | S63: prestation ne correspond pas à notre demande | T63: NF | U63: HASSIA
A64: Bassens | B64: Sud | C64: Manutention | D64: Jungheinrich | E64: =IF(OR(COUNTIF(C64,"*Contrôles Règlementaires*"),COUNTIF(C64,"*Emballage - Carton*"),COUNTIF(C64,"*Emballage - Etiquettes*"),COUNTIF(C64,"*Emballage - Film*"),COUNTIF(C64,"*Emballage - Generaliste*"),COUNTIF(C64,"*Emballage - Palettes*"),COUNTIF(C64,"*Energies*"),COUNTIF(C64,"*EPI - Equipement Protection Individuelle*"),COUNTIF(C64,"*Formation*"),COUNTIF(C64,"*Fournitures Bureau*"),COUNTIF(C64,"*Gardiennage*"),COUNTIF(C64,"*Gaz chariots*"),COUNTIF(C64,"*Interim*"),COUNTIF(C64,"*Location de Voiture*"),COUNTIF(C64,"*Maintenance Imprimantes*"),COUNTIF(C64,"*Maintenance Imprimantes*"),COUNTIF(C64,"*Maintenance RF*"),COUNTIF(C64,"*Manutention*"),COUNTIF(C64,"*Nettoyage*"),COUNTIF(C64,"*Opérateurs téléphoniques - Fixe*"),COUNTIF(C64,"*Opérateurs téléphoniques - Mobile*"),COUNTIF(C64,"*Racks*"),COUNTIF(C64,"*Sécurité Incendie*"),COUNTIF(C64,"*Services Généraux*"),COUNTIF(C64,"*Signalétique / Management visuel*"),COUNTIF(C64,"*Traitement des Déchets*"),COUNTIF(C64,"*Vêtement de Travail*"),COUNTIF(C64,"*Multi Functionnal Print*")),"Oui","Non") -> Oui | G64: Oui | H64: 1.33 | I64: =2*4/3 -> 2.6666667 | J64: 1.33 | K64: 1.33 | L64: =AVERAGE(H64:K64) -> 1.6641667 | M64: 43555 | N64: 2019 | O64: T1/2019 | R64: =VLOOKUP(C64,'[1]Familles d''Achats'!A$2:B$26,2,TRUE) -> Marie-Helene Denaux | S64: Janvier: manque de réactivité: demande intervention le 18-01 et venu le 31-01 | T64: AF
A65: Bassens | B65: Sud | C65: Manutention | D65: Jungheinrich | E65: =IF(OR(COUNTIF(C65,"*Contrôles Règlementaires*"),COUNTIF(C65,"*Emballage - Carton*"),COUNTIF(C65,"*Emballage - Etiquettes*"),COUNTIF(C65,"*Emballage - Film*"),COUNTIF(C65,"*Emballage - Generaliste*"),COUNTIF(C65,"*Emballage - Palettes*"),COUNTIF(C65,"*Energies*"),COUNTIF(C65,"*EPI - Equipement Protection Individuelle*"),COUNTIF(C65,"*Formation*"),COUNTIF(C65,"*Fournitures Bureau*"),COUNTIF(C65,"*Gardiennage*"),COUNTIF(C65,"*Gaz chariots*"),COUNTIF(C65,"*Interim*"),COUNTIF(C65,"*Location de Voiture*"),COUNTIF(C65,"*Maintenance Imprimantes*"),COUNTIF(C65,"*Maintenance Imprimantes*"),COUNTIF(C65,"*Maintenance RF*"),COUNTIF(C65,"*Manutention*"),COUNTIF(C65,"*Nettoyage*"),COUNTIF(C65,"*Opérateurs téléphoniques - Fixe*"),COUNTIF(C65,"*Opérateurs téléphoniques - Mobile*"),COUNTIF(C65,"*Racks*"),COUNTIF(C65,"*Sécurité Incendie*"),COUNTIF(C65,"*Services Généraux*"),COUNTIF(C65,"*Signalétique / Management visuel*"),COUNTIF(C65,"*Traitement des Déchets*"),COUNTIF(C65,"*Vêtement de Travail*"),COUNTIF(C65,"*Multi Functionnal Print*")),"Oui","Non") -> Oui | G65: Oui | H65: 1 | I65: 2 | J65: 1 | K65: 3 | L65: =AVERAGE(H65:K65) -> 1.75 | M65: 43774 | N65: 2019 | O65: T3/2019 | P65: Daniel Durou | Q65: Djaou Mokrane | R65: =VLOOKUP(C65,'[1]Familles d''Achats'!A$2:B$26,2,TRUE) -> Marie-Helene Denaux | S65: Toujours un manque de reactivité : Delais d' interventions contractuels non respectés | T65: NF | U65: HASSIA
A66: Saint Vulbas l'Oreal Logistique | B66: Centre | C66: Multi Functionnal Print | D66: Konica Minolta | E66: =IF(OR(COUNTIF(C66,"*Contrôles Règlementaires*"),COUNTIF(C66,"*Emballage - Carton*"),COUNTIF(C66,"*Emballage - Etiquettes*"),COUNTIF(C66,"*Emballage - Film*"),COUNTIF(C66,"*Emballage - Generaliste*"),COUNTIF(C66,"*Emballage - Palettes*"),COUNTIF(C66,"*Energies*"),COUNTIF(C66,"*EPI - Equipement Protection Individuelle*"),COUNTIF(C66,"*Formation*"),COUNTIF(C66,"*Fournitures Bureau*"),COUNTIF(C66,"*Gardiennage*"),COUNTIF(C66,"*Gaz chariots*"),COUNTIF(C66,"*Interim*"),COUNTIF(C66,"*Location de Voiture*"),COUNTIF(C66,"*Maintenance Imprimantes*"),COUNTIF(C66,"*Maintenance Imprimantes*"),COUNTIF(C66,"*Maintenance RF*"),COUNTIF(C66,"*Manutention*"),COUNTIF(C66,"*Nettoyage*"),COUNTIF(C66,"*Opérateurs téléphoniques - Fixe*"),COUNTIF(C66,"*Opérateurs téléphoniques - Mobile*"),COUNTIF(C66,"*Racks*"),COUNTIF(C66,"*Sécurité Incendie*"),COUNTIF(C66,"*Services Généraux*"),COUNTIF(C66,"*Signalétique / Management visuel*"),COUNTIF(C66,"*Traitement des Déchets*"),COUNTIF(C66,"*Vêtement de Travail*"),COUNTIF(C66,"*Multi Functionnal Print*")),"Oui","Non") -> Oui | G66: Oui | H66: 1 | I66: 1 | J66: 1 | K66: 1 | L66: 1 | M66: 43732 | N66: 2019 | O66: T3/2019 | P66: Christian Bernard | R66: =VLOOKUP(C66,'[1]Familles d''Achats'!A$2:B$26,2,TRUE) -> Marie-Helene Denaux | T66: NF | U66: HASSIA
A67: Pourpy | B67: Nord | C67: Multi Functionnal Print | D67: LP Services | E67: =IF(OR(COUNTIF(C67,"*Contrôles Règlementaires*"),COUNTIF(C67,"*Emballage - Carton*"),COUNTIF(C67,"*Emballage - Etiquettes*"),COUNTIF(C67,"*Emballage - Film*"),COUNTIF(C67,"*Emballage - Generaliste*"),COUNTIF(C67,"*Emballage - Palettes*"),COUNTIF(C67,"*Energies*"),COUNTIF(C67,"*EPI - Equipement Protection Individuelle*"),COUNTIF(C67,"*Formation*"),COUNTIF(C67,"*Fournitures Bureau*"),COUNTIF(C67,"*Gardiennage*"),COUNTIF(C67,"*Gaz chariots*"),COUNTIF(C67,"*Interim*"),COUNTIF(C67,"*Location de Voiture*"),COUNTIF(C67,"*Maintenance Imprimantes*"),COUNTIF(C67,"*Maintenance Imprimantes*"),COUNTIF(C67,"*Maintenance RF*"),COUNTIF(C67,"*Manutention*"),COUNTIF(C67,"*Nettoyage*"),COUNTIF(C67,"*Opérateurs téléphoniques - Fixe*"),COUNTIF(C67,"*Opérateurs téléphoniques - Mobile*"),COUNTIF(C67,"*Racks*"),COUNTIF(C67,"*Sécurité Incendie*"),COUNTIF(C67,"*Services Généraux*"),COUNTIF(C67,"*Signalétique / Management visuel*"),COUNTIF(C67,"*Traitement des Déchets*"),COUNTIF(C67,"*Vêtement de Travail*"),COUNTIF(C67,"*Multi Functionnal Print*")),"Oui","Non") -> Oui | G67: Oui | H67: 1.33 | I67: 1.33 | J67: 1.33 | K67: 1.33 | L67: 1.33 | M67: 43608 | N67: 2019 | O67: T2/2019 | P67: Sylvie Mathe | R67: =VLOOKUP(C67,'[1]Familles d''Achats'!A$2:B$26,2,TRUE) -> Marie-Helene Denaux | T67: AF
A68: Vitrolles 2 | B68: Sud | C68: Multi Functionnal Print | D68: LP Services | E68: =IF(OR(COUNTIF(C68,"*Contrôles Règlementaires*"),COUNTIF(C68,"*Emballage - Carton*"),COUNTIF(C68,"*Emballage - Etiquettes*"),COUNTIF(C68,"*Emballage - Film*"),COUNTIF(C68,"*Emballage - Generaliste*"),COUNTIF(C68,"*Emballage - Palettes*"),COUNTIF(C68,"*Energies*"),COUNTIF(C68,"*EPI - Equipement Protection Individuelle*"),COUNTIF(C68,"*Formation*"),COUNTIF(C68,"*Fournitures Bureau*"),COUNTIF(C68,"*Gardiennage*"),COUNTIF(C68,"*Gaz chariots*"),COUNTIF(C68,"*Interim*"),COUNTIF(C68,"*Location de Voiture*"),COUNTIF(C68,"*Maintenance Imprimantes*"),COUNTIF(C68,"*Maintenance Imprimantes*"),COUNTIF(C68,"*Maintenance RF*"),COUNTIF(C68,"*Manutention*"),COUNTIF(C68,"*Nettoyage*"),COUNTIF(C68,"*Opérateurs téléphoniques - Fixe*"),COUNTIF(C68,"*Opérateurs téléphoniques - Mobile*"),COUNTIF(C68,"*Racks*"),COUNTIF(C68,"*Sécurité Incendie*"),COUNTIF(C68,"*Services Généraux*"),COUNTIF(C68,"*Signalétique / Management visuel*"),COUNTIF(C68,"*Traitement des Déchets*"),COUNTIF(C68,"*Vêtement de Travail*"),COUNTIF(C68,"*Multi Functionnal Print*")),"Oui","Non") -> Oui | G68: Oui | H68: 1.33 | I68: 1.33 | J68: 1.33 | K68: 1.33 | L68: 1.33 | M68: 43555 | N68: 2019 | O68: T1/2019 | P68: S.Sagnelogue | R68: =VLOOKUP(C68,'[1]Familles d''Achats'!A$2:B$26,2,TRUE) -> Marie-Helene Denaux | T68: AF
A69: Vitrolles 2 | B69: Sud | C69: Multi Functionnal Print | D69: LP Services | E69: =IF(OR(COUNTIF(C69,"*Contrôles Règlementaires*"),COUNTIF(C69,"*Emballage - Carton*"),COUNTIF(C69,"*Emballage - Etiquettes*"),COUNTIF(C69,"*Emballage - Film*"),COUNTIF(C69,"*Emballage - Generaliste*"),COUNTIF(C69,"*Emballage - Palettes*"),COUNTIF(C69,"*Energies*"),COUNTIF(C69,"*EPI - Equipement Protection Individuelle*"),COUNTIF(C69,"*Formation*"),COUNTIF(C69,"*Fournitures Bureau*"),COUNTIF(C69,"*Gardiennage*"),COUNTIF(C69,"*Gaz chariots*"),COUNTIF(C69,"*Interim*"),COUNTIF(C69,"*Location de Voiture*"),COUNTIF(C69,"*Maintenance Imprimantes*"),COUNTIF(C69,"*Maintenance Imprimantes*"),COUNTIF(C69,"*Maintenance RF*"),COUNTIF(C69,"*Manutention*"),COUNTIF(C69,"*Nettoyage*"),COUNTIF(C69,"*Opérateurs téléphoniques - Fixe*"),COUNTIF(C69,"*Opérateurs téléphoniques - Mobile*"),COUNTIF(C69,"*Racks*"),COUNTIF(C69,"*Sécurité Incendie*"),COUNTIF(C69,"*Services Généraux*"),COUNTIF(C69,"*Signalétique / Management visuel*"),COUNTIF(C69,"*Traitement des Déchets*"),COUNTIF(C69,"*Vêtement de Travail*"),COUNTIF(C69,"*Multi Functionnal Print*")),"Oui","Non") -> Oui | G69: Oui | H69: 1.33 | I69: 1.33 | J69: 1.33 | K69: 1.33 | L69: 1.33 | M69: 43646 | N69: 2019 | O69: T2/2019 | P69: S.Sagnelogue | R69: =VLOOKUP(C69,'[1]Familles d''Achats'!A$2:B$26,2,TRUE) -> Marie-Helene Denaux | T69: AF
A70: Vitrolles 1 Lesieur | B70: Centre | C70: EPI - Equipement Protection Individuelle | D70: Mabeo | E70: =IF(OR(COUNTIF(C70,"*Contrôles Règlementaires*"),COUNTIF(C70,"*Emballage - Carton*"),COUNTIF(C70,"*Emballage - Etiquettes*"),COUNTIF(C70,"*Emballage - Film*"),COUNTIF(C70,"*Emballage - Generaliste*"),COUNTIF(C70,"*Emballage - Palettes*"),COUNTIF(C70,"*Energies*"),COUNTIF(C70,"*EPI - Equipement Protection Individuelle*"),COUNTIF(C70,"*Formation*"),COUNTIF(C70,"*Fournitures Bureau*"),COUNTIF(C70,"*Gardiennage*"),COUNTIF(C70,"*Gaz chariots*"),COUNTIF(C70,"*Interim*"),COUNTIF(C70,"*Location de Voiture*"),COUNTIF(C70,"*Maintenance Imprimantes*"),COUNTIF(C70,"*Maintenance Imprimantes*"),COUNTIF(C70,"*Maintenance RF*"),COUNTIF(C70,"*Manutention*"),COUNTIF(C70,"*Nettoyage*"),COUNTIF(C70,"*Opérateurs téléphoniques - Fixe*"),COUNTIF(C70,"*Opérateurs téléphoniques - Mobile*"),COUNTIF(C70,"*Racks*"),COUNTIF(C70,"*Sécurité Incendie*"),COUNTIF(C70,"*Services Généraux*"),COUNTIF(C70,"*Signalétique / Management visuel*"),COUNTIF(C70,"*Traitement des Déchets*"),COUNTIF(C70,"*Vêtement de Travail*"),COUNTIF(C70,"*Multi Functionnal Print*")),"Oui","Non") -> Oui | G70: Oui | H70: 3 | I70: 3 | J70: 1 | L70: 1.75 | M70: 43733 | N70: 2019 | O70: T3/2019 | P70: Christel Veglia | R70: =VLOOKUP(C70,'[1]Familles d''Achats'!A$2:B$26,2,TRUE) -> Claire Martin | S70: pas d'accompagnement commercial | T70: NF | U70: HASSIA
A71: Réau | B71: Nord | C71: Interim | D71: Manpower | E71: =IF(OR(COUNTIF(C71,"*Contrôles Règlementaires*"),COUNTIF(C71,"*Emballage - Carton*"),COUNTIF(C71,"*Emballage - Etiquettes*"),COUNTIF(C71,"*Emballage - Film*"),COUNTIF(C71,"*Emballage - Generaliste*"),COUNTIF(C71,"*Emballage - Palettes*"),COUNTIF(C71,"*Energies*"),COUNTIF(C71,"*EPI - Equipement Protection Individuelle*"),COUNTIF(C71,"*Formation*"),COUNTIF(C71,"*Fournitures Bureau*"),COUNTIF(C71,"*Gardiennage*"),COUNTIF(C71,"*Gaz chariots*"),COUNTIF(C71,"*Interim*"),COUNTIF(C71,"*Location de Voiture*"),COUNTIF(C71,"*Maintenance Imprimantes*"),COUNTIF(C71,"*Maintenance Imprimantes*"),COUNTIF(C71,"*Maintenance RF*"),COUNTIF(C71,"*Manutention*"),COUNTIF(C71,"*Nettoyage*"),COUNTIF(C71,"*Opérateurs téléphoniques - Fixe*"),COUNTIF(C71,"*Opérateurs téléphoniques - Mobile*"),COUNTIF(C71,"*Racks*"),COUNTIF(C71,"*Sécurité Incendie*"),COUNTIF(C71,"*Services Généraux*"),COUNTIF(C71,"*Signalétique / Management visuel*"),COUNTIF(C71,"*Traitement des Déchets*"),COUNTIF(C71,"*Vêtement de Travail*"),COUNTIF(C71,"*Multi Functionnal Print*")),"Oui","Non") -> Oui | G71: Oui | H71: 1 | I71: 1 | J71: 1 | K71: 1 | L71: =AVERAGE(H71:K71) -> 1 | N71: 2019 | O71: T3/2019 | Q71: Stéphanie Sagnelonge | R71: =VLOOKUP(C71,'[1]Familles d''Achats'!A$2:B$26,2,TRUE) -> Claire Martin | S71: ne répond plus aux demandes suite à la mise en place d'une nouvelle procédure pour l'intégration des intérimaires | T71: NF | U71: HASSIA
A72: Bruyeres sur Oise | B72: Nord | C72: Services Généraux | D72: NFI | E72: =IF(OR(COUNTIF(C72,"*Contrôles Règlementaires*"),COUNTIF(C72,"*Emballage - Carton*"),COUNTIF(C72,"*Emballage - Etiquettes*"),COUNTIF(C72,"*Emballage - Film*"),COUNTIF(C72,"*Emballage - Generaliste*"),COUNTIF(C72,"*Emballage - Palettes*"),COUNTIF(C72,"*Energies*"),COUNTIF(C72,"*EPI - Equipement Protection Individuelle*"),COUNTIF(C72,"*Formation*"),COUNTIF(C72,"*Fournitures Bureau*"),COUNTIF(C72,"*Gardiennage*"),COUNTIF(C72,"*Gaz chariots*"),COUNTIF(C72,"*Interim*"),COUNTIF(C72,"*Location de Voiture*"),COUNTIF(C72,"*Maintenance Imprimantes*"),COUNTIF(C72,"*Maintenance Imprimantes*"),COUNTIF(C72,"*Maintenance RF*"),COUNTIF(C72,"*Manutention*"),COUNTIF(C72,"*Nettoyage*"),COUNTIF(C72,"*Opérateurs téléphoniques - Fixe*"),COUNTIF(C72,"*Opérateurs téléphoniques - Mobile*"),COUNTIF(C72,"*Racks*"),COUNTIF(C72,"*Sécurité Incendie*"),COUNTIF(C72,"*Services Généraux*"),COUNTIF(C72,"*Signalétique / Management visuel*"),COUNTIF(C72,"*Traitement des Déchets*"),COUNTIF(C72,"*Vêtement de Travail*"),COUNTIF(C72,"*Multi Functionnal Print*")),"Oui","Non") -> Oui | G72: Non | H72: 1.33 | I72: 2.67 | J72: 1.33 | L72: =AVERAGE(H72:K72) -> 1.7766667 | M72: 43555 | N72: 2019 | O72: T1/2019 | P72: S.Sagnelogue | R72: =VLOOKUP(C72,'[1]Familles d''Achats'!A$2:B$26,2,TRUE) -> Valérie Jouhaud | S72: T1 : Délai d'intervention long / CDC / Délai de réponse aux mails important manque d'information sur la date de passaage sur le site | T72: AF
A73: Artenay | B73: Centre | C73: Services Généraux | D73: Oldham | E73: =IF(OR(COUNTIF(C73,"*Contrôles Règlementaires*"),COUNTIF(C73,"*Emballage - Carton*"),COUNTIF(C73,"*Emballage - Etiquettes*"),COUNTIF(C73,"*Emballage - Film*"),COUNTIF(C73,"*Emballage - Generaliste*"),COUNTIF(C73,"*Emballage - Palettes*"),COUNTIF(C73,"*Energies*"),COUNTIF(C73,"*EPI - Equipement Protection Individuelle*"),COUNTIF(C73,"*Formation*"),COUNTIF(C73,"*Fournitures Bureau*"),COUNTIF(C73,"*Gardiennage*"),COUNTIF(C73,"*Gaz chariots*"),COUNTIF(C73,"*Interim*"),COUNTIF(C73,"*Location de Voiture*"),COUNTIF(C73,"*Maintenance Imprimantes*"),COUNTIF(C73,"*Maintenance Imprimantes*"),COUNTIF(C73,"*Maintenance RF*"),COUNTIF(C73,"*Manutention*"),COUNTIF(C73,"*Nettoyage*"),COUNTIF(C73,"*Opérateurs téléphoniques - Fixe*"),COUNTIF(C73,"*Opérateurs téléphoniques - Mobile*"),COUNTIF(C73,"*Racks*"),COUNTIF(C73,"*Sécurité Incendie*"),COUNTIF(C73,"*Services Généraux*"),COUNTIF(C73,"*Signalétique / Management visuel*"),COUNTIF(C73,"*Traitement des Déchets*"),COUNTIF(C73,"*Vêtement de Travail*"),COUNTIF(C73,"*Multi Functionnal Print*")),"Oui","Non") -> Oui | G73: Non | H73: 1.33 | I73: 1.33 | J73: 1.33 | K73: 1.33 | L73: 1.33 | M73: 43555 | N73: 2019 | O73: T1/2019 | P73: Marion Fernandes | R73: =VLOOKUP(C73,'[1]Familles d''Achats'!A$2:B$26,2,TRUE) -> Valérie Jouhaud | T73: AF
A74: Artenay | B74: Centre | C74: Services Généraux | D74: Oldham | E74: =IF(OR(COUNTIF(C74,"*Contrôles Règlementaires*"),COUNTIF(C74,"*Emballage - Carton*"),COUNTIF(C74,"*Emballage - Etiquettes*"),COUNTIF(C74,"*Emballage - Film*"),COUNTIF(C74,"*Emballage - Generaliste*"),COUNTIF(C74,"*Emballage - Palettes*"),COUNTIF(C74,"*Energies*"),COUNTIF(C74,"*EPI - Equipement Protection Individuelle*"),COUNTIF(C74,"*Formation*"),COUNTIF(C74,"*Fournitures Bureau*"),COUNTIF(C74,"*Gardiennage*"),COUNTIF(C74,"*Gaz chariots*"),COUNTIF(C74,"*Interim*"),COUNTIF(C74,"*Location de Voiture*"),COUNTIF(C74,"*Maintenance Imprimantes*"),COUNTIF(C74,"*Maintenance Imprimantes*"),COUNTIF(C74,"*Maintenance RF*"),COUNTIF(C74,"*Manutention*"),COUNTIF(C74,"*Nettoyage*"),COUNTIF(C74,"*Opérateurs téléphoniques - Fixe*"),COUNTIF(C74,"*Opérateurs téléphoniques - Mobile*"),COUNTIF(C74,"*Racks*"),COUNTIF(C74,"*Sécurité Incendie*"),COUNTIF(C74,"*Services Généraux*"),COUNTIF(C74,"*Signalétique / Management visuel*"),COUNTIF(C74,"*Traitement des Déchets*"),COUNTIF(C74,"*Vêtement de Travail*"),COUNTIF(C74,"*Multi Functionnal Print*")),"Oui","Non") -> Oui | G74: Non | H74: 1.33 | I74: 1.33 | J74: 1.33 | K74: 1.33 | L74: 1.33 | M74: 43608 | N74: 2019 | O74: T2/2019 | P74: Marion Fernandes | R74: =VLOOKUP(C74,'[1]Familles d''Achats'!A$2:B$26,2,TRUE) -> Valérie Jouhaud | T74: AF
A75: Saint Vulbas Biomérieux Horiba | B75: Sud | C75: Nettoyage | D75: Onet | E75: =IF(OR(COUNTIF(C75,"*Contrôles Règlementaires*"),COUNTIF(C75,"*Emballage - Carton*"),COUNTIF(C75,"*Emballage - Etiquettes*"),COUNTIF(C75,"*Emballage - Film*"),COUNTIF(C75,"*Emballage - Generaliste*"),COUNTIF(C75,"*Emballage - Palettes*"),COUNTIF(C75,"*Energies*"),COUNTIF(C75,"*EPI - Equipement Protection Individuelle*"),COUNTIF(C75,"*Formation*"),COUNTIF(C75,"*Fournitures Bureau*"),COUNTIF(C75,"*Gardiennage*"),COUNTIF(C75,"*Gaz chariots*"),COUNTIF(C75,"*Interim*"),COUNTIF(C75,"*Location de Voiture*"),COUNTIF(C75,"*Maintenance Imprimantes*"),COUNTIF(C75,"*Maintenance Imprimantes*"),COUNTIF(C75,"*Maintenance RF*"),COUNTIF(C75,"*Manutention*"),COUNTIF(C75,"*Nettoyage*"),COUNTIF(C75,"*Opérateurs téléphoniques - Fixe*"),COUNTIF(C75,"*Opérateurs téléphoniques - Mobile*"),COUNTIF(C75,"*Racks*"),COUNTIF(C75,"*Sécurité Incendie*"),COUNTIF(C75,"*Services Généraux*"),COUNTIF(C75,"*Signalétique / Management visuel*"),COUNTIF(C75,"*Traitement des Déchets*"),COUNTIF(C75,"*Vêtement de Travail*"),COUNTIF(C75,"*Multi Functionnal Print*")),"Oui","Non") -> Oui | G75: Oui | L75: 1.33 | M75: 43646 | N75: 2019 | O75: T2/2019 | P75: S.Sagnelogue | R75: =VLOOKUP(C75,'[1]Familles d''Achats'!A$2:B$26,2,TRUE) -> Valérie Jouhaud | S75: Le 27/03 absence transmise au prestataire par XPO | T75: AF
A76: Beaulieu sur Layon | B76: Centre | C76: Nettoyage | D76: Onet | E76: =IF(OR(COUNTIF(C76,"*Contrôles Règlementaires*"),COUNTIF(C76,"*Emballage - Carton*"),COUNTIF(C76,"*Emballage - Etiquettes*"),COUNTIF(C76,"*Emballage - Film*"),COUNTIF(C76,"*Emballage - Generaliste*"),COUNTIF(C76,"*Emballage - Palettes*"),COUNTIF(C76,"*Energies*"),COUNTIF(C76,"*EPI - Equipement Protection Individuelle*"),COUNTIF(C76,"*Formation*"),COUNTIF(C76,"*Fournitures Bureau*"),COUNTIF(C76,"*Gardiennage*"),COUNTIF(C76,"*Gaz chariots*"),COUNTIF(C76,"*Interim*"),COUNTIF(C76,"*Location de Voiture*"),COUNTIF(C76,"*Maintenance Imprimantes*"),COUNTIF(C76,"*Maintenance Imprimantes*"),COUNTIF(C76,"*Maintenance RF*"),COUNTIF(C76,"*Manutention*"),COUNTIF(C76,"*Nettoyage*"),COUNTIF(C76,"*Opérateurs téléphoniques - Fixe*"),COUNTIF(C76,"*Opérateurs téléphoniques - Mobile*"),COUNTIF(C76,"*Racks*"),COUNTIF(C76,"*Sécurité Incendie*"),COUNTIF(C76,"*Services Généraux*"),COUNTIF(C76,"*Signalétique / Management visuel*"),COUNTIF(C76,"*Traitement des Déchets*"),COUNTIF(C76,"*Vêtement de Travail*"),COUNTIF(C76,"*Multi Functionnal Print*")),"Oui","Non") -> Oui | G76: Oui | H76: 1.33 | I76: =3/4*3 -> 2.25 | J76: 1.33 | K76: 1.33 | L76: 1.56 | M76: 43555 | N76: 2019 | O76: T1/2019 | R76: =VLOOKUP(C76,'[1]Familles d''Achats'!A$2:B$26,2,TRUE) -> Valérie Jouhaud | T76: AF
A77: Saint Georges d'Esperanche | B77: Centre | C77: Opérateurs téléphoniques - Fixe | D77: Orange | E77: =IF(OR(COUNTIF(C77,"*Contrôles Règlementaires*"),COUNTIF(C77,"*Emballage - Carton*"),COUNTIF(C77,"*Emballage - Etiquettes*"),COUNTIF(C77,"*Emballage - Film*"),COUNTIF(C77,"*Emballage - Generaliste*"),COUNTIF(C77,"*Emballage - Palettes*"),COUNTIF(C77,"*Energies*"),COUNTIF(C77,"*EPI - Equipement Protection Individuelle*"),COUNTIF(C77,"*Formation*"),COUNTIF(C77,"*Fournitures Bureau*"),COUNTIF(C77,"*Gardiennage*"),COUNTIF(C77,"*Gaz chariots*"),COUNTIF(C77,"*Interim*"),COUNTIF(C77,"*Location de Voiture*"),COUNTIF(C77,"*Maintenance Imprimantes*"),COUNTIF(C77,"*Maintenance Imprimantes*"),COUNTIF(C77,"*Maintenance RF*"),COUNTIF(C77,"*Manutention*"),COUNTIF(C77,"*Nettoyage*"),COUNTIF(C77,"*Opérateurs téléphoniques - Fixe*"),COUNTIF(C77,"*Opérateurs téléphoniques - Mobile*"),COUNTIF(C77,"*Racks*"),COUNTIF(C77,"*Sécurité Incendie*"),COUNTIF(C77,"*Services Généraux*"),COUNTIF(C77,"*Signalétique / Management visuel*"),COUNTIF(C77,"*Traitement des Déchets*"),COUNTIF(C77,"*Vêtement de Travail*"),COUNTIF(C77,"*Multi Functionnal Print*")),"Oui","Non") -> Oui | G77: Oui | H77: 1 | I77: 1 | J77: 1 | K77: 3 | L77: 1.5 | M77: 43728 | N77: 2019 | O77: T1/2019 | P77: Lauriane Arizzi | R77: =VLOOKUP(C77,'[1]Familles d''Achats'!A$2:B$26,2,TRUE) -> Zohra Bridja | T77: NF | U77: HASSIA
A78: Saint Georges d'Esperanche | B78: Centre | C78: Opérateurs téléphoniques - Fixe | D78: Orange | E78: =IF(OR(COUNTIF(C78,"*Contrôles Règlementaires*"),COUNTIF(C78,"*Emballage - Carton*"),COUNTIF(C78,"*Emballage - Etiquettes*"),COUNTIF(C78,"*Emballage - Film*"),COUNTIF(C78,"*Emballage - Generaliste*"),COUNTIF(C78,"*Emballage - Palettes*"),COUNTIF(C78,"*Energies*"),COUNTIF(C78,"*EPI - Equipement Protection Individuelle*"),COUNTIF(C78,"*Formation*"),COUNTIF(C78,"*Fournitures Bureau*"),COUNTIF(C78,"*Gardiennage*"),COUNTIF(C78,"*Gaz chariots*"),COUNTIF(C78,"*Interim*"),COUNTIF(C78,"*Location de Voiture*"),COUNTIF(C78,"*Maintenance Imprimantes*"),COUNTIF(C78,"*Maintenance Imprimantes*"),COUNTIF(C78,"*Maintenance RF*"),COUNTIF(C78,"*Manutention*"),COUNTIF(C78,"*Nettoyage*"),COUNTIF(C78,"*Opérateurs téléphoniques - Fixe*"),COUNTIF(C78,"*Opérateurs téléphoniques - Mobile*"),COUNTIF(C78,"*Racks*"),COUNTIF(C78,"*Sécurité Incendie*"),COUNTIF(C78,"*Services Généraux*"),COUNTIF(C78,"*Signalétique / Management visuel*"),COUNTIF(C78,"*Traitement des Déchets*"),COUNTIF(C78,"*Vêtement de Travail*"),COUNTIF(C78,"*Multi Functionnal Print*")),"Oui","Non") -> Oui | G78: Oui | H78: 1 | I78: 1 | J78: 1 | K78: 3 | L78: 1.5 | M78: 43728 | N78: 2019 | O78: T2/2019 | P78: Lauriane Arizzi | Q78: Jean-Luc Blein; Cécile Dompietrini; Fabien Court; David Besson | R78: =VLOOKUP(C78,'[1]Familles d''Achats'!A$2:B$26,2,TRUE) -> Zohra Bridja | T78: NF | U78: HASSIA
A79: Thuit Hebert | B79: Nord | C79: Opérateurs téléphoniques - Fixe | D79: Orange | E79: =IF(OR(COUNTIF(C79,"*Contrôles Règlementaires*"),COUNTIF(C79,"*Emballage - Carton*"),COUNTIF(C79,"*Emballage - Etiquettes*"),COUNTIF(C79,"*Emballage - Film*"),COUNTIF(C79,"*Emballage - Generaliste*"),COUNTIF(C79,"*Emballage - Palettes*"),COUNTIF(C79,"*Energies*"),COUNTIF(C79,"*EPI - Equipement Protection Individuelle*"),COUNTIF(C79,"*Formation*"),COUNTIF(C79,"*Fournitures Bureau*"),COUNTIF(C79,"*Gardiennage*"),COUNTIF(C79,"*Gaz chariots*"),COUNTIF(C79,"*Interim*"),COUNTIF(C79,"*Location de Voiture*"),COUNTIF(C79,"*Maintenance Imprimantes*"),COUNTIF(C79,"*Maintenance Imprimantes*"),COUNTIF(C79,"*Maintenance RF*"),COUNTIF(C79,"*Manutention*"),COUNTIF(C79,"*Nettoyage*"),COUNTIF(C79,"*Opérateurs téléphoniques - Fixe*"),COUNTIF(C79,"*Opérateurs téléphoniques - Mobile*"),COUNTIF(C79,"*Racks*"),COUNTIF(C79,"*Sécurité Incendie*"),COUNTIF(C79,"*Services Généraux*"),COUNTIF(C79,"*Signalétique / Management visuel*"),COUNTIF(C79,"*Traitement des Déchets*"),COUNTIF(C79,"*Vêtement de Travail*"),COUNTIF(C79,"*Multi Functionnal Print*")),"Oui","Non") -> Oui | G79: Oui | I79: 1 | J79: 3 | L79: 1 | M79: 43741 | N79: 2019 | O79: T3/2019 | P79: Isabelle Lamure | R79: =VLOOKUP(C79,'[1]Familles d''Achats'!A$2:B$26,2,TRUE) -> Zohra Bridja | S79: panne pdt 1 jour d'internet en sept- intervnetion et com avec orange a été faite avec M Marquenty- il nous donnait infos avec le grd compte orange | T79: NF | U79: HASSIA
A80: Bruyeres sur Oise | B80: Centre | C80: Interim | D80: Planett Gel | E80: =IF(OR(COUNTIF(C80,"*Contrôles Règlementaires*"),COUNTIF(C80,"*Emballage - Carton*"),COUNTIF(C80,"*Emballage - Etiquettes*"),COUNTIF(C80,"*Emballage - Film*"),COUNTIF(C80,"*Emballage - Generaliste*"),COUNTIF(C80,"*Emballage - Palettes*"),COUNTIF(C80,"*Energies*"),COUNTIF(C80,"*EPI - Equipement Protection Individuelle*"),COUNTIF(C80,"*Formation*"),COUNTIF(C80,"*Fournitures Bureau*"),COUNTIF(C80,"*Gardiennage*"),COUNTIF(C80,"*Gaz chariots*"),COUNTIF(C80,"*Interim*"),COUNTIF(C80,"*Location de Voiture*"),COUNTIF(C80,"*Maintenance Imprimantes*"),COUNTIF(C80,"*Maintenance Imprimantes*"),COUNTIF(C80,"*Maintenance RF*"),COUNTIF(C80,"*Manutention*"),COUNTIF(C80,"*Nettoyage*"),COUNTIF(C80,"*Opérateurs téléphoniques - Fixe*"),COUNTIF(C80,"*Opérateurs téléphoniques - Mobile*"),COUNTIF(C80,"*Racks*"),COUNTIF(C80,"*Sécurité Incendie*"),COUNTIF(C80,"*Services Généraux*"),COUNTIF(C80,"*Signalétique / Management visuel*"),COUNTIF(C80,"*Traitement des Déchets*"),COUNTIF(C80,"*Vêtement de Travail*"),COUNTIF(C80,"*Multi Functionnal Print*")),"Oui","Non") -> Oui | G80: Oui | H80: 3 | I80: 2 | J80: 1 | L80: 1.5 | M80: 43752 | N80: 2019 | O80: T3/2019 | P80: Caroline Peixoto | R80: =VLOOKUP(C80,'[1]Familles d''Achats'!A$2:B$26,2,TRUE) -> Claire Martin | S80: pb qualité et faible proposition nb contrats <5% | T80: NF | U80: HASSIA
A81: Saint Vulbas l'Oreal Logistique | B81: Centre | C81: Interim | D81: Planett Gel | E81: =IF(OR(COUNTIF(C81,"*Contrôles Règlementaires*"),COUNTIF(C81,"*Emballage - Carton*"),COUNTIF(C81,"*Emballage - Etiquettes*"),COUNTIF(C81,"*Emballage - Film*"),COUNTIF(C81,"*Emballage - Generaliste*"),COUNTIF(C81,"*Emballage - Palettes*"),COUNTIF(C81,"*Energies*"),COUNTIF(C81,"*EPI - Equipement Protection Individuelle*"),COUNTIF(C81,"*Formation*"),COUNTIF(C81,"*Fournitures Bureau*"),COUNTIF(C81,"*Gardiennage*"),COUNTIF(C81,"*Gaz chariots*"),COUNTIF(C81,"*Interim*"),COUNTIF(C81,"*Location de Voiture*"),COUNTIF(C81,"*Maintenance Imprimantes*"),COUNTIF(C81,"*Maintenance Imprimantes*"),COUNTIF(C81,"*Maintenance RF*"),COUNTIF(C81,"*Manutention*"),COUNTIF(C81,"*Nettoyage*"),COUNTIF(C81,"*Opérateurs téléphoniques - Fixe*"),COUNTIF(C81,"*Opérateurs téléphoniques - Mobile*"),COUNTIF(C81,"*Racks*"),COUNTIF(C81,"*Sécurité Incendie*"),COUNTIF(C81,"*Services Généraux*"),COUNTIF(C81,"*Signalétique / Management visuel*"),COUNTIF(C81,"*Traitement des Déchets*"),COUNTIF(C81,"*Vêtement de Travail*"),COUNTIF(C81,"*Multi Functionnal Print*")),"Oui","Non") -> Oui | G81: Oui | H81: 1 | I81: 1 | J81: 1 | K81: 2 | L81: 1.25 | M81: 43732 | N81: 2019 | O81: T3/2019 | P81: Christian Bernard | R81: =VLOOKUP(C81,'[1]Familles d''Achats'!A$2:B$26,2,TRUE) -> Claire Martin | T81: NF | U81: HASSIA
A82: Artenay | B82: Centre | C82: Sécurité Incendie | D82: Portafeu | E82: =IF(OR(COUNTIF(C82,"*Contrôles Règlementaires*"),COUNTIF(C82,"*Emballage - Carton*"),COUNTIF(C82,"*Emballage - Etiquettes*"),COUNTIF(C82,"*Emballage - Film*"),COUNTIF(C82,"*Emballage - Generaliste*"),COUNTIF(C82,"*Emballage - Palettes*"),COUNTIF(C82,"*Energies*"),COUNTIF(C82,"*EPI - Equipement Protection Individuelle*"),COUNTIF(C82,"*Formation*"),COUNTIF(C82,"*Fournitures Bureau*"),COUNTIF(C82,"*Gardiennage*"),COUNTIF(C82,"*Gaz chariots*"),COUNTIF(C82,"*Interim*"),COUNTIF(C82,"*Location de Voiture*"),COUNTIF(C82,"*Maintenance Imprimantes*"),COUNTIF(C82,"*Maintenance Imprimantes*"),COUNTIF(C82,"*Maintenance RF*"),COUNTIF(C82,"*Manutention*"),COUNTIF(C82,"*Nettoyage*"),COUNTIF(C82,"*Opérateurs téléphoniques - Fixe*"),COUNTIF(C82,"*Opérateurs téléphoniques - Mobile*"),COUNTIF(C82,"*Racks*"),COUNTIF(C82,"*Sécurité Incendie*"),COUNTIF(C82,"*Services Généraux*"),COUNTIF(C82,"*Signalétique / Management visuel*"),COUNTIF(C82,"*Traitement des Déchets*"),COUNTIF(C82,"*Vêtement de Travail*"),COUNTIF(C82,"*Multi Functionnal Print*")),"Oui","Non") -> Oui | G82: Non | H82: 1.33 | I82: 1.33 | J82: 1.33 | K82: 1.33 | L82: 1.33 | M82: 43555 | N82: 2019 | O82: T1/2019 | P82: Marion Fernandes | R82: =VLOOKUP(C82,'[1]Familles d''Achats'!A$2:B$26,2,TRUE) -> Valérie Jouhaud | T82: AF
A83: Artenay | B83: Centre | C83: Sécurité Incendie | D83: Portafeu | E83: =IF(OR(COUNTIF(C83,"*Contrôles Règlementaires*"),COUNTIF(C83,"*Emballage - Carton*"),COUNTIF(C83,"*Emballage - Etiquettes*"),COUNTIF(C83,"*Emballage - Film*"),COUNTIF(C83,"*Emballage - Generaliste*"),COUNTIF(C83,"*Emballage - Palettes*"),COUNTIF(C83,"*Energies*"),COUNTIF(C83,"*EPI - Equipement Protection Individuelle*"),COUNTIF(C83,"*Formation*"),COUNTIF(C83,"*Fournitures Bureau*"),COUNTIF(C83,"*Gardiennage*"),COUNTIF(C83,"*Gaz chariots*"),COUNTIF(C83,"*Interim*"),COUNTIF(C83,"*Location de Voiture*"),COUNTIF(C83,"*Maintenance Imprimantes*"),COUNTIF(C83,"*Maintenance Imprimantes*"),COUNTIF(C83,"*Maintenance RF*"),COUNTIF(C83,"*Manutention*"),COUNTIF(C83,"*Nettoyage*"),COUNTIF(C83,"*Opérateurs téléphoniques - Fixe*"),COUNTIF(C83,"*Opérateurs téléphoniques - Mobile*"),COUNTIF(C83,"*Racks*"),COUNTIF(C83,"*Sécurité Incendie*"),COUNTIF(C83,"*Services Généraux*"),COUNTIF(C83,"*Signalétique / Management visuel*"),COUNTIF(C83,"*Traitement des Déchets*"),COUNTIF(C83,"*Vêtement de Travail*"),COUNTIF(C83,"*Multi Functionnal Print*")),"Oui","Non") -> Oui | G83: Non | H83: 1.33 | I83: 1.33 | J83: 1.33 | K83: 1.33 | L83: 1.33 | M83: 43608 | N83: 2019 | O83: T2/2019 | P83: Marion Fernandes | R83: =VLOOKUP(C83,'[1]Familles d''Achats'!A$2:B$26,2,TRUE) -> Valérie Jouhaud | T83: AF
A84: Pourpy | B84: Nord | C84: Sécurité Incendie | D84: Portafeu | E84: =IF(OR(COUNTIF(C84,"*Contrôles Règlementaires*"),COUNTIF(C84,"*Emballage - Carton*"),COUNTIF(C84,"*Emballage - Etiquettes*"),COUNTIF(C84,"*Emballage - Film*"),COUNTIF(C84,"*Emballage - Generaliste*"),COUNTIF(C84,"*Emballage - Palettes*"),COUNTIF(C84,"*Energies*"),COUNTIF(C84,"*EPI - Equipement Protection Individuelle*"),COUNTIF(C84,"*Formation*"),COUNTIF(C84,"*Fournitures Bureau*"),COUNTIF(C84,"*Gardiennage*"),COUNTIF(C84,"*Gaz chariots*"),COUNTIF(C84,"*Interim*"),COUNTIF(C84,"*Location de Voiture*"),COUNTIF(C84,"*Maintenance Imprimantes*"),COUNTIF(C84,"*Maintenance Imprimantes*"),COUNTIF(C84,"*Maintenance RF*"),COUNTIF(C84,"*Manutention*"),COUNTIF(C84,"*Nettoyage*"),COUNTIF(C84,"*Opérateurs téléphoniques - Fixe*"),COUNTIF(C84,"*Opérateurs téléphoniques - Mobile*"),COUNTIF(C84,"*Racks*"),COUNTIF(C84,"*Sécurité Incendie*"),COUNTIF(C84,"*Services Généraux*"),COUNTIF(C84,"*Signalétique / Management visuel*"),COUNTIF(C84,"*Traitement des Déchets*"),COUNTIF(C84,"*Vêtement de Travail*"),COUNTIF(C84,"*Multi Functionnal Print*")),"Oui","Non") -> Oui | G84: Non | H84: 1.33 | I84: 1.33 | J84: 1.33 | K84: 1.33 | L84: 1.33 | M84: 43555 | N84: 2019 | O84: T1/2019 | P84: Sylvie Mathe | R84: =VLOOKUP(C84,'[1]Familles d''Achats'!A$2:B$26,2,TRUE) -> Valérie Jouhaud | T84: AF
A85: Pourpy | B85: Nord | C85: Sécurité Incendie | D85: Portafeu | E85: =IF(OR(COUNTIF(C85,"*Contrôles Règlementaires*"),COUNTIF(C85,"*Emballage - Carton*"),COUNTIF(C85,"*Emballage - Etiquettes*"),COUNTIF(C85,"*Emballage - Film*"),COUNTIF(C85,"*Emballage - Generaliste*"),COUNTIF(C85,"*Emballage - Palettes*"),COUNTIF(C85,"*Energies*"),COUNTIF(C85,"*EPI - Equipement Protection Individuelle*"),COUNTIF(C85,"*Formation*"),COUNTIF(C85,"*Fournitures Bureau*"),COUNTIF(C85,"*Gardiennage*"),COUNTIF(C85,"*Gaz chariots*"),COUNTIF(C85,"*Interim*"),COUNTIF(C85,"*Location de Voiture*"),COUNTIF(C85,"*Maintenance Imprimantes*"),COUNTIF(C85,"*Maintenance Imprimantes*"),COUNTIF(C85,"*Maintenance RF*"),COUNTIF(C85,"*Manutention*"),COUNTIF(C85,"*Nettoyage*"),COUNTIF(C85,"*Opérateurs téléphoniques - Fixe*"),COUNTIF(C85,"*Opérateurs téléphoniques - Mobile*"),COUNTIF(C85,"*Racks*"),COUNTIF(C85,"*Sécurité Incendie*"),COUNTIF(C85,"*Services Généraux*"),COUNTIF(C85,"*Signalétique / Management visuel*"),COUNTIF(C85,"*Traitement des Déchets*"),COUNTIF(C85,"*Vêtement de Travail*"),COUNTIF(C85,"*Multi Functionnal Print*")),"Oui","Non") -> Oui | G85: Non | H85: 1.33 | I85: 1.33 | J85: 1.33 | K85: 1.33 | L85: 1.33 | M85: 43608 | N85: 2019 | O85: T2/2019 | P85: Sylvie Mathe | R85: =VLOOKUP(C85,'[1]Familles d''Achats'!A$2:B$26,2,TRUE) -> Valérie Jouhaud | T85: AF
A86: Meung sur Loire | B86: Nord | C86: Sécurité Incendie | D86: Portafeu | E86: =IF(OR(COUNTIF(C86,"*Contrôles Règlementaires*"),COUNTIF(C86,"*Emballage - Carton*"),COUNTIF(C86,"*Emballage - Etiquettes*"),COUNTIF(C86,"*Emballage - Film*"),COUNTIF(C86,"*Emballage - Generaliste*"),COUNTIF(C86,"*Emballage - Palettes*"),COUNTIF(C86,"*Energies*"),COUNTIF(C86,"*EPI - Equipement Protection Individuelle*"),COUNTIF(C86,"*Formation*"),COUNTIF(C86,"*Fournitures Bureau*"),COUNTIF(C86,"*Gardiennage*"),COUNTIF(C86,"*Gaz chariots*"),COUNTIF(C86,"*Interim*"),COUNTIF(C86,"*Location de Voiture*"),COUNTIF(C86,"*Maintenance Imprimantes*"),COUNTIF(C86,"*Maintenance Imprimantes*"),COUNTIF(C86,"*Maintenance RF*"),COUNTIF(C86,"*Manutention*"),COUNTIF(C86,"*Nettoyage*"),COUNTIF(C86,"*Opérateurs téléphoniques - Fixe*"),COUNTIF(C86,"*Opérateurs téléphoniques - Mobile*"),COUNTIF(C86,"*Racks*"),COUNTIF(C86,"*Sécurité Incendie*"),COUNTIF(C86,"*Services Généraux*"),COUNTIF(C86,"*Signalétique / Management visuel*"),COUNTIF(C86,"*Traitement des Déchets*"),COUNTIF(C86,"*Vêtement de Travail*"),COUNTIF(C86,"*Multi Functionnal Print*")),"Oui","Non") -> Oui | G86: Non | H86: 1 | I86: 2 | J86: 1 | K86: 3 | L86: =AVERAGE(H86:K86) -> 1.75 | M86: 43767 | N86: 2019 | O86: T3/2019 | P86: Natacha Linet | Q86: Natacha Linet | R86: =VLOOKUP(C86,'[1]Familles d''Achats'!A$2:B$26,2,TRUE) -> Valérie Jouhaud | S86: Relance nécessaire pour obtenir devis après vérification annuelle + Délai d'intervention inadmissible (annuelle 03/2019 en 10/2019 pas réparation faite malgré un devis signé en avril 2019), livraison 2 fois de pièces non conformes pour remise en conformité | T86: NF | U86: HASSIA
A87: Pourpy | B87: Nord | C87: Contrôles règlementaires | D87: PRL | E87: =IF(OR(COUNTIF(C87,"*Contrôles Règlementaires*"),COUNTIF(C87,"*Emballage - Carton*"),COUNTIF(C87,"*Emballage - Etiquettes*"),COUNTIF(C87,"*Emballage - Film*"),COUNTIF(C87,"*Emballage - Generaliste*"),COUNTIF(C87,"*Emballage - Palettes*"),COUNTIF(C87,"*Energies*"),COUNTIF(C87,"*EPI - Equipement Protection Individuelle*"),COUNTIF(C87,"*Formation*"),COUNTIF(C87,"*Fournitures Bureau*"),COUNTIF(C87,"*Gardiennage*"),COUNTIF(C87,"*Gaz chariots*"),COUNTIF(C87,"*Interim*"),COUNTIF(C87,"*Location de Voiture*"),COUNTIF(C87,"*Maintenance Imprimantes*"),COUNTIF(C87,"*Maintenance Imprimantes*"),COUNTIF(C87,"*Maintenance RF*"),COUNTIF(C87,"*Manutention*"),COUNTIF(C87,"*Nettoyage*"),COUNTIF(C87,"*Opérateurs téléphoniques - Fixe*"),COUNTIF(C87,"*Opérateurs téléphoniques - Mobile*"),COUNTIF(C87,"*Racks*"),COUNTIF(C87,"*Sécurité Incendie*"),COUNTIF(C87,"*Services Généraux*"),COUNTIF(C87,"*Signalétique / Management visuel*"),COUNTIF(C87,"*Traitement des Déchets*"),COUNTIF(C87,"*Vêtement de Travail*"),COUNTIF(C87,"*Multi Functionnal Print*")),"Oui","Non") -> Oui | G87: Non | L87: 1.33 | M87: 43555 | N87: 2019 | O87: T1/2019 | P87: S.Sagnelogue | R87: =VLOOKUP(C87,'[1]Familles d''Achats'!A$2:B$26,2,TRUE) -> Valérie Jouhaud | T87: AF
A88: Pourpy | B88: Nord | C88: Contrôles règlementaires | D88: PRL | E88: =IF(OR(COUNTIF(C88,"*Contrôles Règlementaires*"),COUNTIF(C88,"*Emballage - Carton*"),COUNTIF(C88,"*Emballage - Etiquettes*"),COUNTIF(C88,"*Emballage - Film*"),COUNTIF(C88,"*Emballage - Generaliste*"),COUNTIF(C88,"*Emballage - Palettes*"),COUNTIF(C88,"*Energies*"),COUNTIF(C88,"*EPI - Equipement Protection Individuelle*"),COUNTIF(C88,"*Formation*"),COUNTIF(C88,"*Fournitures Bureau*"),COUNTIF(C88,"*Gardiennage*"),COUNTIF(C88,"*Gaz chariots*"),COUNTIF(C88,"*Interim*"),COUNTIF(C88,"*Location de Voiture*"),COUNTIF(C88,"*Maintenance Imprimantes*"),COUNTIF(C88,"*Maintenance Imprimantes*"),COUNTIF(C88,"*Maintenance RF*"),COUNTIF(C88,"*Manutention*"),COUNTIF(C88,"*Nettoyage*"),COUNTIF(C88,"*Opérateurs téléphoniques - Fixe*"),COUNTIF(C88,"*Opérateurs téléphoniques - Mobile*"),COUNTIF(C88,"*Racks*"),COUNTIF(C88,"*Sécurité Incendie*"),COUNTIF(C88,"*Services Généraux*"),COUNTIF(C88,"*Signalétique / Management visuel*"),COUNTIF(C88,"*Traitement des Déchets*"),COUNTIF(C88,"*Vêtement de Travail*"),COUNTIF(C88,"*Multi Functionnal Print*")),"Oui","Non") -> Oui | G88: Non | L88: 1.33 | M88: 43608 | N88: 2019 | O88: T2/2019 | P88: S.Sagnelogue | R88: =VLOOKUP(C88,'[1]Familles d''Achats'!A$2:B$26,2,TRUE) -> Valérie Jouhaud | T88: AF
A89: Vitrolles 2 | B89: Sud | C89: Interim | D89: Proman | E89: =IF(OR(COUNTIF(C89,"*Contrôles Règlementaires*"),COUNTIF(C89,"*Emballage - Carton*"),COUNTIF(C89,"*Emballage - Etiquettes*"),COUNTIF(C89,"*Emballage - Film*"),COUNTIF(C89,"*Emballage - Generaliste*"),COUNTIF(C89,"*Emballage - Palettes*"),COUNTIF(C89,"*Energies*"),COUNTIF(C89,"*EPI - Equipement Protection Individuelle*"),COUNTIF(C89,"*Formation*"),COUNTIF(C89,"*Fournitures Bureau*"),COUNTIF(C89,"*Gardiennage*"),COUNTIF(C89,"*Gaz chariots*"),COUNTIF(C89,"*Interim*"),COUNTIF(C89,"*Location de Voiture*"),COUNTIF(C89,"*Maintenance Imprimantes*"),COUNTIF(C89,"*Maintenance Imprimantes*"),COUNTIF(C89,"*Maintenance RF*"),COUNTIF(C89,"*Manutention*"),COUNTIF(C89,"*Nettoyage*"),COUNTIF(C89,"*Opérateurs téléphoniques - Fixe*"),COUNTIF(C89,"*Opérateurs téléphoniques - Mobile*"),COUNTIF(C89,"*Racks*"),COUNTIF(C89,"*Sécurité Incendie*"),COUNTIF(C89,"*Services Généraux*"),COUNTIF(C89,"*Signalétique / Management visuel*"),COUNTIF(C89,"*Traitement des Déchets*"),COUNTIF(C89,"*Vêtement de Travail*"),COUNTIF(C89,"*Multi Functionnal Print*")),"Oui","Non") -> Oui | G89: Oui | H89: 1.33 | I89: 1.33 | J89: 1.33 | K89: 1.33 | L89: 1.33 | M89: 43646 | N89: 2019 | O89: T2/2019 | P89: S.Sagnelogue | R89: =VLOOKUP(C89,'[1]Familles d''Achats'!A$2:B$26,2,TRUE) -> Claire Martin | T89: AF
A90: Vitrolles 2 | B90: Sud | C90: Interim | D90: Proman | E90: =IF(OR(COUNTIF(C90,"*Contrôles Règlementaires*"),COUNTIF(C90,"*Emballage - Carton*"),COUNTIF(C90,"*Emballage - Etiquettes*"),COUNTIF(C90,"*Emballage - Film*"),COUNTIF(C90,"*Emballage - Generaliste*"),COUNTIF(C90,"*Emballage - Palettes*"),COUNTIF(C90,"*Energies*"),COUNTIF(C90,"*EPI - Equipement Protection Individuelle*"),COUNTIF(C90,"*Formation*"),COUNTIF(C90,"*Fournitures Bureau*"),COUNTIF(C90,"*Gardiennage*"),COUNTIF(C90,"*Gaz chariots*"),COUNTIF(C90,"*Interim*"),COUNTIF(C90,"*Location de Voiture*"),COUNTIF(C90,"*Maintenance Imprimantes*"),COUNTIF(C90,"*Maintenance Imprimantes*"),COUNTIF(C90,"*Maintenance RF*"),COUNTIF(C90,"*Manutention*"),COUNTIF(C90,"*Nettoyage*"),COUNTIF(C90,"*Opérateurs téléphoniques - Fixe*"),COUNTIF(C90,"*Opérateurs téléphoniques - Mobile*"),COUNTIF(C90,"*Racks*"),COUNTIF(C90,"*Sécurité Incendie*"),COUNTIF(C90,"*Services Généraux*"),COUNTIF(C90,"*Signalétique / Management visuel*"),COUNTIF(C90,"*Traitement des Déchets*"),COUNTIF(C90,"*Vêtement de Travail*"),COUNTIF(C90,"*Multi Functionnal Print*")),"Oui","Non") -> Oui | G90: Oui | H90: 1.33 | I90: 1.33 | J90: 1.33 | K90: 1.33 | L90: 1.33 | M90: 43555 | N90: 2019 | O90: T1/2019 | P90: S.Sagnelogue | R90: =VLOOKUP(C90,'[1]Familles d''Achats'!A$2:B$26,2,TRUE) -> Claire Martin | T90: AF
A91: Saint Georges d'Esperanche | B91: Centre | C91: Interim | D91: Proman | E91: =IF(OR(COUNTIF(C91,"*Contrôles Règlementaires*"),COUNTIF(C91,"*Emballage - Carton*"),COUNTIF(C91,"*Emballage - Etiquettes*"),COUNTIF(C91,"*Emballage - Film*"),COUNTIF(C91,"*Emballage - Generaliste*"),COUNTIF(C91,"*Emballage - Palettes*"),COUNTIF(C91,"*Energies*"),COUNTIF(C91,"*EPI - Equipement Protection Individuelle*"),COUNTIF(C91,"*Formation*"),COUNTIF(C91,"*Fournitures Bureau*"),COUNTIF(C91,"*Gardiennage*"),COUNTIF(C91,"*Gaz chariots*"),COUNTIF(C91,"*Interim*"),COUNTIF(C91,"*Location de Voiture*"),COUNTIF(C91,"*Maintenance Imprimantes*"),COUNTIF(C91,"*Maintenance Imprimantes*"),COUNTIF(C91,"*Maintenance RF*"),COUNTIF(C91,"*Manutention*"),COUNTIF(C91,"*Nettoyage*"),COUNTIF(C91,"*Opérateurs téléphoniques - Fixe*"),COUNTIF(C91,"*Opérateurs téléphoniques - Mobile*"),COUNTIF(C91,"*Racks*"),COUNTIF(C91,"*Sécurité Incendie*"),COUNTIF(C91,"*Services Généraux*"),COUNTIF(C91,"*Signalétique / Management visuel*"),COUNTIF(C91,"*Traitement des Déchets*"),COUNTIF(C91,"*Vêtement de Travail*"),COUNTIF(C91,"*Multi Functionnal Print*")),"Oui","Non") -> Oui | G91: Oui | H91: 1 | I91: 1 | J91: 1 | K91: 3 | L91: 1.5 | M91: 43728 | N91: 2019 | O91: T1/2019 | P91: Lauriane Arizzi | R91: =VLOOKUP(C91,'[1]Familles d''Achats'!A$2:B$26,2,TRUE) -> Claire Martin | S91: malgré des demandes de personnel, aucun retour ni de proposition de candidat | T91: NF | U91: HASSIA
A92: Saint Georges d'Esperanche | B92: Centre | C92: Interim | D92: Proman | E92: =IF(OR(COUNTIF(C92,"*Contrôles Règlementaires*"),COUNTIF(C92,"*Emballage - Carton*"),COUNTIF(C92,"*Emballage - Etiquettes*"),COUNTIF(C92,"*Emballage - Film*"),COUNTIF(C92,"*Emballage - Generaliste*"),COUNTIF(C92,"*Emballage - Palettes*"),COUNTIF(C92,"*Energies*"),COUNTIF(C92,"*EPI - Equipement Protection Individuelle*"),COUNTIF(C92,"*Formation*"),COUNTIF(C92,"*Fournitures Bureau*"),COUNTIF(C92,"*Gardiennage*"),COUNTIF(C92,"*Gaz chariots*"),COUNTIF(C92,"*Interim*"),COUNTIF(C92,"*Location de Voiture*"),COUNTIF(C92,"*Maintenance Imprimantes*"),COUNTIF(C92,"*Maintenance Imprimantes*"),COUNTIF(C92,"*Maintenance RF*"),COUNTIF(C92,"*Manutention*"),COUNTIF(C92,"*Nettoyage*"),COUNTIF(C92,"*Opérateurs téléphoniques - Fixe*"),COUNTIF(C92,"*Opérateurs téléphoniques - Mobile*"),COUNTIF(C92,"*Racks*"),COUNTIF(C92,"*Sécurité Incendie*"),COUNTIF(C92,"*Services Généraux*"),COUNTIF(C92,"*Signalétique / Management visuel*"),COUNTIF(C92,"*Traitement des Déchets*"),COUNTIF(C92,"*Vêtement de Travail*"),COUNTIF(C92,"*Multi Functionnal Print*")),"Oui","Non") -> Oui | G92: Oui | H92: 1 | I92: 1 | J92: 1 | K92: 3 | L92: 1.5 | M92: 43728 | N92: 2019 | O92: T2/2019 | P92: Lauriane Arizzi | Q92: Jean-Luc Blein; Cécile Dompietrini; Fabien Court; David Besson | R92: =VLOOKUP(C92,'[1]Familles d''Achats'!A$2:B$26,2,TRUE) -> Claire Martin | S92: malgré des demandes de personnel, aucun retour ni de proposition de candidat | T92: NF | U92: HASSIA
A93: Satolas IDC22 (OSF/PEPSICO) | B93: Sud | C93: Interim | D93: Proman | E93: =IF(OR(COUNTIF(C93,"*Contrôles Règlementaires*"),COUNTIF(C93,"*Emballage - Carton*"),COUNTIF(C93,"*Emballage - Etiquettes*"),COUNTIF(C93,"*Emballage - Film*"),COUNTIF(C93,"*Emballage - Generaliste*"),COUNTIF(C93,"*Emballage - Palettes*"),COUNTIF(C93,"*Energies*"),COUNTIF(C93,"*EPI - Equipement Protection Individuelle*"),COUNTIF(C93,"*Formation*"),COUNTIF(C93,"*Fournitures Bureau*"),COUNTIF(C93,"*Gardiennage*"),COUNTIF(C93,"*Gaz chariots*"),COUNTIF(C93,"*Interim*"),COUNTIF(C93,"*Location de Voiture*"),COUNTIF(C93,"*Maintenance Imprimantes*"),COUNTIF(C93,"*Maintenance Imprimantes*"),COUNTIF(C93,"*Maintenance RF*"),COUNTIF(C93,"*Manutention*"),COUNTIF(C93,"*Nettoyage*"),COUNTIF(C93,"*Opérateurs téléphoniques - Fixe*"),COUNTIF(C93,"*Opérateurs téléphoniques - Mobile*"),COUNTIF(C93,"*Racks*"),COUNTIF(C93,"*Sécurité Incendie*"),COUNTIF(C93,"*Services Généraux*"),COUNTIF(C93,"*Signalétique / Management visuel*"),COUNTIF(C93,"*Traitement des Déchets*"),COUNTIF(C93,"*Vêtement de Travail*"),COUNTIF(C93,"*Multi Functionnal Print*")),"Oui","Non") -> Oui | G93: Oui | H93: 2 | I93: 2 | J93: 1 | K93: 2 | L93: =AVERAGE(H93:K93) -> 1.75 | N93: 2019 | O93: T3/2019 | P93: C.Feret | Q93: Thomas Courvallain | R93: =VLOOKUP(C93,'[1]Familles d''Achats'!A$2:B$26,2,TRUE) -> Claire Martin | S93: Tres peu d'affaire avec cette companie d'ETT - peu ou pas de proposition de candidat | T93: NF | U93: HASSIA
A94: Satolas IDC22 (OSF/PEPSICO) | B94: Sud | C94: Interim | D94: Proman | E94: =IF(OR(COUNTIF(C94,"*Contrôles Règlementaires*"),COUNTIF(C94,"*Emballage - Carton*"),COUNTIF(C94,"*Emballage - Etiquettes*"),COUNTIF(C94,"*Emballage - Film*"),COUNTIF(C94,"*Emballage - Generaliste*"),COUNTIF(C94,"*Emballage - Palettes*"),COUNTIF(C94,"*Energies*"),COUNTIF(C94,"*EPI - Equipement Protection Individuelle*"),COUNTIF(C94,"*Formation*"),COUNTIF(C94,"*Fournitures Bureau*"),COUNTIF(C94,"*Gardiennage*"),COUNTIF(C94,"*Gaz chariots*"),COUNTIF(C94,"*Interim*"),COUNTIF(C94,"*Location de Voiture*"),COUNTIF(C94,"*Maintenance Imprimantes*"),COUNTIF(C94,"*Maintenance Imprimantes*"),COUNTIF(C94,"*Maintenance RF*"),COUNTIF(C94,"*Manutention*"),COUNTIF(C94,"*Nettoyage*"),COUNTIF(C94,"*Opérateurs téléphoniques - Fixe*"),COUNTIF(C94,"*Opérateurs téléphoniques - Mobile*"),COUNTIF(C94,"*Racks*"),COUNTIF(C94,"*Sécurité Incendie*"),COUNTIF(C94,"*Services Généraux*"),COUNTIF(C94,"*Signalétique / Management visuel*"),COUNTIF(C94,"*Traitement des Déchets*"),COUNTIF(C94,"*Vêtement de Travail*"),COUNTIF(C94,"*Multi Functionnal Print*")),"Oui","Non") -> Oui | G94: Oui | H94: 2 | I94: 2 | J94: 1 | K94: 2 | L94: =AVERAGE(H94:K94) -> 1.75 | N94: 2019 | O94: T2/2019 | P94: C.Feret | Q94: Thomas Courvallain | R94: =VLOOKUP(C94,'[1]Familles d''Achats'!A$2:B$26,2,TRUE) -> Claire Martin | S94: Tres peu d'affaire avec cette companie d'ETT - peu ou pas de proposition de candidat | T94: NF | U94: HASSIA
A95: Satolas IDC22 (OSF/PEPSICO) | B95: Sud | C95: Interim | D95: Proman | E95: =IF(OR(COUNTIF(C95,"*Contrôles Règlementaires*"),COUNTIF(C95,"*Emballage - Carton*"),COUNTIF(C95,"*Emballage - Etiquettes*"),COUNTIF(C95,"*Emballage - Film*"),COUNTIF(C95,"*Emballage - Generaliste*"),COUNTIF(C95,"*Emballage - Palettes*"),COUNTIF(C95,"*Energies*"),COUNTIF(C95,"*EPI - Equipement Protection Individuelle*"),COUNTIF(C95,"*Formation*"),COUNTIF(C95,"*Fournitures Bureau*"),COUNTIF(C95,"*Gardiennage*"),COUNTIF(C95,"*Gaz chariots*"),COUNTIF(C95,"*Interim*"),COUNTIF(C95,"*Location de Voiture*"),COUNTIF(C95,"*Maintenance Imprimantes*"),COUNTIF(C95,"*Maintenance Imprimantes*"),COUNTIF(C95,"*Maintenance RF*"),COUNTIF(C95,"*Manutention*"),COUNTIF(C95,"*Nettoyage*"),COUNTIF(C95,"*Opérateurs téléphoniques - Fixe*"),COUNTIF(C95,"*Opérateurs téléphoniques - Mobile*"),COUNTIF(C95,"*Racks*"),COUNTIF(C95,"*Sécurité Incendie*"),COUNTIF(C95,"*Services Généraux*"),COUNTIF(C95,"*Signalétique / Management visuel*"),COUNTIF(C95,"*Traitement des Déchets*"),COUNTIF(C95,"*Vêtement de Travail*"),COUNTIF(C95,"*Multi Functionnal Print*")),"Oui","Non") -> Oui | G95: Oui | H95: 2 | I95: 2 | J95: 1 | K95: 2 | L95: =AVERAGE(H95:K95) -> 1.75 | N95: 2019 | O95: T1/2019 | P95: C.Feret | Q95: Thomas Courvallain | R95: =VLOOKUP(C95,'[1]Familles d''Achats'!A$2:B$26,2,TRUE) -> Claire Martin | S95: Tres peu d'affaire avec cette companie d'ETT - peu ou pas de proposition de candidat | T95: NF | U95: HASSIA
A96: MONTEUX (Orangina) | B96: Sud | C96: Nettoyage | D96: Proxim | E96: =IF(OR(COUNTIF(C96,"*Contrôles Règlementaires*"),COUNTIF(C96,"*Emballage - Carton*"),COUNTIF(C96,"*Emballage - Etiquettes*"),COUNTIF(C96,"*Emballage - Film*"),COUNTIF(C96,"*Emballage - Generaliste*"),COUNTIF(C96,"*Emballage - Palettes*"),COUNTIF(C96,"*Energies*"),COUNTIF(C96,"*EPI - Equipement Protection Individuelle*"),COUNTIF(C96,"*Formation*"),COUNTIF(C96,"*Fournitures Bureau*"),COUNTIF(C96,"*Gardiennage*"),COUNTIF(C96,"*Gaz chariots*"),COUNTIF(C96,"*Interim*"),COUNTIF(C96,"*Location de Voiture*"),COUNTIF(C96,"*Maintenance Imprimantes*"),COUNTIF(C96,"*Maintenance Imprimantes*"),COUNTIF(C96,"*Maintenance RF*"),COUNTIF(C96,"*Manutention*"),COUNTIF(C96,"*Nettoyage*"),COUNTIF(C96,"*Opérateurs téléphoniques - Fixe*"),COUNTIF(C96,"*Opérateurs téléphoniques - Mobile*"),COUNTIF(C96,"*Racks*"),COUNTIF(C96,"*Sécurité Incendie*"),COUNTIF(C96,"*Services Généraux*"),COUNTIF(C96,"*Signalétique / Management visuel*"),COUNTIF(C96,"*Traitement des Déchets*"),COUNTIF(C96,"*Vêtement de Travail*"),COUNTIF(C96,"*Multi Functionnal Print*")),"Oui","Non") -> Oui | G96: Non | H96: 1.33 | I96: 1.33 | J96: 1.33 | K96: 1.33 | L96: 1.33 | M96: 43724 | N96: 2019 | O96: T1/2019 | P96: Sylvie Mathe | R96: =VLOOKUP(C96,'[1]Familles d''Achats'!A$2:B$26,2,TRUE) -> Valérie Jouhaud | S96: Personnel peu fiable – Travail de qualité moyenne – Ils interviennent à des horaires qui ne sont pas adaptés aux bureaux. Fournisseur non référencé XPO. | T96: NF | U96: HASSIA
A97: MONTEUX (Orangina) | B97: Sud | C97: Nettoyage | D97: PROXIM | E97: =IF(OR(COUNTIF(C97,"*Contrôles Règlementaires*"),COUNTIF(C97,"*Emballage - Carton*"),COUNTIF(C97,"*Emballage - Etiquettes*"),COUNTIF(C97,"*Emballage - Film*"),COUNTIF(C97,"*Emballage - Generaliste*"),COUNTIF(C97,"*Emballage - Palettes*"),COUNTIF(C97,"*Energies*"),COUNTIF(C97,"*EPI - Equipement Protection Individuelle*"),COUNTIF(C97,"*Formation*"),COUNTIF(C97,"*Fournitures Bureau*"),COUNTIF(C97,"*Gardiennage*"),COUNTIF(C97,"*Gaz chariots*"),COUNTIF(C97,"*Interim*"),COUNTIF(C97,"*Location de Voiture*"),COUNTIF(C97,"*Maintenance Imprimantes*"),COUNTIF(C97,"*Maintenance Imprimantes*"),COUNTIF(C97,"*Maintenance RF*"),COUNTIF(C97,"*Manutention*"),COUNTIF(C97,"*Nettoyage*"),COUNTIF(C97,"*Opérateurs téléphoniques - Fixe*"),COUNTIF(C97,"*Opérateurs téléphoniques - Mobile*"),COUNTIF(C97,"*Racks*"),COUNTIF(C97,"*Sécurité Incendie*"),COUNTIF(C97,"*Services Généraux*"),COUNTIF(C97,"*Signalétique / Management visuel*"),COUNTIF(C97,"*Traitement des Déchets*"),COUNTIF(C97,"*Vêtement de Travail*"),COUNTIF(C97,"*Multi Functionnal Print*")),"Oui","Non") -> Oui | G97: Non | H97: 1 | I97: 1 | J97: 1 | K97: 1 | L97: 1 | M97: 43717 | N97: 2019 | O97: T3/2019 | P97: Sylvie Mathe | R97: =VLOOKUP(C97,'[1]Familles d''Achats'!A$2:B$26,2,TRUE) -> Valérie Jouhaud | T97: NF | U97: HASSIA
A98: Bruyeres sur Oise | B98: Centre | C98: Interim | D98: Samsic | E98: =IF(OR(COUNTIF(C98,"*Contrôles Règlementaires*"),COUNTIF(C98,"*Emballage - Carton*"),COUNTIF(C98,"*Emballage - Etiquettes*"),COUNTIF(C98,"*Emballage - Film*"),COUNTIF(C98,"*Emballage - Generaliste*"),COUNTIF(C98,"*Emballage - Palettes*"),COUNTIF(C98,"*Energies*"),COUNTIF(C98,"*EPI - Equipement Protection Individuelle*"),COUNTIF(C98,"*Formation*"),COUNTIF(C98,"*Fournitures Bureau*"),COUNTIF(C98,"*Gardiennage*"),COUNTIF(C98,"*Gaz chariots*"),COUNTIF(C98,"*Interim*"),COUNTIF(C98,"*Location de Voiture*"),COUNTIF(C98,"*Maintenance Imprimantes*"),COUNTIF(C98,"*Maintenance Imprimantes*"),COUNTIF(C98,"*Maintenance RF*"),COUNTIF(C98,"*Manutention*"),COUNTIF(C98,"*Nettoyage*"),COUNTIF(C98,"*Opérateurs téléphoniques - Fixe*"),COUNTIF(C98,"*Opérateurs téléphoniques - Mobile*"),COUNTIF(C98,"*Racks*"),COUNTIF(C98,"*Sécurité Incendie*"),COUNTIF(C98,"*Services Généraux*"),COUNTIF(C98,"*Signalétique / Management visuel*"),COUNTIF(C98,"*Traitement des Déchets*"),COUNTIF(C98,"*Vêtement de Travail*"),COUNTIF(C98,"*Multi Functionnal Print*")),"Oui","Non") -> Oui | G98: Non | H98: 3 | I98: 2 | J98: 2 | L98: 1.75 | M98: 43752 | N98: 2019 | O98: T3/2019 | P98: Caroline Peixoto | R98: =VLOOKUP(C98,'[1]Familles d''Achats'!A$2:B$26,2,TRUE) -> Claire Martin | S98: pb qualité - faible taux de proposition <10% | T98: NF | U98: HASSIA
A99: Vitrolles 2 | B99: Sud | C99: Sécurité Incendie | D99: Scutum | E99: =IF(OR(COUNTIF(C99,"*Contrôles Règlementaires*"),COUNTIF(C99,"*Emballage - Carton*"),COUNTIF(C99,"*Emballage - Etiquettes*"),COUNTIF(C99,"*Emballage - Film*"),COUNTIF(C99,"*Emballage - Generaliste*"),COUNTIF(C99,"*Emballage - Palettes*"),COUNTIF(C99,"*Energies*"),COUNTIF(C99,"*EPI - Equipement Protection Individuelle*"),COUNTIF(C99,"*Formation*"),COUNTIF(C99,"*Fournitures Bureau*"),COUNTIF(C99,"*Gardiennage*"),COUNTIF(C99,"*Gaz chariots*"),COUNTIF(C99,"*Interim*"),COUNTIF(C99,"*Location de Voiture*"),COUNTIF(C99,"*Maintenance Imprimantes*"),COUNTIF(C99,"*Maintenance Imprimantes*"),COUNTIF(C99,"*Maintenance RF*"),COUNTIF(C99,"*Manutention*"),COUNTIF(C99,"*Nettoyage*"),COUNTIF(C99,"*Opérateurs téléphoniques - Fixe*"),COUNTIF(C99,"*Opérateurs téléphoniques - Mobile*"),COUNTIF(C99,"*Racks*"),COUNTIF(C99,"*Sécurité Incendie*"),COUNTIF(C99,"*Services Généraux*"),COUNTIF(C99,"*Signalétique / Management visuel*"),COUNTIF(C99,"*Traitement des Déchets*"),COUNTIF(C99,"*Vêtement de Travail*"),COUNTIF(C99,"*Multi Functionnal Print*")),"Oui","Non") -> Oui | G99: Oui | H99: 1.33 | I99: 1.33 | J99: 1.33 | K99: 1.33 | L99: 1.33 | M99: 43555 | N99: 2019 | O99: T1/2019 | P99: S.Sagnelogue | R99: =VLOOKUP(C99,'[1]Familles d''Achats'!A$2:B$26,2,TRUE) -> Valérie Jouhaud | T99: AF
