Workbook

Sheet Feuil1
A1: Site | B1: Région | C1: Famille | D1: Prestataire externe | E1: Famille d'Achats référencée | F1: Si "Non" Famille d'Achat mentionnée | G1: "Fournisseurs référencés" | H1: Délai | I1: Qualité | J1: Expertise | K1: Sécurité | L1: Note Moyenne | M1: Date de réception fichier | N1: Année | O1: Trimestre | P1: Correspondant site | Q1: Evaluateur | R1: Acheteur | S1: Commentaires | T1: Nouveau fichier note de 1 à 4 = NF / Ancien fichier note de 1 à 3 = AF | U1: Utilisateur
A2: Vitrolles 2 | B2: Sud | C2: Services Généraux | D2: AAI | E2: =IF(OR(COUNTIF(C2,"*Contrôles Règlementaires*"),COUNTIF(C2,"*Emballage - Carton*"),COUNTIF(C2,"*Emballage - Etiquettes*"),COUNTIF(C2,"*Emballage - Film*"),COUNTIF(C2,"*Emballage - Generaliste*"),COUNTIF(C2,"*Emballage - Palettes*"),COUNTIF(C2,"*Energies*"),COUNTIF(C2,"*EPI - Equipement Protection Individuelle*"),COUNTIF(C2,"*Formation*"),COUNTIF(C2,"*Fournitures Bureau*"),COUNTIF(C2,"*Gardiennage*"),COUNTIF(C2,"*Gaz chariots*"),COUNTIF(C2,"*Interim*"),COUNTIF(C2,"*Location de Voiture*"),COUNTIF(C2,"*Maintenance Imprimantes*"),COUNTIF(C2,"*Maintenance Imprimantes*"),COUNTIF(C2,"*Maintenance RF*"),COUNTIF(C2,"*Manutention*"),COUNTIF(C2,"*Nettoyage*"),COUNTIF(C2,"*Opérateurs téléphoniques - Fixe*"),COUNTIF(C2,"*Opérateurs téléphoniques - Mobile*"),COUNTIF(C2,"*Racks*"),COUNTIF(C2,"*Sécurité Incendie*"),COUNTIF(C2,"*Services Généraux*"),COUNTIF(C2,"*Signalétique / Management visuel*"),COUNTIF(C2,"*Traitement des Déchets*"),COUNTIF(C2,"*Vêtement de Travail*"),COUNTIF(C2,"*Multi Functionnal Print*")),"Oui","Non") -> Oui | G2: Non | L2: 1.66 | M2: 43555 | N2: 2019 | O2: T1/2019 | P2: S.Sagnelogue | R2: =VLOOKUP(C2,'[1]Familles d''Achats'!A$2:B$26,2,TRUE) -> Valérie Jouhaud | T2: AF
A3: Réau | B3: Nord | C3: Services Généraux | D3: ACMS | E3: =IF(OR(COUNTIF(C3,"*Contrôles Règlementaires*"),COUNTIF(C3,"*Emballage - Carton*"),COUNTIF(C3,"*Emballage - Etiquettes*"),COUNTIF(C3,"*Emballage - Film*"),COUNTIF(C3,"*Emballage - Generaliste*"),COUNTIF(C3,"*Emballage - Palettes*"),COUNTIF(C3,"*Energies*"),COUNTIF(C3,"*EPI - Equipement Protection Individuelle*"),COUNTIF(C3,"*Formation*"),COUNTIF(C3,"*Fournitures Bureau*"),COUNTIF(C3,"*Gardiennage*"),COUNTIF(C3,"*Gaz chariots*"),COUNTIF(C3,"*Interim*"),COUNTIF(C3,"*Location de Voiture*"),COUNTIF(C3,"*Maintenance Imprimantes*"),COUNTIF(C3,"*Maintenance Imprimantes*"),COUNTIF(C3,"*Maintenance RF*"),COUNTIF(C3,"*Manutention*"),COUNTIF(C3,"*Nettoyage*"),COUNTIF(C3,"*Opérateurs téléphoniques - Fixe*"),COUNTIF(C3,"*Opérateurs téléphoniques - Mobile*"),COUNTIF(C3,"*Racks*"),COUNTIF(C3,"*Sécurité Incendie*"),COUNTIF(C3,"*Services Généraux*"),COUNTIF(C3,"*Signalétique / Management visuel*"),COUNTIF(C3,"*Traitement des Déchets*"),COUNTIF(C3,"*Vêtement de Travail*"),COUNTIF(C3,"*Multi Functionnal Print*")),"Oui","Non") -> Oui | G3: Non | H3: 1 | I3: 1 | J3: 1 | K3: 3 | L3: =AVERAGE(H3:K3) -> 1.5 | N3: 2019 | O3: T3/2019 | Q3: Stéphanie Sagnelonge | R3: =VLOOKUP(C3,'[1]Familles d''Achats'!A$2:B$26,2,TRUE) -> Valérie Jouhaud | S3: Difficulté a voir des rdv pour visites / aucun contact avec le medecin du travail | T3: NF | U3: HASSIA
A4: Réau | B4: Nord | C4: Services Généraux | D4: ACMS | E4: =IF(OR(COUNTIF(C4,"*Contrôles Règlementaires*"),COUNTIF(C4,"*Emballage - Carton*"),COUNTIF(C4,"*Emballage - Etiquettes*"),COUNTIF(C4,"*Emballage - Film*"),COUNTIF(C4,"*Emballage - Generaliste*"),COUNTIF(C4,"*Emballage - Palettes*"),COUNTIF(C4,"*Energies*"),COUNTIF(C4,"*EPI - Equipement Protection Individuelle*"),COUNTIF(C4,"*Formation*"),COUNTIF(C4,"*Fournitures Bureau*"),COUNTIF(C4,"*Gardiennage*"),COUNTIF(C4,"*Gaz chariots*"),COUNTIF(C4,"*Interim*"),COUNTIF(C4,"*Location de Voiture*"),COUNTIF(C4,"*Maintenance Imprimantes*"),COUNTIF(C4,"*Maintenance Imprimantes*"),COUNTIF(C4,"*Maintenance RF*"),COUNTIF(C4,"*Manutention*"),COUNTIF(C4,"*Nettoyage*"),COUNTIF(C4,"*Opérateurs téléphoniques - Fixe*"),COUNTIF(C4,"*Opérateurs téléphoniques - Mobile*"),COUNTIF(C4,"*Racks*"),COUNTIF(C4,"*Sécurité Incendie*"),COUNTIF(C4,"*Services Généraux*"),COUNTIF(C4,"*Signalétique / Management visuel*"),COUNTIF(C4,"*Traitement des Déchets*"),COUNTIF(C4,"*Vêtement de Travail*"),COUNTIF(C4,"*Multi Functionnal Print*")),"Oui","Non") -> Oui | G4: Non | H4: 1 | I4: 1 | J4: 1 | K4: 3 | L4: =AVERAGE(H4:K4) -> 1.5 | N4: 2019 | O4: T2/2019 | Q4: Stéphanie Sagnelonge | R4: =VLOOKUP(C4,'[1]Familles d''Achats'!A$2:B$26,2,TRUE) -> Valérie Jouhaud | S4: Difficulté a voir des rdv pour visites / aucun contact avec le medecin du travail | T4: NF | U4: HASSIA
A5: Réau | B5: Nord | C5: Services Généraux | D5: ACMS | E5: =IF(OR(COUNTIF(C5,"*Contrôles Règlementaires*"),COUNTIF(C5,"*Emballage - Carton*"),COUNTIF(C5,"*Emballage - Etiquettes*"),COUNTIF(C5,"*Emballage - Film*"),COUNTIF(C5,"*Emballage - Generaliste*"),COUNTIF(C5,"*Emballage - Palettes*"),COUNTIF(C5,"*Energies*"),COUNTIF(C5,"*EPI - Equipement Protection Individuelle*"),COUNTIF(C5,"*Formation*"),COUNTIF(C5,"*Fournitures Bureau*"),COUNTIF(C5,"*Gardiennage*"),COUNTIF(C5,"*Gaz chariots*"),COUNTIF(C5,"*Interim*"),COUNTIF(C5,"*Location de Voiture*"),COUNTIF(C5,"*Maintenance Imprimantes*"),COUNTIF(C5,"*Maintenance Imprimantes*"),COUNTIF(C5,"*Maintenance RF*"),COUNTIF(C5,"*Manutention*"),COUNTIF(C5,"*Nettoyage*"),COUNTIF(C5,"*Opérateurs téléphoniques - Fixe*"),COUNTIF(C5,"*Opérateurs téléphoniques - Mobile*"),COUNTIF(C5,"*Racks*"),COUNTIF(C5,"*Sécurité Incendie*"),COUNTIF(C5,"*Services Généraux*"),COUNTIF(C5,"*Signalétique / Management visuel*"),COUNTIF(C5,"*Traitement des Déchets*"),COUNTIF(C5,"*Vêtement de Travail*"),COUNTIF(C5,"*Multi Functionnal Print*")),"Oui","Non") -> Oui | G5: Non | H5: 1 | I5: 1 | J5: 1 | K5: 3 | L5: =AVERAGE(H5:K5) -> 1.5 | N5: 2019 | O5: T1/2019 | Q5: Stéphanie Sagnelonge | R5: =VLOOKUP(C5,'[1]Familles d''Achats'!A$2:B$26,2,TRUE) -> Valérie Jouhaud | S5: Difficulté a voir des rdv pour visites / aucun contact avec le medecin du travail | T5: NF | U5: HASSIA
A6: Bruyeres sur Oise | B6: Centre | C6: Interim | D6: Actual | E6: =IF(OR(COUNTIF(C6,"*Contrôles Règlementaires*"),COUNTIF(C6,"*Emballage - Carton*"),COUNTIF(C6,"*Emballage - Etiquettes*"),COUNTIF(C6,"*Emballage - Film*"),COUNTIF(C6,"*Emballage - Generaliste*"),COUNTIF(C6,"*Emballage - Palettes*"),COUNTIF(C6,"*Energies*"),COUNTIF(C6,"*EPI - Equipement Protection Individuelle*"),COUNTIF(C6,"*Formation*"),COUNTIF(C6,"*Fournitures Bureau*"),COUNTIF(C6,"*Gardiennage*"),COUNTIF(C6,"*Gaz chariots*"),COUNTIF(C6,"*Interim*"),COUNTIF(C6,"*Location de Voiture*"),COUNTIF(C6,"*Maintenance Imprimantes*"),COUNTIF(C6,"*Maintenance Imprimantes*"),COUNTIF(C6,"*Maintenance RF*"),COUNTIF(C6,"*Manutention*"),COUNTIF(C6,"*Nettoyage*"),COUNTIF(C6,"*Opérateurs téléphoniques - Fixe*"),COUNTIF(C6,"*Opérateurs téléphoniques - Mobile*"),COUNTIF(C6,"*Racks*"),COUNTIF(C6,"*Sécurité Incendie*"),COUNTIF(C6,"*Services Généraux*"),COUNTIF(C6,"*Signalétique / Management visuel*"),COUNTIF(C6,"*Traitement des Déchets*"),COUNTIF(C6,"*Vêtement de Travail*"),COUNTIF(C6,"*Multi Functionnal Print*")),"Oui","Non") -> Oui | G6: Oui | H6: 2 | I6: 2 | J6: 3 | L6: 1.75 | M6: 43752 | N6: 2019 | O6: T3/2019 | P6: Caroline Peixoto | R6: =VLOOKUP(C6,'[1]Familles d''Achats'!A$2:B$26,2,TRUE) -> Claire Martin | S6: pb assiduité et qualité | T6: NF | U6: HASSIA
A7: Réau | B7: Nord | C7: Interim | D7: Actual | E7: =IF(OR(COUNTIF(C7,"*Contrôles Règlementaires*"),COUNTIF(C7,"*Emballage - Carton*"),COUNTIF(C7,"*Emballage - Etiquettes*"),COUNTIF(C7,"*Emballage - Film*"),COUNTIF(C7,"*Emballage - Generaliste*"),COUNTIF(C7,"*Emballage - Palettes*"),COUNTIF(C7,"*Energies*"),COUNTIF(C7,"*EPI - Equipement Protection Individuelle*"),COUNTIF(C7,"*Formation*"),COUNTIF(C7,"*Fournitures Bureau*"),COUNTIF(C7,"*Gardiennage*"),COUNTIF(C7,"*Gaz chariots*"),COUNTIF(C7,"*Interim*"),COUNTIF(C7,"*Location de Voiture*"),COUNTIF(C7,"*Maintenance Imprimantes*"),COUNTIF(C7,"*Maintenance Imprimantes*"),COUNTIF(C7,"*Maintenance RF*"),COUNTIF(C7,"*Manutention*"),COUNTIF(C7,"*Nettoyage*"),COUNTIF(C7,"*Opérateurs téléphoniques - Fixe*"),COUNTIF(C7,"*Opérateurs téléphoniques - Mobile*"),COUNTIF(C7,"*Racks*"),COUNTIF(C7,"*Sécurité Incendie*"),COUNTIF(C7,"*Services Généraux*"),COUNTIF(C7,"*Signalétique / Management visuel*"),COUNTIF(C7,"*Traitement des Déchets*"),COUNTIF(C7,"*Vêtement de Travail*"),COUNTIF(C7,"*Multi Functionnal Print*")),"Oui","Non") -> Oui | G7: Oui | H7: 1 | I7: 1 | J7: 1 | K7: 1 | L7: =AVERAGE(H7:K7) -> 1 | N7: 2019 | O7: T3/2019 | Q7: Stéphanie Sagnelonge | R7: =VLOOKUP(C7,'[1]Familles d''Achats'!A$2:B$26,2,TRUE) -> Claire Martin | S7: Pas de retours aux demandes | T7: NF | U7: HASSIA
A8: Réau | B8: Nord | C8: Interim | D8: Actual | E8: =IF(OR(COUNTIF(C8,"*Contrôles Règlementaires*"),COUNTIF(C8,"*Emballage - Carton*"),COUNTIF(C8,"*Emballage - Etiquettes*"),COUNTIF(C8,"*Emballage - Film*"),COUNTIF(C8,"*Emballage - Generaliste*"),COUNTIF(C8,"*Emballage - Palettes*"),COUNTIF(C8,"*Energies*"),COUNTIF(C8,"*EPI - Equipement Protection Individuelle*"),COUNTIF(C8,"*Formation*"),COUNTIF(C8,"*Fournitures Bureau*"),COUNTIF(C8,"*Gardiennage*"),COUNTIF(C8,"*Gaz chariots*"),COUNTIF(C8,"*Interim*"),COUNTIF(C8,"*Location de Voiture*"),COUNTIF(C8,"*Maintenance Imprimantes*"),COUNTIF(C8,"*Maintenance Imprimantes*"),COUNTIF(C8,"*Maintenance RF*"),COUNTIF(C8,"*Manutention*"),COUNTIF(C8,"*Nettoyage*"),COUNTIF(C8,"*Opérateurs téléphoniques - Fixe*"),COUNTIF(C8,"*Opérateurs téléphoniques - Mobile*"),COUNTIF(C8,"*Racks*"),COUNTIF(C8,"*Sécurité Incendie*"),COUNTIF(C8,"*Services Généraux*"),COUNTIF(C8,"*Signalétique / Management visuel*"),COUNTIF(C8,"*Traitement des Déchets*"),COUNTIF(C8,"*Vêtement de Travail*"),COUNTIF(C8,"*Multi Functionnal Print*")),"Oui","Non") -> Oui | G8: Oui | H8: 1 | I8: 1 | J8: 1 | K8: 1 | L8: =AVERAGE(H8:K8) -> 1 | N8: 2019 | O8: T2/2019 | Q8: Stéphanie Sagnelonge | R8: =VLOOKUP(C8,'[1]Familles d''Achats'!A$2:B$26,2,TRUE) -> Claire Martin | S8: pas de retour aux demandes | T8: NF | U8: HASSIA
A9: Réau | B9: Nord | C9: Interim | D9: Actual | E9: =IF(OR(COUNTIF(C9,"*Contrôles Règlementaires*"),COUNTIF(C9,"*Emballage - Carton*"),COUNTIF(C9,"*Emballage - Etiquettes*"),COUNTIF(C9,"*Emballage - Film*"),COUNTIF(C9,"*Emballage - Generaliste*"),COUNTIF(C9,"*Emballage - Palettes*"),COUNTIF(C9,"*Energies*"),COUNTIF(C9,"*EPI - Equipement Protection Individuelle*"),COUNTIF(C9,"*Formation*"),COUNTIF(C9,"*Fournitures Bureau*"),COUNTIF(C9,"*Gardiennage*"),COUNTIF(C9,"*Gaz chariots*"),COUNTIF(C9,"*Interim*"),COUNTIF(C9,"*Location de Voiture*"),COUNTIF(C9,"*Maintenance Imprimantes*"),COUNTIF(C9,"*Maintenance Imprimantes*"),COUNTIF(C9,"*Maintenance RF*"),COUNTIF(C9,"*Manutention*"),COUNTIF(C9,"*Nettoyage*"),COUNTIF(C9,"*Opérateurs téléphoniques - Fixe*"),COUNTIF(C9,"*Opérateurs téléphoniques - Mobile*"),COUNTIF(C9,"*Racks*"),COUNTIF(C9,"*Sécurité Incendie*"),COUNTIF(C9,"*Services Généraux*"),COUNTIF(C9,"*Signalétique / Management visuel*"),COUNTIF(C9,"*Traitement des Déchets*"),COUNTIF(C9,"*Vêtement de Travail*"),COUNTIF(C9,"*Multi Functionnal Print*")),"Oui","Non") -> Oui | G9: Oui | H9: 1 | I9: 1 | J9: 1 | K9: 1 | L9: =AVERAGE(H9:K9) -> 1 | N9: 2019 | O9: T1/2019 | Q9: Stéphanie Sagnelonge | R9: =VLOOKUP(C9,'[1]Familles d''Achats'!A$2:B$26,2,TRUE) -> Claire Martin | S9: pas de retour aux demandes | T9: NF | U9: HASSIA
A10: Vitrolles 2 | B10: Sud | C10: Interim | D10: Adequat | E10: =IF(OR(COUNTIF(C10,"*Contrôles Règlementaires*"),COUNTIF(C10,"*Emballage - Carton*"),COUNTIF(C10,"*Emballage - Etiquettes*"),COUNTIF(C10,"*Emballage - Film*"),COUNTIF(C10,"*Emballage - Generaliste*"),COUNTIF(C10,"*Emballage - Palettes*"),COUNTIF(C10,"*Energies*"),COUNTIF(C10,"*EPI - Equipement Protection Individuelle*"),COUNTIF(C10,"*Formation*"),COUNTIF(C10,"*Fournitures Bureau*"),COUNTIF(C10,"*Gardiennage*"),COUNTIF(C10,"*Gaz chariots*"),COUNTIF(C10,"*Interim*"),COUNTIF(C10,"*Location de Voiture*"),COUNTIF(C10,"*Maintenance Imprimantes*"),COUNTIF(C10,"*Maintenance Imprimantes*"),COUNTIF(C10,"*Maintenance RF*"),COUNTIF(C10,"*Manutention*"),COUNTIF(C10,"*Nettoyage*"),COUNTIF(C10,"*Opérateurs téléphoniques - Fixe*"),COUNTIF(C10,"*Opérateurs téléphoniques - Mobile*"),COUNTIF(C10,"*Racks*"),COUNTIF(C10,"*Sécurité Incendie*"),COUNTIF(C10,"*Services Généraux*"),COUNTIF(C10,"*Signalétique / Management visuel*"),COUNTIF(C10,"*Traitement des Déchets*"),COUNTIF(C10,"*Vêtement de Travail*"),COUNTIF(C10,"*Multi Functionnal Print*")),"Oui","Non") -> Oui | G10: Oui | H10: 1.33 | I10: 1.33 | J10: 1.33 | K10: 1.33 | L10: 1.33 | M10: 43555 | N10: 2019 | O10: T1/2019 | P10: S.Sagnelogue | R10: =VLOOKUP(C10,'[1]Familles d''Achats'!A$2:B$26,2,TRUE) -> Claire Martin | T10: AF
A11: Vitrolles 2 | B11: Sud | C11: Interim | D11: Adequat | E11: =IF(OR(COUNTIF(C11,"*Contrôles Règlementaires*"),COUNTIF(C11,"*Emballage - Carton*"),COUNTIF(C11,"*Emballage - Etiquettes*"),COUNTIF(C11,"*Emballage - Film*"),COUNTIF(C11,"*Emballage - Generaliste*"),COUNTIF(C11,"*Emballage - Palettes*"),COUNTIF(C11,"*Energies*"),COUNTIF(C11,"*EPI - Equipement Protection Individuelle*"),COUNTIF(C11,"*Formation*"),COUNTIF(C11,"*Fournitures Bureau*"),COUNTIF(C11,"*Gardiennage*"),COUNTIF(C11,"*Gaz chariots*"),COUNTIF(C11,"*Interim*"),COUNTIF(C11,"*Location de Voiture*"),COUNTIF(C11,"*Maintenance Imprimantes*"),COUNTIF(C11,"*Maintenance Imprimantes*"),COUNTIF(C11,"*Maintenance RF*"),COUNTIF(C11,"*Manutention*"),COUNTIF(C11,"*Nettoyage*"),COUNTIF(C11,"*Opérateurs téléphoniques - Fixe*"),COUNTIF(C11,"*Opérateurs téléphoniques - Mobile*"),COUNTIF(C11,"*Racks*"),COUNTIF(C11,"*Sécurité Incendie*"),COUNTIF(C11,"*Services Généraux*"),COUNTIF(C11,"*Signalétique / Management visuel*"),COUNTIF(C11,"*Traitement des Déchets*"),COUNTIF(C11,"*Vêtement de Travail*"),COUNTIF(C11,"*Multi Functionnal Print*")),"Oui","Non") -> Oui | G11: Oui | H11: 1.33 | I11: 1.33 | J11: 1.33 | K11: 1.33 | L11: 1.33 | M11: 43646 | N11: 2019 | O11: T2/2019 | P11: S.Sagnelogue | R11: =VLOOKUP(C11,'[1]Familles d''Achats'!A$2:B$26,2,TRUE) -> Claire Martin | T11: AF
A12: Saint Vulbas l'Oreal Logistique | B12: Centre | C12: Interim | D12: Adequat | E12: =IF(OR(COUNTIF(C12,"*Contrôles Règlementaires*"),COUNTIF(C12,"*Emballage - Carton*"),COUNTIF(C12,"*Emballage - Etiquettes*"),COUNTIF(C12,"*Emballage - Film*"),COUNTIF(C12,"*Emballage - Generaliste*"),COUNTIF(C12,"*Emballage - Palettes*"),COUNTIF(C12,"*Energies*"),COUNTIF(C12,"*EPI - Equipement Protection Individuelle*"),COUNTIF(C12,"*Formation*"),COUNTIF(C12,"*Fournitures Bureau*"),COUNTIF(C12,"*Gardiennage*"),COUNTIF(C12,"*Gaz chariots*"),COUNTIF(C12,"*Interim*"),COUNTIF(C12,"*Location de Voiture*"),COUNTIF(C12,"*Maintenance Imprimantes*"),COUNTIF(C12,"*Maintenance Imprimantes*"),COUNTIF(C12,"*Maintenance RF*"),COUNTIF(C12,"*Manutention*"),COUNTIF(C12,"*Nettoyage*"),COUNTIF(C12,"*Opérateurs téléphoniques - Fixe*"),COUNTIF(C12,"*Opérateurs téléphoniques - Mobile*"),COUNTIF(C12,"*Racks*"),COUNTIF(C12,"*Sécurité Incendie*"),COUNTIF(C12,"*Services Généraux*"),COUNTIF(C12,"*Signalétique / Management visuel*"),COUNTIF(C12,"*Traitement des Déchets*"),COUNTIF(C12,"*Vêtement de Travail*"),COUNTIF(C12,"*Multi Functionnal Print*")),"Oui","Non") -> Oui | G12: Oui | H12: 1 | I12: 1 | J12: 1 | K12: 2 | L12: 1.25 | M12: 43732 | N12: 2019 | O12: T3/2019 | P12: Christian Bernard | R12: =VLOOKUP(C12,'[1]Familles d''Achats'!A$2:B$26,2,TRUE) -> Claire Martin | T12: NF | U12: HASSIA
A13: Salon de Provence | B13: TD | C13: Interim | D13: Alliance | E13: =IF(OR(COUNTIF(C13,"*Contrôles Règlementaires*"),COUNTIF(C13,"*Emballage - Carton*"),COUNTIF(C13,"*Emballage - Etiquettes*"),COUNTIF(C13,"*Emballage - Film*"),COUNTIF(C13,"*Emballage - Generaliste*"),COUNTIF(C13,"*Emballage - Palettes*"),COUNTIF(C13,"*Energies*"),COUNTIF(C13,"*EPI - Equipement Protection Individuelle*"),COUNTIF(C13,"*Formation*"),COUNTIF(C13,"*Fournitures Bureau*"),COUNTIF(C13,"*Gardiennage*"),COUNTIF(C13,"*Gaz chariots*"),COUNTIF(C13,"*Interim*"),COUNTIF(C13,"*Location de Voiture*"),COUNTIF(C13,"*Maintenance Imprimantes*"),COUNTIF(C13,"*Maintenance Imprimantes*"),COUNTIF(C13,"*Maintenance RF*"),COUNTIF(C13,"*Manutention*"),COUNTIF(C13,"*Nettoyage*"),COUNTIF(C13,"*Opérateurs téléphoniques - Fixe*"),COUNTIF(C13,"*Opérateurs téléphoniques - Mobile*"),COUNTIF(C13,"*Racks*"),COUNTIF(C13,"*Sécurité Incendie*"),COUNTIF(C13,"*Services Généraux*"),COUNTIF(C13,"*Signalétique / Management visuel*"),COUNTIF(C13,"*Traitement des Déchets*"),COUNTIF(C13,"*Vêtement de Travail*"),COUNTIF(C13,"*Multi Functionnal Print*")),"Oui","Non") -> Oui | G13: Oui | L13: 1.33 | M13: 43555 | N13: 2019 | O13: T1/2019 | P13: S.Sagnelogue | R13: =VLOOKUP(C13,'[1]Familles d''Achats'!A$2:B$26,2,TRUE) -> Claire Martin | T13: AF
A14: Satolas IDC22 (OSF/PEPSICO) | B14: Sud | C14: Interim | D14: Alliance | E14: =IF(OR(COUNTIF(C14,"*Contrôles Règlementaires*"),COUNTIF(C14,"*Emballage - Carton*"),COUNTIF(C14,"*Emballage - Etiquettes*"),COUNTIF(C14,"*Emballage - Film*"),COUNTIF(C14,"*Emballage - Generaliste*"),COUNTIF(C14,"*Emballage - Palettes*"),COUNTIF(C14,"*Energies*"),COUNTIF(C14,"*EPI - Equipement Protection Individuelle*"),COUNTIF(C14,"*Formation*"),COUNTIF(C14,"*Fournitures Bureau*"),COUNTIF(C14,"*Gardiennage*"),COUNTIF(C14,"*Gaz chariots*"),COUNTIF(C14,"*Interim*"),COUNTIF(C14,"*Location de Voiture*"),COUNTIF(C14,"*Maintenance Imprimantes*"),COUNTIF(C14,"*Maintenance Imprimantes*"),COUNTIF(C14,"*Maintenance RF*"),COUNTIF(C14,"*Manutention*"),COUNTIF(C14,"*Nettoyage*"),COUNTIF(C14,"*Opérateurs téléphoniques - Fixe*"),COUNTIF(C14,"*Opérateurs téléphoniques - Mobile*"),COUNTIF(C14,"*Racks*"),COUNTIF(C14,"*Sécurité Incendie*"),COUNTIF(C14,"*Services Généraux*"),COUNTIF(C14,"*Signalétique / Management visuel*"),COUNTIF(C14,"*Traitement des Déchets*"),COUNTIF(C14,"*Vêtement de Travail*"),COUNTIF(C14,"*Multi Functionnal Print*")),"Oui","Non") -> Oui | G14: Oui | H14: 2 | I14: 2 | J14: 1 | K14: 2 | L14: =AVERAGE(H14:K14) -> 1.75 | N14: 2019 | O14: T3/2019 | P14: C.Feret | Q14: Thomas Courvallain | R14: =VLOOKUP(C14,'[1]Familles d''Achats'!A$2:B$26,2,TRUE) -> Claire Martin | S14: Tres peu d'affaire avec cette companie d'ETT - peu ou pas de proposition de candidat | T14: NF | U14: HASSIA
A15: Satolas IDC22 (OSF/PEPSICO) | B15: Sud | C15: Interim | D15: Alliance | E15: =IF(OR(COUNTIF(C15,"*Contrôles Règlementaires*"),COUNTIF(C15,"*Emballage - Carton*"),COUNTIF(C15,"*Emballage - Etiquettes*"),COUNTIF(C15,"*Emballage - Film*"),COUNTIF(C15,"*Emballage - Generaliste*"),COUNTIF(C15,"*Emballage - Palettes*"),COUNTIF(C15,"*Energies*"),COUNTIF(C15,"*EPI - Equipement Protection Individuelle*"),COUNTIF(C15,"*Formation*"),COUNTIF(C15,"*Fournitures Bureau*"),COUNTIF(C15,"*Gardiennage*"),COUNTIF(C15,"*Gaz chariots*"),COUNTIF(C15,"*Interim*"),COUNTIF(C15,"*Location de Voiture*"),COUNTIF(C15,"*Maintenance Imprimantes*"),COUNTIF(C15,"*Maintenance Imprimantes*"),COUNTIF(C15,"*Maintenance RF*"),COUNTIF(C15,"*Manutention*"),COUNTIF(C15,"*Nettoyage*"),COUNTIF(C15,"*Opérateurs téléphoniques - Fixe*"),COUNTIF(C15,"*Opérateurs téléphoniques - Mobile*"),COUNTIF(C15,"*Racks*"),COUNTIF(C15,"*Sécurité Incendie*"),COUNTIF(C15,"*Services Généraux*"),COUNTIF(C15,"*Signalétique / Management visuel*"),COUNTIF(C15,"*Traitement des Déchets*"),COUNTIF(C15,"*Vêtement de Travail*"),COUNTIF(C15,"*Multi Functionnal Print*")),"Oui","Non") -> Oui | G15: Oui | H15: 2 | I15: 2 | J15: 1 | K15: 2 | L15: =AVERAGE(H15:K15) -> 1.75 | N15: 2019 | O15: T2/2019 | P15: C.Feret | Q15: Thomas Courvallain | R15: =VLOOKUP(C15,'[1]Familles d''Achats'!A$2:B$26,2,TRUE) -> Claire Martin | S15: Tres peu d'affaire avec cette companie d'ETT - peu ou pas de proposition de candidat | T15: NF | U15: HASSIA
A16: Satolas IDC22 (OSF/PEPSICO) | B16: Sud | C16: Interim | D16: Alliance | E16: =IF(OR(COUNTIF(C16,"*Contrôles Règlementaires*"),COUNTIF(C16,"*Emballage - Carton*"),COUNTIF(C16,"*Emballage - Etiquettes*"),COUNTIF(C16,"*Emballage - Film*"),COUNTIF(C16,"*Emballage - Generaliste*"),COUNTIF(C16,"*Emballage - Palettes*"),COUNTIF(C16,"*Energies*"),COUNTIF(C16,"*EPI - Equipement Protection Individuelle*"),COUNTIF(C16,"*Formation*"),COUNTIF(C16,"*Fournitures Bureau*"),COUNTIF(C16,"*Gardiennage*"),COUNTIF(C16,"*Gaz chariots*"),COUNTIF(C16,"*Interim*"),COUNTIF(C16,"*Location de Voiture*"),COUNTIF(C16,"*Maintenance Imprimantes*"),COUNTIF(C16,"*Maintenance Imprimantes*"),COUNTIF(C16,"*Maintenance RF*"),COUNTIF(C16,"*Manutention*"),COUNTIF(C16,"*Nettoyage*"),COUNTIF(C16,"*Opérateurs téléphoniques - Fixe*"),COUNTIF(C16,"*Opérateurs téléphoniques - Mobile*"),COUNTIF(C16,"*Racks*"),COUNTIF(C16,"*Sécurité Incendie*"),COUNTIF(C16,"*Services Généraux*"),COUNTIF(C16,"*Signalétique / Management visuel*"),COUNTIF(C16,"*Traitement des Déchets*"),COUNTIF(C16,"*Vêtement de Travail*"),COUNTIF(C16,"*Multi Functionnal Print*")),"Oui","Non") -> Oui | G16: Oui | H16: 2 | I16: 2 | J16: 1 | K16: 2 | L16: =AVERAGE(H16:K16) -> 1.75 | N16: 2019 | O16: T1/2019 | P16: C.Feret | Q16: Thomas Courvallain | R16: =VLOOKUP(C16,'[1]Familles d''Achats'!A$2:B$26,2,TRUE) -> Claire Martin | S16: Tres peu d'affaire avec cette companie d'ETT - peu ou pas de proposition de candidat | T16: NF | U16: HASSIA
A17: Chateauneuf sur Loire | B17: Centre | C17: Location de Voiture | D17: Amex | E17: =IF(OR(COUNTIF(C17,"*Contrôles Règlementaires*"),COUNTIF(C17,"*Emballage - Carton*"),COUNTIF(C17,"*Emballage - Etiquettes*"),COUNTIF(C17,"*Emballage - Film*"),COUNTIF(C17,"*Emballage - Generaliste*"),COUNTIF(C17,"*Emballage - Palettes*"),COUNTIF(C17,"*Energies*"),COUNTIF(C17,"*EPI - Equipement Protection Individuelle*"),COUNTIF(C17,"*Formation*"),COUNTIF(C17,"*Fournitures Bureau*"),COUNTIF(C17,"*Gardiennage*"),COUNTIF(C17,"*Gaz chariots*"),COUNTIF(C17,"*Interim*"),COUNTIF(C17,"*Location de Voiture*"),COUNTIF(C17,"*Maintenance Imprimantes*"),COUNTIF(C17,"*Maintenance Imprimantes*"),COUNTIF(C17,"*Maintenance RF*"),COUNTIF(C17,"*Manutention*"),COUNTIF(C17,"*Nettoyage*"),COUNTIF(C17,"*Opérateurs téléphoniques - Fixe*"),COUNTIF(C17,"*Opérateurs téléphoniques - Mobile*"),COUNTIF(C17,"*Racks*"),COUNTIF(C17,"*Sécurité Incendie*"),COUNTIF(C17,"*Services Généraux*"),COUNTIF(C17,"*Signalétique / Management visuel*"),COUNTIF(C17,"*Traitement des Déchets*"),COUNTIF(C17,"*Vêtement de Travail*"),COUNTIF(C17,"*Multi Functionnal Print*")),"Oui","Non") -> Oui | G17: Non | H17: 1 | I17: 1 | J17: 1 | K17: 1 | L17: 1 | M17: 43741 | N17: 2019 | O17: T3/2019 | P17: Sophie Le Guevel | R17: =VLOOKUP(C17,'[1]Familles d''Achats'!A$2:B$26,2,TRUE) -> Claire Martin | S17: Toutes mes demandes sur le portail ne sont pas traitées. Je suis obligée de les appeler pour que ma demande soit traitée. | T17: NF | U17: HASSIA
A18: Ingré | B18: Sud | C18: Contrôles règlementaires | D18: Apave | E18: =IF(OR(COUNTIF(C18,"*Contrôles Règlementaires*"),COUNTIF(C18,"*Emballage - Carton*"),COUNTIF(C18,"*Emballage - Etiquettes*"),COUNTIF(C18,"*Emballage - Film*"),COUNTIF(C18,"*Emballage - Generaliste*"),COUNTIF(C18,"*Emballage - Palettes*"),COUNTIF(C18,"*Energies*"),COUNTIF(C18,"*EPI - Equipement Protection Individuelle*"),COUNTIF(C18,"*Formation*"),COUNTIF(C18,"*Fournitures Bureau*"),COUNTIF(C18,"*Gardiennage*"),COUNTIF(C18,"*Gaz chariots*"),COUNTIF(C18,"*Interim*"),COUNTIF(C18,"*Location de Voiture*"),COUNTIF(C18,"*Maintenance Imprimantes*"),COUNTIF(C18,"*Maintenance Imprimantes*"),COUNTIF(C18,"*Maintenance RF*"),COUNTIF(C18,"*Manutention*"),COUNTIF(C18,"*Nettoyage*"),COUNTIF(C18,"*Opérateurs téléphoniques - Fixe*"),COUNTIF(C18,"*Opérateurs téléphoniques - Mobile*"),COUNTIF(C18,"*Racks*"),COUNTIF(C18,"*Sécurité Incendie*"),COUNTIF(C18,"*Services Généraux*"),COUNTIF(C18,"*Signalétique / Management visuel*"),COUNTIF(C18,"*Traitement des Déchets*"),COUNTIF(C18,"*Vêtement de Travail*"),COUNTIF(C18,"*Multi Functionnal Print*")),"Oui","Non") -> Oui | G18: Oui | L18: 1.33 | M18: 43555 | N18: 2019 | O18: T1/2019 | P18: S.Sagnelogue | R18: =VLOOKUP(C18,'[1]Familles d''Achats'!A$2:B$26,2,TRUE) -> Valérie Jouhaud | T18: AF
A19: Saint Vulbas 2B/2C | B19: Sud | C19: Contrôles règlementaires | D19: Apave | E19: =IF(OR(COUNTIF(C19,"*Contrôles Règlementaires*"),COUNTIF(C19,"*Emballage - Carton*"),COUNTIF(C19,"*Emballage - Etiquettes*"),COUNTIF(C19,"*Emballage - Film*"),COUNTIF(C19,"*Emballage - Generaliste*"),COUNTIF(C19,"*Emballage - Palettes*"),COUNTIF(C19,"*Energies*"),COUNTIF(C19,"*EPI - Equipement Protection Individuelle*"),COUNTIF(C19,"*Formation*"),COUNTIF(C19,"*Fournitures Bureau*"),COUNTIF(C19,"*Gardiennage*"),COUNTIF(C19,"*Gaz chariots*"),COUNTIF(C19,"*Interim*"),COUNTIF(C19,"*Location de Voiture*"),COUNTIF(C19,"*Maintenance Imprimantes*"),COUNTIF(C19,"*Maintenance Imprimantes*"),COUNTIF(C19,"*Maintenance RF*"),COUNTIF(C19,"*Manutention*"),COUNTIF(C19,"*Nettoyage*"),COUNTIF(C19,"*Opérateurs téléphoniques - Fixe*"),COUNTIF(C19,"*Opérateurs téléphoniques - Mobile*"),COUNTIF(C19,"*Racks*"),COUNTIF(C19,"*Sécurité Incendie*"),COUNTIF(C19,"*Services Généraux*"),COUNTIF(C19,"*Signalétique / Management visuel*"),COUNTIF(C19,"*Traitement des Déchets*"),COUNTIF(C19,"*Vêtement de Travail*"),COUNTIF(C19,"*Multi Functionnal Print*")),"Oui","Non") -> Oui | G19: Oui | L19: 1.33 | M19: 43555 | N19: 2019 | O19: T1/2019 | P19: S.Sagnelogue | R19: =VLOOKUP(C19,'[1]Familles d''Achats'!A$2:B$26,2,TRUE) -> Valérie Jouhaud | T19: AF
A20: Villebarou | B20: Nord | C20: Contrôles règlementaires | D20: Apave | E20: =IF(OR(COUNTIF(C20,"*Contrôles Règlementaires*"),COUNTIF(C20,"*Emballage - Carton*"),COUNTIF(C20,"*Emballage - Etiquettes*"),COUNTIF(C20,"*Emballage - Film*"),COUNTIF(C20,"*Emballage - Generaliste*"),COUNTIF(C20,"*Emballage - Palettes*"),COUNTIF(C20,"*Energies*"),COUNTIF(C20,"*EPI - Equipement Protection Individuelle*"),COUNTIF(C20,"*Formation*"),COUNTIF(C20,"*Fournitures Bureau*"),COUNTIF(C20,"*Gardiennage*"),COUNTIF(C20,"*Gaz chariots*"),COUNTIF(C20,"*Interim*"),COUNTIF(C20,"*Location de Voiture*"),COUNTIF(C20,"*Maintenance Imprimantes*"),COUNTIF(C20,"*Maintenance Imprimantes*"),COUNTIF(C20,"*Maintenance RF*"),COUNTIF(C20,"*Manutention*"),COUNTIF(C20,"*Nettoyage*"),COUNTIF(C20,"*Opérateurs téléphoniques - Fixe*"),COUNTIF(C20,"*Opérateurs téléphoniques - Mobile*"),COUNTIF(C20,"*Racks*"),COUNTIF(C20,"*Sécurité Incendie*"),COUNTIF(C20,"*Services Généraux*"),COUNTIF(C20,"*Signalétique / Management visuel*"),COUNTIF(C20,"*Traitement des Déchets*"),COUNTIF(C20,"*Vêtement de Travail*"),COUNTIF(C20,"*Multi Functionnal Print*")),"Oui","Non") -> Oui | G20: Oui | L20: 1.75 | M20: 43646 | N20: 2019 | O20: T2/2019 | P20: Franck Montibeller | R20: =VLOOKUP(C20,'[1]Familles d''Achats'!A$2:B$26,2,TRUE) -> Valérie Jouhaud | T20: AF
A21: Bruyeres sur Oise | B21: Nord | C21: Services Généraux | D21: Assa Abloy | E21: =IF(OR(COUNTIF(C21,"*Contrôles Règlementaires*"),COUNTIF(C21,"*Emballage - Carton*"),COUNTIF(C21,"*Emballage - Etiquettes*"),COUNTIF(C21,"*Emballage - Film*"),COUNTIF(C21,"*Emballage - Generaliste*"),COUNTIF(C21,"*Emballage - Palettes*"),COUNTIF(C21,"*Energies*"),COUNTIF(C21,"*EPI - Equipement Protection Individuelle*"),COUNTIF(C21,"*Formation*"),COUNTIF(C21,"*Fournitures Bureau*"),COUNTIF(C21,"*Gardiennage*"),COUNTIF(C21,"*Gaz chariots*"),COUNTIF(C21,"*Interim*"),COUNTIF(C21,"*Location de Voiture*"),COUNTIF(C21,"*Maintenance Imprimantes*"),COUNTIF(C21,"*Maintenance Imprimantes*"),COUNTIF(C21,"*Maintenance RF*"),COUNTIF(C21,"*Manutention*"),COUNTIF(C21,"*Nettoyage*"),COUNTIF(C21,"*Opérateurs téléphoniques - Fixe*"),COUNTIF(C21,"*Opérateurs téléphoniques - Mobile*"),COUNTIF(C21,"*Racks*"),COUNTIF(C21,"*Sécurité Incendie*"),COUNTIF(C21,"*Services Généraux*"),COUNTIF(C21,"*Signalétique / Management visuel*"),COUNTIF(C21,"*Traitement des Déchets*"),COUNTIF(C21,"*Vêtement de Travail*"),COUNTIF(C21,"*Multi Functionnal Print*")),"Oui","Non") -> Oui | G21: Non | H21: 1 | I21: 2 | J21: 1 | K21: 3 | L21: 1.75 | M21: 43754 | N21: 2019 | O21: T2/2019 | P21: Natacha Linet | Q21: Natacha Linet | R21: =VLOOKUP(C21,'[1]Familles d''Achats'!A$2:B$26,2,TRUE) -> Valérie Jouhaud | S21: Délais extrêment longs pour devis et réparation / Aucun suivi technique | T21: NF | U21: HASSIA
A22: Meung sur Loire | B22: Nord | C22: Services Généraux | D22: Assa Abloy | E22: =IF(OR(COUNTIF(C22,"*Contrôles Règlementaires*"),COUNTIF(C22,"*Emballage - Carton*"),COUNTIF(C22,"*Emballage - Etiquettes*"),COUNTIF(C22,"*Emballage - Film*"),COUNTIF(C22,"*Emballage - Generaliste*"),COUNTIF(C22,"*Emballage - Palettes*"),COUNTIF(C22,"*Energies*"),COUNTIF(C22,"*EPI - Equipement Protection Individuelle*"),COUNTIF(C22,"*Formation*"),COUNTIF(C22,"*Fournitures Bureau*"),COUNTIF(C22,"*Gardiennage*"),COUNTIF(C22,"*Gaz chariots*"),COUNTIF(C22,"*Interim*"),COUNTIF(C22,"*Location de Voiture*"),COUNTIF(C22,"*Maintenance Imprimantes*"),COUNTIF(C22,"*Maintenance Imprimantes*"),COUNTIF(C22,"*Maintenance RF*"),COUNTIF(C22,"*Manutention*"),COUNTIF(C22,"*Nettoyage*"),COUNTIF(C22,"*Opérateurs téléphoniques - Fixe*"),COUNTIF(C22,"*Opérateurs téléphoniques - Mobile*"),COUNTIF(C22,"*Racks*"),COUNTIF(C22,"*Sécurité Incendie*"),COUNTIF(C22,"*Services Généraux*"),COUNTIF(C22,"*Signalétique / Management visuel*"),COUNTIF(C22,"*Traitement des Déchets*"),COUNTIF(C22,"*Vêtement de Travail*"),COUNTIF(C22,"*Multi Functionnal Print*")),"Oui","Non") -> Oui | G22: Non | H22: 1 | I22: 2 | J22: 1 | K22: 3 | L22: =AVERAGE(H22:K22) -> 1.75 | N22: 2019 | O22: T2/2019 | P22: Natacha Linet | Q22: Natacha Linet | R22: =VLOOKUP(C22,'[1]Familles d''Achats'!A$2:B$26,2,TRUE) -> Valérie Jouhaud | S22: Délais extrêment longs pour devis et réparation / Aucun suivi technique | T22: NF | U22: HASSIA
A23: Meung sur Loire | B23: Nord | C23: Nettoyage | D23: Atalian | E23: =IF(OR(COUNTIF(C23,"*Contrôles Règlementaires*"),COUNTIF(C23,"*Emballage - Carton*"),COUNTIF(C23,"*Emballage - Etiquettes*"),COUNTIF(C23,"*Emballage - Film*"),COUNTIF(C23,"*Emballage - Generaliste*"),COUNTIF(C23,"*Emballage - Palettes*"),COUNTIF(C23,"*Energies*"),COUNTIF(C23,"*EPI - Equipement Protection Individuelle*"),COUNTIF(C23,"*Formation*"),COUNTIF(C23,"*Fournitures Bureau*"),COUNTIF(C23,"*Gardiennage*"),COUNTIF(C23,"*Gaz chariots*"),COUNTIF(C23,"*Interim*"),COUNTIF(C23,"*Location de Voiture*"),COUNTIF(C23,"*Maintenance Imprimantes*"),COUNTIF(C23,"*Maintenance Imprimantes*"),COUNTIF(C23,"*Maintenance RF*"),COUNTIF(C23,"*Manutention*"),COUNTIF(C23,"*Nettoyage*"),COUNTIF(C23,"*Opérateurs téléphoniques - Fixe*"),COUNTIF(C23,"*Opérateurs téléphoniques - Mobile*"),COUNTIF(C23,"*Racks*"),COUNTIF(C23,"*Sécurité Incendie*"),COUNTIF(C23,"*Services Généraux*"),COUNTIF(C23,"*Signalétique / Management visuel*"),COUNTIF(C23,"*Traitement des Déchets*"),COUNTIF(C23,"*Vêtement de Travail*"),COUNTIF(C23,"*Multi Functionnal Print*")),"Oui","Non") -> Oui | G23: Oui | H23: 1 | I23: 1 | J23: 1 | K23: 3 | L23: =AVERAGE(H23:K23) -> 1.5 | M23: 43767 | N23: 2019 | O23: T3/2019 | P23: Natacha Linet | Q23: Natacha Linet | R23: =VLOOKUP(C23,'[1]Familles d''Achats'!A$2:B$26,2,TRUE) -> Valérie Jouhaud | S23: Absentéisme récurrent / Autolaveuse non opérationnelle / Absence de plan d'actions / Qualité de la prestation entrepôt médiocre | T23: NF | U23: HASSIA
A24: Bruyeres sur Oise | B24: Nord | C24: Services Généraux | D24: Axima réfrigération | E24: =IF(OR(COUNTIF(C24,"*Contrôles Règlementaires*"),COUNTIF(C24,"*Emballage - Carton*"),COUNTIF(C24,"*Emballage - Etiquettes*"),COUNTIF(C24,"*Emballage - Film*"),COUNTIF(C24,"*Emballage - Generaliste*"),COUNTIF(C24,"*Emballage - Palettes*"),COUNTIF(C24,"*Energies*"),COUNTIF(C24,"*EPI - Equipement Protection Individuelle*"),COUNTIF(C24,"*Formation*"),COUNTIF(C24,"*Fournitures Bureau*"),COUNTIF(C24,"*Gardiennage*"),COUNTIF(C24,"*Gaz chariots*"),COUNTIF(C24,"*Interim*"),COUNTIF(C24,"*Location de Voiture*"),COUNTIF(C24,"*Maintenance Imprimantes*"),COUNTIF(C24,"*Maintenance Imprimantes*"),COUNTIF(C24,"*Maintenance RF*"),COUNTIF(C24,"*Manutention*"),COUNTIF(C24,"*Nettoyage*"),COUNTIF(C24,"*Opérateurs téléphoniques - Fixe*"),COUNTIF(C24,"*Opérateurs téléphoniques - Mobile*"),COUNTIF(C24,"*Racks*"),COUNTIF(C24,"*Sécurité Incendie*"),COUNTIF(C24,"*Services Généraux*"),COUNTIF(C24,"*Signalétique / Management visuel*"),COUNTIF(C24,"*Traitement des Déchets*"),COUNTIF(C24,"*Vêtement de Travail*"),COUNTIF(C24,"*Multi Functionnal Print*")),"Oui","Non") -> Oui | G24: Non | H24: 1 | I24: 2 | J24: 1 | K24: 3 | L24: 1.75 | M24: 43754 | N24: 2019 | O24: T2/2019 | P24: Natacha Linet | Q24: Natacha Linet | R24: =VLOOKUP(C24,'[1]Familles d''Achats'!A$2:B$26,2,TRUE) -> Valérie Jouhaud | S24: Nombreuses relances pour obtenir les devis et pour intervention après validation devis + Besoin de réaliser des relances par mail pour avoir des explications avec demande de dépannage | T24: NF | U24: HASSIA
A25: Meung sur Loire | B25: Nord | C25: Services Généraux | D25: Axima réfrigération | E25: =IF(OR(COUNTIF(C25,"*Contrôles Règlementaires*"),COUNTIF(C25,"*Emballage - Carton*"),COUNTIF(C25,"*Emballage - Etiquettes*"),COUNTIF(C25,"*Emballage - Film*"),COUNTIF(C25,"*Emballage - Generaliste*"),COUNTIF(C25,"*Emballage - Palettes*"),COUNTIF(C25,"*Energies*"),COUNTIF(C25,"*EPI - Equipement Protection Individuelle*"),COUNTIF(C25,"*Formation*"),COUNTIF(C25,"*Fournitures Bureau*"),COUNTIF(C25,"*Gardiennage*"),COUNTIF(C25,"*Gaz chariots*"),COUNTIF(C25,"*Interim*"),COUNTIF(C25,"*Location de Voiture*"),COUNTIF(C25,"*Maintenance Imprimantes*"),COUNTIF(C25,"*Maintenance Imprimantes*"),COUNTIF(C25,"*Maintenance RF*"),COUNTIF(C25,"*Manutention*"),COUNTIF(C25,"*Nettoyage*"),COUNTIF(C25,"*Opérateurs téléphoniques - Fixe*"),COUNTIF(C25,"*Opérateurs téléphoniques - Mobile*"),COUNTIF(C25,"*Racks*"),COUNTIF(C25,"*Sécurité Incendie*"),COUNTIF(C25,"*Services Généraux*"),COUNTIF(C25,"*Signalétique / Management visuel*"),COUNTIF(C25,"*Traitement des Déchets*"),COUNTIF(C25,"*Vêtement de Travail*"),COUNTIF(C25,"*Multi Functionnal Print*")),"Oui","Non") -> Oui | G25: Non | H25: 1 | I25: 2 | J25: 1 | K25: 3 | L25: =AVERAGE(H25:K25) -> 1.75 | M25: 43767 | N25: 2019 | O25: T3/2019 | P25: Natacha Linet | Q25: Natacha Linet | R25: =VLOOKUP(C25,'[1]Familles d''Achats'!A$2:B$26,2,TRUE) -> Valérie Jouhaud | S25: Absence de suivi / Devis non réalisés après les visites contrat / Absence de retour suite à des mails | T25: NF | U25: HASSIA
A26: Meung sur Loire | B26: Nord | C26: Services Généraux | D26: Axima réfrigération | E26: =IF(OR(COUNTIF(C26,"*Contrôles Règlementaires*"),COUNTIF(C26,"*Emballage - Carton*"),COUNTIF(C26,"*Emballage - Etiquettes*"),COUNTIF(C26,"*Emballage - Film*"),COUNTIF(C26,"*Emballage - Generaliste*"),COUNTIF(C26,"*Emballage - Palettes*"),COUNTIF(C26,"*Energies*"),COUNTIF(C26,"*EPI - Equipement Protection Individuelle*"),COUNTIF(C26,"*Formation*"),COUNTIF(C26,"*Fournitures Bureau*"),COUNTIF(C26,"*Gardiennage*"),COUNTIF(C26,"*Gaz chariots*"),COUNTIF(C26,"*Interim*"),COUNTIF(C26,"*Location de Voiture*"),COUNTIF(C26,"*Maintenance Imprimantes*"),COUNTIF(C26,"*Maintenance Imprimantes*"),COUNTIF(C26,"*Maintenance RF*"),COUNTIF(C26,"*Manutention*"),COUNTIF(C26,"*Nettoyage*"),COUNTIF(C26,"*Opérateurs téléphoniques - Fixe*"),COUNTIF(C26,"*Opérateurs téléphoniques - Mobile*"),COUNTIF(C26,"*Racks*"),COUNTIF(C26,"*Sécurité Incendie*"),COUNTIF(C26,"*Services Généraux*"),COUNTIF(C26,"*Signalétique / Management visuel*"),COUNTIF(C26,"*Traitement des Déchets*"),COUNTIF(C26,"*Vêtement de Travail*"),COUNTIF(C26,"*Multi Functionnal Print*")),"Oui","Non") -> Oui | G26: Non | H26: 1 | I26: 2 | J26: 1 | K26: 3 | L26: =AVERAGE(H26:K26) -> 1.75 | N26: 2019 | O26: T2/2019 | P26: Natacha Linet | Q26: Natacha Linet | R26: =VLOOKUP(C26,'[1]Familles d''Achats'!A$2:B$26,2,TRUE) -> Valérie Jouhaud | S26: Nombreuses relances pour obtenir les devis et pour intervention après validation devis + Besoin de réaliser des relances par mail pour avoir des explications avec demande de dépannage | T26: NF | U26: HASSIA
A27: Fos sur Mer | B27: Sud | C27: Manutention | D27: Barthelemy | E27: =IF(OR(COUNTIF(C27,"*Contrôles Règlementaires*"),COUNTIF(C27,"*Emballage - Carton*"),COUNTIF(C27,"*Emballage - Etiquettes*"),COUNTIF(C27,"*Emballage - Film*"),COUNTIF(C27,"*Emballage - Generaliste*"),COUNTIF(C27,"*Emballage - Palettes*"),COUNTIF(C27,"*Energies*"),COUNTIF(C27,"*EPI - Equipement Protection Individuelle*"),COUNTIF(C27,"*Formation*"),COUNTIF(C27,"*Fournitures Bureau*"),COUNTIF(C27,"*Gardiennage*"),COUNTIF(C27,"*Gaz chariots*"),COUNTIF(C27,"*Interim*"),COUNTIF(C27,"*Location de Voiture*"),COUNTIF(C27,"*Maintenance Imprimantes*"),COUNTIF(C27,"*Maintenance Imprimantes*"),COUNTIF(C27,"*Maintenance RF*"),COUNTIF(C27,"*Manutention*"),COUNTIF(C27,"*Nettoyage*"),COUNTIF(C27,"*Opérateurs téléphoniques - Fixe*"),COUNTIF(C27,"*Opérateurs téléphoniques - Mobile*"),COUNTIF(C27,"*Racks*"),COUNTIF(C27,"*Sécurité Incendie*"),COUNTIF(C27,"*Services Généraux*"),COUNTIF(C27,"*Signalétique / Management visuel*"),COUNTIF(C27,"*Traitement des Déchets*"),COUNTIF(C27,"*Vêtement de Travail*"),COUNTIF(C27,"*Multi Functionnal Print*")),"Oui","Non") -> Oui | G27: Non | H27: 1.33 | L27: 1.33 | M27: 43555 | N27: 2019 | O27: T1/2019 | P27: S.Sagnelogue | R27: =VLOOKUP(C27,'[1]Familles d''Achats'!A$2:B$26,2,TRUE) -> Marie-Helene Denaux | S27: 1er trim : pb batterie 2e trim : pb galets Changement de tous les jeux de galets sur les neufs chariots => le pb persiste, une analyse est portée au siège de fenwick et une nouvelle génération de galet sera testée courant juillet | T27: AF
A28: Fos sur Mer | B28: Sud | C28: Manutention | D28: Barthelemy | E28: =IF(OR(COUNTIF(C28,"*Contrôles Règlementaires*"),COUNTIF(C28,"*Emballage - Carton*"),COUNTIF(C28,"*Emballage - Etiquettes*"),COUNTIF(C28,"*Emballage - Film*"),COUNTIF(C28,"*Emballage - Generaliste*"),COUNTIF(C28,"*Emballage - Palettes*"),COUNTIF(C28,"*Energies*"),COUNTIF(C28,"*EPI - Equipement Protection Individuelle*"),COUNTIF(C28,"*Formation*"),COUNTIF(C28,"*Fournitures Bureau*"),COUNTIF(C28,"*Gardiennage*"),COUNTIF(C28,"*Gaz chariots*"),COUNTIF(C28,"*Interim*"),COUNTIF(C28,"*Location de Voiture*"),COUNTIF(C28,"*Maintenance Imprimantes*"),COUNTIF(C28,"*Maintenance Imprimantes*"),COUNTIF(C28,"*Maintenance RF*"),COUNTIF(C28,"*Manutention*"),COUNTIF(C28,"*Nettoyage*"),COUNTIF(C28,"*Opérateurs téléphoniques - Fixe*"),COUNTIF(C28,"*Opérateurs téléphoniques - Mobile*"),COUNTIF(C28,"*Racks*"),COUNTIF(C28,"*Sécurité Incendie*"),COUNTIF(C28,"*Services Généraux*"),COUNTIF(C28,"*Signalétique / Management visuel*"),COUNTIF(C28,"*Traitement des Déchets*"),COUNTIF(C28,"*Vêtement de Travail*"),COUNTIF(C28,"*Multi Functionnal Print*")),"Oui","Non") -> Oui | G28: Non | H28: 1.33 | L28: 1.33 | M28: 43646 | N28: 2019 | O28: T2/2019 | P28: S.Sagnelogue | R28: =VLOOKUP(C28,'[1]Familles d''Achats'!A$2:B$26,2,TRUE) -> Marie-Helene Denaux | S28: 1er trim : pb batterie 2e trim : pb galets Changement de tous les jeux de galets sur les neufs chariots => le pb persiste, une analyse est portée au siège de fenwick et une nouvelle génération de galet sera testée courant juillet | T28: AF
A29: Réau | B29: Nord | C29: Interim | D29: Crit | E29: =IF(OR(COUNTIF(C29,"*Contrôles Règlementaires*"),COUNTIF(C29,"*Emballage - Carton*"),COUNTIF(C29,"*Emballage - Etiquettes*"),COUNTIF(C29,"*Emballage - Film*"),COUNTIF(C29,"*Emballage - Generaliste*"),COUNTIF(C29,"*Emballage - Palettes*"),COUNTIF(C29,"*Energies*"),COUNTIF(C29,"*EPI - Equipement Protection Individuelle*"),COUNTIF(C29,"*Formation*"),COUNTIF(C29,"*Fournitures Bureau*"),COUNTIF(C29,"*Gardiennage*"),COUNTIF(C29,"*Gaz chariots*"),COUNTIF(C29,"*Interim*"),COUNTIF(C29,"*Location de Voiture*"),COUNTIF(C29,"*Maintenance Imprimantes*"),COUNTIF(C29,"*Maintenance Imprimantes*"),COUNTIF(C29,"*Maintenance RF*"),COUNTIF(C29,"*Manutention*"),COUNTIF(C29,"*Nettoyage*"),COUNTIF(C29,"*Opérateurs téléphoniques - Fixe*"),COUNTIF(C29,"*Opérateurs téléphoniques - Mobile*"),COUNTIF(C29,"*Racks*"),COUNTIF(C29,"*Sécurité Incendie*"),COUNTIF(C29,"*Services Généraux*"),COUNTIF(C29,"*Signalétique / Management visuel*"),COUNTIF(C29,"*Traitement des Déchets*"),COUNTIF(C29,"*Vêtement de Travail*"),COUNTIF(C29,"*Multi Functionnal Print*")),"Oui","Non") -> Oui | G29: Oui | H29: 1 | I29: 1 | J29: 1 | K29: 1 | L29: =AVERAGE(H29:K29) -> 1 | N29: 2019 | O29: T2/2019 | Q29: Stéphanie Sagnelonge | R29: =VLOOKUP(C29,'[1]Familles d''Achats'!A$2:B$26,2,TRUE) -> Claire Martin | S29: pas de retour aux demandes | T29: NF | U29: HASSIA
A30: Réau | B30: Nord | C30: Interim | D30: Crit | E30: =IF(OR(COUNTIF(C30,"*Contrôles Règlementaires*"),COUNTIF(C30,"*Emballage - Carton*"),COUNTIF(C30,"*Emballage - Etiquettes*"),COUNTIF(C30,"*Emballage - Film*"),COUNTIF(C30,"*Emballage - Generaliste*"),COUNTIF(C30,"*Emballage - Palettes*"),COUNTIF(C30,"*Energies*"),COUNTIF(C30,"*EPI - Equipement Protection Individuelle*"),COUNTIF(C30,"*Formation*"),COUNTIF(C30,"*Fournitures Bureau*"),COUNTIF(C30,"*Gardiennage*"),COUNTIF(C30,"*Gaz chariots*"),COUNTIF(C30,"*Interim*"),COUNTIF(C30,"*Location de Voiture*"),COUNTIF(C30,"*Maintenance Imprimantes*"),COUNTIF(C30,"*Maintenance Imprimantes*"),COUNTIF(C30,"*Maintenance RF*"),COUNTIF(C30,"*Manutention*"),COUNTIF(C30,"*Nettoyage*"),COUNTIF(C30,"*Opérateurs téléphoniques - Fixe*"),COUNTIF(C30,"*Opérateurs téléphoniques - Mobile*"),COUNTIF(C30,"*Racks*"),COUNTIF(C30,"*Sécurité Incendie*"),COUNTIF(C30,"*Services Généraux*"),COUNTIF(C30,"*Signalétique / Management visuel*"),COUNTIF(C30,"*Traitement des Déchets*"),COUNTIF(C30,"*Vêtement de Travail*"),COUNTIF(C30,"*Multi Functionnal Print*")),"Oui","Non") -> Oui | G30: Oui | H30: 1 | I30: 1 | J30: 1 | K30: 1 | L30: =AVERAGE(H30:K30) -> 1 | N30: 2019 | O30: T1/2019 | Q30: Stéphanie Sagnelonge | R30: =VLOOKUP(C30,'[1]Familles d''Achats'!A$2:B$26,2,TRUE) -> Claire Martin | S30: pas de retour aux demandes | T30: NF | U30: HASSIA
A31: Roissy en Brie | B31: TD | C31: Interim | D31: Crit | E31: =IF(OR(COUNTIF(C31,"*Contrôles Règlementaires*"),COUNTIF(C31,"*Emballage - Carton*"),COUNTIF(C31,"*Emballage - Etiquettes*"),COUNTIF(C31,"*Emballage - Film*"),COUNTIF(C31,"*Emballage - Generaliste*"),COUNTIF(C31,"*Emballage - Palettes*"),COUNTIF(C31,"*Energies*"),COUNTIF(C31,"*EPI - Equipement Protection Individuelle*"),COUNTIF(C31,"*Formation*"),COUNTIF(C31,"*Fournitures Bureau*"),COUNTIF(C31,"*Gardiennage*"),COUNTIF(C31,"*Gaz chariots*"),COUNTIF(C31,"*Interim*"),COUNTIF(C31,"*Location de Voiture*"),COUNTIF(C31,"*Maintenance Imprimantes*"),COUNTIF(C31,"*Maintenance Imprimantes*"),COUNTIF(C31,"*Maintenance RF*"),COUNTIF(C31,"*Manutention*"),COUNTIF(C31,"*Nettoyage*"),COUNTIF(C31,"*Opérateurs téléphoniques - Fixe*"),COUNTIF(C31,"*Opérateurs téléphoniques - Mobile*"),COUNTIF(C31,"*Racks*"),COUNTIF(C31,"*Sécurité Incendie*"),COUNTIF(C31,"*Services Généraux*"),COUNTIF(C31,"*Signalétique / Management visuel*"),COUNTIF(C31,"*Traitement des Déchets*"),COUNTIF(C31,"*Vêtement de Travail*"),COUNTIF(C31,"*Multi Functionnal Print*")),"Oui","Non") -> Oui | G31: Oui | H31: 1 | I31: 1 | J31: 1 | K31: 1 | L31: =AVERAGE(H31:K31) -> 1 | M31: 43775 | N31: 2019 | O31: T3/2019 | P31: Francis Montoro | Q31: Catherine Masson | R31: =VLOOKUP(C31,'[1]Familles d''Achats'!A$2:B$26,2,TRUE) -> Claire Martin | S31: A la suite de mauvaises délégations + une absence de communication, nous ne commandons plus personne chez eux. Pas de réaction de leur part. | T31: NF | U31: HASSIA
A32: Artenay | B32: Centre | C32: Contrôles règlementaires | D32: Dalkia | E32: =IF(OR(COUNTIF(C32,"*Contrôles Règlementaires*"),COUNTIF(C32,"*Emballage - Carton*"),COUNTIF(C32,"*Emballage - Etiquettes*"),COUNTIF(C32,"*Emballage - Film*"),COUNTIF(C32,"*Emballage - Generaliste*"),COUNTIF(C32,"*Emballage - Palettes*"),COUNTIF(C32,"*Energies*"),COUNTIF(C32,"*EPI - Equipement Protection Individuelle*"),COUNTIF(C32,"*Formation*"),COUNTIF(C32,"*Fournitures Bureau*"),COUNTIF(C32,"*Gardiennage*"),COUNTIF(C32,"*Gaz chariots*"),COUNTIF(C32,"*Interim*"),COUNTIF(C32,"*Location de Voiture*"),COUNTIF(C32,"*Maintenance Imprimantes*"),COUNTIF(C32,"*Maintenance Imprimantes*"),COUNTIF(C32,"*Maintenance RF*"),COUNTIF(C32,"*Manutention*"),COUNTIF(C32,"*Nettoyage*"),COUNTIF(C32,"*Opérateurs téléphoniques - Fixe*"),COUNTIF(C32,"*Opérateurs téléphoniques - Mobile*"),COUNTIF(C32,"*Racks*"),COUNTIF(C32,"*Sécurité Incendie*"),COUNTIF(C32,"*Services Généraux*"),COUNTIF(C32,"*Signalétique / Management visuel*"),COUNTIF(C32,"*Traitement des Déchets*"),COUNTIF(C32,"*Vêtement de Travail*"),COUNTIF(C32,"*Multi Functionnal Print*")),"Oui","Non") -> Oui | G32: Non | H32: 1.33 | I32: 1.33 | J32: 1.33 | K32: 1.33 | L32: 1.33 | M32: 43555 | N32: 2019 | O32: T1/2019 | P32: Marion Fernandes | R32: =VLOOKUP(C32,'[1]Familles d''Achats'!A$2:B$26,2,TRUE) -> Valérie Jouhaud | T32: AF
A33: Artenay | B33: Centre | C33: Contrôles règlementaires | D33: Dalkia | E33: =IF(OR(COUNTIF(C33,"*Contrôles Règlementaires*"),COUNTIF(C33,"*Emballage - Carton*"),COUNTIF(C33,"*Emballage - Etiquettes*"),COUNTIF(C33,"*Emballage - Film*"),COUNTIF(C33,"*Emballage - Generaliste*"),COUNTIF(C33,"*Emballage - Palettes*"),COUNTIF(C33,"*Energies*"),COUNTIF(C33,"*EPI - Equipement Protection Individuelle*"),COUNTIF(C33,"*Formation*"),COUNTIF(C33,"*Fournitures Bureau*"),COUNTIF(C33,"*Gardiennage*"),COUNTIF(C33,"*Gaz chariots*"),COUNTIF(C33,"*Interim*"),COUNTIF(C33,"*Location de Voiture*"),COUNTIF(C33,"*Maintenance Imprimantes*"),COUNTIF(C33,"*Maintenance Imprimantes*"),COUNTIF(C33,"*Maintenance RF*"),COUNTIF(C33,"*Manutention*"),COUNTIF(C33,"*Nettoyage*"),COUNTIF(C33,"*Opérateurs téléphoniques - Fixe*"),COUNTIF(C33,"*Opérateurs téléphoniques - Mobile*"),COUNTIF(C33,"*Racks*"),COUNTIF(C33,"*Sécurité Incendie*"),COUNTIF(C33,"*Services Généraux*"),COUNTIF(C33,"*Signalétique / Management visuel*"),COUNTIF(C33,"*Traitement des Déchets*"),COUNTIF(C33,"*Vêtement de Travail*"),COUNTIF(C33,"*Multi Functionnal Print*")),"Oui","Non") -> Oui | G33: Non | H33: 1.33 | I33: 1.33 | J33: 1.33 | K33: 1.33 | L33: 1.33 | M33: 43646 | N33: 2019 | O33: T2/2019 | P33: Marion Fernandes | R33: =VLOOKUP(C33,'[1]Familles d''Achats'!A$2:B$26,2,TRUE) -> Valérie Jouhaud | T33: AF
A34: Amblainville | B34: Nord | C34: Vêtement de travail | D34: DB Vetpro | E34: =IF(OR(COUNTIF(C34,"*Contrôles Règlementaires*"),COUNTIF(C34,"*Emballage - Carton*"),COUNTIF(C34,"*Emballage - Etiquettes*"),COUNTIF(C34,"*Emballage - Film*"),COUNTIF(C34,"*Emballage - Generaliste*"),COUNTIF(C34,"*Emballage - Palettes*"),COUNTIF(C34,"*Energies*"),COUNTIF(C34,"*EPI - Equipement Protection Individuelle*"),COUNTIF(C34,"*Formation*"),COUNTIF(C34,"*Fournitures Bureau*"),COUNTIF(C34,"*Gardiennage*"),COUNTIF(C34,"*Gaz chariots*"),COUNTIF(C34,"*Interim*"),COUNTIF(C34,"*Location de Voiture*"),COUNTIF(C34,"*Maintenance Imprimantes*"),COUNTIF(C34,"*Maintenance Imprimantes*"),COUNTIF(C34,"*Maintenance RF*"),COUNTIF(C34,"*Manutention*"),COUNTIF(C34,"*Nettoyage*"),COUNTIF(C34,"*Opérateurs téléphoniques - Fixe*"),COUNTIF(C34,"*Opérateurs téléphoniques - Mobile*"),COUNTIF(C34,"*Racks*"),COUNTIF(C34,"*Sécurité Incendie*"),COUNTIF(C34,"*Services Généraux*"),COUNTIF(C34,"*Signalétique / Management visuel*"),COUNTIF(C34,"*Traitement des Déchets*"),COUNTIF(C34,"*Vêtement de Travail*"),COUNTIF(C34,"*Multi Functionnal Print*")),"Oui","Non") -> Oui | G34: Oui | H34: 1 | I34: 2 | J34: 2 | K34: 2 | L34: =AVERAGE(H34:K34) -> 1.75 | M34: 43781 | N34: 2019 | O34: T3/2019 | P34: Pauline Landier | Q34: Pauline Landier | R34: =VLOOKUP(C34,'[1]Familles d''Achats'!A$2:B$26,2,TRUE) -> Claire Martin | S34: Délai de livraison long avec erreur sur adresse donc problème de livraison chez Prévoté. Les quantités livrées ne sont pas les bonnes et aucun retour / information par DB VET PRO. Pb sur une référence de chasuble haute visibilité bi-colors. Tailles de pantalons trop petites par rapport à la réalité. Veste de travail livrée de mauvaise qualité. | T34: NF | U34: HASSIA
A35: Artenay | B35: Centre | C35: Nettoyage | D35: ELIS | E35: =IF(OR(COUNTIF(C35,"*Contrôles Règlementaires*"),COUNTIF(C35,"*Emballage - Carton*"),COUNTIF(C35,"*Emballage - Etiquettes*"),COUNTIF(C35,"*Emballage - Film*"),COUNTIF(C35,"*Emballage - Generaliste*"),COUNTIF(C35,"*Emballage - Palettes*"),COUNTIF(C35,"*Energies*"),COUNTIF(C35,"*EPI - Equipement Protection Individuelle*"),COUNTIF(C35,"*Formation*"),COUNTIF(C35,"*Fournitures Bureau*"),COUNTIF(C35,"*Gardiennage*"),COUNTIF(C35,"*Gaz chariots*"),COUNTIF(C35,"*Interim*"),COUNTIF(C35,"*Location de Voiture*"),COUNTIF(C35,"*Maintenance Imprimantes*"),COUNTIF(C35,"*Maintenance Imprimantes*"),COUNTIF(C35,"*Maintenance RF*"),COUNTIF(C35,"*Manutention*"),COUNTIF(C35,"*Nettoyage*"),COUNTIF(C35,"*Opérateurs téléphoniques - Fixe*"),COUNTIF(C35,"*Opérateurs téléphoniques - Mobile*"),COUNTIF(C35,"*Racks*"),COUNTIF(C35,"*Sécurité Incendie*"),COUNTIF(C35,"*Services Généraux*"),COUNTIF(C35,"*Signalétique / Management visuel*"),COUNTIF(C35,"*Traitement des Déchets*"),COUNTIF(C35,"*Vêtement de Travail*"),COUNTIF(C35,"*Multi Functionnal Print*")),"Oui","Non") -> Oui | G35: Non | H35: 1.33 | I35: 1.33 | J35: 1.33 | K35: 1.33 | L35: 1.33 | M35: 43555 | N35: 2019 | O35: T1/2019 | P35: Marion Fernandes | R35: =VLOOKUP(C35,'[1]Familles d''Achats'!A$2:B$26,2,TRUE) -> Valérie Jouhaud | T35: AF
A36: Artenay | B36: Centre | C36: Nettoyage | D36: ELIS | E36: =IF(OR(COUNTIF(C36,"*Contrôles Règlementaires*"),COUNTIF(C36,"*Emballage - Carton*"),COUNTIF(C36,"*Emballage - Etiquettes*"),COUNTIF(C36,"*Emballage - Film*"),COUNTIF(C36,"*Emballage - Generaliste*"),COUNTIF(C36,"*Emballage - Palettes*"),COUNTIF(C36,"*Energies*"),COUNTIF(C36,"*EPI - Equipement Protection Individuelle*"),COUNTIF(C36,"*Formation*"),COUNTIF(C36,"*Fournitures Bureau*"),COUNTIF(C36,"*Gardiennage*"),COUNTIF(C36,"*Gaz chariots*"),COUNTIF(C36,"*Interim*"),COUNTIF(C36,"*Location de Voiture*"),COUNTIF(C36,"*Maintenance Imprimantes*"),COUNTIF(C36,"*Maintenance Imprimantes*"),COUNTIF(C36,"*Maintenance RF*"),COUNTIF(C36,"*Manutention*"),COUNTIF(C36,"*Nettoyage*"),COUNTIF(C36,"*Opérateurs téléphoniques - Fixe*"),COUNTIF(C36,"*Opérateurs téléphoniques - Mobile*"),COUNTIF(C36,"*Racks*"),COUNTIF(C36,"*Sécurité Incendie*"),COUNTIF(C36,"*Services Généraux*"),COUNTIF(C36,"*Signalétique / Management visuel*"),COUNTIF(C36,"*Traitement des Déchets*"),COUNTIF(C36,"*Vêtement de Travail*"),COUNTIF(C36,"*Multi Functionnal Print*")),"Oui","Non") -> Oui | G36: Non | H36: 1.33 | I36: 1.33 | J36: 1.33 | K36: 1.33 | L36: 1.33 | M36: 43646 | N36: 2019 | O36: T2/2019 | P36: Marion Fernandes | R36: =VLOOKUP(C36,'[1]Familles d''Achats'!A$2:B$26,2,TRUE) -> Valérie Jouhaud | T36: AF
A37: Pourpy | B37: Nord | C37: Nettoyage | D37: ELIS | E37: =IF(OR(COUNTIF(C37,"*Contrôles Règlementaires*"),COUNTIF(C37,"*Emballage - Carton*"),COUNTIF(C37,"*Emballage - Etiquettes*"),COUNTIF(C37,"*Emballage - Film*"),COUNTIF(C37,"*Emballage - Generaliste*"),COUNTIF(C37,"*Emballage - Palettes*"),COUNTIF(C37,"*Energies*"),COUNTIF(C37,"*EPI - Equipement Protection Individuelle*"),COUNTIF(C37,"*Formation*"),COUNTIF(C37,"*Fournitures Bureau*"),COUNTIF(C37,"*Gardiennage*"),COUNTIF(C37,"*Gaz chariots*"),COUNTIF(C37,"*Interim*"),COUNTIF(C37,"*Location de Voiture*"),COUNTIF(C37,"*Maintenance Imprimantes*"),COUNTIF(C37,"*Maintenance Imprimantes*"),COUNTIF(C37,"*Maintenance RF*"),COUNTIF(C37,"*Manutention*"),COUNTIF(C37,"*Nettoyage*"),COUNTIF(C37,"*Opérateurs téléphoniques - Fixe*"),COUNTIF(C37,"*Opérateurs téléphoniques - Mobile*"),COUNTIF(C37,"*Racks*"),COUNTIF(C37,"*Sécurité Incendie*"),COUNTIF(C37,"*Services Généraux*"),COUNTIF(C37,"*Signalétique / Management visuel*"),COUNTIF(C37,"*Traitement des Déchets*"),COUNTIF(C37,"*Vêtement de Travail*"),COUNTIF(C37,"*Multi Functionnal Print*")),"Oui","Non") -> Oui | G37: Non | H37: 1.33 | I37: 1.33 | J37: 1.33 | K37: 1.33 | L37: 1.33 | M37: 43555 | N37: 2019 | O37: T1/2019 | P37: Sylvie Mathe | R37: =VLOOKUP(C37,'[1]Familles d''Achats'!A$2:B$26,2,TRUE) -> Valérie Jouhaud | T37: AF
A38: Pourpy | B38: Nord | C38: Nettoyage | D38: ELIS | E38: =IF(OR(COUNTIF(C38,"*Contrôles Règlementaires*"),COUNTIF(C38,"*Emballage - Carton*"),COUNTIF(C38,"*Emballage - Etiquettes*"),COUNTIF(C38,"*Emballage - Film*"),COUNTIF(C38,"*Emballage - Generaliste*"),COUNTIF(C38,"*Emballage - Palettes*"),COUNTIF(C38,"*Energies*"),COUNTIF(C38,"*EPI - Equipement Protection Individuelle*"),COUNTIF(C38,"*Formation*"),COUNTIF(C38,"*Fournitures Bureau*"),COUNTIF(C38,"*Gardiennage*"),COUNTIF(C38,"*Gaz chariots*"),COUNTIF(C38,"*Interim*"),COUNTIF(C38,"*Location de Voiture*"),COUNTIF(C38,"*Maintenance Imprimantes*"),COUNTIF(C38,"*Maintenance Imprimantes*"),COUNTIF(C38,"*Maintenance RF*"),COUNTIF(C38,"*Manutention*"),COUNTIF(C38,"*Nettoyage*"),COUNTIF(C38,"*Opérateurs téléphoniques - Fixe*"),COUNTIF(C38,"*Opérateurs téléphoniques - Mobile*"),COUNTIF(C38,"*Racks*"),COUNTIF(C38,"*Sécurité Incendie*"),COUNTIF(C38,"*Services Généraux*"),COUNTIF(C38,"*Signalétique / Management visuel*"),COUNTIF(C38,"*Traitement des Déchets*"),COUNTIF(C38,"*Vêtement de Travail*"),COUNTIF(C38,"*Multi Functionnal Print*")),"Oui","Non") -> Oui | G38: Non | H38: 1.33 | I38: 1.33 | J38: 1.33 | K38: 1.33 | L38: 1.33 | M38: 43646 | N38: 2019 | O38: T2/2019 | P38: Sylvie Mathe | R38: =VLOOKUP(C38,'[1]Familles d''Achats'!A$2:B$26,2,TRUE) -> Valérie Jouhaud | T38: AF
A39: Fos sur Mer | B39: Sud | C39: Manutention | D39: Fenwick | E39: =IF(OR(COUNTIF(C39,"*Contrôles Règlementaires*"),COUNTIF(C39,"*Emballage - Carton*"),COUNTIF(C39,"*Emballage - Etiquettes*"),COUNTIF(C39,"*Emballage - Film*"),COUNTIF(C39,"*Emballage - Generaliste*"),COUNTIF(C39,"*Emballage - Palettes*"),COUNTIF(C39,"*Energies*"),COUNTIF(C39,"*EPI - Equipement Protection Individuelle*"),COUNTIF(C39,"*Formation*"),COUNTIF(C39,"*Fournitures Bureau*"),COUNTIF(C39,"*Gardiennage*"),COUNTIF(C39,"*Gaz chariots*"),COUNTIF(C39,"*Interim*"),COUNTIF(C39,"*Location de Voiture*"),COUNTIF(C39,"*Maintenance Imprimantes*"),COUNTIF(C39,"*Maintenance Imprimantes*"),COUNTIF(C39,"*Maintenance RF*"),COUNTIF(C39,"*Manutention*"),COUNTIF(C39,"*Nettoyage*"),COUNTIF(C39,"*Opérateurs téléphoniques - Fixe*"),COUNTIF(C39,"*Opérateurs téléphoniques - Mobile*"),COUNTIF(C39,"*Racks*"),COUNTIF(C39,"*Sécurité Incendie*"),COUNTIF(C39,"*Services Généraux*"),COUNTIF(C39,"*Signalétique / Management visuel*"),COUNTIF(C39,"*Traitement des Déchets*"),COUNTIF(C39,"*Vêtement de Travail*"),COUNTIF(C39,"*Multi Functionnal Print*")),"Oui","Non") -> Oui | G39: Oui | H39: 1.33 | I39: 1.33 | J39: 1.33 | K39: 1.33 | L39: 1.33 | M39: 43555 | N39: 2019 | O39: T1/2019 | P39: Christel Veglia | R39: =VLOOKUP(C39,'[1]Familles d''Achats'!A$2:B$26,2,TRUE) -> Marie-Helene Denaux | T39: AF
A40: Fos sur Mer | B40: Sud | C40: Manutention | D40: Fenwick | E40: =IF(OR(COUNTIF(C40,"*Contrôles Règlementaires*"),COUNTIF(C40,"*Emballage - Carton*"),COUNTIF(C40,"*Emballage - Etiquettes*"),COUNTIF(C40,"*Emballage - Film*"),COUNTIF(C40,"*Emballage - Generaliste*"),COUNTIF(C40,"*Emballage - Palettes*"),COUNTIF(C40,"*Energies*"),COUNTIF(C40,"*EPI - Equipement Protection Individuelle*"),COUNTIF(C40,"*Formation*"),COUNTIF(C40,"*Fournitures Bureau*"),COUNTIF(C40,"*Gardiennage*"),COUNTIF(C40,"*Gaz chariots*"),COUNTIF(C40,"*Interim*"),COUNTIF(C40,"*Location de Voiture*"),COUNTIF(C40,"*Maintenance Imprimantes*"),COUNTIF(C40,"*Maintenance Imprimantes*"),COUNTIF(C40,"*Maintenance RF*"),COUNTIF(C40,"*Manutention*"),COUNTIF(C40,"*Nettoyage*"),COUNTIF(C40,"*Opérateurs téléphoniques - Fixe*"),COUNTIF(C40,"*Opérateurs téléphoniques - Mobile*"),COUNTIF(C40,"*Racks*"),COUNTIF(C40,"*Sécurité Incendie*"),COUNTIF(C40,"*Services Généraux*"),COUNTIF(C40,"*Signalétique / Management visuel*"),COUNTIF(C40,"*Traitement des Déchets*"),COUNTIF(C40,"*Vêtement de Travail*"),COUNTIF(C40,"*Multi Functionnal Print*")),"Oui","Non") -> Oui | G40: Oui | H40: 1.33 | I40: 1.33 | J40: 1.33 | K40: 1.33 | L40: 1.33 | M40: 43646 | N40: 2019 | O40: T2/2019 | P40: Christel Veglia | R40: =VLOOKUP(C40,'[1]Familles d''Achats'!A$2:B$26,2,TRUE) -> Marie-Helene Denaux | T40: AF
...
