Workbook

Sheet Liste des jeux
C5: Jeu | D5: Chiffre 1 | E5: Chiffre 2 | G5: Total des chiffres | I5: Conclusion
A6: =IF(D6="","",COUNTIF($I$6:I6,"GAGNE")) -> 0 | C6: Jeu 1 | D6: 9 | E6: 4 | G6: =IF(D6="","",D6+E6) -> 13 | I6: =IF(G6>50,"GAGNE","PERDU") -> PERDU
A7: =IF(D7="","",COUNTIF($I$6:I7,"GAGNE")) -> 1 | C7: Jeu 2 | D7: 50 | E7: 18 | G7: =IF(D7="","",D7+E7) -> 68 | I7: =IF(G7>50,"GAGNE","PERDU") -> GAGNE
A8: =IF(D8="","",COUNTIF($I$6:I8,"GAGNE")) -> 1 | C8: Jeu 3 | D8: 9 | E8: 14 | G8: =IF(D8="","",D8+E8) -> 23 | I8: =IF(G8>50,"GAGNE","PERDU") -> PERDU
A9: =IF(D9="","",COUNTIF($I$6:I9,"GAGNE")) -> 1 | C9: Jeu 4 | D9: 2 | E9: 23 | G9: =IF(D9="","",D9+E9) -> 25 | I9: =IF(G9>50,"GAGNE","PERDU") -> PERDU
A10: =IF(D10="","",COUNTIF($I$6:I10,"GAGNE")) -> 1 | C10: Jeu 5 | D10: 5 | E10: 10 | G10: =IF(D10="","",D10+E10) -> 15 | I10: =IF(G10>50,"GAGNE","PERDU") -> PERDU
A11: =IF(D11="","",COUNTIF($I$6:I11,"GAGNE")) -> 2 | C11: Jeu 6 | D11: 99 | E11: 9 | G11: =IF(D11="","",D11+E11) -> 108 | I11: =IF(G11>50,"GAGNE","PERDU") -> GAGNE
A12: =IF(D12="","",COUNTIF($I$6:I12,"GAGNE")) -> 2 | C12: Jeu 7 | D12: 5 | E12: 14 | G12: =IF(D12="","",D12+E12) -> 19 | I12: =IF(G12>50,"GAGNE","PERDU") -> PERDU
A13: =IF(D13="","",COUNTIF($I$6:I13,"GAGNE")) -> 3 | C13: Jeu 8 | D13: 65 | E13: 56 | G13: =IF(D13="","",D13+E13) -> 121 | I13: =IF(G13>50,"GAGNE","PERDU") -> GAGNE
A14: =IF(D14="","",COUNTIF($I$6:I14,"GAGNE")) -> 4 | C14: Jeu 9 | D14: 56 | E14: 51 | G14: =IF(D14="","",D14+E14) -> 107 | I14: =IF(G14>50,"GAGNE","PERDU") -> GAGNE

Sheet Gains
B4: Liste des jeux gagnants | D4: Personne
B5: =IF(COUNTIF('Liste des jeux'!A6:A14,ROWS($1:1)),INDEX('Liste des jeux'!C6:C14,MATCH(ROWS($1:1),'Liste des jeux'!A6:A14,0)),"") -> Jeu 2 | D5: Thomas
B6: =IF(COUNTIF('Liste des jeux'!A7:A15,ROWS($1:2)),INDEX('Liste des jeux'!C7:C15,MATCH(ROWS($1:2),'Liste des jeux'!A7:A15,0)),"") -> Jeu 6 | D6: Raphael
B7: =IF(COUNTIF('Liste des jeux'!A8:A16,ROWS($1:3)),INDEX('Liste des jeux'!C8:C16,MATCH(ROWS($1:3),'Liste des jeux'!A8:A16,0)),"") -> Jeu 8 | D7: Diane
B8: =IF(COUNTIF('Liste des jeux'!A9:A17,ROWS($1:4)),INDEX('Liste des jeux'!C9:C17,MATCH(ROWS($1:4),'Liste des jeux'!A9:A17,0)),"") -> Jeu 9 | D8: Sophie
B9: =IF(COUNTIF('Liste des jeux'!A10:A18,ROWS($1:5)),INDEX('Liste des jeux'!C10:C18,MATCH(ROWS($1:5),'Liste des jeux'!A10:A18,0)),"")
B10: =IF(COUNTIF('Liste des jeux'!A11:A19,ROWS($1:6)),INDEX('Liste des jeux'!C11:C19,MATCH(ROWS($1:6),'Liste des jeux'!A11:A19,0)),"")
B11: =IF(COUNTIF('Liste des jeux'!A12:A20,ROWS($1:7)),INDEX('Liste des jeux'!C12:C20,MATCH(ROWS($1:7),'Liste des jeux'!A12:A20,0)),"")
B12: =IF(COUNTIF('Liste des jeux'!A13:A21,ROWS($1:8)),INDEX('Liste des jeux'!C13:C21,MATCH(ROWS($1:8),'Liste des jeux'!A13:A21,0)),"")
B13: =IF(COUNTIF('Liste des jeux'!A14:A22,ROWS($1:9)),INDEX('Liste des jeux'!C14:C22,MATCH(ROWS($1:9),'Liste des jeux'!A14:A22,0)),"")
B14: =IF(COUNTIF('Liste des jeux'!A15:A23,ROWS($1:10)),INDEX('Liste des jeux'!C15:C23,MATCH(ROWS($1:10),'Liste des jeux'!A15:A23,0)),"")
B15: =IF(COUNTIF('Liste des jeux'!A16:A24,ROWS($1:11)),INDEX('Liste des jeux'!C16:C24,MATCH(ROWS($1:11),'Liste des jeux'!A16:A24,0)),"")
B16: =IF(COUNTIF('Liste des jeux'!A17:A25,ROWS($1:12)),INDEX('Liste des jeux'!C17:C25,MATCH(ROWS($1:12),'Liste des jeux'!A17:A25,0)),"")
