Workbook
Name Avec_prenom: [1]ListeSalariés!$B$3:$C$20
Name DateDébut: Planning!$B$3
Name JoursFetes: [1]JoursFetes!$B$1:$B$13
Name Nom_Salarie: OFFSET([1]ListeSalariés!$B$3,0,0,COUNTA([1]ListeSalariés!$B:$B)-1)

Sheet Planning
A1: PLANNING PRISE MEDICAMENTS MOIS DE : | F1: =TEXT(DateDébut,"mmmm")&" "&YEAR(B4) -> novembre 2021
A3: Date début | B3: 44501
A4: Date fin | B4: =EOMONTH(DateDébut,0) -> 44530
B5: =TODAY() -> 44541
I6: =IFERROR(IF(VLOOKUP(I7,JoursFetes,1,FALSE),"F",""),"") | J6: =IFERROR(IF(VLOOKUP(J7,JoursFetes,1,FALSE),"F",""),"") | K6: =IFERROR(IF(VLOOKUP(K7,JoursFetes,1,FALSE),"F",""),"") | L6: =IFERROR(IF(VLOOKUP(L7,JoursFetes,1,FALSE),"F",""),"") | M6: =IFERROR(IF(VLOOKUP(M7,JoursFetes,1,FALSE),"F",""),"") | N6: =IFERROR(IF(VLOOKUP(N7,JoursFetes,1,FALSE),"F",""),"") | O6: =IFERROR(IF(VLOOKUP(O7,JoursFetes,1,FALSE),"F",""),"") | P6: =IFERROR(IF(VLOOKUP(P7,JoursFetes,1,FALSE),"F",""),"") | ... AM6: =IFERROR(IF(VLOOKUP(AM7,JoursFetes,1,FALSE),"F",""),"")
I7: =DateDébut -> 44501 | J7: =I7+1 -> 44502 | K7: =J7+1 -> 44503 | L7: =K7+1 -> 44504 | M7: =L7+1 -> 44505 | N7: =M7+1 -> 44506 | O7: =N7+1 -> 44507 | P7: =O7+1 -> 44508 | Q7: =P7+1 -> 44509 | ... AJ7: =AI7+1 -> 44528 | AK7: =IFERROR(IF(AJ7+1>$B$4,"",AJ7+1),"") -> 44529 | AL7: =IFERROR(IF(AK7+1>$B$4,"",AK7+1),"") -> 44530 | AM7: =IFERROR(IF(AL7+1>$B$4,"",AL7+1),"")
I8: =IF(I10="L","S " & WEEKNUM(I7),"") -> S 45 | J8: =IF(J10="L","S " & WEEKNUM(J7),"") | K8: =IF(K10="L","S " & WEEKNUM(K7),"") | L8: =IF(L10="L","S " & WEEKNUM(L7),"") | M8: =IF(M10="L","S " & WEEKNUM(M7),"") | N8: =IF(N10="L","S " & WEEKNUM(N7),"") | O8: =IF(O10="L","S " & WEEKNUM(O7),"") | P8: =IF(P10="L","S " & WEEKNUM(P7),"") -> S 46 | ... AJ8: =IF(AJ10="L","S " & WEEKNUM(AJ7),"") | AK8: =IFERROR(IF(AK10="L","S "&WEEKNUM(AK7),""),"") -> S 49 | AL8: =IFERROR(IF(AL10="L","S " & WEEKNUM(AL7),""),"") | AM8: =IFERROR(IF(AM10="L","S " & WEEKNUM(AM7),""),"")
I9: =DAY(I7) -> 1 | J9: =DAY(J7) -> 2 | K9: =DAY(K7) -> 3 | L9: =DAY(L7) -> 4 | M9: =DAY(M7) -> 5 | N9: =DAY(N7) -> 6 | O9: =DAY(O7) -> 7 | P9: =DAY(P7) -> 8 | ... AJ9: =DAY(AJ7) -> 28 | AK9: =IFERROR(DAY(AK7),"") -> 29 | AL9: =IFERROR(DAY(AL7),"") -> 30 | AM9: =IFERROR(DAY(AM7),"")
A10: Nom | B10: Médicaments | C10: Posologie | D10: Par Jour | E10: Période | F10: début | G10: fin | H10: Reste | I10: =IFERROR(CHOOSE(WEEKDAY(I7),"D","L","Ma","Me","J","V","S"),"") -> L | J10: =IFERROR(CHOOSE(WEEKDAY(J7),"D","L","Ma","Me","J","V","S"),"") -> Ma | K10: =IFERROR(CHOOSE(WEEKDAY(K7),"D","L","Ma","Me","J","V","S"),"") -> Me | L10: =IFERROR(CHOOSE(WEEKDAY(L7),"D","L","Ma","Me","J","V","S"),"") -> J | M10: =IFERROR(CHOOSE(WEEKDAY(M7),"D","L","Ma","Me","J","V","S"),"") -> V | N10: =IFERROR(CHOOSE(WEEKDAY(N7),"D","L","Ma","Me","J","V","S"),"") -> S | O10: =IFERROR(CHOOSE(WEEKDAY(O7),"D","L","Ma","Me","J","V","S"),"") -> D | P10: =IFERROR(CHOOSE(WEEKDAY(P7),"D","L","Ma","Me","J","V","S"),"") -> L | ... AM10: =IFERROR(CHOOSE(WEEKDAY(AM7),"D","L","Ma","Me","J","V","S"),"")
A11: Enfant1 | B11: Medicament1 | C11: 1 | D11: 1 | E11: 5 | F11: 44528 | G11: 44532 | H11: =IFERROR(IF(G11-TODAY()>0,G11-TODAY(),"Terminé"),"") -> Terminé | I11: =IFERROR(IF(AND(AND($F11<=DATE(YEAR($B$4),MONTH($B$4),I$9),$G11>=DATE(YEAR($B$4),MONTH($B$4),I$9)),VLOOKUP(DATE(YEAR($B$4),MONTH($B$4),I$9),Datas!$B$1:$B33,1,FALSE)),1,""),"") | J11: =IFERROR(IF(AND(AND($F11<=DATE(YEAR($B$4),MONTH($B$4),J$9),$G11>=DATE(YEAR($B$4),MONTH($B$4),J$9)),VLOOKUP(DATE(YEAR($B$4),MONTH($B$4),J$9),Datas!$B$1:$B33,1,FALSE)),1,""),"") | K11: =IFERROR(IF(AND(AND($F11<=DATE(YEAR($B$4),MONTH($B$4),K$9),$G11>=DATE(YEAR($B$4),MONTH($B$4),K$9)),VLOOKUP(DATE(YEAR($B$4),MONTH($B$4),K$9),Datas!$B$1:$B33,1,FALSE)),1,""),"") | L11: =IFERROR(IF(AND(AND($F11<=DATE(YEAR($B$4),MONTH($B$4),L$9),$G11>=DATE(YEAR($B$4),MONTH($B$4),L$9)),VLOOKUP(DATE(YEAR($B$4),MONTH($B$4),L$9),Datas!$B$1:$B33,1,FALSE)),1,""),"") | M11: =IFERROR(IF(AND(AND($F11<=DATE(YEAR($B$4),MONTH($B$4),M$9),$G11>=DATE(YEAR($B$4),MONTH($B$4),M$9)),VLOOKUP(DATE(YEAR($B$4),MONTH($B$4),M$9),Datas!$B$1:$B33,1,FALSE)),1,""),"") | N11: =IFERROR(IF(AND(AND($F11<=DATE(YEAR($B$4),MONTH($B$4),N$9),$G11>=DATE(YEAR($B$4),MONTH($B$4),N$9)),VLOOKUP(DATE(YEAR($B$4),MONTH($B$4),N$9),Datas!$B$1:$B33,1,FALSE)),1,""),"") | O11: =IFERROR(IF(AND(AND($F11<=DATE(YEAR($B$4),MONTH($B$4),O$9),$G11>=DATE(YEAR($B$4),MONTH($B$4),O$9)),VLOOKUP(DATE(YEAR($B$4),MONTH($B$4),O$9),Datas!$B$1:$B33,1,FALSE)),1,""),"") | P11: =IFERROR(IF(AND(AND($F11<=DATE(YEAR($B$4),MONTH($B$4),P$9),$G11>=DATE(YEAR($B$4),MONTH($B$4),P$9)),VLOOKUP(DATE(YEAR($B$4),MONTH($B$4),P$9),Datas!$B$1:$B33,1,FALSE)),1,""),"") | ... AM11: =IFERROR(IF(AND(AND($F11<=DATE(YEAR($B$4),MONTH($B$4),AM$9),$G11>=DATE(YEAR($B$4),MONTH($B$4),AM$9)),VLOOKUP(DATE(YEAR($B$4),MONTH($B$4),AM$9),Datas!$B$1:$B33,1,FALSE)),1,""),"")
A12: Enfant1 | B12: Médicament1 | C12: 2 | D12: 1 | E12: 5 | F12: 44533 | G12: 44537 | H12: =IFERROR(IF(G12-TODAY()>0,G12-TODAY(),"Terminé"),"") -> Terminé | I12: =IFERROR(IF(AND(AND($F12<=DATE(YEAR($B$4),MONTH($B$4),I$9),$G12>=DATE(YEAR($B$4),MONTH($B$4),I$9)),VLOOKUP(DATE(YEAR($B$4),MONTH($B$4),I$9),Datas!$B$1:$B34,1,FALSE)),1,""),"") | J12: =IFERROR(IF(AND(AND($F12<=DATE(YEAR($B$4),MONTH($B$4),J$9),$G12>=DATE(YEAR($B$4),MONTH($B$4),J$9)),VLOOKUP(DATE(YEAR($B$4),MONTH($B$4),J$9),Datas!$B$1:$B34,1,FALSE)),1,""),"") | K12: =IFERROR(IF(AND(AND($F12<=DATE(YEAR($B$4),MONTH($B$4),K$9),$G12>=DATE(YEAR($B$4),MONTH($B$4),K$9)),VLOOKUP(DATE(YEAR($B$4),MONTH($B$4),K$9),Datas!$B$1:$B34,1,FALSE)),1,""),"") | L12: =IFERROR(IF(AND(AND($F12<=DATE(YEAR($B$4),MONTH($B$4),L$9),$G12>=DATE(YEAR($B$4),MONTH($B$4),L$9)),VLOOKUP(DATE(YEAR($B$4),MONTH($B$4),L$9),Datas!$B$1:$B34,1,FALSE)),1,""),"") | M12: =IFERROR(IF(AND(AND($F12<=DATE(YEAR($B$4),MONTH($B$4),M$9),$G12>=DATE(YEAR($B$4),MONTH($B$4),M$9)),VLOOKUP(DATE(YEAR($B$4),MONTH($B$4),M$9),Datas!$B$1:$B34,1,FALSE)),1,""),"") | N12: =IFERROR(IF(AND(AND($F12<=DATE(YEAR($B$4),MONTH($B$4),N$9),$G12>=DATE(YEAR($B$4),MONTH($B$4),N$9)),VLOOKUP(DATE(YEAR($B$4),MONTH($B$4),N$9),Datas!$B$1:$B34,1,FALSE)),1,""),"") | O12: =IFERROR(IF(AND(AND($F12<=DATE(YEAR($B$4),MONTH($B$4),O$9),$G12>=DATE(YEAR($B$4),MONTH($B$4),O$9)),VLOOKUP(DATE(YEAR($B$4),MONTH($B$4),O$9),Datas!$B$1:$B34,1,FALSE)),1,""),"") | P12: =IFERROR(IF(AND(AND($F12<=DATE(YEAR($B$4),MONTH($B$4),P$9),$G12>=DATE(YEAR($B$4),MONTH($B$4),P$9)),VLOOKUP(DATE(YEAR($B$4),MONTH($B$4),P$9),Datas!$B$1:$B34,1,FALSE)),1,""),"") | ... AM12: =IFERROR(IF(AND(AND($F12<=DATE(YEAR($B$4),MONTH($B$4),AM$9),$G12>=DATE(YEAR($B$4),MONTH($B$4),AM$9)),VLOOKUP(DATE(YEAR($B$4),MONTH($B$4),AM$9),Datas!$B$1:$B34,1,FALSE)),1,""),"")
A13: Enfant1 | B13: Medicament1 | C13: 3 | D13: 1 | E13: 5 | F13: 44538 | G13: 44542 | H13: =IFERROR(IF(G13-TODAY()>0,G13-TODAY(),"Terminé"),"") -> 1 | I13: =IFERROR(IF(AND(AND($F13<=DATE(YEAR($B$4),MONTH($B$4),I$9),$G13>=DATE(YEAR($B$4),MONTH($B$4),I$9)),VLOOKUP(DATE(YEAR($B$4),MONTH($B$4),I$9),Datas!$B$1:$B35,1,FALSE)),1,""),"") | J13: =IFERROR(IF(AND(AND($F13<=DATE(YEAR($B$4),MONTH($B$4),J$9),$G13>=DATE(YEAR($B$4),MONTH($B$4),J$9)),VLOOKUP(DATE(YEAR($B$4),MONTH($B$4),J$9),Datas!$B$1:$B35,1,FALSE)),1,""),"") | K13: =IFERROR(IF(AND(AND($F13<=DATE(YEAR($B$4),MONTH($B$4),K$9),$G13>=DATE(YEAR($B$4),MONTH($B$4),K$9)),VLOOKUP(DATE(YEAR($B$4),MONTH($B$4),K$9),Datas!$B$1:$B35,1,FALSE)),1,""),"") | L13: =IFERROR(IF(AND(AND($F13<=DATE(YEAR($B$4),MONTH($B$4),L$9),$G13>=DATE(YEAR($B$4),MONTH($B$4),L$9)),VLOOKUP(DATE(YEAR($B$4),MONTH($B$4),L$9),Datas!$B$1:$B35,1,FALSE)),1,""),"") | M13: =IFERROR(IF(AND(AND($F13<=DATE(YEAR($B$4),MONTH($B$4),M$9),$G13>=DATE(YEAR($B$4),MONTH($B$4),M$9)),VLOOKUP(DATE(YEAR($B$4),MONTH($B$4),M$9),Datas!$B$1:$B35,1,FALSE)),1,""),"") | N13: =IFERROR(IF(AND(AND($F13<=DATE(YEAR($B$4),MONTH($B$4),N$9),$G13>=DATE(YEAR($B$4),MONTH($B$4),N$9)),VLOOKUP(DATE(YEAR($B$4),MONTH($B$4),N$9),Datas!$B$1:$B35,1,FALSE)),1,""),"") | O13: =IFERROR(IF(AND(AND($F13<=DATE(YEAR($B$4),MONTH($B$4),O$9),$G13>=DATE(YEAR($B$4),MONTH($B$4),O$9)),VLOOKUP(DATE(YEAR($B$4),MONTH($B$4),O$9),Datas!$B$1:$B35,1,FALSE)),1,""),"") | P13: =IFERROR(IF(AND(AND($F13<=DATE(YEAR($B$4),MONTH($B$4),P$9),$G13>=DATE(YEAR($B$4),MONTH($B$4),P$9)),VLOOKUP(DATE(YEAR($B$4),MONTH($B$4),P$9),Datas!$B$1:$B35,1,FALSE)),1,""),"") | ... AM13: =IFERROR(IF(AND(AND($F13<=DATE(YEAR($B$4),MONTH($B$4),AM$9),$G13>=DATE(YEAR($B$4),MONTH($B$4),AM$9)),VLOOKUP(DATE(YEAR($B$4),MONTH($B$4),AM$9),Datas!$B$1:$B35,1,FALSE)),1,""),"")
A14: Enfant2 | B14: Médicament2 | C14: 1 | D14: 1 | F14: 44530 | G14: =TODAY() -> 44541 | H14: =IFERROR(IF(G14-TODAY()>0,G14-TODAY(),"Terminé"),"") -> Terminé | I14: =IFERROR(IF(AND(AND($F14<=DATE(YEAR($B$4),MONTH($B$4),I$9),$G14>=DATE(YEAR($B$4),MONTH($B$4),I$9)),VLOOKUP(DATE(YEAR($B$4),MONTH($B$4),I$9),Datas!$B$1:$B36,1,FALSE)),1,""),"") | J14: =IFERROR(IF(AND(AND($F14<=DATE(YEAR($B$4),MONTH($B$4),J$9),$G14>=DATE(YEAR($B$4),MONTH($B$4),J$9)),VLOOKUP(DATE(YEAR($B$4),MONTH($B$4),J$9),Datas!$B$1:$B36,1,FALSE)),1,""),"") | K14: =IFERROR(IF(AND(AND($F14<=DATE(YEAR($B$4),MONTH($B$4),K$9),$G14>=DATE(YEAR($B$4),MONTH($B$4),K$9)),VLOOKUP(DATE(YEAR($B$4),MONTH($B$4),K$9),Datas!$B$1:$B36,1,FALSE)),1,""),"") | L14: =IFERROR(IF(AND(AND($F14<=DATE(YEAR($B$4),MONTH($B$4),L$9),$G14>=DATE(YEAR($B$4),MONTH($B$4),L$9)),VLOOKUP(DATE(YEAR($B$4),MONTH($B$4),L$9),Datas!$B$1:$B36,1,FALSE)),1,""),"") | M14: =IFERROR(IF(AND(AND($F14<=DATE(YEAR($B$4),MONTH($B$4),M$9),$G14>=DATE(YEAR($B$4),MONTH($B$4),M$9)),VLOOKUP(DATE(YEAR($B$4),MONTH($B$4),M$9),Datas!$B$1:$B36,1,FALSE)),1,""),"") | N14: =IFERROR(IF(AND(AND($F14<=DATE(YEAR($B$4),MONTH($B$4),N$9),$G14>=DATE(YEAR($B$4),MONTH($B$4),N$9)),VLOOKUP(DATE(YEAR($B$4),MONTH($B$4),N$9),Datas!$B$1:$B36,1,FALSE)),1,""),"") | O14: =IFERROR(IF(AND(AND($F14<=DATE(YEAR($B$4),MONTH($B$4),O$9),$G14>=DATE(YEAR($B$4),MONTH($B$4),O$9)),VLOOKUP(DATE(YEAR($B$4),MONTH($B$4),O$9),Datas!$B$1:$B36,1,FALSE)),1,""),"") | P14: =IFERROR(IF(AND(AND($F14<=DATE(YEAR($B$4),MONTH($B$4),P$9),$G14>=DATE(YEAR($B$4),MONTH($B$4),P$9)),VLOOKUP(DATE(YEAR($B$4),MONTH($B$4),P$9),Datas!$B$1:$B36,1,FALSE)),1,""),"") | ... AM14: =IFERROR(IF(AND(AND($F14<=DATE(YEAR($B$4),MONTH($B$4),AM$9),$G14>=DATE(YEAR($B$4),MONTH($B$4),AM$9)),VLOOKUP(DATE(YEAR($B$4),MONTH($B$4),AM$9),Datas!$B$1:$B36,1,FALSE)),1,""),"")

Sheet Datas
A1: Médicament | B1: Date | C1: Posologie | D1: OBS
A2: Medicament1 | B2: 44528 | C2: 1
A3: Medicament1 | B3: 44529 | C3: 1
A4: Medicament1 | B4: 44530 | C4: 1
A5: Medicament1 | B5: 44531 | C5: 1
A6: Medicament1 | B6: 44532 | D6: Passe
A7: Medicament1 | B7: 44533 | C7: 1
A8: Medicament1 | B8: 44534 | C8: 2
A9: Medicament1 | B9: 44535 | C9: 2
A10: Medicament1 | B10: 44536 | C10: 2
A11: Medicament1 | B11: 44537 | C11: 2
A12: Medicament1 | B12: 44538 | C12: 2
A13: Medicament1 | B13: 44539 | C13: 3
A14: Medicament1 | B14: 44540 | C14: 3
A15: Medicament1 | B15: 44541
A16: Medicament1 | B16: 44542
A17: Medicament1 | B17: 44543
A18: Médicament2 | B18: 44530 | C18: 1
A19: Médicament2 | B19: 44531 | C19: 1
A20: Médicament2 | B20: 44532 | C20: 1
A21: Médicament2 | B21: 44533 | C21: 1
A22: Médicament2 | B22: 44534 | C22: 1
A23: Médicament2 | B23: 44535 | C23: 1
A24: Médicament2 | B24: 44536 | C24: 1
A25: Médicament2 | B25: 44537 | C25: 1
A26: Médicament2 | B26: 44538 | C26: 1
A27: Médicament2 | B27: 44539 | C27: 1
A28: Médicament2 | B28: 44540 | C28: 1
B29: 44541
B30: 44542
B31: 44543
B32: 44544

Sheet Infos
