Workbook
Name an: Année!$A$2
Name feries: Année!#REF!
Name Fériés: Données!$F$6:$F$15
Name grandesvacances: Année!#REF!
Name hiver: Année!#REF!
Name noel: Année!#REF!
Name printemps: Année!#REF!
Name toussaint: Année!#REF!
Name Vacances: Données!$D$3:$D$154

Sheet Données
A2: Agents | C2: Vacances | F2: Dimanche de Pâques
A3: Agent 1 | C3: Noël | D3: 43820 | F3: =ROUND(DATE(2020,4,MOD(234-11*MOD(2020,19),30))/7,0)*7-6 -> 43933
A4: Agent 2 | D4: 43821
A5: Agent 3 | D5: 43822 | F5: Jours fériés
A6: Agent 4 | D6: 43823 | F6: =DATE(RIGHT(Année!$A$1,4),1,1) -> 43831
A7: Agent 5 | D7: 43824 | F7: =DATE(RIGHT(Année!$A$1,4),5,1) -> 43952
A8: Agent 6 | D8: 43825 | F8: =Année!$I$69 -> 43959
A9: Agent 7 | D9: 43826 | F9: =Année!$O$99 -> 44026
A10: Agent 8 | D10: 43827 | F10: =Année!$P$114 -> 44058
A11: Agent 9 | D11: 43829 | F11: =Année!$L$159 -> 44146
A12: Agent 10 | D12: 43830 | F12: =Année!$Z$174 -> 44190
A13: Agent 11 | D13: 43831 | F13: =F3+1 -> 43934
A14: Agent 12 | D14: 43832 | F14: =F3+39 -> 43972
A15: Agent 13 | D15: 43833 | F15: =F3+50 -> 43983
A16: Agent 14 | D16: 43834
A17: Agent 15 | D17: 43835
A18: Agent 16 | C18: Hiver | D18: 43869
A19: Agent 17 | D19: 43870
D20: 43871
D21: 43872
D22: 43873
D23: 43874
D24: 43875
D25: 43876
D26: 43877
D27: 43878
D28: 43879
D29: 43880
D30: 43881
D31: 43882
... D37: 43928
C38: Printemps | D38: 43925
D39: 43926
D40: 43927
D41: 43928
D42: 43929
D43: 43930
D44: 43931
D45: 43932
D46: 43933
D47: 43934
D48: 43935
D49: 43936
D50: 43937
... D53: 43940
C54: Grandes vacances | D54: 44016
D55: 44017
D56: 44018
D57: 44019
D58: 44020
D59: 44021
D60: 44022
D61: 44023
D62: 44024
D63: 44025
D64: 44026
D65: 44027
D66: 44028
... D112: 44074
C123: Toussaint | D123: 44121
D124: 44122
D125: 44123
D126: 44124
D127: 44125
D128: 44126
D129: 44127
D130: 44128
D131: 44129
D132: 44130
D133: 44131
D134: 44132
D135: 44133
... D138: 44136
C139: Noël | D139: 44184
D140: 44185
D141: 44186
D142: 44187
D143: 44188
D144: 44189
D145: 44190
D146: 44191
D147: 44192
D148: 44193
D149: 44194
D150: 44195
D151: 44196
... D154: 44199

Sheet Année
A1: Plannings 2020
B7: Cycle 1
B8: =WEEKNUM(B9,2) -> 1 | C8: =WEEKNUM(C9,2) -> 1 | D8: =WEEKNUM(D9,2) -> 1 | E8: =WEEKNUM(E9,2) -> 1 | F8: =WEEKNUM(F9,2) -> 1 | G8: =WEEKNUM(G9,2) -> 2 | H8: =WEEKNUM(H9,2) -> 2 | I8: =WEEKNUM(I9,2) -> 2 | ... AF8: =WEEKNUM(AF9,2) -> 5
B9: =DATE(RIGHT($A$1,4),1,1) -> 43831 | C9: =B9+1 -> 43832 | D9: =C9+1 -> 43833 | E9: =D9+1 -> 43834 | F9: =E9+1 -> 43835 | G9: =F9+1 -> 43836 | H9: =G9+1 -> 43837 | I9: =H9+1 -> 43838 | J9: =I9+1 -> 43839 | ... AF9: =AE9+1 -> 43861 | AG9: JT
A10: =TEXT(B9,"mmmm") -> janvier | B10: =(TEXT(B9,"jjj")) -> mer | C10: =(TEXT(C9,"jjj")) -> jeu | D10: =(TEXT(D9,"jjj")) -> ven | E10: =(TEXT(E9,"jjj")) -> sam | F10: =(TEXT(F9,"jjj")) -> dim | G10: =(TEXT(G9,"jjj")) -> lun | H10: =(TEXT(H9,"jjj")) -> mar | I10: =(TEXT(I9,"jjj")) -> mer | ... AF10: =(TEXT(AF9,"jjj")) -> ven | AJ10: Cycle 1
B11: =DAY(B9) -> 1 | C11: =DAY(C9) -> 2 | D11: =DAY(D9) -> 3 | E11: =DAY(E9) -> 4 | F11: =DAY(F9) -> 5 | G11: =DAY(G9) -> 6 | H11: =DAY(H9) -> 7 | I11: =DAY(I9) -> 8 | ... AF11: =DAY(AF9) -> 31 | AJ11: RR | AK11: RH | AL11: CA | AM11: HP | AN11: FO | AO11: JS | AP11: FR | AQ11: SU
A12: Agent 1 | AG12: =COUNTBLANK(B12:AF12) -> 31 | AI12: Agent 1 | AJ12: =COUNTIF(B12:AF12,"RR") -> 0 | AK12: =COUNTIF(B12:AF12,"RH") -> 0 | AL12: =COUNTIF(B12:AF12,"CA") -> 0 | AM12: =COUNTIF(B12:AF12,"HP") -> 0 | AN12: =COUNTIF(B12:AF12,"FO") -> 0 | AO12: =COUNTIF(B12:AF12,"JS") -> 0 | AP12: =COUNTIF(B12:AF12,"FR") -> 0 | AQ12: =COUNTIF(B12:AF12,"SU") -> 0
A13: Agent 2 | AG13: =COUNTBLANK(B13:AF13) -> 31 | AI13: Agent 2
A14: Agent 3 | AG14: =COUNTBLANK(B14:AF14) -> 31 | AI14: Agent 3
A15: Agent 4 | AG15: =COUNTBLANK(B15:AF15) -> 31 | AI15: Agent 4
A16: Agent 5 | AG16: =COUNTBLANK(B16:AF16) -> 31 | AI16: Agent 5
A17: Agent 6 | AG17: =COUNTBLANK(B17:AF17) -> 31 | AI17: Agent 6
A18: Agent 7 | AG18: =COUNTBLANK(B18:AF18) -> 31 | AI18: Agent 7
A19: Agent 8 | AG19: =COUNTBLANK(B19:AF19) -> 31 | AI19: Agent 8 | AR19: 9
B20: =COUNTBLANK(B12:B19) -> 8 | C20: =COUNTBLANK(C12:C19) -> 8 | D20: =COUNTBLANK(D12:D19) -> 8 | E20: =COUNTBLANK(E12:E19) -> 8 | F20: =COUNTBLANK(F12:F19) -> 8 | G20: =COUNTBLANK(G12:G19) -> 8 | H20: =COUNTBLANK(H12:H19) -> 8 | I20: =COUNTBLANK(I12:I19) -> 8 | ... AF20: =COUNTBLANK(AF12:AF19) -> 8
B22: Cycle 1
B23: =WEEKNUM(B24,2) -> 5 | C23: =WEEKNUM(C24,2) -> 5 | D23: =WEEKNUM(D24,2) -> 6 | E23: =WEEKNUM(E24,2) -> 6 | F23: =WEEKNUM(F24,2) -> 6 | G23: =WEEKNUM(G24,2) -> 6 | H23: =WEEKNUM(H24,2) -> 6 | I23: =WEEKNUM(I24,2) -> 6 | ... AD23: =WEEKNUM(AD24,2) -> 9
B24: =DATE(RIGHT($A$1,4),2,1) -> 43862 | C24: =B24+1 -> 43863 | D24: =C24+1 -> 43864 | E24: =D24+1 -> 43865 | F24: =E24+1 -> 43866 | G24: =F24+1 -> 43867 | H24: =G24+1 -> 43868 | I24: =H24+1 -> 43869 | J24: =I24+1 -> 43870 | ... AD24: =AC24+1 -> 43890 | AE24: JT
A25: =TEXT(B24,"mmmm") -> février | B25: =(TEXT(B24,"jjj")) -> sam | C25: =(TEXT(C24,"jjj")) -> dim | D25: =(TEXT(D24,"jjj")) -> lun | E25: =(TEXT(E24,"jjj")) -> mar | F25: =(TEXT(F24,"jjj")) -> mer | G25: =(TEXT(G24,"jjj")) -> jeu | H25: =(TEXT(H24,"jjj")) -> ven | I25: =(TEXT(I24,"jjj")) -> sam | ... AD25: =(TEXT(AD24,"jjj")) -> sam | AJ25: Cycle 1
B26: =DAY(B24) -> 1 | C26: =DAY(C24) -> 2 | D26: =DAY(D24) -> 3 | E26: =DAY(E24) -> 4 | F26: =DAY(F24) -> 5 | G26: =DAY(G24) -> 6 | H26: =DAY(H24) -> 7 | I26: =DAY(I24) -> 8 | ... AD26: =DAY(AD24) -> 29 | AJ26: RR | AK26: RH | AL26: CA | AM26: HP | AN26: FO | AO26: JS | AP26: FR | AQ26: SU
A27: Agent 1 | AE27: =COUNTBLANK(B27:AC27) -> 28 | AI27: Agent 1 | AJ27: =COUNTIF(B27:AC27,"RR") -> 0 | AK27: =COUNTIF(B27:AC27,"RH") -> 0 | AL27: =COUNTIF(B27:AC27,"CA") -> 0 | AM27: =COUNTIF(B27:AC27,"HP") -> 0 | AN27: =COUNTIF(B27:AC27,"FO") -> 0 | AO27: =COUNTIF(B27:AC27,"JS") -> 0 | AP27: =COUNTIF(B27:AC27,"FR") -> 0 | AQ27: =COUNTIF(B27:AC27,"SU") -> 0
A28: Agent 2 | AE28: =COUNTBLANK(B28:AC28) -> 28 | AI28: Agent 2
A29: Agent 3 | AE29: =COUNTBLANK(B29:AC29) -> 28 | AI29: Agent 3
A30: Agent 4 | AE30: =COUNTBLANK(B30:AC30) -> 28 | AI30: Agent 4
A31: Agent 5 | AE31: =COUNTBLANK(B31:AC31) -> 28 | AI31: Agent 5
A32: Agent 6 | AE32: =COUNTBLANK(B32:AC32) -> 28 | AI32: Agent 6
A33: Agent 7 | AE33: =COUNTBLANK(B33:AC33) -> 28 | AI33: Agent 7
A34: Agent 8 | AE34: =COUNTBLANK(B34:AC34) -> 28 | AI34: Agent 8
B35: =COUNTBLANK(B27:B34) -> 8 | C35: =COUNTBLANK(C27:C34) -> 8 | D35: =COUNTBLANK(D27:D34) -> 8 | E35: =COUNTBLANK(E27:E34) -> 8 | F35: =COUNTBLANK(F27:F34) -> 8 | G35: =COUNTBLANK(G27:G34) -> 8 | H35: =COUNTBLANK(H27:H34) -> 8 | I35: =COUNTBLANK(I27:I34) -> 8 | ... AC35: =COUNTBLANK(AC27:AC34) -> 8
B37: Cycle 1 | AF37: Cycle 2
B38: =WEEKNUM(B39,2) -> 9 | C38: =WEEKNUM(C39,2) -> 10 | D38: =WEEKNUM(D39,2) -> 10 | E38: =WEEKNUM(E39,2) -> 10 | F38: =WEEKNUM(F39,2) -> 10 | G38: =WEEKNUM(G39,2) -> 10 | H38: =WEEKNUM(H39,2) -> 10 | I38: =WEEKNUM(I39,2) -> 10 | ... AF38: =WEEKNUM(AF39,2) -> 14
B39: =DATE(RIGHT($A$1,4),3,1) -> 43891 | C39: =B39+1 -> 43892 | D39: =C39+1 -> 43893 | E39: =D39+1 -> 43894 | F39: =E39+1 -> 43895 | G39: =F39+1 -> 43896 | H39: =G39+1 -> 43897 | I39: =H39+1 -> 43898 | J39: =I39+1 -> 43899 | ... AF39: =AE39+1 -> 43921 | AG39: JT
A40: =TEXT(B39,"mmmm") -> mars | B40: =(TEXT(B39,"jjj")) -> dim | C40: =(TEXT(C39,"jjj")) -> lun | D40: =(TEXT(D39,"jjj")) -> mar | E40: =(TEXT(E39,"jjj")) -> mer | F40: =(TEXT(F39,"jjj")) -> jeu | G40: =(TEXT(G39,"jjj")) -> ven | H40: =(TEXT(H39,"jjj")) -> sam | I40: =(TEXT(I39,"jjj")) -> dim | ... AF40: =(TEXT(AF39,"jjj")) -> mar | AJ40: Cycle 1 | AT40: Cycle 2 | BG40: Total cycle 1
B41: =DAY(B39) -> 1 | C41: =DAY(C39) -> 2 | D41: =DAY(D39) -> 3 | E41: =DAY(E39) -> 4 | F41: =DAY(F39) -> 5 | G41: =DAY(G39) -> 6 | H41: =DAY(H39) -> 7 | I41: =DAY(I39) -> 8 | ... AF41: =DAY(AF39) -> 31 | AJ41: RR | AK41: RH | AL41: CA | AM41: HP | AN41: FO | AO41: JS | AP41: FR | AQ41: SU | AT41: RR | AU41: RH | AV41: CA | AW41: HP | AX41: FO | AY41: JS | AZ41: FR | BA41: SU | BG41: RR | BH41: RH | BI41: CA | BJ41: HP | BK41: FO | BL41: JS | BM41: FR | BN41: SU
A42: Agent 1 | AG42: =COUNTBLANK(B42:AF42) -> 31 | AI42: Agent 1 | AJ42: =COUNTIF(B42:AF42,"RR") -> 0 | AK42: =COUNTIF(B42:AF42,"RH") -> 0 | AL42: =COUNTIF(B42:AF42,"CA") -> 0 | AM42: =COUNTIF(B42:AF42,"HP") -> 0 | AN42: =COUNTIF(B42:AF42,"FO") -> 0 | AO42: =COUNTIF(B42:AF42,"JS") -> 0 | AP42: =COUNTIF(B42:AF42,"FR") -> 0 | AQ42: =COUNTIF(B42:AF42,"SU") -> 0 | AS42: Agent 1 | AT42: =COUNTIF(B42:AF42,"RR") -> 0 | AU42: =COUNTIF(B42:AF42,"RH") -> 0 | AV42: =COUNTIF(B42:AF42,"CA") -> 0 | AW42: =COUNTIF(B42:AF42,"HP") -> 0 | AX42: =COUNTIF(B42:AF42,"FO") -> 0 | AY42: =COUNTIF(B42:AF42,"JS") -> 0 | AZ42: =COUNTIF(B42:AF42,"FR") -> 0 | BA42: =COUNTIF(B42:AF42,"SU") -> 0 | BC42: Agent 1 | BG42: =SUM(AJ12,AJ27,AJ42) -> 0 | BH42: =SUM(AK12,AK27,AK42) -> 0 | BI42: =SUM(AL12,AL27,AL42) -> 0 | BJ42: =SUM(AM12,AM27,AM42) -> 0 | BK42: =SUM(AN12,AN27,AN42) -> 0 | BL42: =SUM(AO12,AO27,AO42) -> 0 | BM42: =SUM(AP12,AP27,AP42) -> 0 | BN42: =SUM(AQ12,AQ27,AQ42) -> 0
A43: Agent 2 | AG43: =COUNTBLANK(B43:AF43) -> 31 | AI43: Agent 2 | AS43: Agent 2 | BC43: Agent 2
A44: Agent 3 | AG44: =COUNTBLANK(B44:AF44) -> 31 | AI44: Agent 3 | AS44: Agent 3 | BC44: Agent 3
A45: Agent 4 | AG45: =COUNTBLANK(B45:AF45) -> 31 | AI45: Agent 4 | AS45: Agent 4 | BC45: Agent 4
A46: Agent 5 | AG46: =COUNTBLANK(B46:AF46) -> 31 | AI46: Agent 5 | AS46: Agent 5 | BC46: Agent 5
A47: Agent 6 | AG47: =COUNTBLANK(B47:AF47) -> 31 | AI47: Agent 6 | AS47: Agent 6 | BC47: Agent 6
A48: Agent 7 | AG48: =COUNTBLANK(B48:AF48) -> 31 | AI48: Agent 7 | AS48: Agent 7 | BC48: Agent 7
A49: Agent 8 | AG49: =COUNTBLANK(B49:AF49) -> 31 | AI49: Agent 8 | AS49: Agent 8 | BC49: Agent 8
B50: =COUNTBLANK(B42:B49) -> 8 | C50: =COUNTBLANK(C42:C49) -> 8 | D50: =COUNTBLANK(D42:D49) -> 8 | E50: =COUNTBLANK(E42:E49) -> 8 | F50: =COUNTBLANK(F42:F49) -> 8 | G50: =COUNTBLANK(G42:G49) -> 8 | H50: =COUNTBLANK(H42:H49) -> 8 | I50: =COUNTBLANK(I42:I49) -> 8 | ... AF50: =COUNTBLANK(AF42:AF49) -> 8
B52: Cycle 2
B53: =WEEKNUM(B54,2) -> 14 | C53: =WEEKNUM(C54,2) -> 14 | D53: =WEEKNUM(D54,2) -> 14 | E53: =WEEKNUM(E54,2) -> 14 | F53: =WEEKNUM(F54,2) -> 14 | G53: =WEEKNUM(G54,2) -> 15 | H53: =WEEKNUM(H54,2) -> 15 | I53: =WEEKNUM(I54,2) -> 15 | ... AE53: =WEEKNUM(AE54,2) -> 18
B54: =DATE(RIGHT($A$1,4),4,1) -> 43922 | C54: =B54+1 -> 43923 | D54: =C54+1 -> 43924 | E54: =D54+1 -> 43925 | F54: =E54+1 -> 43926 | G54: =F54+1 -> 43927 | H54: =G54+1 -> 43928 | I54: =H54+1 -> 43929 | J54: =I54+1 -> 43930 | ... AE54: =AD54+1 -> 43951 | AF54: JT
A55: =TEXT(B54,"mmmm") -> avril | B55: =(TEXT(B54,"jjj")) -> mer | C55: =(TEXT(C54,"jjj")) -> jeu | D55: =(TEXT(D54,"jjj")) -> ven | E55: =(TEXT(E54,"jjj")) -> sam | F55: =(TEXT(F54,"jjj")) -> dim | G55: =(TEXT(G54,"jjj")) -> lun | H55: =(TEXT(H54,"jjj")) -> mar | I55: =(TEXT(I54,"jjj")) -> mer | ... AE55: =(TEXT(AE54,"jjj")) -> jeu | AJ55: Cycle 2
B56: =DAY(B54) -> 1 | C56: =DAY(C54) -> 2 | D56: =DAY(D54) -> 3 | E56: =DAY(E54) -> 4 | F56: =DAY(F54) -> 5 | G56: =DAY(G54) -> 6 | H56: =DAY(H54) -> 7 | I56: =DAY(I54) -> 8 | ... AE56: =DAY(AE54) -> 30 | AJ56: RR | AK56: RH | AL56: CA | AM56: HP | AN56: FO | AO56: JS | AP56: FR | AQ56: SU
A57: Agent 1 | AF57: =COUNTBLANK(A57:AE57) -> 30 | AI57: Agent 1 | AJ57: =COUNTIF(B57:AE57,"RR") -> 0 | AK57: =COUNTIF(B57:AE57,"RH") -> 0 | AL57: =COUNTIF(B57:AE57,"CA") -> 0 | AM57: =COUNTIF(B57:AE57,"HP") -> 0 | AN57: =COUNTIF(B57:AE57,"FO") -> 0 | AO57: =COUNTIF(B57:AE57,"JS") -> 0 | AP57: =COUNTIF(B57:AE57,"FR") -> 0 | AQ57: =COUNTIF(B57:AE57,"SU") -> 0
A58: Agent 2 | AF58: =COUNTBLANK(A58:AE58) -> 30 | AI58: Agent 2
A59: Agent 3 | AF59: =COUNTBLANK(A59:AE59) -> 30 | AI59: Agent 3
A60: Agent 4 | AF60: =COUNTBLANK(A60:AE60) -> 30 | AI60: Agent 4
A61: Agent 5 | AF61: =COUNTBLANK(A61:AE61) -> 30 | AI61: Agent 5
A62: Agent 6 | AF62: =COUNTBLANK(A62:AE62) -> 30 | AI62: Agent 6
A63: Agent 7 | AF63: =COUNTBLANK(A63:AE63) -> 30 | AI63: Agent 7
A64: Agent 8 | AF64: =COUNTBLANK(A64:AE64) -> 30 | AI64: Agent 8
B65: =COUNTBLANK(B57:B64) -> 8 | C65: =COUNTBLANK(C57:C64) -> 8 | D65: =COUNTBLANK(D57:D64) -> 8 | E65: =COUNTBLANK(E57:E64) -> 8 | F65: =COUNTBLANK(F57:F64) -> 8 | G65: =COUNTBLANK(G57:G64) -> 8 | H65: =COUNTBLANK(H57:H64) -> 8 | I65: =COUNTBLANK(I57:I64) -> 8 | ... AE65: =COUNTBLANK(AE57:AE64) -> 8
B67: Cycle 2
B68: =WEEKNUM(B69,2) -> 18 | C68: =WEEKNUM(C69,2) -> 18 | D68: =WEEKNUM(D69,2) -> 18 | E68: =WEEKNUM(E69,2) -> 19 | F68: =WEEKNUM(F69,2) -> 19 | G68: =WEEKNUM(G69,2) -> 19 | H68: =WEEKNUM(H69,2) -> 19 | I68: =WEEKNUM(I69,2) -> 19 | ... AF68: =WEEKNUM(AF69,2) -> 22
B69: =DATE(RIGHT($A$1,4),5,1) -> 43952 | C69: =B69+1 -> 43953 | D69: =C69+1 -> 43954 | E69: =D69+1 -> 43955 | F69: =E69+1 -> 43956 | G69: =F69+1 -> 43957 | H69: =G69+1 -> 43958 | I69: =H69+1 -> 43959 | J69: =I69+1 -> 43960 | ... AF69: =AE69+1 -> 43982 | AG69: JT
A70: =TEXT(B69,"mmmm") -> mai | B70: =(TEXT(B69,"jjj")) -> ven | C70: =(TEXT(C69,"jjj")) -> sam | D70: =(TEXT(D69,"jjj")) -> dim | E70: =(TEXT(E69,"jjj")) -> lun | F70: =(TEXT(F69,"jjj")) -> mar | G70: =(TEXT(G69,"jjj")) -> mer | H70: =(TEXT(H69,"jjj")) -> jeu | I70: =(TEXT(I69,"jjj")) -> ven | ... AF70: =(TEXT(AF69,"jjj")) -> dim | AJ70: Cycle 2
B71: =DAY(B69) -> 1 | C71: =DAY(C69) -> 2 | D71: =DAY(D69) -> 3 | E71: =DAY(E69) -> 4 | F71: =DAY(F69) -> 5 | G71: =DAY(G69) -> 6 | H71: =DAY(H69) -> 7 | I71: =DAY(I69) -> 8 | ... AF71: =DAY(AF69) -> 31 | AJ71: RR | AK71: RH | AL71: CA | AM71: HP | AN71: FO | AO71: JS | AP71: FR | AQ71: SU
A72: Agent 1 | AG72: =COUNTBLANK(B72:AF72) -> 31 | AI72: Agent 1 | AJ72: =COUNTIF(B72:AF72,"RR") -> 0 | AK72: =COUNTIF(B72:AF72,"RH") -> 0 | AL72: =COUNTIF(B72:AF72,"CA") -> 0 | AM72: =COUNTIF(B72:AF72,"HP") -> 0 | AN72: =COUNTIF(B72:AF72,"FO") -> 0 | AO72: =COUNTIF(B72:AF72,"JS") -> 0 | AP72: =COUNTIF(B72:AF72,"FR") -> 0 | AQ72: =COUNTIF(B72:AF72,"SU") -> 0
A73: Agent 2 | AG73: =COUNTBLANK(B73:AF73) -> 31 | AI73: Agent 2
A74: Agent 3 | AG74: =COUNTBLANK(B74:AF74) -> 31 | AI74: Agent 3
A75: Agent 4 | AG75: =COUNTBLANK(B75:AF75) -> 31 | AI75: Agent 4
A76: Agent 5 | AG76: =COUNTBLANK(B76:AF76) -> 31 | AI76: Agent 5
A77: Agent 6 | AG77: =COUNTBLANK(B77:AF77) -> 31 | AI77: Agent 6
A78: Agent 7 | AG78: =COUNTBLANK(B78:AF78) -> 31 | AI78: Agent 7
A79: Agent 8 | AG79: =COUNTBLANK(B79:AF79) -> 31 | AI79: Agent 8
B80: =COUNTBLANK(B72:B79) -> 8 | C80: =COUNTBLANK(C72:C79) -> 8 | D80: =COUNTBLANK(D72:D79) -> 8 | E80: =COUNTBLANK(E72:E79) -> 8 | F80: =COUNTBLANK(F72:F79) -> 8 | G80: =COUNTBLANK(G72:G79) -> 8 | H80: =COUNTBLANK(H72:H79) -> 8 | I80: =COUNTBLANK(I72:I79) -> 8 | ... AF80: =COUNTBLANK(AF72:AF79) -> 8
B82: Cycle 2 | AE82: Cycle 3
B83: =WEEKNUM(B84,2) -> 23 | C83: =WEEKNUM(C84,2) -> 23 | D83: =WEEKNUM(D84,2) -> 23 | E83: =WEEKNUM(E84,2) -> 23 | F83: =WEEKNUM(F84,2) -> 23 | G83: =WEEKNUM(G84,2) -> 23 | H83: =WEEKNUM(H84,2) -> 23 | I83: =WEEKNUM(I84,2) -> 24 | ... AE83: =WEEKNUM(AE84,2) -> 27
B84: =DATE(RIGHT($A$1,4),6,1) -> 43983 | C84: =B84+1 -> 43984 | D84: =C84+1 -> 43985 | E84: =D84+1 -> 43986 | F84: =E84+1 -> 43987 | G84: =F84+1 -> 43988 | H84: =G84+1 -> 43989 | I84: =H84+1 -> 43990 | J84: =I84+1 -> 43991 | ... AE84: =AD84+1 -> 44012 | AF84: JT
A85: =TEXT(B84,"mmmm") -> juin | B85: =(TEXT(B84,"jjj")) -> lun | C85: =(TEXT(C84,"jjj")) -> mar | D85: =(TEXT(D84,"jjj")) -> mer | E85: =(TEXT(E84,"jjj")) -> jeu | F85: =(TEXT(F84,"jjj")) -> ven | G85: =(TEXT(G84,"jjj")) -> sam | H85: =(TEXT(H84,"jjj")) -> dim | I85: =(TEXT(I84,"jjj")) -> lun | ... AE85: =(TEXT(AE84,"jjj")) -> mar | AJ85: Cycle 2 | AT85: Cycle 3 | BG85: Total cycle 2
B86: =DAY(B84) -> 1 | C86: =DAY(C84) -> 2 | D86: =DAY(D84) -> 3 | E86: =DAY(E84) -> 4 | F86: =DAY(F84) -> 5 | G86: =DAY(G84) -> 6 | H86: =DAY(H84) -> 7 | I86: =DAY(I84) -> 8 | ... AE86: =DAY(AE84) -> 30 | AJ86: RR | AK86: RH | AL86: CA | AM86: HP | AN86: FO | AO86: JS | AP86: FR | AQ86: SU | AT86: RR | AU86: RH | AV86: CA | AW86: HP | AX86: FO | AY86: JS | AZ86: FR | BA86: SU | BG86: RR | BH86: RH | BI86: CA | BJ86: HP | BK86: FO | BL86: JS | BM86: FR | BN86: SU
A87: Agent 1 | AF87: =COUNTBLANK(A87:AE87) -> 30 | AI87: Agent 1 | AJ87: =COUNTIF(B87:AE87,"RR") -> 0 | AK87: =COUNTIF(B87:AE87,"RH") -> 0 | AL87: =COUNTIF(B87:AE87,"CA") -> 0 | AM87: =COUNTIF(B87:AE87,"HP") -> 0 | AN87: =COUNTIF(B87:AE87,"FO") -> 0 | AO87: =COUNTIF(B87:AE87,"JS") -> 0 | AP87: =COUNTIF(B87:AE87,"FR") -> 0 | AQ87: =COUNTIF(B87:AE87,"SU") -> 0 | AS87: Agent 1 | AT87: =COUNTIF(B87:AE87,"RR") -> 0 | AU87: =COUNTIF(B87:AE87,"RH") -> 0 | AV87: =COUNTIF(B87:AE87,"CA") -> 0 | AW87: =COUNTIF(B87:AE87,"HP") -> 0 | AX87: =COUNTIF(B87:AE87,"FO") -> 0 | AY87: =COUNTIF(B87:AE87,"JS") -> 0 | AZ87: =COUNTIF(B87:AE87,"FR") -> 0 | BA87: =COUNTIF(B87:AE87,"SU") -> 0 | BC87: Agent 1 | BG87: =SUM(AT42,AJ57,AJ72,AJ87) -> 0 | BH87: =SUM(AU42,AK57,AK72,AK87) -> 0 | BI87: =SUM(AV42,AL57,AL72,AL87) -> 0 | BJ87: =SUM(AW42,AM57,AM72,AM87) -> 0 | BK87: =SUM(AX42,AN57,AN72,AN87) -> 0 | BL87: =SUM(AY42,AO57,AO72,AO87) -> 0 | BM87: =SUM(AZ42,AP57,AP72,AP87) -> 0 | BN87: =SUM(BA42,AQ57,AQ72,AQ87) -> 0
A88: Agent 2 | AF88: =COUNTBLANK(A88:AE88) -> 30 | AI88: Agent 2 | AS88: Agent 2 | BC88: Agent 2
A89: Agent 3 | AF89: =COUNTBLANK(A89:AE89) -> 30 | AI89: Agent 3 | AS89: Agent 3 | BC89: Agent 3
A90: Agent 4 | AF90: =COUNTBLANK(A90:AE90) -> 30 | AI90: Agent 4 | AS90: Agent 4 | BC90: Agent 4
A91: Agent 5 | AF91: =COUNTBLANK(A91:AE91) -> 30 | AI91: Agent 5 | AS91: Agent 5 | BC91: Agent 5
A92: Agent 6 | AF92: =COUNTBLANK(A92:AE92) -> 30 | AI92: Agent 6 | AS92: Agent 6 | BC92: Agent 6
A93: Agent 7 | AF93: =COUNTBLANK(A93:AE93) -> 30 | AI93: Agent 7 | AS93: Agent 7 | BC93: Agent 7
A94: Agent 8 | AF94: =COUNTBLANK(A94:AE94) -> 30 | AI94: Agent 8 | AS94: Agent 8 | BC94: Agent 8
B95: =COUNTBLANK(B87:B94) -> 8 | C95: =COUNTBLANK(C87:C94) -> 8 | D95: =COUNTBLANK(D87:D94) -> 8 | E95: =COUNTBLANK(E87:E94) -> 8 | F95: =COUNTBLANK(F87:F94) -> 8 | G95: =COUNTBLANK(G87:G94) -> 8 | H95: =COUNTBLANK(H87:H94) -> 8 | I95: =COUNTBLANK(I87:I94) -> 8 | ... AE95: =COUNTBLANK(AE87:AE94) -> 8
B97: Cycle 3
B98: =WEEKNUM(B99,2) -> 27 | C98: =WEEKNUM(C99,2) -> 27 | D98: =WEEKNUM(D99,2) -> 27 | E98: =WEEKNUM(E99,2) -> 27 | F98: =WEEKNUM(F99,2) -> 27 | G98: =WEEKNUM(G99,2) -> 28 | H98: =WEEKNUM(H99,2) -> 28 | I98: =WEEKNUM(I99,2) -> 28 | ... AF98: =WEEKNUM(AF99,2) -> 31
B99: =DATE(RIGHT($A$1,4),7,1) -> 44013 | C99: =B99+1 -> 44014 | D99: =C99+1 -> 44015 | E99: =D99+1 -> 44016 | F99: =E99+1 -> 44017 | G99: =F99+1 -> 44018 | H99: =G99+1 -> 44019 | I99: =H99+1 -> 44020 | J99: =I99+1 -> 44021 | ... AF99: =AE99+1 -> 44043 | AG99: JT
A100: =TEXT(B99,"mmmm") -> juillet | B100: =(TEXT(B99,"jjj")) -> mer | C100: =(TEXT(C99,"jjj")) -> jeu | D100: =(TEXT(D99,"jjj")) -> ven | E100: =(TEXT(E99,"jjj")) -> sam | F100: =(TEXT(F99,"jjj")) -> dim | G100: =(TEXT(G99,"jjj")) -> lun | H100: =(TEXT(H99,"jjj")) -> mar | I100: =(TEXT(I99,"jjj")) -> mer | ... AF100: =(TEXT(AF99,"jjj")) -> ven | AJ100: Cycle 3
B101: =DAY(B99) -> 1 | C101: =DAY(C99) -> 2 | D101: =DAY(D99) -> 3 | E101: =DAY(E99) -> 4 | F101: =DAY(F99) -> 5 | G101: =DAY(G99) -> 6 | H101: =DAY(H99) -> 7 | I101: =DAY(I99) -> 8 | ... AF101: =DAY(AF99) -> 31 | AJ101: RR | AK101: RH | AL101: CA | AM101: HP | AN101: FO | AO101: JS | AP101: FR | AQ101: SU
A102: Agent 1 | AG102: =COUNTBLANK(B102:AF102) -> 31 | AI102: Agent 1 | AJ102: =COUNTIF(B102:AF102,"RR") -> 0 | AK102: =COUNTIF(B102:AF102,"RH") -> 0 | AL102: =COUNTIF(B102:AF102,"CA") -> 0 | AM102: =COUNTIF(B102:AF102,"HP") -> 0 | AN102: =COUNTIF(B102:AF102,"FO") -> 0 | AO102: =COUNTIF(B102:AF102,"JS") -> 0 | AP102: =COUNTIF(B102:AF102,"FR") -> 0 | AQ102: =COUNTIF(B102:AF102,"SU") -> 0
A103: Agent 2 | AG103: =COUNTBLANK(B103:AF103) -> 31 | AI103: Agent 2
A104: Agent 3 | AG104: =COUNTBLANK(B104:AF104) -> 31 | AI104: Agent 3
A105: Agent 4 | AG105: =COUNTBLANK(B105:AF105) -> 31 | AI105: Agent 4
A106: Agent 5 | AG106: =COUNTBLANK(B106:AF106) -> 31 | AI106: Agent 5
A107: Agent 6 | AG107: =COUNTBLANK(B107:AF107) -> 31 | AI107: Agent 6
A108: Agent 7 | AG108: =COUNTBLANK(B108:AF108) -> 31 | AI108: Agent 7
A109: Agent 8 | AG109: =COUNTBLANK(B109:AF109) -> 31 | AI109: Agent 8
B110: =COUNTBLANK(B102:B109) -> 8 | C110: =COUNTBLANK(C102:C109) -> 8 | D110: =COUNTBLANK(D102:D109) -> 8 | E110: =COUNTBLANK(E102:E109) -> 8 | F110: =COUNTBLANK(F102:F109) -> 8 | G110: =COUNTBLANK(G102:G109) -> 8 | H110: =COUNTBLANK(H102:H109) -> 8 | I110: =COUNTBLANK(I102:I109) -> 8 | ... AF110: =COUNTBLANK(AF102:AF109) -> 8
B112: Cycle 3
...

Sheet Cycles
A2: Cycle 1 - semaines 1 à 12
B5: 1 | I5: 2 | P5: 3 | W5: 4
A6: 1 | B6: lun | C6: mar | D6: mer | E6: jeu | F6: ven | G6: sam | H6: dim | I6: lun | J6: mar | K6: mer | L6: jeu | M6: ven | N6: sam | O6: dim | P6: lun | Q6: mar | R6: mer | S6: jeu | T6: ven | U6: sam | V6: dim | W6: lun | X6: mar | Y6: mer | Z6: jeu | AA6: ven | AB6: sam | AC6: dim
B7: 1 | C7: 2 | D7: 3 | E7: 4 | F7: 5 | G7: 6 | H7: 7 | I7: 8 | J7: 9 | K7: 10 | L7: 11 | M7: 12 | N7: 13 | O7: 14 | P7: 15 | Q7: 16 | R7: 17 | S7: 18 | T7: 19 | U7: 20 | V7: 21 | W7: 22 | X7: 23 | Y7: 24 | Z7: 25 | AA7: 26 | AB7: 27 | AC7: 28 | AH7: NB RR
A8: Agent 1 | B8: RR | D8: RR | E8: RH | F8: RH | I8: RR | J8: RR | M8: RR | N8: RH | O8: RH | P8: RR | R8: RR | S8: RH | T8: RH | W8: RR | X8: RR | AB8: RH | AC8: RH | AD8: =COUNTBLANK(B8:AC8) -> 11 | AH8: =COUNTIF(B8:AC8,"RR") -> 9
A9: Agent 2 | B9: RR | C9: RR | F9: RR | G9: RH | H9: RH | I9: RR | K9: RR | L9: RH | M9: RH | P9: RR | Q9: RR | U9: RH | V9: RH | X9: RR | Y9: RR | Z9: RH | AA9: RH | AD9: =COUNTBLANK(B9:AC9) -> 11 | AH9: =COUNTIF(B9:AC9,"RR") -> 9
A10: Agent 3 | B10: RR | C10: RR | G10: RH | H10: RH | K10: RR | L10: RH | M10: RH | N10: RR | O10: RR | P10: RR | Q10: RR | R10: RR | U10: RH | V10: RH | Y10: RR | Z10: RH | AA10: RH | AD10: =COUNTBLANK(B10:AC10) -> 11 | AH10: =COUNTIF(B10:AC10,"RR") -> 9
A11: Agent 4 | D11: RR | E11: RH | F11: RH | G11: RR | H11: RR | I11: RR | J11: RR | K11: RR | N11: RH | O11: RH | R11: RR | S11: RH | T11: RH | W11: RR | X11: RR | AB11: RH | AC11: RH | AD11: =COUNTBLANK(B11:AC11) -> 11 | AH11: =COUNTIF(B11:AC11,"RR") -> 9
A12: Agent 5 | C12: RR | D12: RR | E12: RH | F12: RH | I12: RR | J12: RR | N12: RH | O12: RH | Q12: RR | R12: RR | S12: RH | T12: RH | W12: RR | X12: RR | AA12: RR | AB12: RH | AC12: RH | AD12: =COUNTBLANK(B12:AC12) -> 11 | AH12: =COUNTIF(B12:AC12,"RR") -> 9
A13: Agent 6 | B13: RR | C13: RR | G13: RH | H13: RH | J13: RR | K13: RR | L13: RH | M13: RH | P13: RR | Q13: RR | T13: RR | U13: RH | V13: RH | W13: RR | Y13: RR | Z13: RH | AA13: RH | AD13: =COUNTBLANK(B13:AC13) -> 11 | AH13: =COUNTIF(B13:AC13,"RR") -> 9
A14: Agent 7 | D14: RR | E14: RH | F14: RH | I14: RR | J14: RR | N14: RH | O14: RH | R14: RR | S14: RH | T14: RH | U14: RR | V14: RR | W14: RR | X14: RR | Y14: RR | AB14: RH | AC14: RH | AD14: =COUNTBLANK(B14:AC14) -> 11 | AH14: =COUNTIF(B14:AC14,"RR") -> 9
A15: Agent 8 | B15: RR | C15: RR | D15: RR | G15: RH | H15: RH | K15: RR | L15: RH | M15: RH | P15: RR | Q15: RR | U15: RH | V15: RH | Y15: RR | Z15: RH | AA15: RH | AB15: RR | AC15: RR | AD15: =COUNTBLANK(B15:AC15) -> 11 | AH15: =COUNTIF(B15:AC15,"RR") -> 9
B16: =COUNTBLANK(B8:B15) -> 3 | C16: =COUNTBLANK(C8:C15) -> 3 | D16: =COUNTBLANK(D8:D15) -> 3 | E16: =COUNTBLANK(E8:E15) -> 4 | F16: =COUNTBLANK(F8:F15) -> 3 | G16: =COUNTBLANK(G8:G15) -> 3 | H16: =COUNTBLANK(H8:H15) -> 3 | I16: =COUNTBLANK(I8:I15) -> 3 | ... AC16: =COUNTBLANK(AC8:AC15) -> 3
B18: 5 | I18: 6 | P18: 7 | W18: 8
A19: 2 | B19: lun | C19: mar | D19: mer | E19: jeu | F19: ven | G19: sam | H19: dim | I19: lun | J19: mar | K19: mer | L19: jeu | M19: ven | N19: sam | O19: dim | P19: lun | Q19: mar | R19: mer | S19: jeu | T19: ven | U19: sam | V19: dim | W19: lun | X19: mar | Y19: mer | Z19: jeu | AA19: ven | AB19: sam | AC19: dim
B20: 1 | C20: 2 | D20: 3 | E20: 4 | F20: 5 | G20: 6 | H20: 7 | I20: 8 | J20: 9 | K20: 10 | L20: 11 | M20: 12 | N20: 13 | O20: 14 | P20: 15 | Q20: 16 | R20: 17 | S20: 18 | T20: 19 | U20: 20 | V20: 21 | W20: 22 | X20: 23 | Y20: 24 | Z20: 25 | AA20: 26 | AB20: 27 | AC20: 28 | AH20: NB RR
A21: Agent 1 | D21: RR | E21: RH | F21: RH | G21: RR | H21: RR | I21: RR | J21: RR | K21: RR | N21: RH | O21: RH | R21: RR | S21: RH | T21: RH | W21: RR | X21: RR | AB21: RH | AC21: RH | AD21: =COUNTBLANK(B21:AC21) -> 11 | AH21: =COUNTIF(B21:AC21,"RR") -> 9
A22: Agent 2 | B22: RR | C22: RR | G22: RH | H22: RH | K22: RR | L22: RH | M22: RH | N22: RR | O22: RR | P22: RR | Q22: RR | R22: RR | U22: RH | V22: RH | Y22: RR | Z22: RH | AA22: RH | AD22: =COUNTBLANK(B22:AC22) -> 11 | AH22: =COUNTIF(B22:AC22,"RR") -> 9
A23: Agent 3 | B23: RR | C23: RR | F23: RR | G23: RH | H23: RH | I23: RR | K23: RR | L23: RH | M23: RH | P23: RR | Q23: RR | U23: RH | V23: RH | X23: RR | Y23: RR | Z23: RH | AA23: RH | AD23: =COUNTBLANK(B23:AC23) -> 11 | AH23: =COUNTIF(B23:AC23,"RR") -> 9
A24: Agent 4 | B24: RR | D24: RR | E24: RH | F24: RH | I24: RR | J24: RR | M24: RR | N24: RH | O24: RH | P24: RR | R24: RR | S24: RH | T24: RH | W24: RR | X24: RR | AB24: RH | AC24: RH | AD24: =COUNTBLANK(B24:AC24) -> 11 | AH24: =COUNTIF(B24:AC24,"RR") -> 9
A25: Agent 5 | D25: RR | E25: RH | F25: RH | I25: RR | J25: RR | N25: RH | O25: RH | R25: RR | S25: RH | T25: RH | U25: RR | V25: RR | W25: RR | X25: RR | Y25: RR | AB25: RH | AC25: RH | AD25: =COUNTBLANK(B25:AC25) -> 11 | AH25: =COUNTIF(B25:AC25,"RR") -> 9
A26: Agent 6 | B26: RR | C26: RR | D26: RR | G26: RH | H26: RH | K26: RR | L26: RH | M26: RH | P26: RR | Q26: RR | U26: RH | V26: RH | Y26: RR | Z26: RH | AA26: RH | AB26: RR | AC26: RR | AD26: =COUNTBLANK(B26:AC26) -> 11 | AH26: =COUNTIF(B26:AC26,"RR") -> 9
A27: Agent 7 | C27: RR | D27: RR | E27: RH | F27: RH | I27: RR | J27: RR | N27: RH | O27: RH | Q27: RR | R27: RR | S27: RH | T27: RH | W27: RR | X27: RR | AA27: RR | AB27: RH | AC27: RH | AD27: =COUNTBLANK(B27:AC27) -> 11 | AH27: =COUNTIF(B27:AC27,"RR") -> 9
A28: Agent 8 | B28: RR | C28: RR | G28: RH | H28: RH | J28: RR | K28: RR | L28: RH | M28: RH | P28: RR | Q28: RR | T28: RR | U28: RH | V28: RH | W28: RR | Y28: RR | Z28: RH | AA28: RH | AD28: =COUNTBLANK(B28:AC28) -> 11 | AH28: =COUNTIF(B28:AC28,"RR") -> 9
B29: =COUNTBLANK(B21:B28) -> 3 | C29: =COUNTBLANK(C21:C28) -> 3 | D29: =COUNTBLANK(D21:D28) -> 3 | E29: =COUNTBLANK(E21:E28) -> 4 | F29: =COUNTBLANK(F21:F28) -> 3 | G29: =COUNTBLANK(G21:G28) -> 3 | H29: =COUNTBLANK(H21:H28) -> 3 | I29: =COUNTBLANK(I21:I28) -> 3 | ... AC29: =COUNTBLANK(AC21:AC28) -> 3
B31: 9 | I31: 10 | P31: 11 | W31: 12
A32: 3 | B32: lun | C32: mar | D32: mer | E32: jeu | F32: ven | G32: sam | H32: dim | I32: lun | J32: mar | K32: mer | L32: jeu | M32: ven | N32: sam | O32: dim | P32: lun | Q32: mar | R32: mer | S32: jeu | T32: ven | U32: sam | V32: dim | W32: lun | X32: mar | Y32: mer | Z32: jeu | AA32: ven | AB32: sam | AC32: dim
B33: 1 | C33: 2 | D33: 3 | E33: 4 | F33: 5 | G33: 6 | H33: 7 | I33: 8 | J33: 9 | K33: 10 | L33: 11 | M33: 12 | N33: 13 | O33: 14 | P33: 15 | Q33: 16 | R33: 17 | S33: 18 | T33: 19 | U33: 20 | V33: 21 | W33: 22 | X33: 23 | Y33: 24 | Z33: 25 | AA33: 26 | AB33: 27 | AC33: 28 | AH33: NB RR | AJ33: TT RR C1
A34: Agent 1 | B34: RR | D34: RR | E34: RH | F34: RH | I34: RR | J34: RR | M34: RR | N34: RH | O34: RH | P34: RR | R34: RR | S34: RH | T34: RH | W34: RR | X34: RR | AB34: RH | AC34: RH | AD34: =COUNTBLANK(B34:AC34) -> 11 | AH34: =COUNTIF(B34:AC34,"RR") -> 9 | AJ34: =SUM(AH8,AH21,AH34) -> 27
A35: Agent 2 | B35: RR | C35: RR | F35: RR | G35: RH | H35: RH | I35: RR | K35: RR | L35: RH | M35: RH | P35: RR | Q35: RR | U35: RH | V35: RH | X35: RR | Y35: RR | Z35: RH | AA35: RH | AD35: =COUNTBLANK(B35:AC35) -> 11 | AH35: =COUNTIF(B35:AC35,"RR") -> 9 | AJ35: =SUM(AH9,AH22,AH35) -> 27
A36: Agent 3 | B36: RR | C36: RR | G36: RH | H36: RH | K36: RR | L36: RH | M36: RH | N36: RR | O36: RR | P36: RR | Q36: RR | R36: RR | U36: RH | V36: RH | Y36: RR | Z36: RH | AA36: RH | AD36: =COUNTBLANK(B36:AC36) -> 11 | AH36: =COUNTIF(B36:AC36,"RR") -> 9 | AJ36: =SUM(AH10,AH23,AH36) -> 27
A37: Agent 4 | D37: RR | E37: RH | F37: RH | G37: RR | H37: RR | I37: RR | J37: RR | K37: RR | N37: RH | O37: RH | R37: RR | S37: RH | T37: RH | W37: RR | X37: RR | AB37: RH | AC37: RH | AD37: =COUNTBLANK(B37:AC37) -> 11 | AH37: =COUNTIF(B37:AC37,"RR") -> 9 | AJ37: =SUM(AH11,AH24,AH37) -> 27
A38: Agent 5 | C38: RR | D38: RR | E38: RH | F38: RH | I38: RR | J38: RR | N38: RH | O38: RH | Q38: RR | R38: RR | S38: RH | T38: RH | W38: RR | X38: RR | AA38: RR | AB38: RH | AC38: RH | AD38: =COUNTBLANK(B38:AC38) -> 11 | AH38: =COUNTIF(B38:AC38,"RR") -> 9 | AJ38: =SUM(AH12,AH25,AH38) -> 27
A39: Agent 6 | B39: RR | C39: RR | G39: RH | H39: RH | J39: RR | K39: RR | L39: RH | M39: RH | P39: RR | Q39: RR | T39: RR | U39: RH | V39: RH | W39: RR | Y39: RR | Z39: RH | AA39: RH | AD39: =COUNTBLANK(B39:AC39) -> 11 | AH39: =COUNTIF(B39:AC39,"RR") -> 9 | AJ39: =SUM(AH13,AH26,AH39) -> 27
A40: Agent 7 | D40: RR | E40: RH | F40: RH | I40: RR | J40: RR | N40: RH | O40: RH | R40: RR | S40: RH | T40: RH | U40: RR | V40: RR | W40: RR | X40: RR | Y40: RR | AB40: RH | AC40: RH | AD40: =COUNTBLANK(B40:AC40) -> 11 | AH40: =COUNTIF(B40:AC40,"RR") -> 9 | AJ40: =SUM(AH14,AH27,AH40) -> 27
A41: Agent 8 | B41: RR | C41: RR | D41: RR | G41: RH | H41: RH | K41: RR | L41: RH | M41: RH | P41: RR | Q41: RR | U41: RH | V41: RH | Y41: RR | Z41: RH | AA41: RH | AB41: RR | AC41: RR | AD41: =COUNTBLANK(B41:AC41) -> 11 | AH41: =COUNTIF(B41:AC41,"RR") -> 9 | AJ41: =SUM(AH15,AH28,AH41) -> 27
B42: =COUNTBLANK(B34:B41) -> 3 | C42: =COUNTBLANK(C34:C41) -> 3 | D42: =COUNTBLANK(D34:D41) -> 3 | E42: =COUNTBLANK(E34:E41) -> 4 | F42: =COUNTBLANK(F34:F41) -> 3 | G42: =COUNTBLANK(G34:G41) -> 3 | H42: =COUNTBLANK(H34:H41) -> 3 | I42: =COUNTBLANK(I34:I41) -> 3 | ... AC42: =COUNTBLANK(AC34:AC41) -> 3
A44: Cycle 2 - semaines 13 à 24
B47: 13 | I47: 14 | P47: 15 | W47: 16
A48: 4 | B48: lun | C48: mar | D48: mer | E48: jeu | F48: ven | G48: sam | H48: dim | I48: lun | J48: mar | K48: mer | L48: jeu | M48: ven | N48: sam | O48: dim | P48: lun | Q48: mar | R48: mer | S48: jeu | T48: ven | U48: sam | V48: dim | W48: lun | X48: mar | Y48: mer | Z48: jeu | AA48: ven | AB48: sam | AC48: dim
B49: 1 | C49: 2 | D49: 3 | E49: 4 | F49: 5 | G49: 6 | H49: 7 | I49: 8 | J49: 9 | K49: 10 | L49: 11 | M49: 12 | N49: 13 | O49: 14 | P49: 15 | Q49: 16 | R49: 17 | S49: 18 | T49: 19 | U49: 20 | V49: 21 | W49: 22 | X49: 23 | Y49: 24 | Z49: 25 | AA49: 26 | AB49: 27 | AC49: 28 | AH49: NB RR
A50: Agent 1 | D50: RR | E50: RH | F50: RH | G50: RR | H50: RR | I50: RR | J50: RR | K50: RR | N50: RH | O50: RH | R50: RR | S50: RH | T50: RH | W50: RR | X50: RR | AB50: RH | AC50: RH | AD50: =COUNTBLANK(B50:AC50) -> 11 | AH50: =COUNTIF(B50:AC50,"RR") -> 9
A51: Agent 2 | B51: RR | C51: RR | G51: RH | H51: RH | K51: RR | L51: RH | M51: RH | N51: RR | O51: RR | P51: RR | Q51: RR | R51: RR | U51: RH | V51: RH | Y51: RR | Z51: RH | AA51: RH | AD51: =COUNTBLANK(B51:AC51) -> 11 | AH51: =COUNTIF(B51:AC51,"RR") -> 9
A52: Agent 3 | B52: RR | C52: RR | F52: RR | G52: RH | H52: RH | I52: RR | K52: RR | L52: RH | M52: RH | P52: RR | Q52: RR | U52: RH | V52: RH | X52: RR | Y52: RR | Z52: RH | AA52: RH | AD52: =COUNTBLANK(B52:AC52) -> 11 | AH52: =COUNTIF(B52:AC52,"RR") -> 9
A53: Agent 4 | B53: RR | D53: RR | E53: RH | F53: RH | I53: RR | J53: RR | M53: RR | N53: RH | O53: RH | P53: RR | R53: RR | S53: RH | T53: RH | W53: RR | X53: RR | AB53: RH | AC53: RH | AD53: =COUNTBLANK(B53:AC53) -> 11 | AH53: =COUNTIF(B53:AC53,"RR") -> 9
A54: Agent 5 | D54: RR | E54: RH | F54: RH | I54: RR | J54: RR | N54: RH | O54: RH | R54: RR | S54: RH | T54: RH | U54: RR | V54: RR | W54: RR | X54: RR | Y54: RR | AB54: RH | AC54: RH | AD54: =COUNTBLANK(B54:AC54) -> 11 | AH54: =COUNTIF(B54:AC54,"RR") -> 9
A55: Agent 6 | B55: RR | C55: RR | D55: RR | G55: RH | H55: RH | K55: RR | L55: RH | M55: RH | P55: RR | Q55: RR | U55: RH | V55: RH | Y55: RR | Z55: RH | AA55: RH | AB55: RR | AC55: RR | AD55: =COUNTBLANK(B55:AC55) -> 11 | AH55: =COUNTIF(B55:AC55,"RR") -> 9
A56: Agent 7 | C56: RR | D56: RR | E56: RH | F56: RH | I56: RR | J56: RR | N56: RH | O56: RH | Q56: RR | R56: RR | S56: RH | T56: RH | W56: RR | X56: RR | AA56: RR | AB56: RH | AC56: RH | AD56: =COUNTBLANK(B56:AC56) -> 11 | AH56: =COUNTIF(B56:AC56,"RR") -> 9
A57: Agent 8 | B57: RR | C57: RR | G57: RH | H57: RH | J57: RR | K57: RR | L57: RH | M57: RH | P57: RR | Q57: RR | T57: RR | U57: RH | V57: RH | W57: RR | Y57: RR | Z57: RH | AA57: RH | AD57: =COUNTBLANK(B57:AC57) -> 11 | AH57: =COUNTIF(B57:AC57,"RR") -> 9
B58: =COUNTBLANK(B50:B57) -> 3 | C58: =COUNTBLANK(C50:C57) -> 3 | D58: =COUNTBLANK(D50:D57) -> 3 | E58: =COUNTBLANK(E50:E57) -> 4 | F58: =COUNTBLANK(F50:F57) -> 3 | G58: =COUNTBLANK(G50:G57) -> 3 | H58: =COUNTBLANK(H50:H57) -> 3 | I58: =COUNTBLANK(I50:I57) -> 3 | ... AC58: =COUNTBLANK(AC50:AC57) -> 3
B60: 17 | I60: 18 | P60: 19 | W60: 20
A61: 5 | B61: lun | C61: mar | D61: mer | E61: jeu | F61: ven | G61: sam | H61: dim | I61: lun | J61: mar | K61: mer | L61: jeu | M61: ven | N61: sam | O61: dim | P61: lun | Q61: mar | R61: mer | S61: jeu | T61: ven | U61: sam | V61: dim | W61: lun | X61: mar | Y61: mer | Z61: jeu | AA61: ven | AB61: sam | AC61: dim
B62: 1 | C62: 2 | D62: 3 | E62: 4 | F62: 5 | G62: 6 | H62: 7 | I62: 8 | J62: 9 | K62: 10 | L62: 11 | M62: 12 | N62: 13 | O62: 14 | P62: 15 | Q62: 16 | R62: 17 | S62: 18 | T62: 19 | U62: 20 | V62: 21 | W62: 22 | X62: 23 | Y62: 24 | Z62: 25 | AA62: 26 | AB62: 27 | AC62: 28 | AH62: NB RR
A63: Agent 1 | B63: RR | D63: RR | E63: RH | F63: RH | I63: RR | J63: RR | M63: RR | N63: RH | O63: RH | P63: RR | R63: RR | S63: RH | T63: RH | W63: RR | X63: RR | AB63: RH | AC63: RH | AD63: =COUNTBLANK(B63:AC63) -> 11 | AH63: =COUNTIF(B63:AC63,"RR") -> 9
A64: Agent 2 | B64: RR | C64: RR | F64: RR | G64: RH | H64: RH | I64: RR | K64: RR | L64: RH | M64: RH | P64: RR | Q64: RR | U64: RH | V64: RH | X64: RR | Y64: RR | Z64: RH | AA64: RH | AD64: =COUNTBLANK(B64:AC64) -> 11 | AH64: =COUNTIF(B64:AC64,"RR") -> 9
A65: Agent 3 | B65: RR | C65: RR | G65: RH | H65: RH | K65: RR | L65: RH | M65: RH | N65: RR | O65: RR | P65: RR | Q65: RR | R65: RR | U65: RH | V65: RH | Y65: RR | Z65: RH | AA65: RH | AD65: =COUNTBLANK(B65:AC65) -> 11 | AH65: =COUNTIF(B65:AC65,"RR") -> 9
A66: Agent 4 | D66: RR | E66: RH | F66: RH | G66: RR | H66: RR | I66: RR | J66: RR | K66: RR | N66: RH | O66: RH | R66: RR | S66: RH | T66: RH | W66: RR | X66: RR | AB66: RH | AC66: RH | AD66: =COUNTBLANK(B66:AC66) -> 11 | AH66: =COUNTIF(B66:AC66,"RR") -> 9
A67: Agent 5 | C67: RR | D67: RR | E67: RH | F67: RH | I67: RR | J67: RR | N67: RH | O67: RH | Q67: RR | R67: RR | S67: RH | T67: RH | W67: RR | X67: RR | AA67: RR | AB67: RH | AC67: RH | AD67: =COUNTBLANK(B67:AC67) -> 11 | AH67: =COUNTIF(B67:AC67,"RR") -> 9
A68: Agent 6 | B68: RR | C68: RR | G68: RH | H68: RH | J68: RR | K68: RR | L68: RH | M68: RH | P68: RR | Q68: RR | T68: RR | U68: RH | V68: RH | W68: RR | Y68: RR | Z68: RH | AA68: RH | AD68: =COUNTBLANK(B68:AC68) -> 11 | AH68: =COUNTIF(B68:AC68,"RR") -> 9
A69: Agent 7 | D69: RR | E69: RH | F69: RH | I69: RR | J69: RR | N69: RH | O69: RH | R69: RR | S69: RH | T69: RH | U69: RR | V69: RR | W69: RR | X69: RR | Y69: RR | AB69: RH | AC69: RH | AD69: =COUNTBLANK(B69:AC69) -> 11 | AH69: =COUNTIF(B69:AC69,"RR") -> 9
A70: Agent 8 | B70: RR | C70: RR | D70: RR | G70: RH | H70: RH | K70: RR | L70: RH | M70: RH | P70: RR | Q70: RR | U70: RH | V70: RH | Y70: RR | Z70: RH | AA70: RH | AB70: RR | AC70: RR | AD70: =COUNTBLANK(B70:AC70) -> 11 | AH70: =COUNTIF(B70:AC70,"RR") -> 9
B71: =COUNTBLANK(B63:B70) -> 3 | C71: =COUNTBLANK(C63:C70) -> 3 | D71: =COUNTBLANK(D63:D70) -> 3 | E71: =COUNTBLANK(E63:E70) -> 4 | F71: =COUNTBLANK(F63:F70) -> 3 | G71: =COUNTBLANK(G63:G70) -> 3 | H71: =COUNTBLANK(H63:H70) -> 3 | I71: =COUNTBLANK(I63:I70) -> 3 | ... AC71: =COUNTBLANK(AC63:AC70) -> 3
B73: 21 | I73: 22 | P73: 23 | W73: 24
A74: 6 | B74: lun | C74: mar | D74: mer | E74: jeu | F74: ven | G74: sam | H74: dim | I74: lun | J74: mar | K74: mer | L74: jeu | M74: ven | N74: sam | O74: dim | P74: lun | Q74: mar | R74: mer | S74: jeu | T74: ven | U74: sam | V74: dim | W74: lun | X74: mar | Y74: mer | Z74: jeu | AA74: ven | AB74: sam | AC74: dim
B75: 1 | C75: 2 | D75: 3 | E75: 4 | F75: 5 | G75: 6 | H75: 7 | I75: 8 | J75: 9 | K75: 10 | L75: 11 | M75: 12 | N75: 13 | O75: 14 | P75: 15 | Q75: 16 | R75: 17 | S75: 18 | T75: 19 | U75: 20 | V75: 21 | W75: 22 | X75: 23 | Y75: 24 | Z75: 25 | AA75: 26 | AB75: 27 | AC75: 28 | AH75: NB RR | AJ75: TT RR C2
A76: Agent 1 | D76: RR | E76: RH | F76: RH | G76: RR | H76: RR | I76: RR | J76: RR | K76: RR | N76: RH | O76: RH | R76: RR | S76: RH | T76: RH | W76: RR | X76: RR | AB76: RH | AC76: RH | AD76: =COUNTBLANK(B76:AC76) -> 11 | AH76: =COUNTIF(B76:AC76,"RR") -> 9 | AJ76: =SUM(AH50,AH63,AH76) -> 27
A77: Agent 2 | B77: RR | C77: RR | G77: RH | H77: RH | K77: RR | L77: RH | M77: RH | N77: RR | O77: RR | P77: RR | Q77: RR | R77: RR | U77: RH | V77: RH | Y77: RR | Z77: RH | AA77: RH | AD77: =COUNTBLANK(B77:AC77) -> 11 | AH77: =COUNTIF(B77:AC77,"RR") -> 9 | AJ77: =SUM(AH51,AH64,AH77) -> 27
A78: Agent 3 | B78: RR | C78: RR | F78: RR | G78: RH | H78: RH | I78: RR | K78: RR | L78: RH | M78: RH | P78: RR | Q78: RR | U78: RH | V78: RH | X78: RR | Y78: RR | Z78: RH | AA78: RH | AD78: =COUNTBLANK(B78:AC78) -> 11 | AH78: =COUNTIF(B78:AC78,"RR") -> 9 | AJ78: =SUM(AH52,AH65,AH78) -> 27
A79: Agent 4 | B79: RR | D79: RR | E79: RH | F79: RH | I79: RR | J79: RR | M79: RR | N79: RH | O79: RH | P79: RR | R79: RR | S79: RH | T79: RH | W79: RR | X79: RR | AB79: RH | AC79: RH | AD79: =COUNTBLANK(B79:AC79) -> 11 | AH79: =COUNTIF(B79:AC79,"RR") -> 9 | AJ79: =SUM(AH53,AH66,AH79) -> 27
A80: Agent 5 | D80: RR | E80: RH | F80: RH | I80: RR | J80: RR | N80: RH | O80: RH | R80: RR | S80: RH | T80: RH | U80: RR | V80: RR | W80: RR | X80: RR | Y80: RR | AB80: RH | AC80: RH | AD80: =COUNTBLANK(B80:AC80) -> 11 | AH80: =COUNTIF(B80:AC80,"RR") -> 9 | AJ80: =SUM(AH54,AH67,AH80) -> 27
A81: Agent 6 | B81: RR | C81: RR | D81: RR | G81: RH | H81: RH | K81: RR | L81: RH | M81: RH | P81: RR | Q81: RR | U81: RH | V81: RH | Y81: RR | Z81: RH | AA81: RH | AB81: RR | AC81: RR | AD81: =COUNTBLANK(B81:AC81) -> 11 | AH81: =COUNTIF(B81:AC81,"RR") -> 9 | AJ81: =SUM(AH55,AH68,AH81) -> 27
A82: Agent 7 | C82: RR | D82: RR | E82: RH | F82: RH | I82: RR | J82: RR | N82: RH | O82: RH | Q82: RR | R82: RR | S82: RH | T82: RH | W82: RR | X82: RR | AA82: RR | AB82: RH | AC82: RH | AD82: =COUNTBLANK(B82:AC82) -> 11 | AH82: =COUNTIF(B82:AC82,"RR") -> 9 | AJ82: =SUM(AH56,AH69,AH82) -> 27
A83: Agent 8 | B83: RR | C83: RR | G83: RH | H83: RH | J83: RR | K83: RR | L83: RH | M83: RH | P83: RR | Q83: RR | T83: RR | U83: RH | V83: RH | W83: RR | Y83: RR | Z83: RH | AA83: RH | AD83: =COUNTBLANK(B83:AC83) -> 11 | AH83: =COUNTIF(B83:AC83,"RR") -> 9 | AJ83: =SUM(AH57,AH70,AH83) -> 27
B84: =COUNTBLANK(B76:B83) -> 3 | C84: =COUNTBLANK(C76:C83) -> 3 | D84: =COUNTBLANK(D76:D83) -> 3 | E84: =COUNTBLANK(E76:E83) -> 4 | F84: =COUNTBLANK(F76:F83) -> 3 | G84: =COUNTBLANK(G76:G83) -> 3 | H84: =COUNTBLANK(H76:H83) -> 3 | I84: =COUNTBLANK(I76:I83) -> 3 | ... AC84: =COUNTBLANK(AC76:AC83) -> 3
A86: Cycle 3 - semaines 25 à 36
B89: 25 | I89: 26 | P89: 27 | W89: 28
A90: 7 | B90: lun | C90: mar | D90: mer | E90: jeu | F90: ven | G90: sam | H90: dim | I90: lun | J90: mar | K90: mer | L90: jeu | M90: ven | N90: sam | O90: dim | P90: lun | Q90: mar | R90: mer | S90: jeu | T90: ven | U90: sam | V90: dim | W90: lun | X90: mar | Y90: mer | Z90: jeu | AA90: ven | AB90: sam | AC90: dim
B91: 1 | C91: 2 | D91: 3 | E91: 4 | F91: 5 | G91: 6 | H91: 7 | I91: 8 | J91: 9 | K91: 10 | L91: 11 | M91: 12 | N91: 13 | O91: 14 | P91: 15 | Q91: 16 | R91: 17 | S91: 18 | T91: 19 | U91: 20 | V91: 21 | W91: 22 | X91: 23 | Y91: 24 | Z91: 25 | AA91: 26 | AB91: 27 | AC91: 28 | AH91: NB RR
A92: Agent 1 | B92: RR | D92: RR | E92: RH | F92: RH | I92: RR | J92: RR | M92: RR | N92: RH | O92: RH | P92: RR | R92: RR | S92: RH | T92: RH | W92: RR | X92: RR | AB92: RH | AC92: RH | AD92: =COUNTBLANK(B92:AC92) -> 11 | AH92: =COUNTIF(B92:AC92,"RR") -> 9
A93: Agent 2 | B93: RR | C93: RR | F93: RR | G93: RH | H93: RH | I93: RR | K93: RR | L93: RH | M93: RH | P93: RR | Q93: RR | U93: RH | V93: RH | X93: RR | Y93: RR | Z93: RH | AA93: RH | AD93: =COUNTBLANK(B93:AC93) -> 11 | AH93: =COUNTIF(B93:AC93,"RR") -> 9
A94: Agent 3 | B94: RR | C94: RR | G94: RH | H94: RH | K94: RR | L94: RH | M94: RH | N94: RR | O94: RR | P94: RR | Q94: RR | R94: RR | U94: RH | V94: RH | Y94: RR | Z94: RH | AA94: RH | AD94: =COUNTBLANK(B94:AC94) -> 11 | AH94: =COUNTIF(B94:AC94,"RR") -> 9
A95: Agent 4 | D95: RR | E95: RH | F95: RH | G95: RR | H95: RR | I95: RR | J95: RR | K95: RR | N95: RH | O95: RH | R95: RR | S95: RH | T95: RH | W95: RR | X95: RR | AB95: RH | AC95: RH | AD95: =COUNTBLANK(B95:AC95) -> 11 | AH95: =COUNTIF(B95:AC95,"RR") -> 9
A96: Agent 5 | C96: RR | D96: RR | E96: RH | F96: RH | I96: RR | J96: RR | N96: RH | O96: RH | Q96: RR | R96: RR | S96: RH | T96: RH | W96: RR | X96: RR | AA96: RR | AB96: RH | AC96: RH | AD96: =COUNTBLANK(B96:AC96) -> 11 | AH96: =COUNTIF(B96:AC96,"RR") -> 9
A97: Agent 6 | B97: RR | C97: RR | G97: RH | H97: RH | J97: RR | K97: RR | L97: RH | M97: RH | P97: RR | Q97: RR | T97: RR | U97: RH | V97: RH | W97: RR | Y97: RR | Z97: RH | AA97: RH | AD97: =COUNTBLANK(B97:AC97) -> 11 | AH97: =COUNTIF(B97:AC97,"RR") -> 9
A98: Agent 7 | D98: RR | E98: RH | F98: RH | I98: RR | J98: RR | N98: RH | O98: RH | R98: RR | S98: RH | T98: RH | U98: RR | V98: RR | W98: RR | X98: RR | Y98: RR | AB98: RH | AC98: RH | AD98: =COUNTBLANK(B98:AC98) -> 11 | AH98: =COUNTIF(B98:AC98,"RR") -> 9
A99: Agent 8 | B99: RR | C99: RR | D99: RR | G99: RH | H99: RH | K99: RR | L99: RH | M99: RH | P99: RR | Q99: RR | U99: RH | V99: RH | Y99: RR | Z99: RH | AA99: RH | AB99: RR | AC99: RR | AD99: =COUNTBLANK(B99:AC99) -> 11 | AH99: =COUNTIF(B99:AC99,"RR") -> 9
B100: =COUNTBLANK(B92:B99) -> 3 | C100: =COUNTBLANK(C92:C99) -> 3 | D100: =COUNTBLANK(D92:D99) -> 3 | E100: =COUNTBLANK(E92:E99) -> 4 | F100: =COUNTBLANK(F92:F99) -> 3 | G100: =COUNTBLANK(G92:G99) -> 3 | H100: =COUNTBLANK(H92:H99) -> 3 | I100: =COUNTBLANK(I92:I99) -> 3 | ... AC100: =COUNTBLANK(AC92:AC99) -> 3
B102: 29 | I102: 30 | P102: 31 | W102: 32
A103: 8 | B103: lun | C103: mar | D103: mer | E103: jeu | F103: ven | G103: sam | H103: dim | I103: lun | J103: mar | K103: mer | L103: jeu | M103: ven | N103: sam | O103: dim | P103: lun | Q103: mar | R103: mer | S103: jeu | T103: ven | U103: sam | V103: dim | W103: lun | X103: mar | Y103: mer | Z103: jeu | AA103: ven | AB103: sam | AC103: dim
B104: 1 | C104: 2 | D104: 3 | E104: 4 | F104: 5 | G104: 6 | H104: 7 | I104: 8 | J104: 9 | K104: 10 | L104: 11 | M104: 12 | N104: 13 | O104: 14 | P104: 15 | Q104: 16 | R104: 17 | S104: 18 | T104: 19 | U104: 20 | V104: 21 | W104: 22 | X104: 23 | Y104: 24 | Z104: 25 | AA104: 26 | AB104: 27 | AC104: 28 | AH104: NB RR
A105: Agent 1 | D105: RR | E105: RH | F105: RH | G105: RR | H105: RR | I105: RR | J105: RR | K105: RR | N105: RH | O105: RH | R105: RR | S105: RH | T105: RH | W105: RR | X105: RR | AB105: RH | AC105: RH | AD105: =COUNTBLANK(B105:AC105) -> 11 | AH105: =COUNTIF(B105:AC105,"RR") -> 9
A106: Agent 2 | B106: RR | C106: RR | G106: RH | H106: RH | K106: RR | L106: RH | M106: RH | N106: RR | O106: RR | P106: RR | Q106: RR | R106: RR | U106: RH | V106: RH | Y106: RR | Z106: RH | AA106: RH | AD106: =COUNTBLANK(B106:AC106) -> 11 | AH106: =COUNTIF(B106:AC106,"RR") -> 9
A107: Agent 3 | B107: RR | C107: RR | F107: RR | G107: RH | H107: RH | I107: RR | K107: RR | L107: RH | M107: RH | P107: RR | Q107: RR | U107: RH | V107: RH | X107: RR | Y107: RR | Z107: RH | AA107: RH | AD107: =COUNTBLANK(B107:AC107) -> 11 | AH107: =COUNTIF(B107:AC107,"RR") -> 9
A108: Agent 4 | B108: RR | D108: RR | E108: RH | F108: RH | I108: RR | J108: RR | M108: RR | N108: RH | O108: RH | P108: RR | R108: RR | S108: RH | T108: RH | W108: RR | X108: RR | AB108: RH | AC108: RH | AD108: =COUNTBLANK(B108:AC108) -> 11 | AH108: =COUNTIF(B108:AC108,"RR") -> 9
A109: Agent 5 | D109: RR | E109: RH | F109: RH | I109: RR | J109: RR | N109: RH | O109: RH | R109: RR | S109: RH | T109: RH | U109: RR | V109: RR | W109: RR | X109: RR | Y109: RR | AB109: RH | AC109: RH | AD109: =COUNTBLANK(B109:AC109) -> 11 | AH109: =COUNTIF(B109:AC109,"RR") -> 9
A110: Agent 6 | B110: RR | C110: RR | D110: RR | G110: RH | H110: RH | K110: RR | L110: RH | M110: RH | P110: RR | Q110: RR | U110: RH | V110: RH | Y110: RR | Z110: RH | AA110: RH | AB110: RR | AC110: RR | AD110: =COUNTBLANK(B110:AC110) -> 11 | AH110: =COUNTIF(B110:AC110,"RR") -> 9
A111: Agent 7 | C111: RR | D111: RR | E111: RH | F111: RH | I111: RR | J111: RR | N111: RH | O111: RH | Q111: RR | R111: RR | S111: RH | T111: RH | W111: RR | X111: RR | AA111: RR | AB111: RH | AC111: RH | AD111: =COUNTBLANK(B111:AC111) -> 11 | AH111: =COUNTIF(B111:AC111,"RR") -> 9
A112: Agent 8 | B112: RR | C112: RR | G112: RH | H112: RH | J112: RR | K112: RR | L112: RH | M112: RH | P112: RR | Q112: RR | T112: RR | U112: RH | V112: RH | W112: RR | Y112: RR | Z112: RH | AA112: RH | AD112: =COUNTBLANK(B112:AC112) -> 11 | AH112: =COUNTIF(B112:AC112,"RR") -> 9
B113: =COUNTBLANK(B105:B112) -> 3 | C113: =COUNTBLANK(C105:C112) -> 3 | D113: =COUNTBLANK(D105:D112) -> 3 | E113: =COUNTBLANK(E105:E112) -> 4 | F113: =COUNTBLANK(F105:F112) -> 3 | G113: =COUNTBLANK(G105:G112) -> 3 | H113: =COUNTBLANK(H105:H112) -> 3 | I113: =COUNTBLANK(I105:I112) -> 3 | ... AC113: =COUNTBLANK(AC105:AC112) -> 3
B115: 33 | I115: 34 | P115: 35 | W115: 36
...
