Workbook
Name an: Année!$A$2
Name feries: Année!#REF!
Name Fériés: Données!$F$6:$F$15
Name grandesvacances: Année!#REF!
Name hiver: Année!#REF!
Name noel: Année!#REF!
Name printemps: Année!#REF!
Name toussaint: Année!#REF!
Name Vacances: Données!$D$3:$D$154

Sheet Données
A2: Agents | C2: Vacances | F2: Dimanche de Pâques
A3: Agent 1 | C3: Noël | D3: 43820 | F3: =ROUND(DATE(2020,4,MOD(234-11*MOD(2020,19),30))/7,0)*7-6 -> 43933
A4: Agent 2 | D4: 43821
A5: Agent 3 | D5: 43822 | F5: Jours fériés
A6: Agent 4 | D6: 43823 | F6: =DATE(RIGHT(Année!$A$1,4),1,1) -> 43831
A7: Agent 5 | D7: 43824 | F7: =DATE(RIGHT(Année!$A$1,4),5,1) -> 43952
A8: Agent 6 | D8: 43825 | F8: =Année!$I$69 -> 43959
A9: Agent 7 | D9: 43826 | F9: =Année!$O$99 -> 44026
A10: Agent 8 | D10: 43827 | F10: =Année!$P$114 -> 44058
A11: Agent 9 | D11: 43829 | F11: =Année!$L$159 -> 44146
A12: Agent 10 | D12: 43830 | F12: =Année!$Z$174 -> 44190
A13: Agent 11 | D13: 43831 | F13: =F3+1 -> 43934
A14: Agent 12 | D14: 43832 | F14: =F3+39 -> 43972
A15: Agent 13 | D15: 43833 | F15: =F3+50 -> 43983
A16: Agent 14 | D16: 43834
A17: Agent 15 | D17: 43835
A18: Agent 16 | C18: Hiver | D18: 43869
A19: Agent 17 | D19: 43870
D20: 43871
D21: 43872
D22: 43873
D23: 43874
D24: 43875
D25: 43876
D26: 43877
D27: 43878
D28: 43879
D29: 43880
D30: 43881
D31: 43882
... D37: 43928
C38: Printemps | D38: 43925
D39: 43926
D40: 43927
D41: 43928
D42: 43929
D43: 43930
D44: 43931
D45: 43932
D46: 43933
...

Sheet Année
A1: Plannings 2020
B7: Cycle 1
B8: =WEEKNUM(B9,2) -> 1 | C8: =WEEKNUM(C9,2) -> 1 | D8: =WEEKNUM(D9,2) -> 1 | E8: =WEEKNUM(E9,2) -> 1 | F8: =WEEKNUM(F9,2) -> 1 | G8: =WEEKNUM(G9,2) -> 2 | H8: =WEEKNUM(H9,2) -> 2 | I8: =WEEKNUM(I9,2) -> 2 | ... AF8: =WEEKNUM(AF9,2) -> 5
B9: =DATE(RIGHT($A$1,4),1,1) -> 43831 | C9: =B9+1 -> 43832 | D9: =C9+1 -> 43833 | E9: =D9+1 -> 43834 | F9: =E9+1 -> 43835 | G9: =F9+1 -> 43836 | H9: =G9+1 -> 43837 | I9: =H9+1 -> 43838 | J9: =I9+1 -> 43839 | ... AF9: =AE9+1 -> 43861 | AG9: JT
A10: =TEXT(B9,"mmmm") -> janvier | B10: =(TEXT(B9,"jjj")) -> mer | C10: =(TEXT(C9,"jjj")) -> jeu | D10: =(TEXT(D9,"jjj")) -> ven | E10: =(TEXT(E9,"jjj")) -> sam | F10: =(TEXT(F9,"jjj")) -> dim | G10: =(TEXT(G9,"jjj")) -> lun | H10: =(TEXT(H9,"jjj")) -> mar | I10: =(TEXT(I9,"jjj")) -> mer | ... AF10: =(TEXT(AF9,"jjj")) -> ven | AJ10: Cycle 1
B11: =DAY(B9) -> 1 | C11: =DAY(C9) -> 2 | D11: =DAY(D9) -> 3 | E11: =DAY(E9) -> 4 | F11: =DAY(F9) -> 5 | G11: =DAY(G9) -> 6 | H11: =DAY(H9) -> 7 | I11: =DAY(I9) -> 8 | ... AF11: =DAY(AF9) -> 31 | AJ11: RR | AK11: RH | AL11: CA | AM11: HP | AN11: FO | AO11: JS | AP11: FR | AQ11: SU
A12: Agent 1 | AG12: =COUNTBLANK(B12:AF12) -> 31 | AI12: Agent 1 | AJ12: =COUNTIF(B12:AF12,"RR") -> 0 | AK12: =COUNTIF(B12:AF12,"RH") -> 0 | AL12: =COUNTIF(B12:AF12,"CA") -> 0 | AM12: =COUNTIF(B12:AF12,"HP") -> 0 | AN12: =COUNTIF(B12:AF12,"FO") -> 0 | AO12: =COUNTIF(B12:AF12,"JS") -> 0 | AP12: =COUNTIF(B12:AF12,"FR") -> 0 | AQ12: =COUNTIF(B12:AF12,"SU") -> 0
A13: Agent 2 | AG13: =COUNTBLANK(B13:AF13) -> 31 | AI13: Agent 2
A14: Agent 3 | AG14: =COUNTBLANK(B14:AF14) -> 31 | AI14: Agent 3
A15: Agent 4 | AG15: =COUNTBLANK(B15:AF15) -> 31 | AI15: Agent 4
A16: Agent 5 | AG16: =COUNTBLANK(B16:AF16) -> 31 | AI16: Agent 5
A17: Agent 6 | AG17: =COUNTBLANK(B17:AF17) -> 31 | AI17: Agent 6
A18: Agent 7 | AG18: =COUNTBLANK(B18:AF18) -> 31 | AI18: Agent 7
A19: Agent 8 | AG19: =COUNTBLANK(B19:AF19) -> 31 | AI19: Agent 8 | AR19: 9
B20: =COUNTBLANK(B12:B19) -> 8 | C20: =COUNTBLANK(C12:C19) -> 8 | D20: =COUNTBLANK(D12:D19) -> 8 | E20: =COUNTBLANK(E12:E19) -> 8 | F20: =COUNTBLANK(F12:F19) -> 8 | G20: =COUNTBLANK(G12:G19) -> 8 | H20: =COUNTBLANK(H12:H19) -> 8 | I20: =COUNTBLANK(I12:I19) -> 8 | ... AF20: =COUNTBLANK(AF12:AF19) -> 8
B22: Cycle 1
B23: =WEEKNUM(B24,2) -> 5 | C23: =WEEKNUM(C24,2) -> 5 | D23: =WEEKNUM(D24,2) -> 6 | E23: =WEEKNUM(E24,2) -> 6 | F23: =WEEKNUM(F24,2) -> 6 | G23: =WEEKNUM(G24,2) -> 6 | H23: =WEEKNUM(H24,2) -> 6 | I23: =WEEKNUM(I24,2) -> 6 | ... AD23: =WEEKNUM(AD24,2) -> 9
B24: =DATE(RIGHT($A$1,4),2,1) -> 43862 | C24: =B24+1 -> 43863 | D24: =C24+1 -> 43864 | E24: =D24+1 -> 43865 | F24: =E24+1 -> 43866 | G24: =F24+1 -> 43867 | H24: =G24+1 -> 43868 | I24: =H24+1 -> 43869 | J24: =I24+1 -> 43870 | ... AD24: =AC24+1 -> 43890 | AE24: JT
A25: =TEXT(B24,"mmmm") -> février | B25: =(TEXT(B24,"jjj")) -> sam | C25: =(TEXT(C24,"jjj")) -> dim | D25: =(TEXT(D24,"jjj")) -> lun | E25: =(TEXT(E24,"jjj")) -> mar | F25: =(TEXT(F24,"jjj")) -> mer | G25: =(TEXT(G24,"jjj")) -> jeu | H25: =(TEXT(H24,"jjj")) -> ven | I25: =(TEXT(I24,"jjj")) -> sam | ... AD25: =(TEXT(AD24,"jjj")) -> sam | AJ25: Cycle 1
B26: =DAY(B24) -> 1 | C26: =DAY(C24) -> 2 | D26: =DAY(D24) -> 3 | E26: =DAY(E24) -> 4 | F26: =DAY(F24) -> 5 | G26: =DAY(G24) -> 6 | H26: =DAY(H24) -> 7 | I26: =DAY(I24) -> 8 | ... AD26: =DAY(AD24) -> 29 | AJ26: RR | AK26: RH | AL26: CA | AM26: HP | AN26: FO | AO26: JS | AP26: FR | AQ26: SU
A27: Agent 1 | AE27: =COUNTBLANK(B27:AC27) -> 28 | AI27: Agent 1 | AJ27: =COUNTIF(B27:AC27,"RR") -> 0 | AK27: =COUNTIF(B27:AC27,"RH") -> 0 | AL27: =COUNTIF(B27:AC27,"CA") -> 0 | AM27: =COUNTIF(B27:AC27,"HP") -> 0 | AN27: =COUNTIF(B27:AC27,"FO") -> 0 | AO27: =COUNTIF(B27:AC27,"JS") -> 0 | AP27: =COUNTIF(B27:AC27,"FR") -> 0 | AQ27: =COUNTIF(B27:AC27,"SU") -> 0
A28: Agent 2 | AE28: =COUNTBLANK(B28:AC28) -> 28 | AI28: Agent 2
A29: Agent 3 | AE29: =COUNTBLANK(B29:AC29) -> 28 | AI29: Agent 3
A30: Agent 4 | AE30: =COUNTBLANK(B30:AC30) -> 28 | AI30: Agent 4
A31: Agent 5 | AE31: =COUNTBLANK(B31:AC31) -> 28 | AI31: Agent 5
A32: Agent 6 | AE32: =COUNTBLANK(B32:AC32) -> 28 | AI32: Agent 6
A33: Agent 7 | AE33: =COUNTBLANK(B33:AC33) -> 28 | AI33: Agent 7
A34: Agent 8 | AE34: =COUNTBLANK(B34:AC34) -> 28 | AI34: Agent 8
B35: =COUNTBLANK(B27:B34) -> 8 | C35: =COUNTBLANK(C27:C34) -> 8 | D35: =COUNTBLANK(D27:D34) -> 8 | E35: =COUNTBLANK(E27:E34) -> 8 | F35: =COUNTBLANK(F27:F34) -> 8 | G35: =COUNTBLANK(G27:G34) -> 8 | H35: =COUNTBLANK(H27:H34) -> 8 | I35: =COUNTBLANK(I27:I34) -> 8 | ... AC35: =COUNTBLANK(AC27:AC34) -> 8
B37: Cycle 1 | AF37: Cycle 2
B38: =WEEKNUM(B39,2) -> 9 | C38: =WEEKNUM(C39,2) -> 10 | D38: =WEEKNUM(D39,2) -> 10 | E38: =WEEKNUM(E39,2) -> 10 | F38: =WEEKNUM(F39,2) -> 10 | G38: =WEEKNUM(G39,2) -> 10 | H38: =WEEKNUM(H39,2) -> 10 | I38: =WEEKNUM(I39,2) -> 10 | ... AF38: =WEEKNUM(AF39,2) -> 14
B39: =DATE(RIGHT($A$1,4),3,1) -> 43891 | C39: =B39+1 -> 43892 | D39: =C39+1 -> 43893 | E39: =D39+1 -> 43894 | F39: =E39+1 -> 43895 | G39: =F39+1 -> 43896 | H39: =G39+1 -> 43897 | I39: =H39+1 -> 43898 | J39: =I39+1 -> 43899 | ... AF39: =AE39+1 -> 43921 | AG39: JT
A40: =TEXT(B39,"mmmm") -> mars | B40: =(TEXT(B39,"jjj")) -> dim | C40: =(TEXT(C39,"jjj")) -> lun | D40: =(TEXT(D39,"jjj")) -> mar | E40: =(TEXT(E39,"jjj")) -> mer | F40: =(TEXT(F39,"jjj")) -> jeu | G40: =(TEXT(G39,"jjj")) -> ven | H40: =(TEXT(H39,"jjj")) -> sam | I40: =(TEXT(I39,"jjj")) -> dim | ... AF40: =(TEXT(AF39,"jjj")) -> mar | AJ40: Cycle 1 | AT40: Cycle 2 | BG40: Total cycle 1
B41: =DAY(B39) -> 1 | C41: =DAY(C39) -> 2 | D41: =DAY(D39) -> 3 | E41: =DAY(E39) -> 4 | F41: =DAY(F39) -> 5 | G41: =DAY(G39) -> 6 | H41: =DAY(H39) -> 7 | I41: =DAY(I39) -> 8 | ... AF41: =DAY(AF39) -> 31 | AJ41: RR | AK41: RH | AL41: CA | AM41: HP | AN41: FO | AO41: JS | AP41: FR | AQ41: SU | AT41: RR | AU41: RH | AV41: CA | AW41: HP | AX41: FO | AY41: JS | AZ41: FR | BA41: SU | BG41: RR | BH41: RH | BI41: CA | BJ41: HP | BK41: FO | BL41: JS | BM41: FR | BN41: SU
A42: Agent 1 | AG42: =COUNTBLANK(B42:AF42) -> 31 | AI42: Agent 1 | AJ42: =COUNTIF(B42:AF42,"RR") -> 0 | AK42: =COUNTIF(B42:AF42,"RH") -> 0 | AL42: =COUNTIF(B42:AF42,"CA") -> 0 | AM42: =COUNTIF(B42:AF42,"HP") -> 0 | AN42: =COUNTIF(B42:AF42,"FO") -> 0 | AO42: =COUNTIF(B42:AF42,"JS") -> 0 | AP42: =COUNTIF(B42:AF42,"FR") -> 0 | AQ42: =COUNTIF(B42:AF42,"SU") -> 0 | AS42: Agent 1 | AT42: =COUNTIF(B42:AF42,"RR") -> 0 | AU42: =COUNTIF(B42:AF42,"RH") -> 0 | AV42: =COUNTIF(B42:AF42,"CA") -> 0 | AW42: =COUNTIF(B42:AF42,"HP") -> 0 | AX42: =COUNTIF(B42:AF42,"FO") -> 0 | AY42: =COUNTIF(B42:AF42,"JS") -> 0 | AZ42: =COUNTIF(B42:AF42,"FR") -> 0 | BA42: =COUNTIF(B42:AF42,"SU") -> 0 | BC42: Agent 1 | BG42: =SUM(AJ12,AJ27,AJ42) -> 0 | BH42: =SUM(AK12,AK27,AK42) -> 0 | BI42: =SUM(AL12,AL27,AL42) -> 0 | BJ42: =SUM(AM12,AM27,AM42) -> 0 | BK42: =SUM(AN12,AN27,AN42) -> 0 | BL42: =SUM(AO12,AO27,AO42) -> 0 | BM42: =SUM(AP12,AP27,AP42) -> 0 | BN42: =SUM(AQ12,AQ27,AQ42) -> 0
A43: Agent 2 | AG43: =COUNTBLANK(B43:AF43) -> 31 | AI43: Agent 2 | AS43: Agent 2 | BC43: Agent 2
A44: Agent 3 | AG44: =COUNTBLANK(B44:AF44) -> 31 | AI44: Agent 3 | AS44: Agent 3 | BC44: Agent 3
A45: Agent 4 | AG45: =COUNTBLANK(B45:AF45) -> 31 | AI45: Agent 4 | AS45: Agent 4 | BC45: Agent 4
A46: Agent 5 | AG46: =COUNTBLANK(B46:AF46) -> 31 | AI46: Agent 5 | AS46: Agent 5 | BC46: Agent 5
A47: Agent 6 | AG47: =COUNTBLANK(B47:AF47) -> 31 | AI47: Agent 6 | AS47: Agent 6 | BC47: Agent 6
...

Sheet Cycles
A2: Cycle 1 - semaines 1 à 12
B5: 1 | I5: 2 | P5: 3 | W5: 4
A6: 1 | B6: lun | C6: mar | D6: mer | E6: jeu | F6: ven | G6: sam | H6: dim | I6: lun | J6: mar | K6: mer | L6: jeu | M6: ven | N6: sam | O6: dim | P6: lun | Q6: mar | R6: mer | S6: jeu | T6: ven | U6: sam | V6: dim | W6: lun | X6: mar | Y6: mer | Z6: jeu | AA6: ven | AB6: sam | AC6: dim
B7: 1 | C7: 2 | D7: 3 | E7: 4 | F7: 5 | G7: 6 | H7: 7 | I7: 8 | J7: 9 | K7: 10 | L7: 11 | M7: 12 | N7: 13 | O7: 14 | P7: 15 | Q7: 16 | R7: 17 | S7: 18 | T7: 19 | U7: 20 | V7: 21 | W7: 22 | X7: 23 | Y7: 24 | Z7: 25 | AA7: 26 | AB7: 27 | AC7: 28 | AH7: NB RR
A8: Agent 1 | B8: RR | D8: RR | E8: RH | F8: RH | I8: RR | J8: RR | M8: RR | N8: RH | O8: RH | P8: RR | R8: RR | S8: RH | T8: RH | W8: RR | X8: RR | AB8: RH | AC8: RH | AD8: =COUNTBLANK(B8:AC8) -> 11 | AH8: =COUNTIF(B8:AC8,"RR") -> 9
A9: Agent 2 | B9: RR | C9: RR | F9: RR | G9: RH | H9: RH | I9: RR | K9: RR | L9: RH | M9: RH | P9: RR | Q9: RR | U9: RH | V9: RH | X9: RR | Y9: RR | Z9: RH | AA9: RH | AD9: =COUNTBLANK(B9:AC9) -> 11 | AH9: =COUNTIF(B9:AC9,"RR") -> 9
A10: Agent 3 | B10: RR | C10: RR | G10: RH | H10: RH | K10: RR | L10: RH | M10: RH | N10: RR | O10: RR | P10: RR | Q10: RR | R10: RR | U10: RH | V10: RH | Y10: RR | Z10: RH | AA10: RH | AD10: =COUNTBLANK(B10:AC10) -> 11 | AH10: =COUNTIF(B10:AC10,"RR") -> 9
A11: Agent 4 | D11: RR | E11: RH | F11: RH | G11: RR | H11: RR | I11: RR | J11: RR | K11: RR | N11: RH | O11: RH | R11: RR | S11: RH | T11: RH | W11: RR | X11: RR | AB11: RH | AC11: RH | AD11: =COUNTBLANK(B11:AC11) -> 11 | AH11: =COUNTIF(B11:AC11,"RR") -> 9
A12: Agent 5 | C12: RR | D12: RR | E12: RH | F12: RH | I12: RR | J12: RR | N12: RH | O12: RH | Q12: RR | R12: RR | S12: RH | T12: RH | W12: RR | X12: RR | AA12: RR | AB12: RH | AC12: RH | AD12: =COUNTBLANK(B12:AC12) -> 11 | AH12: =COUNTIF(B12:AC12,"RR") -> 9
A13: Agent 6 | B13: RR | C13: RR | G13: RH | H13: RH | J13: RR | K13: RR | L13: RH | M13: RH | P13: RR | Q13: RR | T13: RR | U13: RH | V13: RH | W13: RR | Y13: RR | Z13: RH | AA13: RH | AD13: =COUNTBLANK(B13:AC13) -> 11 | AH13: =COUNTIF(B13:AC13,"RR") -> 9
A14: Agent 7 | D14: RR | E14: RH | F14: RH | I14: RR | J14: RR | N14: RH | O14: RH | R14: RR | S14: RH | T14: RH | U14: RR | V14: RR | W14: RR | X14: RR | Y14: RR | AB14: RH | AC14: RH | AD14: =COUNTBLANK(B14:AC14) -> 11 | AH14: =COUNTIF(B14:AC14,"RR") -> 9
A15: Agent 8 | B15: RR | C15: RR | D15: RR | G15: RH | H15: RH | K15: RR | L15: RH | M15: RH | P15: RR | Q15: RR | U15: RH | V15: RH | Y15: RR | Z15: RH | AA15: RH | AB15: RR | AC15: RR | AD15: =COUNTBLANK(B15:AC15) -> 11 | AH15: =COUNTIF(B15:AC15,"RR") -> 9
B16: =COUNTBLANK(B8:B15) -> 3 | C16: =COUNTBLANK(C8:C15) -> 3 | D16: =COUNTBLANK(D8:D15) -> 3 | E16: =COUNTBLANK(E8:E15) -> 4 | F16: =COUNTBLANK(F8:F15) -> 3 | G16: =COUNTBLANK(G8:G15) -> 3 | H16: =COUNTBLANK(H8:H15) -> 3 | I16: =COUNTBLANK(I8:I15) -> 3 | ... AC16: =COUNTBLANK(AC8:AC15) -> 3
B18: 5 | I18: 6 | P18: 7 | W18: 8
A19: 2 | B19: lun | C19: mar | D19: mer | E19: jeu | F19: ven | G19: sam | H19: dim | I19: lun | J19: mar | K19: mer | L19: jeu | M19: ven | N19: sam | O19: dim | P19: lun | Q19: mar | R19: mer | S19: jeu | T19: ven | U19: sam | V19: dim | W19: lun | X19: mar | Y19: mer | Z19: jeu | AA19: ven | AB19: sam | AC19: dim
B20: 1 | C20: 2 | D20: 3 | E20: 4 | F20: 5 | G20: 6 | H20: 7 | I20: 8 | J20: 9 | K20: 10 | L20: 11 | M20: 12 | N20: 13 | O20: 14 | P20: 15 | Q20: 16 | R20: 17 | S20: 18 | T20: 19 | U20: 20 | V20: 21 | W20: 22 | X20: 23 | Y20: 24 | Z20: 25 | AA20: 26 | AB20: 27 | AC20: 28 | AH20: NB RR
A21: Agent 1 | D21: RR | E21: RH | F21: RH | G21: RR | H21: RR | I21: RR | J21: RR | K21: RR | N21: RH | O21: RH | R21: RR | S21: RH | T21: RH | W21: RR | X21: RR | AB21: RH | AC21: RH | AD21: =COUNTBLANK(B21:AC21) -> 11 | AH21: =COUNTIF(B21:AC21,"RR") -> 9
A22: Agent 2 | B22: RR | C22: RR | G22: RH | H22: RH | K22: RR | L22: RH | M22: RH | N22: RR | O22: RR | P22: RR | Q22: RR | R22: RR | U22: RH | V22: RH | Y22: RR | Z22: RH | AA22: RH | AD22: =COUNTBLANK(B22:AC22) -> 11 | AH22: =COUNTIF(B22:AC22,"RR") -> 9
A23: Agent 3 | B23: RR | C23: RR | F23: RR | G23: RH | H23: RH | I23: RR | K23: RR | L23: RH | M23: RH | P23: RR | Q23: RR | U23: RH | V23: RH | X23: RR | Y23: RR | Z23: RH | AA23: RH | AD23: =COUNTBLANK(B23:AC23) -> 11 | AH23: =COUNTIF(B23:AC23,"RR") -> 9
A24: Agent 4 | B24: RR | D24: RR | E24: RH | F24: RH | I24: RR | J24: RR | M24: RR | N24: RH | O24: RH | P24: RR | R24: RR | S24: RH | T24: RH | W24: RR | X24: RR | AB24: RH | AC24: RH | AD24: =COUNTBLANK(B24:AC24) -> 11 | AH24: =COUNTIF(B24:AC24,"RR") -> 9
A25: Agent 5 | D25: RR | E25: RH | F25: RH | I25: RR | J25: RR | N25: RH | O25: RH | R25: RR | S25: RH | T25: RH | U25: RR | V25: RR | W25: RR | X25: RR | Y25: RR | AB25: RH | AC25: RH | AD25: =COUNTBLANK(B25:AC25) -> 11 | AH25: =COUNTIF(B25:AC25,"RR") -> 9
A26: Agent 6 | B26: RR | C26: RR | D26: RR | G26: RH | H26: RH | K26: RR | L26: RH | M26: RH | P26: RR | Q26: RR | U26: RH | V26: RH | Y26: RR | Z26: RH | AA26: RH | AB26: RR | AC26: RR | AD26: =COUNTBLANK(B26:AC26) -> 11 | AH26: =COUNTIF(B26:AC26,"RR") -> 9
A27: Agent 7 | C27: RR | D27: RR | E27: RH | F27: RH | I27: RR | J27: RR | N27: RH | O27: RH | Q27: RR | R27: RR | S27: RH | T27: RH | W27: RR | X27: RR | AA27: RR | AB27: RH | AC27: RH | AD27: =COUNTBLANK(B27:AC27) -> 11 | AH27: =COUNTIF(B27:AC27,"RR") -> 9
A28: Agent 8 | B28: RR | C28: RR | G28: RH | H28: RH | J28: RR | K28: RR | L28: RH | M28: RH | P28: RR | Q28: RR | T28: RR | U28: RH | V28: RH | W28: RR | Y28: RR | Z28: RH | AA28: RH | AD28: =COUNTBLANK(B28:AC28) -> 11 | AH28: =COUNTIF(B28:AC28,"RR") -> 9
B29: =COUNTBLANK(B21:B28) -> 3 | C29: =COUNTBLANK(C21:C28) -> 3 | D29: =COUNTBLANK(D21:D28) -> 3 | E29: =COUNTBLANK(E21:E28) -> 4 | F29: =COUNTBLANK(F21:F28) -> 3 | G29: =COUNTBLANK(G21:G28) -> 3 | H29: =COUNTBLANK(H21:H28) -> 3 | I29: =COUNTBLANK(I21:I28) -> 3 | ... AC29: =COUNTBLANK(AC21:AC28) -> 3
B31: 9 | I31: 10 | P31: 11 | W31: 12
A32: 3 | B32: lun | C32: mar | D32: mer | E32: jeu | F32: ven | G32: sam | H32: dim | I32: lun | J32: mar | K32: mer | L32: jeu | M32: ven | N32: sam | O32: dim | P32: lun | Q32: mar | R32: mer | S32: jeu | T32: ven | U32: sam | V32: dim | W32: lun | X32: mar | Y32: mer | Z32: jeu | AA32: ven | AB32: sam | AC32: dim
B33: 1 | C33: 2 | D33: 3 | E33: 4 | F33: 5 | G33: 6 | H33: 7 | I33: 8 | J33: 9 | K33: 10 | L33: 11 | M33: 12 | N33: 13 | O33: 14 | P33: 15 | Q33: 16 | R33: 17 | S33: 18 | T33: 19 | U33: 20 | V33: 21 | W33: 22 | X33: 23 | Y33: 24 | Z33: 25 | AA33: 26 | AB33: 27 | AC33: 28 | AH33: NB RR | AJ33: TT RR C1
A34: Agent 1 | B34: RR | D34: RR | E34: RH | F34: RH | I34: RR | J34: RR | M34: RR | N34: RH | O34: RH | P34: RR | R34: RR | S34: RH | T34: RH | W34: RR | X34: RR | AB34: RH | AC34: RH | AD34: =COUNTBLANK(B34:AC34) -> 11 | AH34: =COUNTIF(B34:AC34,"RR") -> 9 | AJ34: =SUM(AH8,AH21,AH34) -> 27
A35: Agent 2 | B35: RR | C35: RR | F35: RR | G35: RH | H35: RH | I35: RR | K35: RR | L35: RH | M35: RH | P35: RR | Q35: RR | U35: RH | V35: RH | X35: RR | Y35: RR | Z35: RH | AA35: RH | AD35: =COUNTBLANK(B35:AC35) -> 11 | AH35: =COUNTIF(B35:AC35,"RR") -> 9 | AJ35: =SUM(AH9,AH22,AH35) -> 27
A36: Agent 3 | B36: RR | C36: RR | G36: RH | H36: RH | K36: RR | L36: RH | M36: RH | N36: RR | O36: RR | P36: RR | Q36: RR | R36: RR | U36: RH | V36: RH | Y36: RR | Z36: RH | AA36: RH | AD36: =COUNTBLANK(B36:AC36) -> 11 | AH36: =COUNTIF(B36:AC36,"RR") -> 9 | AJ36: =SUM(AH10,AH23,AH36) -> 27
A37: Agent 4 | D37: RR | E37: RH | F37: RH | G37: RR | H37: RR | I37: RR | J37: RR | K37: RR | N37: RH | O37: RH | R37: RR | S37: RH | T37: RH | W37: RR | X37: RR | AB37: RH | AC37: RH | AD37: =COUNTBLANK(B37:AC37) -> 11 | AH37: =COUNTIF(B37:AC37,"RR") -> 9 | AJ37: =SUM(AH11,AH24,AH37) -> 27
A38: Agent 5 | C38: RR | D38: RR | E38: RH | F38: RH | I38: RR | J38: RR | N38: RH | O38: RH | Q38: RR | R38: RR | S38: RH | T38: RH | W38: RR | X38: RR | AA38: RR | AB38: RH | AC38: RH | AD38: =COUNTBLANK(B38:AC38) -> 11 | AH38: =COUNTIF(B38:AC38,"RR") -> 9 | AJ38: =SUM(AH12,AH25,AH38) -> 27
A39: Agent 6 | B39: RR | C39: RR | G39: RH | H39: RH | J39: RR | K39: RR | L39: RH | M39: RH | P39: RR | Q39: RR | T39: RR | U39: RH | V39: RH | W39: RR | Y39: RR | Z39: RH | AA39: RH | AD39: =COUNTBLANK(B39:AC39) -> 11 | AH39: =COUNTIF(B39:AC39,"RR") -> 9 | AJ39: =SUM(AH13,AH26,AH39) -> 27
A40: Agent 7 | D40: RR | E40: RH | F40: RH | I40: RR | J40: RR | N40: RH | O40: RH | R40: RR | S40: RH | T40: RH | U40: RR | V40: RR | W40: RR | X40: RR | Y40: RR | AB40: RH | AC40: RH | AD40: =COUNTBLANK(B40:AC40) -> 11 | AH40: =COUNTIF(B40:AC40,"RR") -> 9 | AJ40: =SUM(AH14,AH27,AH40) -> 27
A41: Agent 8 | B41: RR | C41: RR | D41: RR | G41: RH | H41: RH | K41: RR | L41: RH | M41: RH | P41: RR | Q41: RR | U41: RH | V41: RH | Y41: RR | Z41: RH | AA41: RH | AB41: RR | AC41: RR | AD41: =COUNTBLANK(B41:AC41) -> 11 | AH41: =COUNTIF(B41:AC41,"RR") -> 9 | AJ41: =SUM(AH15,AH28,AH41) -> 27
B42: =COUNTBLANK(B34:B41) -> 3 | C42: =COUNTBLANK(C34:C41) -> 3 | D42: =COUNTBLANK(D34:D41) -> 3 | E42: =COUNTBLANK(E34:E41) -> 4 | F42: =COUNTBLANK(F34:F41) -> 3 | G42: =COUNTBLANK(G34:G41) -> 3 | H42: =COUNTBLANK(H34:H41) -> 3 | I42: =COUNTBLANK(I34:I41) -> 3 | ... AC42: =COUNTBLANK(AC34:AC41) -> 3
A44: Cycle 2 - semaines 13 à 24
B47: 13 | I47: 14 | P47: 15 | W47: 16
A48: 4 | B48: lun | C48: mar | D48: mer | E48: jeu | F48: ven | G48: sam | H48: dim | I48: lun | J48: mar | K48: mer | L48: jeu | M48: ven | N48: sam | O48: dim | P48: lun | Q48: mar | R48: mer | S48: jeu | T48: ven | U48: sam | V48: dim | W48: lun | X48: mar | Y48: mer | Z48: jeu | AA48: ven | AB48: sam | AC48: dim
...
