Workbook
Name Cycle: Cycle!$B$7:$BE$7
Name DateDeb: 'Base De Données'!$A$5
Name Duree: 'Base De Données'!$B$5
Name Feries: 'Base De Données'!$E$3:$E$13
Name Types: Tableau2[Types]

Sheet Base De Données
A1: Année | B1: 2024 | E1: Jours fériés | H1: Code Planning
E2: =ROUND(DATE($B$1,4,MOD(234-11*MOD($B$1,19),30))/7,0)*7-6 -> 45382 | F2: Dimanche de Pâques | H2: T | I2: Jour de travail
A3: Date de début du cycle | E3: =Annuel!$B$6 -> 45292 | F3: jour de l'an | H3: ABS | I3: Absence
A4: DateDeb | B4: Duree | E4: =Annuel!$DS$6 -> 45413 | F4: fête du travail | H4: CP | I4: Congé payé
A5: 44683 | B5: 56 | E5: =Annuel!$DZ$6 -> 45420 | F5: fête de la victoire | H5: FM | I5: Formation
E6: =Annuel!$GO$6 -> 45487 | F6: fête nationale | H6: RR | I6: Repos
E7: =Annuel!$HU$6 -> 45519 | F7: Assomption | H7: H | I7: Repos hebdomadaire
E8: =Annuel!$KU$6 -> 45597 | F8: Toussaint
E9: =Annuel!$LE$6 -> 45607 | F9: Armistice
E10: =Annuel!$MW$6 -> 45651 | F10: Noël
E11: =E2+1 -> 45383 | F11: lundi de Pâques
E12: =E2+39 -> 45421 | F12: Jeudi de l'ascension
E13: =E2+50 -> 45432 | F13: lundi de Pentecôte

Sheet Cycle
B1: SIMULATION DU CYCLE
B4: CYCLE DE BASE
B5: lun | C5: mar | D5: mer | E5: jeu | F5: ven | G5: sam | H5: dim | I5: lun | J5: mar | K5: mer | L5: jeu | M5: ven | N5: sam | O5: dim | P5: lun | Q5: mar | R5: mer | S5: jeu | T5: ven | U5: sam | V5: dim | W5: lun | X5: mar | Y5: mer | Z5: jeu | AA5: ven | AB5: sam | AC5: dim | AD5: lun | AE5: mar | AF5: mer | AG5: jeu | AH5: ven | AI5: sam | AJ5: dim | AK5: lun | AL5: mar | AM5: mer | AN5: jeu | AO5: ven | AP5: sam | AQ5: dim | AR5: lun | AS5: mar | AT5: mer | AU5: jeu | AV5: ven | AW5: sam | AX5: dim | AY5: lun | AZ5: mar | BA5: mer | BB5: jeu | BC5: ven | BD5: sam | BE5: dim
A6: N° de jour | B6: 1 | C6: 2 | D6: 3 | E6: 4 | F6: 5 | G6: 6 | H6: 7 | I6: 8 | J6: 9 | K6: 10 | L6: 11 | M6: 12 | N6: 13 | O6: 14 | P6: 15 | Q6: 16 | R6: 17 | S6: 18 | T6: 19 | U6: 20 | V6: 21 | W6: 22 | X6: 23 | Y6: 24 | Z6: 25 | AA6: 26 | AB6: 27 | AC6: 28 | AD6: 29 | AE6: 30 | AF6: 31 | AG6: 32 | AH6: 33 | AI6: 34 | AJ6: 35 | AK6: 36 | AL6: 37 | AM6: 38 | AN6: 39 | AO6: 40 | AP6: 41 | AQ6: 42 | AR6: 43 | AS6: 44 | AT6: 45 | AU6: 46 | AV6: 47 | AW6: 48 | AX6: 49 | AY6: 50 | AZ6: 51 | BA6: 52 | BB6: 53 | BC6: 54 | BD6: 55 | BE6: 56
A7: Dupont | B7: T | C7: T | D7: R | E7: H | F7: H | G7: T | H7: T | I7: R | J7: R | K7: T | L7: T | M7: R | N7: H | O7: H | P7: T | Q7: T | R7: R | S7: R | T7: T | U7: H | V7: H | W7: T | X7: T | Y7: R | Z7: R | AA7: T | AB7: H | AC7: H | AD7: T | AE7: T | AF7: R | AG7: H | AH7: H | AI7: T | AJ7: T | AK7: R | AL7: R | AM7: T | AN7: T | AO7: R | AP7: H | AQ7: H | AR7: T | AS7: T | AT7: R | AU7: H | AV7: H | AW7: T | AX7: T | AY7: R | AZ7: R | BA7: T | BB7: T | BC7: R | BD7: H | BE7: H

Sheet Annuel
B1: PLANNING INDIVIDUEL ANNUEL | K1: ='Base De Données'!$B$1 -> 2024
B4: =TEXT(B6,"mmmm") -> janvier | AG4: =TEXT(AG6,"mmmm") -> février | BJ4: =TEXT(BJ6,"mmmm") -> mars | CO4: =TEXT(CO6,"mmmm") -> avril | DS4: =TEXT(DS6,"mmmm") -> mai | EX4: =TEXT(EX6,"mmmm") -> juin | GB4: =TEXT(GB6,"mmmm") -> juillet | HG4: =TEXT(HG6,"mmmm") -> août | IL4: =TEXT(IL6,"mmmm") -> septembre | JP4: =TEXT(JP6,"mmmm") -> octobre | KU4: =TEXT(KU6,"mmmm") -> novembre | LY4: =TEXT(LY6,"mmmm") -> décembre
B5: =IF(B7="lun","S"& WEEKNUM(B6,21),"") -> S1 | C5: =IF(C7="lun","S"& WEEKNUM(C6,21),"") | D5: =IF(D7="lun","S"& WEEKNUM(D6,21),"") | E5: =IF(E7="lun","S"& WEEKNUM(E6,21),"") | F5: =IF(F7="lun","S"& WEEKNUM(F6,21),"") | G5: =IF(G7="lun","S"& WEEKNUM(G6,21),"") | H5: =IF(H7="lun","S"& WEEKNUM(H6,21),"") | I5: =IF(I7="lun","S"& WEEKNUM(I6,21),"") -> S2 | ... NC5: =IF(NC7="lun","S"& WEEKNUM(NC6,21),"")
B6: =DATE('Base De Données'!$B$1,1,1) -> 45292 | C6: =IF(EOMONTH(B6,0)>B6,B6+1,"") -> 45293 | D6: =IF(EOMONTH(C6,0)>C6,C6+1,"") -> 45294 | E6: =IF(EOMONTH(D6,0)>D6,D6+1,"") -> 45295 | F6: =IF(EOMONTH(E6,0)>E6,E6+1,"") -> 45296 | G6: =IF(EOMONTH(F6,0)>F6,F6+1,"") -> 45297 | H6: =IF(EOMONTH(G6,0)>G6,G6+1,"") -> 45298 | I6: =IF(EOMONTH(H6,0)>H6,H6+1,"") -> 45299 | J6: =IF(EOMONTH(I6,0)>I6,I6+1,"") -> 45300 | ... AF6: =IF(EOMONTH(AE6,0)>AE6,AE6+1,"") -> 45322 | AG6: =DATE('Base De Données'!$B$1,2,1) -> 45323 | AH6: =IF(EOMONTH(AG6,0)>AG6,AG6+1,"") -> 45324 | AI6: =IF(EOMONTH(AH6,0)>AH6,AH6+1,"") -> 45325 | AJ6: =IF(EOMONTH(AI6,0)>AI6,AI6+1,"") -> 45326 | AK6: =IF(EOMONTH(AJ6,0)>AJ6,AJ6+1,"") -> 45327 | AL6: =IF(EOMONTH(AK6,0)>AK6,AK6+1,"") -> 45328 | AM6: =IF(EOMONTH(AL6,0)>AL6,AL6+1,"") -> 45329 | AN6: =IF(EOMONTH(AM6,0)>AM6,AM6+1,"") -> 45330 | AO6: =IF(EOMONTH(AN6,0)>AN6,AN6+1,"") -> 45331 | ... BI6: =IF(EOMONTH(BH6,0)>BH6,BH6+1,"") -> 45351 | BJ6: =DATE('Base De Données'!$B$1,3,1) -> 45352 | BK6: =IF(EOMONTH(BJ6,0)>BJ6,BJ6+1,"") -> 45353 | BL6: =IF(EOMONTH(BK6,0)>BK6,BK6+1,"") -> 45354 | BM6: =IF(EOMONTH(BL6,0)>BL6,BL6+1,"") -> 45355 | BN6: =IF(EOMONTH(BM6,0)>BM6,BM6+1,"") -> 45356 | BO6: =IF(EOMONTH(BN6,0)>BN6,BN6+1,"") -> 45357 | BP6: =IF(EOMONTH(BO6,0)>BO6,BO6+1,"") -> 45358 | BQ6: =IF(EOMONTH(BP6,0)>BP6,BP6+1,"") -> 45359 | BR6: =IF(EOMONTH(BQ6,0)>BQ6,BQ6+1,"") -> 45360 | ... CN6: =IF(EOMONTH(CM6,0)>CM6,CM6+1,"") -> 45382 | CO6: =DATE('Base De Données'!$B$1,4,1) -> 45383 | CP6: =IF(EOMONTH(CO6,0)>CO6,CO6+1,"") -> 45384 | CQ6: =IF(EOMONTH(CP6,0)>CP6,CP6+1,"") -> 45385 | CR6: =IF(EOMONTH(CQ6,0)>CQ6,CQ6+1,"") -> 45386 | CS6: =IF(EOMONTH(CR6,0)>CR6,CR6+1,"") -> 45387 | CT6: =IF(EOMONTH(CS6,0)>CS6,CS6+1,"") -> 45388 | CU6: =IF(EOMONTH(CT6,0)>CT6,CT6+1,"") -> 45389 | CV6: =IF(EOMONTH(CU6,0)>CU6,CU6+1,"") -> 45390 | CW6: =IF(EOMONTH(CV6,0)>CV6,CV6+1,"") -> 45391 | ... DR6: =IF(EOMONTH(DQ6,0)>DQ6,DQ6+1,"") -> 45412 | DS6: =DATE('Base De Données'!$B$1,5,1) -> 45413 | DT6: =IF(EOMONTH(DS6,0)>DS6,DS6+1,"") -> 45414 | DU6: =IF(EOMONTH(DT6,0)>DT6,DT6+1,"") -> 45415 | DV6: =IF(EOMONTH(DU6,0)>DU6,DU6+1,"") -> 45416 | DW6: =IF(EOMONTH(DV6,0)>DV6,DV6+1,"") -> 45417 | DX6: =IF(EOMONTH(DW6,0)>DW6,DW6+1,"") -> 45418 | DY6: =IF(EOMONTH(DX6,0)>DX6,DX6+1,"") -> 45419 | DZ6: =IF(EOMONTH(DY6,0)>DY6,DY6+1,"") -> 45420 | EA6: =IF(EOMONTH(DZ6,0)>DZ6,DZ6+1,"") -> 45421 | ... EW6: =IF(EOMONTH(EV6,0)>EV6,EV6+1,"") -> 45443 | EX6: =DATE('Base De Données'!$B$1,6,1) -> 45444 | EY6: =IF(EOMONTH(EX6,0)>EX6,EX6+1,"") -> 45445 | EZ6: =IF(EOMONTH(EY6,0)>EY6,EY6+1,"") -> 45446 | FA6: =IF(EOMONTH(EZ6,0)>EZ6,EZ6+1,"") -> 45447 | FB6: =IF(EOMONTH(FA6,0)>FA6,FA6+1,"") -> 45448 | FC6: =IF(EOMONTH(FB6,0)>FB6,FB6+1,"") -> 45449 | FD6: =IF(EOMONTH(FC6,0)>FC6,FC6+1,"") -> 45450 | FE6: =IF(EOMONTH(FD6,0)>FD6,FD6+1,"") -> 45451 | FF6: =IF(EOMONTH(FE6,0)>FE6,FE6+1,"") -> 45452 | ... GA6: =IF(EOMONTH(FZ6,0)>FZ6,FZ6+1,"") -> 45473 | GB6: =DATE('Base De Données'!$B$1,7,1) -> 45474 | GC6: =IF(EOMONTH(GB6,0)>GB6,GB6+1,"") -> 45475 | GD6: =IF(EOMONTH(GC6,0)>GC6,GC6+1,"") -> 45476 | GE6: =IF(EOMONTH(GD6,0)>GD6,GD6+1,"") -> 45477 | GF6: =IF(EOMONTH(GE6,0)>GE6,GE6+1,"") -> 45478 | GG6: =IF(EOMONTH(GF6,0)>GF6,GF6+1,"") -> 45479 | GH6: =IF(EOMONTH(GG6,0)>GG6,GG6+1,"") -> 45480 | GI6: =IF(EOMONTH(GH6,0)>GH6,GH6+1,"") -> 45481 | GJ6: =IF(EOMONTH(GI6,0)>GI6,GI6+1,"") -> 45482 | ... HF6: =IF(EOMONTH(HE6,0)>HE6,HE6+1,"") -> 45504 | HG6: =DATE('Base De Données'!$B$1,8,1) -> 45505 | HH6: =IF(EOMONTH(HG6,0)>HG6,HG6+1,"") -> 45506 | HI6: =IF(EOMONTH(HH6,0)>HH6,HH6+1,"") -> 45507 | HJ6: =IF(EOMONTH(HI6,0)>HI6,HI6+1,"") -> 45508 | HK6: =IF(EOMONTH(HJ6,0)>HJ6,HJ6+1,"") -> 45509 | HL6: =IF(EOMONTH(HK6,0)>HK6,HK6+1,"") -> 45510 | HM6: =IF(EOMONTH(HL6,0)>HL6,HL6+1,"") -> 45511 | HN6: =IF(EOMONTH(HM6,0)>HM6,HM6+1,"") -> 45512 | HO6: =IF(EOMONTH(HN6,0)>HN6,HN6+1,"") -> 45513 | ... IK6: =IF(EOMONTH(IJ6,0)>IJ6,IJ6+1,"") -> 45535 | IL6: =DATE('Base De Données'!$B$1,9,1) -> 45536 | IM6: =IF(EOMONTH(IL6,0)>IL6,IL6+1,"") -> 45537 | IN6: =IF(EOMONTH(IM6,0)>IM6,IM6+1,"") -> 45538 | IO6: =IF(EOMONTH(IN6,0)>IN6,IN6+1,"") -> 45539 | IP6: =IF(EOMONTH(IO6,0)>IO6,IO6+1,"") -> 45540 | IQ6: =IF(EOMONTH(IP6,0)>IP6,IP6+1,"") -> 45541 | IR6: =IF(EOMONTH(IQ6,0)>IQ6,IQ6+1,"") -> 45542 | IS6: =IF(EOMONTH(IR6,0)>IR6,IR6+1,"") -> 45543 | IT6: =IF(EOMONTH(IS6,0)>IS6,IS6+1,"") -> 45544 | ... JO6: =IF(EOMONTH(JN6,0)>JN6,JN6+1,"") -> 45565 | JP6: =DATE('Base De Données'!$B$1,10,1) -> 45566 | JQ6: =IF(EOMONTH(JP6,0)>JP6,JP6+1,"") -> 45567 | JR6: =IF(EOMONTH(JQ6,0)>JQ6,JQ6+1,"") -> 45568 | JS6: =IF(EOMONTH(JR6,0)>JR6,JR6+1,"") -> 45569 | JT6: =IF(EOMONTH(JS6,0)>JS6,JS6+1,"") -> 45570 | JU6: =IF(EOMONTH(JT6,0)>JT6,JT6+1,"") -> 45571 | JV6: =IF(EOMONTH(JU6,0)>JU6,JU6+1,"") -> 45572 | JW6: =IF(EOMONTH(JV6,0)>JV6,JV6+1,"") -> 45573 | JX6: =IF(EOMONTH(JW6,0)>JW6,JW6+1,"") -> 45574 | ... KT6: =IF(EOMONTH(KS6,0)>KS6,KS6+1,"") -> 45596 | KU6: =DATE('Base De Données'!$B$1,11,1) -> 45597 | KV6: =IF(EOMONTH(KU6,0)>KU6,KU6+1,"") -> 45598 | KW6: =IF(EOMONTH(KV6,0)>KV6,KV6+1,"") -> 45599 | KX6: =IF(EOMONTH(KW6,0)>KW6,KW6+1,"") -> 45600 | KY6: =IF(EOMONTH(KX6,0)>KX6,KX6+1,"") -> 45601 | KZ6: =IF(EOMONTH(KY6,0)>KY6,KY6+1,"") -> 45602 | LA6: =IF(EOMONTH(KZ6,0)>KZ6,KZ6+1,"") -> 45603 | LB6: =IF(EOMONTH(LA6,0)>LA6,LA6+1,"") -> 45604 | LC6: =IF(EOMONTH(LB6,0)>LB6,LB6+1,"") -> 45605 | ... LX6: =IF(EOMONTH(LW6,0)>LW6,LW6+1,"") -> 45626 | LY6: =DATE('Base De Données'!$B$1,12,1) -> 45627 | LZ6: =IF(EOMONTH(LY6,0)>LY6,LY6+1,"") -> 45628 | MA6: =IF(EOMONTH(LZ6,0)>LZ6,LZ6+1,"") -> 45629 | MB6: =IF(EOMONTH(MA6,0)>MA6,MA6+1,"") -> 45630 | MC6: =IF(EOMONTH(MB6,0)>MB6,MB6+1,"") -> 45631 | MD6: =IF(EOMONTH(MC6,0)>MC6,MC6+1,"") -> 45632 | ME6: =IF(EOMONTH(MD6,0)>MD6,MD6+1,"") -> 45633 | MF6: =IF(EOMONTH(ME6,0)>ME6,ME6+1,"") -> 45634 | MG6: =IF(EOMONTH(MF6,0)>MF6,MF6+1,"") -> 45635 | ... NC6: =IF(EOMONTH(NB6,0)>NB6,NB6+1,"") -> 45657
B7: =TEXT(B6,"jjj") -> lun | C7: =TEXT(C6,"jjj") -> mar | D7: =TEXT(D6,"jjj") -> mer | E7: =TEXT(E6,"jjj") -> jeu | F7: =TEXT(F6,"jjj") -> ven | G7: =TEXT(G6,"jjj") -> sam | H7: =TEXT(H6,"jjj") -> dim | I7: =TEXT(I6,"jjj") -> lun | ... NC7: =TEXT(NC6,"jjj") -> mar
B8: =IFERROR(DAY(B6),"") -> 1 | C8: =IFERROR(DAY(C6),"") -> 2 | D8: =IFERROR(DAY(D6),"") -> 3 | E8: =IFERROR(DAY(E6),"") -> 4 | F8: =IFERROR(DAY(F6),"") -> 5 | G8: =IFERROR(DAY(G6),"") -> 6 | H8: =IFERROR(DAY(H6),"") -> 7 | I8: =IFERROR(DAY(I6),"") -> 8 | ... NC8: =IFERROR(DAY(NC6),"") -> 31
A9: Dupont | B9: =IF(OR(B$6="",$A9=""),"",INDEX(Cycle,MOD(B$6-DateDeb+(ROWS(B$9:B9)-1)*7,Duree)+1)) -> R | C9: =IF(OR(C$6="",$A9=""),"",INDEX(Cycle,MOD(C$6-DateDeb+(ROWS(C$9:C9)-1)*7,Duree)+1)) -> R | D9: =IF(OR(D$6="",$A9=""),"",INDEX(Cycle,MOD(D$6-DateDeb+(ROWS(D$9:D9)-1)*7,Duree)+1)) -> T | E9: =IF(OR(E$6="",$A9=""),"",INDEX(Cycle,MOD(E$6-DateDeb+(ROWS(E$9:E9)-1)*7,Duree)+1)) -> T | F9: =IF(OR(F$6="",$A9=""),"",INDEX(Cycle,MOD(F$6-DateDeb+(ROWS(F$9:F9)-1)*7,Duree)+1)) -> R | G9: =IF(OR(G$6="",$A9=""),"",INDEX(Cycle,MOD(G$6-DateDeb+(ROWS(G$9:G9)-1)*7,Duree)+1)) -> H | H9: =IF(OR(H$6="",$A9=""),"",INDEX(Cycle,MOD(H$6-DateDeb+(ROWS(H$9:H9)-1)*7,Duree)+1)) -> H | I9: =IF(OR(I$6="",$A9=""),"",INDEX(Cycle,MOD(I$6-DateDeb+(ROWS(I$9:I9)-1)*7,Duree)+1)) -> T | ... NC9: =IF(OR(NC$6="",$A9=""),"",INDEX(Cycle,MOD(NC$6-DateDeb+(ROWS(NC$9:NC9)-1)*7,Duree)+1)) -> T

Sheet Mensuel
A1: MON PLANNING
A2: ='Base De Données'!$B$1 -> 2024
B4: =TEXT(B6,"mmmm") -> janvier
B5: =IF(B7="lun","S"& WEEKNUM(B6,21),"") -> S1 | C5: =IF(C7="lun","S"& WEEKNUM(C6,21),"") | D5: =IF(D7="lun","S"& WEEKNUM(D6,21),"") | E5: =IF(E7="lun","S"& WEEKNUM(E6,21),"") | F5: =IF(F7="lun","S"& WEEKNUM(F6,21),"") | G5: =IF(G7="lun","S"& WEEKNUM(G6,21),"") | H5: =IF(H7="lun","S"& WEEKNUM(H6,21),"") | I5: =IF(I7="lun","S"& WEEKNUM(I6,21),"") -> S2 | ... AF5: =IF(AF7="lun","S"& WEEKNUM(AF6,21),"")
B6: =DATE('Base De Données'!$B$1,1,1) -> 45292 | C6: =IF(EOMONTH(B6,0)>B6,B6+1,"") -> 45293 | D6: =IF(EOMONTH(C6,0)>C6,C6+1,"") -> 45294 | E6: =IF(EOMONTH(D6,0)>D6,D6+1,"") -> 45295 | F6: =IF(EOMONTH(E6,0)>E6,E6+1,"") -> 45296 | G6: =IF(EOMONTH(F6,0)>F6,F6+1,"") -> 45297 | H6: =IF(EOMONTH(G6,0)>G6,G6+1,"") -> 45298 | I6: =IF(EOMONTH(H6,0)>H6,H6+1,"") -> 45299 | J6: =IF(EOMONTH(I6,0)>I6,I6+1,"") -> 45300 | ... AF6: =IF(EOMONTH(AE6,0)>AE6,AE6+1,"") -> 45322
B7: =TEXT(B6,"jjj") -> lun | C7: =TEXT(C6,"jjj") -> mar | D7: =TEXT(D6,"jjj") -> mer | E7: =TEXT(E6,"jjj") -> jeu | F7: =TEXT(F6,"jjj") -> ven | G7: =TEXT(G6,"jjj") -> sam | H7: =TEXT(H6,"jjj") -> dim | I7: =TEXT(I6,"jjj") -> lun | ... AF7: =TEXT(AF6,"jjj") -> mer
B8: =IFERROR(DAY(B6),"") -> 1 | C8: =IFERROR(DAY(C6),"") -> 2 | D8: =IFERROR(DAY(D6),"") -> 3 | E8: =IFERROR(DAY(E6),"") -> 4 | F8: =IFERROR(DAY(F6),"") -> 5 | G8: =IFERROR(DAY(G6),"") -> 6 | H8: =IFERROR(DAY(H6),"") -> 7 | I8: =IFERROR(DAY(I6),"") -> 8 | ... AF8: =IFERROR(DAY(AF6),"") -> 31
A9: Dupont | B9: =IFERROR(INDEX(Annuel!$B$9:$NC$9,MATCH(Mensuel!$A9,Annuel!$A$9:$A$9,0),MATCH(Mensuel!B$6,Annuel!$B$6:$NC$6,0)),"") -> R | C9: =IFERROR(INDEX(Annuel!$B$9:$NC$9,MATCH(Mensuel!$A9,Annuel!$A$9:$A$9,0),MATCH(Mensuel!C$6,Annuel!$B$6:$NC$6,0)),"") -> R | D9: =IFERROR(INDEX(Annuel!$B$9:$NC$9,MATCH(Mensuel!$A9,Annuel!$A$9:$A$9,0),MATCH(Mensuel!D$6,Annuel!$B$6:$NC$6,0)),"") -> T | E9: =IFERROR(INDEX(Annuel!$B$9:$NC$9,MATCH(Mensuel!$A9,Annuel!$A$9:$A$9,0),MATCH(Mensuel!E$6,Annuel!$B$6:$NC$6,0)),"") -> T | F9: =IFERROR(INDEX(Annuel!$B$9:$NC$9,MATCH(Mensuel!$A9,Annuel!$A$9:$A$9,0),MATCH(Mensuel!F$6,Annuel!$B$6:$NC$6,0)),"") -> R | G9: =IFERROR(INDEX(Annuel!$B$9:$NC$9,MATCH(Mensuel!$A9,Annuel!$A$9:$A$9,0),MATCH(Mensuel!G$6,Annuel!$B$6:$NC$6,0)),"") -> H | H9: =IFERROR(INDEX(Annuel!$B$9:$NC$9,MATCH(Mensuel!$A9,Annuel!$A$9:$A$9,0),MATCH(Mensuel!H$6,Annuel!$B$6:$NC$6,0)),"") -> H | I9: =IFERROR(INDEX(Annuel!$B$9:$NC$9,MATCH(Mensuel!$A9,Annuel!$A$9:$A$9,0),MATCH(Mensuel!I$6,Annuel!$B$6:$NC$6,0)),"") -> T | ... AF9: =IFERROR(INDEX(Annuel!$B$9:$NC$9,MATCH(Mensuel!$A9,Annuel!$A$9:$A$9,0),MATCH(Mensuel!AF$6,Annuel!$B$6:$NC$6,0)),"") -> R
B11: =TEXT(B13,"mmmm") -> février
B12: =IF(B14="lun","S"& WEEKNUM(B13,21),"") | C12: =IF(C14="lun","S"& WEEKNUM(C13,21),"") | D12: =IF(D14="lun","S"& WEEKNUM(D13,21),"") | E12: =IF(E14="lun","S"& WEEKNUM(E13,21),"") | F12: =IF(F14="lun","S"& WEEKNUM(F13,21),"") -> S6 | G12: =IF(G14="lun","S"& WEEKNUM(G13,21),"") | H12: =IF(H14="lun","S"& WEEKNUM(H13,21),"") | I12: =IF(I14="lun","S"& WEEKNUM(I13,21),"") | ... AD12: =IF(AD14="lun","S"& WEEKNUM(AD13,21),"")
B13: =DATE('Base De Données'!$B$1,2,1) -> 45323 | C13: =IF(EOMONTH(B13,0)>B13,B13+1,"") -> 45324 | D13: =IF(EOMONTH(C13,0)>C13,C13+1,"") -> 45325 | E13: =IF(EOMONTH(D13,0)>D13,D13+1,"") -> 45326 | F13: =IF(EOMONTH(E13,0)>E13,E13+1,"") -> 45327 | G13: =IF(EOMONTH(F13,0)>F13,F13+1,"") -> 45328 | H13: =IF(EOMONTH(G13,0)>G13,G13+1,"") -> 45329 | I13: =IF(EOMONTH(H13,0)>H13,H13+1,"") -> 45330 | J13: =IF(EOMONTH(I13,0)>I13,I13+1,"") -> 45331 | ... AD13: =IF(EOMONTH(AC13,0)>AC13,AC13+1,"") -> 45351
B14: =TEXT(B13,"jjj") -> jeu | C14: =TEXT(C13,"jjj") -> ven | D14: =TEXT(D13,"jjj") -> sam | E14: =TEXT(E13,"jjj") -> dim | F14: =TEXT(F13,"jjj") -> lun | G14: =TEXT(G13,"jjj") -> mar | H14: =TEXT(H13,"jjj") -> mer | I14: =TEXT(I13,"jjj") -> jeu | ... AD14: =TEXT(AD13,"jjj") -> jeu
B15: =IFERROR(DAY(B13),"") -> 1 | C15: =IFERROR(DAY(C13),"") -> 2 | D15: =IFERROR(DAY(D13),"") -> 3 | E15: =IFERROR(DAY(E13),"") -> 4 | F15: =IFERROR(DAY(F13),"") -> 5 | G15: =IFERROR(DAY(G13),"") -> 6 | H15: =IFERROR(DAY(H13),"") -> 7 | I15: =IFERROR(DAY(I13),"") -> 8 | ... AD15: =IFERROR(DAY(AD13),"") -> 29
A16: Dupont | B16: =IFERROR(INDEX(Annuel!$B$9:$NC$9,MATCH(Mensuel!$A16,Annuel!$A$9:$A$9,0),MATCH(Mensuel!B$13,Annuel!$B$6:$NC$6,0)),"") -> R | C16: =IFERROR(INDEX(Annuel!$B$9:$NC$9,MATCH(Mensuel!$A16,Annuel!$A$9:$A$9,0),MATCH(Mensuel!C$13,Annuel!$B$6:$NC$6,0)),"") -> T | D16: =IFERROR(INDEX(Annuel!$B$9:$NC$9,MATCH(Mensuel!$A16,Annuel!$A$9:$A$9,0),MATCH(Mensuel!D$13,Annuel!$B$6:$NC$6,0)),"") -> H | E16: =IFERROR(INDEX(Annuel!$B$9:$NC$9,MATCH(Mensuel!$A16,Annuel!$A$9:$A$9,0),MATCH(Mensuel!E$13,Annuel!$B$6:$NC$6,0)),"") -> H | F16: =IFERROR(INDEX(Annuel!$B$9:$NC$9,MATCH(Mensuel!$A16,Annuel!$A$9:$A$9,0),MATCH(Mensuel!F$13,Annuel!$B$6:$NC$6,0)),"") -> T | G16: =IFERROR(INDEX(Annuel!$B$9:$NC$9,MATCH(Mensuel!$A16,Annuel!$A$9:$A$9,0),MATCH(Mensuel!G$13,Annuel!$B$6:$NC$6,0)),"") -> T | H16: =IFERROR(INDEX(Annuel!$B$9:$NC$9,MATCH(Mensuel!$A16,Annuel!$A$9:$A$9,0),MATCH(Mensuel!H$13,Annuel!$B$6:$NC$6,0)),"") -> R | I16: =IFERROR(INDEX(Annuel!$B$9:$NC$9,MATCH(Mensuel!$A16,Annuel!$A$9:$A$9,0),MATCH(Mensuel!I$13,Annuel!$B$6:$NC$6,0)),"") -> H | ... AD16: =IFERROR(INDEX(Annuel!$B$9:$NC$9,MATCH(Mensuel!$A16,Annuel!$A$9:$A$9,0),MATCH(Mensuel!AD$13,Annuel!$B$6:$NC$6,0)),"") -> T
B18: =TEXT(B20,"mmmm") -> mars
B19: =IF(B21="lun","S"& WEEKNUM(B20,21),"") | C19: =IF(C21="lun","S"& WEEKNUM(C20,21),"") | D19: =IF(D21="lun","S"& WEEKNUM(D20,21),"") | E19: =IF(E21="lun","S"& WEEKNUM(E20,21),"") -> S10 | F19: =IF(F21="lun","S"& WEEKNUM(F20,21),"") | G19: =IF(G21="lun","S"& WEEKNUM(G20,21),"") | H19: =IF(H21="lun","S"& WEEKNUM(H20,21),"") | I19: =IF(I21="lun","S"& WEEKNUM(I20,21),"") | ... AF19: =IF(AF21="lun","S"& WEEKNUM(AF20,21),"")
B20: =DATE('Base De Données'!$B$1,3,1) -> 45352 | C20: =IF(EOMONTH(B20,0)>B20,B20+1,"") -> 45353 | D20: =IF(EOMONTH(C20,0)>C20,C20+1,"") -> 45354 | E20: =IF(EOMONTH(D20,0)>D20,D20+1,"") -> 45355 | F20: =IF(EOMONTH(E20,0)>E20,E20+1,"") -> 45356 | G20: =IF(EOMONTH(F20,0)>F20,F20+1,"") -> 45357 | H20: =IF(EOMONTH(G20,0)>G20,G20+1,"") -> 45358 | I20: =IF(EOMONTH(H20,0)>H20,H20+1,"") -> 45359 | J20: =IF(EOMONTH(I20,0)>I20,I20+1,"") -> 45360 | ... AF20: =IF(EOMONTH(AE20,0)>AE20,AE20+1,"") -> 45382
B21: =TEXT(B20,"jjj") -> ven | C21: =TEXT(C20,"jjj") -> sam | D21: =TEXT(D20,"jjj") -> dim | E21: =TEXT(E20,"jjj") -> lun | F21: =TEXT(F20,"jjj") -> mar | G21: =TEXT(G20,"jjj") -> mer | H21: =TEXT(H20,"jjj") -> jeu | I21: =TEXT(I20,"jjj") -> ven | ... AF21: =TEXT(AF20,"jjj") -> dim
B22: =IFERROR(DAY(B20),"") -> 1 | C22: =IFERROR(DAY(C20),"") -> 2 | D22: =IFERROR(DAY(D20),"") -> 3 | E22: =IFERROR(DAY(E20),"") -> 4 | F22: =IFERROR(DAY(F20),"") -> 5 | G22: =IFERROR(DAY(G20),"") -> 6 | H22: =IFERROR(DAY(H20),"") -> 7 | I22: =IFERROR(DAY(I20),"") -> 8 | ... AF22: =IFERROR(DAY(AF20),"") -> 31
A23: Dupont | B23: =IFERROR(INDEX(Annuel!$B$9:$NC$9,MATCH(Mensuel!$A23,Annuel!$A$9:$A$9,0),MATCH(Mensuel!B$20,Annuel!$B$6:$NC$6,0)),"") -> R | C23: =IFERROR(INDEX(Annuel!$B$9:$NC$9,MATCH(Mensuel!$A23,Annuel!$A$9:$A$9,0),MATCH(Mensuel!C$20,Annuel!$B$6:$NC$6,0)),"") -> H | D23: =IFERROR(INDEX(Annuel!$B$9:$NC$9,MATCH(Mensuel!$A23,Annuel!$A$9:$A$9,0),MATCH(Mensuel!D$20,Annuel!$B$6:$NC$6,0)),"") -> H | E23: =IFERROR(INDEX(Annuel!$B$9:$NC$9,MATCH(Mensuel!$A23,Annuel!$A$9:$A$9,0),MATCH(Mensuel!E$20,Annuel!$B$6:$NC$6,0)),"") -> T | F23: =IFERROR(INDEX(Annuel!$B$9:$NC$9,MATCH(Mensuel!$A23,Annuel!$A$9:$A$9,0),MATCH(Mensuel!F$20,Annuel!$B$6:$NC$6,0)),"") -> T | G23: =IFERROR(INDEX(Annuel!$B$9:$NC$9,MATCH(Mensuel!$A23,Annuel!$A$9:$A$9,0),MATCH(Mensuel!G$20,Annuel!$B$6:$NC$6,0)),"") -> R | H23: =IFERROR(INDEX(Annuel!$B$9:$NC$9,MATCH(Mensuel!$A23,Annuel!$A$9:$A$9,0),MATCH(Mensuel!H$20,Annuel!$B$6:$NC$6,0)),"") -> H | I23: =IFERROR(INDEX(Annuel!$B$9:$NC$9,MATCH(Mensuel!$A23,Annuel!$A$9:$A$9,0),MATCH(Mensuel!I$20,Annuel!$B$6:$NC$6,0)),"") -> H | ... AF23: =IFERROR(INDEX(Annuel!$B$9:$NC$9,MATCH(Mensuel!$A23,Annuel!$A$9:$A$9,0),MATCH(Mensuel!AF$20,Annuel!$B$6:$NC$6,0)),"") -> H
B25: =TEXT(B27,"mmmm") -> avril
B26: =IF(B28="lun","S"& WEEKNUM(B27,21),"") -> S14 | C26: =IF(C28="lun","S"& WEEKNUM(C27,21),"") | D26: =IF(D28="lun","S"& WEEKNUM(D27,21),"") | E26: =IF(E28="lun","S"& WEEKNUM(E27,21),"") | F26: =IF(F28="lun","S"& WEEKNUM(F27,21),"") | G26: =IF(G28="lun","S"& WEEKNUM(G27,21),"") | H26: =IF(H28="lun","S"& WEEKNUM(H27,21),"") | I26: =IF(I28="lun","S"& WEEKNUM(I27,21),"") -> S15 | ... AE26: =IF(AE28="lun","S"& WEEKNUM(AE27,21),"")
B27: =DATE('Base De Données'!$B$1,4,1) -> 45383 | C27: =IF(EOMONTH(B27,0)>B27,B27+1,"") -> 45384 | D27: =IF(EOMONTH(C27,0)>C27,C27+1,"") -> 45385 | E27: =IF(EOMONTH(D27,0)>D27,D27+1,"") -> 45386 | F27: =IF(EOMONTH(E27,0)>E27,E27+1,"") -> 45387 | G27: =IF(EOMONTH(F27,0)>F27,F27+1,"") -> 45388 | H27: =IF(EOMONTH(G27,0)>G27,G27+1,"") -> 45389 | I27: =IF(EOMONTH(H27,0)>H27,H27+1,"") -> 45390 | J27: =IF(EOMONTH(I27,0)>I27,I27+1,"") -> 45391 | ... AF27: =IF(EOMONTH(AE27,0)>AE27,AE27+1,"")
B28: =TEXT(B27,"jjj") -> lun | C28: =TEXT(C27,"jjj") -> mar | D28: =TEXT(D27,"jjj") -> mer | E28: =TEXT(E27,"jjj") -> jeu | F28: =TEXT(F27,"jjj") -> ven | G28: =TEXT(G27,"jjj") -> sam | H28: =TEXT(H27,"jjj") -> dim | I28: =TEXT(I27,"jjj") -> lun | ... AF28: =TEXT(AF27,"jjj")
B29: =IFERROR(DAY(B27),"") -> 1 | C29: =IFERROR(DAY(C27),"") -> 2 | D29: =IFERROR(DAY(D27),"") -> 3 | E29: =IFERROR(DAY(E27),"") -> 4 | F29: =IFERROR(DAY(F27),"") -> 5 | G29: =IFERROR(DAY(G27),"") -> 6 | H29: =IFERROR(DAY(H27),"") -> 7 | I29: =IFERROR(DAY(I27),"") -> 8 | ... AF29: =IFERROR(DAY(AF27),"")
A30: Dupont | B30: =IFERROR(INDEX(Annuel!$B$9:$NC$9,MATCH(Mensuel!$A30,Annuel!$A$9:$A$9,0),MATCH(Mensuel!B$27,Annuel!$B$6:$NC$6,0)),"") -> T | C30: =IFERROR(INDEX(Annuel!$B$9:$NC$9,MATCH(Mensuel!$A30,Annuel!$A$9:$A$9,0),MATCH(Mensuel!C$27,Annuel!$B$6:$NC$6,0)),"") -> T | D30: =IFERROR(INDEX(Annuel!$B$9:$NC$9,MATCH(Mensuel!$A30,Annuel!$A$9:$A$9,0),MATCH(Mensuel!D$27,Annuel!$B$6:$NC$6,0)),"") -> R | E30: =IFERROR(INDEX(Annuel!$B$9:$NC$9,MATCH(Mensuel!$A30,Annuel!$A$9:$A$9,0),MATCH(Mensuel!E$27,Annuel!$B$6:$NC$6,0)),"") -> H | F30: =IFERROR(INDEX(Annuel!$B$9:$NC$9,MATCH(Mensuel!$A30,Annuel!$A$9:$A$9,0),MATCH(Mensuel!F$27,Annuel!$B$6:$NC$6,0)),"") -> H | G30: =IFERROR(INDEX(Annuel!$B$9:$NC$9,MATCH(Mensuel!$A30,Annuel!$A$9:$A$9,0),MATCH(Mensuel!G$27,Annuel!$B$6:$NC$6,0)),"") -> T | H30: =IFERROR(INDEX(Annuel!$B$9:$NC$9,MATCH(Mensuel!$A30,Annuel!$A$9:$A$9,0),MATCH(Mensuel!H$27,Annuel!$B$6:$NC$6,0)),"") -> T | I30: =IFERROR(INDEX(Annuel!$B$9:$NC$9,MATCH(Mensuel!$A30,Annuel!$A$9:$A$9,0),MATCH(Mensuel!I$27,Annuel!$B$6:$NC$6,0)),"") -> R | ... AE30: =IFERROR(INDEX(Annuel!$B$9:$NC$9,MATCH(Mensuel!$A30,Annuel!$A$9:$A$9,0),MATCH(Mensuel!AE$27,Annuel!$B$6:$NC$6,0)),"") -> T
B32: =TEXT(B34,"mmmm") -> mai
B33: =IF(B35="lun","S"& WEEKNUM(B34,21),"") | C33: =IF(C35="lun","S"& WEEKNUM(C34,21),"") | D33: =IF(D35="lun","S"& WEEKNUM(D34,21),"") | E33: =IF(E35="lun","S"& WEEKNUM(E34,21),"") | F33: =IF(F35="lun","S"& WEEKNUM(F34,21),"") | G33: =IF(G35="lun","S"& WEEKNUM(G34,21),"") -> S19 | H33: =IF(H35="lun","S"& WEEKNUM(H34,21),"") | I33: =IF(I35="lun","S"& WEEKNUM(I34,21),"") | ... AF33: =IF(AF35="lun","S"& WEEKNUM(AF34,21),"")
B34: =DATE('Base De Données'!$B$1,5,1) -> 45413 | C34: =IF(EOMONTH(B34,0)>B34,B34+1,"") -> 45414 | D34: =IF(EOMONTH(C34,0)>C34,C34+1,"") -> 45415 | E34: =IF(EOMONTH(D34,0)>D34,D34+1,"") -> 45416 | F34: =IF(EOMONTH(E34,0)>E34,E34+1,"") -> 45417 | G34: =IF(EOMONTH(F34,0)>F34,F34+1,"") -> 45418 | H34: =IF(EOMONTH(G34,0)>G34,G34+1,"") -> 45419 | I34: =IF(EOMONTH(H34,0)>H34,H34+1,"") -> 45420 | J34: =IF(EOMONTH(I34,0)>I34,I34+1,"") -> 45421 | ... AF34: =IF(EOMONTH(AE34,0)>AE34,AE34+1,"") -> 45443
B35: =TEXT(B34,"jjj") -> mer | C35: =TEXT(C34,"jjj") -> jeu | D35: =TEXT(D34,"jjj") -> ven | E35: =TEXT(E34,"jjj") -> sam | F35: =TEXT(F34,"jjj") -> dim | G35: =TEXT(G34,"jjj") -> lun | H35: =TEXT(H34,"jjj") -> mar | I35: =TEXT(I34,"jjj") -> mer | ... AF35: =TEXT(AF34,"jjj") -> ven
B36: =IFERROR(DAY(B34),"") -> 1 | C36: =IFERROR(DAY(C34),"") -> 2 | D36: =IFERROR(DAY(D34),"") -> 3 | E36: =IFERROR(DAY(E34),"") -> 4 | F36: =IFERROR(DAY(F34),"") -> 5 | G36: =IFERROR(DAY(G34),"") -> 6 | H36: =IFERROR(DAY(H34),"") -> 7 | I36: =IFERROR(DAY(I34),"") -> 8 | ... AF36: =IFERROR(DAY(AF34),"") -> 31
A37: Dupont | B37: =IFERROR(INDEX(Annuel!$B$9:$NC$9,MATCH(Mensuel!$A37,Annuel!$A$9:$A$9,0),MATCH(Mensuel!B$34,Annuel!$B$6:$NC$6,0)),"") -> R | C37: =IFERROR(INDEX(Annuel!$B$9:$NC$9,MATCH(Mensuel!$A37,Annuel!$A$9:$A$9,0),MATCH(Mensuel!C$34,Annuel!$B$6:$NC$6,0)),"") -> H | D37: =IFERROR(INDEX(Annuel!$B$9:$NC$9,MATCH(Mensuel!$A37,Annuel!$A$9:$A$9,0),MATCH(Mensuel!D$34,Annuel!$B$6:$NC$6,0)),"") -> H | E37: =IFERROR(INDEX(Annuel!$B$9:$NC$9,MATCH(Mensuel!$A37,Annuel!$A$9:$A$9,0),MATCH(Mensuel!E$34,Annuel!$B$6:$NC$6,0)),"") -> T | F37: =IFERROR(INDEX(Annuel!$B$9:$NC$9,MATCH(Mensuel!$A37,Annuel!$A$9:$A$9,0),MATCH(Mensuel!F$34,Annuel!$B$6:$NC$6,0)),"") -> T | G37: =IFERROR(INDEX(Annuel!$B$9:$NC$9,MATCH(Mensuel!$A37,Annuel!$A$9:$A$9,0),MATCH(Mensuel!G$34,Annuel!$B$6:$NC$6,0)),"") -> R | H37: =IFERROR(INDEX(Annuel!$B$9:$NC$9,MATCH(Mensuel!$A37,Annuel!$A$9:$A$9,0),MATCH(Mensuel!H$34,Annuel!$B$6:$NC$6,0)),"") -> R | I37: =IFERROR(INDEX(Annuel!$B$9:$NC$9,MATCH(Mensuel!$A37,Annuel!$A$9:$A$9,0),MATCH(Mensuel!I$34,Annuel!$B$6:$NC$6,0)),"") -> T | ... AF37: =IFERROR(INDEX(Annuel!$B$9:$NC$9,MATCH(Mensuel!$A37,Annuel!$A$9:$A$9,0),MATCH(Mensuel!AF$34,Annuel!$B$6:$NC$6,0)),"") -> H
B39: =TEXT(B41,"mmmm") -> juin
B40: =IF(B42="lun","S"& WEEKNUM(B41,21),"") | C40: =IF(C42="lun","S"& WEEKNUM(C41,21),"") | D40: =IF(D42="lun","S"& WEEKNUM(D41,21),"") -> S23 | E40: =IF(E42="lun","S"& WEEKNUM(E41,21),"") | F40: =IF(F42="lun","S"& WEEKNUM(F41,21),"") | G40: =IF(G42="lun","S"& WEEKNUM(G41,21),"") | H40: =IF(H42="lun","S"& WEEKNUM(H41,21),"") | I40: =IF(I42="lun","S"& WEEKNUM(I41,21),"") | ... AE40: =IF(AE42="lun","S"& WEEKNUM(AE41,21),"")
B41: =DATE('Base De Données'!$B$1,6,1) -> 45444 | C41: =IF(EOMONTH(B41,0)>B41,B41+1,"") -> 45445 | D41: =IF(EOMONTH(C41,0)>C41,C41+1,"") -> 45446 | E41: =IF(EOMONTH(D41,0)>D41,D41+1,"") -> 45447 | F41: =IF(EOMONTH(E41,0)>E41,E41+1,"") -> 45448 | G41: =IF(EOMONTH(F41,0)>F41,F41+1,"") -> 45449 | H41: =IF(EOMONTH(G41,0)>G41,G41+1,"") -> 45450 | I41: =IF(EOMONTH(H41,0)>H41,H41+1,"") -> 45451 | J41: =IF(EOMONTH(I41,0)>I41,I41+1,"") -> 45452 | ... AF41: =IF(EOMONTH(AE41,0)>AE41,AE41+1,"")
B42: =TEXT(B41,"jjj") -> sam | C42: =TEXT(C41,"jjj") -> dim | D42: =TEXT(D41,"jjj") -> lun | E42: =TEXT(E41,"jjj") -> mar | F42: =TEXT(F41,"jjj") -> mer | G42: =TEXT(G41,"jjj") -> jeu | H42: =TEXT(H41,"jjj") -> ven | I42: =TEXT(I41,"jjj") -> sam | ... AF42: =TEXT(AF41,"jjj")
B43: =IFERROR(DAY(B41),"") -> 1 | C43: =IFERROR(DAY(C41),"") -> 2 | D43: =IFERROR(DAY(D41),"") -> 3 | E43: =IFERROR(DAY(E41),"") -> 4 | F43: =IFERROR(DAY(F41),"") -> 5 | G43: =IFERROR(DAY(G41),"") -> 6 | H43: =IFERROR(DAY(H41),"") -> 7 | I43: =IFERROR(DAY(I41),"") -> 8 | ... AF43: =IFERROR(DAY(AF41),"")
A44: Dupont | B44: =IFERROR(INDEX(Annuel!$B$9:$NC$9,MATCH(Mensuel!$A44,Annuel!$A$9:$A$9,0),MATCH(Mensuel!B$41,Annuel!$B$6:$NC$6,0)),"") -> T | C44: =IFERROR(INDEX(Annuel!$B$9:$NC$9,MATCH(Mensuel!$A44,Annuel!$A$9:$A$9,0),MATCH(Mensuel!C$41,Annuel!$B$6:$NC$6,0)),"") -> T | D44: =IFERROR(INDEX(Annuel!$B$9:$NC$9,MATCH(Mensuel!$A44,Annuel!$A$9:$A$9,0),MATCH(Mensuel!D$41,Annuel!$B$6:$NC$6,0)),"") -> R | E44: =IFERROR(INDEX(Annuel!$B$9:$NC$9,MATCH(Mensuel!$A44,Annuel!$A$9:$A$9,0),MATCH(Mensuel!E$41,Annuel!$B$6:$NC$6,0)),"") -> R | F44: =IFERROR(INDEX(Annuel!$B$9:$NC$9,MATCH(Mensuel!$A44,Annuel!$A$9:$A$9,0),MATCH(Mensuel!F$41,Annuel!$B$6:$NC$6,0)),"") -> T | G44: =IFERROR(INDEX(Annuel!$B$9:$NC$9,MATCH(Mensuel!$A44,Annuel!$A$9:$A$9,0),MATCH(Mensuel!G$41,Annuel!$B$6:$NC$6,0)),"") -> T | H44: =IFERROR(INDEX(Annuel!$B$9:$NC$9,MATCH(Mensuel!$A44,Annuel!$A$9:$A$9,0),MATCH(Mensuel!H$41,Annuel!$B$6:$NC$6,0)),"") -> R | I44: =IFERROR(INDEX(Annuel!$B$9:$NC$9,MATCH(Mensuel!$A44,Annuel!$A$9:$A$9,0),MATCH(Mensuel!I$41,Annuel!$B$6:$NC$6,0)),"") -> H | ... AE44: =IFERROR(INDEX(Annuel!$B$9:$NC$9,MATCH(Mensuel!$A44,Annuel!$A$9:$A$9,0),MATCH(Mensuel!AE$41,Annuel!$B$6:$NC$6,0)),"") -> T
B46: =TEXT(B48,"mmmm") -> juillet
B47: =IF(B49="lun","S"& WEEKNUM(B48,21),"") -> S27 | C47: =IF(C49="lun","S"& WEEKNUM(C48,21),"") | D47: =IF(D49="lun","S"& WEEKNUM(D48,21),"") | E47: =IF(E49="lun","S"& WEEKNUM(E48,21),"") | F47: =IF(F49="lun","S"& WEEKNUM(F48,21),"") | G47: =IF(G49="lun","S"& WEEKNUM(G48,21),"") | H47: =IF(H49="lun","S"& WEEKNUM(H48,21),"") | I47: =IF(I49="lun","S"& WEEKNUM(I48,21),"") -> S28 | ... AF47: =IF(AF49="lun","S"& WEEKNUM(AF48,21),"")
B48: =DATE('Base De Données'!$B$1,7,1) -> 45474 | C48: =IF(EOMONTH(B48,0)>B48,B48+1,"") -> 45475 | D48: =IF(EOMONTH(C48,0)>C48,C48+1,"") -> 45476 | E48: =IF(EOMONTH(D48,0)>D48,D48+1,"") -> 45477 | F48: =IF(EOMONTH(E48,0)>E48,E48+1,"") -> 45478 | G48: =IF(EOMONTH(F48,0)>F48,F48+1,"") -> 45479 | H48: =IF(EOMONTH(G48,0)>G48,G48+1,"") -> 45480 | I48: =IF(EOMONTH(H48,0)>H48,H48+1,"") -> 45481 | J48: =IF(EOMONTH(I48,0)>I48,I48+1,"") -> 45482 | ... AF48: =IF(EOMONTH(AE48,0)>AE48,AE48+1,"") -> 45504
B49: =TEXT(B48,"jjj") -> lun | C49: =TEXT(C48,"jjj") -> mar | D49: =TEXT(D48,"jjj") -> mer | E49: =TEXT(E48,"jjj") -> jeu | F49: =TEXT(F48,"jjj") -> ven | G49: =TEXT(G48,"jjj") -> sam | H49: =TEXT(H48,"jjj") -> dim | I49: =TEXT(I48,"jjj") -> lun | ... AF49: =TEXT(AF48,"jjj") -> mer
B50: =IFERROR(DAY(B48),"") -> 1 | C50: =IFERROR(DAY(C48),"") -> 2 | D50: =IFERROR(DAY(D48),"") -> 3 | E50: =IFERROR(DAY(E48),"") -> 4 | F50: =IFERROR(DAY(F48),"") -> 5 | G50: =IFERROR(DAY(G48),"") -> 6 | H50: =IFERROR(DAY(H48),"") -> 7 | I50: =IFERROR(DAY(I48),"") -> 8 | ... AF50: =IFERROR(DAY(AF48),"") -> 31
A51: Dupont | B51: =IFERROR(INDEX(Annuel!$B$9:$NC$9,MATCH(Mensuel!$A51,Annuel!$A$9:$A$9,0),MATCH(Mensuel!B$48,Annuel!$B$6:$NC$6,0)),"") -> R | C51: =IFERROR(INDEX(Annuel!$B$9:$NC$9,MATCH(Mensuel!$A51,Annuel!$A$9:$A$9,0),MATCH(Mensuel!C$48,Annuel!$B$6:$NC$6,0)),"") -> R | D51: =IFERROR(INDEX(Annuel!$B$9:$NC$9,MATCH(Mensuel!$A51,Annuel!$A$9:$A$9,0),MATCH(Mensuel!D$48,Annuel!$B$6:$NC$6,0)),"") -> T | E51: =IFERROR(INDEX(Annuel!$B$9:$NC$9,MATCH(Mensuel!$A51,Annuel!$A$9:$A$9,0),MATCH(Mensuel!E$48,Annuel!$B$6:$NC$6,0)),"") -> T | F51: =IFERROR(INDEX(Annuel!$B$9:$NC$9,MATCH(Mensuel!$A51,Annuel!$A$9:$A$9,0),MATCH(Mensuel!F$48,Annuel!$B$6:$NC$6,0)),"") -> R | G51: =IFERROR(INDEX(Annuel!$B$9:$NC$9,MATCH(Mensuel!$A51,Annuel!$A$9:$A$9,0),MATCH(Mensuel!G$48,Annuel!$B$6:$NC$6,0)),"") -> H | H51: =IFERROR(INDEX(Annuel!$B$9:$NC$9,MATCH(Mensuel!$A51,Annuel!$A$9:$A$9,0),MATCH(Mensuel!H$48,Annuel!$B$6:$NC$6,0)),"") -> H | I51: =IFERROR(INDEX(Annuel!$B$9:$NC$9,MATCH(Mensuel!$A51,Annuel!$A$9:$A$9,0),MATCH(Mensuel!I$48,Annuel!$B$6:$NC$6,0)),"") -> T | ... AF51: =IFERROR(INDEX(Annuel!$B$9:$NC$9,MATCH(Mensuel!$A51,Annuel!$A$9:$A$9,0),MATCH(Mensuel!AF$48,Annuel!$B$6:$NC$6,0)),"") -> T
B53: =TEXT(B55,"mmmm") -> août
B54: =IF(B56="lun","S"& WEEKNUM(B55,21),"") | C54: =IF(C56="lun","S"& WEEKNUM(C55,21),"") | D54: =IF(D56="lun","S"& WEEKNUM(D55,21),"") | E54: =IF(E56="lun","S"& WEEKNUM(E55,21),"") | F54: =IF(F56="lun","S"& WEEKNUM(F55,21),"") -> S32 | G54: =IF(G56="lun","S"& WEEKNUM(G55,21),"") | H54: =IF(H56="lun","S"& WEEKNUM(H55,21),"") | I54: =IF(I56="lun","S"& WEEKNUM(I55,21),"") | ... AF54: =IF(AF56="lun","S"& WEEKNUM(AF55,21),"")
B55: =DATE('Base De Données'!$B$1,8,1) -> 45505 | C55: =IF(EOMONTH(B55,0)>B55,B55+1,"") -> 45506 | D55: =IF(EOMONTH(C55,0)>C55,C55+1,"") -> 45507 | E55: =IF(EOMONTH(D55,0)>D55,D55+1,"") -> 45508 | F55: =IF(EOMONTH(E55,0)>E55,E55+1,"") -> 45509 | G55: =IF(EOMONTH(F55,0)>F55,F55+1,"") -> 45510 | H55: =IF(EOMONTH(G55,0)>G55,G55+1,"") -> 45511 | I55: =IF(EOMONTH(H55,0)>H55,H55+1,"") -> 45512 | J55: =IF(EOMONTH(I55,0)>I55,I55+1,"") -> 45513 | ... AF55: =IF(EOMONTH(AE55,0)>AE55,AE55+1,"") -> 45535
B56: =TEXT(B55,"jjj") -> jeu | C56: =TEXT(C55,"jjj") -> ven | D56: =TEXT(D55,"jjj") -> sam | E56: =TEXT(E55,"jjj") -> dim | F56: =TEXT(F55,"jjj") -> lun | G56: =TEXT(G55,"jjj") -> mar | H56: =TEXT(H55,"jjj") -> mer | I56: =TEXT(I55,"jjj") -> jeu | ... AF56: =TEXT(AF55,"jjj") -> sam
B57: =IFERROR(DAY(B55),"") -> 1 | C57: =IFERROR(DAY(C55),"") -> 2 | D57: =IFERROR(DAY(D55),"") -> 3 | E57: =IFERROR(DAY(E55),"") -> 4 | F57: =IFERROR(DAY(F55),"") -> 5 | G57: =IFERROR(DAY(G55),"") -> 6 | H57: =IFERROR(DAY(H55),"") -> 7 | I57: =IFERROR(DAY(I55),"") -> 8 | ... AF57: =IFERROR(DAY(AF55),"") -> 31
A58: Dupont | B58: =IFERROR(INDEX(Annuel!$B$9:$NC$9,MATCH(Mensuel!$A58,Annuel!$A$9:$A$9,0),MATCH(Mensuel!B$55,Annuel!$B$6:$NC$6,0)),"") -> T | C58: =IFERROR(INDEX(Annuel!$B$9:$NC$9,MATCH(Mensuel!$A58,Annuel!$A$9:$A$9,0),MATCH(Mensuel!C$55,Annuel!$B$6:$NC$6,0)),"") -> R | D58: =IFERROR(INDEX(Annuel!$B$9:$NC$9,MATCH(Mensuel!$A58,Annuel!$A$9:$A$9,0),MATCH(Mensuel!D$55,Annuel!$B$6:$NC$6,0)),"") -> H | E58: =IFERROR(INDEX(Annuel!$B$9:$NC$9,MATCH(Mensuel!$A58,Annuel!$A$9:$A$9,0),MATCH(Mensuel!E$55,Annuel!$B$6:$NC$6,0)),"") -> H | F58: =IFERROR(INDEX(Annuel!$B$9:$NC$9,MATCH(Mensuel!$A58,Annuel!$A$9:$A$9,0),MATCH(Mensuel!F$55,Annuel!$B$6:$NC$6,0)),"") -> T | G58: =IFERROR(INDEX(Annuel!$B$9:$NC$9,MATCH(Mensuel!$A58,Annuel!$A$9:$A$9,0),MATCH(Mensuel!G$55,Annuel!$B$6:$NC$6,0)),"") -> T | H58: =IFERROR(INDEX(Annuel!$B$9:$NC$9,MATCH(Mensuel!$A58,Annuel!$A$9:$A$9,0),MATCH(Mensuel!H$55,Annuel!$B$6:$NC$6,0)),"") -> R | I58: =IFERROR(INDEX(Annuel!$B$9:$NC$9,MATCH(Mensuel!$A58,Annuel!$A$9:$A$9,0),MATCH(Mensuel!I$55,Annuel!$B$6:$NC$6,0)),"") -> H | ... AF58: =IFERROR(INDEX(Annuel!$B$9:$NC$9,MATCH(Mensuel!$A58,Annuel!$A$9:$A$9,0),MATCH(Mensuel!AF$55,Annuel!$B$6:$NC$6,0)),"") -> H
B60: =TEXT(B62,"mmmm") -> septembre
B61: =IF(B63="lun","S"& WEEKNUM(B62,21),"") | C61: =IF(C63="lun","S"& WEEKNUM(C62,21),"") -> S36 | D61: =IF(D63="lun","S"& WEEKNUM(D62,21),"") | E61: =IF(E63="lun","S"& WEEKNUM(E62,21),"") | F61: =IF(F63="lun","S"& WEEKNUM(F62,21),"") | G61: =IF(G63="lun","S"& WEEKNUM(G62,21),"") | H61: =IF(H63="lun","S"& WEEKNUM(H62,21),"") | I61: =IF(I63="lun","S"& WEEKNUM(I62,21),"") | ... AE61: =IF(AE63="lun","S"& WEEKNUM(AE62,21),"") -> S40
B62: =DATE('Base De Données'!$B$1,9,1) -> 45536 | C62: =IF(EOMONTH(B62,0)>B62,B62+1,"") -> 45537 | D62: =IF(EOMONTH(C62,0)>C62,C62+1,"") -> 45538 | E62: =IF(EOMONTH(D62,0)>D62,D62+1,"") -> 45539 | F62: =IF(EOMONTH(E62,0)>E62,E62+1,"") -> 45540 | G62: =IF(EOMONTH(F62,0)>F62,F62+1,"") -> 45541 | H62: =IF(EOMONTH(G62,0)>G62,G62+1,"") -> 45542 | I62: =IF(EOMONTH(H62,0)>H62,H62+1,"") -> 45543 | J62: =IF(EOMONTH(I62,0)>I62,I62+1,"") -> 45544 | ... AF62: =IF(EOMONTH(AE62,0)>AE62,AE62+1,"")
B63: =TEXT(B62,"jjj") -> dim | C63: =TEXT(C62,"jjj") -> lun | D63: =TEXT(D62,"jjj") -> mar | E63: =TEXT(E62,"jjj") -> mer | F63: =TEXT(F62,"jjj") -> jeu | G63: =TEXT(G62,"jjj") -> ven | H63: =TEXT(H62,"jjj") -> sam | I63: =TEXT(I62,"jjj") -> dim | ... AF63: =TEXT(AF62,"jjj")
B64: =IFERROR(DAY(B62),"") -> 1 | C64: =IFERROR(DAY(C62),"") -> 2 | D64: =IFERROR(DAY(D62),"") -> 3 | E64: =IFERROR(DAY(E62),"") -> 4 | F64: =IFERROR(DAY(F62),"") -> 5 | G64: =IFERROR(DAY(G62),"") -> 6 | H64: =IFERROR(DAY(H62),"") -> 7 | I64: =IFERROR(DAY(I62),"") -> 8 | ... AF64: =IFERROR(DAY(AF62),"")
A65: Dupont | B65: =IFERROR(INDEX(Annuel!$B$9:$NC$9,MATCH(Mensuel!$A65,Annuel!$A$9:$A$9,0),MATCH(Mensuel!B$62,Annuel!$B$6:$NC$6,0)),"") -> H | C65: =IFERROR(INDEX(Annuel!$B$9:$NC$9,MATCH(Mensuel!$A65,Annuel!$A$9:$A$9,0),MATCH(Mensuel!C$62,Annuel!$B$6:$NC$6,0)),"") -> T | D65: =IFERROR(INDEX(Annuel!$B$9:$NC$9,MATCH(Mensuel!$A65,Annuel!$A$9:$A$9,0),MATCH(Mensuel!D$62,Annuel!$B$6:$NC$6,0)),"") -> T | E65: =IFERROR(INDEX(Annuel!$B$9:$NC$9,MATCH(Mensuel!$A65,Annuel!$A$9:$A$9,0),MATCH(Mensuel!E$62,Annuel!$B$6:$NC$6,0)),"") -> R | F65: =IFERROR(INDEX(Annuel!$B$9:$NC$9,MATCH(Mensuel!$A65,Annuel!$A$9:$A$9,0),MATCH(Mensuel!F$62,Annuel!$B$6:$NC$6,0)),"") -> R | G65: =IFERROR(INDEX(Annuel!$B$9:$NC$9,MATCH(Mensuel!$A65,Annuel!$A$9:$A$9,0),MATCH(Mensuel!G$62,Annuel!$B$6:$NC$6,0)),"") -> T | H65: =IFERROR(INDEX(Annuel!$B$9:$NC$9,MATCH(Mensuel!$A65,Annuel!$A$9:$A$9,0),MATCH(Mensuel!H$62,Annuel!$B$6:$NC$6,0)),"") -> H | I65: =IFERROR(INDEX(Annuel!$B$9:$NC$9,MATCH(Mensuel!$A65,Annuel!$A$9:$A$9,0),MATCH(Mensuel!I$62,Annuel!$B$6:$NC$6,0)),"") -> H | ... AE65: =IFERROR(INDEX(Annuel!$B$9:$NC$9,MATCH(Mensuel!$A65,Annuel!$A$9:$A$9,0),MATCH(Mensuel!AE$62,Annuel!$B$6:$NC$6,0)),"") -> T
B67: =TEXT(B69,"mmmm") -> octobre
B68: =IF(B70="lun","S"& WEEKNUM(B69,21),"") | C68: =IF(C70="lun","S"& WEEKNUM(C69,21),"") | D68: =IF(D70="lun","S"& WEEKNUM(D69,21),"") | E68: =IF(E70="lun","S"& WEEKNUM(E69,21),"") | F68: =IF(F70="lun","S"& WEEKNUM(F69,21),"") | G68: =IF(G70="lun","S"& WEEKNUM(G69,21),"") | H68: =IF(H70="lun","S"& WEEKNUM(H69,21),"") -> S41 | I68: =IF(I70="lun","S"& WEEKNUM(I69,21),"") | ... AF68: =IF(AF70="lun","S"& WEEKNUM(AF69,21),"")
B69: =DATE('Base De Données'!$B$1,10,1) -> 45566 | C69: =IF(EOMONTH(B69,0)>B69,B69+1,"") -> 45567 | D69: =IF(EOMONTH(C69,0)>C69,C69+1,"") -> 45568 | E69: =IF(EOMONTH(D69,0)>D69,D69+1,"") -> 45569 | F69: =IF(EOMONTH(E69,0)>E69,E69+1,"") -> 45570 | G69: =IF(EOMONTH(F69,0)>F69,F69+1,"") -> 45571 | H69: =IF(EOMONTH(G69,0)>G69,G69+1,"") -> 45572 | I69: =IF(EOMONTH(H69,0)>H69,H69+1,"") -> 45573 | J69: =IF(EOMONTH(I69,0)>I69,I69+1,"") -> 45574 | ... AF69: =IF(EOMONTH(AE69,0)>AE69,AE69+1,"") -> 45596
B70: =TEXT(B69,"jjj") -> mar | C70: =TEXT(C69,"jjj") -> mer | D70: =TEXT(D69,"jjj") -> jeu | E70: =TEXT(E69,"jjj") -> ven | F70: =TEXT(F69,"jjj") -> sam | G70: =TEXT(G69,"jjj") -> dim | H70: =TEXT(H69,"jjj") -> lun | I70: =TEXT(I69,"jjj") -> mar | ... AF70: =TEXT(AF69,"jjj") -> jeu
B71: =IFERROR(DAY(B69),"") -> 1 | C71: =IFERROR(DAY(C69),"") -> 2 | D71: =IFERROR(DAY(D69),"") -> 3 | E71: =IFERROR(DAY(E69),"") -> 4 | F71: =IFERROR(DAY(F69),"") -> 5 | G71: =IFERROR(DAY(G69),"") -> 6 | H71: =IFERROR(DAY(H69),"") -> 7 | I71: =IFERROR(DAY(I69),"") -> 8 | ... AF71: =IFERROR(DAY(AF69),"") -> 31
A72: Dupont | B72: =IFERROR(INDEX(Annuel!$B$9:$NC$9,MATCH(Mensuel!$A72,Annuel!$A$9:$A$9,0),MATCH(Mensuel!B$69,Annuel!$B$6:$NC$6,0)),"") -> T | C72: =IFERROR(INDEX(Annuel!$B$9:$NC$9,MATCH(Mensuel!$A72,Annuel!$A$9:$A$9,0),MATCH(Mensuel!C$69,Annuel!$B$6:$NC$6,0)),"") -> R | D72: =IFERROR(INDEX(Annuel!$B$9:$NC$9,MATCH(Mensuel!$A72,Annuel!$A$9:$A$9,0),MATCH(Mensuel!D$69,Annuel!$B$6:$NC$6,0)),"") -> H | E72: =IFERROR(INDEX(Annuel!$B$9:$NC$9,MATCH(Mensuel!$A72,Annuel!$A$9:$A$9,0),MATCH(Mensuel!E$69,Annuel!$B$6:$NC$6,0)),"") -> H | F72: =IFERROR(INDEX(Annuel!$B$9:$NC$9,MATCH(Mensuel!$A72,Annuel!$A$9:$A$9,0),MATCH(Mensuel!F$69,Annuel!$B$6:$NC$6,0)),"") -> T | G72: =IFERROR(INDEX(Annuel!$B$9:$NC$9,MATCH(Mensuel!$A72,Annuel!$A$9:$A$9,0),MATCH(Mensuel!G$69,Annuel!$B$6:$NC$6,0)),"") -> T | H72: =IFERROR(INDEX(Annuel!$B$9:$NC$9,MATCH(Mensuel!$A72,Annuel!$A$9:$A$9,0),MATCH(Mensuel!H$69,Annuel!$B$6:$NC$6,0)),"") -> R | I72: =IFERROR(INDEX(Annuel!$B$9:$NC$9,MATCH(Mensuel!$A72,Annuel!$A$9:$A$9,0),MATCH(Mensuel!I$69,Annuel!$B$6:$NC$6,0)),"") -> R | ... AF72: =IFERROR(INDEX(Annuel!$B$9:$NC$9,MATCH(Mensuel!$A72,Annuel!$A$9:$A$9,0),MATCH(Mensuel!AF$69,Annuel!$B$6:$NC$6,0)),"") -> R
B74: =TEXT(B76,"mmmm") -> novembre
B75: =IF(B77="lun","S"& WEEKNUM(B76,21),"") | C75: =IF(C77="lun","S"& WEEKNUM(C76,21),"") | D75: =IF(D77="lun","S"& WEEKNUM(D76,21),"") | E75: =IF(E77="lun","S"& WEEKNUM(E76,21),"") -> S45 | F75: =IF(F77="lun","S"& WEEKNUM(F76,21),"") | G75: =IF(G77="lun","S"& WEEKNUM(G76,21),"") | H75: =IF(H77="lun","S"& WEEKNUM(H76,21),"") | I75: =IF(I77="lun","S"& WEEKNUM(I76,21),"") | ... AE75: =IF(AE77="lun","S"& WEEKNUM(AE76,21),"")
B76: =DATE('Base De Données'!$B$1,11,1) -> 45597 | C76: =IF(EOMONTH(B76,0)>B76,B76+1,"") -> 45598 | D76: =IF(EOMONTH(C76,0)>C76,C76+1,"") -> 45599 | E76: =IF(EOMONTH(D76,0)>D76,D76+1,"") -> 45600 | F76: =IF(EOMONTH(E76,0)>E76,E76+1,"") -> 45601 | G76: =IF(EOMONTH(F76,0)>F76,F76+1,"") -> 45602 | H76: =IF(EOMONTH(G76,0)>G76,G76+1,"") -> 45603 | I76: =IF(EOMONTH(H76,0)>H76,H76+1,"") -> 45604 | J76: =IF(EOMONTH(I76,0)>I76,I76+1,"") -> 45605 | ... AF76: =IF(EOMONTH(AE76,0)>AE76,AE76+1,"")
B77: =TEXT(B76,"jjj") -> ven | C77: =TEXT(C76,"jjj") -> sam | D77: =TEXT(D76,"jjj") -> dim | E77: =TEXT(E76,"jjj") -> lun | F77: =TEXT(F76,"jjj") -> mar | G77: =TEXT(G76,"jjj") -> mer | H77: =TEXT(H76,"jjj") -> jeu | I77: =TEXT(I76,"jjj") -> ven | ... AF77: =TEXT(AF76,"jjj")
B78: =IFERROR(DAY(B76),"") -> 1 | C78: =IFERROR(DAY(C76),"") -> 2 | D78: =IFERROR(DAY(D76),"") -> 3 | E78: =IFERROR(DAY(E76),"") -> 4 | F78: =IFERROR(DAY(F76),"") -> 5 | G78: =IFERROR(DAY(G76),"") -> 6 | H78: =IFERROR(DAY(H76),"") -> 7 | I78: =IFERROR(DAY(I76),"") -> 8 | ... AF78: =IFERROR(DAY(AF76),"")
A79: Dupont | B79: =IFERROR(INDEX(Annuel!$B$9:$NC$9,MATCH(Mensuel!$A79,Annuel!$A$9:$A$9,0),MATCH(Mensuel!B$76,Annuel!$B$6:$NC$6,0)),"") -> T | C79: =IFERROR(INDEX(Annuel!$B$9:$NC$9,MATCH(Mensuel!$A79,Annuel!$A$9:$A$9,0),MATCH(Mensuel!C$76,Annuel!$B$6:$NC$6,0)),"") -> H | D79: =IFERROR(INDEX(Annuel!$B$9:$NC$9,MATCH(Mensuel!$A79,Annuel!$A$9:$A$9,0),MATCH(Mensuel!D$76,Annuel!$B$6:$NC$6,0)),"") -> H | E79: =IFERROR(INDEX(Annuel!$B$9:$NC$9,MATCH(Mensuel!$A79,Annuel!$A$9:$A$9,0),MATCH(Mensuel!E$76,Annuel!$B$6:$NC$6,0)),"") -> T | F79: =IFERROR(INDEX(Annuel!$B$9:$NC$9,MATCH(Mensuel!$A79,Annuel!$A$9:$A$9,0),MATCH(Mensuel!F$76,Annuel!$B$6:$NC$6,0)),"") -> T | G79: =IFERROR(INDEX(Annuel!$B$9:$NC$9,MATCH(Mensuel!$A79,Annuel!$A$9:$A$9,0),MATCH(Mensuel!G$76,Annuel!$B$6:$NC$6,0)),"") -> R | H79: =IFERROR(INDEX(Annuel!$B$9:$NC$9,MATCH(Mensuel!$A79,Annuel!$A$9:$A$9,0),MATCH(Mensuel!H$76,Annuel!$B$6:$NC$6,0)),"") -> R | I79: =IFERROR(INDEX(Annuel!$B$9:$NC$9,MATCH(Mensuel!$A79,Annuel!$A$9:$A$9,0),MATCH(Mensuel!I$76,Annuel!$B$6:$NC$6,0)),"") -> T | ... AE79: =IFERROR(INDEX(Annuel!$B$9:$NC$9,MATCH(Mensuel!$A79,Annuel!$A$9:$A$9,0),MATCH(Mensuel!AE$76,Annuel!$B$6:$NC$6,0)),"") -> T
B81: =TEXT(B83,"mmmm") -> décembre
B82: =IF(B84="lun","S"& WEEKNUM(B83,21),"") | C82: =IF(C84="lun","S"& WEEKNUM(C83,21),"") -> S49 | D82: =IF(D84="lun","S"& WEEKNUM(D83,21),"") | E82: =IF(E84="lun","S"& WEEKNUM(E83,21),"") | F82: =IF(F84="lun","S"& WEEKNUM(F83,21),"") | G82: =IF(G84="lun","S"& WEEKNUM(G83,21),"") | H82: =IF(H84="lun","S"& WEEKNUM(H83,21),"") | I82: =IF(I84="lun","S"& WEEKNUM(I83,21),"") | ... AF82: =IF(AF84="lun","S"& WEEKNUM(AF83,21),"")
B83: =DATE('Base De Données'!$B$1,12,1) -> 45627 | C83: =IF(EOMONTH(B83,0)>B83,B83+1,"") -> 45628 | D83: =IF(EOMONTH(C83,0)>C83,C83+1,"") -> 45629 | E83: =IF(EOMONTH(D83,0)>D83,D83+1,"") -> 45630 | F83: =IF(EOMONTH(E83,0)>E83,E83+1,"") -> 45631 | G83: =IF(EOMONTH(F83,0)>F83,F83+1,"") -> 45632 | H83: =IF(EOMONTH(G83,0)>G83,G83+1,"") -> 45633 | I83: =IF(EOMONTH(H83,0)>H83,H83+1,"") -> 45634 | J83: =IF(EOMONTH(I83,0)>I83,I83+1,"") -> 45635 | ... AF83: =IF(EOMONTH(AE83,0)>AE83,AE83+1,"") -> 45657
B84: =TEXT(B83,"jjj") -> dim | C84: =TEXT(C83,"jjj") -> lun | D84: =TEXT(D83,"jjj") -> mar | E84: =TEXT(E83,"jjj") -> mer | F84: =TEXT(F83,"jjj") -> jeu | G84: =TEXT(G83,"jjj") -> ven | H84: =TEXT(H83,"jjj") -> sam | I84: =TEXT(I83,"jjj") -> dim | ... AF84: =TEXT(AF83,"jjj") -> mar
B85: =IFERROR(DAY(B83),"") -> 1 | C85: =IFERROR(DAY(C83),"") -> 2 | D85: =IFERROR(DAY(D83),"") -> 3 | E85: =IFERROR(DAY(E83),"") -> 4 | F85: =IFERROR(DAY(F83),"") -> 5 | G85: =IFERROR(DAY(G83),"") -> 6 | H85: =IFERROR(DAY(H83),"") -> 7 | I85: =IFERROR(DAY(I83),"") -> 8 | ... AF85: =IFERROR(DAY(AF83),"") -> 31
A86: Dupont | B86: =IFERROR(INDEX(Annuel!$B$9:$NC$9,MATCH(Mensuel!$A86,Annuel!$A$9:$A$9,0),MATCH(Mensuel!B$83,Annuel!$B$6:$NC$6,0)),"") -> T | C86: =IFERROR(INDEX(Annuel!$B$9:$NC$9,MATCH(Mensuel!$A86,Annuel!$A$9:$A$9,0),MATCH(Mensuel!C$83,Annuel!$B$6:$NC$6,0)),"") -> R | D86: =IFERROR(INDEX(Annuel!$B$9:$NC$9,MATCH(Mensuel!$A86,Annuel!$A$9:$A$9,0),MATCH(Mensuel!D$83,Annuel!$B$6:$NC$6,0)),"") -> R | E86: =IFERROR(INDEX(Annuel!$B$9:$NC$9,MATCH(Mensuel!$A86,Annuel!$A$9:$A$9,0),MATCH(Mensuel!E$83,Annuel!$B$6:$NC$6,0)),"") -> T | F86: =IFERROR(INDEX(Annuel!$B$9:$NC$9,MATCH(Mensuel!$A86,Annuel!$A$9:$A$9,0),MATCH(Mensuel!F$83,Annuel!$B$6:$NC$6,0)),"") -> T | G86: =IFERROR(INDEX(Annuel!$B$9:$NC$9,MATCH(Mensuel!$A86,Annuel!$A$9:$A$9,0),MATCH(Mensuel!G$83,Annuel!$B$6:$NC$6,0)),"") -> R | H86: =IFERROR(INDEX(Annuel!$B$9:$NC$9,MATCH(Mensuel!$A86,Annuel!$A$9:$A$9,0),MATCH(Mensuel!H$83,Annuel!$B$6:$NC$6,0)),"") -> H | I86: =IFERROR(INDEX(Annuel!$B$9:$NC$9,MATCH(Mensuel!$A86,Annuel!$A$9:$A$9,0),MATCH(Mensuel!I$83,Annuel!$B$6:$NC$6,0)),"") -> H | ... AF86: =IFERROR(INDEX(Annuel!$B$9:$NC$9,MATCH(Mensuel!$A86,Annuel!$A$9:$A$9,0),MATCH(Mensuel!AF$83,Annuel!$B$6:$NC$6,0)),"") -> T

Sheet Pose de jours
B3: Types | C3: Code | E3: Type | F3: date de début | G3: date de fin | H3: Code
B4: Jour de travail | C4: T | E4: Congé payé | F4: 45355 | G4: 45361 | H4: =VLOOKUP(Tableau4[[#This Row],[Type]],Tableau2[],2,0) -> CP
B5: Absence | C5: ABS | E5: Formation | F5: 45376 | G5: 45377 | H5: =VLOOKUP(Tableau4[[#This Row],[Type]],Tableau2[],2,0) -> FM
B6: Congé payé | C6: CP | E6: Congé payé | F6: 45397 | G6: 45403 | H6: =VLOOKUP(Tableau4[[#This Row],[Type]],Tableau2[],2,0) -> CP
B7: Formation | C7: FM | E7: Congé payé | F7: 45488 | G7: 45501 | H7: =VLOOKUP(Tableau4[[#This Row],[Type]],Tableau2[],2,0) -> CP
B8: Repos | C8: R | E8: Repos | F8: 45541 | G8: 45541 | H8: =VLOOKUP(Tableau4[[#This Row],[Type]],Tableau2[],2,0) -> R
B9: Repos hebdomadaire | C9: H
