Workbook

Sheet tableau de bord
B1: 43832 | C1: nb de véhicules impactés | D1: jour d'immobilisation | E1: moyenne véhicule /jour (jusqu’à aujourd'hui)
A2: R | B2: Remplacement | C2: =COUNTIF(Tableau1[Remplacement],">0") -> 5 | D2: =SUM(Tableau1[Remplacement]) -> 7 | E2: =D2/$I$4 -> -0.7
A3: P | B3: Panne | C3: =COUNTIF(Tableau1[Panne],">0") -> 7 | D3: =SUM(Tableau1[Panne]) -> 25 | E3: =D3/$I$4 -> -2.5
A4: M | B4: Maintenance | C4: =COUNTIF(Tableau1[Maintenance],">0") -> 7 | D4: =SUM(Tableau1[Maintenance]) -> 10 | E4: =D4/$I$4 -> -1 | G4: 43831 | H4: =TODAY() -> 43821 | I4: =H4-G4 -> -10
A5: CT | B5: Contrôle Technique | C5: =COUNTIF(Tableau1[Contrôle Technique],">0") -> 45 | D5: =SUM(Tableau1[Contrôle Technique]) -> 45 | E5: =D5/$I$4 -> -4.5
A6: S | B6: Stage Reunion Formation | C6: =COUNTIF(Tableau1[Stage Reunion Formation],">0") -> 3 | D6: =SUM(Tableau1[Stage Reunion Formation]) -> 13 | E6: =D6/$I$4 -> -1.3
A7: PR | B7: Panne avec Remplacement | C7: =COUNTIF(Tableau1[Panne avec Remplacement],">0") -> 0 | D7: =SUM(Tableau1[Panne avec Remplacement]) -> 0 | E7: =D7/$I$4 -> 0
A8: C | B8: carrosserie | C8: =COUNTIF(Tableau1[carrosserie],">0") -> 4 | D8: =SUM(Tableau1[carrosserie]) -> 4 | E8: =D8/$I$4 -> -0.4
C9: =SUM(C2:C8) -> 71 | D9: =SUM(D2:D8) -> 104 | E9: =SUM(E2:E8) -> -10.4
A12: nombre de véhicules impactés sur 7 jours
C14: "=aujourd'hui" | D14: "=aujourd'hui+1" | E14: "=aujourd'hui+2" | F14: "=aujourd'hui+3" | G14: "=aujourd'hui+4" | H14: "=aujourd'hui+5" | I14: "=aujourd'hui+6"
C15: 44177 | D15: =C15+1 -> 44178 | E15: =D15+1 -> 44179 | F15: =E15+1 -> 44180 | G15: =F15+1 -> 44181 | H15: =G15+1 -> 44182 | I15: =H15+1 -> 44183 | K15: date recherchée :
A16: R | B16: Remplacement | C16: =COUNTIF(OFFSET(Tableau1[immatriculation],,MATCH(TEXT(C$15,"jj/mm/aaaa"),Feuil1!$4:$4,0)-1),$A16) -> 0 | D16: =COUNTIF(OFFSET(Tableau1[immatriculation],,MATCH(TEXT(D$15,"jj/mm/aaaa"),Feuil1!$4:$4,0)-1),$A16) -> 0 | E16: =COUNTIF(OFFSET(Tableau1[immatriculation],,MATCH(TEXT(E$15,"jj/mm/aaaa"),Feuil1!$4:$4,0)-1),$A16) -> 4 | F16: =COUNTIF(OFFSET(Tableau1[type],,MATCH(TEXT(F$15,"jj/mm/aaaa"),Feuil1!$4:$4,0)-1),$A16) -> 0 | G16: =COUNTIF(OFFSET(Tableau1[type],,MATCH(TEXT(G$15,"jj/mm/aaaa"),Feuil1!$4:$4,0)-1),$A16) -> 0 | H16: =COUNTIF(OFFSET(Tableau1[modele],,MATCH(TEXT(H$15,"jj/mm/aaaa"),Feuil1!$4:$4,0)-1),$A16) -> 0 | I16: =COUNTIF(OFFSET(Tableau1[modele],,MATCH(TEXT(I$15,"jj/mm/aaaa"),Feuil1!$4:$4,0)-1),$A16) -> 0 | L16: =HLOOKUP($L$15,$B$26:$NC$33,2,FALSE) -> #N/A
A17: P | B17: Panne | C17: =COUNTIF(OFFSET(Tableau1[immatriculation],,MATCH(TEXT(C$15,"jj/mm/aaaa"),Feuil1!$4:$4,0)-1),$A17) -> 0 | D17: =COUNTIF(OFFSET(Tableau1[immatriculation],,MATCH(TEXT(D$15,"jj/mm/aaaa"),Feuil1!$4:$4,0)-1),$A17) -> 0 | E17: =COUNTIF(OFFSET(Tableau1[immatriculation],,MATCH(TEXT(E$15,"jj/mm/aaaa"),Feuil1!$4:$4,0)-1),$A17) -> 2 | F17: =COUNTIF(OFFSET(Tableau1[type],,MATCH(TEXT(F$15,"jj/mm/aaaa"),Feuil1!$4:$4,0)-1),$A17) -> 5 | G17: =COUNTIF(OFFSET(Tableau1[type],,MATCH(TEXT(G$15,"jj/mm/aaaa"),Feuil1!$4:$4,0)-1),$A17) -> 0 | H17: =COUNTIF(OFFSET(Tableau1[modele],,MATCH(TEXT(H$15,"jj/mm/aaaa"),Feuil1!$4:$4,0)-1),$A17) -> 0 | I17: =COUNTIF(OFFSET(Tableau1[modele],,MATCH(TEXT(I$15,"jj/mm/aaaa"),Feuil1!$4:$4,0)-1),$A17) -> 0 | L17: =HLOOKUP(L15,$B$26:$NC$33,3,FALSE) -> #N/A
A18: M | B18: Maintenance | C18: =COUNTIF(OFFSET(Tableau1[immatriculation],,MATCH(TEXT(C$15,"jj/mm/aaaa"),Feuil1!$4:$4,0)-1),$A18) -> 0 | D18: =COUNTIF(OFFSET(Tableau1[immatriculation],,MATCH(TEXT(D$15,"jj/mm/aaaa"),Feuil1!$4:$4,0)-1),$A18) -> 0 | E18: =COUNTIF(OFFSET(Tableau1[immatriculation],,MATCH(TEXT(E$15,"jj/mm/aaaa"),Feuil1!$4:$4,0)-1),$A18) -> 0 | F18: =COUNTIF(OFFSET(Tableau1[type],,MATCH(TEXT(F$15,"jj/mm/aaaa"),Feuil1!$4:$4,0)-1),$A18) -> 0 | G18: =COUNTIF(OFFSET(Tableau1[type],,MATCH(TEXT(G$15,"jj/mm/aaaa"),Feuil1!$4:$4,0)-1),$A18) -> 3 | H18: =COUNTIF(OFFSET(Tableau1[modele],,MATCH(TEXT(H$15,"jj/mm/aaaa"),Feuil1!$4:$4,0)-1),$A18) -> 0 | I18: =COUNTIF(OFFSET(Tableau1[modele],,MATCH(TEXT(I$15,"jj/mm/aaaa"),Feuil1!$4:$4,0)-1),$A18) -> 0 | L18: =HLOOKUP(L15,$B$26:$NC$33,4,FALSE) -> #N/A
A19: CT | B19: Contrôle Technique | C19: =COUNTIF(OFFSET(Tableau1[immatriculation],,MATCH(TEXT(C$15,"jj/mm/aaaa"),Feuil1!$4:$4,0)-1),$A19) -> 0 | D19: =COUNTIF(OFFSET(Tableau1[immatriculation],,MATCH(TEXT(D$15,"jj/mm/aaaa"),Feuil1!$4:$4,0)-1),$A19) -> 0 | E19: =COUNTIF(OFFSET(Tableau1[immatriculation],,MATCH(TEXT(E$15,"jj/mm/aaaa"),Feuil1!$4:$4,0)-1),$A19) -> 0 | F19: =COUNTIF(OFFSET(Tableau1[type],,MATCH(TEXT(F$15,"jj/mm/aaaa"),Feuil1!$4:$4,0)-1),$A19) -> 0 | G19: =COUNTIF(OFFSET(Tableau1[type],,MATCH(TEXT(G$15,"jj/mm/aaaa"),Feuil1!$4:$4,0)-1),$A19) -> 0 | H19: =COUNTIF(OFFSET(Tableau1[modele],,MATCH(TEXT(H$15,"jj/mm/aaaa"),Feuil1!$4:$4,0)-1),$A19) -> 0 | I19: =COUNTIF(OFFSET(Tableau1[modele],,MATCH(TEXT(I$15,"jj/mm/aaaa"),Feuil1!$4:$4,0)-1),$A19) -> 0 | L19: =HLOOKUP(L15,$B$26:$NC$33,5,FALSE) -> #N/A
A20: S | B20: Stage Reunion Formation | C20: =COUNTIF(OFFSET(Tableau1[immatriculation],,MATCH(TEXT(C$15,"jj/mm/aaaa"),Feuil1!$4:$4,0)-1),$A20) -> 0 | D20: =COUNTIF(OFFSET(Tableau1[immatriculation],,MATCH(TEXT(D$15,"jj/mm/aaaa"),Feuil1!$4:$4,0)-1),$A20) -> 0 | E20: =COUNTIF(OFFSET(Tableau1[immatriculation],,MATCH(TEXT(E$15,"jj/mm/aaaa"),Feuil1!$4:$4,0)-1),$A20) -> 0 | F20: =COUNTIF(OFFSET(Tableau1[type],,MATCH(TEXT(F$15,"jj/mm/aaaa"),Feuil1!$4:$4,0)-1),$A20) -> 0 | G20: =COUNTIF(OFFSET(Tableau1[type],,MATCH(TEXT(G$15,"jj/mm/aaaa"),Feuil1!$4:$4,0)-1),$A20) -> 0 | H20: =COUNTIF(OFFSET(Tableau1[modele],,MATCH(TEXT(H$15,"jj/mm/aaaa"),Feuil1!$4:$4,0)-1),$A20) -> 0 | I20: =COUNTIF(OFFSET(Tableau1[modele],,MATCH(TEXT(I$15,"jj/mm/aaaa"),Feuil1!$4:$4,0)-1),$A20) -> 0 | L20: =HLOOKUP(L15,$B$26:$NC$33,6,FALSE) -> #N/A
A21: PR | B21: Panne avec Remplacement | C21: =COUNTIF(OFFSET(Tableau1[immatriculation],,MATCH(TEXT(C$15,"jj/mm/aaaa"),Feuil1!$4:$4,0)-1),$A21) -> 0 | D21: =COUNTIF(OFFSET(Tableau1[immatriculation],,MATCH(TEXT(D$15,"jj/mm/aaaa"),Feuil1!$4:$4,0)-1),$A21) -> 0 | E21: =COUNTIF(OFFSET(Tableau1[immatriculation],,MATCH(TEXT(E$15,"jj/mm/aaaa"),Feuil1!$4:$4,0)-1),$A21) -> 0 | F21: =COUNTIF(OFFSET(Tableau1[type],,MATCH(TEXT(F$15,"jj/mm/aaaa"),Feuil1!$4:$4,0)-1),$A21) -> 0 | G21: =COUNTIF(OFFSET(Tableau1[type],,MATCH(TEXT(G$15,"jj/mm/aaaa"),Feuil1!$4:$4,0)-1),$A21) -> 0 | H21: =COUNTIF(OFFSET(Tableau1[modele],,MATCH(TEXT(H$15,"jj/mm/aaaa"),Feuil1!$4:$4,0)-1),$A21) -> 0 | I21: =COUNTIF(OFFSET(Tableau1[modele],,MATCH(TEXT(I$15,"jj/mm/aaaa"),Feuil1!$4:$4,0)-1),$A21) -> 0 | L21: =HLOOKUP(L15,$B$26:$NC$33,7,FALSE) -> #N/A
A22: C | B22: carrosserie | C22: =COUNTIF(OFFSET(Tableau1[immatriculation],,MATCH(TEXT(C$15,"jj/mm/aaaa"),Feuil1!$4:$4,0)-1),$A22) -> 4 | D22: =COUNTIF(OFFSET(Tableau1[immatriculation],,MATCH(TEXT(D$15,"jj/mm/aaaa"),Feuil1!$4:$4,0)-1),$A22) -> 0 | E22: =COUNTIF(OFFSET(Tableau1[immatriculation],,MATCH(TEXT(E$15,"jj/mm/aaaa"),Feuil1!$4:$4,0)-1),$A22) -> 0 | F22: =COUNTIF(OFFSET(Tableau1[type],,MATCH(TEXT(F$15,"jj/mm/aaaa"),Feuil1!$4:$4,0)-1),$A22) -> 0 | G22: =COUNTIF(OFFSET(Tableau1[type],,MATCH(TEXT(G$15,"jj/mm/aaaa"),Feuil1!$4:$4,0)-1),$A22) -> 0 | H22: =COUNTIF(OFFSET(Tableau1[modele],,MATCH(TEXT(H$15,"jj/mm/aaaa"),Feuil1!$4:$4,0)-1),$A22) -> 0 | I22: =COUNTIF(OFFSET(Tableau1[modele],,MATCH(TEXT(I$15,"jj/mm/aaaa"),Feuil1!$4:$4,0)-1),$A22) -> 0 | L22: =HLOOKUP(L15,$B$26:$NC$33,8,FALSE) -> #N/A
B26: 43831 | C26: 43832 | D26: 43833 | E26: 43834 | F26: 43835 | G26: 43836 | H26: 43837 | I26: 43838 | J26: 43839 | K26: 43840 | L26: 43841 | M26: 43842 | N26: 43843 | O26: 43844 | P26: 43845 | Q26: 43846 | R26: 43847 | S26: 43848 | T26: 43849 | U26: 43850 | V26: 43851 | W26: 43852 | X26: 43853 | Y26: 43854 | Z26: 43855 | AA26: 43856 | AB26: 43857 | AC26: 43858 | AD26: 43859 | AE26: 43860 | AF26: 43861 | AG26: 43862 | AH26: 43863 | AI26: 43864 | AJ26: 43865 | AK26: 43866 | AL26: 43867 | AM26: 43868 | AN26: 43869 | AO26: 43870 | AP26: 43871 | AQ26: 43872 | AR26: 43873 | AS26: 43874 | AT26: 43875 | AU26: 43876 | AV26: 43877 | AW26: 43878 | AX26: 43879 | AY26: 43880 | AZ26: 43881 | BA26: 43882 | BB26: 43883 | BC26: 43884 | BD26: 43885 | BE26: 43886 | BF26: 43887 | BG26: 43888 | BH26: 43889 | BI26: 43890 | BJ26: 43891 | BK26: 43892 | BL26: 43893 | BM26: 43894 | BN26: 43895 | BO26: 43896 | BP26: 43897 | BQ26: 43898 | BR26: 43899 | BS26: 43900 | BT26: 43901 | BU26: 43902 | BV26: 43903 | BW26: 43904 | BX26: 43905 | BY26: 43906 | BZ26: 43907 | CA26: 43908 | CB26: 43909 | CC26: 43910 | CD26: 43911 | CE26: 43912 | CF26: 43913 | CG26: 43914 | CH26: 43915 | CI26: 43916 | CJ26: 43917 | CK26: 43918 | CL26: 43919 | CM26: 43920 | CN26: 43921 | CO26: 43922 | CP26: 43923 | CQ26: 43924 | CR26: 43925 | CS26: 43926 | CT26: 43927 | CU26: 43928 | CV26: 43929 | CW26: 43930 | CX26: 43931 | CY26: 43932 | CZ26: 43933 | DA26: 43934 | DB26: 43935 | DC26: 43936 | DD26: 43937 | DE26: 43938 | DF26: 43939 | DG26: 43940 | DH26: 43941 | DI26: 43942 | DJ26: 43943 | DK26: 43944 | DL26: 43945 | DM26: 43946 | DN26: 43947 | DO26: 43948 | DP26: 43949 | DQ26: 43950 | DR26: 43951 | DS26: 43952 | DT26: 43953 | DU26: 43954 | DV26: 43955 | DW26: 43956 | DX26: 43957 | DY26: 43958 | DZ26: 43959 | EA26: 43960 | EB26: 43961 | EC26: 43962 | ED26: 43963 | EE26: 43964 | EF26: 43965 | EG26: 43966 | EH26: 43967 | EI26: 43968 | EJ26: 43969 | EK26: 43970 | EL26: 43971 | EM26: 43972 | EN26: 43973 | EO26: 43974 | EP26: 43975 | EQ26: 43976 | ER26: 43977 | ES26: 43978 | ET26: 43979 | EU26: 43980 | EV26: 43981 | EW26: 43982 | EX26: 43983 | EY26: 43984 | EZ26: 43985 | FA26: 43986 | FB26: 43987 | FC26: 43988 | FD26: 43989 | FE26: 43990 | FF26: 43991 | FG26: 43992 | FH26: 43993 | FI26: 43994 | FJ26: 43995 | FK26: 43996 | FL26: 43997 | FM26: 43998 | FN26: 43999 | FO26: 44000 | FP26: 44001 | FQ26: 44002 | FR26: 44003 | FS26: 44004 | FT26: 44005 | FU26: 44006 | FV26: 44007 | FW26: 44008 | FX26: 44009 | FY26: 44010 | FZ26: 44011 | GA26: 44012 | GB26: 44013 | GC26: 44014 | GD26: 44015 | GE26: 44016 | GF26: 44017 | GG26: 44018 | GH26: 44019 | GI26: 44020 | GJ26: 44021 | GK26: 44022 | GL26: 44023 | GM26: 44024 | GN26: 44025 | GO26: 44026 | GP26: 44027 | GQ26: 44028 | GR26: 44029 | GS26: 44030 | GT26: 44031 | GU26: 44032 | GV26: 44033 | GW26: 44034 | GX26: 44035 | GY26: 44036 | GZ26: 44037 | HA26: 44038 | HB26: 44039 | HC26: 44040 | HD26: 44041 | HE26: 44042 | HF26: 44043 | HG26: 44044 | HH26: 44045 | HI26: 44046 | HJ26: 44047 | HK26: 44048 | HL26: 44049 | HM26: 44050 | HN26: 44051 | HO26: 44052 | HP26: 44053 | HQ26: 44054 | HR26: 44055 | HS26: 44056 | HT26: 44057 | HU26: 44058 | HV26: 44059 | HW26: 44060 | HX26: 44061 | HY26: 44062 | HZ26: 44063 | IA26: 44064 | IB26: 44065 | IC26: 44066 | ID26: 44067 | IE26: 44068 | IF26: 44069 | IG26: 44070 | IH26: 44071 | II26: 44072 | IJ26: 44073 | IK26: 44074 | IL26: 44075 | IM26: 44076 | IN26: 44077 | IO26: 44078 | IP26: 44079 | IQ26: 44080 | IR26: 44081 | IS26: 44082 | IT26: 44083 | IU26: 44084 | IV26: 44085 | IW26: 44086 | IX26: 44087 | IY26: 44088 | IZ26: 44089 | JA26: 44090 | JB26: 44091 | JC26: 44092 | JD26: 44093 | JE26: 44094 | JF26: 44095 | JG26: 44096 | JH26: 44097 | JI26: 44098 | JJ26: 44099 | JK26: 44100 | JL26: 44101 | JM26: 44102 | JN26: 44103 | JO26: 44104 | JP26: 44105 | JQ26: 44106 | JR26: 44107 | JS26: 44108 | JT26: 44109 | JU26: 44110 | JV26: 44111 | JW26: 44112 | JX26: 44113 | JY26: 44114 | JZ26: 44115 | KA26: 44116 | KB26: 44117 | KC26: 44118 | KD26: 44119 | KE26: 44120 | KF26: 44121 | KG26: 44122 | KH26: 44123 | KI26: 44124 | KJ26: 44125 | KK26: 44126 | KL26: 44127 | KM26: 44128 | KN26: 44129 | KO26: 44130 | KP26: 44131 | KQ26: 44132 | KR26: 44133 | KS26: 44134 | KT26: 44135 | KU26: 44136 | KV26: 44137 | KW26: 44138 | KX26: 44139 | KY26: 44140 | KZ26: 44141 | LA26: 44142 | LB26: 44143 | LC26: 44144 | LD26: 44145 | LE26: 44146 | LF26: 44147 | LG26: 44148 | LH26: 44149 | LI26: 44150 | LJ26: 44151 | LK26: 44152 | LL26: 44153 | LM26: 44154 | LN26: 44155 | LO26: 44156 | LP26: 44157 | LQ26: 44158 | LR26: 44159 | LS26: 44160 | LT26: 44161 | LU26: 44162 | LV26: 44163 | LW26: 44164 | LX26: 44165 | LY26: 44166 | LZ26: 44167 | MA26: 44168 | MB26: 44169 | MC26: 44170 | MD26: 44171 | ME26: 44172 | MF26: 44173 | MG26: 44174 | MH26: 44175 | MI26: 44176 | MJ26: 44177 | MK26: 44178 | ML26: 44179 | MM26: 44180 | MN26: 44181 | MO26: 44182 | MP26: 44183 | MQ26: 44184 | MR26: 44185 | MS26: 44186 | MT26: 44187 | MU26: 44188 | MV26: 44189 | MW26: 44190 | MX26: 44191 | MY26: 44192 | MZ26: 44193 | NA26: 44194 | NB26: 44195 | NC26: 44196
A27: R | B27: =COUNTIF(Tableau1[[#All],[01/01/2020]],$A27) -> 1 | C27: =COUNTIF(Tableau1[[#All],[02/01/2020]],$A27) -> 1 | D27: =COUNTIF(Tableau1[[#All],[02/01/2020]],$A27) -> 1 | E27: =COUNTIF(Tableau1[[#All],[03/01/2020]],$A27) -> 1 | F27: =COUNTIF(Tableau1[[#All],[03/01/2020]],$A27) -> 1 | G27: =COUNTIF(Tableau1[[#All],[04/01/2020]],$A27) -> 0 | H27: =COUNTIF(Tableau1[[#All],[04/01/2020]],$A27) -> 0 | I27: =COUNTIF(Tableau1[[#All],[05/01/2020]],$A27) -> 0 | J27: =COUNTIF(Tableau1[[#All],[05/01/2020]],$A27) -> 0 | K27: =COUNTIF(Tableau1[[#All],[06/01/2020]],$A27) -> 0 | L27: =COUNTIF(Tableau1[[#All],[06/01/2020]],$A27) -> 0 | M27: =COUNTIF(Tableau1[[#All],[07/01/2020]],$A27) -> 0 | N27: =COUNTIF(Tableau1[[#All],[07/01/2020]],$A27) -> 0 | O27: =COUNTIF(Tableau1[[#All],[08/01/2020]],$A27) -> 0 | P27: =COUNTIF(Tableau1[[#All],[08/01/2020]],$A27) -> 0 | Q27: =COUNTIF(Tableau1[[#All],[09/01/2020]],$A27) -> 0 | R27: =COUNTIF(Tableau1[[#All],[09/01/2020]],$A27) -> 0 | S27: =COUNTIF(Tableau1[[#All],[10/01/2020]],$A27) -> 0 | T27: =COUNTIF(Tableau1[[#All],[10/01/2020]],$A27) -> 0 | U27: =COUNTIF(Tableau1[[#All],[11/01/2020]],$A27) -> 0 | V27: =COUNTIF(Tableau1[[#All],[11/01/2020]],$A27) -> 0 | W27: =COUNTIF(Tableau1[[#All],[12/01/2020]],$A27) -> 0 | X27: =COUNTIF(Tableau1[[#All],[12/01/2020]],$A27) -> 0 | Y27: =COUNTIF(Tableau1[[#All],[13/01/2020]],$A27) -> 0 | Z27: =COUNTIF(Tableau1[[#All],[13/01/2020]],$A27) -> 0 | AA27: =COUNTIF(Tableau1[[#All],[14/01/2020]],$A27) -> 0 | AB27: =COUNTIF(Tableau1[[#All],[14/01/2020]],$A27) -> 0 | AC27: =COUNTIF(Tableau1[[#All],[15/01/2020]],$A27) -> 0 | AD27: =COUNTIF(Tableau1[[#All],[15/01/2020]],$A27) -> 0 | AE27: =COUNTIF(Tableau1[[#All],[16/01/2020]],$A27) -> 0 | AF27: =COUNTIF(Tableau1[[#All],[16/01/2020]],$A27) -> 0 | AG27: =COUNTIF(Tableau1[[#All],[17/01/2020]],$A27) -> 0 | AH27: =COUNTIF(Tableau1[[#All],[17/01/2020]],$A27) -> 0 | AI27: =COUNTIF(Tableau1[[#All],[18/01/2020]],$A27) -> 0 | AJ27: =COUNTIF(Tableau1[[#All],[18/01/2020]],$A27) -> 0 | AK27: =COUNTIF(Tableau1[[#All],[19/01/2020]],$A27) -> 0 | AL27: =COUNTIF(Tableau1[[#All],[19/01/2020]],$A27) -> 0 | AM27: =COUNTIF(Tableau1[[#All],[20/01/2020]],$A27) -> 0 | AN27: =COUNTIF(Tableau1[[#All],[20/01/2020]],$A27) -> 0 | AO27: =COUNTIF(Tableau1[[#All],[21/01/2020]],$A27) -> 0 | AP27: =COUNTIF(Tableau1[[#All],[21/01/2020]],$A27) -> 0 | AQ27: =COUNTIF(Tableau1[[#All],[22/01/2020]],$A27) -> 0 | AR27: =COUNTIF(Tableau1[[#All],[22/01/2020]],$A27) -> 0 | AS27: =COUNTIF(Tableau1[[#All],[23/01/2020]],$A27) -> 0 | AT27: =COUNTIF(Tableau1[[#All],[23/01/2020]],$A27) -> 0 | AU27: =COUNTIF(Tableau1[[#All],[24/01/2020]],$A27) -> 0 | AV27: =COUNTIF(Tableau1[[#All],[24/01/2020]],$A27) -> 0 | AW27: =COUNTIF(Tableau1[[#All],[25/01/2020]],$A27) -> 0 | AX27: =COUNTIF(Tableau1[[#All],[25/01/2020]],$A27) -> 0 | AY27: =COUNTIF(Tableau1[[#All],[26/01/2020]],$A27) -> 0 | AZ27: =COUNTIF(Tableau1[[#All],[26/01/2020]],$A27) -> 0 | BA27: =COUNTIF(Tableau1[[#All],[27/01/2020]],$A27) -> 0 | BB27: =COUNTIF(Tableau1[[#All],[27/01/2020]],$A27) -> 0 | BC27: =COUNTIF(Tableau1[[#All],[28/01/2020]],$A27) -> 0 | BD27: =COUNTIF(Tableau1[[#All],[28/01/2020]],$A27) -> 0 | BE27: =COUNTIF(Tableau1[[#All],[29/01/2020]],$A27) -> 0 | BF27: =COUNTIF(Tableau1[[#All],[29/01/2020]],$A27) -> 0 | BG27: =COUNTIF(Tableau1[[#All],[30/01/2020]],$A27) -> 0 | BH27: =COUNTIF(Tableau1[[#All],[30/01/2020]],$A27) -> 0 | BI27: =COUNTIF(Tableau1[[#All],[31/01/2020]],$A27) -> 0 | BJ27: =COUNTIF(Tableau1[[#All],[31/01/2020]],$A27) -> 0 | BK27: =COUNTIF(Tableau1[[#All],[01/02/2020]],$A27) -> 0 | BL27: =COUNTIF(Tableau1[[#All],[01/02/2020]],$A27) -> 0 | BM27: =COUNTIF(Tableau1[[#All],[02/02/2020]],$A27) -> 0 | BN27: =COUNTIF(Tableau1[[#All],[02/02/2020]],$A27) -> 0 | BO27: =COUNTIF(Tableau1[[#All],[03/02/2020]],$A27) -> 0 | BP27: =COUNTIF(Tableau1[[#All],[03/02/2020]],$A27) -> 0 | BQ27: =COUNTIF(Tableau1[[#All],[04/02/2020]],$A27) -> 0 | BR27: =COUNTIF(Tableau1[[#All],[04/02/2020]],$A27) -> 0 | BS27: =COUNTIF(Tableau1[[#All],[05/02/2020]],$A27) -> 0 | BT27: =COUNTIF(Tableau1[[#All],[05/02/2020]],$A27) -> 0 | BU27: =COUNTIF(Tableau1[[#All],[06/02/2020]],$A27) -> 0 | BV27: =COUNTIF(Tableau1[[#All],[06/02/2020]],$A27) -> 0 | BW27: =COUNTIF(Tableau1[[#All],[07/02/2020]],$A27) -> 0 | BX27: =COUNTIF(Tableau1[[#All],[07/02/2020]],$A27) -> 0 | BY27: =COUNTIF(Tableau1[[#All],[08/02/2020]],$A27) -> 0 | BZ27: =COUNTIF(Tableau1[[#All],[08/02/2020]],$A27) -> 0 | CA27: =COUNTIF(Tableau1[[#All],[09/02/2020]],$A27) -> 0 | CB27: =COUNTIF(Tableau1[[#All],[09/02/2020]],$A27) -> 0 | CC27: =COUNTIF(Tableau1[[#All],[10/02/2020]],$A27) -> 0 | CD27: =COUNTIF(Tableau1[[#All],[10/02/2020]],$A27) -> 0 | CE27: =COUNTIF(Tableau1[[#All],[11/02/2020]],$A27) -> 0 | CF27: =COUNTIF(Tableau1[[#All],[11/02/2020]],$A27) -> 0 | CG27: =COUNTIF(Tableau1[[#All],[12/02/2020]],$A27) -> 0 | CH27: =COUNTIF(Tableau1[[#All],[12/02/2020]],$A27) -> 0 | CI27: =COUNTIF(Tableau1[[#All],[13/02/2020]],$A27) -> 0 | CJ27: =COUNTIF(Tableau1[[#All],[13/02/2020]],$A27) -> 0 | CK27: =COUNTIF(Tableau1[[#All],[14/02/2020]],$A27) -> 0 | CL27: =COUNTIF(Tableau1[[#All],[14/02/2020]],$A27) -> 0 | CM27: =COUNTIF(Tableau1[[#All],[15/02/2020]],$A27) -> 0 | CN27: =COUNTIF(Tableau1[[#All],[15/02/2020]],$A27) -> 0 | CO27: =COUNTIF(Tableau1[[#All],[16/02/2020]],$A27) -> 0 | CP27: =COUNTIF(Tableau1[[#All],[16/02/2020]],$A27) -> 0 | CQ27: =COUNTIF(Tableau1[[#All],[17/02/2020]],$A27) -> 0 | CR27: =COUNTIF(Tableau1[[#All],[17/02/2020]],$A27) -> 0 | CS27: =COUNTIF(Tableau1[[#All],[18/02/2020]],$A27) -> 0 | CT27: =COUNTIF(Tableau1[[#All],[18/02/2020]],$A27) -> 0 | CU27: =COUNTIF(Tableau1[[#All],[19/02/2020]],$A27) -> 0 | CV27: =COUNTIF(Tableau1[[#All],[19/02/2020]],$A27) -> 0 | CW27: =COUNTIF(Tableau1[[#All],[20/02/2020]],$A27) -> 0 | CX27: =COUNTIF(Tableau1[[#All],[20/02/2020]],$A27) -> 0 | CY27: =COUNTIF(Tableau1[[#All],[21/02/2020]],$A27) -> 0 | CZ27: =COUNTIF(Tableau1[[#All],[21/02/2020]],$A27) -> 0 | DA27: =COUNTIF(Tableau1[[#All],[22/02/2020]],$A27) -> 0 | DB27: =COUNTIF(Tableau1[[#All],[22/02/2020]],$A27) -> 0 | DC27: =COUNTIF(Tableau1[[#All],[23/02/2020]],$A27) -> 0 | DD27: =COUNTIF(Tableau1[[#All],[23/02/2020]],$A27) -> 0 | DE27: =COUNTIF(Tableau1[[#All],[24/02/2020]],$A27) -> 0 | DF27: =COUNTIF(Tableau1[[#All],[24/02/2020]],$A27) -> 0 | DG27: =COUNTIF(Tableau1[[#All],[25/02/2020]],$A27) -> 0 | DH27: =COUNTIF(Tableau1[[#All],[25/02/2020]],$A27) -> 0 | DI27: =COUNTIF(Tableau1[[#All],[26/02/2020]],$A27) -> 0 | DJ27: =COUNTIF(Tableau1[[#All],[26/02/2020]],$A27) -> 0 | DK27: =COUNTIF(Tableau1[[#All],[27/02/2020]],$A27) -> 0 | DL27: =COUNTIF(Tableau1[[#All],[27/02/2020]],$A27) -> 0 | DM27: =COUNTIF(Tableau1[[#All],[28/02/2020]],$A27) -> 0 | DN27: =COUNTIF(Tableau1[[#All],[28/02/2020]],$A27) -> 0 | DO27: =COUNTIF(Tableau1[[#All],[29/02/2020]],$A27) -> 0 | DP27: =COUNTIF(Tableau1[[#All],[29/02/2020]],$A27) -> 0 | DQ27: =COUNTIF(Tableau1[[#All],[01/03/2020]],$A27) -> 0 | DR27: =COUNTIF(Tableau1[[#All],[01/03/2020]],$A27) -> 0 | DS27: =COUNTIF(Tableau1[[#All],[02/03/2020]],$A27) -> 0 | DT27: =COUNTIF(Tableau1[[#All],[02/03/2020]],$A27) -> 0 | DU27: =COUNTIF(Tableau1[[#All],[03/03/2020]],$A27) -> 0 | DV27: =COUNTIF(Tableau1[[#All],[03/03/2020]],$A27) -> 0 | DW27: =COUNTIF(Tableau1[[#All],[04/03/2020]],$A27) -> 0 | DX27: =COUNTIF(Tableau1[[#All],[04/03/2020]],$A27) -> 0 | DY27: =COUNTIF(Tableau1[[#All],[05/03/2020]],$A27) -> 0 | DZ27: =COUNTIF(Tableau1[[#All],[05/03/2020]],$A27) -> 0 | EA27: =COUNTIF(Tableau1[[#All],[06/03/2020]],$A27) -> 0 | EB27: =COUNTIF(Tableau1[[#All],[06/03/2020]],$A27) -> 0 | EC27: =COUNTIF(Tableau1[[#All],[07/03/2020]],$A27) -> 0 | ED27: =COUNTIF(Tableau1[[#All],[07/03/2020]],$A27) -> 0 | EE27: =COUNTIF(Tableau1[[#All],[08/03/2020]],$A27) -> 0 | EF27: =COUNTIF(Tableau1[[#All],[08/03/2020]],$A27) -> 0 | EG27: =COUNTIF(Tableau1[[#All],[09/03/2020]],$A27) -> 0 | EH27: =COUNTIF(Tableau1[[#All],[09/03/2020]],$A27) -> 0 | EI27: =COUNTIF(Tableau1[[#All],[10/03/2020]],$A27) -> 0 | EJ27: =COUNTIF(Tableau1[[#All],[10/03/2020]],$A27) -> 0 | EK27: =COUNTIF(Tableau1[[#All],[11/03/2020]],$A27) -> 0 | EL27: =COUNTIF(Tableau1[[#All],[11/03/2020]],$A27) -> 0 | EM27: =COUNTIF(Tableau1[[#All],[12/03/2020]],$A27) -> 0 | EN27: =COUNTIF(Tableau1[[#All],[12/03/2020]],$A27) -> 0 | EO27: =COUNTIF(Tableau1[[#All],[13/03/2020]],$A27) -> 0 | EP27: =COUNTIF(Tableau1[[#All],[13/03/2020]],$A27) -> 0 | EQ27: =COUNTIF(Tableau1[[#All],[14/03/2020]],$A27) -> 0 | ER27: =COUNTIF(Tableau1[[#All],[14/03/2020]],$A27) -> 0 | ES27: =COUNTIF(Tableau1[[#All],[15/03/2020]],$A27) -> 0 | ET27: =COUNTIF(Tableau1[[#All],[15/03/2020]],$A27) -> 0 | EU27: =COUNTIF(Tableau1[[#All],[16/03/2020]],$A27) -> 0 | EV27: =COUNTIF(Tableau1[[#All],[16/03/2020]],$A27) -> 0 | EW27: =COUNTIF(Tableau1[[#All],[17/03/2020]],$A27) -> 0 | EX27: =COUNTIF(Tableau1[[#All],[17/03/2020]],$A27) -> 0 | EY27: =COUNTIF(Tableau1[[#All],[18/03/2020]],$A27) -> 0 | EZ27: =COUNTIF(Tableau1[[#All],[18/03/2020]],$A27) -> 0 | FA27: =COUNTIF(Tableau1[[#All],[19/03/2020]],$A27) -> 0 | FB27: =COUNTIF(Tableau1[[#All],[19/03/2020]],$A27) -> 0 | FC27: =COUNTIF(Tableau1[[#All],[20/03/2020]],$A27) -> 0 | FD27: =COUNTIF(Tableau1[[#All],[20/03/2020]],$A27) -> 0 | FE27: =COUNTIF(Tableau1[[#All],[21/03/2020]],$A27) -> 0 | FF27: =COUNTIF(Tableau1[[#All],[21/03/2020]],$A27) -> 0 | FG27: =COUNTIF(Tableau1[[#All],[22/03/2020]],$A27) -> 0 | FH27: =COUNTIF(Tableau1[[#All],[22/03/2020]],$A27) -> 0 | FI27: =COUNTIF(Tableau1[[#All],[23/03/2020]],$A27) -> 0 | FJ27: =COUNTIF(Tableau1[[#All],[23/03/2020]],$A27) -> 0 | FK27: =COUNTIF(Tableau1[[#All],[24/03/2020]],$A27) -> 0 | FL27: =COUNTIF(Tableau1[[#All],[24/03/2020]],$A27) -> 0 | FM27: =COUNTIF(Tableau1[[#All],[25/03/2020]],$A27) -> 0 | FN27: =COUNTIF(Tableau1[[#All],[25/03/2020]],$A27) -> 0 | FO27: =COUNTIF(Tableau1[[#All],[26/03/2020]],$A27) -> 0 | FP27: =COUNTIF(Tableau1[[#All],[26/03/2020]],$A27) -> 0 | FQ27: =COUNTIF(Tableau1[[#All],[27/03/2020]],$A27) -> 0 | FR27: =COUNTIF(Tableau1[[#All],[27/03/2020]],$A27) -> 0 | FS27: =COUNTIF(Tableau1[[#All],[28/03/2020]],$A27) -> 0 | FT27: =COUNTIF(Tableau1[[#All],[28/03/2020]],$A27) -> 0 | FU27: =COUNTIF(Tableau1[[#All],[29/03/2020]],$A27) -> 0 | FV27: =COUNTIF(Tableau1[[#All],[29/03/2020]],$A27) -> 0 | FW27: =COUNTIF(Tableau1[[#All],[30/03/2020]],$A27) -> 0 | FX27: =COUNTIF(Tableau1[[#All],[30/03/2020]],$A27) -> 0 | FY27: =COUNTIF(Tableau1[[#All],[31/03/2020]],$A27) -> 0 | FZ27: =COUNTIF(Tableau1[[#All],[31/03/2020]],$A27) -> 0 | GA27: =COUNTIF(Tableau1[[#All],[01/04/2020]],$A27) -> 0 | GB27: =COUNTIF(Tableau1[[#All],[01/04/2020]],$A27) -> 0 | GC27: =COUNTIF(Tableau1[[#All],[02/04/2020]],$A27) -> 0 | GD27: =COUNTIF(Tableau1[[#All],[02/04/2020]],$A27) -> 0 | GE27: =COUNTIF(Tableau1[[#All],[03/04/2020]],$A27) -> 0 | GF27: =COUNTIF(Tableau1[[#All],[03/04/2020]],$A27) -> 0 | GG27: =COUNTIF(Tableau1[[#All],[04/04/2020]],$A27) -> 0 | GH27: =COUNTIF(Tableau1[[#All],[04/04/2020]],$A27) -> 0 | GI27: =COUNTIF(Tableau1[[#All],[05/04/2020]],$A27) -> 0 | GJ27: =COUNTIF(Tableau1[[#All],[05/04/2020]],$A27) -> 0 | GK27: =COUNTIF(Tableau1[[#All],[06/04/2020]],$A27) -> 0 | GL27: =COUNTIF(Tableau1[[#All],[06/04/2020]],$A27) -> 0 | GM27: =COUNTIF(Tableau1[[#All],[07/04/2020]],$A27) -> 0 | GN27: =COUNTIF(Tableau1[[#All],[07/04/2020]],$A27) -> 0 | GO27: =COUNTIF(Tableau1[[#All],[08/04/2020]],$A27) -> 0 | GP27: =COUNTIF(Tableau1[[#All],[08/04/2020]],$A27) -> 0 | GQ27: =COUNTIF(Tableau1[[#All],[09/04/2020]],$A27) -> 0 | GR27: =COUNTIF(Tableau1[[#All],[09/04/2020]],$A27) -> 0 | GS27: =COUNTIF(Tableau1[[#All],[10/04/2020]],$A27) -> 0 | GT27: =COUNTIF(Tableau1[[#All],[10/04/2020]],$A27) -> 0 | GU27: =COUNTIF(Tableau1[[#All],[11/04/2020]],$A27) -> 0 | GV27: =COUNTIF(Tableau1[[#All],[11/04/2020]],$A27) -> 0 | GW27: =COUNTIF(Tableau1[[#All],[12/04/2020]],$A27) -> 0 | GX27: =COUNTIF(Tableau1[[#All],[12/04/2020]],$A27) -> 0 | GY27: =COUNTIF(Tableau1[[#All],[13/04/2020]],$A27) -> 0 | GZ27: =COUNTIF(Tableau1[[#All],[13/04/2020]],$A27) -> 0 | HA27: =COUNTIF(Tableau1[[#All],[14/04/2020]],$A27) -> 0 | HB27: =COUNTIF(Tableau1[[#All],[14/04/2020]],$A27) -> 0 | HC27: =COUNTIF(Tableau1[[#All],[15/04/2020]],$A27) -> 0 | HD27: =COUNTIF(Tableau1[[#All],[15/04/2020]],$A27) -> 0 | HE27: =COUNTIF(Tableau1[[#All],[16/04/2020]],$A27) -> 0 | HF27: =COUNTIF(Tableau1[[#All],[16/04/2020]],$A27) -> 0 | HG27: =COUNTIF(Tableau1[[#All],[17/04/2020]],$A27) -> 0 | HH27: =COUNTIF(Tableau1[[#All],[17/04/2020]],$A27) -> 0 | HI27: =COUNTIF(Tableau1[[#All],[18/04/2020]],$A27) -> 0 | HJ27: =COUNTIF(Tableau1[[#All],[18/04/2020]],$A27) -> 0 | HK27: =COUNTIF(Tableau1[[#All],[19/04/2020]],$A27) -> 0 | HL27: =COUNTIF(Tableau1[[#All],[19/04/2020]],$A27) -> 0 | HM27: =COUNTIF(Tableau1[[#All],[20/04/2020]],$A27) -> 0 | HN27: =COUNTIF(Tableau1[[#All],[20/04/2020]],$A27) -> 0 | HO27: =COUNTIF(Tableau1[[#All],[21/04/2020]],$A27) -> 0 | HP27: =COUNTIF(Tableau1[[#All],[21/04/2020]],$A27) -> 0 | HQ27: =COUNTIF(Tableau1[[#All],[22/04/2020]],$A27) -> 0 | HR27: =COUNTIF(Tableau1[[#All],[22/04/2020]],$A27) -> 0 | HS27: =COUNTIF(Tableau1[[#All],[23/04/2020]],$A27) -> 0 | HT27: =COUNTIF(Tableau1[[#All],[23/04/2020]],$A27) -> 0 | HU27: =COUNTIF(Tableau1[[#All],[24/04/2020]],$A27) -> 0 | HV27: =COUNTIF(Tableau1[[#All],[24/04/2020]],$A27) -> 0 | HW27: =COUNTIF(Tableau1[[#All],[25/04/2020]],$A27) -> 0 | HX27: =COUNTIF(Tableau1[[#All],[25/04/2020]],$A27) -> 0 | HY27: =COUNTIF(Tableau1[[#All],[26/04/2020]],$A27) -> 0 | HZ27: =COUNTIF(Tableau1[[#All],[26/04/2020]],$A27) -> 0 | IA27: =COUNTIF(Tableau1[[#All],[27/04/2020]],$A27) -> 0 | IB27: =COUNTIF(Tableau1[[#All],[27/04/2020]],$A27) -> 0 | IC27: =COUNTIF(Tableau1[[#All],[28/04/2020]],$A27) -> 0 | ID27: =COUNTIF(Tableau1[[#All],[28/04/2020]],$A27) -> 0 | IE27: =COUNTIF(Tableau1[[#All],[29/04/2020]],$A27) -> 0 | IF27: =COUNTIF(Tableau1[[#All],[29/04/2020]],$A27) -> 0 | IG27: =COUNTIF(Tableau1[[#All],[30/04/2020]],$A27) -> 0 | IH27: =COUNTIF(Tableau1[[#All],[30/04/2020]],$A27) -> 0 | II27: =COUNTIF(Tableau1[[#All],[01/05/2020]],$A27) -> 0 | IJ27: =COUNTIF(Tableau1[[#All],[01/05/2020]],$A27) -> 0 | IK27: =COUNTIF(Tableau1[[#All],[02/05/2020]],$A27) -> 0 | IL27: =COUNTIF(Tableau1[[#All],[02/05/2020]],$A27) -> 0 | IM27: =COUNTIF(Tableau1[[#All],[03/05/2020]],$A27) -> 0 | IN27: =COUNTIF(Tableau1[[#All],[03/05/2020]],$A27) -> 0 | IO27: =COUNTIF(Tableau1[[#All],[04/05/2020]],$A27) -> 0 | IP27: =COUNTIF(Tableau1[[#All],[04/05/2020]],$A27) -> 0 | IQ27: =COUNTIF(Tableau1[[#All],[05/05/2020]],$A27) -> 0 | IR27: =COUNTIF(Tableau1[[#All],[05/05/2020]],$A27) -> 0 | IS27: =COUNTIF(Tableau1[[#All],[06/05/2020]],$A27) -> 0 | IT27: =COUNTIF(Tableau1[[#All],[06/05/2020]],$A27) -> 0 | IU27: =COUNTIF(Tableau1[[#All],[07/05/2020]],$A27) -> 0 | IV27: =COUNTIF(Tableau1[[#All],[07/05/2020]],$A27) -> 0 | IW27: =COUNTIF(Tableau1[[#All],[08/05/2020]],$A27) -> 0 | IX27: =COUNTIF(Tableau1[[#All],[08/05/2020]],$A27) -> 0 | IY27: =COUNTIF(Tableau1[[#All],[09/05/2020]],$A27) -> 0 | IZ27: =COUNTIF(Tableau1[[#All],[09/05/2020]],$A27) -> 0 | JA27: =COUNTIF(Tableau1[[#All],[10/05/2020]],$A27) -> 0 | JB27: =COUNTIF(Tableau1[[#All],[10/05/2020]],$A27) -> 0 | JC27: =COUNTIF(Tableau1[[#All],[11/05/2020]],$A27) -> 0 | JD27: =COUNTIF(Tableau1[[#All],[11/05/2020]],$A27) -> 0 | JE27: =COUNTIF(Tableau1[[#All],[12/05/2020]],$A27) -> 0 | JF27: =COUNTIF(Tableau1[[#All],[12/05/2020]],$A27) -> 0 | JG27: =COUNTIF(Tableau1[[#All],[13/05/2020]],$A27) -> 0 | JH27: =COUNTIF(Tableau1[[#All],[13/05/2020]],$A27) -> 0 | JI27: =COUNTIF(Tableau1[[#All],[14/05/2020]],$A27) -> 0 | JJ27: =COUNTIF(Tableau1[[#All],[14/05/2020]],$A27) -> 0 | JK27: =COUNTIF(Tableau1[[#All],[15/05/2020]],$A27) -> 0 | JL27: =COUNTIF(Tableau1[[#All],[15/05/2020]],$A27) -> 0 | JM27: =COUNTIF(Tableau1[[#All],[16/05/2020]],$A27) -> 0 | JN27: =COUNTIF(Tableau1[[#All],[16/05/2020]],$A27) -> 0 | JO27: =COUNTIF(Tableau1[[#All],[17/05/2020]],$A27) -> 0 | JP27: =COUNTIF(Tableau1[[#All],[17/05/2020]],$A27) -> 0 | JQ27: =COUNTIF(Tableau1[[#All],[18/05/2020]],$A27) -> 0 | JR27: =COUNTIF(Tableau1[[#All],[18/05/2020]],$A27) -> 0 | JS27: =COUNTIF(Tableau1[[#All],[19/05/2020]],$A27) -> 0 | JT27: =COUNTIF(Tableau1[[#All],[19/05/2020]],$A27) -> 0 | JU27: =COUNTIF(Tableau1[[#All],[20/05/2020]],$A27) -> 0 | JV27: =COUNTIF(Tableau1[[#All],[20/05/2020]],$A27) -> 0 | JW27: =COUNTIF(Tableau1[[#All],[21/05/2020]],$A27) -> 0 | JX27: =COUNTIF(Tableau1[[#All],[21/05/2020]],$A27) -> 0 | JY27: =COUNTIF(Tableau1[[#All],[22/05/2020]],$A27) -> 0 | JZ27: =COUNTIF(Tableau1[[#All],[22/05/2020]],$A27) -> 0 | KA27: =COUNTIF(Tableau1[[#All],[23/05/2020]],$A27) -> 0 | KB27: =COUNTIF(Tableau1[[#All],[23/05/2020]],$A27) -> 0 | KC27: =COUNTIF(Tableau1[[#All],[24/05/2020]],$A27) -> 0 | KD27: =COUNTIF(Tableau1[[#All],[24/05/2020]],$A27) -> 0 | KE27: =COUNTIF(Tableau1[[#All],[25/05/2020]],$A27) -> 0 | KF27: =COUNTIF(Tableau1[[#All],[25/05/2020]],$A27) -> 0 | KG27: =COUNTIF(Tableau1[[#All],[26/05/2020]],$A27) -> 0 | KH27: =COUNTIF(Tableau1[[#All],[26/05/2020]],$A27) -> 0 | KI27: =COUNTIF(Tableau1[[#All],[27/05/2020]],$A27) -> 0 | KJ27: =COUNTIF(Tableau1[[#All],[27/05/2020]],$A27) -> 0 | KK27: =COUNTIF(Tableau1[[#All],[28/05/2020]],$A27) -> 0 | KL27: =COUNTIF(Tableau1[[#All],[28/05/2020]],$A27) -> 0 | KM27: =COUNTIF(Tableau1[[#All],[29/05/2020]],$A27) -> 0 | KN27: =COUNTIF(Tableau1[[#All],[29/05/2020]],$A27) -> 0 | KO27: =COUNTIF(Tableau1[[#All],[30/05/2020]],$A27) -> 0 | KP27: =COUNTIF(Tableau1[[#All],[30/05/2020]],$A27) -> 0 | KQ27: =COUNTIF(Tableau1[[#All],[31/05/2020]],$A27) -> 0 | KR27: =COUNTIF(Tableau1[[#All],[31/05/2020]],$A27) -> 0 | KS27: =COUNTIF(Tableau1[[#All],[01/06/2020]],$A27) -> 0 | KT27: =COUNTIF(Tableau1[[#All],[01/06/2020]],$A27) -> 0 | KU27: =COUNTIF(Tableau1[[#All],[02/06/2020]],$A27) -> 0 | KV27: =COUNTIF(Tableau1[[#All],[02/06/2020]],$A27) -> 0 | KW27: =COUNTIF(Tableau1[[#All],[03/06/2020]],$A27) -> 0 | KX27: =COUNTIF(Tableau1[[#All],[03/06/2020]],$A27) -> 0 | KY27: =COUNTIF(Tableau1[[#All],[04/06/2020]],$A27) -> 0 | KZ27: =COUNTIF(Tableau1[[#All],[04/06/2020]],$A27) -> 0 | LA27: =COUNTIF(Tableau1[[#All],[05/06/2020]],$A27) -> 0 | LB27: =COUNTIF(Tableau1[[#All],[05/06/2020]],$A27) -> 0 | LC27: =COUNTIF(Tableau1[[#All],[06/06/2020]],$A27) -> 0 | LD27: =COUNTIF(Tableau1[[#All],[06/06/2020]],$A27) -> 0 | LE27: =COUNTIF(Tableau1[[#All],[07/06/2020]],$A27) -> 0 | LF27: =COUNTIF(Tableau1[[#All],[07/06/2020]],$A27) -> 0 | LG27: =COUNTIF(Tableau1[[#All],[08/06/2020]],$A27) -> 0 | LH27: =COUNTIF(Tableau1[[#All],[08/06/2020]],$A27) -> 0 | LI27: =COUNTIF(Tableau1[[#All],[09/06/2020]],$A27) -> 0 | LJ27: =COUNTIF(Tableau1[[#All],[09/06/2020]],$A27) -> 0 | LK27: =COUNTIF(Tableau1[[#All],[10/06/2020]],$A27) -> 0 | LL27: =COUNTIF(Tableau1[[#All],[10/06/2020]],$A27) -> 0 | LM27: =COUNTIF(Tableau1[[#All],[11/06/2020]],$A27) -> 0 | LN27: =COUNTIF(Tableau1[[#All],[11/06/2020]],$A27) -> 0 | LO27: =COUNTIF(Tableau1[[#All],[12/06/2020]],$A27) -> 0 | LP27: =COUNTIF(Tableau1[[#All],[12/06/2020]],$A27) -> 0 | LQ27: =COUNTIF(Tableau1[[#All],[13/06/2020]],$A27) -> 0 | LR27: =COUNTIF(Tableau1[[#All],[13/06/2020]],$A27) -> 0 | LS27: =COUNTIF(Tableau1[[#All],[14/06/2020]],$A27) -> 0 | LT27: =COUNTIF(Tableau1[[#All],[14/06/2020]],$A27) -> 0 | LU27: =COUNTIF(Tableau1[[#All],[15/06/2020]],$A27) -> 0 | LV27: =COUNTIF(Tableau1[[#All],[15/06/2020]],$A27) -> 0 | LW27: =COUNTIF(Tableau1[[#All],[16/06/2020]],$A27) -> 0 | LX27: =COUNTIF(Tableau1[[#All],[16/06/2020]],$A27) -> 0 | LY27: =COUNTIF(Tableau1[[#All],[17/06/2020]],$A27) -> 0 | LZ27: =COUNTIF(Tableau1[[#All],[17/06/2020]],$A27) -> 0 | MA27: =COUNTIF(Tableau1[[#All],[18/06/2020]],$A27) -> 0 | MB27: =COUNTIF(Tableau1[[#All],[18/06/2020]],$A27) -> 0 | MC27: =COUNTIF(Tableau1[[#All],[19/06/2020]],$A27) -> 0 | MD27: =COUNTIF(Tableau1[[#All],[19/06/2020]],$A27) -> 0 | ME27: =COUNTIF(Tableau1[[#All],[20/06/2020]],$A27) -> 0 | MF27: =COUNTIF(Tableau1[[#All],[20/06/2020]],$A27) -> 0 | MG27: =COUNTIF(Tableau1[[#All],[21/06/2020]],$A27) -> 0 | MH27: =COUNTIF(Tableau1[[#All],[21/06/2020]],$A27) -> 0 | MI27: =COUNTIF(Tableau1[[#All],[22/06/2020]],$A27) -> 0 | MJ27: =COUNTIF(Tableau1[[#All],[22/06/2020]],$A27) -> 0 | MK27: =COUNTIF(Tableau1[[#All],[23/06/2020]],$A27) -> 0 | ML27: =COUNTIF(Tableau1[[#All],[23/06/2020]],$A27) -> 0 | MM27: =COUNTIF(Tableau1[[#All],[24/06/2020]],$A27) -> 0 | MN27: =COUNTIF(Tableau1[[#All],[24/06/2020]],$A27) -> 0 | MO27: =COUNTIF(Tableau1[[#All],[25/06/2020]],$A27) -> 0 | MP27: =COUNTIF(Tableau1[[#All],[25/06/2020]],$A27) -> 0 | MQ27: =COUNTIF(Tableau1[[#All],[26/06/2020]],$A27) -> 0 | MR27: =COUNTIF(Tableau1[[#All],[26/06/2020]],$A27) -> 0 | MS27: =COUNTIF(Tableau1[[#All],[27/06/2020]],$A27) -> 0 | MT27: =COUNTIF(Tableau1[[#All],[27/06/2020]],$A27) -> 0 | MU27: =COUNTIF(Tableau1[[#All],[28/06/2020]],$A27) -> 0 | MV27: =COUNTIF(Tableau1[[#All],[28/06/2020]],$A27) -> 0 | MW27: =COUNTIF(Tableau1[[#All],[29/06/2020]],$A27) -> 0 | MX27: =COUNTIF(Tableau1[[#All],[29/06/2020]],$A27) -> 0 | MY27: =COUNTIF(Tableau1[[#All],[30/06/2020]],$A27) -> 0 | MZ27: =COUNTIF(Tableau1[[#All],[30/06/2020]],$A27) -> 0 | NA27: =COUNTIF(Tableau1[[#All],[01/07/2020]],$A27) -> 0 | NB27: =COUNTIF(Tableau1[[#All],[01/07/2020]],$A27) -> 0 | NC27: =COUNTIF(Tableau1[[#All],[02/07/2020]],$A27) -> 0
A28: P | B28: =COUNTIF(Tableau1[[#All],[01/01/2020]],$A28) -> 0 | C28: =COUNTIF(Tableau1[[#All],[02/01/2020]],$A28) -> 0 | D28: =COUNTIF(Tableau1[[#All],[02/01/2020]],$A28) -> 0 | E28: =COUNTIF(Tableau1[[#All],[03/01/2020]],$A28) -> 0 | F28: =COUNTIF(Tableau1[[#All],[03/01/2020]],$A28) -> 0 | G28: =COUNTIF(Tableau1[[#All],[04/01/2020]],$A28) -> 0 | H28: =COUNTIF(Tableau1[[#All],[04/01/2020]],$A28) -> 0 | I28: =COUNTIF(Tableau1[[#All],[05/01/2020]],$A28) -> 0 | J28: =COUNTIF(Tableau1[[#All],[05/01/2020]],$A28) -> 0 | K28: =COUNTIF(Tableau1[[#All],[06/01/2020]],$A28) -> 0 | L28: =COUNTIF(Tableau1[[#All],[06/01/2020]],$A28) -> 0 | M28: =COUNTIF(Tableau1[[#All],[07/01/2020]],$A28) -> 0 | N28: =COUNTIF(Tableau1[[#All],[07/01/2020]],$A28) -> 0 | O28: =COUNTIF(Tableau1[[#All],[08/01/2020]],$A28) -> 0 | P28: =COUNTIF(Tableau1[[#All],[08/01/2020]],$A28) -> 0 | Q28: =COUNTIF(Tableau1[[#All],[09/01/2020]],$A28) -> 0 | R28: =COUNTIF(Tableau1[[#All],[09/01/2020]],$A28) -> 0 | S28: =COUNTIF(Tableau1[[#All],[10/01/2020]],$A28) -> 0 | T28: =COUNTIF(Tableau1[[#All],[10/01/2020]],$A28) -> 0 | U28: =COUNTIF(Tableau1[[#All],[11/01/2020]],$A28) -> 0 | V28: =COUNTIF(Tableau1[[#All],[11/01/2020]],$A28) -> 0 | W28: =COUNTIF(Tableau1[[#All],[12/01/2020]],$A28) -> 0 | X28: =COUNTIF(Tableau1[[#All],[12/01/2020]],$A28) -> 0 | Y28: =COUNTIF(Tableau1[[#All],[13/01/2020]],$A28) -> 0 | Z28: =COUNTIF(Tableau1[[#All],[13/01/2020]],$A28) -> 0 | AA28: =COUNTIF(Tableau1[[#All],[14/01/2020]],$A28) -> 0 | AB28: =COUNTIF(Tableau1[[#All],[14/01/2020]],$A28) -> 0 | AC28: =COUNTIF(Tableau1[[#All],[15/01/2020]],$A28) -> 0 | AD28: =COUNTIF(Tableau1[[#All],[15/01/2020]],$A28) -> 0 | AE28: =COUNTIF(Tableau1[[#All],[16/01/2020]],$A28) -> 0 | AF28: =COUNTIF(Tableau1[[#All],[16/01/2020]],$A28) -> 0 | AG28: =COUNTIF(Tableau1[[#All],[17/01/2020]],$A28) -> 0 | AH28: =COUNTIF(Tableau1[[#All],[17/01/2020]],$A28) -> 0 | AI28: =COUNTIF(Tableau1[[#All],[18/01/2020]],$A28) -> 0 | AJ28: =COUNTIF(Tableau1[[#All],[18/01/2020]],$A28) -> 0 | AK28: =COUNTIF(Tableau1[[#All],[19/01/2020]],$A28) -> 0 | AL28: =COUNTIF(Tableau1[[#All],[19/01/2020]],$A28) -> 0 | AM28: =COUNTIF(Tableau1[[#All],[20/01/2020]],$A28) -> 0 | AN28: =COUNTIF(Tableau1[[#All],[20/01/2020]],$A28) -> 0 | AO28: =COUNTIF(Tableau1[[#All],[21/01/2020]],$A28) -> 0 | AP28: =COUNTIF(Tableau1[[#All],[21/01/2020]],$A28) -> 0 | AQ28: =COUNTIF(Tableau1[[#All],[22/01/2020]],$A28) -> 0 | AR28: =COUNTIF(Tableau1[[#All],[22/01/2020]],$A28) -> 0 | AS28: =COUNTIF(Tableau1[[#All],[23/01/2020]],$A28) -> 0 | AT28: =COUNTIF(Tableau1[[#All],[23/01/2020]],$A28) -> 0 | AU28: =COUNTIF(Tableau1[[#All],[24/01/2020]],$A28) -> 0 | AV28: =COUNTIF(Tableau1[[#All],[24/01/2020]],$A28) -> 0 | AW28: =COUNTIF(Tableau1[[#All],[25/01/2020]],$A28) -> 0 | AX28: =COUNTIF(Tableau1[[#All],[25/01/2020]],$A28) -> 0 | AY28: =COUNTIF(Tableau1[[#All],[26/01/2020]],$A28) -> 0 | AZ28: =COUNTIF(Tableau1[[#All],[26/01/2020]],$A28) -> 0 | BA28: =COUNTIF(Tableau1[[#All],[27/01/2020]],$A28) -> 0 | BB28: =COUNTIF(Tableau1[[#All],[27/01/2020]],$A28) -> 0 | BC28: =COUNTIF(Tableau1[[#All],[28/01/2020]],$A28) -> 0 | BD28: =COUNTIF(Tableau1[[#All],[28/01/2020]],$A28) -> 0 | BE28: =COUNTIF(Tableau1[[#All],[29/01/2020]],$A28) -> 0 | BF28: =COUNTIF(Tableau1[[#All],[29/01/2020]],$A28) -> 0 | BG28: =COUNTIF(Tableau1[[#All],[30/01/2020]],$A28) -> 1 | BH28: =COUNTIF(Tableau1[[#All],[30/01/2020]],$A28) -> 1 | BI28: =COUNTIF(Tableau1[[#All],[31/01/2020]],$A28) -> 1 | BJ28: =COUNTIF(Tableau1[[#All],[31/01/2020]],$A28) -> 1 | BK28: =COUNTIF(Tableau1[[#All],[01/02/2020]],$A28) -> 1 | BL28: =COUNTIF(Tableau1[[#All],[01/02/2020]],$A28) -> 1 | BM28: =COUNTIF(Tableau1[[#All],[02/02/2020]],$A28) -> 1 | BN28: =COUNTIF(Tableau1[[#All],[02/02/2020]],$A28) -> 1 | BO28: =COUNTIF(Tableau1[[#All],[03/02/2020]],$A28) -> 1 | BP28: =COUNTIF(Tableau1[[#All],[03/02/2020]],$A28) -> 1 | BQ28: =COUNTIF(Tableau1[[#All],[04/02/2020]],$A28) -> 1 | BR28: =COUNTIF(Tableau1[[#All],[04/02/2020]],$A28) -> 1 | BS28: =COUNTIF(Tableau1[[#All],[05/02/2020]],$A28) -> 1 | BT28: =COUNTIF(Tableau1[[#All],[05/02/2020]],$A28) -> 1 | BU28: =COUNTIF(Tableau1[[#All],[06/02/2020]],$A28) -> 1 | BV28: =COUNTIF(Tableau1[[#All],[06/02/2020]],$A28) -> 1 | BW28: =COUNTIF(Tableau1[[#All],[07/02/2020]],$A28) -> 1 | BX28: =COUNTIF(Tableau1[[#All],[07/02/2020]],$A28) -> 1 | BY28: =COUNTIF(Tableau1[[#All],[08/02/2020]],$A28) -> 1 | BZ28: =COUNTIF(Tableau1[[#All],[08/02/2020]],$A28) -> 1 | CA28: =COUNTIF(Tableau1[[#All],[09/02/2020]],$A28) -> 1 | CB28: =COUNTIF(Tableau1[[#All],[09/02/2020]],$A28) -> 1 | CC28: =COUNTIF(Tableau1[[#All],[10/02/2020]],$A28) -> 1 | CD28: =COUNTIF(Tableau1[[#All],[10/02/2020]],$A28) -> 1 | CE28: =COUNTIF(Tableau1[[#All],[11/02/2020]],$A28) -> 1 | CF28: =COUNTIF(Tableau1[[#All],[11/02/2020]],$A28) -> 1 | CG28: =COUNTIF(Tableau1[[#All],[12/02/2020]],$A28) -> 1 | CH28: =COUNTIF(Tableau1[[#All],[12/02/2020]],$A28) -> 1 | CI28: =COUNTIF(Tableau1[[#All],[13/02/2020]],$A28) -> 1 | CJ28: =COUNTIF(Tableau1[[#All],[13/02/2020]],$A28) -> 1 | CK28: =COUNTIF(Tableau1[[#All],[14/02/2020]],$A28) -> 1 | CL28: =COUNTIF(Tableau1[[#All],[14/02/2020]],$A28) -> 1 | CM28: =COUNTIF(Tableau1[[#All],[15/02/2020]],$A28) -> 1 | CN28: =COUNTIF(Tableau1[[#All],[15/02/2020]],$A28) -> 1 | CO28: =COUNTIF(Tableau1[[#All],[16/02/2020]],$A28) -> 0 | CP28: =COUNTIF(Tableau1[[#All],[16/02/2020]],$A28) -> 0 | CQ28: =COUNTIF(Tableau1[[#All],[17/02/2020]],$A28) -> 0 | CR28: =COUNTIF(Tableau1[[#All],[17/02/2020]],$A28) -> 0 | CS28: =COUNTIF(Tableau1[[#All],[18/02/2020]],$A28) -> 0 | CT28: =COUNTIF(Tableau1[[#All],[18/02/2020]],$A28) -> 0 | CU28: =COUNTIF(Tableau1[[#All],[19/02/2020]],$A28) -> 0 | CV28: =COUNTIF(Tableau1[[#All],[19/02/2020]],$A28) -> 0 | CW28: =COUNTIF(Tableau1[[#All],[20/02/2020]],$A28) -> 0 | CX28: =COUNTIF(Tableau1[[#All],[20/02/2020]],$A28) -> 0 | CY28: =COUNTIF(Tableau1[[#All],[21/02/2020]],$A28) -> 0 | CZ28: =COUNTIF(Tableau1[[#All],[21/02/2020]],$A28) -> 0 | DA28: =COUNTIF(Tableau1[[#All],[22/02/2020]],$A28) -> 0 | DB28: =COUNTIF(Tableau1[[#All],[22/02/2020]],$A28) -> 0 | DC28: =COUNTIF(Tableau1[[#All],[23/02/2020]],$A28) -> 0 | DD28: =COUNTIF(Tableau1[[#All],[23/02/2020]],$A28) -> 0 | DE28: =COUNTIF(Tableau1[[#All],[24/02/2020]],$A28) -> 0 | DF28: =COUNTIF(Tableau1[[#All],[24/02/2020]],$A28) -> 0 | DG28: =COUNTIF(Tableau1[[#All],[25/02/2020]],$A28) -> 0 | DH28: =COUNTIF(Tableau1[[#All],[25/02/2020]],$A28) -> 0 | DI28: =COUNTIF(Tableau1[[#All],[26/02/2020]],$A28) -> 0 | DJ28: =COUNTIF(Tableau1[[#All],[26/02/2020]],$A28) -> 0 | DK28: =COUNTIF(Tableau1[[#All],[27/02/2020]],$A28) -> 0 | DL28: =COUNTIF(Tableau1[[#All],[27/02/2020]],$A28) -> 0 | DM28: =COUNTIF(Tableau1[[#All],[28/02/2020]],$A28) -> 0 | DN28: =COUNTIF(Tableau1[[#All],[28/02/2020]],$A28) -> 0 | DO28: =COUNTIF(Tableau1[[#All],[29/02/2020]],$A28) -> 0 | DP28: =COUNTIF(Tableau1[[#All],[29/02/2020]],$A28) -> 0 | DQ28: =COUNTIF(Tableau1[[#All],[01/03/2020]],$A28) -> 0 | DR28: =COUNTIF(Tableau1[[#All],[01/03/2020]],$A28) -> 0 | DS28: =COUNTIF(Tableau1[[#All],[02/03/2020]],$A28) -> 0 | DT28: =COUNTIF(Tableau1[[#All],[02/03/2020]],$A28) -> 0 | DU28: =COUNTIF(Tableau1[[#All],[03/03/2020]],$A28) -> 0 | DV28: =COUNTIF(Tableau1[[#All],[03/03/2020]],$A28) -> 0 | DW28: =COUNTIF(Tableau1[[#All],[04/03/2020]],$A28) -> 0 | DX28: =COUNTIF(Tableau1[[#All],[04/03/2020]],$A28) -> 0 | DY28: =COUNTIF(Tableau1[[#All],[05/03/2020]],$A28) -> 0 | DZ28: =COUNTIF(Tableau1[[#All],[05/03/2020]],$A28) -> 0 | EA28: =COUNTIF(Tableau1[[#All],[06/03/2020]],$A28) -> 0 | EB28: =COUNTIF(Tableau1[[#All],[06/03/2020]],$A28) -> 0 | EC28: =COUNTIF(Tableau1[[#All],[07/03/2020]],$A28) -> 0 | ED28: =COUNTIF(Tableau1[[#All],[07/03/2020]],$A28) -> 0 | EE28: =COUNTIF(Tableau1[[#All],[08/03/2020]],$A28) -> 0 | EF28: =COUNTIF(Tableau1[[#All],[08/03/2020]],$A28) -> 0 | EG28: =COUNTIF(Tableau1[[#All],[09/03/2020]],$A28) -> 0 | EH28: =COUNTIF(Tableau1[[#All],[09/03/2020]],$A28) -> 0 | EI28: =COUNTIF(Tableau1[[#All],[10/03/2020]],$A28) -> 0 | EJ28: =COUNTIF(Tableau1[[#All],[10/03/2020]],$A28) -> 0 | EK28: =COUNTIF(Tableau1[[#All],[11/03/2020]],$A28) -> 0 | EL28: =COUNTIF(Tableau1[[#All],[11/03/2020]],$A28) -> 0 | EM28: =COUNTIF(Tableau1[[#All],[12/03/2020]],$A28) -> 0 | EN28: =COUNTIF(Tableau1[[#All],[12/03/2020]],$A28) -> 0 | EO28: =COUNTIF(Tableau1[[#All],[13/03/2020]],$A28) -> 0 | EP28: =COUNTIF(Tableau1[[#All],[13/03/2020]],$A28) -> 0 | EQ28: =COUNTIF(Tableau1[[#All],[14/03/2020]],$A28) -> 0 | ER28: =COUNTIF(Tableau1[[#All],[14/03/2020]],$A28) -> 0 | ES28: =COUNTIF(Tableau1[[#All],[15/03/2020]],$A28) -> 0 | ET28: =COUNTIF(Tableau1[[#All],[15/03/2020]],$A28) -> 0 | EU28: =COUNTIF(Tableau1[[#All],[16/03/2020]],$A28) -> 0 | EV28: =COUNTIF(Tableau1[[#All],[16/03/2020]],$A28) -> 0 | EW28: =COUNTIF(Tableau1[[#All],[17/03/2020]],$A28) -> 0 | EX28: =COUNTIF(Tableau1[[#All],[17/03/2020]],$A28) -> 0 | EY28: =COUNTIF(Tableau1[[#All],[18/03/2020]],$A28) -> 0 | EZ28: =COUNTIF(Tableau1[[#All],[18/03/2020]],$A28) -> 0 | FA28: =COUNTIF(Tableau1[[#All],[19/03/2020]],$A28) -> 0 | FB28: =COUNTIF(Tableau1[[#All],[19/03/2020]],$A28) -> 0 | FC28: =COUNTIF(Tableau1[[#All],[20/03/2020]],$A28) -> 0 | FD28: =COUNTIF(Tableau1[[#All],[20/03/2020]],$A28) -> 0 | FE28: =COUNTIF(Tableau1[[#All],[21/03/2020]],$A28) -> 0 | FF28: =COUNTIF(Tableau1[[#All],[21/03/2020]],$A28) -> 0 | FG28: =COUNTIF(Tableau1[[#All],[22/03/2020]],$A28) -> 0 | FH28: =COUNTIF(Tableau1[[#All],[22/03/2020]],$A28) -> 0 | FI28: =COUNTIF(Tableau1[[#All],[23/03/2020]],$A28) -> 0 | FJ28: =COUNTIF(Tableau1[[#All],[23/03/2020]],$A28) -> 0 | FK28: =COUNTIF(Tableau1[[#All],[24/03/2020]],$A28) -> 0 | FL28: =COUNTIF(Tableau1[[#All],[24/03/2020]],$A28) -> 0 | FM28: =COUNTIF(Tableau1[[#All],[25/03/2020]],$A28) -> 0 | FN28: =COUNTIF(Tableau1[[#All],[25/03/2020]],$A28) -> 0 | FO28: =COUNTIF(Tableau1[[#All],[26/03/2020]],$A28) -> 0 | FP28: =COUNTIF(Tableau1[[#All],[26/03/2020]],$A28) -> 0 | FQ28: =COUNTIF(Tableau1[[#All],[27/03/2020]],$A28) -> 0 | FR28: =COUNTIF(Tableau1[[#All],[27/03/2020]],$A28) -> 0 | FS28: =COUNTIF(Tableau1[[#All],[28/03/2020]],$A28) -> 0 | FT28: =COUNTIF(Tableau1[[#All],[28/03/2020]],$A28) -> 0 | FU28: =COUNTIF(Tableau1[[#All],[29/03/2020]],$A28) -> 0 | FV28: =COUNTIF(Tableau1[[#All],[29/03/2020]],$A28) -> 0 | FW28: =COUNTIF(Tableau1[[#All],[30/03/2020]],$A28) -> 0 | FX28: =COUNTIF(Tableau1[[#All],[30/03/2020]],$A28) -> 0 | FY28: =COUNTIF(Tableau1[[#All],[31/03/2020]],$A28) -> 0 | FZ28: =COUNTIF(Tableau1[[#All],[31/03/2020]],$A28) -> 0 | GA28: =COUNTIF(Tableau1[[#All],[01/04/2020]],$A28) -> 0 | GB28: =COUNTIF(Tableau1[[#All],[01/04/2020]],$A28) -> 0 | GC28: =COUNTIF(Tableau1[[#All],[02/04/2020]],$A28) -> 0 | GD28: =COUNTIF(Tableau1[[#All],[02/04/2020]],$A28) -> 0 | GE28: =COUNTIF(Tableau1[[#All],[03/04/2020]],$A28) -> 0 | GF28: =COUNTIF(Tableau1[[#All],[03/04/2020]],$A28) -> 0 | GG28: =COUNTIF(Tableau1[[#All],[04/04/2020]],$A28) -> 0 | GH28: =COUNTIF(Tableau1[[#All],[04/04/2020]],$A28) -> 0 | GI28: =COUNTIF(Tableau1[[#All],[05/04/2020]],$A28) -> 0 | GJ28: =COUNTIF(Tableau1[[#All],[05/04/2020]],$A28) -> 0 | GK28: =COUNTIF(Tableau1[[#All],[06/04/2020]],$A28) -> 0 | GL28: =COUNTIF(Tableau1[[#All],[06/04/2020]],$A28) -> 0 | GM28: =COUNTIF(Tableau1[[#All],[07/04/2020]],$A28) -> 0 | GN28: =COUNTIF(Tableau1[[#All],[07/04/2020]],$A28) -> 0 | GO28: =COUNTIF(Tableau1[[#All],[08/04/2020]],$A28) -> 0 | GP28: =COUNTIF(Tableau1[[#All],[08/04/2020]],$A28) -> 0 | GQ28: =COUNTIF(Tableau1[[#All],[09/04/2020]],$A28) -> 0 | GR28: =COUNTIF(Tableau1[[#All],[09/04/2020]],$A28) -> 0 | GS28: =COUNTIF(Tableau1[[#All],[10/04/2020]],$A28) -> 0 | GT28: =COUNTIF(Tableau1[[#All],[10/04/2020]],$A28) -> 0 | GU28: =COUNTIF(Tableau1[[#All],[11/04/2020]],$A28) -> 0 | GV28: =COUNTIF(Tableau1[[#All],[11/04/2020]],$A28) -> 0 | GW28: =COUNTIF(Tableau1[[#All],[12/04/2020]],$A28) -> 0 | GX28: =COUNTIF(Tableau1[[#All],[12/04/2020]],$A28) -> 0 | GY28: =COUNTIF(Tableau1[[#All],[13/04/2020]],$A28) -> 0 | GZ28: =COUNTIF(Tableau1[[#All],[13/04/2020]],$A28) -> 0 | HA28: =COUNTIF(Tableau1[[#All],[14/04/2020]],$A28) -> 0 | HB28: =COUNTIF(Tableau1[[#All],[14/04/2020]],$A28) -> 0 | HC28: =COUNTIF(Tableau1[[#All],[15/04/2020]],$A28) -> 0 | HD28: =COUNTIF(Tableau1[[#All],[15/04/2020]],$A28) -> 0 | HE28: =COUNTIF(Tableau1[[#All],[16/04/2020]],$A28) -> 0 | HF28: =COUNTIF(Tableau1[[#All],[16/04/2020]],$A28) -> 0 | HG28: =COUNTIF(Tableau1[[#All],[17/04/2020]],$A28) -> 0 | HH28: =COUNTIF(Tableau1[[#All],[17/04/2020]],$A28) -> 0 | HI28: =COUNTIF(Tableau1[[#All],[18/04/2020]],$A28) -> 0 | HJ28: =COUNTIF(Tableau1[[#All],[18/04/2020]],$A28) -> 0 | HK28: =COUNTIF(Tableau1[[#All],[19/04/2020]],$A28) -> 0 | HL28: =COUNTIF(Tableau1[[#All],[19/04/2020]],$A28) -> 0 | HM28: =COUNTIF(Tableau1[[#All],[20/04/2020]],$A28) -> 0 | HN28: =COUNTIF(Tableau1[[#All],[20/04/2020]],$A28) -> 0 | HO28: =COUNTIF(Tableau1[[#All],[21/04/2020]],$A28) -> 0 | HP28: =COUNTIF(Tableau1[[#All],[21/04/2020]],$A28) -> 0 | HQ28: =COUNTIF(Tableau1[[#All],[22/04/2020]],$A28) -> 0 | HR28: =COUNTIF(Tableau1[[#All],[22/04/2020]],$A28) -> 0 | HS28: =COUNTIF(Tableau1[[#All],[23/04/2020]],$A28) -> 0 | HT28: =COUNTIF(Tableau1[[#All],[23/04/2020]],$A28) -> 0 | HU28: =COUNTIF(Tableau1[[#All],[24/04/2020]],$A28) -> 0 | HV28: =COUNTIF(Tableau1[[#All],[24/04/2020]],$A28) -> 0 | HW28: =COUNTIF(Tableau1[[#All],[25/04/2020]],$A28) -> 0 | HX28: =COUNTIF(Tableau1[[#All],[25/04/2020]],$A28) -> 0 | HY28: =COUNTIF(Tableau1[[#All],[26/04/2020]],$A28) -> 0 | HZ28: =COUNTIF(Tableau1[[#All],[26/04/2020]],$A28) -> 0 | IA28: =COUNTIF(Tableau1[[#All],[27/04/2020]],$A28) -> 0 | IB28: =COUNTIF(Tableau1[[#All],[27/04/2020]],$A28) -> 0 | IC28: =COUNTIF(Tableau1[[#All],[28/04/2020]],$A28) -> 0 | ID28: =COUNTIF(Tableau1[[#All],[28/04/2020]],$A28) -> 0 | IE28: =COUNTIF(Tableau1[[#All],[29/04/2020]],$A28) -> 0 | IF28: =COUNTIF(Tableau1[[#All],[29/04/2020]],$A28) -> 0 | IG28: =COUNTIF(Tableau1[[#All],[30/04/2020]],$A28) -> 0 | IH28: =COUNTIF(Tableau1[[#All],[30/04/2020]],$A28) -> 0 | II28: =COUNTIF(Tableau1[[#All],[01/05/2020]],$A28) -> 0 | IJ28: =COUNTIF(Tableau1[[#All],[01/05/2020]],$A28) -> 0 | IK28: =COUNTIF(Tableau1[[#All],[02/05/2020]],$A28) -> 0 | IL28: =COUNTIF(Tableau1[[#All],[02/05/2020]],$A28) -> 0 | IM28: =COUNTIF(Tableau1[[#All],[03/05/2020]],$A28) -> 0 | IN28: =COUNTIF(Tableau1[[#All],[03/05/2020]],$A28) -> 0 | IO28: =COUNTIF(Tableau1[[#All],[04/05/2020]],$A28) -> 0 | IP28: =COUNTIF(Tableau1[[#All],[04/05/2020]],$A28) -> 0 | IQ28: =COUNTIF(Tableau1[[#All],[05/05/2020]],$A28) -> 0 | IR28: =COUNTIF(Tableau1[[#All],[05/05/2020]],$A28) -> 0 | IS28: =COUNTIF(Tableau1[[#All],[06/05/2020]],$A28) -> 0 | IT28: =COUNTIF(Tableau1[[#All],[06/05/2020]],$A28) -> 0 | IU28: =COUNTIF(Tableau1[[#All],[07/05/2020]],$A28) -> 0 | IV28: =COUNTIF(Tableau1[[#All],[07/05/2020]],$A28) -> 0 | IW28: =COUNTIF(Tableau1[[#All],[08/05/2020]],$A28) -> 0 | IX28: =COUNTIF(Tableau1[[#All],[08/05/2020]],$A28) -> 0 | IY28: =COUNTIF(Tableau1[[#All],[09/05/2020]],$A28) -> 0 | IZ28: =COUNTIF(Tableau1[[#All],[09/05/2020]],$A28) -> 0 | JA28: =COUNTIF(Tableau1[[#All],[10/05/2020]],$A28) -> 0 | JB28: =COUNTIF(Tableau1[[#All],[10/05/2020]],$A28) -> 0 | JC28: =COUNTIF(Tableau1[[#All],[11/05/2020]],$A28) -> 0 | JD28: =COUNTIF(Tableau1[[#All],[11/05/2020]],$A28) -> 0 | JE28: =COUNTIF(Tableau1[[#All],[12/05/2020]],$A28) -> 0 | JF28: =COUNTIF(Tableau1[[#All],[12/05/2020]],$A28) -> 0 | JG28: =COUNTIF(Tableau1[[#All],[13/05/2020]],$A28) -> 0 | JH28: =COUNTIF(Tableau1[[#All],[13/05/2020]],$A28) -> 0 | JI28: =COUNTIF(Tableau1[[#All],[14/05/2020]],$A28) -> 0 | JJ28: =COUNTIF(Tableau1[[#All],[14/05/2020]],$A28) -> 0 | JK28: =COUNTIF(Tableau1[[#All],[15/05/2020]],$A28) -> 0 | JL28: =COUNTIF(Tableau1[[#All],[15/05/2020]],$A28) -> 0 | JM28: =COUNTIF(Tableau1[[#All],[16/05/2020]],$A28) -> 0 | JN28: =COUNTIF(Tableau1[[#All],[16/05/2020]],$A28) -> 0 | JO28: =COUNTIF(Tableau1[[#All],[17/05/2020]],$A28) -> 0 | JP28: =COUNTIF(Tableau1[[#All],[17/05/2020]],$A28) -> 0 | JQ28: =COUNTIF(Tableau1[[#All],[18/05/2020]],$A28) -> 0 | JR28: =COUNTIF(Tableau1[[#All],[18/05/2020]],$A28) -> 0 | JS28: =COUNTIF(Tableau1[[#All],[19/05/2020]],$A28) -> 0 | JT28: =COUNTIF(Tableau1[[#All],[19/05/2020]],$A28) -> 0 | JU28: =COUNTIF(Tableau1[[#All],[20/05/2020]],$A28) -> 0 | JV28: =COUNTIF(Tableau1[[#All],[20/05/2020]],$A28) -> 0 | JW28: =COUNTIF(Tableau1[[#All],[21/05/2020]],$A28) -> 0 | JX28: =COUNTIF(Tableau1[[#All],[21/05/2020]],$A28) -> 0 | JY28: =COUNTIF(Tableau1[[#All],[22/05/2020]],$A28) -> 0 | JZ28: =COUNTIF(Tableau1[[#All],[22/05/2020]],$A28) -> 0 | KA28: =COUNTIF(Tableau1[[#All],[23/05/2020]],$A28) -> 0 | KB28: =COUNTIF(Tableau1[[#All],[23/05/2020]],$A28) -> 0 | KC28: =COUNTIF(Tableau1[[#All],[24/05/2020]],$A28) -> 0 | KD28: =COUNTIF(Tableau1[[#All],[24/05/2020]],$A28) -> 0 | KE28: =COUNTIF(Tableau1[[#All],[25/05/2020]],$A28) -> 0 | KF28: =COUNTIF(Tableau1[[#All],[25/05/2020]],$A28) -> 0 | KG28: =COUNTIF(Tableau1[[#All],[26/05/2020]],$A28) -> 0 | KH28: =COUNTIF(Tableau1[[#All],[26/05/2020]],$A28) -> 0 | KI28: =COUNTIF(Tableau1[[#All],[27/05/2020]],$A28) -> 0 | KJ28: =COUNTIF(Tableau1[[#All],[27/05/2020]],$A28) -> 0 | KK28: =COUNTIF(Tableau1[[#All],[28/05/2020]],$A28) -> 0 | KL28: =COUNTIF(Tableau1[[#All],[28/05/2020]],$A28) -> 0 | KM28: =COUNTIF(Tableau1[[#All],[29/05/2020]],$A28) -> 0 | KN28: =COUNTIF(Tableau1[[#All],[29/05/2020]],$A28) -> 0 | KO28: =COUNTIF(Tableau1[[#All],[30/05/2020]],$A28) -> 0 | KP28: =COUNTIF(Tableau1[[#All],[30/05/2020]],$A28) -> 0 | KQ28: =COUNTIF(Tableau1[[#All],[31/05/2020]],$A28) -> 0 | KR28: =COUNTIF(Tableau1[[#All],[31/05/2020]],$A28) -> 0 | KS28: =COUNTIF(Tableau1[[#All],[01/06/2020]],$A28) -> 0 | KT28: =COUNTIF(Tableau1[[#All],[01/06/2020]],$A28) -> 0 | KU28: =COUNTIF(Tableau1[[#All],[02/06/2020]],$A28) -> 0 | KV28: =COUNTIF(Tableau1[[#All],[02/06/2020]],$A28) -> 0 | KW28: =COUNTIF(Tableau1[[#All],[03/06/2020]],$A28) -> 0 | KX28: =COUNTIF(Tableau1[[#All],[03/06/2020]],$A28) -> 0 | KY28: =COUNTIF(Tableau1[[#All],[04/06/2020]],$A28) -> 0 | KZ28: =COUNTIF(Tableau1[[#All],[04/06/2020]],$A28) -> 0 | LA28: =COUNTIF(Tableau1[[#All],[05/06/2020]],$A28) -> 0 | LB28: =COUNTIF(Tableau1[[#All],[05/06/2020]],$A28) -> 0 | LC28: =COUNTIF(Tableau1[[#All],[06/06/2020]],$A28) -> 0 | LD28: =COUNTIF(Tableau1[[#All],[06/06/2020]],$A28) -> 0 | LE28: =COUNTIF(Tableau1[[#All],[07/06/2020]],$A28) -> 0 | LF28: =COUNTIF(Tableau1[[#All],[07/06/2020]],$A28) -> 0 | LG28: =COUNTIF(Tableau1[[#All],[08/06/2020]],$A28) -> 0 | LH28: =COUNTIF(Tableau1[[#All],[08/06/2020]],$A28) -> 0 | LI28: =COUNTIF(Tableau1[[#All],[09/06/2020]],$A28) -> 0 | LJ28: =COUNTIF(Tableau1[[#All],[09/06/2020]],$A28) -> 0 | LK28: =COUNTIF(Tableau1[[#All],[10/06/2020]],$A28) -> 0 | LL28: =COUNTIF(Tableau1[[#All],[10/06/2020]],$A28) -> 0 | LM28: =COUNTIF(Tableau1[[#All],[11/06/2020]],$A28) -> 0 | LN28: =COUNTIF(Tableau1[[#All],[11/06/2020]],$A28) -> 0 | LO28: =COUNTIF(Tableau1[[#All],[12/06/2020]],$A28) -> 0 | LP28: =COUNTIF(Tableau1[[#All],[12/06/2020]],$A28) -> 0 | LQ28: =COUNTIF(Tableau1[[#All],[13/06/2020]],$A28) -> 0 | LR28: =COUNTIF(Tableau1[[#All],[13/06/2020]],$A28) -> 0 | LS28: =COUNTIF(Tableau1[[#All],[14/06/2020]],$A28) -> 0 | LT28: =COUNTIF(Tableau1[[#All],[14/06/2020]],$A28) -> 0 | LU28: =COUNTIF(Tableau1[[#All],[15/06/2020]],$A28) -> 0 | LV28: =COUNTIF(Tableau1[[#All],[15/06/2020]],$A28) -> 0 | LW28: =COUNTIF(Tableau1[[#All],[16/06/2020]],$A28) -> 0 | LX28: =COUNTIF(Tableau1[[#All],[16/06/2020]],$A28) -> 0 | LY28: =COUNTIF(Tableau1[[#All],[17/06/2020]],$A28) -> 0 | LZ28: =COUNTIF(Tableau1[[#All],[17/06/2020]],$A28) -> 0 | MA28: =COUNTIF(Tableau1[[#All],[18/06/2020]],$A28) -> 0 | MB28: =COUNTIF(Tableau1[[#All],[18/06/2020]],$A28) -> 0 | MC28: =COUNTIF(Tableau1[[#All],[19/06/2020]],$A28) -> 0 | MD28: =COUNTIF(Tableau1[[#All],[19/06/2020]],$A28) -> 0 | ME28: =COUNTIF(Tableau1[[#All],[20/06/2020]],$A28) -> 0 | MF28: =COUNTIF(Tableau1[[#All],[20/06/2020]],$A28) -> 0 | MG28: =COUNTIF(Tableau1[[#All],[21/06/2020]],$A28) -> 0 | MH28: =COUNTIF(Tableau1[[#All],[21/06/2020]],$A28) -> 0 | MI28: =COUNTIF(Tableau1[[#All],[22/06/2020]],$A28) -> 0 | MJ28: =COUNTIF(Tableau1[[#All],[22/06/2020]],$A28) -> 0 | MK28: =COUNTIF(Tableau1[[#All],[23/06/2020]],$A28) -> 0 | ML28: =COUNTIF(Tableau1[[#All],[23/06/2020]],$A28) -> 0 | MM28: =COUNTIF(Tableau1[[#All],[24/06/2020]],$A28) -> 0 | MN28: =COUNTIF(Tableau1[[#All],[24/06/2020]],$A28) -> 0 | MO28: =COUNTIF(Tableau1[[#All],[25/06/2020]],$A28) -> 0 | MP28: =COUNTIF(Tableau1[[#All],[25/06/2020]],$A28) -> 0 | MQ28: =COUNTIF(Tableau1[[#All],[26/06/2020]],$A28) -> 0 | MR28: =COUNTIF(Tableau1[[#All],[26/06/2020]],$A28) -> 0 | MS28: =COUNTIF(Tableau1[[#All],[27/06/2020]],$A28) -> 0 | MT28: =COUNTIF(Tableau1[[#All],[27/06/2020]],$A28) -> 0 | MU28: =COUNTIF(Tableau1[[#All],[28/06/2020]],$A28) -> 0 | MV28: =COUNTIF(Tableau1[[#All],[28/06/2020]],$A28) -> 0 | MW28: =COUNTIF(Tableau1[[#All],[29/06/2020]],$A28) -> 0 | MX28: =COUNTIF(Tableau1[[#All],[29/06/2020]],$A28) -> 0 | MY28: =COUNTIF(Tableau1[[#All],[30/06/2020]],$A28) -> 0 | MZ28: =COUNTIF(Tableau1[[#All],[30/06/2020]],$A28) -> 0 | NA28: =COUNTIF(Tableau1[[#All],[01/07/2020]],$A28) -> 0 | NB28: =COUNTIF(Tableau1[[#All],[01/07/2020]],$A28) -> 0 | NC28: =COUNTIF(Tableau1[[#All],[02/07/2020]],$A28) -> 0
