Workbook

Sheet tableau de bord
B1: 43832 | C1: nb de véhicules impactés | D1: jour d'immobilisation | E1: moyenne véhicule /jour (jusqu’à aujourd'hui)
A2: R | B2: Remplacement | C2: =COUNTIF(Tableau1[Remplacement],">0") -> 5 | D2: =SUM(Tableau1[Remplacement]) -> 7 | E2: =D2/$I$4 -> -0.7
A3: P | B3: Panne | C3: =COUNTIF(Tableau1[Panne],">0") -> 7 | D3: =SUM(Tableau1[Panne]) -> 25 | E3: =D3/$I$4 -> -2.5
A4: M | B4: Maintenance | C4: =COUNTIF(Tableau1[Maintenance],">0") -> 7 | D4: =SUM(Tableau1[Maintenance]) -> 10 | E4: =D4/$I$4 -> -1 | G4: 43831 | H4: =TODAY() -> 43821 | I4: =H4-G4 -> -10
A5: CT | B5: Contrôle Technique | C5: =COUNTIF(Tableau1[Contrôle Technique],">0") -> 45 | D5: =SUM(Tableau1[Contrôle Technique]) -> 45 | E5: =D5/$I$4 -> -4.5
A6: S | B6: Stage Reunion Formation | C6: =COUNTIF(Tableau1[Stage Reunion Formation],">0") -> 3 | D6: =SUM(Tableau1[Stage Reunion Formation]) -> 13 | E6: =D6/$I$4 -> -1.3
A7: PR | B7: Panne avec Remplacement | C7: =COUNTIF(Tableau1[Panne avec Remplacement],">0") -> 0 | D7: =SUM(Tableau1[Panne avec Remplacement]) -> 0 | E7: =D7/$I$4 -> 0
A8: C | B8: carrosserie | C8: =COUNTIF(Tableau1[carrosserie],">0") -> 4 | D8: =SUM(Tableau1[carrosserie]) -> 4 | E8: =D8/$I$4 -> -0.4
C9: =SUM(C2:C8) -> 71 | D9: =SUM(D2:D8) -> 104 | E9: =SUM(E2:E8) -> -10.4
A12: nombre de véhicules impactés sur 7 jours
C14: "=aujourd'hui" | D14: "=aujourd'hui+1" | E14: "=aujourd'hui+2" | F14: "=aujourd'hui+3" | G14: "=aujourd'hui+4" | H14: "=aujourd'hui+5" | I14: "=aujourd'hui+6"
C15: 44177 | D15: =C15+1 -> 44178 | E15: =D15+1 -> 44179 | F15: =E15+1 -> 44180 | G15: =F15+1 -> 44181 | H15: =G15+1 -> 44182 | I15: =H15+1 -> 44183 | K15: date recherchée :
A16: R | B16: Remplacement | C16: =COUNTIF(OFFSET(Tableau1[immatriculation],,MATCH(TEXT(C$15,"jj/mm/aaaa"),Feuil1!$4:$4,0)-1),$A16) -> 0 | D16: =COUNTIF(OFFSET(Tableau1[immatriculation],,MATCH(TEXT(D$15,"jj/mm/aaaa"),Feuil1!$4:$4,0)-1),$A16) -> 0 | E16: =COUNTIF(OFFSET(Tableau1[immatriculation],,MATCH(TEXT(E$15,"jj/mm/aaaa"),Feuil1!$4:$4,0)-1),$A16) -> 4 | F16: =COUNTIF(OFFSET(Tableau1[type],,MATCH(TEXT(F$15,"jj/mm/aaaa"),Feuil1!$4:$4,0)-1),$A16) -> 0 | G16: =COUNTIF(OFFSET(Tableau1[type],,MATCH(TEXT(G$15,"jj/mm/aaaa"),Feuil1!$4:$4,0)-1),$A16) -> 0 | H16: =COUNTIF(OFFSET(Tableau1[modele],,MATCH(TEXT(H$15,"jj/mm/aaaa"),Feuil1!$4:$4,0)-1),$A16) -> 0 | I16: =COUNTIF(OFFSET(Tableau1[modele],,MATCH(TEXT(I$15,"jj/mm/aaaa"),Feuil1!$4:$4,0)-1),$A16) -> 0 | L16: =HLOOKUP($L$15,$B$26:$NC$33,2,FALSE) -> #N/A
A17: P | B17: Panne | C17: =COUNTIF(OFFSET(Tableau1[immatriculation],,MATCH(TEXT(C$15,"jj/mm/aaaa"),Feuil1!$4:$4,0)-1),$A17) -> 0 | D17: =COUNTIF(OFFSET(Tableau1[immatriculation],,MATCH(TEXT(D$15,"jj/mm/aaaa"),Feuil1!$4:$4,0)-1),$A17) -> 0 | E17: =COUNTIF(OFFSET(Tableau1[immatriculation],,MATCH(TEXT(E$15,"jj/mm/aaaa"),Feuil1!$4:$4,0)-1),$A17) -> 2 | F17: =COUNTIF(OFFSET(Tableau1[type],,MATCH(TEXT(F$15,"jj/mm/aaaa"),Feuil1!$4:$4,0)-1),$A17) -> 5 | G17: =COUNTIF(OFFSET(Tableau1[type],,MATCH(TEXT(G$15,"jj/mm/aaaa"),Feuil1!$4:$4,0)-1),$A17) -> 0 | H17: =COUNTIF(OFFSET(Tableau1[modele],,MATCH(TEXT(H$15,"jj/mm/aaaa"),Feuil1!$4:$4,0)-1),$A17) -> 0 | I17: =COUNTIF(OFFSET(Tableau1[modele],,MATCH(TEXT(I$15,"jj/mm/aaaa"),Feuil1!$4:$4,0)-1),$A17) -> 0 | L17: =HLOOKUP(L15,$B$26:$NC$33,3,FALSE) -> #N/A
A18: M | B18: Maintenance | C18: =COUNTIF(OFFSET(Tableau1[immatriculation],,MATCH(TEXT(C$15,"jj/mm/aaaa"),Feuil1!$4:$4,0)-1),$A18) -> 0 | D18: =COUNTIF(OFFSET(Tableau1[immatriculation],,MATCH(TEXT(D$15,"jj/mm/aaaa"),Feuil1!$4:$4,0)-1),$A18) -> 0 | E18: =COUNTIF(OFFSET(Tableau1[immatriculation],,MATCH(TEXT(E$15,"jj/mm/aaaa"),Feuil1!$4:$4,0)-1),$A18) -> 0 | F18: =COUNTIF(OFFSET(Tableau1[type],,MATCH(TEXT(F$15,"jj/mm/aaaa"),Feuil1!$4:$4,0)-1),$A18) -> 0 | G18: =COUNTIF(OFFSET(Tableau1[type],,MATCH(TEXT(G$15,"jj/mm/aaaa"),Feuil1!$4:$4,0)-1),$A18) -> 3 | H18: =COUNTIF(OFFSET(Tableau1[modele],,MATCH(TEXT(H$15,"jj/mm/aaaa"),Feuil1!$4:$4,0)-1),$A18) -> 0 | I18: =COUNTIF(OFFSET(Tableau1[modele],,MATCH(TEXT(I$15,"jj/mm/aaaa"),Feuil1!$4:$4,0)-1),$A18) -> 0 | L18: =HLOOKUP(L15,$B$26:$NC$33,4,FALSE) -> #N/A
A19: CT | B19: Contrôle Technique | C19: =COUNTIF(OFFSET(Tableau1[immatriculation],,MATCH(TEXT(C$15,"jj/mm/aaaa"),Feuil1!$4:$4,0)-1),$A19) -> 0 | D19: =COUNTIF(OFFSET(Tableau1[immatriculation],,MATCH(TEXT(D$15,"jj/mm/aaaa"),Feuil1!$4:$4,0)-1),$A19) -> 0 | E19: =COUNTIF(OFFSET(Tableau1[immatriculation],,MATCH(TEXT(E$15,"jj/mm/aaaa"),Feuil1!$4:$4,0)-1),$A19) -> 0 | F19: =COUNTIF(OFFSET(Tableau1[type],,MATCH(TEXT(F$15,"jj/mm/aaaa"),Feuil1!$4:$4,0)-1),$A19) -> 0 | G19: =COUNTIF(OFFSET(Tableau1[type],,MATCH(TEXT(G$15,"jj/mm/aaaa"),Feuil1!$4:$4,0)-1),$A19) -> 0 | H19: =COUNTIF(OFFSET(Tableau1[modele],,MATCH(TEXT(H$15,"jj/mm/aaaa"),Feuil1!$4:$4,0)-1),$A19) -> 0 | I19: =COUNTIF(OFFSET(Tableau1[modele],,MATCH(TEXT(I$15,"jj/mm/aaaa"),Feuil1!$4:$4,0)-1),$A19) -> 0 | L19: =HLOOKUP(L15,$B$26:$NC$33,5,FALSE) -> #N/A
A20: S | B20: Stage Reunion Formation | C20: =COUNTIF(OFFSET(Tableau1[immatriculation],,MATCH(TEXT(C$15,"jj/mm/aaaa"),Feuil1!$4:$4,0)-1),$A20) -> 0 | D20: =COUNTIF(OFFSET(Tableau1[immatriculation],,MATCH(TEXT(D$15,"jj/mm/aaaa"),Feuil1!$4:$4,0)-1),$A20) -> 0 | E20: =COUNTIF(OFFSET(Tableau1[immatriculation],,MATCH(TEXT(E$15,"jj/mm/aaaa"),Feuil1!$4:$4,0)-1),$A20) -> 0 | F20: =COUNTIF(OFFSET(Tableau1[type],,MATCH(TEXT(F$15,"jj/mm/aaaa"),Feuil1!$4:$4,0)-1),$A20) -> 0 | G20: =COUNTIF(OFFSET(Tableau1[type],,MATCH(TEXT(G$15,"jj/mm/aaaa"),Feuil1!$4:$4,0)-1),$A20) -> 0 | H20: =COUNTIF(OFFSET(Tableau1[modele],,MATCH(TEXT(H$15,"jj/mm/aaaa"),Feuil1!$4:$4,0)-1),$A20) -> 0 | I20: =COUNTIF(OFFSET(Tableau1[modele],,MATCH(TEXT(I$15,"jj/mm/aaaa"),Feuil1!$4:$4,0)-1),$A20) -> 0 | L20: =HLOOKUP(L15,$B$26:$NC$33,6,FALSE) -> #N/A
A21: PR | B21: Panne avec Remplacement | C21: =COUNTIF(OFFSET(Tableau1[immatriculation],,MATCH(TEXT(C$15,"jj/mm/aaaa"),Feuil1!$4:$4,0)-1),$A21) -> 0 | D21: =COUNTIF(OFFSET(Tableau1[immatriculation],,MATCH(TEXT(D$15,"jj/mm/aaaa"),Feuil1!$4:$4,0)-1),$A21) -> 0 | E21: =COUNTIF(OFFSET(Tableau1[immatriculation],,MATCH(TEXT(E$15,"jj/mm/aaaa"),Feuil1!$4:$4,0)-1),$A21) -> 0 | F21: =COUNTIF(OFFSET(Tableau1[type],,MATCH(TEXT(F$15,"jj/mm/aaaa"),Feuil1!$4:$4,0)-1),$A21) -> 0 | G21: =COUNTIF(OFFSET(Tableau1[type],,MATCH(TEXT(G$15,"jj/mm/aaaa"),Feuil1!$4:$4,0)-1),$A21) -> 0 | H21: =COUNTIF(OFFSET(Tableau1[modele],,MATCH(TEXT(H$15,"jj/mm/aaaa"),Feuil1!$4:$4,0)-1),$A21) -> 0 | I21: =COUNTIF(OFFSET(Tableau1[modele],,MATCH(TEXT(I$15,"jj/mm/aaaa"),Feuil1!$4:$4,0)-1),$A21) -> 0 | L21: =HLOOKUP(L15,$B$26:$NC$33,7,FALSE) -> #N/A
A22: C | B22: carrosserie | C22: =COUNTIF(OFFSET(Tableau1[immatriculation],,MATCH(TEXT(C$15,"jj/mm/aaaa"),Feuil1!$4:$4,0)-1),$A22) -> 4 | D22: =COUNTIF(OFFSET(Tableau1[immatriculation],,MATCH(TEXT(D$15,"jj/mm/aaaa"),Feuil1!$4:$4,0)-1),$A22) -> 0 | E22: =COUNTIF(OFFSET(Tableau1[immatriculation],,MATCH(TEXT(E$15,"jj/mm/aaaa"),Feuil1!$4:$4,0)-1),$A22) -> 0 | F22: =COUNTIF(OFFSET(Tableau1[type],,MATCH(TEXT(F$15,"jj/mm/aaaa"),Feuil1!$4:$4,0)-1),$A22) -> 0 | G22: =COUNTIF(OFFSET(Tableau1[type],,MATCH(TEXT(G$15,"jj/mm/aaaa"),Feuil1!$4:$4,0)-1),$A22) -> 0 | H22: =COUNTIF(OFFSET(Tableau1[modele],,MATCH(TEXT(H$15,"jj/mm/aaaa"),Feuil1!$4:$4,0)-1),$A22) -> 0 | I22: =COUNTIF(OFFSET(Tableau1[modele],,MATCH(TEXT(I$15,"jj/mm/aaaa"),Feuil1!$4:$4,0)-1),$A22) -> 0 | L22: =HLOOKUP(L15,$B$26:$NC$33,8,FALSE) -> #N/A
B26: 43831 | C26: 43832 | D26: 43833 | E26: 43834 | F26: 43835 | G26: 43836 | H26: 43837 | I26: 43838 | J26: 43839 | K26: 43840 | L26: 43841 | M26: 43842 | N26: 43843 | O26: 43844 | P26: 43845 | Q26: 43846 | R26: 43847 | S26: 43848 | T26: 43849 | U26: 43850 | V26: 43851 | W26: 43852 | X26: 43853 | Y26: 43854 | Z26: 43855 | AA26: 43856 | AB26: 43857 | AC26: 43858 | AD26: 43859 | AE26: 43860 | AF26: 43861 | AG26: 43862 | AH26: 43863 | AI26: 43864 | AJ26: 43865 | AK26: 43866 | AL26: 43867 | AM26: 43868 | AN26: 43869 | AO26: 43870 | AP26: 43871 | AQ26: 43872 | AR26: 43873 | AS26: 43874 | AT26: 43875 | AU26: 43876 | AV26: 43877 | AW26: 43878 | AX26: 43879 | AY26: 43880 | AZ26: 43881 | BA26: 43882 | BB26: 43883 | BC26: 43884 | BD26: 43885 | BE26: 43886 | BF26: 43887 | BG26: 43888 | BH26: 43889 | BI26: 43890 | BJ26: 43891 | BK26: 43892 | BL26: 43893 | BM26: 43894 | BN26: 43895 | BO26: 43896 | BP26: 43897 | BQ26: 43898 | BR26: 43899 | BS26: 43900 | BT26: 43901 | BU26: 43902 | BV26: 43903 | BW26: 43904 | BX26: 43905 | BY26: 43906 | BZ26: 43907 | CA26: 43908 | CB26: 43909 | CC26: 43910 | CD26: 43911 | CE26: 43912 | CF26: 43913 | CG26: 43914 | CH26: 43915 | CI26: 43916 | CJ26: 43917 | CK26: 43918 | CL26: 43919 | CM26: 43920 | CN26: 43921 | CO26: 43922 | CP26: 43923 | CQ26: 43924 | CR26: 43925 | CS26: 43926 | CT26: 43927 | CU26: 43928 | CV26: 43929 | CW26: 43930 | CX26: 43931 | CY26: 43932 | CZ26: 43933 | DA26: 43934 | DB26: 43935 | DC26: 43936 | DD26: 43937 | DE26: 43938 | DF26: 43939 | DG26: 43940 | DH26: 43941 | DI26: 43942 | DJ26: 43943 | DK26: 43944 | DL26: 43945 | DM26: 43946 | DN26: 43947 | DO26: 43948 | DP26: 43949 | DQ26: 43950 | DR26: 43951 | DS26: 43952 | DT26: 43953 | DU26: 43954 | DV26: 43955 | DW26: 43956 | DX26: 43957 | DY26: 43958 | DZ26: 43959 | EA26: 43960 | EB26: 43961 | EC26: 43962 | ED26: 43963 | EE26: 43964 | EF26: 43965 | EG26: 43966 | EH26: 43967 | EI26: 43968 | EJ26: 43969 | EK26: 43970 | EL26: 43971 | EM26: 43972 | EN26: 43973 | EO26: 43974 | EP26: 43975 | EQ26: 43976 | ER26: 43977 | ES26: 43978 | ET26: 43979 | EU26: 43980 | EV26: 43981 | EW26: 43982 | EX26: 43983 | EY26: 43984 | EZ26: 43985 | FA26: 43986 | FB26: 43987 | FC26: 43988 | FD26: 43989 | FE26: 43990 | FF26: 43991 | FG26: 43992 | FH26: 43993 | FI26: 43994 | FJ26: 43995 | FK26: 43996 | FL26: 43997 | FM26: 43998 | FN26: 43999 | FO26: 44000 | FP26: 44001 | FQ26: 44002 | FR26: 44003 | FS26: 44004 | FT26: 44005 | FU26: 44006 | FV26: 44007 | FW26: 44008 | FX26: 44009 | FY26: 44010 | FZ26: 44011 | GA26: 44012 | GB26: 44013 | GC26: 44014 | GD26: 44015 | GE26: 44016 | GF26: 44017 | GG26: 44018 | GH26: 44019 | GI26: 44020 | GJ26: 44021 | GK26: 44022 | GL26: 44023 | GM26: 44024 | GN26: 44025 | GO26: 44026 | GP26: 44027 | GQ26: 44028 | GR26: 44029 | GS26: 44030 | GT26: 44031 | GU26: 44032 | GV26: 44033 | GW26: 44034 | GX26: 44035 | GY26: 44036 | GZ26: 44037 | HA26: 44038 | HB26: 44039 | HC26: 44040 | HD26: 44041 | HE26: 44042 | HF26: 44043 | HG26: 44044 | HH26: 44045 | HI26: 44046 | HJ26: 44047 | HK26: 44048 | HL26: 44049 | HM26: 44050 | HN26: 44051 | HO26: 44052 | HP26: 44053 | HQ26: 44054 | HR26: 44055 | HS26: 44056 | HT26: 44057 | HU26: 44058 | HV26: 44059 | HW26: 44060 | HX26: 44061 | HY26: 44062 | HZ26: 44063 | IA26: 44064 | IB26: 44065 | IC26: 44066 | ID26: 44067 | IE26: 44068 | IF26: 44069 | IG26: 44070 | IH26: 44071 | II26: 44072 | IJ26: 44073 | IK26: 44074 | IL26: 44075 | IM26: 44076 | IN26: 44077 | IO26: 44078 | IP26: 44079 | IQ26: 44080 | IR26: 44081 | IS26: 44082 | IT26: 44083 | IU26: 44084 | IV26: 44085 | IW26: 44086 | IX26: 44087 | IY26: 44088 | IZ26: 44089 | JA26: 44090 | JB26: 44091 | JC26: 44092 | JD26: 44093 | JE26: 44094 | JF26: 44095 | JG26: 44096 | JH26: 44097 | JI26: 44098 | JJ26: 44099 | JK26: 44100 | JL26: 44101 | JM26: 44102 | JN26: 44103 | JO26: 44104 | JP26: 44105 | JQ26: 44106 | JR26: 44107 | JS26: 44108 | JT26: 44109 | JU26: 44110 | JV26: 44111 | JW26: 44112 | JX26: 44113 | JY26: 44114 | JZ26: 44115 | KA26: 44116 | KB26: 44117 | KC26: 44118 | KD26: 44119 | KE26: 44120 | KF26: 44121 | KG26: 44122 | KH26: 44123 | KI26: 44124 | KJ26: 44125 | KK26: 44126 | KL26: 44127 | KM26: 44128 | KN26: 44129 | KO26: 44130 | KP26: 44131 | KQ26: 44132 | KR26: 44133 | KS26: 44134 | KT26: 44135 | KU26: 44136 | KV26: 44137 | KW26: 44138 | KX26: 44139 | KY26: 44140 | KZ26: 44141 | LA26: 44142 | LB26: 44143 | LC26: 44144 | LD26: 44145 | LE26: 44146 | LF26: 44147 | LG26: 44148 | LH26: 44149 | LI26: 44150 | LJ26: 44151 | LK26: 44152 | LL26: 44153 | LM26: 44154 | LN26: 44155 | LO26: 44156 | LP26: 44157 | LQ26: 44158 | LR26: 44159 | LS26: 44160 | LT26: 44161 | LU26: 44162 | LV26: 44163 | LW26: 44164 | LX26: 44165 | LY26: 44166 | LZ26: 44167 | MA26: 44168 | MB26: 44169 | MC26: 44170 | MD26: 44171 | ME26: 44172 | MF26: 44173 | MG26: 44174 | MH26: 44175 | MI26: 44176 | MJ26: 44177 | MK26: 44178 | ML26: 44179 | MM26: 44180 | MN26: 44181 | MO26: 44182 | MP26: 44183 | MQ26: 44184 | MR26: 44185 | MS26: 44186 | MT26: 44187 | MU26: 44188 | MV26: 44189 | MW26: 44190 | MX26: 44191 | MY26: 44192 | MZ26: 44193 | NA26: 44194 | NB26: 44195 | NC26: 44196
A27: R | B27: =COUNTIF(Tableau1[[#All],[01/01/2020]],$A27) -> 1 | C27: =COUNTIF(Tableau1[[#All],[02/01/2020]],$A27) -> 1 | D27: =COUNTIF(Tableau1[[#All],[02/01/2020]],$A27) -> 1 | E27: =COUNTIF(Tableau1[[#All],[03/01/2020]],$A27) -> 1 | F27: =COUNTIF(Tableau1[[#All],[03/01/2020]],$A27) -> 1 | G27: =COUNTIF(Tableau1[[#All],[04/01/2020]],$A27) -> 0 | H27: =COUNTIF(Tableau1[[#All],[04/01/2020]],$A27) -> 0 | I27: =COUNTIF(Tableau1[[#All],[05/01/2020]],$A27) -> 0 | J27: =COUNTIF(Tableau1[[#All],[05/01/2020]],$A27) -> 0 | K27: =COUNTIF(Tableau1[[#All],[06/01/2020]],$A27) -> 0 | L27: =COUNTIF(Tableau1[[#All],[06/01/2020]],$A27) -> 0 | M27: =COUNTIF(Tableau1[[#All],[07/01/2020]],$A27) -> 0 | N27: =COUNTIF(Tableau1[[#All],[07/01/2020]],$A27) -> 0 | O27: =COUNTIF(Tableau1[[#All],[08/01/2020]],$A27) -> 0 | P27: =COUNTIF(Tableau1[[#All],[08/01/2020]],$A27) -> 0 | Q27: =COUNTIF(Tableau1[[#All],[09/01/2020]],$A27) -> 0 | R27: =COUNTIF(Tableau1[[#All],[09/01/2020]],$A27) -> 0 | S27: =COUNTIF(Tableau1[[#All],[10/01/2020]],$A27) -> 0 | T27: =COUNTIF(Tableau1[[#All],[10/01/2020]],$A27) -> 0 | U27: =COUNTIF(Tableau1[[#All],[11/01/2020]],$A27) -> 0 | V27: =COUNTIF(Tableau1[[#All],[11/01/2020]],$A27) -> 0 | W27: =COUNTIF(Tableau1[[#All],[12/01/2020]],$A27) -> 0 | X27: =COUNTIF(Tableau1[[#All],[12/01/2020]],$A27) -> 0 | Y27: =COUNTIF(Tableau1[[#All],[13/01/2020]],$A27) -> 0 | Z27: =COUNTIF(Tableau1[[#All],[13/01/2020]],$A27) -> 0 | AA27: =COUNTIF(Tableau1[[#All],[14/01/2020]],$A27) -> 0 | AB27: =COUNTIF(Tableau1[[#All],[14/01/2020]],$A27) -> 0 | AC27: =COUNTIF(Tableau1[[#All],[15/01/2020]],$A27) -> 0 | AD27: =COUNTIF(Tableau1[[#All],[15/01/2020]],$A27) -> 0 | AE27: =COUNTIF(Tableau1[[#All],[16/01/2020]],$A27) -> 0 | AF27: =COUNTIF(Tableau1[[#All],[16/01/2020]],$A27) -> 0 | AG27: =COUNTIF(Tableau1[[#All],[17/01/2020]],$A27) -> 0 | AH27: =COUNTIF(Tableau1[[#All],[17/01/2020]],$A27) -> 0 | AI27: =COUNTIF(Tableau1[[#All],[18/01/2020]],$A27) -> 0 | AJ27: =COUNTIF(Tableau1[[#All],[18/01/2020]],$A27) -> 0 | AK27: =COUNTIF(Tableau1[[#All],[19/01/2020]],$A27) -> 0 | AL27: =COUNTIF(Tableau1[[#All],[19/01/2020]],$A27) -> 0 | AM27: =COUNTIF(Tableau1[[#All],[20/01/2020]],$A27) -> 0 | AN27: =COUNTIF(Tableau1[[#All],[20/01/2020]],$A27) -> 0 | AO27: =COUNTIF(Tableau1[[#All],[21/01/2020]],$A27) -> 0 | AP27: =COUNTIF(Tableau1[[#All],[21/01/2020]],$A27) -> 0 | AQ27: =COUNTIF(Tableau1[[#All],[22/01/2020]],$A27) -> 0 | AR27: =COUNTIF(Tableau1[[#All],[22/01/2020]],$A27) -> 0 | AS27: =COUNTIF(Tableau1[[#All],[23/01/2020]],$A27) -> 0 | AT27: =COUNTIF(Tableau1[[#All],[23/01/2020]],$A27) -> 0 | AU27: =COUNTIF(Tableau1[[#All],[24/01/2020]],$A27) -> 0 | AV27: =COUNTIF(Tableau1[[#All],[24/01/2020]],$A27) -> 0 | AW27: =COUNTIF(Tableau1[[#All],[25/01/2020]],$A27) -> 0 | AX27: =COUNTIF(Tableau1[[#All],[25/01/2020]],$A27) -> 0 | AY27: =COUNTIF(Tableau1[[#All],[26/01/2020]],$A27) -> 0 | AZ27: =COUNTIF(Tableau1[[#All],[26/01/2020]],$A27) -> 0 | BA27: =COUNTIF(Tableau1[[#All],[27/01/2020]],$A27) -> 0 | BB27: =COUNTIF(Tableau1[[#All],[27/01/2020]],$A27) -> 0 | BC27: =COUNTIF(Tableau1[[#All],[28/01/2020]],$A27) -> 0 | BD27: =COUNTIF(Tableau1[[#All],[28/01/2020]],$A27) -> 0 | BE27: =COUNTIF(Tableau1[[#All],[29/01/2020]],$A27) -> 0 | BF27: =COUNTIF(Tableau1[[#All],[29/01/2020]],$A27) -> 0 | BG27: =COUNTIF(Tableau1[[#All],[30/01/2020]],$A27) -> 0 | BH27: =COUNTIF(Tableau1[[#All],[30/01/2020]],$A27) -> 0 | BI27: =COUNTIF(Tableau1[[#All],[31/01/2020]],$A27) -> 0 | BJ27: =COUNTIF(Tableau1[[#All],[31/01/2020]],$A27) -> 0 | BK27: =COUNTIF(Tableau1[[#All],[01/02/2020]],$A27) -> 0 | BL27: =COUNTIF(Tableau1[[#All],[01/02/2020]],$A27) -> 0 | BM27: =COUNTIF(Tableau1[[#All],[02/02/2020]],$A27) -> 0 | BN27: =COUNTIF(Tableau1[[#All],[02/02/2020]],$A27) -> 0 | BO27: =COUNTIF(Tableau1[[#All],[03/02/2020]],$A27) -> 0 | BP27: =COUNTIF(Tableau1[[#All],[03/02/2020]],$A27) -> 0 | BQ27: =COUNTIF(Tableau1[[#All],[04/02/2020]],$A27) -> 0 | BR27: =COUNTIF(Tableau1[[#All],[04/02/2020]],$A27) -> 0 | BS27: =COUNTIF(Tableau1[[#All],[05/02/2020]],$A27) -> 0 | BT27: =COUNTIF(Tableau1[[#All],[05/02/2020]],$A27) -> 0 | BU27: =COUNTIF(Tableau1[[#All],[06/02/2020]],$A27) -> 0 | BV27: =COUNTIF(Tableau1[[#All],[06/02/2020]],$A27) -> 0 | BW27: =COUNTIF(Tableau1[[#All],[07/02/2020]],$A27) -> 0 | BX27: =COUNTIF(Tableau1[[#All],[07/02/2020]],$A27) -> 0 | BY27: =COUNTIF(Tableau1[[#All],[08/02/2020]],$A27) -> 0 | BZ27: =COUNTIF(Tableau1[[#All],[08/02/2020]],$A27) -> 0 | CA27: =COUNTIF(Tableau1[[#All],[09/02/2020]],$A27) -> 0 | CB27: =COUNTIF(Tableau1[[#All],[09/02/2020]],$A27) -> 0 | CC27: =COUNTIF(Tableau1[[#All],[10/02/2020]],$A27) -> 0 | CD27: =COUNTIF(Tableau1[[#All],[10/02/2020]],$A27) -> 0 | CE27: =COUNTIF(Tableau1[[#All],[11/02/2020]],$A27) -> 0 | CF27: =COUNTIF(Tableau1[[#All],[11/02/2020]],$A27) -> 0 | CG27: =COUNTIF(Tableau1[[#All],[12/02/2020]],$A27) -> 0 | CH27: =COUNTIF(Tableau1[[#All],[12/02/2020]],$A27) -> 0 | CI27: =COUNTIF(Tableau1[[#All],[13/02/2020]],$A27) -> 0 | CJ27: =COUNTIF(Tableau1[[#All],[13/02/2020]],$A27) -> 0 | CK27: =COUNTIF(Tableau1[[#All],[14/02/2020]],$A27) -> 0 | CL27: =COUNTIF(Tableau1[[#All],[14/02/2020]],$A27) -> 0 | CM27: =COUNTIF(Tableau1[[#All],[15/02/2020]],$A27) -> 0 | CN27: =COUNTIF(Tableau1[[#All],[15/02/2020]],$A27) -> 0 | CO27: =COUNTIF(Tableau1[[#All],[16/02/2020]],$A27) -> 0 | CP27: =COUNTIF(Tableau1[[#All],[16/02/2020]],$A27) -> 0 | CQ27: =COUNTIF(Tableau1[[#All],[17/02/2020]],$A27) -> 0 | CR27: =COUNTIF(Tableau1[[#All],[17/02/2020]],$A27) -> 0 | CS27: =COUNTIF(Tableau1[[#All],[18/02/2020]],$A27) -> 0 | CT27: =COUNTIF(Tableau1[[#All],[18/02/2020]],$A27) -> 0 | CU27: =COUNTIF(Tableau1[[#All],[19/02/2020]],$A27) -> 0 | CV27: =COUNTIF(Tableau1[[#All],[19/02/2020]],$A27) -> 0 | CW27: =COUNTIF(Tableau1[[#All],[20/02/2020]],$A27) -> 0 | CX27: =COUNTIF(Tableau1[[#All],[20/02/2020]],$A27) -> 0 | CY27: =COUNTIF(Tableau1[[#All],[21/02/2020]],$A27) -> 0 | CZ27: =COUNTIF(Tableau1[[#All],[21/02/2020]],$A27) -> 0 | DA27: =COUNTIF(Tableau1[[#All],[22/02/2020]],$A27) -> 0 | DB27: =COUNTIF(Tableau1[[#All],[22/02/2020]],$A27) -> 0 | DC27: =COUNTIF(Tableau1[[#All],[23/02/2020]],$A27) -> 0 | DD27: =COUNTIF(Tableau1[[#All],[23/02/2020]],$A27) -> 0 | DE27: =COUNTIF(Tableau1[[#All],[24/02/2020]],$A27) -> 0 | DF27: =COUNTIF(Tableau1[[#All],[24/02/2020]],$A27) -> 0 | DG27: =COUNTIF(Tableau1[[#All],[25/02/2020]],$A27) -> 0 | DH27: =COUNTIF(Tableau1[[#All],[25/02/2020]],$A27) -> 0 | DI27: =COUNTIF(Tableau1[[#All],[26/02/2020]],$A27) -> 0 | DJ27: =COUNTIF(Tableau1[[#All],[26/02/2020]],$A27) -> 0 | DK27: =COUNTIF(Tableau1[[#All],[27/02/2020]],$A27) -> 0 | DL27: =COUNTIF(Tableau1[[#All],[27/02/2020]],$A27) -> 0 | DM27: =COUNTIF(Tableau1[[#All],[28/02/2020]],$A27) -> 0 | DN27: =COUNTIF(Tableau1[[#All],[28/02/2020]],$A27) -> 0 | DO27: =COUNTIF(Tableau1[[#All],[29/02/2020]],$A27) -> 0 | DP27: =COUNTIF(Tableau1[[#All],[29/02/2020]],$A27) -> 0 | DQ27: =COUNTIF(Tableau1[[#All],[01/03/2020]],$A27) -> 0 | DR27: =COUNTIF(Tableau1[[#All],[01/03/2020]],$A27) -> 0 | DS27: =COUNTIF(Tableau1[[#All],[02/03/2020]],$A27) -> 0 | DT27: =COUNTIF(Tableau1[[#All],[02/03/2020]],$A27) -> 0 | DU27: =COUNTIF(Tableau1[[#All],[03/03/2020]],$A27) -> 0 | DV27: =COUNTIF(Tableau1[[#All],[03/03/2020]],$A27) -> 0 | DW27: =COUNTIF(Tableau1[[#All],[04/03/2020]],$A27) -> 0 | DX27: =COUNTIF(Tableau1[[#All],[04/03/2020]],$A27) -> 0 | DY27: =COUNTIF(Tableau1[[#All],[05/03/2020]],$A27) -> 0 | DZ27: =COUNTIF(Tableau1[[#All],[05/03/2020]],$A27) -> 0 | EA27: =COUNTIF(Tableau1[[#All],[06/03/2020]],$A27) -> 0 | EB27: =COUNTIF(Tableau1[[#All],[06/03/2020]],$A27) -> 0 | EC27: =COUNTIF(Tableau1[[#All],[07/03/2020]],$A27) -> 0 | ED27: =COUNTIF(Tableau1[[#All],[07/03/2020]],$A27) -> 0 | EE27: =COUNTIF(Tableau1[[#All],[08/03/2020]],$A27) -> 0 | EF27: =COUNTIF(Tableau1[[#All],[08/03/2020]],$A27) -> 0 | EG27: =COUNTIF(Tableau1[[#All],[09/03/2020]],$A27) -> 0 | EH27: =COUNTIF(Tableau1[[#All],[09/03/2020]],$A27) -> 0 | EI27: =COUNTIF(Tableau1[[#All],[10/03/2020]],$A27) -> 0 | EJ27: =COUNTIF(Tableau1[[#All],[10/03/2020]],$A27) -> 0 | EK27: =COUNTIF(Tableau1[[#All],[11/03/2020]],$A27) -> 0 | EL27: =COUNTIF(Tableau1[[#All],[11/03/2020]],$A27) -> 0 | EM27: =COUNTIF(Tableau1[[#All],[12/03/2020]],$A27) -> 0 | EN27: =COUNTIF(Tableau1[[#All],[12/03/2020]],$A27) -> 0 | EO27: =COUNTIF(Tableau1[[#All],[13/03/2020]],$A27) -> 0 | EP27: =COUNTIF(Tableau1[[#All],[13/03/2020]],$A27) -> 0 | EQ27: =COUNTIF(Tableau1[[#All],[14/03/2020]],$A27) -> 0 | ER27: =COUNTIF(Tableau1[[#All],[14/03/2020]],$A27) -> 0 | ES27: =COUNTIF(Tableau1[[#All],[15/03/2020]],$A27) -> 0 | ET27: =COUNTIF(Tableau1[[#All],[15/03/2020]],$A27) -> 0 | EU27: =COUNTIF(Tableau1[[#All],[16/03/2020]],$A27) -> 0 | EV27: =COUNTIF(Tableau1[[#All],[16/03/2020]],$A27) -> 0 | EW27: =COUNTIF(Tableau1[[#All],[17/03/2020]],$A27) -> 0 | EX27: =COUNTIF(Tableau1[[#All],[17/03/2020]],$A27) -> 0 | EY27: =COUNTIF(Tableau1[[#All],[18/03/2020]],$A27) -> 0 | EZ27: =COUNTIF(Tableau1[[#All],[18/03/2020]],$A27) -> 0 | FA27: =COUNTIF(Tableau1[[#All],[19/03/2020]],$A27) -> 0 | FB27: =COUNTIF(Tableau1[[#All],[19/03/2020]],$A27) -> 0 | FC27: =COUNTIF(Tableau1[[#All],[20/03/2020]],$A27) -> 0 | FD27: =COUNTIF(Tableau1[[#All],[20/03/2020]],$A27) -> 0 | FE27: =COUNTIF(Tableau1[[#All],[21/03/2020]],$A27) -> 0 | FF27: =COUNTIF(Tableau1[[#All],[21/03/2020]],$A27) -> 0 | FG27: =COUNTIF(Tableau1[[#All],[22/03/2020]],$A27) -> 0 | FH27: =COUNTIF(Tableau1[[#All],[22/03/2020]],$A27) -> 0 | FI27: =COUNTIF(Tableau1[[#All],[23/03/2020]],$A27) -> 0 | FJ27: =COUNTIF(Tableau1[[#All],[23/03/2020]],$A27) -> 0 | FK27: =COUNTIF(Tableau1[[#All],[24/03/2020]],$A27) -> 0 | FL27: =COUNTIF(Tableau1[[#All],[24/03/2020]],$A27) -> 0 | FM27: =COUNTIF(Tableau1[[#All],[25/03/2020]],$A27) -> 0 | FN27: =COUNTIF(Tableau1[[#All],[25/03/2020]],$A27) -> 0 | FO27: =COUNTIF(Tableau1[[#All],[26/03/2020]],$A27) -> 0 | FP27: =COUNTIF(Tableau1[[#All],[26/03/2020]],$A27) -> 0 | FQ27: =COUNTIF(Tableau1[[#All],[27/03/2020]],$A27) -> 0 | FR27: =COUNTIF(Tableau1[[#All],[27/03/2020]],$A27) -> 0 | FS27: =COUNTIF(Tableau1[[#All],[28/03/2020]],$A27) -> 0 | FT27: =COUNTIF(Tableau1[[#All],[28/03/2020]],$A27) -> 0 | FU27: =COUNTIF(Tableau1[[#All],[29/03/2020]],$A27) -> 0 | FV27: =COUNTIF(Tableau1[[#All],[29/03/2020]],$A27) -> 0 | FW27: =COUNTIF(Tableau1[[#All],[30/03/2020]],$A27) -> 0 | FX27: =COUNTIF(Tableau1[[#All],[30/03/2020]],$A27) -> 0 | FY27: =COUNTIF(Tableau1[[#All],[31/03/2020]],$A27) -> 0 | FZ27: =COUNTIF(Tableau1[[#All],[31/03/2020]],$A27) -> 0 | GA27: =COUNTIF(Tableau1[[#All],[01/04/2020]],$A27) -> 0 | GB27: =COUNTIF(Tableau1[[#All],[01/04/2020]],$A27) -> 0 | GC27: =COUNTIF(Tableau1[[#All],[02/04/2020]],$A27) -> 0 | GD27: =COUNTIF(Tableau1[[#All],[02/04/2020]],$A27) -> 0 | GE27: =COUNTIF(Tableau1[[#All],[03/04/2020]],$A27) -> 0 | GF27: =COUNTIF(Tableau1[[#All],[03/04/2020]],$A27) -> 0 | GG27: =COUNTIF(Tableau1[[#All],[04/04/2020]],$A27) -> 0 | GH27: =COUNTIF(Tableau1[[#All],[04/04/2020]],$A27) -> 0 | GI27: =COUNTIF(Tableau1[[#All],[05/04/2020]],$A27) -> 0 | GJ27: =COUNTIF(Tableau1[[#All],[05/04/2020]],$A27) -> 0 | GK27: =COUNTIF(Tableau1[[#All],[06/04/2020]],$A27) -> 0 | GL27: =COUNTIF(Tableau1[[#All],[06/04/2020]],$A27) -> 0 | GM27: =COUNTIF(Tableau1[[#All],[07/04/2020]],$A27) -> 0 | GN27: =COUNTIF(Tableau1[[#All],[07/04/2020]],$A27) -> 0 | GO27: =COUNTIF(Tableau1[[#All],[08/04/2020]],$A27) -> 0 | GP27: =COUNTIF(Tableau1[[#All],[08/04/2020]],$A27) -> 0 | GQ27: =COUNTIF(Tableau1[[#All],[09/04/2020]],$A27) -> 0 | GR27: =COUNTIF(Tableau1[[#All],[09/04/2020]],$A27) -> 0 | GS27: =COUNTIF(Tableau1[[#All],[10/04/2020]],$A27) -> 0 | GT27: =COUNTIF(Tableau1[[#All],[10/04/2020]],$A27) -> 0 | GU27: =COUNTIF(Tableau1[[#All],[11/04/2020]],$A27) -> 0 | GV27: =COUNTIF(Tableau1[[#All],[11/04/2020]],$A27) -> 0 | GW27: =COUNTIF(Tableau1[[#All],[12/04/2020]],$A27) -> 0 | GX27: =COUNTIF(Tableau1[[#All],[12/04/2020]],$A27) -> 0 | GY27: =COUNTIF(Tableau1[[#All],[13/04/2020]],$A27) -> 0 | GZ27: =COUNTIF(Tableau1[[#All],[13/04/2020]],$A27) -> 0 | HA27: =COUNTIF(Tableau1[[#All],[14/04/2020]],$A27) -> 0 | HB27: =COUNTIF(Tableau1[[#All],[14/04/2020]],$A27) -> 0 | HC27: =COUNTIF(Tableau1[[#All],[15/04/2020]],$A27) -> 0 | HD27: =COUNTIF(Tableau1[[#All],[15/04/2020]],$A27) -> 0 | HE27: =COUNTIF(Tableau1[[#All],[16/04/2020]],$A27) -> 0 | HF27: =COUNTIF(Tableau1[[#All],[16/04/2020]],$A27) -> 0 | HG27: =COUNTIF(Tableau1[[#All],[17/04/2020]],$A27) -> 0 | HH27: =COUNTIF(Tableau1[[#All],[17/04/2020]],$A27) -> 0 | HI27: =COUNTIF(Tableau1[[#All],[18/04/2020]],$A27) -> 0 | HJ27: =COUNTIF(Tableau1[[#All],[18/04/2020]],$A27) -> 0 | HK27: =COUNTIF(Tableau1[[#All],[19/04/2020]],$A27) -> 0 | HL27: =COUNTIF(Tableau1[[#All],[19/04/2020]],$A27) -> 0 | HM27: =COUNTIF(Tableau1[[#All],[20/04/2020]],$A27) -> 0 | HN27: =COUNTIF(Tableau1[[#All],[20/04/2020]],$A27) -> 0 | HO27: =COUNTIF(Tableau1[[#All],[21/04/2020]],$A27) -> 0 | HP27: =COUNTIF(Tableau1[[#All],[21/04/2020]],$A27) -> 0 | HQ27: =COUNTIF(Tableau1[[#All],[22/04/2020]],$A27) -> 0 | HR27: =COUNTIF(Tableau1[[#All],[22/04/2020]],$A27) -> 0 | HS27: =COUNTIF(Tableau1[[#All],[23/04/2020]],$A27) -> 0 | HT27: =COUNTIF(Tableau1[[#All],[23/04/2020]],$A27) -> 0 | HU27: =COUNTIF(Tableau1[[#All],[24/04/2020]],$A27) -> 0 | HV27: =COUNTIF(Tableau1[[#All],[24/04/2020]],$A27) -> 0 | HW27: =COUNTIF(Tableau1[[#All],[25/04/2020]],$A27) -> 0 | HX27: =COUNTIF(Tableau1[[#All],[25/04/2020]],$A27) -> 0 | HY27: =COUNTIF(Tableau1[[#All],[26/04/2020]],$A27) -> 0 | HZ27: =COUNTIF(Tableau1[[#All],[26/04/2020]],$A27) -> 0 | IA27: =COUNTIF(Tableau1[[#All],[27/04/2020]],$A27) -> 0 | IB27: =COUNTIF(Tableau1[[#All],[27/04/2020]],$A27) -> 0 | IC27: =COUNTIF(Tableau1[[#All],[28/04/2020]],$A27) -> 0 | ID27: =COUNTIF(Tableau1[[#All],[28/04/2020]],$A27) -> 0 | IE27: =COUNTIF(Tableau1[[#All],[29/04/2020]],$A27) -> 0 | IF27: =COUNTIF(Tableau1[[#All],[29/04/2020]],$A27) -> 0 | IG27: =COUNTIF(Tableau1[[#All],[30/04/2020]],$A27) -> 0 | IH27: =COUNTIF(Tableau1[[#All],[30/04/2020]],$A27) -> 0 | II27: =COUNTIF(Tableau1[[#All],[01/05/2020]],$A27) -> 0 | IJ27: =COUNTIF(Tableau1[[#All],[01/05/2020]],$A27) -> 0 | IK27: =COUNTIF(Tableau1[[#All],[02/05/2020]],$A27) -> 0 | IL27: =COUNTIF(Tableau1[[#All],[02/05/2020]],$A27) -> 0 | IM27: =COUNTIF(Tableau1[[#All],[03/05/2020]],$A27) -> 0 | IN27: =COUNTIF(Tableau1[[#All],[03/05/2020]],$A27) -> 0 | IO27: =COUNTIF(Tableau1[[#All],[04/05/2020]],$A27) -> 0 | IP27: =COUNTIF(Tableau1[[#All],[04/05/2020]],$A27) -> 0 | IQ27: =COUNTIF(Tableau1[[#All],[05/05/2020]],$A27) -> 0 | IR27: =COUNTIF(Tableau1[[#All],[05/05/2020]],$A27) -> 0 | IS27: =COUNTIF(Tableau1[[#All],[06/05/2020]],$A27) -> 0 | IT27: =COUNTIF(Tableau1[[#All],[06/05/2020]],$A27) -> 0 | IU27: =COUNTIF(Tableau1[[#All],[07/05/2020]],$A27) -> 0 | IV27: =COUNTIF(Tableau1[[#All],[07/05/2020]],$A27) -> 0 | IW27: =COUNTIF(Tableau1[[#All],[08/05/2020]],$A27) -> 0 | IX27: =COUNTIF(Tableau1[[#All],[08/05/2020]],$A27) -> 0 | IY27: =COUNTIF(Tableau1[[#All],[09/05/2020]],$A27) -> 0 | IZ27: =COUNTIF(Tableau1[[#All],[09/05/2020]],$A27) -> 0 | JA27: =COUNTIF(Tableau1[[#All],[10/05/2020]],$A27) -> 0 | JB27: =COUNTIF(Tableau1[[#All],[10/05/2020]],$A27) -> 0 | JC27: =COUNTIF(Tableau1[[#All],[11/05/2020]],$A27) -> 0 | JD27: =COUNTIF(Tableau1[[#All],[11/05/2020]],$A27) -> 0 | JE27: =COUNTIF(Tableau1[[#All],[12/05/2020]],$A27) -> 0 | JF27: =COUNTIF(Tableau1[[#All],[12/05/2020]],$A27) -> 0 | JG27: =COUNTIF(Tableau1[[#All],[13/05/2020]],$A27) -> 0 | JH27: =COUNTIF(Tableau1[[#All],[13/05/2020]],$A27) -> 0 | JI27: =COUNTIF(Tableau1[[#All],[14/05/2020]],$A27) -> 0 | JJ27: =COUNTIF(Tableau1[[#All],[14/05/2020]],$A27) -> 0 | JK27: =COUNTIF(Tableau1[[#All],[15/05/2020]],$A27) -> 0 | JL27: =COUNTIF(Tableau1[[#All],[15/05/2020]],$A27) -> 0 | JM27: =COUNTIF(Tableau1[[#All],[16/05/2020]],$A27) -> 0 | JN27: =COUNTIF(Tableau1[[#All],[16/05/2020]],$A27) -> 0 | JO27: =COUNTIF(Tableau1[[#All],[17/05/2020]],$A27) -> 0 | JP27: =COUNTIF(Tableau1[[#All],[17/05/2020]],$A27) -> 0 | JQ27: =COUNTIF(Tableau1[[#All],[18/05/2020]],$A27) -> 0 | JR27: =COUNTIF(Tableau1[[#All],[18/05/2020]],$A27) -> 0 | JS27: =COUNTIF(Tableau1[[#All],[19/05/2020]],$A27) -> 0 | JT27: =COUNTIF(Tableau1[[#All],[19/05/2020]],$A27) -> 0 | JU27: =COUNTIF(Tableau1[[#All],[20/05/2020]],$A27) -> 0 | JV27: =COUNTIF(Tableau1[[#All],[20/05/2020]],$A27) -> 0 | JW27: =COUNTIF(Tableau1[[#All],[21/05/2020]],$A27) -> 0 | JX27: =COUNTIF(Tableau1[[#All],[21/05/2020]],$A27) -> 0 | JY27: =COUNTIF(Tableau1[[#All],[22/05/2020]],$A27) -> 0 | JZ27: =COUNTIF(Tableau1[[#All],[22/05/2020]],$A27) -> 0 | KA27: =COUNTIF(Tableau1[[#All],[23/05/2020]],$A27) -> 0 | KB27: =COUNTIF(Tableau1[[#All],[23/05/2020]],$A27) -> 0 | KC27: =COUNTIF(Tableau1[[#All],[24/05/2020]],$A27) -> 0 | KD27: =COUNTIF(Tableau1[[#All],[24/05/2020]],$A27) -> 0 | KE27: =COUNTIF(Tableau1[[#All],[25/05/2020]],$A27) -> 0 | KF27: =COUNTIF(Tableau1[[#All],[25/05/2020]],$A27) -> 0 | KG27: =COUNTIF(Tableau1[[#All],[26/05/2020]],$A27) -> 0 | KH27: =COUNTIF(Tableau1[[#All],[26/05/2020]],$A27) -> 0 | KI27: =COUNTIF(Tableau1[[#All],[27/05/2020]],$A27) -> 0 | KJ27: =COUNTIF(Tableau1[[#All],[27/05/2020]],$A27) -> 0 | KK27: =COUNTIF(Tableau1[[#All],[28/05/2020]],$A27) -> 0 | KL27: =COUNTIF(Tableau1[[#All],[28/05/2020]],$A27) -> 0 | KM27: =COUNTIF(Tableau1[[#All],[29/05/2020]],$A27) -> 0 | KN27: =COUNTIF(Tableau1[[#All],[29/05/2020]],$A27) -> 0 | KO27: =COUNTIF(Tableau1[[#All],[30/05/2020]],$A27) -> 0 | KP27: =COUNTIF(Tableau1[[#All],[30/05/2020]],$A27) -> 0 | KQ27: =COUNTIF(Tableau1[[#All],[31/05/2020]],$A27) -> 0 | KR27: =COUNTIF(Tableau1[[#All],[31/05/2020]],$A27) -> 0 | KS27: =COUNTIF(Tableau1[[#All],[01/06/2020]],$A27) -> 0 | KT27: =COUNTIF(Tableau1[[#All],[01/06/2020]],$A27) -> 0 | KU27: =COUNTIF(Tableau1[[#All],[02/06/2020]],$A27) -> 0 | KV27: =COUNTIF(Tableau1[[#All],[02/06/2020]],$A27) -> 0 | KW27: =COUNTIF(Tableau1[[#All],[03/06/2020]],$A27) -> 0 | KX27: =COUNTIF(Tableau1[[#All],[03/06/2020]],$A27) -> 0 | KY27: =COUNTIF(Tableau1[[#All],[04/06/2020]],$A27) -> 0 | KZ27: =COUNTIF(Tableau1[[#All],[04/06/2020]],$A27) -> 0 | LA27: =COUNTIF(Tableau1[[#All],[05/06/2020]],$A27) -> 0 | LB27: =COUNTIF(Tableau1[[#All],[05/06/2020]],$A27) -> 0 | LC27: =COUNTIF(Tableau1[[#All],[06/06/2020]],$A27) -> 0 | LD27: =COUNTIF(Tableau1[[#All],[06/06/2020]],$A27) -> 0 | LE27: =COUNTIF(Tableau1[[#All],[07/06/2020]],$A27) -> 0 | LF27: =COUNTIF(Tableau1[[#All],[07/06/2020]],$A27) -> 0 | LG27: =COUNTIF(Tableau1[[#All],[08/06/2020]],$A27) -> 0 | LH27: =COUNTIF(Tableau1[[#All],[08/06/2020]],$A27) -> 0 | LI27: =COUNTIF(Tableau1[[#All],[09/06/2020]],$A27) -> 0 | LJ27: =COUNTIF(Tableau1[[#All],[09/06/2020]],$A27) -> 0 | LK27: =COUNTIF(Tableau1[[#All],[10/06/2020]],$A27) -> 0 | LL27: =COUNTIF(Tableau1[[#All],[10/06/2020]],$A27) -> 0 | LM27: =COUNTIF(Tableau1[[#All],[11/06/2020]],$A27) -> 0 | LN27: =COUNTIF(Tableau1[[#All],[11/06/2020]],$A27) -> 0 | LO27: =COUNTIF(Tableau1[[#All],[12/06/2020]],$A27) -> 0 | LP27: =COUNTIF(Tableau1[[#All],[12/06/2020]],$A27) -> 0 | LQ27: =COUNTIF(Tableau1[[#All],[13/06/2020]],$A27) -> 0 | LR27: =COUNTIF(Tableau1[[#All],[13/06/2020]],$A27) -> 0 | LS27: =COUNTIF(Tableau1[[#All],[14/06/2020]],$A27) -> 0 | LT27: =COUNTIF(Tableau1[[#All],[14/06/2020]],$A27) -> 0 | LU27: =COUNTIF(Tableau1[[#All],[15/06/2020]],$A27) -> 0 | LV27: =COUNTIF(Tableau1[[#All],[15/06/2020]],$A27) -> 0 | LW27: =COUNTIF(Tableau1[[#All],[16/06/2020]],$A27) -> 0 | LX27: =COUNTIF(Tableau1[[#All],[16/06/2020]],$A27) -> 0 | LY27: =COUNTIF(Tableau1[[#All],[17/06/2020]],$A27) -> 0 | LZ27: =COUNTIF(Tableau1[[#All],[17/06/2020]],$A27) -> 0 | MA27: =COUNTIF(Tableau1[[#All],[18/06/2020]],$A27) -> 0 | MB27: =COUNTIF(Tableau1[[#All],[18/06/2020]],$A27) -> 0 | MC27: =COUNTIF(Tableau1[[#All],[19/06/2020]],$A27) -> 0 | MD27: =COUNTIF(Tableau1[[#All],[19/06/2020]],$A27) -> 0 | ME27: =COUNTIF(Tableau1[[#All],[20/06/2020]],$A27) -> 0 | MF27: =COUNTIF(Tableau1[[#All],[20/06/2020]],$A27) -> 0 | MG27: =COUNTIF(Tableau1[[#All],[21/06/2020]],$A27) -> 0 | MH27: =COUNTIF(Tableau1[[#All],[21/06/2020]],$A27) -> 0 | MI27: =COUNTIF(Tableau1[[#All],[22/06/2020]],$A27) -> 0 | MJ27: =COUNTIF(Tableau1[[#All],[22/06/2020]],$A27) -> 0 | MK27: =COUNTIF(Tableau1[[#All],[23/06/2020]],$A27) -> 0 | ML27: =COUNTIF(Tableau1[[#All],[23/06/2020]],$A27) -> 0 | MM27: =COUNTIF(Tableau1[[#All],[24/06/2020]],$A27) -> 0 | MN27: =COUNTIF(Tableau1[[#All],[24/06/2020]],$A27) -> 0 | MO27: =COUNTIF(Tableau1[[#All],[25/06/2020]],$A27) -> 0 | MP27: =COUNTIF(Tableau1[[#All],[25/06/2020]],$A27) -> 0 | MQ27: =COUNTIF(Tableau1[[#All],[26/06/2020]],$A27) -> 0 | MR27: =COUNTIF(Tableau1[[#All],[26/06/2020]],$A27) -> 0 | MS27: =COUNTIF(Tableau1[[#All],[27/06/2020]],$A27) -> 0 | MT27: =COUNTIF(Tableau1[[#All],[27/06/2020]],$A27) -> 0 | MU27: =COUNTIF(Tableau1[[#All],[28/06/2020]],$A27) -> 0 | MV27: =COUNTIF(Tableau1[[#All],[28/06/2020]],$A27) -> 0 | MW27: =COUNTIF(Tableau1[[#All],[29/06/2020]],$A27) -> 0 | MX27: =COUNTIF(Tableau1[[#All],[29/06/2020]],$A27) -> 0 | MY27: =COUNTIF(Tableau1[[#All],[30/06/2020]],$A27) -> 0 | MZ27: =COUNTIF(Tableau1[[#All],[30/06/2020]],$A27) -> 0 | NA27: =COUNTIF(Tableau1[[#All],[01/07/2020]],$A27) -> 0 | NB27: =COUNTIF(Tableau1[[#All],[01/07/2020]],$A27) -> 0 | NC27: =COUNTIF(Tableau1[[#All],[02/07/2020]],$A27) -> 0
A28: P | B28: =COUNTIF(Tableau1[[#All],[01/01/2020]],$A28) -> 0 | C28: =COUNTIF(Tableau1[[#All],[02/01/2020]],$A28) -> 0 | D28: =COUNTIF(Tableau1[[#All],[02/01/2020]],$A28) -> 0 | E28: =COUNTIF(Tableau1[[#All],[03/01/2020]],$A28) -> 0 | F28: =COUNTIF(Tableau1[[#All],[03/01/2020]],$A28) -> 0 | G28: =COUNTIF(Tableau1[[#All],[04/01/2020]],$A28) -> 0 | H28: =COUNTIF(Tableau1[[#All],[04/01/2020]],$A28) -> 0 | I28: =COUNTIF(Tableau1[[#All],[05/01/2020]],$A28) -> 0 | J28: =COUNTIF(Tableau1[[#All],[05/01/2020]],$A28) -> 0 | K28: =COUNTIF(Tableau1[[#All],[06/01/2020]],$A28) -> 0 | L28: =COUNTIF(Tableau1[[#All],[06/01/2020]],$A28) -> 0 | M28: =COUNTIF(Tableau1[[#All],[07/01/2020]],$A28) -> 0 | N28: =COUNTIF(Tableau1[[#All],[07/01/2020]],$A28) -> 0 | O28: =COUNTIF(Tableau1[[#All],[08/01/2020]],$A28) -> 0 | P28: =COUNTIF(Tableau1[[#All],[08/01/2020]],$A28) -> 0 | Q28: =COUNTIF(Tableau1[[#All],[09/01/2020]],$A28) -> 0 | R28: =COUNTIF(Tableau1[[#All],[09/01/2020]],$A28) -> 0 | S28: =COUNTIF(Tableau1[[#All],[10/01/2020]],$A28) -> 0 | T28: =COUNTIF(Tableau1[[#All],[10/01/2020]],$A28) -> 0 | U28: =COUNTIF(Tableau1[[#All],[11/01/2020]],$A28) -> 0 | V28: =COUNTIF(Tableau1[[#All],[11/01/2020]],$A28) -> 0 | W28: =COUNTIF(Tableau1[[#All],[12/01/2020]],$A28) -> 0 | X28: =COUNTIF(Tableau1[[#All],[12/01/2020]],$A28) -> 0 | Y28: =COUNTIF(Tableau1[[#All],[13/01/2020]],$A28) -> 0 | Z28: =COUNTIF(Tableau1[[#All],[13/01/2020]],$A28) -> 0 | AA28: =COUNTIF(Tableau1[[#All],[14/01/2020]],$A28) -> 0 | AB28: =COUNTIF(Tableau1[[#All],[14/01/2020]],$A28) -> 0 | AC28: =COUNTIF(Tableau1[[#All],[15/01/2020]],$A28) -> 0 | AD28: =COUNTIF(Tableau1[[#All],[15/01/2020]],$A28) -> 0 | AE28: =COUNTIF(Tableau1[[#All],[16/01/2020]],$A28) -> 0 | AF28: =COUNTIF(Tableau1[[#All],[16/01/2020]],$A28) -> 0 | AG28: =COUNTIF(Tableau1[[#All],[17/01/2020]],$A28) -> 0 | AH28: =COUNTIF(Tableau1[[#All],[17/01/2020]],$A28) -> 0 | AI28: =COUNTIF(Tableau1[[#All],[18/01/2020]],$A28) -> 0 | AJ28: =COUNTIF(Tableau1[[#All],[18/01/2020]],$A28) -> 0 | AK28: =COUNTIF(Tableau1[[#All],[19/01/2020]],$A28) -> 0 | AL28: =COUNTIF(Tableau1[[#All],[19/01/2020]],$A28) -> 0 | AM28: =COUNTIF(Tableau1[[#All],[20/01/2020]],$A28) -> 0 | AN28: =COUNTIF(Tableau1[[#All],[20/01/2020]],$A28) -> 0 | AO28: =COUNTIF(Tableau1[[#All],[21/01/2020]],$A28) -> 0 | AP28: =COUNTIF(Tableau1[[#All],[21/01/2020]],$A28) -> 0 | AQ28: =COUNTIF(Tableau1[[#All],[22/01/2020]],$A28) -> 0 | AR28: =COUNTIF(Tableau1[[#All],[22/01/2020]],$A28) -> 0 | AS28: =COUNTIF(Tableau1[[#All],[23/01/2020]],$A28) -> 0 | AT28: =COUNTIF(Tableau1[[#All],[23/01/2020]],$A28) -> 0 | AU28: =COUNTIF(Tableau1[[#All],[24/01/2020]],$A28) -> 0 | AV28: =COUNTIF(Tableau1[[#All],[24/01/2020]],$A28) -> 0 | AW28: =COUNTIF(Tableau1[[#All],[25/01/2020]],$A28) -> 0 | AX28: =COUNTIF(Tableau1[[#All],[25/01/2020]],$A28) -> 0 | AY28: =COUNTIF(Tableau1[[#All],[26/01/2020]],$A28) -> 0 | AZ28: =COUNTIF(Tableau1[[#All],[26/01/2020]],$A28) -> 0 | BA28: =COUNTIF(Tableau1[[#All],[27/01/2020]],$A28) -> 0 | BB28: =COUNTIF(Tableau1[[#All],[27/01/2020]],$A28) -> 0 | BC28: =COUNTIF(Tableau1[[#All],[28/01/2020]],$A28) -> 0 | BD28: =COUNTIF(Tableau1[[#All],[28/01/2020]],$A28) -> 0 | BE28: =COUNTIF(Tableau1[[#All],[29/01/2020]],$A28) -> 0 | BF28: =COUNTIF(Tableau1[[#All],[29/01/2020]],$A28) -> 0 | BG28: =COUNTIF(Tableau1[[#All],[30/01/2020]],$A28) -> 1 | BH28: =COUNTIF(Tableau1[[#All],[30/01/2020]],$A28) -> 1 | BI28: =COUNTIF(Tableau1[[#All],[31/01/2020]],$A28) -> 1 | BJ28: =COUNTIF(Tableau1[[#All],[31/01/2020]],$A28) -> 1 | BK28: =COUNTIF(Tableau1[[#All],[01/02/2020]],$A28) -> 1 | BL28: =COUNTIF(Tableau1[[#All],[01/02/2020]],$A28) -> 1 | BM28: =COUNTIF(Tableau1[[#All],[02/02/2020]],$A28) -> 1 | BN28: =COUNTIF(Tableau1[[#All],[02/02/2020]],$A28) -> 1 | BO28: =COUNTIF(Tableau1[[#All],[03/02/2020]],$A28) -> 1 | BP28: =COUNTIF(Tableau1[[#All],[03/02/2020]],$A28) -> 1 | BQ28: =COUNTIF(Tableau1[[#All],[04/02/2020]],$A28) -> 1 | BR28: =COUNTIF(Tableau1[[#All],[04/02/2020]],$A28) -> 1 | BS28: =COUNTIF(Tableau1[[#All],[05/02/2020]],$A28) -> 1 | BT28: =COUNTIF(Tableau1[[#All],[05/02/2020]],$A28) -> 1 | BU28: =COUNTIF(Tableau1[[#All],[06/02/2020]],$A28) -> 1 | BV28: =COUNTIF(Tableau1[[#All],[06/02/2020]],$A28) -> 1 | BW28: =COUNTIF(Tableau1[[#All],[07/02/2020]],$A28) -> 1 | BX28: =COUNTIF(Tableau1[[#All],[07/02/2020]],$A28) -> 1 | BY28: =COUNTIF(Tableau1[[#All],[08/02/2020]],$A28) -> 1 | BZ28: =COUNTIF(Tableau1[[#All],[08/02/2020]],$A28) -> 1 | CA28: =COUNTIF(Tableau1[[#All],[09/02/2020]],$A28) -> 1 | CB28: =COUNTIF(Tableau1[[#All],[09/02/2020]],$A28) -> 1 | CC28: =COUNTIF(Tableau1[[#All],[10/02/2020]],$A28) -> 1 | CD28: =COUNTIF(Tableau1[[#All],[10/02/2020]],$A28) -> 1 | CE28: =COUNTIF(Tableau1[[#All],[11/02/2020]],$A28) -> 1 | CF28: =COUNTIF(Tableau1[[#All],[11/02/2020]],$A28) -> 1 | CG28: =COUNTIF(Tableau1[[#All],[12/02/2020]],$A28) -> 1 | CH28: =COUNTIF(Tableau1[[#All],[12/02/2020]],$A28) -> 1 | CI28: =COUNTIF(Tableau1[[#All],[13/02/2020]],$A28) -> 1 | CJ28: =COUNTIF(Tableau1[[#All],[13/02/2020]],$A28) -> 1 | CK28: =COUNTIF(Tableau1[[#All],[14/02/2020]],$A28) -> 1 | CL28: =COUNTIF(Tableau1[[#All],[14/02/2020]],$A28) -> 1 | CM28: =COUNTIF(Tableau1[[#All],[15/02/2020]],$A28) -> 1 | CN28: =COUNTIF(Tableau1[[#All],[15/02/2020]],$A28) -> 1 | CO28: =COUNTIF(Tableau1[[#All],[16/02/2020]],$A28) -> 0 | CP28: =COUNTIF(Tableau1[[#All],[16/02/2020]],$A28) -> 0 | CQ28: =COUNTIF(Tableau1[[#All],[17/02/2020]],$A28) -> 0 | CR28: =COUNTIF(Tableau1[[#All],[17/02/2020]],$A28) -> 0 | CS28: =COUNTIF(Tableau1[[#All],[18/02/2020]],$A28) -> 0 | CT28: =COUNTIF(Tableau1[[#All],[18/02/2020]],$A28) -> 0 | CU28: =COUNTIF(Tableau1[[#All],[19/02/2020]],$A28) -> 0 | CV28: =COUNTIF(Tableau1[[#All],[19/02/2020]],$A28) -> 0 | CW28: =COUNTIF(Tableau1[[#All],[20/02/2020]],$A28) -> 0 | CX28: =COUNTIF(Tableau1[[#All],[20/02/2020]],$A28) -> 0 | CY28: =COUNTIF(Tableau1[[#All],[21/02/2020]],$A28) -> 0 | CZ28: =COUNTIF(Tableau1[[#All],[21/02/2020]],$A28) -> 0 | DA28: =COUNTIF(Tableau1[[#All],[22/02/2020]],$A28) -> 0 | DB28: =COUNTIF(Tableau1[[#All],[22/02/2020]],$A28) -> 0 | DC28: =COUNTIF(Tableau1[[#All],[23/02/2020]],$A28) -> 0 | DD28: =COUNTIF(Tableau1[[#All],[23/02/2020]],$A28) -> 0 | DE28: =COUNTIF(Tableau1[[#All],[24/02/2020]],$A28) -> 0 | DF28: =COUNTIF(Tableau1[[#All],[24/02/2020]],$A28) -> 0 | DG28: =COUNTIF(Tableau1[[#All],[25/02/2020]],$A28) -> 0 | DH28: =COUNTIF(Tableau1[[#All],[25/02/2020]],$A28) -> 0 | DI28: =COUNTIF(Tableau1[[#All],[26/02/2020]],$A28) -> 0 | DJ28: =COUNTIF(Tableau1[[#All],[26/02/2020]],$A28) -> 0 | DK28: =COUNTIF(Tableau1[[#All],[27/02/2020]],$A28) -> 0 | DL28: =COUNTIF(Tableau1[[#All],[27/02/2020]],$A28) -> 0 | DM28: =COUNTIF(Tableau1[[#All],[28/02/2020]],$A28) -> 0 | DN28: =COUNTIF(Tableau1[[#All],[28/02/2020]],$A28) -> 0 | DO28: =COUNTIF(Tableau1[[#All],[29/02/2020]],$A28) -> 0 | DP28: =COUNTIF(Tableau1[[#All],[29/02/2020]],$A28) -> 0 | DQ28: =COUNTIF(Tableau1[[#All],[01/03/2020]],$A28) -> 0 | DR28: =COUNTIF(Tableau1[[#All],[01/03/2020]],$A28) -> 0 | DS28: =COUNTIF(Tableau1[[#All],[02/03/2020]],$A28) -> 0 | DT28: =COUNTIF(Tableau1[[#All],[02/03/2020]],$A28) -> 0 | DU28: =COUNTIF(Tableau1[[#All],[03/03/2020]],$A28) -> 0 | DV28: =COUNTIF(Tableau1[[#All],[03/03/2020]],$A28) -> 0 | DW28: =COUNTIF(Tableau1[[#All],[04/03/2020]],$A28) -> 0 | DX28: =COUNTIF(Tableau1[[#All],[04/03/2020]],$A28) -> 0 | DY28: =COUNTIF(Tableau1[[#All],[05/03/2020]],$A28) -> 0 | DZ28: =COUNTIF(Tableau1[[#All],[05/03/2020]],$A28) -> 0 | EA28: =COUNTIF(Tableau1[[#All],[06/03/2020]],$A28) -> 0 | EB28: =COUNTIF(Tableau1[[#All],[06/03/2020]],$A28) -> 0 | EC28: =COUNTIF(Tableau1[[#All],[07/03/2020]],$A28) -> 0 | ED28: =COUNTIF(Tableau1[[#All],[07/03/2020]],$A28) -> 0 | EE28: =COUNTIF(Tableau1[[#All],[08/03/2020]],$A28) -> 0 | EF28: =COUNTIF(Tableau1[[#All],[08/03/2020]],$A28) -> 0 | EG28: =COUNTIF(Tableau1[[#All],[09/03/2020]],$A28) -> 0 | EH28: =COUNTIF(Tableau1[[#All],[09/03/2020]],$A28) -> 0 | EI28: =COUNTIF(Tableau1[[#All],[10/03/2020]],$A28) -> 0 | EJ28: =COUNTIF(Tableau1[[#All],[10/03/2020]],$A28) -> 0 | EK28: =COUNTIF(Tableau1[[#All],[11/03/2020]],$A28) -> 0 | EL28: =COUNTIF(Tableau1[[#All],[11/03/2020]],$A28) -> 0 | EM28: =COUNTIF(Tableau1[[#All],[12/03/2020]],$A28) -> 0 | EN28: =COUNTIF(Tableau1[[#All],[12/03/2020]],$A28) -> 0 | EO28: =COUNTIF(Tableau1[[#All],[13/03/2020]],$A28) -> 0 | EP28: =COUNTIF(Tableau1[[#All],[13/03/2020]],$A28) -> 0 | EQ28: =COUNTIF(Tableau1[[#All],[14/03/2020]],$A28) -> 0 | ER28: =COUNTIF(Tableau1[[#All],[14/03/2020]],$A28) -> 0 | ES28: =COUNTIF(Tableau1[[#All],[15/03/2020]],$A28) -> 0 | ET28: =COUNTIF(Tableau1[[#All],[15/03/2020]],$A28) -> 0 | EU28: =COUNTIF(Tableau1[[#All],[16/03/2020]],$A28) -> 0 | EV28: =COUNTIF(Tableau1[[#All],[16/03/2020]],$A28) -> 0 | EW28: =COUNTIF(Tableau1[[#All],[17/03/2020]],$A28) -> 0 | EX28: =COUNTIF(Tableau1[[#All],[17/03/2020]],$A28) -> 0 | EY28: =COUNTIF(Tableau1[[#All],[18/03/2020]],$A28) -> 0 | EZ28: =COUNTIF(Tableau1[[#All],[18/03/2020]],$A28) -> 0 | FA28: =COUNTIF(Tableau1[[#All],[19/03/2020]],$A28) -> 0 | FB28: =COUNTIF(Tableau1[[#All],[19/03/2020]],$A28) -> 0 | FC28: =COUNTIF(Tableau1[[#All],[20/03/2020]],$A28) -> 0 | FD28: =COUNTIF(Tableau1[[#All],[20/03/2020]],$A28) -> 0 | FE28: =COUNTIF(Tableau1[[#All],[21/03/2020]],$A28) -> 0 | FF28: =COUNTIF(Tableau1[[#All],[21/03/2020]],$A28) -> 0 | FG28: =COUNTIF(Tableau1[[#All],[22/03/2020]],$A28) -> 0 | FH28: =COUNTIF(Tableau1[[#All],[22/03/2020]],$A28) -> 0 | FI28: =COUNTIF(Tableau1[[#All],[23/03/2020]],$A28) -> 0 | FJ28: =COUNTIF(Tableau1[[#All],[23/03/2020]],$A28) -> 0 | FK28: =COUNTIF(Tableau1[[#All],[24/03/2020]],$A28) -> 0 | FL28: =COUNTIF(Tableau1[[#All],[24/03/2020]],$A28) -> 0 | FM28: =COUNTIF(Tableau1[[#All],[25/03/2020]],$A28) -> 0 | FN28: =COUNTIF(Tableau1[[#All],[25/03/2020]],$A28) -> 0 | FO28: =COUNTIF(Tableau1[[#All],[26/03/2020]],$A28) -> 0 | FP28: =COUNTIF(Tableau1[[#All],[26/03/2020]],$A28) -> 0 | FQ28: =COUNTIF(Tableau1[[#All],[27/03/2020]],$A28) -> 0 | FR28: =COUNTIF(Tableau1[[#All],[27/03/2020]],$A28) -> 0 | FS28: =COUNTIF(Tableau1[[#All],[28/03/2020]],$A28) -> 0 | FT28: =COUNTIF(Tableau1[[#All],[28/03/2020]],$A28) -> 0 | FU28: =COUNTIF(Tableau1[[#All],[29/03/2020]],$A28) -> 0 | FV28: =COUNTIF(Tableau1[[#All],[29/03/2020]],$A28) -> 0 | FW28: =COUNTIF(Tableau1[[#All],[30/03/2020]],$A28) -> 0 | FX28: =COUNTIF(Tableau1[[#All],[30/03/2020]],$A28) -> 0 | FY28: =COUNTIF(Tableau1[[#All],[31/03/2020]],$A28) -> 0 | FZ28: =COUNTIF(Tableau1[[#All],[31/03/2020]],$A28) -> 0 | GA28: =COUNTIF(Tableau1[[#All],[01/04/2020]],$A28) -> 0 | GB28: =COUNTIF(Tableau1[[#All],[01/04/2020]],$A28) -> 0 | GC28: =COUNTIF(Tableau1[[#All],[02/04/2020]],$A28) -> 0 | GD28: =COUNTIF(Tableau1[[#All],[02/04/2020]],$A28) -> 0 | GE28: =COUNTIF(Tableau1[[#All],[03/04/2020]],$A28) -> 0 | GF28: =COUNTIF(Tableau1[[#All],[03/04/2020]],$A28) -> 0 | GG28: =COUNTIF(Tableau1[[#All],[04/04/2020]],$A28) -> 0 | GH28: =COUNTIF(Tableau1[[#All],[04/04/2020]],$A28) -> 0 | GI28: =COUNTIF(Tableau1[[#All],[05/04/2020]],$A28) -> 0 | GJ28: =COUNTIF(Tableau1[[#All],[05/04/2020]],$A28) -> 0 | GK28: =COUNTIF(Tableau1[[#All],[06/04/2020]],$A28) -> 0 | GL28: =COUNTIF(Tableau1[[#All],[06/04/2020]],$A28) -> 0 | GM28: =COUNTIF(Tableau1[[#All],[07/04/2020]],$A28) -> 0 | GN28: =COUNTIF(Tableau1[[#All],[07/04/2020]],$A28) -> 0 | GO28: =COUNTIF(Tableau1[[#All],[08/04/2020]],$A28) -> 0 | GP28: =COUNTIF(Tableau1[[#All],[08/04/2020]],$A28) -> 0 | GQ28: =COUNTIF(Tableau1[[#All],[09/04/2020]],$A28) -> 0 | GR28: =COUNTIF(Tableau1[[#All],[09/04/2020]],$A28) -> 0 | GS28: =COUNTIF(Tableau1[[#All],[10/04/2020]],$A28) -> 0 | GT28: =COUNTIF(Tableau1[[#All],[10/04/2020]],$A28) -> 0 | GU28: =COUNTIF(Tableau1[[#All],[11/04/2020]],$A28) -> 0 | GV28: =COUNTIF(Tableau1[[#All],[11/04/2020]],$A28) -> 0 | GW28: =COUNTIF(Tableau1[[#All],[12/04/2020]],$A28) -> 0 | GX28: =COUNTIF(Tableau1[[#All],[12/04/2020]],$A28) -> 0 | GY28: =COUNTIF(Tableau1[[#All],[13/04/2020]],$A28) -> 0 | GZ28: =COUNTIF(Tableau1[[#All],[13/04/2020]],$A28) -> 0 | HA28: =COUNTIF(Tableau1[[#All],[14/04/2020]],$A28) -> 0 | HB28: =COUNTIF(Tableau1[[#All],[14/04/2020]],$A28) -> 0 | HC28: =COUNTIF(Tableau1[[#All],[15/04/2020]],$A28) -> 0 | HD28: =COUNTIF(Tableau1[[#All],[15/04/2020]],$A28) -> 0 | HE28: =COUNTIF(Tableau1[[#All],[16/04/2020]],$A28) -> 0 | HF28: =COUNTIF(Tableau1[[#All],[16/04/2020]],$A28) -> 0 | HG28: =COUNTIF(Tableau1[[#All],[17/04/2020]],$A28) -> 0 | HH28: =COUNTIF(Tableau1[[#All],[17/04/2020]],$A28) -> 0 | HI28: =COUNTIF(Tableau1[[#All],[18/04/2020]],$A28) -> 0 | HJ28: =COUNTIF(Tableau1[[#All],[18/04/2020]],$A28) -> 0 | HK28: =COUNTIF(Tableau1[[#All],[19/04/2020]],$A28) -> 0 | HL28: =COUNTIF(Tableau1[[#All],[19/04/2020]],$A28) -> 0 | HM28: =COUNTIF(Tableau1[[#All],[20/04/2020]],$A28) -> 0 | HN28: =COUNTIF(Tableau1[[#All],[20/04/2020]],$A28) -> 0 | HO28: =COUNTIF(Tableau1[[#All],[21/04/2020]],$A28) -> 0 | HP28: =COUNTIF(Tableau1[[#All],[21/04/2020]],$A28) -> 0 | HQ28: =COUNTIF(Tableau1[[#All],[22/04/2020]],$A28) -> 0 | HR28: =COUNTIF(Tableau1[[#All],[22/04/2020]],$A28) -> 0 | HS28: =COUNTIF(Tableau1[[#All],[23/04/2020]],$A28) -> 0 | HT28: =COUNTIF(Tableau1[[#All],[23/04/2020]],$A28) -> 0 | HU28: =COUNTIF(Tableau1[[#All],[24/04/2020]],$A28) -> 0 | HV28: =COUNTIF(Tableau1[[#All],[24/04/2020]],$A28) -> 0 | HW28: =COUNTIF(Tableau1[[#All],[25/04/2020]],$A28) -> 0 | HX28: =COUNTIF(Tableau1[[#All],[25/04/2020]],$A28) -> 0 | HY28: =COUNTIF(Tableau1[[#All],[26/04/2020]],$A28) -> 0 | HZ28: =COUNTIF(Tableau1[[#All],[26/04/2020]],$A28) -> 0 | IA28: =COUNTIF(Tableau1[[#All],[27/04/2020]],$A28) -> 0 | IB28: =COUNTIF(Tableau1[[#All],[27/04/2020]],$A28) -> 0 | IC28: =COUNTIF(Tableau1[[#All],[28/04/2020]],$A28) -> 0 | ID28: =COUNTIF(Tableau1[[#All],[28/04/2020]],$A28) -> 0 | IE28: =COUNTIF(Tableau1[[#All],[29/04/2020]],$A28) -> 0 | IF28: =COUNTIF(Tableau1[[#All],[29/04/2020]],$A28) -> 0 | IG28: =COUNTIF(Tableau1[[#All],[30/04/2020]],$A28) -> 0 | IH28: =COUNTIF(Tableau1[[#All],[30/04/2020]],$A28) -> 0 | II28: =COUNTIF(Tableau1[[#All],[01/05/2020]],$A28) -> 0 | IJ28: =COUNTIF(Tableau1[[#All],[01/05/2020]],$A28) -> 0 | IK28: =COUNTIF(Tableau1[[#All],[02/05/2020]],$A28) -> 0 | IL28: =COUNTIF(Tableau1[[#All],[02/05/2020]],$A28) -> 0 | IM28: =COUNTIF(Tableau1[[#All],[03/05/2020]],$A28) -> 0 | IN28: =COUNTIF(Tableau1[[#All],[03/05/2020]],$A28) -> 0 | IO28: =COUNTIF(Tableau1[[#All],[04/05/2020]],$A28) -> 0 | IP28: =COUNTIF(Tableau1[[#All],[04/05/2020]],$A28) -> 0 | IQ28: =COUNTIF(Tableau1[[#All],[05/05/2020]],$A28) -> 0 | IR28: =COUNTIF(Tableau1[[#All],[05/05/2020]],$A28) -> 0 | IS28: =COUNTIF(Tableau1[[#All],[06/05/2020]],$A28) -> 0 | IT28: =COUNTIF(Tableau1[[#All],[06/05/2020]],$A28) -> 0 | IU28: =COUNTIF(Tableau1[[#All],[07/05/2020]],$A28) -> 0 | IV28: =COUNTIF(Tableau1[[#All],[07/05/2020]],$A28) -> 0 | IW28: =COUNTIF(Tableau1[[#All],[08/05/2020]],$A28) -> 0 | IX28: =COUNTIF(Tableau1[[#All],[08/05/2020]],$A28) -> 0 | IY28: =COUNTIF(Tableau1[[#All],[09/05/2020]],$A28) -> 0 | IZ28: =COUNTIF(Tableau1[[#All],[09/05/2020]],$A28) -> 0 | JA28: =COUNTIF(Tableau1[[#All],[10/05/2020]],$A28) -> 0 | JB28: =COUNTIF(Tableau1[[#All],[10/05/2020]],$A28) -> 0 | JC28: =COUNTIF(Tableau1[[#All],[11/05/2020]],$A28) -> 0 | JD28: =COUNTIF(Tableau1[[#All],[11/05/2020]],$A28) -> 0 | JE28: =COUNTIF(Tableau1[[#All],[12/05/2020]],$A28) -> 0 | JF28: =COUNTIF(Tableau1[[#All],[12/05/2020]],$A28) -> 0 | JG28: =COUNTIF(Tableau1[[#All],[13/05/2020]],$A28) -> 0 | JH28: =COUNTIF(Tableau1[[#All],[13/05/2020]],$A28) -> 0 | JI28: =COUNTIF(Tableau1[[#All],[14/05/2020]],$A28) -> 0 | JJ28: =COUNTIF(Tableau1[[#All],[14/05/2020]],$A28) -> 0 | JK28: =COUNTIF(Tableau1[[#All],[15/05/2020]],$A28) -> 0 | JL28: =COUNTIF(Tableau1[[#All],[15/05/2020]],$A28) -> 0 | JM28: =COUNTIF(Tableau1[[#All],[16/05/2020]],$A28) -> 0 | JN28: =COUNTIF(Tableau1[[#All],[16/05/2020]],$A28) -> 0 | JO28: =COUNTIF(Tableau1[[#All],[17/05/2020]],$A28) -> 0 | JP28: =COUNTIF(Tableau1[[#All],[17/05/2020]],$A28) -> 0 | JQ28: =COUNTIF(Tableau1[[#All],[18/05/2020]],$A28) -> 0 | JR28: =COUNTIF(Tableau1[[#All],[18/05/2020]],$A28) -> 0 | JS28: =COUNTIF(Tableau1[[#All],[19/05/2020]],$A28) -> 0 | JT28: =COUNTIF(Tableau1[[#All],[19/05/2020]],$A28) -> 0 | JU28: =COUNTIF(Tableau1[[#All],[20/05/2020]],$A28) -> 0 | JV28: =COUNTIF(Tableau1[[#All],[20/05/2020]],$A28) -> 0 | JW28: =COUNTIF(Tableau1[[#All],[21/05/2020]],$A28) -> 0 | JX28: =COUNTIF(Tableau1[[#All],[21/05/2020]],$A28) -> 0 | JY28: =COUNTIF(Tableau1[[#All],[22/05/2020]],$A28) -> 0 | JZ28: =COUNTIF(Tableau1[[#All],[22/05/2020]],$A28) -> 0 | KA28: =COUNTIF(Tableau1[[#All],[23/05/2020]],$A28) -> 0 | KB28: =COUNTIF(Tableau1[[#All],[23/05/2020]],$A28) -> 0 | KC28: =COUNTIF(Tableau1[[#All],[24/05/2020]],$A28) -> 0 | KD28: =COUNTIF(Tableau1[[#All],[24/05/2020]],$A28) -> 0 | KE28: =COUNTIF(Tableau1[[#All],[25/05/2020]],$A28) -> 0 | KF28: =COUNTIF(Tableau1[[#All],[25/05/2020]],$A28) -> 0 | KG28: =COUNTIF(Tableau1[[#All],[26/05/2020]],$A28) -> 0 | KH28: =COUNTIF(Tableau1[[#All],[26/05/2020]],$A28) -> 0 | KI28: =COUNTIF(Tableau1[[#All],[27/05/2020]],$A28) -> 0 | KJ28: =COUNTIF(Tableau1[[#All],[27/05/2020]],$A28) -> 0 | KK28: =COUNTIF(Tableau1[[#All],[28/05/2020]],$A28) -> 0 | KL28: =COUNTIF(Tableau1[[#All],[28/05/2020]],$A28) -> 0 | KM28: =COUNTIF(Tableau1[[#All],[29/05/2020]],$A28) -> 0 | KN28: =COUNTIF(Tableau1[[#All],[29/05/2020]],$A28) -> 0 | KO28: =COUNTIF(Tableau1[[#All],[30/05/2020]],$A28) -> 0 | KP28: =COUNTIF(Tableau1[[#All],[30/05/2020]],$A28) -> 0 | KQ28: =COUNTIF(Tableau1[[#All],[31/05/2020]],$A28) -> 0 | KR28: =COUNTIF(Tableau1[[#All],[31/05/2020]],$A28) -> 0 | KS28: =COUNTIF(Tableau1[[#All],[01/06/2020]],$A28) -> 0 | KT28: =COUNTIF(Tableau1[[#All],[01/06/2020]],$A28) -> 0 | KU28: =COUNTIF(Tableau1[[#All],[02/06/2020]],$A28) -> 0 | KV28: =COUNTIF(Tableau1[[#All],[02/06/2020]],$A28) -> 0 | KW28: =COUNTIF(Tableau1[[#All],[03/06/2020]],$A28) -> 0 | KX28: =COUNTIF(Tableau1[[#All],[03/06/2020]],$A28) -> 0 | KY28: =COUNTIF(Tableau1[[#All],[04/06/2020]],$A28) -> 0 | KZ28: =COUNTIF(Tableau1[[#All],[04/06/2020]],$A28) -> 0 | LA28: =COUNTIF(Tableau1[[#All],[05/06/2020]],$A28) -> 0 | LB28: =COUNTIF(Tableau1[[#All],[05/06/2020]],$A28) -> 0 | LC28: =COUNTIF(Tableau1[[#All],[06/06/2020]],$A28) -> 0 | LD28: =COUNTIF(Tableau1[[#All],[06/06/2020]],$A28) -> 0 | LE28: =COUNTIF(Tableau1[[#All],[07/06/2020]],$A28) -> 0 | LF28: =COUNTIF(Tableau1[[#All],[07/06/2020]],$A28) -> 0 | LG28: =COUNTIF(Tableau1[[#All],[08/06/2020]],$A28) -> 0 | LH28: =COUNTIF(Tableau1[[#All],[08/06/2020]],$A28) -> 0 | LI28: =COUNTIF(Tableau1[[#All],[09/06/2020]],$A28) -> 0 | LJ28: =COUNTIF(Tableau1[[#All],[09/06/2020]],$A28) -> 0 | LK28: =COUNTIF(Tableau1[[#All],[10/06/2020]],$A28) -> 0 | LL28: =COUNTIF(Tableau1[[#All],[10/06/2020]],$A28) -> 0 | LM28: =COUNTIF(Tableau1[[#All],[11/06/2020]],$A28) -> 0 | LN28: =COUNTIF(Tableau1[[#All],[11/06/2020]],$A28) -> 0 | LO28: =COUNTIF(Tableau1[[#All],[12/06/2020]],$A28) -> 0 | LP28: =COUNTIF(Tableau1[[#All],[12/06/2020]],$A28) -> 0 | LQ28: =COUNTIF(Tableau1[[#All],[13/06/2020]],$A28) -> 0 | LR28: =COUNTIF(Tableau1[[#All],[13/06/2020]],$A28) -> 0 | LS28: =COUNTIF(Tableau1[[#All],[14/06/2020]],$A28) -> 0 | LT28: =COUNTIF(Tableau1[[#All],[14/06/2020]],$A28) -> 0 | LU28: =COUNTIF(Tableau1[[#All],[15/06/2020]],$A28) -> 0 | LV28: =COUNTIF(Tableau1[[#All],[15/06/2020]],$A28) -> 0 | LW28: =COUNTIF(Tableau1[[#All],[16/06/2020]],$A28) -> 0 | LX28: =COUNTIF(Tableau1[[#All],[16/06/2020]],$A28) -> 0 | LY28: =COUNTIF(Tableau1[[#All],[17/06/2020]],$A28) -> 0 | LZ28: =COUNTIF(Tableau1[[#All],[17/06/2020]],$A28) -> 0 | MA28: =COUNTIF(Tableau1[[#All],[18/06/2020]],$A28) -> 0 | MB28: =COUNTIF(Tableau1[[#All],[18/06/2020]],$A28) -> 0 | MC28: =COUNTIF(Tableau1[[#All],[19/06/2020]],$A28) -> 0 | MD28: =COUNTIF(Tableau1[[#All],[19/06/2020]],$A28) -> 0 | ME28: =COUNTIF(Tableau1[[#All],[20/06/2020]],$A28) -> 0 | MF28: =COUNTIF(Tableau1[[#All],[20/06/2020]],$A28) -> 0 | MG28: =COUNTIF(Tableau1[[#All],[21/06/2020]],$A28) -> 0 | MH28: =COUNTIF(Tableau1[[#All],[21/06/2020]],$A28) -> 0 | MI28: =COUNTIF(Tableau1[[#All],[22/06/2020]],$A28) -> 0 | MJ28: =COUNTIF(Tableau1[[#All],[22/06/2020]],$A28) -> 0 | MK28: =COUNTIF(Tableau1[[#All],[23/06/2020]],$A28) -> 0 | ML28: =COUNTIF(Tableau1[[#All],[23/06/2020]],$A28) -> 0 | MM28: =COUNTIF(Tableau1[[#All],[24/06/2020]],$A28) -> 0 | MN28: =COUNTIF(Tableau1[[#All],[24/06/2020]],$A28) -> 0 | MO28: =COUNTIF(Tableau1[[#All],[25/06/2020]],$A28) -> 0 | MP28: =COUNTIF(Tableau1[[#All],[25/06/2020]],$A28) -> 0 | MQ28: =COUNTIF(Tableau1[[#All],[26/06/2020]],$A28) -> 0 | MR28: =COUNTIF(Tableau1[[#All],[26/06/2020]],$A28) -> 0 | MS28: =COUNTIF(Tableau1[[#All],[27/06/2020]],$A28) -> 0 | MT28: =COUNTIF(Tableau1[[#All],[27/06/2020]],$A28) -> 0 | MU28: =COUNTIF(Tableau1[[#All],[28/06/2020]],$A28) -> 0 | MV28: =COUNTIF(Tableau1[[#All],[28/06/2020]],$A28) -> 0 | MW28: =COUNTIF(Tableau1[[#All],[29/06/2020]],$A28) -> 0 | MX28: =COUNTIF(Tableau1[[#All],[29/06/2020]],$A28) -> 0 | MY28: =COUNTIF(Tableau1[[#All],[30/06/2020]],$A28) -> 0 | MZ28: =COUNTIF(Tableau1[[#All],[30/06/2020]],$A28) -> 0 | NA28: =COUNTIF(Tableau1[[#All],[01/07/2020]],$A28) -> 0 | NB28: =COUNTIF(Tableau1[[#All],[01/07/2020]],$A28) -> 0 | NC28: =COUNTIF(Tableau1[[#All],[02/07/2020]],$A28) -> 0
A29: M | B29: =COUNTIF(Tableau1[[#All],[01/01/2020]],$A29) -> 0 | C29: =COUNTIF(Tableau1[[#All],[02/01/2020]],$A29) -> 0 | D29: =COUNTIF(Tableau1[[#All],[02/01/2020]],$A29) -> 0 | E29: =COUNTIF(Tableau1[[#All],[03/01/2020]],$A29) -> 0 | F29: =COUNTIF(Tableau1[[#All],[03/01/2020]],$A29) -> 0 | G29: =COUNTIF(Tableau1[[#All],[04/01/2020]],$A29) -> 0 | H29: =COUNTIF(Tableau1[[#All],[04/01/2020]],$A29) -> 0 | I29: =COUNTIF(Tableau1[[#All],[05/01/2020]],$A29) -> 0 | J29: =COUNTIF(Tableau1[[#All],[05/01/2020]],$A29) -> 0 | K29: =COUNTIF(Tableau1[[#All],[06/01/2020]],$A29) -> 0 | L29: =COUNTIF(Tableau1[[#All],[06/01/2020]],$A29) -> 0 | M29: =COUNTIF(Tableau1[[#All],[07/01/2020]],$A29) -> 0 | N29: =COUNTIF(Tableau1[[#All],[07/01/2020]],$A29) -> 0 | O29: =COUNTIF(Tableau1[[#All],[08/01/2020]],$A29) -> 0 | P29: =COUNTIF(Tableau1[[#All],[08/01/2020]],$A29) -> 0 | Q29: =COUNTIF(Tableau1[[#All],[09/01/2020]],$A29) -> 0 | R29: =COUNTIF(Tableau1[[#All],[09/01/2020]],$A29) -> 0 | S29: =COUNTIF(Tableau1[[#All],[10/01/2020]],$A29) -> 0 | T29: =COUNTIF(Tableau1[[#All],[10/01/2020]],$A29) -> 0 | U29: =COUNTIF(Tableau1[[#All],[11/01/2020]],$A29) -> 0 | V29: =COUNTIF(Tableau1[[#All],[11/01/2020]],$A29) -> 0 | W29: =COUNTIF(Tableau1[[#All],[12/01/2020]],$A29) -> 0 | X29: =COUNTIF(Tableau1[[#All],[12/01/2020]],$A29) -> 0 | Y29: =COUNTIF(Tableau1[[#All],[13/01/2020]],$A29) -> 0 | Z29: =COUNTIF(Tableau1[[#All],[13/01/2020]],$A29) -> 0 | AA29: =COUNTIF(Tableau1[[#All],[14/01/2020]],$A29) -> 0 | AB29: =COUNTIF(Tableau1[[#All],[14/01/2020]],$A29) -> 0 | AC29: =COUNTIF(Tableau1[[#All],[15/01/2020]],$A29) -> 0 | AD29: =COUNTIF(Tableau1[[#All],[15/01/2020]],$A29) -> 0 | AE29: =COUNTIF(Tableau1[[#All],[16/01/2020]],$A29) -> 0 | AF29: =COUNTIF(Tableau1[[#All],[16/01/2020]],$A29) -> 0 | AG29: =COUNTIF(Tableau1[[#All],[17/01/2020]],$A29) -> 0 | AH29: =COUNTIF(Tableau1[[#All],[17/01/2020]],$A29) -> 0 | AI29: =COUNTIF(Tableau1[[#All],[18/01/2020]],$A29) -> 0 | AJ29: =COUNTIF(Tableau1[[#All],[18/01/2020]],$A29) -> 0 | AK29: =COUNTIF(Tableau1[[#All],[19/01/2020]],$A29) -> 0 | AL29: =COUNTIF(Tableau1[[#All],[19/01/2020]],$A29) -> 0 | AM29: =COUNTIF(Tableau1[[#All],[20/01/2020]],$A29) -> 0 | AN29: =COUNTIF(Tableau1[[#All],[20/01/2020]],$A29) -> 0 | AO29: =COUNTIF(Tableau1[[#All],[21/01/2020]],$A29) -> 0 | AP29: =COUNTIF(Tableau1[[#All],[21/01/2020]],$A29) -> 0 | AQ29: =COUNTIF(Tableau1[[#All],[22/01/2020]],$A29) -> 0 | AR29: =COUNTIF(Tableau1[[#All],[22/01/2020]],$A29) -> 0 | AS29: =COUNTIF(Tableau1[[#All],[23/01/2020]],$A29) -> 0 | AT29: =COUNTIF(Tableau1[[#All],[23/01/2020]],$A29) -> 0 | AU29: =COUNTIF(Tableau1[[#All],[24/01/2020]],$A29) -> 0 | AV29: =COUNTIF(Tableau1[[#All],[24/01/2020]],$A29) -> 0 | AW29: =COUNTIF(Tableau1[[#All],[25/01/2020]],$A29) -> 0 | AX29: =COUNTIF(Tableau1[[#All],[25/01/2020]],$A29) -> 0 | AY29: =COUNTIF(Tableau1[[#All],[26/01/2020]],$A29) -> 0 | AZ29: =COUNTIF(Tableau1[[#All],[26/01/2020]],$A29) -> 0 | BA29: =COUNTIF(Tableau1[[#All],[27/01/2020]],$A29) -> 0 | BB29: =COUNTIF(Tableau1[[#All],[27/01/2020]],$A29) -> 0 | BC29: =COUNTIF(Tableau1[[#All],[28/01/2020]],$A29) -> 0 | BD29: =COUNTIF(Tableau1[[#All],[28/01/2020]],$A29) -> 0 | BE29: =COUNTIF(Tableau1[[#All],[29/01/2020]],$A29) -> 0 | BF29: =COUNTIF(Tableau1[[#All],[29/01/2020]],$A29) -> 0 | BG29: =COUNTIF(Tableau1[[#All],[30/01/2020]],$A29) -> 0 | BH29: =COUNTIF(Tableau1[[#All],[30/01/2020]],$A29) -> 0 | BI29: =COUNTIF(Tableau1[[#All],[31/01/2020]],$A29) -> 0 | BJ29: =COUNTIF(Tableau1[[#All],[31/01/2020]],$A29) -> 0 | BK29: =COUNTIF(Tableau1[[#All],[01/02/2020]],$A29) -> 0 | BL29: =COUNTIF(Tableau1[[#All],[01/02/2020]],$A29) -> 0 | BM29: =COUNTIF(Tableau1[[#All],[02/02/2020]],$A29) -> 0 | BN29: =COUNTIF(Tableau1[[#All],[02/02/2020]],$A29) -> 0 | BO29: =COUNTIF(Tableau1[[#All],[03/02/2020]],$A29) -> 0 | BP29: =COUNTIF(Tableau1[[#All],[03/02/2020]],$A29) -> 0 | BQ29: =COUNTIF(Tableau1[[#All],[04/02/2020]],$A29) -> 0 | BR29: =COUNTIF(Tableau1[[#All],[04/02/2020]],$A29) -> 0 | BS29: =COUNTIF(Tableau1[[#All],[05/02/2020]],$A29) -> 0 | BT29: =COUNTIF(Tableau1[[#All],[05/02/2020]],$A29) -> 0 | BU29: =COUNTIF(Tableau1[[#All],[06/02/2020]],$A29) -> 0 | BV29: =COUNTIF(Tableau1[[#All],[06/02/2020]],$A29) -> 0 | BW29: =COUNTIF(Tableau1[[#All],[07/02/2020]],$A29) -> 0 | BX29: =COUNTIF(Tableau1[[#All],[07/02/2020]],$A29) -> 0 | BY29: =COUNTIF(Tableau1[[#All],[08/02/2020]],$A29) -> 0 | BZ29: =COUNTIF(Tableau1[[#All],[08/02/2020]],$A29) -> 0 | CA29: =COUNTIF(Tableau1[[#All],[09/02/2020]],$A29) -> 0 | CB29: =COUNTIF(Tableau1[[#All],[09/02/2020]],$A29) -> 0 | CC29: =COUNTIF(Tableau1[[#All],[10/02/2020]],$A29) -> 0 | CD29: =COUNTIF(Tableau1[[#All],[10/02/2020]],$A29) -> 0 | CE29: =COUNTIF(Tableau1[[#All],[11/02/2020]],$A29) -> 0 | CF29: =COUNTIF(Tableau1[[#All],[11/02/2020]],$A29) -> 0 | CG29: =COUNTIF(Tableau1[[#All],[12/02/2020]],$A29) -> 0 | CH29: =COUNTIF(Tableau1[[#All],[12/02/2020]],$A29) -> 0 | CI29: =COUNTIF(Tableau1[[#All],[13/02/2020]],$A29) -> 0 | CJ29: =COUNTIF(Tableau1[[#All],[13/02/2020]],$A29) -> 0 | CK29: =COUNTIF(Tableau1[[#All],[14/02/2020]],$A29) -> 0 | CL29: =COUNTIF(Tableau1[[#All],[14/02/2020]],$A29) -> 0 | CM29: =COUNTIF(Tableau1[[#All],[15/02/2020]],$A29) -> 0 | CN29: =COUNTIF(Tableau1[[#All],[15/02/2020]],$A29) -> 0 | CO29: =COUNTIF(Tableau1[[#All],[16/02/2020]],$A29) -> 0 | CP29: =COUNTIF(Tableau1[[#All],[16/02/2020]],$A29) -> 0 | CQ29: =COUNTIF(Tableau1[[#All],[17/02/2020]],$A29) -> 0 | CR29: =COUNTIF(Tableau1[[#All],[17/02/2020]],$A29) -> 0 | CS29: =COUNTIF(Tableau1[[#All],[18/02/2020]],$A29) -> 0 | CT29: =COUNTIF(Tableau1[[#All],[18/02/2020]],$A29) -> 0 | CU29: =COUNTIF(Tableau1[[#All],[19/02/2020]],$A29) -> 0 | CV29: =COUNTIF(Tableau1[[#All],[19/02/2020]],$A29) -> 0 | CW29: =COUNTIF(Tableau1[[#All],[20/02/2020]],$A29) -> 0 | CX29: =COUNTIF(Tableau1[[#All],[20/02/2020]],$A29) -> 0 | CY29: =COUNTIF(Tableau1[[#All],[21/02/2020]],$A29) -> 0 | CZ29: =COUNTIF(Tableau1[[#All],[21/02/2020]],$A29) -> 0 | DA29: =COUNTIF(Tableau1[[#All],[22/02/2020]],$A29) -> 0 | DB29: =COUNTIF(Tableau1[[#All],[22/02/2020]],$A29) -> 0 | DC29: =COUNTIF(Tableau1[[#All],[23/02/2020]],$A29) -> 0 | DD29: =COUNTIF(Tableau1[[#All],[23/02/2020]],$A29) -> 0 | DE29: =COUNTIF(Tableau1[[#All],[24/02/2020]],$A29) -> 0 | DF29: =COUNTIF(Tableau1[[#All],[24/02/2020]],$A29) -> 0 | DG29: =COUNTIF(Tableau1[[#All],[25/02/2020]],$A29) -> 0 | DH29: =COUNTIF(Tableau1[[#All],[25/02/2020]],$A29) -> 0 | DI29: =COUNTIF(Tableau1[[#All],[26/02/2020]],$A29) -> 0 | DJ29: =COUNTIF(Tableau1[[#All],[26/02/2020]],$A29) -> 0 | DK29: =COUNTIF(Tableau1[[#All],[27/02/2020]],$A29) -> 0 | DL29: =COUNTIF(Tableau1[[#All],[27/02/2020]],$A29) -> 0 | DM29: =COUNTIF(Tableau1[[#All],[28/02/2020]],$A29) -> 0 | DN29: =COUNTIF(Tableau1[[#All],[28/02/2020]],$A29) -> 0 | DO29: =COUNTIF(Tableau1[[#All],[29/02/2020]],$A29) -> 0 | DP29: =COUNTIF(Tableau1[[#All],[29/02/2020]],$A29) -> 0 | DQ29: =COUNTIF(Tableau1[[#All],[01/03/2020]],$A29) -> 0 | DR29: =COUNTIF(Tableau1[[#All],[01/03/2020]],$A29) -> 0 | DS29: =COUNTIF(Tableau1[[#All],[02/03/2020]],$A29) -> 0 | DT29: =COUNTIF(Tableau1[[#All],[02/03/2020]],$A29) -> 0 | DU29: =COUNTIF(Tableau1[[#All],[03/03/2020]],$A29) -> 0 | DV29: =COUNTIF(Tableau1[[#All],[03/03/2020]],$A29) -> 0 | DW29: =COUNTIF(Tableau1[[#All],[04/03/2020]],$A29) -> 0 | DX29: =COUNTIF(Tableau1[[#All],[04/03/2020]],$A29) -> 0 | DY29: =COUNTIF(Tableau1[[#All],[05/03/2020]],$A29) -> 0 | DZ29: =COUNTIF(Tableau1[[#All],[05/03/2020]],$A29) -> 0 | EA29: =COUNTIF(Tableau1[[#All],[06/03/2020]],$A29) -> 0 | EB29: =COUNTIF(Tableau1[[#All],[06/03/2020]],$A29) -> 0 | EC29: =COUNTIF(Tableau1[[#All],[07/03/2020]],$A29) -> 0 | ED29: =COUNTIF(Tableau1[[#All],[07/03/2020]],$A29) -> 0 | EE29: =COUNTIF(Tableau1[[#All],[08/03/2020]],$A29) -> 0 | EF29: =COUNTIF(Tableau1[[#All],[08/03/2020]],$A29) -> 0 | EG29: =COUNTIF(Tableau1[[#All],[09/03/2020]],$A29) -> 0 | EH29: =COUNTIF(Tableau1[[#All],[09/03/2020]],$A29) -> 0 | EI29: =COUNTIF(Tableau1[[#All],[10/03/2020]],$A29) -> 0 | EJ29: =COUNTIF(Tableau1[[#All],[10/03/2020]],$A29) -> 0 | EK29: =COUNTIF(Tableau1[[#All],[11/03/2020]],$A29) -> 0 | EL29: =COUNTIF(Tableau1[[#All],[11/03/2020]],$A29) -> 0 | EM29: =COUNTIF(Tableau1[[#All],[12/03/2020]],$A29) -> 0 | EN29: =COUNTIF(Tableau1[[#All],[12/03/2020]],$A29) -> 0 | EO29: =COUNTIF(Tableau1[[#All],[13/03/2020]],$A29) -> 0 | EP29: =COUNTIF(Tableau1[[#All],[13/03/2020]],$A29) -> 0 | EQ29: =COUNTIF(Tableau1[[#All],[14/03/2020]],$A29) -> 0 | ER29: =COUNTIF(Tableau1[[#All],[14/03/2020]],$A29) -> 0 | ES29: =COUNTIF(Tableau1[[#All],[15/03/2020]],$A29) -> 0 | ET29: =COUNTIF(Tableau1[[#All],[15/03/2020]],$A29) -> 0 | EU29: =COUNTIF(Tableau1[[#All],[16/03/2020]],$A29) -> 0 | EV29: =COUNTIF(Tableau1[[#All],[16/03/2020]],$A29) -> 0 | EW29: =COUNTIF(Tableau1[[#All],[17/03/2020]],$A29) -> 0 | EX29: =COUNTIF(Tableau1[[#All],[17/03/2020]],$A29) -> 0 | EY29: =COUNTIF(Tableau1[[#All],[18/03/2020]],$A29) -> 0 | EZ29: =COUNTIF(Tableau1[[#All],[18/03/2020]],$A29) -> 0 | FA29: =COUNTIF(Tableau1[[#All],[19/03/2020]],$A29) -> 0 | FB29: =COUNTIF(Tableau1[[#All],[19/03/2020]],$A29) -> 0 | FC29: =COUNTIF(Tableau1[[#All],[20/03/2020]],$A29) -> 0 | FD29: =COUNTIF(Tableau1[[#All],[20/03/2020]],$A29) -> 0 | FE29: =COUNTIF(Tableau1[[#All],[21/03/2020]],$A29) -> 0 | FF29: =COUNTIF(Tableau1[[#All],[21/03/2020]],$A29) -> 0 | FG29: =COUNTIF(Tableau1[[#All],[22/03/2020]],$A29) -> 0 | FH29: =COUNTIF(Tableau1[[#All],[22/03/2020]],$A29) -> 0 | FI29: =COUNTIF(Tableau1[[#All],[23/03/2020]],$A29) -> 0 | FJ29: =COUNTIF(Tableau1[[#All],[23/03/2020]],$A29) -> 0 | FK29: =COUNTIF(Tableau1[[#All],[24/03/2020]],$A29) -> 0 | FL29: =COUNTIF(Tableau1[[#All],[24/03/2020]],$A29) -> 0 | FM29: =COUNTIF(Tableau1[[#All],[25/03/2020]],$A29) -> 0 | FN29: =COUNTIF(Tableau1[[#All],[25/03/2020]],$A29) -> 0 | FO29: =COUNTIF(Tableau1[[#All],[26/03/2020]],$A29) -> 0 | FP29: =COUNTIF(Tableau1[[#All],[26/03/2020]],$A29) -> 0 | FQ29: =COUNTIF(Tableau1[[#All],[27/03/2020]],$A29) -> 0 | FR29: =COUNTIF(Tableau1[[#All],[27/03/2020]],$A29) -> 0 | FS29: =COUNTIF(Tableau1[[#All],[28/03/2020]],$A29) -> 0 | FT29: =COUNTIF(Tableau1[[#All],[28/03/2020]],$A29) -> 0 | FU29: =COUNTIF(Tableau1[[#All],[29/03/2020]],$A29) -> 0 | FV29: =COUNTIF(Tableau1[[#All],[29/03/2020]],$A29) -> 0 | FW29: =COUNTIF(Tableau1[[#All],[30/03/2020]],$A29) -> 0 | FX29: =COUNTIF(Tableau1[[#All],[30/03/2020]],$A29) -> 0 | FY29: =COUNTIF(Tableau1[[#All],[31/03/2020]],$A29) -> 0 | FZ29: =COUNTIF(Tableau1[[#All],[31/03/2020]],$A29) -> 0 | GA29: =COUNTIF(Tableau1[[#All],[01/04/2020]],$A29) -> 0 | GB29: =COUNTIF(Tableau1[[#All],[01/04/2020]],$A29) -> 0 | GC29: =COUNTIF(Tableau1[[#All],[02/04/2020]],$A29) -> 0 | GD29: =COUNTIF(Tableau1[[#All],[02/04/2020]],$A29) -> 0 | GE29: =COUNTIF(Tableau1[[#All],[03/04/2020]],$A29) -> 0 | GF29: =COUNTIF(Tableau1[[#All],[03/04/2020]],$A29) -> 0 | GG29: =COUNTIF(Tableau1[[#All],[04/04/2020]],$A29) -> 0 | GH29: =COUNTIF(Tableau1[[#All],[04/04/2020]],$A29) -> 0 | GI29: =COUNTIF(Tableau1[[#All],[05/04/2020]],$A29) -> 0 | GJ29: =COUNTIF(Tableau1[[#All],[05/04/2020]],$A29) -> 0 | GK29: =COUNTIF(Tableau1[[#All],[06/04/2020]],$A29) -> 0 | GL29: =COUNTIF(Tableau1[[#All],[06/04/2020]],$A29) -> 0 | GM29: =COUNTIF(Tableau1[[#All],[07/04/2020]],$A29) -> 0 | GN29: =COUNTIF(Tableau1[[#All],[07/04/2020]],$A29) -> 0 | GO29: =COUNTIF(Tableau1[[#All],[08/04/2020]],$A29) -> 0 | GP29: =COUNTIF(Tableau1[[#All],[08/04/2020]],$A29) -> 0 | GQ29: =COUNTIF(Tableau1[[#All],[09/04/2020]],$A29) -> 0 | GR29: =COUNTIF(Tableau1[[#All],[09/04/2020]],$A29) -> 0 | GS29: =COUNTIF(Tableau1[[#All],[10/04/2020]],$A29) -> 0 | GT29: =COUNTIF(Tableau1[[#All],[10/04/2020]],$A29) -> 0 | GU29: =COUNTIF(Tableau1[[#All],[11/04/2020]],$A29) -> 0 | GV29: =COUNTIF(Tableau1[[#All],[11/04/2020]],$A29) -> 0 | GW29: =COUNTIF(Tableau1[[#All],[12/04/2020]],$A29) -> 0 | GX29: =COUNTIF(Tableau1[[#All],[12/04/2020]],$A29) -> 0 | GY29: =COUNTIF(Tableau1[[#All],[13/04/2020]],$A29) -> 0 | GZ29: =COUNTIF(Tableau1[[#All],[13/04/2020]],$A29) -> 0 | HA29: =COUNTIF(Tableau1[[#All],[14/04/2020]],$A29) -> 0 | HB29: =COUNTIF(Tableau1[[#All],[14/04/2020]],$A29) -> 0 | HC29: =COUNTIF(Tableau1[[#All],[15/04/2020]],$A29) -> 0 | HD29: =COUNTIF(Tableau1[[#All],[15/04/2020]],$A29) -> 0 | HE29: =COUNTIF(Tableau1[[#All],[16/04/2020]],$A29) -> 0 | HF29: =COUNTIF(Tableau1[[#All],[16/04/2020]],$A29) -> 0 | HG29: =COUNTIF(Tableau1[[#All],[17/04/2020]],$A29) -> 0 | HH29: =COUNTIF(Tableau1[[#All],[17/04/2020]],$A29) -> 0 | HI29: =COUNTIF(Tableau1[[#All],[18/04/2020]],$A29) -> 0 | HJ29: =COUNTIF(Tableau1[[#All],[18/04/2020]],$A29) -> 0 | HK29: =COUNTIF(Tableau1[[#All],[19/04/2020]],$A29) -> 0 | HL29: =COUNTIF(Tableau1[[#All],[19/04/2020]],$A29) -> 0 | HM29: =COUNTIF(Tableau1[[#All],[20/04/2020]],$A29) -> 0 | HN29: =COUNTIF(Tableau1[[#All],[20/04/2020]],$A29) -> 0 | HO29: =COUNTIF(Tableau1[[#All],[21/04/2020]],$A29) -> 0 | HP29: =COUNTIF(Tableau1[[#All],[21/04/2020]],$A29) -> 0 | HQ29: =COUNTIF(Tableau1[[#All],[22/04/2020]],$A29) -> 0 | HR29: =COUNTIF(Tableau1[[#All],[22/04/2020]],$A29) -> 0 | HS29: =COUNTIF(Tableau1[[#All],[23/04/2020]],$A29) -> 0 | HT29: =COUNTIF(Tableau1[[#All],[23/04/2020]],$A29) -> 0 | HU29: =COUNTIF(Tableau1[[#All],[24/04/2020]],$A29) -> 0 | HV29: =COUNTIF(Tableau1[[#All],[24/04/2020]],$A29) -> 0 | HW29: =COUNTIF(Tableau1[[#All],[25/04/2020]],$A29) -> 0 | HX29: =COUNTIF(Tableau1[[#All],[25/04/2020]],$A29) -> 0 | HY29: =COUNTIF(Tableau1[[#All],[26/04/2020]],$A29) -> 0 | HZ29: =COUNTIF(Tableau1[[#All],[26/04/2020]],$A29) -> 0 | IA29: =COUNTIF(Tableau1[[#All],[27/04/2020]],$A29) -> 0 | IB29: =COUNTIF(Tableau1[[#All],[27/04/2020]],$A29) -> 0 | IC29: =COUNTIF(Tableau1[[#All],[28/04/2020]],$A29) -> 0 | ID29: =COUNTIF(Tableau1[[#All],[28/04/2020]],$A29) -> 0 | IE29: =COUNTIF(Tableau1[[#All],[29/04/2020]],$A29) -> 0 | IF29: =COUNTIF(Tableau1[[#All],[29/04/2020]],$A29) -> 0 | IG29: =COUNTIF(Tableau1[[#All],[30/04/2020]],$A29) -> 0 | IH29: =COUNTIF(Tableau1[[#All],[30/04/2020]],$A29) -> 0 | II29: =COUNTIF(Tableau1[[#All],[01/05/2020]],$A29) -> 0 | IJ29: =COUNTIF(Tableau1[[#All],[01/05/2020]],$A29) -> 0 | IK29: =COUNTIF(Tableau1[[#All],[02/05/2020]],$A29) -> 0 | IL29: =COUNTIF(Tableau1[[#All],[02/05/2020]],$A29) -> 0 | IM29: =COUNTIF(Tableau1[[#All],[03/05/2020]],$A29) -> 0 | IN29: =COUNTIF(Tableau1[[#All],[03/05/2020]],$A29) -> 0 | IO29: =COUNTIF(Tableau1[[#All],[04/05/2020]],$A29) -> 0 | IP29: =COUNTIF(Tableau1[[#All],[04/05/2020]],$A29) -> 0 | IQ29: =COUNTIF(Tableau1[[#All],[05/05/2020]],$A29) -> 0 | IR29: =COUNTIF(Tableau1[[#All],[05/05/2020]],$A29) -> 0 | IS29: =COUNTIF(Tableau1[[#All],[06/05/2020]],$A29) -> 0 | IT29: =COUNTIF(Tableau1[[#All],[06/05/2020]],$A29) -> 0 | IU29: =COUNTIF(Tableau1[[#All],[07/05/2020]],$A29) -> 0 | IV29: =COUNTIF(Tableau1[[#All],[07/05/2020]],$A29) -> 0 | IW29: =COUNTIF(Tableau1[[#All],[08/05/2020]],$A29) -> 0 | IX29: =COUNTIF(Tableau1[[#All],[08/05/2020]],$A29) -> 0 | IY29: =COUNTIF(Tableau1[[#All],[09/05/2020]],$A29) -> 0 | IZ29: =COUNTIF(Tableau1[[#All],[09/05/2020]],$A29) -> 0 | JA29: =COUNTIF(Tableau1[[#All],[10/05/2020]],$A29) -> 0 | JB29: =COUNTIF(Tableau1[[#All],[10/05/2020]],$A29) -> 0 | JC29: =COUNTIF(Tableau1[[#All],[11/05/2020]],$A29) -> 0 | JD29: =COUNTIF(Tableau1[[#All],[11/05/2020]],$A29) -> 0 | JE29: =COUNTIF(Tableau1[[#All],[12/05/2020]],$A29) -> 0 | JF29: =COUNTIF(Tableau1[[#All],[12/05/2020]],$A29) -> 0 | JG29: =COUNTIF(Tableau1[[#All],[13/05/2020]],$A29) -> 0 | JH29: =COUNTIF(Tableau1[[#All],[13/05/2020]],$A29) -> 0 | JI29: =COUNTIF(Tableau1[[#All],[14/05/2020]],$A29) -> 0 | JJ29: =COUNTIF(Tableau1[[#All],[14/05/2020]],$A29) -> 0 | JK29: =COUNTIF(Tableau1[[#All],[15/05/2020]],$A29) -> 0 | JL29: =COUNTIF(Tableau1[[#All],[15/05/2020]],$A29) -> 0 | JM29: =COUNTIF(Tableau1[[#All],[16/05/2020]],$A29) -> 0 | JN29: =COUNTIF(Tableau1[[#All],[16/05/2020]],$A29) -> 0 | JO29: =COUNTIF(Tableau1[[#All],[17/05/2020]],$A29) -> 0 | JP29: =COUNTIF(Tableau1[[#All],[17/05/2020]],$A29) -> 0 | JQ29: =COUNTIF(Tableau1[[#All],[18/05/2020]],$A29) -> 0 | JR29: =COUNTIF(Tableau1[[#All],[18/05/2020]],$A29) -> 0 | JS29: =COUNTIF(Tableau1[[#All],[19/05/2020]],$A29) -> 0 | JT29: =COUNTIF(Tableau1[[#All],[19/05/2020]],$A29) -> 0 | JU29: =COUNTIF(Tableau1[[#All],[20/05/2020]],$A29) -> 0 | JV29: =COUNTIF(Tableau1[[#All],[20/05/2020]],$A29) -> 0 | JW29: =COUNTIF(Tableau1[[#All],[21/05/2020]],$A29) -> 0 | JX29: =COUNTIF(Tableau1[[#All],[21/05/2020]],$A29) -> 0 | JY29: =COUNTIF(Tableau1[[#All],[22/05/2020]],$A29) -> 0 | JZ29: =COUNTIF(Tableau1[[#All],[22/05/2020]],$A29) -> 0 | KA29: =COUNTIF(Tableau1[[#All],[23/05/2020]],$A29) -> 0 | KB29: =COUNTIF(Tableau1[[#All],[23/05/2020]],$A29) -> 0 | KC29: =COUNTIF(Tableau1[[#All],[24/05/2020]],$A29) -> 0 | KD29: =COUNTIF(Tableau1[[#All],[24/05/2020]],$A29) -> 0 | KE29: =COUNTIF(Tableau1[[#All],[25/05/2020]],$A29) -> 0 | KF29: =COUNTIF(Tableau1[[#All],[25/05/2020]],$A29) -> 0 | KG29: =COUNTIF(Tableau1[[#All],[26/05/2020]],$A29) -> 0 | KH29: =COUNTIF(Tableau1[[#All],[26/05/2020]],$A29) -> 0 | KI29: =COUNTIF(Tableau1[[#All],[27/05/2020]],$A29) -> 0 | KJ29: =COUNTIF(Tableau1[[#All],[27/05/2020]],$A29) -> 0 | KK29: =COUNTIF(Tableau1[[#All],[28/05/2020]],$A29) -> 0 | KL29: =COUNTIF(Tableau1[[#All],[28/05/2020]],$A29) -> 0 | KM29: =COUNTIF(Tableau1[[#All],[29/05/2020]],$A29) -> 0 | KN29: =COUNTIF(Tableau1[[#All],[29/05/2020]],$A29) -> 0 | KO29: =COUNTIF(Tableau1[[#All],[30/05/2020]],$A29) -> 0 | KP29: =COUNTIF(Tableau1[[#All],[30/05/2020]],$A29) -> 0 | KQ29: =COUNTIF(Tableau1[[#All],[31/05/2020]],$A29) -> 0 | KR29: =COUNTIF(Tableau1[[#All],[31/05/2020]],$A29) -> 0 | KS29: =COUNTIF(Tableau1[[#All],[01/06/2020]],$A29) -> 0 | KT29: =COUNTIF(Tableau1[[#All],[01/06/2020]],$A29) -> 0 | KU29: =COUNTIF(Tableau1[[#All],[02/06/2020]],$A29) -> 0 | KV29: =COUNTIF(Tableau1[[#All],[02/06/2020]],$A29) -> 0 | KW29: =COUNTIF(Tableau1[[#All],[03/06/2020]],$A29) -> 0 | KX29: =COUNTIF(Tableau1[[#All],[03/06/2020]],$A29) -> 0 | KY29: =COUNTIF(Tableau1[[#All],[04/06/2020]],$A29) -> 0 | KZ29: =COUNTIF(Tableau1[[#All],[04/06/2020]],$A29) -> 0 | LA29: =COUNTIF(Tableau1[[#All],[05/06/2020]],$A29) -> 0 | LB29: =COUNTIF(Tableau1[[#All],[05/06/2020]],$A29) -> 0 | LC29: =COUNTIF(Tableau1[[#All],[06/06/2020]],$A29) -> 0 | LD29: =COUNTIF(Tableau1[[#All],[06/06/2020]],$A29) -> 0 | LE29: =COUNTIF(Tableau1[[#All],[07/06/2020]],$A29) -> 0 | LF29: =COUNTIF(Tableau1[[#All],[07/06/2020]],$A29) -> 0 | LG29: =COUNTIF(Tableau1[[#All],[08/06/2020]],$A29) -> 0 | LH29: =COUNTIF(Tableau1[[#All],[08/06/2020]],$A29) -> 0 | LI29: =COUNTIF(Tableau1[[#All],[09/06/2020]],$A29) -> 0 | LJ29: =COUNTIF(Tableau1[[#All],[09/06/2020]],$A29) -> 0 | LK29: =COUNTIF(Tableau1[[#All],[10/06/2020]],$A29) -> 0 | LL29: =COUNTIF(Tableau1[[#All],[10/06/2020]],$A29) -> 0 | LM29: =COUNTIF(Tableau1[[#All],[11/06/2020]],$A29) -> 0 | LN29: =COUNTIF(Tableau1[[#All],[11/06/2020]],$A29) -> 0 | LO29: =COUNTIF(Tableau1[[#All],[12/06/2020]],$A29) -> 0 | LP29: =COUNTIF(Tableau1[[#All],[12/06/2020]],$A29) -> 0 | LQ29: =COUNTIF(Tableau1[[#All],[13/06/2020]],$A29) -> 0 | LR29: =COUNTIF(Tableau1[[#All],[13/06/2020]],$A29) -> 0 | LS29: =COUNTIF(Tableau1[[#All],[14/06/2020]],$A29) -> 0 | LT29: =COUNTIF(Tableau1[[#All],[14/06/2020]],$A29) -> 0 | LU29: =COUNTIF(Tableau1[[#All],[15/06/2020]],$A29) -> 0 | LV29: =COUNTIF(Tableau1[[#All],[15/06/2020]],$A29) -> 0 | LW29: =COUNTIF(Tableau1[[#All],[16/06/2020]],$A29) -> 0 | LX29: =COUNTIF(Tableau1[[#All],[16/06/2020]],$A29) -> 0 | LY29: =COUNTIF(Tableau1[[#All],[17/06/2020]],$A29) -> 0 | LZ29: =COUNTIF(Tableau1[[#All],[17/06/2020]],$A29) -> 0 | MA29: =COUNTIF(Tableau1[[#All],[18/06/2020]],$A29) -> 0 | MB29: =COUNTIF(Tableau1[[#All],[18/06/2020]],$A29) -> 0 | MC29: =COUNTIF(Tableau1[[#All],[19/06/2020]],$A29) -> 0 | MD29: =COUNTIF(Tableau1[[#All],[19/06/2020]],$A29) -> 0 | ME29: =COUNTIF(Tableau1[[#All],[20/06/2020]],$A29) -> 0 | MF29: =COUNTIF(Tableau1[[#All],[20/06/2020]],$A29) -> 0 | MG29: =COUNTIF(Tableau1[[#All],[21/06/2020]],$A29) -> 0 | MH29: =COUNTIF(Tableau1[[#All],[21/06/2020]],$A29) -> 0 | MI29: =COUNTIF(Tableau1[[#All],[22/06/2020]],$A29) -> 0 | MJ29: =COUNTIF(Tableau1[[#All],[22/06/2020]],$A29) -> 0 | MK29: =COUNTIF(Tableau1[[#All],[23/06/2020]],$A29) -> 0 | ML29: =COUNTIF(Tableau1[[#All],[23/06/2020]],$A29) -> 0 | MM29: =COUNTIF(Tableau1[[#All],[24/06/2020]],$A29) -> 0 | MN29: =COUNTIF(Tableau1[[#All],[24/06/2020]],$A29) -> 0 | MO29: =COUNTIF(Tableau1[[#All],[25/06/2020]],$A29) -> 0 | MP29: =COUNTIF(Tableau1[[#All],[25/06/2020]],$A29) -> 0 | MQ29: =COUNTIF(Tableau1[[#All],[26/06/2020]],$A29) -> 0 | MR29: =COUNTIF(Tableau1[[#All],[26/06/2020]],$A29) -> 0 | MS29: =COUNTIF(Tableau1[[#All],[27/06/2020]],$A29) -> 0 | MT29: =COUNTIF(Tableau1[[#All],[27/06/2020]],$A29) -> 0 | MU29: =COUNTIF(Tableau1[[#All],[28/06/2020]],$A29) -> 0 | MV29: =COUNTIF(Tableau1[[#All],[28/06/2020]],$A29) -> 0 | MW29: =COUNTIF(Tableau1[[#All],[29/06/2020]],$A29) -> 0 | MX29: =COUNTIF(Tableau1[[#All],[29/06/2020]],$A29) -> 0 | MY29: =COUNTIF(Tableau1[[#All],[30/06/2020]],$A29) -> 0 | MZ29: =COUNTIF(Tableau1[[#All],[30/06/2020]],$A29) -> 0 | NA29: =COUNTIF(Tableau1[[#All],[01/07/2020]],$A29) -> 0 | NB29: =COUNTIF(Tableau1[[#All],[01/07/2020]],$A29) -> 0 | NC29: =COUNTIF(Tableau1[[#All],[02/07/2020]],$A29) -> 0
A30: CT | B30: =COUNTIF(Tableau1[[#All],[01/01/2020]],$A30) -> 0 | C30: =COUNTIF(Tableau1[[#All],[02/01/2020]],$A30) -> 2 | D30: =COUNTIF(Tableau1[[#All],[02/01/2020]],$A30) -> 2 | E30: =COUNTIF(Tableau1[[#All],[03/01/2020]],$A30) -> 0 | F30: =COUNTIF(Tableau1[[#All],[03/01/2020]],$A30) -> 0 | G30: =COUNTIF(Tableau1[[#All],[04/01/2020]],$A30) -> 0 | H30: =COUNTIF(Tableau1[[#All],[04/01/2020]],$A30) -> 0 | I30: =COUNTIF(Tableau1[[#All],[05/01/2020]],$A30) -> 0 | J30: =COUNTIF(Tableau1[[#All],[05/01/2020]],$A30) -> 0 | K30: =COUNTIF(Tableau1[[#All],[06/01/2020]],$A30) -> 3 | L30: =COUNTIF(Tableau1[[#All],[06/01/2020]],$A30) -> 3 | M30: =COUNTIF(Tableau1[[#All],[07/01/2020]],$A30) -> 2 | N30: =COUNTIF(Tableau1[[#All],[07/01/2020]],$A30) -> 2 | O30: =COUNTIF(Tableau1[[#All],[08/01/2020]],$A30) -> 1 | P30: =COUNTIF(Tableau1[[#All],[08/01/2020]],$A30) -> 1 | Q30: =COUNTIF(Tableau1[[#All],[09/01/2020]],$A30) -> 2 | R30: =COUNTIF(Tableau1[[#All],[09/01/2020]],$A30) -> 2 | S30: =COUNTIF(Tableau1[[#All],[10/01/2020]],$A30) -> 2 | T30: =COUNTIF(Tableau1[[#All],[10/01/2020]],$A30) -> 2 | U30: =COUNTIF(Tableau1[[#All],[11/01/2020]],$A30) -> 0 | V30: =COUNTIF(Tableau1[[#All],[11/01/2020]],$A30) -> 0 | W30: =COUNTIF(Tableau1[[#All],[12/01/2020]],$A30) -> 0 | X30: =COUNTIF(Tableau1[[#All],[12/01/2020]],$A30) -> 0 | Y30: =COUNTIF(Tableau1[[#All],[13/01/2020]],$A30) -> 3 | Z30: =COUNTIF(Tableau1[[#All],[13/01/2020]],$A30) -> 3 | AA30: =COUNTIF(Tableau1[[#All],[14/01/2020]],$A30) -> 2 | AB30: =COUNTIF(Tableau1[[#All],[14/01/2020]],$A30) -> 2 | AC30: =COUNTIF(Tableau1[[#All],[15/01/2020]],$A30) -> 4 | AD30: =COUNTIF(Tableau1[[#All],[15/01/2020]],$A30) -> 4 | AE30: =COUNTIF(Tableau1[[#All],[16/01/2020]],$A30) -> 2 | AF30: =COUNTIF(Tableau1[[#All],[16/01/2020]],$A30) -> 2 | AG30: =COUNTIF(Tableau1[[#All],[17/01/2020]],$A30) -> 2 | AH30: =COUNTIF(Tableau1[[#All],[17/01/2020]],$A30) -> 2 | AI30: =COUNTIF(Tableau1[[#All],[18/01/2020]],$A30) -> 1 | AJ30: =COUNTIF(Tableau1[[#All],[18/01/2020]],$A30) -> 1 | AK30: =COUNTIF(Tableau1[[#All],[19/01/2020]],$A30) -> 0 | AL30: =COUNTIF(Tableau1[[#All],[19/01/2020]],$A30) -> 0 | AM30: =COUNTIF(Tableau1[[#All],[20/01/2020]],$A30) -> 2 | AN30: =COUNTIF(Tableau1[[#All],[20/01/2020]],$A30) -> 2 | AO30: =COUNTIF(Tableau1[[#All],[21/01/2020]],$A30) -> 2 | AP30: =COUNTIF(Tableau1[[#All],[21/01/2020]],$A30) -> 2 | AQ30: =COUNTIF(Tableau1[[#All],[22/01/2020]],$A30) -> 2 | AR30: =COUNTIF(Tableau1[[#All],[22/01/2020]],$A30) -> 2 | AS30: =COUNTIF(Tableau1[[#All],[23/01/2020]],$A30) -> 0 | AT30: =COUNTIF(Tableau1[[#All],[23/01/2020]],$A30) -> 0 | AU30: =COUNTIF(Tableau1[[#All],[24/01/2020]],$A30) -> 4 | AV30: =COUNTIF(Tableau1[[#All],[24/01/2020]],$A30) -> 4 | AW30: =COUNTIF(Tableau1[[#All],[25/01/2020]],$A30) -> 0 | AX30: =COUNTIF(Tableau1[[#All],[25/01/2020]],$A30) -> 0 | AY30: =COUNTIF(Tableau1[[#All],[26/01/2020]],$A30) -> 0 | AZ30: =COUNTIF(Tableau1[[#All],[26/01/2020]],$A30) -> 0 | BA30: =COUNTIF(Tableau1[[#All],[27/01/2020]],$A30) -> 1 | BB30: =COUNTIF(Tableau1[[#All],[27/01/2020]],$A30) -> 1 | BC30: =COUNTIF(Tableau1[[#All],[28/01/2020]],$A30) -> 2 | BD30: =COUNTIF(Tableau1[[#All],[28/01/2020]],$A30) -> 2 | BE30: =COUNTIF(Tableau1[[#All],[29/01/2020]],$A30) -> 1 | BF30: =COUNTIF(Tableau1[[#All],[29/01/2020]],$A30) -> 1 | BG30: =COUNTIF(Tableau1[[#All],[30/01/2020]],$A30) -> 2 | BH30: =COUNTIF(Tableau1[[#All],[30/01/2020]],$A30) -> 2 | BI30: =COUNTIF(Tableau1[[#All],[31/01/2020]],$A30) -> 3 | BJ30: =COUNTIF(Tableau1[[#All],[31/01/2020]],$A30) -> 3 | BK30: =COUNTIF(Tableau1[[#All],[01/02/2020]],$A30) -> 0 | BL30: =COUNTIF(Tableau1[[#All],[01/02/2020]],$A30) -> 0 | BM30: =COUNTIF(Tableau1[[#All],[02/02/2020]],$A30) -> 0 | BN30: =COUNTIF(Tableau1[[#All],[02/02/2020]],$A30) -> 0 | BO30: =COUNTIF(Tableau1[[#All],[03/02/2020]],$A30) -> 0 | BP30: =COUNTIF(Tableau1[[#All],[03/02/2020]],$A30) -> 0 | BQ30: =COUNTIF(Tableau1[[#All],[04/02/2020]],$A30) -> 0 | BR30: =COUNTIF(Tableau1[[#All],[04/02/2020]],$A30) -> 0 | BS30: =COUNTIF(Tableau1[[#All],[05/02/2020]],$A30) -> 0 | BT30: =COUNTIF(Tableau1[[#All],[05/02/2020]],$A30) -> 0 | BU30: =COUNTIF(Tableau1[[#All],[06/02/2020]],$A30) -> 0 | BV30: =COUNTIF(Tableau1[[#All],[06/02/2020]],$A30) -> 0 | BW30: =COUNTIF(Tableau1[[#All],[07/02/2020]],$A30) -> 0 | BX30: =COUNTIF(Tableau1[[#All],[07/02/2020]],$A30) -> 0 | BY30: =COUNTIF(Tableau1[[#All],[08/02/2020]],$A30) -> 0 | BZ30: =COUNTIF(Tableau1[[#All],[08/02/2020]],$A30) -> 0 | CA30: =COUNTIF(Tableau1[[#All],[09/02/2020]],$A30) -> 0 | CB30: =COUNTIF(Tableau1[[#All],[09/02/2020]],$A30) -> 0 | CC30: =COUNTIF(Tableau1[[#All],[10/02/2020]],$A30) -> 0 | CD30: =COUNTIF(Tableau1[[#All],[10/02/2020]],$A30) -> 0 | CE30: =COUNTIF(Tableau1[[#All],[11/02/2020]],$A30) -> 0 | CF30: =COUNTIF(Tableau1[[#All],[11/02/2020]],$A30) -> 0 | CG30: =COUNTIF(Tableau1[[#All],[12/02/2020]],$A30) -> 0 | CH30: =COUNTIF(Tableau1[[#All],[12/02/2020]],$A30) -> 0 | CI30: =COUNTIF(Tableau1[[#All],[13/02/2020]],$A30) -> 0 | CJ30: =COUNTIF(Tableau1[[#All],[13/02/2020]],$A30) -> 0 | CK30: =COUNTIF(Tableau1[[#All],[14/02/2020]],$A30) -> 0 | CL30: =COUNTIF(Tableau1[[#All],[14/02/2020]],$A30) -> 0 | CM30: =COUNTIF(Tableau1[[#All],[15/02/2020]],$A30) -> 0 | CN30: =COUNTIF(Tableau1[[#All],[15/02/2020]],$A30) -> 0 | CO30: =COUNTIF(Tableau1[[#All],[16/02/2020]],$A30) -> 0 | CP30: =COUNTIF(Tableau1[[#All],[16/02/2020]],$A30) -> 0 | CQ30: =COUNTIF(Tableau1[[#All],[17/02/2020]],$A30) -> 0 | CR30: =COUNTIF(Tableau1[[#All],[17/02/2020]],$A30) -> 0 | CS30: =COUNTIF(Tableau1[[#All],[18/02/2020]],$A30) -> 0 | CT30: =COUNTIF(Tableau1[[#All],[18/02/2020]],$A30) -> 0 | CU30: =COUNTIF(Tableau1[[#All],[19/02/2020]],$A30) -> 0 | CV30: =COUNTIF(Tableau1[[#All],[19/02/2020]],$A30) -> 0 | CW30: =COUNTIF(Tableau1[[#All],[20/02/2020]],$A30) -> 0 | CX30: =COUNTIF(Tableau1[[#All],[20/02/2020]],$A30) -> 0 | CY30: =COUNTIF(Tableau1[[#All],[21/02/2020]],$A30) -> 0 | CZ30: =COUNTIF(Tableau1[[#All],[21/02/2020]],$A30) -> 0 | DA30: =COUNTIF(Tableau1[[#All],[22/02/2020]],$A30) -> 0 | DB30: =COUNTIF(Tableau1[[#All],[22/02/2020]],$A30) -> 0 | DC30: =COUNTIF(Tableau1[[#All],[23/02/2020]],$A30) -> 0 | DD30: =COUNTIF(Tableau1[[#All],[23/02/2020]],$A30) -> 0 | DE30: =COUNTIF(Tableau1[[#All],[24/02/2020]],$A30) -> 0 | DF30: =COUNTIF(Tableau1[[#All],[24/02/2020]],$A30) -> 0 | DG30: =COUNTIF(Tableau1[[#All],[25/02/2020]],$A30) -> 0 | DH30: =COUNTIF(Tableau1[[#All],[25/02/2020]],$A30) -> 0 | DI30: =COUNTIF(Tableau1[[#All],[26/02/2020]],$A30) -> 0 | DJ30: =COUNTIF(Tableau1[[#All],[26/02/2020]],$A30) -> 0 | DK30: =COUNTIF(Tableau1[[#All],[27/02/2020]],$A30) -> 0 | DL30: =COUNTIF(Tableau1[[#All],[27/02/2020]],$A30) -> 0 | DM30: =COUNTIF(Tableau1[[#All],[28/02/2020]],$A30) -> 0 | DN30: =COUNTIF(Tableau1[[#All],[28/02/2020]],$A30) -> 0 | DO30: =COUNTIF(Tableau1[[#All],[29/02/2020]],$A30) -> 0 | DP30: =COUNTIF(Tableau1[[#All],[29/02/2020]],$A30) -> 0 | DQ30: =COUNTIF(Tableau1[[#All],[01/03/2020]],$A30) -> 0 | DR30: =COUNTIF(Tableau1[[#All],[01/03/2020]],$A30) -> 0 | DS30: =COUNTIF(Tableau1[[#All],[02/03/2020]],$A30) -> 0 | DT30: =COUNTIF(Tableau1[[#All],[02/03/2020]],$A30) -> 0 | DU30: =COUNTIF(Tableau1[[#All],[03/03/2020]],$A30) -> 0 | DV30: =COUNTIF(Tableau1[[#All],[03/03/2020]],$A30) -> 0 | DW30: =COUNTIF(Tableau1[[#All],[04/03/2020]],$A30) -> 0 | DX30: =COUNTIF(Tableau1[[#All],[04/03/2020]],$A30) -> 0 | DY30: =COUNTIF(Tableau1[[#All],[05/03/2020]],$A30) -> 0 | DZ30: =COUNTIF(Tableau1[[#All],[05/03/2020]],$A30) -> 0 | EA30: =COUNTIF(Tableau1[[#All],[06/03/2020]],$A30) -> 0 | EB30: =COUNTIF(Tableau1[[#All],[06/03/2020]],$A30) -> 0 | EC30: =COUNTIF(Tableau1[[#All],[07/03/2020]],$A30) -> 0 | ED30: =COUNTIF(Tableau1[[#All],[07/03/2020]],$A30) -> 0 | EE30: =COUNTIF(Tableau1[[#All],[08/03/2020]],$A30) -> 0 | EF30: =COUNTIF(Tableau1[[#All],[08/03/2020]],$A30) -> 0 | EG30: =COUNTIF(Tableau1[[#All],[09/03/2020]],$A30) -> 0 | EH30: =COUNTIF(Tableau1[[#All],[09/03/2020]],$A30) -> 0 | EI30: =COUNTIF(Tableau1[[#All],[10/03/2020]],$A30) -> 0 | EJ30: =COUNTIF(Tableau1[[#All],[10/03/2020]],$A30) -> 0 | EK30: =COUNTIF(Tableau1[[#All],[11/03/2020]],$A30) -> 0 | EL30: =COUNTIF(Tableau1[[#All],[11/03/2020]],$A30) -> 0 | EM30: =COUNTIF(Tableau1[[#All],[12/03/2020]],$A30) -> 0 | EN30: =COUNTIF(Tableau1[[#All],[12/03/2020]],$A30) -> 0 | EO30: =COUNTIF(Tableau1[[#All],[13/03/2020]],$A30) -> 0 | EP30: =COUNTIF(Tableau1[[#All],[13/03/2020]],$A30) -> 0 | EQ30: =COUNTIF(Tableau1[[#All],[14/03/2020]],$A30) -> 0 | ER30: =COUNTIF(Tableau1[[#All],[14/03/2020]],$A30) -> 0 | ES30: =COUNTIF(Tableau1[[#All],[15/03/2020]],$A30) -> 0 | ET30: =COUNTIF(Tableau1[[#All],[15/03/2020]],$A30) -> 0 | EU30: =COUNTIF(Tableau1[[#All],[16/03/2020]],$A30) -> 0 | EV30: =COUNTIF(Tableau1[[#All],[16/03/2020]],$A30) -> 0 | EW30: =COUNTIF(Tableau1[[#All],[17/03/2020]],$A30) -> 0 | EX30: =COUNTIF(Tableau1[[#All],[17/03/2020]],$A30) -> 0 | EY30: =COUNTIF(Tableau1[[#All],[18/03/2020]],$A30) -> 0 | EZ30: =COUNTIF(Tableau1[[#All],[18/03/2020]],$A30) -> 0 | FA30: =COUNTIF(Tableau1[[#All],[19/03/2020]],$A30) -> 0 | FB30: =COUNTIF(Tableau1[[#All],[19/03/2020]],$A30) -> 0 | FC30: =COUNTIF(Tableau1[[#All],[20/03/2020]],$A30) -> 0 | FD30: =COUNTIF(Tableau1[[#All],[20/03/2020]],$A30) -> 0 | FE30: =COUNTIF(Tableau1[[#All],[21/03/2020]],$A30) -> 0 | FF30: =COUNTIF(Tableau1[[#All],[21/03/2020]],$A30) -> 0 | FG30: =COUNTIF(Tableau1[[#All],[22/03/2020]],$A30) -> 0 | FH30: =COUNTIF(Tableau1[[#All],[22/03/2020]],$A30) -> 0 | FI30: =COUNTIF(Tableau1[[#All],[23/03/2020]],$A30) -> 0 | FJ30: =COUNTIF(Tableau1[[#All],[23/03/2020]],$A30) -> 0 | FK30: =COUNTIF(Tableau1[[#All],[24/03/2020]],$A30) -> 0 | FL30: =COUNTIF(Tableau1[[#All],[24/03/2020]],$A30) -> 0 | FM30: =COUNTIF(Tableau1[[#All],[25/03/2020]],$A30) -> 0 | FN30: =COUNTIF(Tableau1[[#All],[25/03/2020]],$A30) -> 0 | FO30: =COUNTIF(Tableau1[[#All],[26/03/2020]],$A30) -> 0 | FP30: =COUNTIF(Tableau1[[#All],[26/03/2020]],$A30) -> 0 | FQ30: =COUNTIF(Tableau1[[#All],[27/03/2020]],$A30) -> 0 | FR30: =COUNTIF(Tableau1[[#All],[27/03/2020]],$A30) -> 0 | FS30: =COUNTIF(Tableau1[[#All],[28/03/2020]],$A30) -> 0 | FT30: =COUNTIF(Tableau1[[#All],[28/03/2020]],$A30) -> 0 | FU30: =COUNTIF(Tableau1[[#All],[29/03/2020]],$A30) -> 0 | FV30: =COUNTIF(Tableau1[[#All],[29/03/2020]],$A30) -> 0 | FW30: =COUNTIF(Tableau1[[#All],[30/03/2020]],$A30) -> 0 | FX30: =COUNTIF(Tableau1[[#All],[30/03/2020]],$A30) -> 0 | FY30: =COUNTIF(Tableau1[[#All],[31/03/2020]],$A30) -> 0 | FZ30: =COUNTIF(Tableau1[[#All],[31/03/2020]],$A30) -> 0 | GA30: =COUNTIF(Tableau1[[#All],[01/04/2020]],$A30) -> 0 | GB30: =COUNTIF(Tableau1[[#All],[01/04/2020]],$A30) -> 0 | GC30: =COUNTIF(Tableau1[[#All],[02/04/2020]],$A30) -> 0 | GD30: =COUNTIF(Tableau1[[#All],[02/04/2020]],$A30) -> 0 | GE30: =COUNTIF(Tableau1[[#All],[03/04/2020]],$A30) -> 0 | GF30: =COUNTIF(Tableau1[[#All],[03/04/2020]],$A30) -> 0 | GG30: =COUNTIF(Tableau1[[#All],[04/04/2020]],$A30) -> 0 | GH30: =COUNTIF(Tableau1[[#All],[04/04/2020]],$A30) -> 0 | GI30: =COUNTIF(Tableau1[[#All],[05/04/2020]],$A30) -> 0 | GJ30: =COUNTIF(Tableau1[[#All],[05/04/2020]],$A30) -> 0 | GK30: =COUNTIF(Tableau1[[#All],[06/04/2020]],$A30) -> 0 | GL30: =COUNTIF(Tableau1[[#All],[06/04/2020]],$A30) -> 0 | GM30: =COUNTIF(Tableau1[[#All],[07/04/2020]],$A30) -> 0 | GN30: =COUNTIF(Tableau1[[#All],[07/04/2020]],$A30) -> 0 | GO30: =COUNTIF(Tableau1[[#All],[08/04/2020]],$A30) -> 0 | GP30: =COUNTIF(Tableau1[[#All],[08/04/2020]],$A30) -> 0 | GQ30: =COUNTIF(Tableau1[[#All],[09/04/2020]],$A30) -> 0 | GR30: =COUNTIF(Tableau1[[#All],[09/04/2020]],$A30) -> 0 | GS30: =COUNTIF(Tableau1[[#All],[10/04/2020]],$A30) -> 0 | GT30: =COUNTIF(Tableau1[[#All],[10/04/2020]],$A30) -> 0 | GU30: =COUNTIF(Tableau1[[#All],[11/04/2020]],$A30) -> 0 | GV30: =COUNTIF(Tableau1[[#All],[11/04/2020]],$A30) -> 0 | GW30: =COUNTIF(Tableau1[[#All],[12/04/2020]],$A30) -> 0 | GX30: =COUNTIF(Tableau1[[#All],[12/04/2020]],$A30) -> 0 | GY30: =COUNTIF(Tableau1[[#All],[13/04/2020]],$A30) -> 0 | GZ30: =COUNTIF(Tableau1[[#All],[13/04/2020]],$A30) -> 0 | HA30: =COUNTIF(Tableau1[[#All],[14/04/2020]],$A30) -> 0 | HB30: =COUNTIF(Tableau1[[#All],[14/04/2020]],$A30) -> 0 | HC30: =COUNTIF(Tableau1[[#All],[15/04/2020]],$A30) -> 0 | HD30: =COUNTIF(Tableau1[[#All],[15/04/2020]],$A30) -> 0 | HE30: =COUNTIF(Tableau1[[#All],[16/04/2020]],$A30) -> 0 | HF30: =COUNTIF(Tableau1[[#All],[16/04/2020]],$A30) -> 0 | HG30: =COUNTIF(Tableau1[[#All],[17/04/2020]],$A30) -> 0 | HH30: =COUNTIF(Tableau1[[#All],[17/04/2020]],$A30) -> 0 | HI30: =COUNTIF(Tableau1[[#All],[18/04/2020]],$A30) -> 0 | HJ30: =COUNTIF(Tableau1[[#All],[18/04/2020]],$A30) -> 0 | HK30: =COUNTIF(Tableau1[[#All],[19/04/2020]],$A30) -> 0 | HL30: =COUNTIF(Tableau1[[#All],[19/04/2020]],$A30) -> 0 | HM30: =COUNTIF(Tableau1[[#All],[20/04/2020]],$A30) -> 0 | HN30: =COUNTIF(Tableau1[[#All],[20/04/2020]],$A30) -> 0 | HO30: =COUNTIF(Tableau1[[#All],[21/04/2020]],$A30) -> 0 | HP30: =COUNTIF(Tableau1[[#All],[21/04/2020]],$A30) -> 0 | HQ30: =COUNTIF(Tableau1[[#All],[22/04/2020]],$A30) -> 0 | HR30: =COUNTIF(Tableau1[[#All],[22/04/2020]],$A30) -> 0 | HS30: =COUNTIF(Tableau1[[#All],[23/04/2020]],$A30) -> 0 | HT30: =COUNTIF(Tableau1[[#All],[23/04/2020]],$A30) -> 0 | HU30: =COUNTIF(Tableau1[[#All],[24/04/2020]],$A30) -> 0 | HV30: =COUNTIF(Tableau1[[#All],[24/04/2020]],$A30) -> 0 | HW30: =COUNTIF(Tableau1[[#All],[25/04/2020]],$A30) -> 0 | HX30: =COUNTIF(Tableau1[[#All],[25/04/2020]],$A30) -> 0 | HY30: =COUNTIF(Tableau1[[#All],[26/04/2020]],$A30) -> 0 | HZ30: =COUNTIF(Tableau1[[#All],[26/04/2020]],$A30) -> 0 | IA30: =COUNTIF(Tableau1[[#All],[27/04/2020]],$A30) -> 0 | IB30: =COUNTIF(Tableau1[[#All],[27/04/2020]],$A30) -> 0 | IC30: =COUNTIF(Tableau1[[#All],[28/04/2020]],$A30) -> 0 | ID30: =COUNTIF(Tableau1[[#All],[28/04/2020]],$A30) -> 0 | IE30: =COUNTIF(Tableau1[[#All],[29/04/2020]],$A30) -> 0 | IF30: =COUNTIF(Tableau1[[#All],[29/04/2020]],$A30) -> 0 | IG30: =COUNTIF(Tableau1[[#All],[30/04/2020]],$A30) -> 0 | IH30: =COUNTIF(Tableau1[[#All],[30/04/2020]],$A30) -> 0 | II30: =COUNTIF(Tableau1[[#All],[01/05/2020]],$A30) -> 0 | IJ30: =COUNTIF(Tableau1[[#All],[01/05/2020]],$A30) -> 0 | IK30: =COUNTIF(Tableau1[[#All],[02/05/2020]],$A30) -> 0 | IL30: =COUNTIF(Tableau1[[#All],[02/05/2020]],$A30) -> 0 | IM30: =COUNTIF(Tableau1[[#All],[03/05/2020]],$A30) -> 0 | IN30: =COUNTIF(Tableau1[[#All],[03/05/2020]],$A30) -> 0 | IO30: =COUNTIF(Tableau1[[#All],[04/05/2020]],$A30) -> 0 | IP30: =COUNTIF(Tableau1[[#All],[04/05/2020]],$A30) -> 0 | IQ30: =COUNTIF(Tableau1[[#All],[05/05/2020]],$A30) -> 0 | IR30: =COUNTIF(Tableau1[[#All],[05/05/2020]],$A30) -> 0 | IS30: =COUNTIF(Tableau1[[#All],[06/05/2020]],$A30) -> 0 | IT30: =COUNTIF(Tableau1[[#All],[06/05/2020]],$A30) -> 0 | IU30: =COUNTIF(Tableau1[[#All],[07/05/2020]],$A30) -> 0 | IV30: =COUNTIF(Tableau1[[#All],[07/05/2020]],$A30) -> 0 | IW30: =COUNTIF(Tableau1[[#All],[08/05/2020]],$A30) -> 0 | IX30: =COUNTIF(Tableau1[[#All],[08/05/2020]],$A30) -> 0 | IY30: =COUNTIF(Tableau1[[#All],[09/05/2020]],$A30) -> 0 | IZ30: =COUNTIF(Tableau1[[#All],[09/05/2020]],$A30) -> 0 | JA30: =COUNTIF(Tableau1[[#All],[10/05/2020]],$A30) -> 0 | JB30: =COUNTIF(Tableau1[[#All],[10/05/2020]],$A30) -> 0 | JC30: =COUNTIF(Tableau1[[#All],[11/05/2020]],$A30) -> 0 | JD30: =COUNTIF(Tableau1[[#All],[11/05/2020]],$A30) -> 0 | JE30: =COUNTIF(Tableau1[[#All],[12/05/2020]],$A30) -> 0 | JF30: =COUNTIF(Tableau1[[#All],[12/05/2020]],$A30) -> 0 | JG30: =COUNTIF(Tableau1[[#All],[13/05/2020]],$A30) -> 0 | JH30: =COUNTIF(Tableau1[[#All],[13/05/2020]],$A30) -> 0 | JI30: =COUNTIF(Tableau1[[#All],[14/05/2020]],$A30) -> 0 | JJ30: =COUNTIF(Tableau1[[#All],[14/05/2020]],$A30) -> 0 | JK30: =COUNTIF(Tableau1[[#All],[15/05/2020]],$A30) -> 0 | JL30: =COUNTIF(Tableau1[[#All],[15/05/2020]],$A30) -> 0 | JM30: =COUNTIF(Tableau1[[#All],[16/05/2020]],$A30) -> 0 | JN30: =COUNTIF(Tableau1[[#All],[16/05/2020]],$A30) -> 0 | JO30: =COUNTIF(Tableau1[[#All],[17/05/2020]],$A30) -> 0 | JP30: =COUNTIF(Tableau1[[#All],[17/05/2020]],$A30) -> 0 | JQ30: =COUNTIF(Tableau1[[#All],[18/05/2020]],$A30) -> 0 | JR30: =COUNTIF(Tableau1[[#All],[18/05/2020]],$A30) -> 0 | JS30: =COUNTIF(Tableau1[[#All],[19/05/2020]],$A30) -> 0 | JT30: =COUNTIF(Tableau1[[#All],[19/05/2020]],$A30) -> 0 | JU30: =COUNTIF(Tableau1[[#All],[20/05/2020]],$A30) -> 0 | JV30: =COUNTIF(Tableau1[[#All],[20/05/2020]],$A30) -> 0 | JW30: =COUNTIF(Tableau1[[#All],[21/05/2020]],$A30) -> 0 | JX30: =COUNTIF(Tableau1[[#All],[21/05/2020]],$A30) -> 0 | JY30: =COUNTIF(Tableau1[[#All],[22/05/2020]],$A30) -> 0 | JZ30: =COUNTIF(Tableau1[[#All],[22/05/2020]],$A30) -> 0 | KA30: =COUNTIF(Tableau1[[#All],[23/05/2020]],$A30) -> 0 | KB30: =COUNTIF(Tableau1[[#All],[23/05/2020]],$A30) -> 0 | KC30: =COUNTIF(Tableau1[[#All],[24/05/2020]],$A30) -> 0 | KD30: =COUNTIF(Tableau1[[#All],[24/05/2020]],$A30) -> 0 | KE30: =COUNTIF(Tableau1[[#All],[25/05/2020]],$A30) -> 0 | KF30: =COUNTIF(Tableau1[[#All],[25/05/2020]],$A30) -> 0 | KG30: =COUNTIF(Tableau1[[#All],[26/05/2020]],$A30) -> 0 | KH30: =COUNTIF(Tableau1[[#All],[26/05/2020]],$A30) -> 0 | KI30: =COUNTIF(Tableau1[[#All],[27/05/2020]],$A30) -> 0 | KJ30: =COUNTIF(Tableau1[[#All],[27/05/2020]],$A30) -> 0 | KK30: =COUNTIF(Tableau1[[#All],[28/05/2020]],$A30) -> 0 | KL30: =COUNTIF(Tableau1[[#All],[28/05/2020]],$A30) -> 0 | KM30: =COUNTIF(Tableau1[[#All],[29/05/2020]],$A30) -> 0 | KN30: =COUNTIF(Tableau1[[#All],[29/05/2020]],$A30) -> 0 | KO30: =COUNTIF(Tableau1[[#All],[30/05/2020]],$A30) -> 0 | KP30: =COUNTIF(Tableau1[[#All],[30/05/2020]],$A30) -> 0 | KQ30: =COUNTIF(Tableau1[[#All],[31/05/2020]],$A30) -> 0 | KR30: =COUNTIF(Tableau1[[#All],[31/05/2020]],$A30) -> 0 | KS30: =COUNTIF(Tableau1[[#All],[01/06/2020]],$A30) -> 0 | KT30: =COUNTIF(Tableau1[[#All],[01/06/2020]],$A30) -> 0 | KU30: =COUNTIF(Tableau1[[#All],[02/06/2020]],$A30) -> 0 | KV30: =COUNTIF(Tableau1[[#All],[02/06/2020]],$A30) -> 0 | KW30: =COUNTIF(Tableau1[[#All],[03/06/2020]],$A30) -> 0 | KX30: =COUNTIF(Tableau1[[#All],[03/06/2020]],$A30) -> 0 | KY30: =COUNTIF(Tableau1[[#All],[04/06/2020]],$A30) -> 0 | KZ30: =COUNTIF(Tableau1[[#All],[04/06/2020]],$A30) -> 0 | LA30: =COUNTIF(Tableau1[[#All],[05/06/2020]],$A30) -> 0 | LB30: =COUNTIF(Tableau1[[#All],[05/06/2020]],$A30) -> 0 | LC30: =COUNTIF(Tableau1[[#All],[06/06/2020]],$A30) -> 0 | LD30: =COUNTIF(Tableau1[[#All],[06/06/2020]],$A30) -> 0 | LE30: =COUNTIF(Tableau1[[#All],[07/06/2020]],$A30) -> 0 | LF30: =COUNTIF(Tableau1[[#All],[07/06/2020]],$A30) -> 0 | LG30: =COUNTIF(Tableau1[[#All],[08/06/2020]],$A30) -> 0 | LH30: =COUNTIF(Tableau1[[#All],[08/06/2020]],$A30) -> 0 | LI30: =COUNTIF(Tableau1[[#All],[09/06/2020]],$A30) -> 0 | LJ30: =COUNTIF(Tableau1[[#All],[09/06/2020]],$A30) -> 0 | LK30: =COUNTIF(Tableau1[[#All],[10/06/2020]],$A30) -> 0 | LL30: =COUNTIF(Tableau1[[#All],[10/06/2020]],$A30) -> 0 | LM30: =COUNTIF(Tableau1[[#All],[11/06/2020]],$A30) -> 0 | LN30: =COUNTIF(Tableau1[[#All],[11/06/2020]],$A30) -> 0 | LO30: =COUNTIF(Tableau1[[#All],[12/06/2020]],$A30) -> 0 | LP30: =COUNTIF(Tableau1[[#All],[12/06/2020]],$A30) -> 0 | LQ30: =COUNTIF(Tableau1[[#All],[13/06/2020]],$A30) -> 0 | LR30: =COUNTIF(Tableau1[[#All],[13/06/2020]],$A30) -> 0 | LS30: =COUNTIF(Tableau1[[#All],[14/06/2020]],$A30) -> 0 | LT30: =COUNTIF(Tableau1[[#All],[14/06/2020]],$A30) -> 0 | LU30: =COUNTIF(Tableau1[[#All],[15/06/2020]],$A30) -> 0 | LV30: =COUNTIF(Tableau1[[#All],[15/06/2020]],$A30) -> 0 | LW30: =COUNTIF(Tableau1[[#All],[16/06/2020]],$A30) -> 0 | LX30: =COUNTIF(Tableau1[[#All],[16/06/2020]],$A30) -> 0 | LY30: =COUNTIF(Tableau1[[#All],[17/06/2020]],$A30) -> 0 | LZ30: =COUNTIF(Tableau1[[#All],[17/06/2020]],$A30) -> 0 | MA30: =COUNTIF(Tableau1[[#All],[18/06/2020]],$A30) -> 0 | MB30: =COUNTIF(Tableau1[[#All],[18/06/2020]],$A30) -> 0 | MC30: =COUNTIF(Tableau1[[#All],[19/06/2020]],$A30) -> 0 | MD30: =COUNTIF(Tableau1[[#All],[19/06/2020]],$A30) -> 0 | ME30: =COUNTIF(Tableau1[[#All],[20/06/2020]],$A30) -> 0 | MF30: =COUNTIF(Tableau1[[#All],[20/06/2020]],$A30) -> 0 | MG30: =COUNTIF(Tableau1[[#All],[21/06/2020]],$A30) -> 0 | MH30: =COUNTIF(Tableau1[[#All],[21/06/2020]],$A30) -> 0 | MI30: =COUNTIF(Tableau1[[#All],[22/06/2020]],$A30) -> 0 | MJ30: =COUNTIF(Tableau1[[#All],[22/06/2020]],$A30) -> 0 | MK30: =COUNTIF(Tableau1[[#All],[23/06/2020]],$A30) -> 0 | ML30: =COUNTIF(Tableau1[[#All],[23/06/2020]],$A30) -> 0 | MM30: =COUNTIF(Tableau1[[#All],[24/06/2020]],$A30) -> 0 | MN30: =COUNTIF(Tableau1[[#All],[24/06/2020]],$A30) -> 0 | MO30: =COUNTIF(Tableau1[[#All],[25/06/2020]],$A30) -> 0 | MP30: =COUNTIF(Tableau1[[#All],[25/06/2020]],$A30) -> 0 | MQ30: =COUNTIF(Tableau1[[#All],[26/06/2020]],$A30) -> 0 | MR30: =COUNTIF(Tableau1[[#All],[26/06/2020]],$A30) -> 0 | MS30: =COUNTIF(Tableau1[[#All],[27/06/2020]],$A30) -> 0 | MT30: =COUNTIF(Tableau1[[#All],[27/06/2020]],$A30) -> 0 | MU30: =COUNTIF(Tableau1[[#All],[28/06/2020]],$A30) -> 0 | MV30: =COUNTIF(Tableau1[[#All],[28/06/2020]],$A30) -> 0 | MW30: =COUNTIF(Tableau1[[#All],[29/06/2020]],$A30) -> 0 | MX30: =COUNTIF(Tableau1[[#All],[29/06/2020]],$A30) -> 0 | MY30: =COUNTIF(Tableau1[[#All],[30/06/2020]],$A30) -> 0 | MZ30: =COUNTIF(Tableau1[[#All],[30/06/2020]],$A30) -> 0 | NA30: =COUNTIF(Tableau1[[#All],[01/07/2020]],$A30) -> 0 | NB30: =COUNTIF(Tableau1[[#All],[01/07/2020]],$A30) -> 0 | NC30: =COUNTIF(Tableau1[[#All],[02/07/2020]],$A30) -> 0
A31: S | B31: =COUNTIF(Tableau1[[#All],[01/01/2020]],$A31) -> 0 | C31: =COUNTIF(Tableau1[[#All],[02/01/2020]],$A31) -> 0 | D31: =COUNTIF(Tableau1[[#All],[02/01/2020]],$A31) -> 0 | E31: =COUNTIF(Tableau1[[#All],[03/01/2020]],$A31) -> 0 | F31: =COUNTIF(Tableau1[[#All],[03/01/2020]],$A31) -> 0 | G31: =COUNTIF(Tableau1[[#All],[04/01/2020]],$A31) -> 0 | H31: =COUNTIF(Tableau1[[#All],[04/01/2020]],$A31) -> 0 | I31: =COUNTIF(Tableau1[[#All],[05/01/2020]],$A31) -> 2 | J31: =COUNTIF(Tableau1[[#All],[05/01/2020]],$A31) -> 2 | K31: =COUNTIF(Tableau1[[#All],[06/01/2020]],$A31) -> 2 | L31: =COUNTIF(Tableau1[[#All],[06/01/2020]],$A31) -> 2 | M31: =COUNTIF(Tableau1[[#All],[07/01/2020]],$A31) -> 2 | N31: =COUNTIF(Tableau1[[#All],[07/01/2020]],$A31) -> 2 | O31: =COUNTIF(Tableau1[[#All],[08/01/2020]],$A31) -> 2 | P31: =COUNTIF(Tableau1[[#All],[08/01/2020]],$A31) -> 2 | Q31: =COUNTIF(Tableau1[[#All],[09/01/2020]],$A31) -> 2 | R31: =COUNTIF(Tableau1[[#All],[09/01/2020]],$A31) -> 2 | S31: =COUNTIF(Tableau1[[#All],[10/01/2020]],$A31) -> 2 | T31: =COUNTIF(Tableau1[[#All],[10/01/2020]],$A31) -> 2 | U31: =COUNTIF(Tableau1[[#All],[11/01/2020]],$A31) -> 0 | V31: =COUNTIF(Tableau1[[#All],[11/01/2020]],$A31) -> 0 | W31: =COUNTIF(Tableau1[[#All],[12/01/2020]],$A31) -> 0 | X31: =COUNTIF(Tableau1[[#All],[12/01/2020]],$A31) -> 0 | Y31: =COUNTIF(Tableau1[[#All],[13/01/2020]],$A31) -> 0 | Z31: =COUNTIF(Tableau1[[#All],[13/01/2020]],$A31) -> 0 | AA31: =COUNTIF(Tableau1[[#All],[14/01/2020]],$A31) -> 0 | AB31: =COUNTIF(Tableau1[[#All],[14/01/2020]],$A31) -> 0 | AC31: =COUNTIF(Tableau1[[#All],[15/01/2020]],$A31) -> 0 | AD31: =COUNTIF(Tableau1[[#All],[15/01/2020]],$A31) -> 0 | AE31: =COUNTIF(Tableau1[[#All],[16/01/2020]],$A31) -> 0 | AF31: =COUNTIF(Tableau1[[#All],[16/01/2020]],$A31) -> 0 | AG31: =COUNTIF(Tableau1[[#All],[17/01/2020]],$A31) -> 0 | AH31: =COUNTIF(Tableau1[[#All],[17/01/2020]],$A31) -> 0 | AI31: =COUNTIF(Tableau1[[#All],[18/01/2020]],$A31) -> 0 | AJ31: =COUNTIF(Tableau1[[#All],[18/01/2020]],$A31) -> 0 | AK31: =COUNTIF(Tableau1[[#All],[19/01/2020]],$A31) -> 0 | AL31: =COUNTIF(Tableau1[[#All],[19/01/2020]],$A31) -> 0 | AM31: =COUNTIF(Tableau1[[#All],[20/01/2020]],$A31) -> 0 | AN31: =COUNTIF(Tableau1[[#All],[20/01/2020]],$A31) -> 0 | AO31: =COUNTIF(Tableau1[[#All],[21/01/2020]],$A31) -> 0 | AP31: =COUNTIF(Tableau1[[#All],[21/01/2020]],$A31) -> 0 | AQ31: =COUNTIF(Tableau1[[#All],[22/01/2020]],$A31) -> 0 | AR31: =COUNTIF(Tableau1[[#All],[22/01/2020]],$A31) -> 0 | AS31: =COUNTIF(Tableau1[[#All],[23/01/2020]],$A31) -> 0 | AT31: =COUNTIF(Tableau1[[#All],[23/01/2020]],$A31) -> 0 | AU31: =COUNTIF(Tableau1[[#All],[24/01/2020]],$A31) -> 0 | AV31: =COUNTIF(Tableau1[[#All],[24/01/2020]],$A31) -> 0 | AW31: =COUNTIF(Tableau1[[#All],[25/01/2020]],$A31) -> 0 | AX31: =COUNTIF(Tableau1[[#All],[25/01/2020]],$A31) -> 0 | AY31: =COUNTIF(Tableau1[[#All],[26/01/2020]],$A31) -> 0 | AZ31: =COUNTIF(Tableau1[[#All],[26/01/2020]],$A31) -> 0 | BA31: =COUNTIF(Tableau1[[#All],[27/01/2020]],$A31) -> 0 | BB31: =COUNTIF(Tableau1[[#All],[27/01/2020]],$A31) -> 0 | BC31: =COUNTIF(Tableau1[[#All],[28/01/2020]],$A31) -> 0 | BD31: =COUNTIF(Tableau1[[#All],[28/01/2020]],$A31) -> 0 | BE31: =COUNTIF(Tableau1[[#All],[29/01/2020]],$A31) -> 0 | BF31: =COUNTIF(Tableau1[[#All],[29/01/2020]],$A31) -> 0 | BG31: =COUNTIF(Tableau1[[#All],[30/01/2020]],$A31) -> 0 | BH31: =COUNTIF(Tableau1[[#All],[30/01/2020]],$A31) -> 0 | BI31: =COUNTIF(Tableau1[[#All],[31/01/2020]],$A31) -> 0 | BJ31: =COUNTIF(Tableau1[[#All],[31/01/2020]],$A31) -> 0 | BK31: =COUNTIF(Tableau1[[#All],[01/02/2020]],$A31) -> 0 | BL31: =COUNTIF(Tableau1[[#All],[01/02/2020]],$A31) -> 0 | BM31: =COUNTIF(Tableau1[[#All],[02/02/2020]],$A31) -> 0 | BN31: =COUNTIF(Tableau1[[#All],[02/02/2020]],$A31) -> 0 | BO31: =COUNTIF(Tableau1[[#All],[03/02/2020]],$A31) -> 0 | BP31: =COUNTIF(Tableau1[[#All],[03/02/2020]],$A31) -> 0 | BQ31: =COUNTIF(Tableau1[[#All],[04/02/2020]],$A31) -> 0 | BR31: =COUNTIF(Tableau1[[#All],[04/02/2020]],$A31) -> 0 | BS31: =COUNTIF(Tableau1[[#All],[05/02/2020]],$A31) -> 0 | BT31: =COUNTIF(Tableau1[[#All],[05/02/2020]],$A31) -> 0 | BU31: =COUNTIF(Tableau1[[#All],[06/02/2020]],$A31) -> 0 | BV31: =COUNTIF(Tableau1[[#All],[06/02/2020]],$A31) -> 0 | BW31: =COUNTIF(Tableau1[[#All],[07/02/2020]],$A31) -> 0 | BX31: =COUNTIF(Tableau1[[#All],[07/02/2020]],$A31) -> 0 | BY31: =COUNTIF(Tableau1[[#All],[08/02/2020]],$A31) -> 1 | BZ31: =COUNTIF(Tableau1[[#All],[08/02/2020]],$A31) -> 1 | CA31: =COUNTIF(Tableau1[[#All],[09/02/2020]],$A31) -> 0 | CB31: =COUNTIF(Tableau1[[#All],[09/02/2020]],$A31) -> 0 | CC31: =COUNTIF(Tableau1[[#All],[10/02/2020]],$A31) -> 0 | CD31: =COUNTIF(Tableau1[[#All],[10/02/2020]],$A31) -> 0 | CE31: =COUNTIF(Tableau1[[#All],[11/02/2020]],$A31) -> 0 | CF31: =COUNTIF(Tableau1[[#All],[11/02/2020]],$A31) -> 0 | CG31: =COUNTIF(Tableau1[[#All],[12/02/2020]],$A31) -> 0 | CH31: =COUNTIF(Tableau1[[#All],[12/02/2020]],$A31) -> 0 | CI31: =COUNTIF(Tableau1[[#All],[13/02/2020]],$A31) -> 0 | CJ31: =COUNTIF(Tableau1[[#All],[13/02/2020]],$A31) -> 0 | CK31: =COUNTIF(Tableau1[[#All],[14/02/2020]],$A31) -> 0 | CL31: =COUNTIF(Tableau1[[#All],[14/02/2020]],$A31) -> 0 | CM31: =COUNTIF(Tableau1[[#All],[15/02/2020]],$A31) -> 0 | CN31: =COUNTIF(Tableau1[[#All],[15/02/2020]],$A31) -> 0 | CO31: =COUNTIF(Tableau1[[#All],[16/02/2020]],$A31) -> 0 | CP31: =COUNTIF(Tableau1[[#All],[16/02/2020]],$A31) -> 0 | CQ31: =COUNTIF(Tableau1[[#All],[17/02/2020]],$A31) -> 0 | CR31: =COUNTIF(Tableau1[[#All],[17/02/2020]],$A31) -> 0 | CS31: =COUNTIF(Tableau1[[#All],[18/02/2020]],$A31) -> 0 | CT31: =COUNTIF(Tableau1[[#All],[18/02/2020]],$A31) -> 0 | CU31: =COUNTIF(Tableau1[[#All],[19/02/2020]],$A31) -> 0 | CV31: =COUNTIF(Tableau1[[#All],[19/02/2020]],$A31) -> 0 | CW31: =COUNTIF(Tableau1[[#All],[20/02/2020]],$A31) -> 0 | CX31: =COUNTIF(Tableau1[[#All],[20/02/2020]],$A31) -> 0 | CY31: =COUNTIF(Tableau1[[#All],[21/02/2020]],$A31) -> 0 | CZ31: =COUNTIF(Tableau1[[#All],[21/02/2020]],$A31) -> 0 | DA31: =COUNTIF(Tableau1[[#All],[22/02/2020]],$A31) -> 0 | DB31: =COUNTIF(Tableau1[[#All],[22/02/2020]],$A31) -> 0 | DC31: =COUNTIF(Tableau1[[#All],[23/02/2020]],$A31) -> 0 | DD31: =COUNTIF(Tableau1[[#All],[23/02/2020]],$A31) -> 0 | DE31: =COUNTIF(Tableau1[[#All],[24/02/2020]],$A31) -> 0 | DF31: =COUNTIF(Tableau1[[#All],[24/02/2020]],$A31) -> 0 | DG31: =COUNTIF(Tableau1[[#All],[25/02/2020]],$A31) -> 0 | DH31: =COUNTIF(Tableau1[[#All],[25/02/2020]],$A31) -> 0 | DI31: =COUNTIF(Tableau1[[#All],[26/02/2020]],$A31) -> 0 | DJ31: =COUNTIF(Tableau1[[#All],[26/02/2020]],$A31) -> 0 | DK31: =COUNTIF(Tableau1[[#All],[27/02/2020]],$A31) -> 0 | DL31: =COUNTIF(Tableau1[[#All],[27/02/2020]],$A31) -> 0 | DM31: =COUNTIF(Tableau1[[#All],[28/02/2020]],$A31) -> 0 | DN31: =COUNTIF(Tableau1[[#All],[28/02/2020]],$A31) -> 0 | DO31: =COUNTIF(Tableau1[[#All],[29/02/2020]],$A31) -> 0 | DP31: =COUNTIF(Tableau1[[#All],[29/02/2020]],$A31) -> 0 | DQ31: =COUNTIF(Tableau1[[#All],[01/03/2020]],$A31) -> 0 | DR31: =COUNTIF(Tableau1[[#All],[01/03/2020]],$A31) -> 0 | DS31: =COUNTIF(Tableau1[[#All],[02/03/2020]],$A31) -> 0 | DT31: =COUNTIF(Tableau1[[#All],[02/03/2020]],$A31) -> 0 | DU31: =COUNTIF(Tableau1[[#All],[03/03/2020]],$A31) -> 0 | DV31: =COUNTIF(Tableau1[[#All],[03/03/2020]],$A31) -> 0 | DW31: =COUNTIF(Tableau1[[#All],[04/03/2020]],$A31) -> 0 | DX31: =COUNTIF(Tableau1[[#All],[04/03/2020]],$A31) -> 0 | DY31: =COUNTIF(Tableau1[[#All],[05/03/2020]],$A31) -> 0 | DZ31: =COUNTIF(Tableau1[[#All],[05/03/2020]],$A31) -> 0 | EA31: =COUNTIF(Tableau1[[#All],[06/03/2020]],$A31) -> 0 | EB31: =COUNTIF(Tableau1[[#All],[06/03/2020]],$A31) -> 0 | EC31: =COUNTIF(Tableau1[[#All],[07/03/2020]],$A31) -> 0 | ED31: =COUNTIF(Tableau1[[#All],[07/03/2020]],$A31) -> 0 | EE31: =COUNTIF(Tableau1[[#All],[08/03/2020]],$A31) -> 0 | EF31: =COUNTIF(Tableau1[[#All],[08/03/2020]],$A31) -> 0 | EG31: =COUNTIF(Tableau1[[#All],[09/03/2020]],$A31) -> 0 | EH31: =COUNTIF(Tableau1[[#All],[09/03/2020]],$A31) -> 0 | EI31: =COUNTIF(Tableau1[[#All],[10/03/2020]],$A31) -> 0 | EJ31: =COUNTIF(Tableau1[[#All],[10/03/2020]],$A31) -> 0 | EK31: =COUNTIF(Tableau1[[#All],[11/03/2020]],$A31) -> 0 | EL31: =COUNTIF(Tableau1[[#All],[11/03/2020]],$A31) -> 0 | EM31: =COUNTIF(Tableau1[[#All],[12/03/2020]],$A31) -> 0 | EN31: =COUNTIF(Tableau1[[#All],[12/03/2020]],$A31) -> 0 | EO31: =COUNTIF(Tableau1[[#All],[13/03/2020]],$A31) -> 0 | EP31: =COUNTIF(Tableau1[[#All],[13/03/2020]],$A31) -> 0 | EQ31: =COUNTIF(Tableau1[[#All],[14/03/2020]],$A31) -> 0 | ER31: =COUNTIF(Tableau1[[#All],[14/03/2020]],$A31) -> 0 | ES31: =COUNTIF(Tableau1[[#All],[15/03/2020]],$A31) -> 0 | ET31: =COUNTIF(Tableau1[[#All],[15/03/2020]],$A31) -> 0 | EU31: =COUNTIF(Tableau1[[#All],[16/03/2020]],$A31) -> 0 | EV31: =COUNTIF(Tableau1[[#All],[16/03/2020]],$A31) -> 0 | EW31: =COUNTIF(Tableau1[[#All],[17/03/2020]],$A31) -> 0 | EX31: =COUNTIF(Tableau1[[#All],[17/03/2020]],$A31) -> 0 | EY31: =COUNTIF(Tableau1[[#All],[18/03/2020]],$A31) -> 0 | EZ31: =COUNTIF(Tableau1[[#All],[18/03/2020]],$A31) -> 0 | FA31: =COUNTIF(Tableau1[[#All],[19/03/2020]],$A31) -> 0 | FB31: =COUNTIF(Tableau1[[#All],[19/03/2020]],$A31) -> 0 | FC31: =COUNTIF(Tableau1[[#All],[20/03/2020]],$A31) -> 0 | FD31: =COUNTIF(Tableau1[[#All],[20/03/2020]],$A31) -> 0 | FE31: =COUNTIF(Tableau1[[#All],[21/03/2020]],$A31) -> 0 | FF31: =COUNTIF(Tableau1[[#All],[21/03/2020]],$A31) -> 0 | FG31: =COUNTIF(Tableau1[[#All],[22/03/2020]],$A31) -> 0 | FH31: =COUNTIF(Tableau1[[#All],[22/03/2020]],$A31) -> 0 | FI31: =COUNTIF(Tableau1[[#All],[23/03/2020]],$A31) -> 0 | FJ31: =COUNTIF(Tableau1[[#All],[23/03/2020]],$A31) -> 0 | FK31: =COUNTIF(Tableau1[[#All],[24/03/2020]],$A31) -> 0 | FL31: =COUNTIF(Tableau1[[#All],[24/03/2020]],$A31) -> 0 | FM31: =COUNTIF(Tableau1[[#All],[25/03/2020]],$A31) -> 0 | FN31: =COUNTIF(Tableau1[[#All],[25/03/2020]],$A31) -> 0 | FO31: =COUNTIF(Tableau1[[#All],[26/03/2020]],$A31) -> 0 | FP31: =COUNTIF(Tableau1[[#All],[26/03/2020]],$A31) -> 0 | FQ31: =COUNTIF(Tableau1[[#All],[27/03/2020]],$A31) -> 0 | FR31: =COUNTIF(Tableau1[[#All],[27/03/2020]],$A31) -> 0 | FS31: =COUNTIF(Tableau1[[#All],[28/03/2020]],$A31) -> 0 | FT31: =COUNTIF(Tableau1[[#All],[28/03/2020]],$A31) -> 0 | FU31: =COUNTIF(Tableau1[[#All],[29/03/2020]],$A31) -> 0 | FV31: =COUNTIF(Tableau1[[#All],[29/03/2020]],$A31) -> 0 | FW31: =COUNTIF(Tableau1[[#All],[30/03/2020]],$A31) -> 0 | FX31: =COUNTIF(Tableau1[[#All],[30/03/2020]],$A31) -> 0 | FY31: =COUNTIF(Tableau1[[#All],[31/03/2020]],$A31) -> 0 | FZ31: =COUNTIF(Tableau1[[#All],[31/03/2020]],$A31) -> 0 | GA31: =COUNTIF(Tableau1[[#All],[01/04/2020]],$A31) -> 0 | GB31: =COUNTIF(Tableau1[[#All],[01/04/2020]],$A31) -> 0 | GC31: =COUNTIF(Tableau1[[#All],[02/04/2020]],$A31) -> 0 | GD31: =COUNTIF(Tableau1[[#All],[02/04/2020]],$A31) -> 0 | GE31: =COUNTIF(Tableau1[[#All],[03/04/2020]],$A31) -> 0 | GF31: =COUNTIF(Tableau1[[#All],[03/04/2020]],$A31) -> 0 | GG31: =COUNTIF(Tableau1[[#All],[04/04/2020]],$A31) -> 0 | GH31: =COUNTIF(Tableau1[[#All],[04/04/2020]],$A31) -> 0 | GI31: =COUNTIF(Tableau1[[#All],[05/04/2020]],$A31) -> 0 | GJ31: =COUNTIF(Tableau1[[#All],[05/04/2020]],$A31) -> 0 | GK31: =COUNTIF(Tableau1[[#All],[06/04/2020]],$A31) -> 0 | GL31: =COUNTIF(Tableau1[[#All],[06/04/2020]],$A31) -> 0 | GM31: =COUNTIF(Tableau1[[#All],[07/04/2020]],$A31) -> 0 | GN31: =COUNTIF(Tableau1[[#All],[07/04/2020]],$A31) -> 0 | GO31: =COUNTIF(Tableau1[[#All],[08/04/2020]],$A31) -> 0 | GP31: =COUNTIF(Tableau1[[#All],[08/04/2020]],$A31) -> 0 | GQ31: =COUNTIF(Tableau1[[#All],[09/04/2020]],$A31) -> 0 | GR31: =COUNTIF(Tableau1[[#All],[09/04/2020]],$A31) -> 0 | GS31: =COUNTIF(Tableau1[[#All],[10/04/2020]],$A31) -> 0 | GT31: =COUNTIF(Tableau1[[#All],[10/04/2020]],$A31) -> 0 | GU31: =COUNTIF(Tableau1[[#All],[11/04/2020]],$A31) -> 0 | GV31: =COUNTIF(Tableau1[[#All],[11/04/2020]],$A31) -> 0 | GW31: =COUNTIF(Tableau1[[#All],[12/04/2020]],$A31) -> 0 | GX31: =COUNTIF(Tableau1[[#All],[12/04/2020]],$A31) -> 0 | GY31: =COUNTIF(Tableau1[[#All],[13/04/2020]],$A31) -> 0 | GZ31: =COUNTIF(Tableau1[[#All],[13/04/2020]],$A31) -> 0 | HA31: =COUNTIF(Tableau1[[#All],[14/04/2020]],$A31) -> 0 | HB31: =COUNTIF(Tableau1[[#All],[14/04/2020]],$A31) -> 0 | HC31: =COUNTIF(Tableau1[[#All],[15/04/2020]],$A31) -> 0 | HD31: =COUNTIF(Tableau1[[#All],[15/04/2020]],$A31) -> 0 | HE31: =COUNTIF(Tableau1[[#All],[16/04/2020]],$A31) -> 0 | HF31: =COUNTIF(Tableau1[[#All],[16/04/2020]],$A31) -> 0 | HG31: =COUNTIF(Tableau1[[#All],[17/04/2020]],$A31) -> 0 | HH31: =COUNTIF(Tableau1[[#All],[17/04/2020]],$A31) -> 0 | HI31: =COUNTIF(Tableau1[[#All],[18/04/2020]],$A31) -> 0 | HJ31: =COUNTIF(Tableau1[[#All],[18/04/2020]],$A31) -> 0 | HK31: =COUNTIF(Tableau1[[#All],[19/04/2020]],$A31) -> 0 | HL31: =COUNTIF(Tableau1[[#All],[19/04/2020]],$A31) -> 0 | HM31: =COUNTIF(Tableau1[[#All],[20/04/2020]],$A31) -> 0 | HN31: =COUNTIF(Tableau1[[#All],[20/04/2020]],$A31) -> 0 | HO31: =COUNTIF(Tableau1[[#All],[21/04/2020]],$A31) -> 0 | HP31: =COUNTIF(Tableau1[[#All],[21/04/2020]],$A31) -> 0 | HQ31: =COUNTIF(Tableau1[[#All],[22/04/2020]],$A31) -> 0 | HR31: =COUNTIF(Tableau1[[#All],[22/04/2020]],$A31) -> 0 | HS31: =COUNTIF(Tableau1[[#All],[23/04/2020]],$A31) -> 0 | HT31: =COUNTIF(Tableau1[[#All],[23/04/2020]],$A31) -> 0 | HU31: =COUNTIF(Tableau1[[#All],[24/04/2020]],$A31) -> 0 | HV31: =COUNTIF(Tableau1[[#All],[24/04/2020]],$A31) -> 0 | HW31: =COUNTIF(Tableau1[[#All],[25/04/2020]],$A31) -> 0 | HX31: =COUNTIF(Tableau1[[#All],[25/04/2020]],$A31) -> 0 | HY31: =COUNTIF(Tableau1[[#All],[26/04/2020]],$A31) -> 0 | HZ31: =COUNTIF(Tableau1[[#All],[26/04/2020]],$A31) -> 0 | IA31: =COUNTIF(Tableau1[[#All],[27/04/2020]],$A31) -> 0 | IB31: =COUNTIF(Tableau1[[#All],[27/04/2020]],$A31) -> 0 | IC31: =COUNTIF(Tableau1[[#All],[28/04/2020]],$A31) -> 0 | ID31: =COUNTIF(Tableau1[[#All],[28/04/2020]],$A31) -> 0 | IE31: =COUNTIF(Tableau1[[#All],[29/04/2020]],$A31) -> 0 | IF31: =COUNTIF(Tableau1[[#All],[29/04/2020]],$A31) -> 0 | IG31: =COUNTIF(Tableau1[[#All],[30/04/2020]],$A31) -> 0 | IH31: =COUNTIF(Tableau1[[#All],[30/04/2020]],$A31) -> 0 | II31: =COUNTIF(Tableau1[[#All],[01/05/2020]],$A31) -> 0 | IJ31: =COUNTIF(Tableau1[[#All],[01/05/2020]],$A31) -> 0 | IK31: =COUNTIF(Tableau1[[#All],[02/05/2020]],$A31) -> 0 | IL31: =COUNTIF(Tableau1[[#All],[02/05/2020]],$A31) -> 0 | IM31: =COUNTIF(Tableau1[[#All],[03/05/2020]],$A31) -> 0 | IN31: =COUNTIF(Tableau1[[#All],[03/05/2020]],$A31) -> 0 | IO31: =COUNTIF(Tableau1[[#All],[04/05/2020]],$A31) -> 0 | IP31: =COUNTIF(Tableau1[[#All],[04/05/2020]],$A31) -> 0 | IQ31: =COUNTIF(Tableau1[[#All],[05/05/2020]],$A31) -> 0 | IR31: =COUNTIF(Tableau1[[#All],[05/05/2020]],$A31) -> 0 | IS31: =COUNTIF(Tableau1[[#All],[06/05/2020]],$A31) -> 0 | IT31: =COUNTIF(Tableau1[[#All],[06/05/2020]],$A31) -> 0 | IU31: =COUNTIF(Tableau1[[#All],[07/05/2020]],$A31) -> 0 | IV31: =COUNTIF(Tableau1[[#All],[07/05/2020]],$A31) -> 0 | IW31: =COUNTIF(Tableau1[[#All],[08/05/2020]],$A31) -> 0 | IX31: =COUNTIF(Tableau1[[#All],[08/05/2020]],$A31) -> 0 | IY31: =COUNTIF(Tableau1[[#All],[09/05/2020]],$A31) -> 0 | IZ31: =COUNTIF(Tableau1[[#All],[09/05/2020]],$A31) -> 0 | JA31: =COUNTIF(Tableau1[[#All],[10/05/2020]],$A31) -> 0 | JB31: =COUNTIF(Tableau1[[#All],[10/05/2020]],$A31) -> 0 | JC31: =COUNTIF(Tableau1[[#All],[11/05/2020]],$A31) -> 0 | JD31: =COUNTIF(Tableau1[[#All],[11/05/2020]],$A31) -> 0 | JE31: =COUNTIF(Tableau1[[#All],[12/05/2020]],$A31) -> 0 | JF31: =COUNTIF(Tableau1[[#All],[12/05/2020]],$A31) -> 0 | JG31: =COUNTIF(Tableau1[[#All],[13/05/2020]],$A31) -> 0 | JH31: =COUNTIF(Tableau1[[#All],[13/05/2020]],$A31) -> 0 | JI31: =COUNTIF(Tableau1[[#All],[14/05/2020]],$A31) -> 0 | JJ31: =COUNTIF(Tableau1[[#All],[14/05/2020]],$A31) -> 0 | JK31: =COUNTIF(Tableau1[[#All],[15/05/2020]],$A31) -> 0 | JL31: =COUNTIF(Tableau1[[#All],[15/05/2020]],$A31) -> 0 | JM31: =COUNTIF(Tableau1[[#All],[16/05/2020]],$A31) -> 0 | JN31: =COUNTIF(Tableau1[[#All],[16/05/2020]],$A31) -> 0 | JO31: =COUNTIF(Tableau1[[#All],[17/05/2020]],$A31) -> 0 | JP31: =COUNTIF(Tableau1[[#All],[17/05/2020]],$A31) -> 0 | JQ31: =COUNTIF(Tableau1[[#All],[18/05/2020]],$A31) -> 0 | JR31: =COUNTIF(Tableau1[[#All],[18/05/2020]],$A31) -> 0 | JS31: =COUNTIF(Tableau1[[#All],[19/05/2020]],$A31) -> 0 | JT31: =COUNTIF(Tableau1[[#All],[19/05/2020]],$A31) -> 0 | JU31: =COUNTIF(Tableau1[[#All],[20/05/2020]],$A31) -> 0 | JV31: =COUNTIF(Tableau1[[#All],[20/05/2020]],$A31) -> 0 | JW31: =COUNTIF(Tableau1[[#All],[21/05/2020]],$A31) -> 0 | JX31: =COUNTIF(Tableau1[[#All],[21/05/2020]],$A31) -> 0 | JY31: =COUNTIF(Tableau1[[#All],[22/05/2020]],$A31) -> 0 | JZ31: =COUNTIF(Tableau1[[#All],[22/05/2020]],$A31) -> 0 | KA31: =COUNTIF(Tableau1[[#All],[23/05/2020]],$A31) -> 0 | KB31: =COUNTIF(Tableau1[[#All],[23/05/2020]],$A31) -> 0 | KC31: =COUNTIF(Tableau1[[#All],[24/05/2020]],$A31) -> 0 | KD31: =COUNTIF(Tableau1[[#All],[24/05/2020]],$A31) -> 0 | KE31: =COUNTIF(Tableau1[[#All],[25/05/2020]],$A31) -> 0 | KF31: =COUNTIF(Tableau1[[#All],[25/05/2020]],$A31) -> 0 | KG31: =COUNTIF(Tableau1[[#All],[26/05/2020]],$A31) -> 0 | KH31: =COUNTIF(Tableau1[[#All],[26/05/2020]],$A31) -> 0 | KI31: =COUNTIF(Tableau1[[#All],[27/05/2020]],$A31) -> 0 | KJ31: =COUNTIF(Tableau1[[#All],[27/05/2020]],$A31) -> 0 | KK31: =COUNTIF(Tableau1[[#All],[28/05/2020]],$A31) -> 0 | KL31: =COUNTIF(Tableau1[[#All],[28/05/2020]],$A31) -> 0 | KM31: =COUNTIF(Tableau1[[#All],[29/05/2020]],$A31) -> 0 | KN31: =COUNTIF(Tableau1[[#All],[29/05/2020]],$A31) -> 0 | KO31: =COUNTIF(Tableau1[[#All],[30/05/2020]],$A31) -> 0 | KP31: =COUNTIF(Tableau1[[#All],[30/05/2020]],$A31) -> 0 | KQ31: =COUNTIF(Tableau1[[#All],[31/05/2020]],$A31) -> 0 | KR31: =COUNTIF(Tableau1[[#All],[31/05/2020]],$A31) -> 0 | KS31: =COUNTIF(Tableau1[[#All],[01/06/2020]],$A31) -> 0 | KT31: =COUNTIF(Tableau1[[#All],[01/06/2020]],$A31) -> 0 | KU31: =COUNTIF(Tableau1[[#All],[02/06/2020]],$A31) -> 0 | KV31: =COUNTIF(Tableau1[[#All],[02/06/2020]],$A31) -> 0 | KW31: =COUNTIF(Tableau1[[#All],[03/06/2020]],$A31) -> 0 | KX31: =COUNTIF(Tableau1[[#All],[03/06/2020]],$A31) -> 0 | KY31: =COUNTIF(Tableau1[[#All],[04/06/2020]],$A31) -> 0 | KZ31: =COUNTIF(Tableau1[[#All],[04/06/2020]],$A31) -> 0 | LA31: =COUNTIF(Tableau1[[#All],[05/06/2020]],$A31) -> 0 | LB31: =COUNTIF(Tableau1[[#All],[05/06/2020]],$A31) -> 0 | LC31: =COUNTIF(Tableau1[[#All],[06/06/2020]],$A31) -> 0 | LD31: =COUNTIF(Tableau1[[#All],[06/06/2020]],$A31) -> 0 | LE31: =COUNTIF(Tableau1[[#All],[07/06/2020]],$A31) -> 0 | LF31: =COUNTIF(Tableau1[[#All],[07/06/2020]],$A31) -> 0 | LG31: =COUNTIF(Tableau1[[#All],[08/06/2020]],$A31) -> 0 | LH31: =COUNTIF(Tableau1[[#All],[08/06/2020]],$A31) -> 0 | LI31: =COUNTIF(Tableau1[[#All],[09/06/2020]],$A31) -> 0 | LJ31: =COUNTIF(Tableau1[[#All],[09/06/2020]],$A31) -> 0 | LK31: =COUNTIF(Tableau1[[#All],[10/06/2020]],$A31) -> 0 | LL31: =COUNTIF(Tableau1[[#All],[10/06/2020]],$A31) -> 0 | LM31: =COUNTIF(Tableau1[[#All],[11/06/2020]],$A31) -> 0 | LN31: =COUNTIF(Tableau1[[#All],[11/06/2020]],$A31) -> 0 | LO31: =COUNTIF(Tableau1[[#All],[12/06/2020]],$A31) -> 0 | LP31: =COUNTIF(Tableau1[[#All],[12/06/2020]],$A31) -> 0 | LQ31: =COUNTIF(Tableau1[[#All],[13/06/2020]],$A31) -> 0 | LR31: =COUNTIF(Tableau1[[#All],[13/06/2020]],$A31) -> 0 | LS31: =COUNTIF(Tableau1[[#All],[14/06/2020]],$A31) -> 0 | LT31: =COUNTIF(Tableau1[[#All],[14/06/2020]],$A31) -> 0 | LU31: =COUNTIF(Tableau1[[#All],[15/06/2020]],$A31) -> 0 | LV31: =COUNTIF(Tableau1[[#All],[15/06/2020]],$A31) -> 0 | LW31: =COUNTIF(Tableau1[[#All],[16/06/2020]],$A31) -> 0 | LX31: =COUNTIF(Tableau1[[#All],[16/06/2020]],$A31) -> 0 | LY31: =COUNTIF(Tableau1[[#All],[17/06/2020]],$A31) -> 0 | LZ31: =COUNTIF(Tableau1[[#All],[17/06/2020]],$A31) -> 0 | MA31: =COUNTIF(Tableau1[[#All],[18/06/2020]],$A31) -> 0 | MB31: =COUNTIF(Tableau1[[#All],[18/06/2020]],$A31) -> 0 | MC31: =COUNTIF(Tableau1[[#All],[19/06/2020]],$A31) -> 0 | MD31: =COUNTIF(Tableau1[[#All],[19/06/2020]],$A31) -> 0 | ME31: =COUNTIF(Tableau1[[#All],[20/06/2020]],$A31) -> 0 | MF31: =COUNTIF(Tableau1[[#All],[20/06/2020]],$A31) -> 0 | MG31: =COUNTIF(Tableau1[[#All],[21/06/2020]],$A31) -> 0 | MH31: =COUNTIF(Tableau1[[#All],[21/06/2020]],$A31) -> 0 | MI31: =COUNTIF(Tableau1[[#All],[22/06/2020]],$A31) -> 0 | MJ31: =COUNTIF(Tableau1[[#All],[22/06/2020]],$A31) -> 0 | MK31: =COUNTIF(Tableau1[[#All],[23/06/2020]],$A31) -> 0 | ML31: =COUNTIF(Tableau1[[#All],[23/06/2020]],$A31) -> 0 | MM31: =COUNTIF(Tableau1[[#All],[24/06/2020]],$A31) -> 0 | MN31: =COUNTIF(Tableau1[[#All],[24/06/2020]],$A31) -> 0 | MO31: =COUNTIF(Tableau1[[#All],[25/06/2020]],$A31) -> 0 | MP31: =COUNTIF(Tableau1[[#All],[25/06/2020]],$A31) -> 0 | MQ31: =COUNTIF(Tableau1[[#All],[26/06/2020]],$A31) -> 0 | MR31: =COUNTIF(Tableau1[[#All],[26/06/2020]],$A31) -> 0 | MS31: =COUNTIF(Tableau1[[#All],[27/06/2020]],$A31) -> 0 | MT31: =COUNTIF(Tableau1[[#All],[27/06/2020]],$A31) -> 0 | MU31: =COUNTIF(Tableau1[[#All],[28/06/2020]],$A31) -> 0 | MV31: =COUNTIF(Tableau1[[#All],[28/06/2020]],$A31) -> 0 | MW31: =COUNTIF(Tableau1[[#All],[29/06/2020]],$A31) -> 0 | MX31: =COUNTIF(Tableau1[[#All],[29/06/2020]],$A31) -> 0 | MY31: =COUNTIF(Tableau1[[#All],[30/06/2020]],$A31) -> 0 | MZ31: =COUNTIF(Tableau1[[#All],[30/06/2020]],$A31) -> 0 | NA31: =COUNTIF(Tableau1[[#All],[01/07/2020]],$A31) -> 0 | NB31: =COUNTIF(Tableau1[[#All],[01/07/2020]],$A31) -> 0 | NC31: =COUNTIF(Tableau1[[#All],[02/07/2020]],$A31) -> 0
A32: PR | B32: =COUNTIF(Tableau1[[#All],[01/01/2020]],$A32) -> 0 | C32: =COUNTIF(Tableau1[[#All],[02/01/2020]],$A32) -> 0 | D32: =COUNTIF(Tableau1[[#All],[02/01/2020]],$A32) -> 0 | E32: =COUNTIF(Tableau1[[#All],[03/01/2020]],$A32) -> 0 | F32: =COUNTIF(Tableau1[[#All],[03/01/2020]],$A32) -> 0 | G32: =COUNTIF(Tableau1[[#All],[04/01/2020]],$A32) -> 0 | H32: =COUNTIF(Tableau1[[#All],[04/01/2020]],$A32) -> 0 | I32: =COUNTIF(Tableau1[[#All],[05/01/2020]],$A32) -> 0 | J32: =COUNTIF(Tableau1[[#All],[05/01/2020]],$A32) -> 0 | K32: =COUNTIF(Tableau1[[#All],[06/01/2020]],$A32) -> 0 | L32: =COUNTIF(Tableau1[[#All],[06/01/2020]],$A32) -> 0 | M32: =COUNTIF(Tableau1[[#All],[07/01/2020]],$A32) -> 0 | N32: =COUNTIF(Tableau1[[#All],[07/01/2020]],$A32) -> 0 | O32: =COUNTIF(Tableau1[[#All],[08/01/2020]],$A32) -> 0 | P32: =COUNTIF(Tableau1[[#All],[08/01/2020]],$A32) -> 0 | Q32: =COUNTIF(Tableau1[[#All],[09/01/2020]],$A32) -> 0 | R32: =COUNTIF(Tableau1[[#All],[09/01/2020]],$A32) -> 0 | S32: =COUNTIF(Tableau1[[#All],[10/01/2020]],$A32) -> 0 | T32: =COUNTIF(Tableau1[[#All],[10/01/2020]],$A32) -> 0 | U32: =COUNTIF(Tableau1[[#All],[11/01/2020]],$A32) -> 0 | V32: =COUNTIF(Tableau1[[#All],[11/01/2020]],$A32) -> 0 | W32: =COUNTIF(Tableau1[[#All],[12/01/2020]],$A32) -> 0 | X32: =COUNTIF(Tableau1[[#All],[12/01/2020]],$A32) -> 0 | Y32: =COUNTIF(Tableau1[[#All],[13/01/2020]],$A32) -> 0 | Z32: =COUNTIF(Tableau1[[#All],[13/01/2020]],$A32) -> 0 | AA32: =COUNTIF(Tableau1[[#All],[14/01/2020]],$A32) -> 0 | AB32: =COUNTIF(Tableau1[[#All],[14/01/2020]],$A32) -> 0 | AC32: =COUNTIF(Tableau1[[#All],[15/01/2020]],$A32) -> 0 | AD32: =COUNTIF(Tableau1[[#All],[15/01/2020]],$A32) -> 0 | AE32: =COUNTIF(Tableau1[[#All],[16/01/2020]],$A32) -> 0 | AF32: =COUNTIF(Tableau1[[#All],[16/01/2020]],$A32) -> 0 | AG32: =COUNTIF(Tableau1[[#All],[17/01/2020]],$A32) -> 0 | AH32: =COUNTIF(Tableau1[[#All],[17/01/2020]],$A32) -> 0 | AI32: =COUNTIF(Tableau1[[#All],[18/01/2020]],$A32) -> 0 | AJ32: =COUNTIF(Tableau1[[#All],[18/01/2020]],$A32) -> 0 | AK32: =COUNTIF(Tableau1[[#All],[19/01/2020]],$A32) -> 0 | AL32: =COUNTIF(Tableau1[[#All],[19/01/2020]],$A32) -> 0 | AM32: =COUNTIF(Tableau1[[#All],[20/01/2020]],$A32) -> 0 | AN32: =COUNTIF(Tableau1[[#All],[20/01/2020]],$A32) -> 0 | AO32: =COUNTIF(Tableau1[[#All],[21/01/2020]],$A32) -> 0 | AP32: =COUNTIF(Tableau1[[#All],[21/01/2020]],$A32) -> 0 | AQ32: =COUNTIF(Tableau1[[#All],[22/01/2020]],$A32) -> 0 | AR32: =COUNTIF(Tableau1[[#All],[22/01/2020]],$A32) -> 0 | AS32: =COUNTIF(Tableau1[[#All],[23/01/2020]],$A32) -> 0 | AT32: =COUNTIF(Tableau1[[#All],[23/01/2020]],$A32) -> 0 | AU32: =COUNTIF(Tableau1[[#All],[24/01/2020]],$A32) -> 0 | AV32: =COUNTIF(Tableau1[[#All],[24/01/2020]],$A32) -> 0 | AW32: =COUNTIF(Tableau1[[#All],[25/01/2020]],$A32) -> 0 | AX32: =COUNTIF(Tableau1[[#All],[25/01/2020]],$A32) -> 0 | AY32: =COUNTIF(Tableau1[[#All],[26/01/2020]],$A32) -> 0 | AZ32: =COUNTIF(Tableau1[[#All],[26/01/2020]],$A32) -> 0 | BA32: =COUNTIF(Tableau1[[#All],[27/01/2020]],$A32) -> 0 | BB32: =COUNTIF(Tableau1[[#All],[27/01/2020]],$A32) -> 0 | BC32: =COUNTIF(Tableau1[[#All],[28/01/2020]],$A32) -> 0 | BD32: =COUNTIF(Tableau1[[#All],[28/01/2020]],$A32) -> 0 | BE32: =COUNTIF(Tableau1[[#All],[29/01/2020]],$A32) -> 0 | BF32: =COUNTIF(Tableau1[[#All],[29/01/2020]],$A32) -> 0 | BG32: =COUNTIF(Tableau1[[#All],[30/01/2020]],$A32) -> 0 | BH32: =COUNTIF(Tableau1[[#All],[30/01/2020]],$A32) -> 0 | BI32: =COUNTIF(Tableau1[[#All],[31/01/2020]],$A32) -> 0 | BJ32: =COUNTIF(Tableau1[[#All],[31/01/2020]],$A32) -> 0 | BK32: =COUNTIF(Tableau1[[#All],[01/02/2020]],$A32) -> 0 | BL32: =COUNTIF(Tableau1[[#All],[01/02/2020]],$A32) -> 0 | BM32: =COUNTIF(Tableau1[[#All],[02/02/2020]],$A32) -> 0 | BN32: =COUNTIF(Tableau1[[#All],[02/02/2020]],$A32) -> 0 | BO32: =COUNTIF(Tableau1[[#All],[03/02/2020]],$A32) -> 0 | BP32: =COUNTIF(Tableau1[[#All],[03/02/2020]],$A32) -> 0 | BQ32: =COUNTIF(Tableau1[[#All],[04/02/2020]],$A32) -> 0 | BR32: =COUNTIF(Tableau1[[#All],[04/02/2020]],$A32) -> 0 | BS32: =COUNTIF(Tableau1[[#All],[05/02/2020]],$A32) -> 0 | BT32: =COUNTIF(Tableau1[[#All],[05/02/2020]],$A32) -> 0 | BU32: =COUNTIF(Tableau1[[#All],[06/02/2020]],$A32) -> 0 | BV32: =COUNTIF(Tableau1[[#All],[06/02/2020]],$A32) -> 0 | BW32: =COUNTIF(Tableau1[[#All],[07/02/2020]],$A32) -> 0 | BX32: =COUNTIF(Tableau1[[#All],[07/02/2020]],$A32) -> 0 | BY32: =COUNTIF(Tableau1[[#All],[08/02/2020]],$A32) -> 0 | BZ32: =COUNTIF(Tableau1[[#All],[08/02/2020]],$A32) -> 0 | CA32: =COUNTIF(Tableau1[[#All],[09/02/2020]],$A32) -> 0 | CB32: =COUNTIF(Tableau1[[#All],[09/02/2020]],$A32) -> 0 | CC32: =COUNTIF(Tableau1[[#All],[10/02/2020]],$A32) -> 0 | CD32: =COUNTIF(Tableau1[[#All],[10/02/2020]],$A32) -> 0 | CE32: =COUNTIF(Tableau1[[#All],[11/02/2020]],$A32) -> 0 | CF32: =COUNTIF(Tableau1[[#All],[11/02/2020]],$A32) -> 0 | CG32: =COUNTIF(Tableau1[[#All],[12/02/2020]],$A32) -> 0 | CH32: =COUNTIF(Tableau1[[#All],[12/02/2020]],$A32) -> 0 | CI32: =COUNTIF(Tableau1[[#All],[13/02/2020]],$A32) -> 0 | CJ32: =COUNTIF(Tableau1[[#All],[13/02/2020]],$A32) -> 0 | CK32: =COUNTIF(Tableau1[[#All],[14/02/2020]],$A32) -> 0 | CL32: =COUNTIF(Tableau1[[#All],[14/02/2020]],$A32) -> 0 | CM32: =COUNTIF(Tableau1[[#All],[15/02/2020]],$A32) -> 0 | CN32: =COUNTIF(Tableau1[[#All],[15/02/2020]],$A32) -> 0 | CO32: =COUNTIF(Tableau1[[#All],[16/02/2020]],$A32) -> 0 | CP32: =COUNTIF(Tableau1[[#All],[16/02/2020]],$A32) -> 0 | CQ32: =COUNTIF(Tableau1[[#All],[17/02/2020]],$A32) -> 0 | CR32: =COUNTIF(Tableau1[[#All],[17/02/2020]],$A32) -> 0 | CS32: =COUNTIF(Tableau1[[#All],[18/02/2020]],$A32) -> 0 | CT32: =COUNTIF(Tableau1[[#All],[18/02/2020]],$A32) -> 0 | CU32: =COUNTIF(Tableau1[[#All],[19/02/2020]],$A32) -> 0 | CV32: =COUNTIF(Tableau1[[#All],[19/02/2020]],$A32) -> 0 | CW32: =COUNTIF(Tableau1[[#All],[20/02/2020]],$A32) -> 0 | CX32: =COUNTIF(Tableau1[[#All],[20/02/2020]],$A32) -> 0 | CY32: =COUNTIF(Tableau1[[#All],[21/02/2020]],$A32) -> 0 | CZ32: =COUNTIF(Tableau1[[#All],[21/02/2020]],$A32) -> 0 | DA32: =COUNTIF(Tableau1[[#All],[22/02/2020]],$A32) -> 0 | DB32: =COUNTIF(Tableau1[[#All],[22/02/2020]],$A32) -> 0 | DC32: =COUNTIF(Tableau1[[#All],[23/02/2020]],$A32) -> 0 | DD32: =COUNTIF(Tableau1[[#All],[23/02/2020]],$A32) -> 0 | DE32: =COUNTIF(Tableau1[[#All],[24/02/2020]],$A32) -> 0 | DF32: =COUNTIF(Tableau1[[#All],[24/02/2020]],$A32) -> 0 | DG32: =COUNTIF(Tableau1[[#All],[25/02/2020]],$A32) -> 0 | DH32: =COUNTIF(Tableau1[[#All],[25/02/2020]],$A32) -> 0 | DI32: =COUNTIF(Tableau1[[#All],[26/02/2020]],$A32) -> 0 | DJ32: =COUNTIF(Tableau1[[#All],[26/02/2020]],$A32) -> 0 | DK32: =COUNTIF(Tableau1[[#All],[27/02/2020]],$A32) -> 0 | DL32: =COUNTIF(Tableau1[[#All],[27/02/2020]],$A32) -> 0 | DM32: =COUNTIF(Tableau1[[#All],[28/02/2020]],$A32) -> 0 | DN32: =COUNTIF(Tableau1[[#All],[28/02/2020]],$A32) -> 0 | DO32: =COUNTIF(Tableau1[[#All],[29/02/2020]],$A32) -> 0 | DP32: =COUNTIF(Tableau1[[#All],[29/02/2020]],$A32) -> 0 | DQ32: =COUNTIF(Tableau1[[#All],[01/03/2020]],$A32) -> 0 | DR32: =COUNTIF(Tableau1[[#All],[01/03/2020]],$A32) -> 0 | DS32: =COUNTIF(Tableau1[[#All],[02/03/2020]],$A32) -> 0 | DT32: =COUNTIF(Tableau1[[#All],[02/03/2020]],$A32) -> 0 | DU32: =COUNTIF(Tableau1[[#All],[03/03/2020]],$A32) -> 0 | DV32: =COUNTIF(Tableau1[[#All],[03/03/2020]],$A32) -> 0 | DW32: =COUNTIF(Tableau1[[#All],[04/03/2020]],$A32) -> 0 | DX32: =COUNTIF(Tableau1[[#All],[04/03/2020]],$A32) -> 0 | DY32: =COUNTIF(Tableau1[[#All],[05/03/2020]],$A32) -> 0 | DZ32: =COUNTIF(Tableau1[[#All],[05/03/2020]],$A32) -> 0 | EA32: =COUNTIF(Tableau1[[#All],[06/03/2020]],$A32) -> 0 | EB32: =COUNTIF(Tableau1[[#All],[06/03/2020]],$A32) -> 0 | EC32: =COUNTIF(Tableau1[[#All],[07/03/2020]],$A32) -> 0 | ED32: =COUNTIF(Tableau1[[#All],[07/03/2020]],$A32) -> 0 | EE32: =COUNTIF(Tableau1[[#All],[08/03/2020]],$A32) -> 0 | EF32: =COUNTIF(Tableau1[[#All],[08/03/2020]],$A32) -> 0 | EG32: =COUNTIF(Tableau1[[#All],[09/03/2020]],$A32) -> 0 | EH32: =COUNTIF(Tableau1[[#All],[09/03/2020]],$A32) -> 0 | EI32: =COUNTIF(Tableau1[[#All],[10/03/2020]],$A32) -> 0 | EJ32: =COUNTIF(Tableau1[[#All],[10/03/2020]],$A32) -> 0 | EK32: =COUNTIF(Tableau1[[#All],[11/03/2020]],$A32) -> 0 | EL32: =COUNTIF(Tableau1[[#All],[11/03/2020]],$A32) -> 0 | EM32: =COUNTIF(Tableau1[[#All],[12/03/2020]],$A32) -> 0 | EN32: =COUNTIF(Tableau1[[#All],[12/03/2020]],$A32) -> 0 | EO32: =COUNTIF(Tableau1[[#All],[13/03/2020]],$A32) -> 0 | EP32: =COUNTIF(Tableau1[[#All],[13/03/2020]],$A32) -> 0 | EQ32: =COUNTIF(Tableau1[[#All],[14/03/2020]],$A32) -> 0 | ER32: =COUNTIF(Tableau1[[#All],[14/03/2020]],$A32) -> 0 | ES32: =COUNTIF(Tableau1[[#All],[15/03/2020]],$A32) -> 0 | ET32: =COUNTIF(Tableau1[[#All],[15/03/2020]],$A32) -> 0 | EU32: =COUNTIF(Tableau1[[#All],[16/03/2020]],$A32) -> 0 | EV32: =COUNTIF(Tableau1[[#All],[16/03/2020]],$A32) -> 0 | EW32: =COUNTIF(Tableau1[[#All],[17/03/2020]],$A32) -> 0 | EX32: =COUNTIF(Tableau1[[#All],[17/03/2020]],$A32) -> 0 | EY32: =COUNTIF(Tableau1[[#All],[18/03/2020]],$A32) -> 0 | EZ32: =COUNTIF(Tableau1[[#All],[18/03/2020]],$A32) -> 0 | FA32: =COUNTIF(Tableau1[[#All],[19/03/2020]],$A32) -> 0 | FB32: =COUNTIF(Tableau1[[#All],[19/03/2020]],$A32) -> 0 | FC32: =COUNTIF(Tableau1[[#All],[20/03/2020]],$A32) -> 0 | FD32: =COUNTIF(Tableau1[[#All],[20/03/2020]],$A32) -> 0 | FE32: =COUNTIF(Tableau1[[#All],[21/03/2020]],$A32) -> 0 | FF32: =COUNTIF(Tableau1[[#All],[21/03/2020]],$A32) -> 0 | FG32: =COUNTIF(Tableau1[[#All],[22/03/2020]],$A32) -> 0 | FH32: =COUNTIF(Tableau1[[#All],[22/03/2020]],$A32) -> 0 | FI32: =COUNTIF(Tableau1[[#All],[23/03/2020]],$A32) -> 0 | FJ32: =COUNTIF(Tableau1[[#All],[23/03/2020]],$A32) -> 0 | FK32: =COUNTIF(Tableau1[[#All],[24/03/2020]],$A32) -> 0 | FL32: =COUNTIF(Tableau1[[#All],[24/03/2020]],$A32) -> 0 | FM32: =COUNTIF(Tableau1[[#All],[25/03/2020]],$A32) -> 0 | FN32: =COUNTIF(Tableau1[[#All],[25/03/2020]],$A32) -> 0 | FO32: =COUNTIF(Tableau1[[#All],[26/03/2020]],$A32) -> 0 | FP32: =COUNTIF(Tableau1[[#All],[26/03/2020]],$A32) -> 0 | FQ32: =COUNTIF(Tableau1[[#All],[27/03/2020]],$A32) -> 0 | FR32: =COUNTIF(Tableau1[[#All],[27/03/2020]],$A32) -> 0 | FS32: =COUNTIF(Tableau1[[#All],[28/03/2020]],$A32) -> 0 | FT32: =COUNTIF(Tableau1[[#All],[28/03/2020]],$A32) -> 0 | FU32: =COUNTIF(Tableau1[[#All],[29/03/2020]],$A32) -> 0 | FV32: =COUNTIF(Tableau1[[#All],[29/03/2020]],$A32) -> 0 | FW32: =COUNTIF(Tableau1[[#All],[30/03/2020]],$A32) -> 0 | FX32: =COUNTIF(Tableau1[[#All],[30/03/2020]],$A32) -> 0 | FY32: =COUNTIF(Tableau1[[#All],[31/03/2020]],$A32) -> 0 | FZ32: =COUNTIF(Tableau1[[#All],[31/03/2020]],$A32) -> 0 | GA32: =COUNTIF(Tableau1[[#All],[01/04/2020]],$A32) -> 0 | GB32: =COUNTIF(Tableau1[[#All],[01/04/2020]],$A32) -> 0 | GC32: =COUNTIF(Tableau1[[#All],[02/04/2020]],$A32) -> 0 | GD32: =COUNTIF(Tableau1[[#All],[02/04/2020]],$A32) -> 0 | GE32: =COUNTIF(Tableau1[[#All],[03/04/2020]],$A32) -> 0 | GF32: =COUNTIF(Tableau1[[#All],[03/04/2020]],$A32) -> 0 | GG32: =COUNTIF(Tableau1[[#All],[04/04/2020]],$A32) -> 0 | GH32: =COUNTIF(Tableau1[[#All],[04/04/2020]],$A32) -> 0 | GI32: =COUNTIF(Tableau1[[#All],[05/04/2020]],$A32) -> 0 | GJ32: =COUNTIF(Tableau1[[#All],[05/04/2020]],$A32) -> 0 | GK32: =COUNTIF(Tableau1[[#All],[06/04/2020]],$A32) -> 0 | GL32: =COUNTIF(Tableau1[[#All],[06/04/2020]],$A32) -> 0 | GM32: =COUNTIF(Tableau1[[#All],[07/04/2020]],$A32) -> 0 | GN32: =COUNTIF(Tableau1[[#All],[07/04/2020]],$A32) -> 0 | GO32: =COUNTIF(Tableau1[[#All],[08/04/2020]],$A32) -> 0 | GP32: =COUNTIF(Tableau1[[#All],[08/04/2020]],$A32) -> 0 | GQ32: =COUNTIF(Tableau1[[#All],[09/04/2020]],$A32) -> 0 | GR32: =COUNTIF(Tableau1[[#All],[09/04/2020]],$A32) -> 0 | GS32: =COUNTIF(Tableau1[[#All],[10/04/2020]],$A32) -> 0 | GT32: =COUNTIF(Tableau1[[#All],[10/04/2020]],$A32) -> 0 | GU32: =COUNTIF(Tableau1[[#All],[11/04/2020]],$A32) -> 0 | GV32: =COUNTIF(Tableau1[[#All],[11/04/2020]],$A32) -> 0 | GW32: =COUNTIF(Tableau1[[#All],[12/04/2020]],$A32) -> 0 | GX32: =COUNTIF(Tableau1[[#All],[12/04/2020]],$A32) -> 0 | GY32: =COUNTIF(Tableau1[[#All],[13/04/2020]],$A32) -> 0 | GZ32: =COUNTIF(Tableau1[[#All],[13/04/2020]],$A32) -> 0 | HA32: =COUNTIF(Tableau1[[#All],[14/04/2020]],$A32) -> 0 | HB32: =COUNTIF(Tableau1[[#All],[14/04/2020]],$A32) -> 0 | HC32: =COUNTIF(Tableau1[[#All],[15/04/2020]],$A32) -> 0 | HD32: =COUNTIF(Tableau1[[#All],[15/04/2020]],$A32) -> 0 | HE32: =COUNTIF(Tableau1[[#All],[16/04/2020]],$A32) -> 0 | HF32: =COUNTIF(Tableau1[[#All],[16/04/2020]],$A32) -> 0 | HG32: =COUNTIF(Tableau1[[#All],[17/04/2020]],$A32) -> 0 | HH32: =COUNTIF(Tableau1[[#All],[17/04/2020]],$A32) -> 0 | HI32: =COUNTIF(Tableau1[[#All],[18/04/2020]],$A32) -> 0 | HJ32: =COUNTIF(Tableau1[[#All],[18/04/2020]],$A32) -> 0 | HK32: =COUNTIF(Tableau1[[#All],[19/04/2020]],$A32) -> 0 | HL32: =COUNTIF(Tableau1[[#All],[19/04/2020]],$A32) -> 0 | HM32: =COUNTIF(Tableau1[[#All],[20/04/2020]],$A32) -> 0 | HN32: =COUNTIF(Tableau1[[#All],[20/04/2020]],$A32) -> 0 | HO32: =COUNTIF(Tableau1[[#All],[21/04/2020]],$A32) -> 0 | HP32: =COUNTIF(Tableau1[[#All],[21/04/2020]],$A32) -> 0 | HQ32: =COUNTIF(Tableau1[[#All],[22/04/2020]],$A32) -> 0 | HR32: =COUNTIF(Tableau1[[#All],[22/04/2020]],$A32) -> 0 | HS32: =COUNTIF(Tableau1[[#All],[23/04/2020]],$A32) -> 0 | HT32: =COUNTIF(Tableau1[[#All],[23/04/2020]],$A32) -> 0 | HU32: =COUNTIF(Tableau1[[#All],[24/04/2020]],$A32) -> 0 | HV32: =COUNTIF(Tableau1[[#All],[24/04/2020]],$A32) -> 0 | HW32: =COUNTIF(Tableau1[[#All],[25/04/2020]],$A32) -> 0 | HX32: =COUNTIF(Tableau1[[#All],[25/04/2020]],$A32) -> 0 | HY32: =COUNTIF(Tableau1[[#All],[26/04/2020]],$A32) -> 0 | HZ32: =COUNTIF(Tableau1[[#All],[26/04/2020]],$A32) -> 0 | IA32: =COUNTIF(Tableau1[[#All],[27/04/2020]],$A32) -> 0 | IB32: =COUNTIF(Tableau1[[#All],[27/04/2020]],$A32) -> 0 | IC32: =COUNTIF(Tableau1[[#All],[28/04/2020]],$A32) -> 0 | ID32: =COUNTIF(Tableau1[[#All],[28/04/2020]],$A32) -> 0 | IE32: =COUNTIF(Tableau1[[#All],[29/04/2020]],$A32) -> 0 | IF32: =COUNTIF(Tableau1[[#All],[29/04/2020]],$A32) -> 0 | IG32: =COUNTIF(Tableau1[[#All],[30/04/2020]],$A32) -> 0 | IH32: =COUNTIF(Tableau1[[#All],[30/04/2020]],$A32) -> 0 | II32: =COUNTIF(Tableau1[[#All],[01/05/2020]],$A32) -> 0 | IJ32: =COUNTIF(Tableau1[[#All],[01/05/2020]],$A32) -> 0 | IK32: =COUNTIF(Tableau1[[#All],[02/05/2020]],$A32) -> 0 | IL32: =COUNTIF(Tableau1[[#All],[02/05/2020]],$A32) -> 0 | IM32: =COUNTIF(Tableau1[[#All],[03/05/2020]],$A32) -> 0 | IN32: =COUNTIF(Tableau1[[#All],[03/05/2020]],$A32) -> 0 | IO32: =COUNTIF(Tableau1[[#All],[04/05/2020]],$A32) -> 0 | IP32: =COUNTIF(Tableau1[[#All],[04/05/2020]],$A32) -> 0 | IQ32: =COUNTIF(Tableau1[[#All],[05/05/2020]],$A32) -> 0 | IR32: =COUNTIF(Tableau1[[#All],[05/05/2020]],$A32) -> 0 | IS32: =COUNTIF(Tableau1[[#All],[06/05/2020]],$A32) -> 0 | IT32: =COUNTIF(Tableau1[[#All],[06/05/2020]],$A32) -> 0 | IU32: =COUNTIF(Tableau1[[#All],[07/05/2020]],$A32) -> 0 | IV32: =COUNTIF(Tableau1[[#All],[07/05/2020]],$A32) -> 0 | IW32: =COUNTIF(Tableau1[[#All],[08/05/2020]],$A32) -> 0 | IX32: =COUNTIF(Tableau1[[#All],[08/05/2020]],$A32) -> 0 | IY32: =COUNTIF(Tableau1[[#All],[09/05/2020]],$A32) -> 0 | IZ32: =COUNTIF(Tableau1[[#All],[09/05/2020]],$A32) -> 0 | JA32: =COUNTIF(Tableau1[[#All],[10/05/2020]],$A32) -> 0 | JB32: =COUNTIF(Tableau1[[#All],[10/05/2020]],$A32) -> 0 | JC32: =COUNTIF(Tableau1[[#All],[11/05/2020]],$A32) -> 0 | JD32: =COUNTIF(Tableau1[[#All],[11/05/2020]],$A32) -> 0 | JE32: =COUNTIF(Tableau1[[#All],[12/05/2020]],$A32) -> 0 | JF32: =COUNTIF(Tableau1[[#All],[12/05/2020]],$A32) -> 0 | JG32: =COUNTIF(Tableau1[[#All],[13/05/2020]],$A32) -> 0 | JH32: =COUNTIF(Tableau1[[#All],[13/05/2020]],$A32) -> 0 | JI32: =COUNTIF(Tableau1[[#All],[14/05/2020]],$A32) -> 0 | JJ32: =COUNTIF(Tableau1[[#All],[14/05/2020]],$A32) -> 0 | JK32: =COUNTIF(Tableau1[[#All],[15/05/2020]],$A32) -> 0 | JL32: =COUNTIF(Tableau1[[#All],[15/05/2020]],$A32) -> 0 | JM32: =COUNTIF(Tableau1[[#All],[16/05/2020]],$A32) -> 0 | JN32: =COUNTIF(Tableau1[[#All],[16/05/2020]],$A32) -> 0 | JO32: =COUNTIF(Tableau1[[#All],[17/05/2020]],$A32) -> 0 | JP32: =COUNTIF(Tableau1[[#All],[17/05/2020]],$A32) -> 0 | JQ32: =COUNTIF(Tableau1[[#All],[18/05/2020]],$A32) -> 0 | JR32: =COUNTIF(Tableau1[[#All],[18/05/2020]],$A32) -> 0 | JS32: =COUNTIF(Tableau1[[#All],[19/05/2020]],$A32) -> 0 | JT32: =COUNTIF(Tableau1[[#All],[19/05/2020]],$A32) -> 0 | JU32: =COUNTIF(Tableau1[[#All],[20/05/2020]],$A32) -> 0 | JV32: =COUNTIF(Tableau1[[#All],[20/05/2020]],$A32) -> 0 | JW32: =COUNTIF(Tableau1[[#All],[21/05/2020]],$A32) -> 0 | JX32: =COUNTIF(Tableau1[[#All],[21/05/2020]],$A32) -> 0 | JY32: =COUNTIF(Tableau1[[#All],[22/05/2020]],$A32) -> 0 | JZ32: =COUNTIF(Tableau1[[#All],[22/05/2020]],$A32) -> 0 | KA32: =COUNTIF(Tableau1[[#All],[23/05/2020]],$A32) -> 0 | KB32: =COUNTIF(Tableau1[[#All],[23/05/2020]],$A32) -> 0 | KC32: =COUNTIF(Tableau1[[#All],[24/05/2020]],$A32) -> 0 | KD32: =COUNTIF(Tableau1[[#All],[24/05/2020]],$A32) -> 0 | KE32: =COUNTIF(Tableau1[[#All],[25/05/2020]],$A32) -> 0 | KF32: =COUNTIF(Tableau1[[#All],[25/05/2020]],$A32) -> 0 | KG32: =COUNTIF(Tableau1[[#All],[26/05/2020]],$A32) -> 0 | KH32: =COUNTIF(Tableau1[[#All],[26/05/2020]],$A32) -> 0 | KI32: =COUNTIF(Tableau1[[#All],[27/05/2020]],$A32) -> 0 | KJ32: =COUNTIF(Tableau1[[#All],[27/05/2020]],$A32) -> 0 | KK32: =COUNTIF(Tableau1[[#All],[28/05/2020]],$A32) -> 0 | KL32: =COUNTIF(Tableau1[[#All],[28/05/2020]],$A32) -> 0 | KM32: =COUNTIF(Tableau1[[#All],[29/05/2020]],$A32) -> 0 | KN32: =COUNTIF(Tableau1[[#All],[29/05/2020]],$A32) -> 0 | KO32: =COUNTIF(Tableau1[[#All],[30/05/2020]],$A32) -> 0 | KP32: =COUNTIF(Tableau1[[#All],[30/05/2020]],$A32) -> 0 | KQ32: =COUNTIF(Tableau1[[#All],[31/05/2020]],$A32) -> 0 | KR32: =COUNTIF(Tableau1[[#All],[31/05/2020]],$A32) -> 0 | KS32: =COUNTIF(Tableau1[[#All],[01/06/2020]],$A32) -> 0 | KT32: =COUNTIF(Tableau1[[#All],[01/06/2020]],$A32) -> 0 | KU32: =COUNTIF(Tableau1[[#All],[02/06/2020]],$A32) -> 0 | KV32: =COUNTIF(Tableau1[[#All],[02/06/2020]],$A32) -> 0 | KW32: =COUNTIF(Tableau1[[#All],[03/06/2020]],$A32) -> 0 | KX32: =COUNTIF(Tableau1[[#All],[03/06/2020]],$A32) -> 0 | KY32: =COUNTIF(Tableau1[[#All],[04/06/2020]],$A32) -> 0 | KZ32: =COUNTIF(Tableau1[[#All],[04/06/2020]],$A32) -> 0 | LA32: =COUNTIF(Tableau1[[#All],[05/06/2020]],$A32) -> 0 | LB32: =COUNTIF(Tableau1[[#All],[05/06/2020]],$A32) -> 0 | LC32: =COUNTIF(Tableau1[[#All],[06/06/2020]],$A32) -> 0 | LD32: =COUNTIF(Tableau1[[#All],[06/06/2020]],$A32) -> 0 | LE32: =COUNTIF(Tableau1[[#All],[07/06/2020]],$A32) -> 0 | LF32: =COUNTIF(Tableau1[[#All],[07/06/2020]],$A32) -> 0 | LG32: =COUNTIF(Tableau1[[#All],[08/06/2020]],$A32) -> 0 | LH32: =COUNTIF(Tableau1[[#All],[08/06/2020]],$A32) -> 0 | LI32: =COUNTIF(Tableau1[[#All],[09/06/2020]],$A32) -> 0 | LJ32: =COUNTIF(Tableau1[[#All],[09/06/2020]],$A32) -> 0 | LK32: =COUNTIF(Tableau1[[#All],[10/06/2020]],$A32) -> 0 | LL32: =COUNTIF(Tableau1[[#All],[10/06/2020]],$A32) -> 0 | LM32: =COUNTIF(Tableau1[[#All],[11/06/2020]],$A32) -> 0 | LN32: =COUNTIF(Tableau1[[#All],[11/06/2020]],$A32) -> 0 | LO32: =COUNTIF(Tableau1[[#All],[12/06/2020]],$A32) -> 0 | LP32: =COUNTIF(Tableau1[[#All],[12/06/2020]],$A32) -> 0 | LQ32: =COUNTIF(Tableau1[[#All],[13/06/2020]],$A32) -> 0 | LR32: =COUNTIF(Tableau1[[#All],[13/06/2020]],$A32) -> 0 | LS32: =COUNTIF(Tableau1[[#All],[14/06/2020]],$A32) -> 0 | LT32: =COUNTIF(Tableau1[[#All],[14/06/2020]],$A32) -> 0 | LU32: =COUNTIF(Tableau1[[#All],[15/06/2020]],$A32) -> 0 | LV32: =COUNTIF(Tableau1[[#All],[15/06/2020]],$A32) -> 0 | LW32: =COUNTIF(Tableau1[[#All],[16/06/2020]],$A32) -> 0 | LX32: =COUNTIF(Tableau1[[#All],[16/06/2020]],$A32) -> 0 | LY32: =COUNTIF(Tableau1[[#All],[17/06/2020]],$A32) -> 0 | LZ32: =COUNTIF(Tableau1[[#All],[17/06/2020]],$A32) -> 0 | MA32: =COUNTIF(Tableau1[[#All],[18/06/2020]],$A32) -> 0 | MB32: =COUNTIF(Tableau1[[#All],[18/06/2020]],$A32) -> 0 | MC32: =COUNTIF(Tableau1[[#All],[19/06/2020]],$A32) -> 0 | MD32: =COUNTIF(Tableau1[[#All],[19/06/2020]],$A32) -> 0 | ME32: =COUNTIF(Tableau1[[#All],[20/06/2020]],$A32) -> 0 | MF32: =COUNTIF(Tableau1[[#All],[20/06/2020]],$A32) -> 0 | MG32: =COUNTIF(Tableau1[[#All],[21/06/2020]],$A32) -> 0 | MH32: =COUNTIF(Tableau1[[#All],[21/06/2020]],$A32) -> 0 | MI32: =COUNTIF(Tableau1[[#All],[22/06/2020]],$A32) -> 0 | MJ32: =COUNTIF(Tableau1[[#All],[22/06/2020]],$A32) -> 0 | MK32: =COUNTIF(Tableau1[[#All],[23/06/2020]],$A32) -> 0 | ML32: =COUNTIF(Tableau1[[#All],[23/06/2020]],$A32) -> 0 | MM32: =COUNTIF(Tableau1[[#All],[24/06/2020]],$A32) -> 0 | MN32: =COUNTIF(Tableau1[[#All],[24/06/2020]],$A32) -> 0 | MO32: =COUNTIF(Tableau1[[#All],[25/06/2020]],$A32) -> 0 | MP32: =COUNTIF(Tableau1[[#All],[25/06/2020]],$A32) -> 0 | MQ32: =COUNTIF(Tableau1[[#All],[26/06/2020]],$A32) -> 0 | MR32: =COUNTIF(Tableau1[[#All],[26/06/2020]],$A32) -> 0 | MS32: =COUNTIF(Tableau1[[#All],[27/06/2020]],$A32) -> 0 | MT32: =COUNTIF(Tableau1[[#All],[27/06/2020]],$A32) -> 0 | MU32: =COUNTIF(Tableau1[[#All],[28/06/2020]],$A32) -> 0 | MV32: =COUNTIF(Tableau1[[#All],[28/06/2020]],$A32) -> 0 | MW32: =COUNTIF(Tableau1[[#All],[29/06/2020]],$A32) -> 0 | MX32: =COUNTIF(Tableau1[[#All],[29/06/2020]],$A32) -> 0 | MY32: =COUNTIF(Tableau1[[#All],[30/06/2020]],$A32) -> 0 | MZ32: =COUNTIF(Tableau1[[#All],[30/06/2020]],$A32) -> 0 | NA32: =COUNTIF(Tableau1[[#All],[01/07/2020]],$A32) -> 0 | NB32: =COUNTIF(Tableau1[[#All],[01/07/2020]],$A32) -> 0 | NC32: =COUNTIF(Tableau1[[#All],[02/07/2020]],$A32) -> 0
A33: C | B33: =COUNTIF(Tableau1[[#All],[01/01/2020]],$A33) -> 0 | C33: =COUNTIF(Tableau1[[#All],[02/01/2020]],$A33) -> 0 | D33: =COUNTIF(Tableau1[[#All],[02/01/2020]],$A33) -> 0 | E33: =COUNTIF(Tableau1[[#All],[03/01/2020]],$A33) -> 0 | F33: =COUNTIF(Tableau1[[#All],[03/01/2020]],$A33) -> 0 | G33: =COUNTIF(Tableau1[[#All],[04/01/2020]],$A33) -> 0 | H33: =COUNTIF(Tableau1[[#All],[04/01/2020]],$A33) -> 0 | I33: =COUNTIF(Tableau1[[#All],[05/01/2020]],$A33) -> 0 | J33: =COUNTIF(Tableau1[[#All],[05/01/2020]],$A33) -> 0 | K33: =COUNTIF(Tableau1[[#All],[06/01/2020]],$A33) -> 0 | L33: =COUNTIF(Tableau1[[#All],[06/01/2020]],$A33) -> 0 | M33: =COUNTIF(Tableau1[[#All],[07/01/2020]],$A33) -> 0 | N33: =COUNTIF(Tableau1[[#All],[07/01/2020]],$A33) -> 0 | O33: =COUNTIF(Tableau1[[#All],[08/01/2020]],$A33) -> 0 | P33: =COUNTIF(Tableau1[[#All],[08/01/2020]],$A33) -> 0 | Q33: =COUNTIF(Tableau1[[#All],[09/01/2020]],$A33) -> 0 | R33: =COUNTIF(Tableau1[[#All],[09/01/2020]],$A33) -> 0 | S33: =COUNTIF(Tableau1[[#All],[10/01/2020]],$A33) -> 0 | T33: =COUNTIF(Tableau1[[#All],[10/01/2020]],$A33) -> 0 | U33: =COUNTIF(Tableau1[[#All],[11/01/2020]],$A33) -> 0 | V33: =COUNTIF(Tableau1[[#All],[11/01/2020]],$A33) -> 0 | W33: =COUNTIF(Tableau1[[#All],[12/01/2020]],$A33) -> 0 | X33: =COUNTIF(Tableau1[[#All],[12/01/2020]],$A33) -> 0 | Y33: =COUNTIF(Tableau1[[#All],[13/01/2020]],$A33) -> 0 | Z33: =COUNTIF(Tableau1[[#All],[13/01/2020]],$A33) -> 0 | AA33: =COUNTIF(Tableau1[[#All],[14/01/2020]],$A33) -> 0 | AB33: =COUNTIF(Tableau1[[#All],[14/01/2020]],$A33) -> 0 | AC33: =COUNTIF(Tableau1[[#All],[15/01/2020]],$A33) -> 0 | AD33: =COUNTIF(Tableau1[[#All],[15/01/2020]],$A33) -> 0 | AE33: =COUNTIF(Tableau1[[#All],[16/01/2020]],$A33) -> 0 | AF33: =COUNTIF(Tableau1[[#All],[16/01/2020]],$A33) -> 0 | AG33: =COUNTIF(Tableau1[[#All],[17/01/2020]],$A33) -> 0 | AH33: =COUNTIF(Tableau1[[#All],[17/01/2020]],$A33) -> 0 | AI33: =COUNTIF(Tableau1[[#All],[18/01/2020]],$A33) -> 0 | AJ33: =COUNTIF(Tableau1[[#All],[18/01/2020]],$A33) -> 0 | AK33: =COUNTIF(Tableau1[[#All],[19/01/2020]],$A33) -> 0 | AL33: =COUNTIF(Tableau1[[#All],[19/01/2020]],$A33) -> 0 | AM33: =COUNTIF(Tableau1[[#All],[20/01/2020]],$A33) -> 0 | AN33: =COUNTIF(Tableau1[[#All],[20/01/2020]],$A33) -> 0 | AO33: =COUNTIF(Tableau1[[#All],[21/01/2020]],$A33) -> 0 | AP33: =COUNTIF(Tableau1[[#All],[21/01/2020]],$A33) -> 0 | AQ33: =COUNTIF(Tableau1[[#All],[22/01/2020]],$A33) -> 0 | AR33: =COUNTIF(Tableau1[[#All],[22/01/2020]],$A33) -> 0 | AS33: =COUNTIF(Tableau1[[#All],[23/01/2020]],$A33) -> 0 | AT33: =COUNTIF(Tableau1[[#All],[23/01/2020]],$A33) -> 0 | AU33: =COUNTIF(Tableau1[[#All],[24/01/2020]],$A33) -> 0 | AV33: =COUNTIF(Tableau1[[#All],[24/01/2020]],$A33) -> 0 | AW33: =COUNTIF(Tableau1[[#All],[25/01/2020]],$A33) -> 0 | AX33: =COUNTIF(Tableau1[[#All],[25/01/2020]],$A33) -> 0 | AY33: =COUNTIF(Tableau1[[#All],[26/01/2020]],$A33) -> 0 | AZ33: =COUNTIF(Tableau1[[#All],[26/01/2020]],$A33) -> 0 | BA33: =COUNTIF(Tableau1[[#All],[27/01/2020]],$A33) -> 0 | BB33: =COUNTIF(Tableau1[[#All],[27/01/2020]],$A33) -> 0 | BC33: =COUNTIF(Tableau1[[#All],[28/01/2020]],$A33) -> 0 | BD33: =COUNTIF(Tableau1[[#All],[28/01/2020]],$A33) -> 0 | BE33: =COUNTIF(Tableau1[[#All],[29/01/2020]],$A33) -> 0 | BF33: =COUNTIF(Tableau1[[#All],[29/01/2020]],$A33) -> 0 | BG33: =COUNTIF(Tableau1[[#All],[30/01/2020]],$A33) -> 0 | BH33: =COUNTIF(Tableau1[[#All],[30/01/2020]],$A33) -> 0 | BI33: =COUNTIF(Tableau1[[#All],[31/01/2020]],$A33) -> 0 | BJ33: =COUNTIF(Tableau1[[#All],[31/01/2020]],$A33) -> 0 | BK33: =COUNTIF(Tableau1[[#All],[01/02/2020]],$A33) -> 0 | BL33: =COUNTIF(Tableau1[[#All],[01/02/2020]],$A33) -> 0 | BM33: =COUNTIF(Tableau1[[#All],[02/02/2020]],$A33) -> 0 | BN33: =COUNTIF(Tableau1[[#All],[02/02/2020]],$A33) -> 0 | BO33: =COUNTIF(Tableau1[[#All],[03/02/2020]],$A33) -> 0 | BP33: =COUNTIF(Tableau1[[#All],[03/02/2020]],$A33) -> 0 | BQ33: =COUNTIF(Tableau1[[#All],[04/02/2020]],$A33) -> 0 | BR33: =COUNTIF(Tableau1[[#All],[04/02/2020]],$A33) -> 0 | BS33: =COUNTIF(Tableau1[[#All],[05/02/2020]],$A33) -> 0 | BT33: =COUNTIF(Tableau1[[#All],[05/02/2020]],$A33) -> 0 | BU33: =COUNTIF(Tableau1[[#All],[06/02/2020]],$A33) -> 0 | BV33: =COUNTIF(Tableau1[[#All],[06/02/2020]],$A33) -> 0 | BW33: =COUNTIF(Tableau1[[#All],[07/02/2020]],$A33) -> 0 | BX33: =COUNTIF(Tableau1[[#All],[07/02/2020]],$A33) -> 0 | BY33: =COUNTIF(Tableau1[[#All],[08/02/2020]],$A33) -> 0 | BZ33: =COUNTIF(Tableau1[[#All],[08/02/2020]],$A33) -> 0 | CA33: =COUNTIF(Tableau1[[#All],[09/02/2020]],$A33) -> 0 | CB33: =COUNTIF(Tableau1[[#All],[09/02/2020]],$A33) -> 0 | CC33: =COUNTIF(Tableau1[[#All],[10/02/2020]],$A33) -> 0 | CD33: =COUNTIF(Tableau1[[#All],[10/02/2020]],$A33) -> 0 | CE33: =COUNTIF(Tableau1[[#All],[11/02/2020]],$A33) -> 0 | CF33: =COUNTIF(Tableau1[[#All],[11/02/2020]],$A33) -> 0 | CG33: =COUNTIF(Tableau1[[#All],[12/02/2020]],$A33) -> 0 | CH33: =COUNTIF(Tableau1[[#All],[12/02/2020]],$A33) -> 0 | CI33: =COUNTIF(Tableau1[[#All],[13/02/2020]],$A33) -> 0 | CJ33: =COUNTIF(Tableau1[[#All],[13/02/2020]],$A33) -> 0 | CK33: =COUNTIF(Tableau1[[#All],[14/02/2020]],$A33) -> 0 | CL33: =COUNTIF(Tableau1[[#All],[14/02/2020]],$A33) -> 0 | CM33: =COUNTIF(Tableau1[[#All],[15/02/2020]],$A33) -> 0 | CN33: =COUNTIF(Tableau1[[#All],[15/02/2020]],$A33) -> 0 | CO33: =COUNTIF(Tableau1[[#All],[16/02/2020]],$A33) -> 0 | CP33: =COUNTIF(Tableau1[[#All],[16/02/2020]],$A33) -> 0 | CQ33: =COUNTIF(Tableau1[[#All],[17/02/2020]],$A33) -> 0 | CR33: =COUNTIF(Tableau1[[#All],[17/02/2020]],$A33) -> 0 | CS33: =COUNTIF(Tableau1[[#All],[18/02/2020]],$A33) -> 0 | CT33: =COUNTIF(Tableau1[[#All],[18/02/2020]],$A33) -> 0 | CU33: =COUNTIF(Tableau1[[#All],[19/02/2020]],$A33) -> 0 | CV33: =COUNTIF(Tableau1[[#All],[19/02/2020]],$A33) -> 0 | CW33: =COUNTIF(Tableau1[[#All],[20/02/2020]],$A33) -> 0 | CX33: =COUNTIF(Tableau1[[#All],[20/02/2020]],$A33) -> 0 | CY33: =COUNTIF(Tableau1[[#All],[21/02/2020]],$A33) -> 0 | CZ33: =COUNTIF(Tableau1[[#All],[21/02/2020]],$A33) -> 0 | DA33: =COUNTIF(Tableau1[[#All],[22/02/2020]],$A33) -> 0 | DB33: =COUNTIF(Tableau1[[#All],[22/02/2020]],$A33) -> 0 | DC33: =COUNTIF(Tableau1[[#All],[23/02/2020]],$A33) -> 0 | DD33: =COUNTIF(Tableau1[[#All],[23/02/2020]],$A33) -> 0 | DE33: =COUNTIF(Tableau1[[#All],[24/02/2020]],$A33) -> 0 | DF33: =COUNTIF(Tableau1[[#All],[24/02/2020]],$A33) -> 0 | DG33: =COUNTIF(Tableau1[[#All],[25/02/2020]],$A33) -> 0 | DH33: =COUNTIF(Tableau1[[#All],[25/02/2020]],$A33) -> 0 | DI33: =COUNTIF(Tableau1[[#All],[26/02/2020]],$A33) -> 0 | DJ33: =COUNTIF(Tableau1[[#All],[26/02/2020]],$A33) -> 0 | DK33: =COUNTIF(Tableau1[[#All],[27/02/2020]],$A33) -> 0 | DL33: =COUNTIF(Tableau1[[#All],[27/02/2020]],$A33) -> 0 | DM33: =COUNTIF(Tableau1[[#All],[28/02/2020]],$A33) -> 0 | DN33: =COUNTIF(Tableau1[[#All],[28/02/2020]],$A33) -> 0 | DO33: =COUNTIF(Tableau1[[#All],[29/02/2020]],$A33) -> 0 | DP33: =COUNTIF(Tableau1[[#All],[29/02/2020]],$A33) -> 0 | DQ33: =COUNTIF(Tableau1[[#All],[01/03/2020]],$A33) -> 0 | DR33: =COUNTIF(Tableau1[[#All],[01/03/2020]],$A33) -> 0 | DS33: =COUNTIF(Tableau1[[#All],[02/03/2020]],$A33) -> 0 | DT33: =COUNTIF(Tableau1[[#All],[02/03/2020]],$A33) -> 0 | DU33: =COUNTIF(Tableau1[[#All],[03/03/2020]],$A33) -> 0 | DV33: =COUNTIF(Tableau1[[#All],[03/03/2020]],$A33) -> 0 | DW33: =COUNTIF(Tableau1[[#All],[04/03/2020]],$A33) -> 0 | DX33: =COUNTIF(Tableau1[[#All],[04/03/2020]],$A33) -> 0 | DY33: =COUNTIF(Tableau1[[#All],[05/03/2020]],$A33) -> 0 | DZ33: =COUNTIF(Tableau1[[#All],[05/03/2020]],$A33) -> 0 | EA33: =COUNTIF(Tableau1[[#All],[06/03/2020]],$A33) -> 0 | EB33: =COUNTIF(Tableau1[[#All],[06/03/2020]],$A33) -> 0 | EC33: =COUNTIF(Tableau1[[#All],[07/03/2020]],$A33) -> 0 | ED33: =COUNTIF(Tableau1[[#All],[07/03/2020]],$A33) -> 0 | EE33: =COUNTIF(Tableau1[[#All],[08/03/2020]],$A33) -> 0 | EF33: =COUNTIF(Tableau1[[#All],[08/03/2020]],$A33) -> 0 | EG33: =COUNTIF(Tableau1[[#All],[09/03/2020]],$A33) -> 0 | EH33: =COUNTIF(Tableau1[[#All],[09/03/2020]],$A33) -> 0 | EI33: =COUNTIF(Tableau1[[#All],[10/03/2020]],$A33) -> 0 | EJ33: =COUNTIF(Tableau1[[#All],[10/03/2020]],$A33) -> 0 | EK33: =COUNTIF(Tableau1[[#All],[11/03/2020]],$A33) -> 0 | EL33: =COUNTIF(Tableau1[[#All],[11/03/2020]],$A33) -> 0 | EM33: =COUNTIF(Tableau1[[#All],[12/03/2020]],$A33) -> 0 | EN33: =COUNTIF(Tableau1[[#All],[12/03/2020]],$A33) -> 0 | EO33: =COUNTIF(Tableau1[[#All],[13/03/2020]],$A33) -> 0 | EP33: =COUNTIF(Tableau1[[#All],[13/03/2020]],$A33) -> 0 | EQ33: =COUNTIF(Tableau1[[#All],[14/03/2020]],$A33) -> 0 | ER33: =COUNTIF(Tableau1[[#All],[14/03/2020]],$A33) -> 0 | ES33: =COUNTIF(Tableau1[[#All],[15/03/2020]],$A33) -> 0 | ET33: =COUNTIF(Tableau1[[#All],[15/03/2020]],$A33) -> 0 | EU33: =COUNTIF(Tableau1[[#All],[16/03/2020]],$A33) -> 0 | EV33: =COUNTIF(Tableau1[[#All],[16/03/2020]],$A33) -> 0 | EW33: =COUNTIF(Tableau1[[#All],[17/03/2020]],$A33) -> 0 | EX33: =COUNTIF(Tableau1[[#All],[17/03/2020]],$A33) -> 0 | EY33: =COUNTIF(Tableau1[[#All],[18/03/2020]],$A33) -> 0 | EZ33: =COUNTIF(Tableau1[[#All],[18/03/2020]],$A33) -> 0 | FA33: =COUNTIF(Tableau1[[#All],[19/03/2020]],$A33) -> 0 | FB33: =COUNTIF(Tableau1[[#All],[19/03/2020]],$A33) -> 0 | FC33: =COUNTIF(Tableau1[[#All],[20/03/2020]],$A33) -> 0 | FD33: =COUNTIF(Tableau1[[#All],[20/03/2020]],$A33) -> 0 | FE33: =COUNTIF(Tableau1[[#All],[21/03/2020]],$A33) -> 0 | FF33: =COUNTIF(Tableau1[[#All],[21/03/2020]],$A33) -> 0 | FG33: =COUNTIF(Tableau1[[#All],[22/03/2020]],$A33) -> 0 | FH33: =COUNTIF(Tableau1[[#All],[22/03/2020]],$A33) -> 0 | FI33: =COUNTIF(Tableau1[[#All],[23/03/2020]],$A33) -> 0 | FJ33: =COUNTIF(Tableau1[[#All],[23/03/2020]],$A33) -> 0 | FK33: =COUNTIF(Tableau1[[#All],[24/03/2020]],$A33) -> 0 | FL33: =COUNTIF(Tableau1[[#All],[24/03/2020]],$A33) -> 0 | FM33: =COUNTIF(Tableau1[[#All],[25/03/2020]],$A33) -> 0 | FN33: =COUNTIF(Tableau1[[#All],[25/03/2020]],$A33) -> 0 | FO33: =COUNTIF(Tableau1[[#All],[26/03/2020]],$A33) -> 0 | FP33: =COUNTIF(Tableau1[[#All],[26/03/2020]],$A33) -> 0 | FQ33: =COUNTIF(Tableau1[[#All],[27/03/2020]],$A33) -> 0 | FR33: =COUNTIF(Tableau1[[#All],[27/03/2020]],$A33) -> 0 | FS33: =COUNTIF(Tableau1[[#All],[28/03/2020]],$A33) -> 0 | FT33: =COUNTIF(Tableau1[[#All],[28/03/2020]],$A33) -> 0 | FU33: =COUNTIF(Tableau1[[#All],[29/03/2020]],$A33) -> 0 | FV33: =COUNTIF(Tableau1[[#All],[29/03/2020]],$A33) -> 0 | FW33: =COUNTIF(Tableau1[[#All],[30/03/2020]],$A33) -> 0 | FX33: =COUNTIF(Tableau1[[#All],[30/03/2020]],$A33) -> 0 | FY33: =COUNTIF(Tableau1[[#All],[31/03/2020]],$A33) -> 0 | FZ33: =COUNTIF(Tableau1[[#All],[31/03/2020]],$A33) -> 0 | GA33: =COUNTIF(Tableau1[[#All],[01/04/2020]],$A33) -> 0 | GB33: =COUNTIF(Tableau1[[#All],[01/04/2020]],$A33) -> 0 | GC33: =COUNTIF(Tableau1[[#All],[02/04/2020]],$A33) -> 0 | GD33: =COUNTIF(Tableau1[[#All],[02/04/2020]],$A33) -> 0 | GE33: =COUNTIF(Tableau1[[#All],[03/04/2020]],$A33) -> 0 | GF33: =COUNTIF(Tableau1[[#All],[03/04/2020]],$A33) -> 0 | GG33: =COUNTIF(Tableau1[[#All],[04/04/2020]],$A33) -> 0 | GH33: =COUNTIF(Tableau1[[#All],[04/04/2020]],$A33) -> 0 | GI33: =COUNTIF(Tableau1[[#All],[05/04/2020]],$A33) -> 0 | GJ33: =COUNTIF(Tableau1[[#All],[05/04/2020]],$A33) -> 0 | GK33: =COUNTIF(Tableau1[[#All],[06/04/2020]],$A33) -> 0 | GL33: =COUNTIF(Tableau1[[#All],[06/04/2020]],$A33) -> 0 | GM33: =COUNTIF(Tableau1[[#All],[07/04/2020]],$A33) -> 0 | GN33: =COUNTIF(Tableau1[[#All],[07/04/2020]],$A33) -> 0 | GO33: =COUNTIF(Tableau1[[#All],[08/04/2020]],$A33) -> 0 | GP33: =COUNTIF(Tableau1[[#All],[08/04/2020]],$A33) -> 0 | GQ33: =COUNTIF(Tableau1[[#All],[09/04/2020]],$A33) -> 0 | GR33: =COUNTIF(Tableau1[[#All],[09/04/2020]],$A33) -> 0 | GS33: =COUNTIF(Tableau1[[#All],[10/04/2020]],$A33) -> 0 | GT33: =COUNTIF(Tableau1[[#All],[10/04/2020]],$A33) -> 0 | GU33: =COUNTIF(Tableau1[[#All],[11/04/2020]],$A33) -> 0 | GV33: =COUNTIF(Tableau1[[#All],[11/04/2020]],$A33) -> 0 | GW33: =COUNTIF(Tableau1[[#All],[12/04/2020]],$A33) -> 0 | GX33: =COUNTIF(Tableau1[[#All],[12/04/2020]],$A33) -> 0 | GY33: =COUNTIF(Tableau1[[#All],[13/04/2020]],$A33) -> 0 | GZ33: =COUNTIF(Tableau1[[#All],[13/04/2020]],$A33) -> 0 | HA33: =COUNTIF(Tableau1[[#All],[14/04/2020]],$A33) -> 0 | HB33: =COUNTIF(Tableau1[[#All],[14/04/2020]],$A33) -> 0 | HC33: =COUNTIF(Tableau1[[#All],[15/04/2020]],$A33) -> 0 | HD33: =COUNTIF(Tableau1[[#All],[15/04/2020]],$A33) -> 0 | HE33: =COUNTIF(Tableau1[[#All],[16/04/2020]],$A33) -> 0 | HF33: =COUNTIF(Tableau1[[#All],[16/04/2020]],$A33) -> 0 | HG33: =COUNTIF(Tableau1[[#All],[17/04/2020]],$A33) -> 0 | HH33: =COUNTIF(Tableau1[[#All],[17/04/2020]],$A33) -> 0 | HI33: =COUNTIF(Tableau1[[#All],[18/04/2020]],$A33) -> 0 | HJ33: =COUNTIF(Tableau1[[#All],[18/04/2020]],$A33) -> 0 | HK33: =COUNTIF(Tableau1[[#All],[19/04/2020]],$A33) -> 0 | HL33: =COUNTIF(Tableau1[[#All],[19/04/2020]],$A33) -> 0 | HM33: =COUNTIF(Tableau1[[#All],[20/04/2020]],$A33) -> 0 | HN33: =COUNTIF(Tableau1[[#All],[20/04/2020]],$A33) -> 0 | HO33: =COUNTIF(Tableau1[[#All],[21/04/2020]],$A33) -> 0 | HP33: =COUNTIF(Tableau1[[#All],[21/04/2020]],$A33) -> 0 | HQ33: =COUNTIF(Tableau1[[#All],[22/04/2020]],$A33) -> 0 | HR33: =COUNTIF(Tableau1[[#All],[22/04/2020]],$A33) -> 0 | HS33: =COUNTIF(Tableau1[[#All],[23/04/2020]],$A33) -> 0 | HT33: =COUNTIF(Tableau1[[#All],[23/04/2020]],$A33) -> 0 | HU33: =COUNTIF(Tableau1[[#All],[24/04/2020]],$A33) -> 0 | HV33: =COUNTIF(Tableau1[[#All],[24/04/2020]],$A33) -> 0 | HW33: =COUNTIF(Tableau1[[#All],[25/04/2020]],$A33) -> 0 | HX33: =COUNTIF(Tableau1[[#All],[25/04/2020]],$A33) -> 0 | HY33: =COUNTIF(Tableau1[[#All],[26/04/2020]],$A33) -> 0 | HZ33: =COUNTIF(Tableau1[[#All],[26/04/2020]],$A33) -> 0 | IA33: =COUNTIF(Tableau1[[#All],[27/04/2020]],$A33) -> 0 | IB33: =COUNTIF(Tableau1[[#All],[27/04/2020]],$A33) -> 0 | IC33: =COUNTIF(Tableau1[[#All],[28/04/2020]],$A33) -> 0 | ID33: =COUNTIF(Tableau1[[#All],[28/04/2020]],$A33) -> 0 | IE33: =COUNTIF(Tableau1[[#All],[29/04/2020]],$A33) -> 0 | IF33: =COUNTIF(Tableau1[[#All],[29/04/2020]],$A33) -> 0 | IG33: =COUNTIF(Tableau1[[#All],[30/04/2020]],$A33) -> 0 | IH33: =COUNTIF(Tableau1[[#All],[30/04/2020]],$A33) -> 0 | II33: =COUNTIF(Tableau1[[#All],[01/05/2020]],$A33) -> 0 | IJ33: =COUNTIF(Tableau1[[#All],[01/05/2020]],$A33) -> 0 | IK33: =COUNTIF(Tableau1[[#All],[02/05/2020]],$A33) -> 0 | IL33: =COUNTIF(Tableau1[[#All],[02/05/2020]],$A33) -> 0 | IM33: =COUNTIF(Tableau1[[#All],[03/05/2020]],$A33) -> 0 | IN33: =COUNTIF(Tableau1[[#All],[03/05/2020]],$A33) -> 0 | IO33: =COUNTIF(Tableau1[[#All],[04/05/2020]],$A33) -> 0 | IP33: =COUNTIF(Tableau1[[#All],[04/05/2020]],$A33) -> 0 | IQ33: =COUNTIF(Tableau1[[#All],[05/05/2020]],$A33) -> 0 | IR33: =COUNTIF(Tableau1[[#All],[05/05/2020]],$A33) -> 0 | IS33: =COUNTIF(Tableau1[[#All],[06/05/2020]],$A33) -> 0 | IT33: =COUNTIF(Tableau1[[#All],[06/05/2020]],$A33) -> 0 | IU33: =COUNTIF(Tableau1[[#All],[07/05/2020]],$A33) -> 0 | IV33: =COUNTIF(Tableau1[[#All],[07/05/2020]],$A33) -> 0 | IW33: =COUNTIF(Tableau1[[#All],[08/05/2020]],$A33) -> 0 | IX33: =COUNTIF(Tableau1[[#All],[08/05/2020]],$A33) -> 0 | IY33: =COUNTIF(Tableau1[[#All],[09/05/2020]],$A33) -> 0 | IZ33: =COUNTIF(Tableau1[[#All],[09/05/2020]],$A33) -> 0 | JA33: =COUNTIF(Tableau1[[#All],[10/05/2020]],$A33) -> 0 | JB33: =COUNTIF(Tableau1[[#All],[10/05/2020]],$A33) -> 0 | JC33: =COUNTIF(Tableau1[[#All],[11/05/2020]],$A33) -> 0 | JD33: =COUNTIF(Tableau1[[#All],[11/05/2020]],$A33) -> 0 | JE33: =COUNTIF(Tableau1[[#All],[12/05/2020]],$A33) -> 0 | JF33: =COUNTIF(Tableau1[[#All],[12/05/2020]],$A33) -> 0 | JG33: =COUNTIF(Tableau1[[#All],[13/05/2020]],$A33) -> 0 | JH33: =COUNTIF(Tableau1[[#All],[13/05/2020]],$A33) -> 0 | JI33: =COUNTIF(Tableau1[[#All],[14/05/2020]],$A33) -> 0 | JJ33: =COUNTIF(Tableau1[[#All],[14/05/2020]],$A33) -> 0 | JK33: =COUNTIF(Tableau1[[#All],[15/05/2020]],$A33) -> 0 | JL33: =COUNTIF(Tableau1[[#All],[15/05/2020]],$A33) -> 0 | JM33: =COUNTIF(Tableau1[[#All],[16/05/2020]],$A33) -> 0 | JN33: =COUNTIF(Tableau1[[#All],[16/05/2020]],$A33) -> 0 | JO33: =COUNTIF(Tableau1[[#All],[17/05/2020]],$A33) -> 0 | JP33: =COUNTIF(Tableau1[[#All],[17/05/2020]],$A33) -> 0 | JQ33: =COUNTIF(Tableau1[[#All],[18/05/2020]],$A33) -> 0 | JR33: =COUNTIF(Tableau1[[#All],[18/05/2020]],$A33) -> 0 | JS33: =COUNTIF(Tableau1[[#All],[19/05/2020]],$A33) -> 0 | JT33: =COUNTIF(Tableau1[[#All],[19/05/2020]],$A33) -> 0 | JU33: =COUNTIF(Tableau1[[#All],[20/05/2020]],$A33) -> 0 | JV33: =COUNTIF(Tableau1[[#All],[20/05/2020]],$A33) -> 0 | JW33: =COUNTIF(Tableau1[[#All],[21/05/2020]],$A33) -> 0 | JX33: =COUNTIF(Tableau1[[#All],[21/05/2020]],$A33) -> 0 | JY33: =COUNTIF(Tableau1[[#All],[22/05/2020]],$A33) -> 0 | JZ33: =COUNTIF(Tableau1[[#All],[22/05/2020]],$A33) -> 0 | KA33: =COUNTIF(Tableau1[[#All],[23/05/2020]],$A33) -> 0 | KB33: =COUNTIF(Tableau1[[#All],[23/05/2020]],$A33) -> 0 | KC33: =COUNTIF(Tableau1[[#All],[24/05/2020]],$A33) -> 0 | KD33: =COUNTIF(Tableau1[[#All],[24/05/2020]],$A33) -> 0 | KE33: =COUNTIF(Tableau1[[#All],[25/05/2020]],$A33) -> 0 | KF33: =COUNTIF(Tableau1[[#All],[25/05/2020]],$A33) -> 0 | KG33: =COUNTIF(Tableau1[[#All],[26/05/2020]],$A33) -> 0 | KH33: =COUNTIF(Tableau1[[#All],[26/05/2020]],$A33) -> 0 | KI33: =COUNTIF(Tableau1[[#All],[27/05/2020]],$A33) -> 0 | KJ33: =COUNTIF(Tableau1[[#All],[27/05/2020]],$A33) -> 0 | KK33: =COUNTIF(Tableau1[[#All],[28/05/2020]],$A33) -> 0 | KL33: =COUNTIF(Tableau1[[#All],[28/05/2020]],$A33) -> 0 | KM33: =COUNTIF(Tableau1[[#All],[29/05/2020]],$A33) -> 0 | KN33: =COUNTIF(Tableau1[[#All],[29/05/2020]],$A33) -> 0 | KO33: =COUNTIF(Tableau1[[#All],[30/05/2020]],$A33) -> 0 | KP33: =COUNTIF(Tableau1[[#All],[30/05/2020]],$A33) -> 0 | KQ33: =COUNTIF(Tableau1[[#All],[31/05/2020]],$A33) -> 0 | KR33: =COUNTIF(Tableau1[[#All],[31/05/2020]],$A33) -> 0 | KS33: =COUNTIF(Tableau1[[#All],[01/06/2020]],$A33) -> 0 | KT33: =COUNTIF(Tableau1[[#All],[01/06/2020]],$A33) -> 0 | KU33: =COUNTIF(Tableau1[[#All],[02/06/2020]],$A33) -> 0 | KV33: =COUNTIF(Tableau1[[#All],[02/06/2020]],$A33) -> 0 | KW33: =COUNTIF(Tableau1[[#All],[03/06/2020]],$A33) -> 0 | KX33: =COUNTIF(Tableau1[[#All],[03/06/2020]],$A33) -> 0 | KY33: =COUNTIF(Tableau1[[#All],[04/06/2020]],$A33) -> 0 | KZ33: =COUNTIF(Tableau1[[#All],[04/06/2020]],$A33) -> 0 | LA33: =COUNTIF(Tableau1[[#All],[05/06/2020]],$A33) -> 0 | LB33: =COUNTIF(Tableau1[[#All],[05/06/2020]],$A33) -> 0 | LC33: =COUNTIF(Tableau1[[#All],[06/06/2020]],$A33) -> 0 | LD33: =COUNTIF(Tableau1[[#All],[06/06/2020]],$A33) -> 0 | LE33: =COUNTIF(Tableau1[[#All],[07/06/2020]],$A33) -> 0 | LF33: =COUNTIF(Tableau1[[#All],[07/06/2020]],$A33) -> 0 | LG33: =COUNTIF(Tableau1[[#All],[08/06/2020]],$A33) -> 0 | LH33: =COUNTIF(Tableau1[[#All],[08/06/2020]],$A33) -> 0 | LI33: =COUNTIF(Tableau1[[#All],[09/06/2020]],$A33) -> 0 | LJ33: =COUNTIF(Tableau1[[#All],[09/06/2020]],$A33) -> 0 | LK33: =COUNTIF(Tableau1[[#All],[10/06/2020]],$A33) -> 0 | LL33: =COUNTIF(Tableau1[[#All],[10/06/2020]],$A33) -> 0 | LM33: =COUNTIF(Tableau1[[#All],[11/06/2020]],$A33) -> 0 | LN33: =COUNTIF(Tableau1[[#All],[11/06/2020]],$A33) -> 0 | LO33: =COUNTIF(Tableau1[[#All],[12/06/2020]],$A33) -> 0 | LP33: =COUNTIF(Tableau1[[#All],[12/06/2020]],$A33) -> 0 | LQ33: =COUNTIF(Tableau1[[#All],[13/06/2020]],$A33) -> 0 | LR33: =COUNTIF(Tableau1[[#All],[13/06/2020]],$A33) -> 0 | LS33: =COUNTIF(Tableau1[[#All],[14/06/2020]],$A33) -> 0 | LT33: =COUNTIF(Tableau1[[#All],[14/06/2020]],$A33) -> 0 | LU33: =COUNTIF(Tableau1[[#All],[15/06/2020]],$A33) -> 0 | LV33: =COUNTIF(Tableau1[[#All],[15/06/2020]],$A33) -> 0 | LW33: =COUNTIF(Tableau1[[#All],[16/06/2020]],$A33) -> 0 | LX33: =COUNTIF(Tableau1[[#All],[16/06/2020]],$A33) -> 0 | LY33: =COUNTIF(Tableau1[[#All],[17/06/2020]],$A33) -> 0 | LZ33: =COUNTIF(Tableau1[[#All],[17/06/2020]],$A33) -> 0 | MA33: =COUNTIF(Tableau1[[#All],[18/06/2020]],$A33) -> 0 | MB33: =COUNTIF(Tableau1[[#All],[18/06/2020]],$A33) -> 0 | MC33: =COUNTIF(Tableau1[[#All],[19/06/2020]],$A33) -> 0 | MD33: =COUNTIF(Tableau1[[#All],[19/06/2020]],$A33) -> 0 | ME33: =COUNTIF(Tableau1[[#All],[20/06/2020]],$A33) -> 0 | MF33: =COUNTIF(Tableau1[[#All],[20/06/2020]],$A33) -> 0 | MG33: =COUNTIF(Tableau1[[#All],[21/06/2020]],$A33) -> 0 | MH33: =COUNTIF(Tableau1[[#All],[21/06/2020]],$A33) -> 0 | MI33: =COUNTIF(Tableau1[[#All],[22/06/2020]],$A33) -> 0 | MJ33: =COUNTIF(Tableau1[[#All],[22/06/2020]],$A33) -> 0 | MK33: =COUNTIF(Tableau1[[#All],[23/06/2020]],$A33) -> 0 | ML33: =COUNTIF(Tableau1[[#All],[23/06/2020]],$A33) -> 0 | MM33: =COUNTIF(Tableau1[[#All],[24/06/2020]],$A33) -> 0 | MN33: =COUNTIF(Tableau1[[#All],[24/06/2020]],$A33) -> 0 | MO33: =COUNTIF(Tableau1[[#All],[25/06/2020]],$A33) -> 0 | MP33: =COUNTIF(Tableau1[[#All],[25/06/2020]],$A33) -> 0 | MQ33: =COUNTIF(Tableau1[[#All],[26/06/2020]],$A33) -> 0 | MR33: =COUNTIF(Tableau1[[#All],[26/06/2020]],$A33) -> 0 | MS33: =COUNTIF(Tableau1[[#All],[27/06/2020]],$A33) -> 0 | MT33: =COUNTIF(Tableau1[[#All],[27/06/2020]],$A33) -> 0 | MU33: =COUNTIF(Tableau1[[#All],[28/06/2020]],$A33) -> 0 | MV33: =COUNTIF(Tableau1[[#All],[28/06/2020]],$A33) -> 0 | MW33: =COUNTIF(Tableau1[[#All],[29/06/2020]],$A33) -> 0 | MX33: =COUNTIF(Tableau1[[#All],[29/06/2020]],$A33) -> 0 | MY33: =COUNTIF(Tableau1[[#All],[30/06/2020]],$A33) -> 0 | MZ33: =COUNTIF(Tableau1[[#All],[30/06/2020]],$A33) -> 0 | NA33: =COUNTIF(Tableau1[[#All],[01/07/2020]],$A33) -> 0 | NB33: =COUNTIF(Tableau1[[#All],[01/07/2020]],$A33) -> 0 | NC33: =COUNTIF(Tableau1[[#All],[02/07/2020]],$A33) -> 0

Sheet Feuil1
A1: M | B1: Maintenance | C1: PR | D1: Panne avec remplacement de véhicule | E1: C | F1: Carrosserie | G1: 01/01/2020 | H1: 02/01/2020 | I1: 03/01/2020 | J1: 04/01/2020 | K1: 05/01/2020 | L1: 06/01/2020 | M1: 07/01/2020 | N1: 08/01/2020 | O1: 09/01/2020 | P1: 10/01/2020 | Q1: 11/01/2020 | R1: 12/01/2020 | S1: 13/01/2020 | T1: 14/01/2020 | U1: 15/01/2020 | V1: 16/01/2020 | W1: 17/01/2020 | X1: 18/01/2020 | Y1: 19/01/2020 | Z1: 20/01/2020 | AA1: 21/01/2020 | AB1: 22/01/2020 | AC1: 23/01/2020 | AD1: 24/01/2020 | AE1: 25/01/2020 | AF1: 26/01/2020 | AG1: 27/01/2020 | AH1: 28/01/2020 | AI1: 29/01/2020 | AJ1: 30/01/2020 | AK1: 31/01/2020 | AL1: 01/02/2020 | AM1: 02/02/2020 | AN1: 03/02/2020 | AO1: 04/02/2020 | AP1: 05/02/2020 | AQ1: 06/02/2020 | AR1: 07/02/2020 | AS1: 08/02/2020 | AT1: 09/02/2020 | AU1: 10/02/2020 | AV1: 11/02/2020 | AW1: 12/02/2020 | AX1: 13/02/2020 | AY1: 14/02/2020 | AZ1: 15/02/2020 | BA1: 16/02/2020 | BB1: 17/02/2020 | BC1: 18/02/2020 | BD1: 19/02/2020 | BE1: 20/02/2020 | BF1: 21/02/2020 | BG1: 22/02/2020 | BH1: 23/02/2020 | BI1: 24/02/2020 | BJ1: 25/02/2020 | BK1: 26/02/2020 | BL1: 27/02/2020 | BM1: 28/02/2020 | BN1: 29/02/2020 | BO1: 01/03/2020 | BP1: 02/03/2020 | BQ1: 03/03/2020 | BR1: 04/03/2020 | BS1: 05/03/2020 | BT1: 06/03/2020 | BU1: 07/03/2020 | BV1: 08/03/2020 | BW1: 09/03/2020 | BX1: 10/03/2020 | BY1: 11/03/2020 | BZ1: 12/03/2020 | CA1: 13/03/2020 | CB1: 14/03/2020 | CC1: 15/03/2020 | CD1: 16/03/2020 | CE1: 17/03/2020 | CF1: 18/03/2020 | CG1: 19/03/2020 | CH1: 20/03/2020 | CI1: 21/03/2020 | CJ1: 22/03/2020 | CK1: 23/03/2020 | CL1: 24/03/2020 | CM1: 25/03/2020 | CN1: 26/03/2020 | CO1: 27/03/2020 | CP1: 28/03/2020 | CQ1: 29/03/2020 | CR1: 30/03/2020 | CS1: 31/03/2020 | CT1: 01/04/2020 | CU1: 02/04/2020 | CV1: 03/04/2020 | CW1: 04/04/2020 | CX1: 05/04/2020 | CY1: 06/04/2020 | CZ1: 07/04/2020 | DA1: 08/04/2020 | DB1: 09/04/2020 | DC1: 10/04/2020 | DD1: 11/04/2020 | DE1: 12/04/2020 | DF1: 13/04/2020 | DG1: 14/04/2020 | DH1: 15/04/2020 | DI1: 16/04/2020 | DJ1: 17/04/2020 | DK1: 18/04/2020 | DL1: 19/04/2020 | DM1: 20/04/2020 | DN1: 21/04/2020 | DO1: 22/04/2020 | DP1: 23/04/2020 | DQ1: 24/04/2020 | DR1: 25/04/2020 | DS1: 26/04/2020 | DT1: 27/04/2020 | DU1: 28/04/2020 | DV1: 29/04/2020 | DW1: 30/04/2020 | DX1: 01/05/2020 | DY1: 02/05/2020 | DZ1: 03/05/2020 | EA1: 04/05/2020 | EB1: 05/05/2020 | EC1: 06/05/2020 | ED1: 07/05/2020 | EE1: 08/05/2020 | EF1: 09/05/2020 | EG1: 10/05/2020 | EH1: 11/05/2020 | EI1: 12/05/2020 | EJ1: 13/05/2020 | EK1: 14/05/2020 | EL1: 15/05/2020 | EM1: 16/05/2020 | EN1: 17/05/2020 | EO1: 18/05/2020 | EP1: 19/05/2020 | EQ1: 20/05/2020 | ER1: 21/05/2020 | ES1: 22/05/2020 | ET1: 23/05/2020 | EU1: 24/05/2020 | EV1: 25/05/2020 | EW1: 26/05/2020 | EX1: 27/05/2020 | EY1: 28/05/2020 | EZ1: 29/05/2020 | FA1: 30/05/2020 | FB1: 31/05/2020 | FC1: 01/06/2020 | FD1: 02/06/2020 | FE1: 03/06/2020 | FF1: 04/06/2020 | FG1: 05/06/2020 | FH1: 06/06/2020 | FI1: 07/06/2020 | FJ1: 08/06/2020 | FK1: 09/06/2020 | FL1: 10/06/2020 | FM1: 11/06/2020 | FN1: 12/06/2020 | FO1: 13/06/2020 | FP1: 14/06/2020 | FQ1: 15/06/2020 | FR1: 16/06/2020 | FS1: 17/06/2020 | FT1: 18/06/2020 | FU1: 19/06/2020 | FV1: 20/06/2020 | FW1: 21/06/2020 | FX1: 22/06/2020 | FY1: 23/06/2020 | FZ1: 24/06/2020 | GA1: 25/06/2020 | GB1: 26/06/2020 | GC1: 27/06/2020 | GD1: 28/06/2020 | GE1: 29/06/2020 | GF1: 30/06/2020 | GG1: 01/07/2020 | GH1: 02/07/2020 | GI1: 03/07/2020 | GJ1: 04/07/2020 | GK1: 05/07/2020 | GL1: 06/07/2020 | GM1: 07/07/2020 | GN1: 08/07/2020 | GO1: 09/07/2020 | GP1: 10/07/2020 | GQ1: 11/07/2020 | GR1: 12/07/2020 | GS1: 13/07/2020 | GT1: 14/07/2020 | GU1: 15/07/2020 | GV1: 16/07/2020 | GW1: 17/07/2020 | GX1: 18/07/2020 | GY1: 19/07/2020 | GZ1: 20/07/2020 | HA1: 21/07/2020 | HB1: 22/07/2020 | HC1: 23/07/2020 | HD1: 24/07/2020 | HE1: 25/07/2020 | HF1: 26/07/2020 | HG1: 27/07/2020 | HH1: 28/07/2020 | HI1: 29/07/2020 | HJ1: 30/07/2020 | HK1: 31/07/2020 | HL1: 01/08/2020 | HM1: 02/08/2020 | HN1: 03/08/2020 | HO1: 04/08/2020 | HP1: 05/08/2020 | HQ1: 06/08/2020 | HR1: 07/08/2020 | HS1: 08/08/2020 | HT1: 09/08/2020 | HU1: 10/08/2020 | HV1: 11/08/2020 | HW1: 12/08/2020 | HX1: 13/08/2020 | HY1: 14/08/2020 | HZ1: 15/08/2020 | IA1: 16/08/2020 | IB1: 17/08/2020 | IC1: 18/08/2020 | ID1: 19/08/2020 | IE1: 20/08/2020 | IF1: 21/08/2020 | IG1: 22/08/2020 | IH1: 23/08/2020 | II1: 24/08/2020 | IJ1: 25/08/2020 | IK1: 26/08/2020 | IL1: 27/08/2020 | IM1: 28/08/2020 | IN1: 29/08/2020 | IO1: 30/08/2020 | IP1: 31/08/2020 | IQ1: 01/09/2020 | IR1: 02/09/2020 | IS1: 03/09/2020 | IT1: 04/09/2020 | IU1: 05/09/2020 | IV1: 06/09/2020 | IW1: 07/09/2020 | IX1: 08/09/2020 | IY1: 09/09/2020 | IZ1: 10/09/2020 | JA1: 11/09/2020 | JB1: 12/09/2020 | JC1: 13/09/2020 | JD1: 14/09/2020 | JE1: 15/09/2020 | JF1: 16/09/2020 | JG1: 17/09/2020 | JH1: 18/09/2020 | JI1: 19/09/2020 | JJ1: 20/09/2020 | JK1: 21/09/2020 | JL1: 22/09/2020 | JM1: 23/09/2020 | JN1: 24/09/2020 | JO1: 25/09/2020 | JP1: 26/09/2020 | JQ1: 27/09/2020 | JR1: 28/09/2020 | JS1: 29/09/2020 | JT1: 30/09/2020 | JU1: 01/10/2020 | JV1: 02/10/2020 | JW1: 03/10/2020 | JX1: 04/10/2020 | JY1: 05/10/2020 | JZ1: 06/10/2020 | KA1: 07/10/2020 | KB1: 08/10/2020 | KC1: 09/10/2020 | KD1: 10/10/2020 | KE1: 11/10/2020 | KF1: 12/10/2020 | KG1: 13/10/2020 | KH1: 14/10/2020 | KI1: 15/10/2020 | KJ1: 16/10/2020 | KK1: 17/10/2020 | KL1: 18/10/2020 | KM1: 19/10/2020 | KN1: 20/10/2020 | KO1: 21/10/2020 | KP1: 22/10/2020 | KQ1: 23/10/2020 | KR1: 24/10/2020 | KS1: 25/10/2020 | KT1: 26/10/2020 | KU1: 27/10/2020 | KV1: 28/10/2020 | KW1: 29/10/2020 | KX1: 30/10/2020 | KY1: 31/10/2020 | KZ1: 01/11/2020 | LA1: 02/11/2020 | LB1: 03/11/2020 | LC1: 04/11/2020 | LD1: 05/11/2020 | LE1: 06/11/2020 | LF1: 07/11/2020 | LG1: 08/11/2020 | LH1: 09/11/2020 | LI1: 10/11/2020 | LJ1: 11/11/2020 | LK1: 12/11/2020 | LL1: 13/11/2020 | LM1: 14/11/2020 | LN1: 15/11/2020 | LO1: 16/11/2020 | LP1: 17/11/2020 | LQ1: 18/11/2020 | LR1: 19/11/2020 | LS1: 20/11/2020 | LT1: 21/11/2020 | LU1: 22/11/2020 | LV1: 23/11/2020 | LW1: 24/11/2020 | LX1: 25/11/2020 | LY1: 26/11/2020 | LZ1: 27/11/2020 | MA1: 28/11/2020 | MB1: 29/11/2020 | MC1: 30/11/2020 | MD1: 01/12/2020 | ME1: 02/12/2020 | MF1: 03/12/2020 | MG1: 04/12/2020 | MH1: 05/12/2020 | MI1: 06/12/2020 | MJ1: 07/12/2020 | MK1: 08/12/2020 | ML1: 09/12/2020 | MM1: 10/12/2020 | MN1: 11/12/2020 | MO1: 12/12/2020 | MP1: 13/12/2020 | MQ1: 14/12/2020 | MR1: 15/12/2020 | MS1: 16/12/2020 | MT1: 17/12/2020 | MU1: 18/12/2020 | MV1: 19/12/2020 | MW1: 20/12/2020 | MX1: 21/12/2020 | MY1: 22/12/2020 | MZ1: 23/12/2020 | NA1: 24/12/2020 | NB1: 25/12/2020 | NC1: 26/12/2020 | ND1: 27/12/2020 | NE1: 28/12/2020 | NF1: 29/12/2020 | NG1: 30/12/2020 | NH1: 31/12/2020
A2: CT | B2: contrôle technique | C2: R | D2: En remplacement de véhicule | G2: Janvier | AL2: fevrier | BO2: mars | CT2: avril | DX2: mai | FC2: juin | GG2: juillet | HL2: aout | IQ2: septembre | JU2: octobre | KZ2: novembre | MD2: decembre
A3: S | B3: Stage formation Reunion | C3: P | D3: Panne | G3: semaine 1 | L3: semaine 2 | S3: semaine 3 | V3: semaine 4 | Z3: semaine 4 | AG3: semaine 5 | AN3: semaine 6 | AU3: semaine 7 | BB3: semaine 8 | BI3: semaine 9 | BP3: semaine 10 | BW3: semaine 11 | CD3: semaine 12 | CK3: semaine 13 | CR3: semaine 14 | CY3: semaine 15 | DF3: semaine 16 | DM3: semaine 17 | DT3: semaine 18 | EA3: semaine 19 | EH3: semaine 20 | EO3: semaine 21 | EV3: semaine 22 | FC3: semaine 23 | FJ3: semaine 24 | FQ3: semaine 25 | FX3: semaine 26 | GE3: semaine 27 | GL3: semaine 28 | GS3: semaine 29 | GZ3: semaine 30 | HG3: semaine 31 | HN3: semaine 32 | HU3: semaine 33 | IB3: semaine 34 | II3: semaine 35 | IP3: semaine 36 | IW3: semaine 37 | JD3: semaine 38 | JK3: semaine 39 | JR3: semaine 40 | JY3: semaine 41 | KF3: semaine 42 | KM3: semaine 43 | KT3: semaine 44 | LA3: semaine 45 | LH3: semaine 46 | LO3: semaine 47 | LV3: semaine 48 | MC3: semaine 49 | MJ3: semaine 50 | MQ3: semaine 51 | MX3: semaine 52 | NE3: semaine 53 | NI3: R | NJ3: P | NK3: M | NL3: CT | NM3: S | NN3: PR | NO3: C
A4: immatriculation | B4: type | C4: modele | D4: centre | E4: pole | F4: secteur | G4: 01/01/2020 | H4: 02/01/2020 | I4: 03/01/2020 | J4: 04/01/2020 | K4: 05/01/2020 | L4: 06/01/2020 | M4: 07/01/2020 | N4: 08/01/2020 | O4: 09/01/2020 | P4: 10/01/2020 | Q4: 11/01/2020 | R4: 12/01/2020 | S4: 13/01/2020 | T4: 14/01/2020 | U4: 15/01/2020 | V4: 16/01/2020 | W4: 17/01/2020 | X4: 18/01/2020 | Y4: 19/01/2020 | Z4: 20/01/2020 | AA4: 21/01/2020 | AB4: 22/01/2020 | AC4: 23/01/2020 | AD4: 24/01/2020 | AE4: 25/01/2020 | AF4: 26/01/2020 | AG4: 27/01/2020 | AH4: 28/01/2020 | AI4: 29/01/2020 | AJ4: 30/01/2020 | AK4: 31/01/2020 | AL4: 01/02/2020 | AM4: 02/02/2020 | AN4: 03/02/2020 | AO4: 04/02/2020 | AP4: 05/02/2020 | AQ4: 06/02/2020 | AR4: 07/02/2020 | AS4: 08/02/2020 | AT4: 09/02/2020 | AU4: 10/02/2020 | AV4: 11/02/2020 | AW4: 12/02/2020 | AX4: 13/02/2020 | AY4: 14/02/2020 | AZ4: 15/02/2020 | BA4: 16/02/2020 | BB4: 17/02/2020 | BC4: 18/02/2020 | BD4: 19/02/2020 | BE4: 20/02/2020 | BF4: 21/02/2020 | BG4: 22/02/2020 | BH4: 23/02/2020 | BI4: 24/02/2020 | BJ4: 25/02/2020 | BK4: 26/02/2020 | BL4: 27/02/2020 | BM4: 28/02/2020 | BN4: 29/02/2020 | BO4: 01/03/2020 | BP4: 02/03/2020 | BQ4: 03/03/2020 | BR4: 04/03/2020 | BS4: 05/03/2020 | BT4: 06/03/2020 | BU4: 07/03/2020 | BV4: 08/03/2020 | BW4: 09/03/2020 | BX4: 10/03/2020 | BY4: 11/03/2020 | BZ4: 12/03/2020 | CA4: 13/03/2020 | CB4: 14/03/2020 | CC4: 15/03/2020 | CD4: 16/03/2020 | CE4: 17/03/2020 | CF4: 18/03/2020 | CG4: 19/03/2020 | CH4: 20/03/2020 | CI4: 21/03/2020 | CJ4: 22/03/2020 | CK4: 23/03/2020 | CL4: 24/03/2020 | CM4: 25/03/2020 | CN4: 26/03/2020 | CO4: 27/03/2020 | CP4: 28/03/2020 | CQ4: 29/03/2020 | CR4: 30/03/2020 | CS4: 31/03/2020 | CT4: 01/04/2020 | CU4: 02/04/2020 | CV4: 03/04/2020 | CW4: 04/04/2020 | CX4: 05/04/2020 | CY4: 06/04/2020 | CZ4: 07/04/2020 | DA4: 08/04/2020 | DB4: 09/04/2020 | DC4: 10/04/2020 | DD4: 11/04/2020 | DE4: 12/04/2020 | DF4: 13/04/2020 | DG4: 14/04/2020 | DH4: 15/04/2020 | DI4: 16/04/2020 | DJ4: 17/04/2020 | DK4: 18/04/2020 | DL4: 19/04/2020 | DM4: 20/04/2020 | DN4: 21/04/2020 | DO4: 22/04/2020 | DP4: 23/04/2020 | DQ4: 24/04/2020 | DR4: 25/04/2020 | DS4: 26/04/2020 | DT4: 27/04/2020 | DU4: 28/04/2020 | DV4: 29/04/2020 | DW4: 30/04/2020 | DX4: 01/05/2020 | DY4: 02/05/2020 | DZ4: 03/05/2020 | EA4: 04/05/2020 | EB4: 05/05/2020 | EC4: 06/05/2020 | ED4: 07/05/2020 | EE4: 08/05/2020 | EF4: 09/05/2020 | EG4: 10/05/2020 | EH4: 11/05/2020 | EI4: 12/05/2020 | EJ4: 13/05/2020 | EK4: 14/05/2020 | EL4: 15/05/2020 | EM4: 16/05/2020 | EN4: 17/05/2020 | EO4: 18/05/2020 | EP4: 19/05/2020 | EQ4: 20/05/2020 | ER4: 21/05/2020 | ES4: 22/05/2020 | ET4: 23/05/2020 | EU4: 24/05/2020 | EV4: 25/05/2020 | EW4: 26/05/2020 | EX4: 27/05/2020 | EY4: 28/05/2020 | EZ4: 29/05/2020 | FA4: 30/05/2020 | FB4: 31/05/2020 | FC4: 01/06/2020 | FD4: 02/06/2020 | FE4: 03/06/2020 | FF4: 04/06/2020 | FG4: 05/06/2020 | FH4: 06/06/2020 | FI4: 07/06/2020 | FJ4: 08/06/2020 | FK4: 09/06/2020 | FL4: 10/06/2020 | FM4: 11/06/2020 | FN4: 12/06/2020 | FO4: 13/06/2020 | FP4: 14/06/2020 | FQ4: 15/06/2020 | FR4: 16/06/2020 | FS4: 17/06/2020 | FT4: 18/06/2020 | FU4: 19/06/2020 | FV4: 20/06/2020 | FW4: 21/06/2020 | FX4: 22/06/2020 | FY4: 23/06/2020 | FZ4: 24/06/2020 | GA4: 25/06/2020 | GB4: 26/06/2020 | GC4: 27/06/2020 | GD4: 28/06/2020 | GE4: 29/06/2020 | GF4: 30/06/2020 | GG4: 01/07/2020 | GH4: 02/07/2020 | GI4: 03/07/2020 | GJ4: 04/07/2020 | GK4: 05/07/2020 | GL4: 06/07/2020 | GM4: 07/07/2020 | GN4: 08/07/2020 | GO4: 09/07/2020 | GP4: 10/07/2020 | GQ4: 11/07/2020 | GR4: 12/07/2020 | GS4: 13/07/2020 | GT4: 14/07/2020 | GU4: 15/07/2020 | GV4: 16/07/2020 | GW4: 17/07/2020 | GX4: 18/07/2020 | GY4: 19/07/2020 | GZ4: 20/07/2020 | HA4: 21/07/2020 | HB4: 22/07/2020 | HC4: 23/07/2020 | HD4: 24/07/2020 | HE4: 25/07/2020 | HF4: 26/07/2020 | HG4: 27/07/2020 | HH4: 28/07/2020 | HI4: 29/07/2020 | HJ4: 30/07/2020 | HK4: 31/07/2020 | HL4: 01/08/2020 | HM4: 02/08/2020 | HN4: 03/08/2020 | HO4: 04/08/2020 | HP4: 05/08/2020 | HQ4: 06/08/2020 | HR4: 07/08/2020 | HS4: 08/08/2020 | HT4: 09/08/2020 | HU4: 10/08/2020 | HV4: 11/08/2020 | HW4: 12/08/2020 | HX4: 13/08/2020 | HY4: 14/08/2020 | HZ4: 15/08/2020 | IA4: 16/08/2020 | IB4: 17/08/2020 | IC4: 18/08/2020 | ID4: 19/08/2020 | IE4: 20/08/2020 | IF4: 21/08/2020 | IG4: 22/08/2020 | IH4: 23/08/2020 | II4: 24/08/2020 | IJ4: 25/08/2020 | IK4: 26/08/2020 | IL4: 27/08/2020 | IM4: 28/08/2020 | IN4: 29/08/2020 | IO4: 30/08/2020 | IP4: 31/08/2020 | IQ4: 01/09/2020 | IR4: 02/09/2020 | IS4: 03/09/2020 | IT4: 04/09/2020 | IU4: 05/09/2020 | IV4: 06/09/2020 | IW4: 07/09/2020 | IX4: 08/09/2020 | IY4: 09/09/2020 | IZ4: 10/09/2020 | JA4: 11/09/2020 | JB4: 12/09/2020 | JC4: 13/09/2020 | JD4: 14/09/2020 | JE4: 15/09/2020 | JF4: 16/09/2020 | JG4: 17/09/2020 | JH4: 18/09/2020 | JI4: 19/09/2020 | JJ4: 20/09/2020 | JK4: 21/09/2020 | JL4: 22/09/2020 | JM4: 23/09/2020 | JN4: 24/09/2020 | JO4: 25/09/2020 | JP4: 26/09/2020 | JQ4: 27/09/2020 | JR4: 28/09/2020 | JS4: 29/09/2020 | JT4: 30/09/2020 | JU4: 01/10/2020 | JV4: 02/10/2020 | JW4: 03/10/2020 | JX4: 04/10/2020 | JY4: 05/10/2020 | JZ4: 06/10/2020 | KA4: 07/10/2020 | KB4: 08/10/2020 | KC4: 09/10/2020 | KD4: 10/10/2020 | KE4: 11/10/2020 | KF4: 12/10/2020 | KG4: 13/10/2020 | KH4: 14/10/2020 | KI4: 15/10/2020 | KJ4: 16/10/2020 | KK4: 17/10/2020 | KL4: 18/10/2020 | KM4: 19/10/2020 | KN4: 20/10/2020 | KO4: 21/10/2020 | KP4: 22/10/2020 | KQ4: 23/10/2020 | KR4: 24/10/2020 | KS4: 25/10/2020 | KT4: 26/10/2020 | KU4: 27/10/2020 | KV4: 28/10/2020 | KW4: 29/10/2020 | KX4: 30/10/2020 | KY4: 31/10/2020 | KZ4: 01/11/2020 | LA4: 02/11/2020 | LB4: 03/11/2020 | LC4: 04/11/2020 | LD4: 05/11/2020 | LE4: 06/11/2020 | LF4: 07/11/2020 | LG4: 08/11/2020 | LH4: 09/11/2020 | LI4: 10/11/2020 | LJ4: 11/11/2020 | LK4: 12/11/2020 | LL4: 13/11/2020 | LM4: 14/11/2020 | LN4: 15/11/2020 | LO4: 16/11/2020 | LP4: 17/11/2020 | LQ4: 18/11/2020 | LR4: 19/11/2020 | LS4: 20/11/2020 | LT4: 21/11/2020 | LU4: 22/11/2020 | LV4: 23/11/2020 | LW4: 24/11/2020 | LX4: 25/11/2020 | LY4: 26/11/2020 | LZ4: 27/11/2020 | MA4: 28/11/2020 | MB4: 29/11/2020 | MC4: 30/11/2020 | MD4: 01/12/2020 | ME4: 02/12/2020 | MF4: 03/12/2020 | MG4: 04/12/2020 | MH4: 05/12/2020 | MI4: 06/12/2020 | MJ4: 07/12/2020 | MK4: 08/12/2020 | ML4: 09/12/2020 | MM4: 10/12/2020 | MN4: 11/12/2020 | MO4: 12/12/2020 | MP4: 13/12/2020 | MQ4: 14/12/2020 | MR4: 15/12/2020 | MS4: 16/12/2020 | MT4: 17/12/2020 | MU4: 18/12/2020 | MV4: 19/12/2020 | MW4: 20/12/2020 | MX4: 21/12/2020 | MY4: 22/12/2020 | MZ4: 23/12/2020 | NA4: 24/12/2020 | NB4: 25/12/2020 | NC4: 26/12/2020 | ND4: 27/12/2020 | NE4: 28/12/2020 | NF4: 29/12/2020 | NG4: 30/12/2020 | NH4: 31/12/2020 | NI4: Remplacement | NJ4: Panne | NK4: Maintenance | NL4: Contrôle Technique | NM4: Stage Reunion Formation | NN4: Panne avec Remplacement | NO4: carrosserie
A5: AA 324 CZ | E5: =VLOOKUP(Tableau1[[#This Row],[centre]],Feuil3!$A$2:$C$46,2,FALSE) -> #N/A | F5: =VLOOKUP(Tableau1[[#This Row],[centre]],Feuil3!$A$2:$C$46,3,FALSE) -> #N/A | NI5: =COUNTIF(Tableau1[[#This Row],[01/01/2020]:[31/12/2020]],NI$3) -> 0 | NJ5: =COUNTIF(Tableau1[[#This Row],[01/01/2020]:[31/12/2020]],NJ$3) -> 0 | NK5: =COUNTIF(Tableau1[[#This Row],[01/01/2020]:[31/12/2020]],NK$3) -> 0 | NL5: =COUNTIF(Tableau1[[#This Row],[01/01/2020]:[31/12/2020]],NL$3) -> 0 | NM5: =COUNTIF(Tableau1[[#This Row],[01/01/2020]:[31/12/2020]],NM$3) -> 0 | NN5: =COUNTIF(Tableau1[[#This Row],[01/01/2020]:[31/12/2020]],NN$3) -> 0 | NO5: =COUNTIF(Tableau1[[#This Row],[01/01/2020]:[31/12/2020]],NO$3) -> 0
A6: AA 556 XZ | E6: =VLOOKUP(Tableau1[[#This Row],[centre]],Feuil3!$A$2:$C$46,2,FALSE) -> #N/A | F6: =VLOOKUP(Tableau1[[#This Row],[centre]],Feuil3!$A$2:$C$46,3,FALSE) -> #N/A | NI6: =COUNTIF(Tableau1[[#This Row],[01/01/2020]:[31/12/2020]],NI$3) -> 0 | NJ6: =COUNTIF(Tableau1[[#This Row],[01/01/2020]:[31/12/2020]],NJ$3) -> 0 | NK6: =COUNTIF(Tableau1[[#This Row],[01/01/2020]:[31/12/2020]],NK$3) -> 0 | NL6: =COUNTIF(Tableau1[[#This Row],[01/01/2020]:[31/12/2020]],NL$3) -> 0 | NM6: =COUNTIF(Tableau1[[#This Row],[01/01/2020]:[31/12/2020]],NM$3) -> 0 | NN6: =COUNTIF(Tableau1[[#This Row],[01/01/2020]:[31/12/2020]],NN$3) -> 0 | NO6: =COUNTIF(Tableau1[[#This Row],[01/01/2020]:[31/12/2020]],NO$3) -> 0
A7: AA 688 RF | E7: =VLOOKUP(Tableau1[[#This Row],[centre]],Feuil3!$A$2:$C$46,2,FALSE) -> #N/A | F7: =VLOOKUP(Tableau1[[#This Row],[centre]],Feuil3!$A$2:$C$46,3,FALSE) -> #N/A | MO7: c | MS7: p | MU7: m | NI7: =COUNTIF(Tableau1[[#This Row],[01/01/2020]:[31/12/2020]],NI$3) -> 0 | NJ7: =COUNTIF(Tableau1[[#This Row],[01/01/2020]:[31/12/2020]],NJ$3) -> 1 | NK7: =COUNTIF(Tableau1[[#This Row],[01/01/2020]:[31/12/2020]],NK$3) -> 1 | NL7: =COUNTIF(Tableau1[[#This Row],[01/01/2020]:[31/12/2020]],NL$3) -> 0 | NM7: =COUNTIF(Tableau1[[#This Row],[01/01/2020]:[31/12/2020]],NM$3) -> 0 | NN7: =COUNTIF(Tableau1[[#This Row],[01/01/2020]:[31/12/2020]],NN$3) -> 0 | NO7: =COUNTIF(Tableau1[[#This Row],[01/01/2020]:[31/12/2020]],NO$3) -> 1
A8: AA 129 RJ | E8: =VLOOKUP(Tableau1[[#This Row],[centre]],Feuil3!$A$2:$C$46,2,FALSE) -> #N/A | F8: =VLOOKUP(Tableau1[[#This Row],[centre]],Feuil3!$A$2:$C$46,3,FALSE) -> #N/A | MO8: c | MT8: m | NI8: =COUNTIF(Tableau1[[#This Row],[01/01/2020]:[31/12/2020]],NI$3) -> 0 | NJ8: =COUNTIF(Tableau1[[#This Row],[01/01/2020]:[31/12/2020]],NJ$3) -> 0 | NK8: =COUNTIF(Tableau1[[#This Row],[01/01/2020]:[31/12/2020]],NK$3) -> 1 | NL8: =COUNTIF(Tableau1[[#This Row],[01/01/2020]:[31/12/2020]],NL$3) -> 0 | NM8: =COUNTIF(Tableau1[[#This Row],[01/01/2020]:[31/12/2020]],NM$3) -> 0 | NN8: =COUNTIF(Tableau1[[#This Row],[01/01/2020]:[31/12/2020]],NN$3) -> 0 | NO8: =COUNTIF(Tableau1[[#This Row],[01/01/2020]:[31/12/2020]],NO$3) -> 1
A9: AA 324 CZ | E9: =VLOOKUP(Tableau1[[#This Row],[centre]],Feuil3!$A$2:$C$46,2,FALSE) -> #N/A | F9: =VLOOKUP(Tableau1[[#This Row],[centre]],Feuil3!$A$2:$C$46,3,FALSE) -> #N/A | MO9: c | MR9: p | MS9: p | MT9: m | MU9: m | NI9: =COUNTIF(Tableau1[[#This Row],[01/01/2020]:[31/12/2020]],NI$3) -> 0 | NJ9: =COUNTIF(Tableau1[[#This Row],[01/01/2020]:[31/12/2020]],NJ$3) -> 2 | NK9: =COUNTIF(Tableau1[[#This Row],[01/01/2020]:[31/12/2020]],NK$3) -> 2 | NL9: =COUNTIF(Tableau1[[#This Row],[01/01/2020]:[31/12/2020]],NL$3) -> 0 | NM9: =COUNTIF(Tableau1[[#This Row],[01/01/2020]:[31/12/2020]],NM$3) -> 0 | NN9: =COUNTIF(Tableau1[[#This Row],[01/01/2020]:[31/12/2020]],NN$3) -> 0 | NO9: =COUNTIF(Tableau1[[#This Row],[01/01/2020]:[31/12/2020]],NO$3) -> 1
A10: AA 556 XZ | E10: =VLOOKUP(Tableau1[[#This Row],[centre]],Feuil3!$A$2:$C$46,2,FALSE) -> #N/A | F10: =VLOOKUP(Tableau1[[#This Row],[centre]],Feuil3!$A$2:$C$46,3,FALSE) -> #N/A | G10: R | H10: R | I10: R | MO10: c | MQ10: p | MR10: m | MT10: m | MU10: m | NI10: =COUNTIF(Tableau1[[#This Row],[01/01/2020]:[31/12/2020]],NI$3) -> 3 | NJ10: =COUNTIF(Tableau1[[#This Row],[01/01/2020]:[31/12/2020]],NJ$3) -> 1 | NK10: =COUNTIF(Tableau1[[#This Row],[01/01/2020]:[31/12/2020]],NK$3) -> 3 | NL10: =COUNTIF(Tableau1[[#This Row],[01/01/2020]:[31/12/2020]],NL$3) -> 0 | NM10: =COUNTIF(Tableau1[[#This Row],[01/01/2020]:[31/12/2020]],NM$3) -> 0 | NN10: =COUNTIF(Tableau1[[#This Row],[01/01/2020]:[31/12/2020]],NN$3) -> 0 | NO10: =COUNTIF(Tableau1[[#This Row],[01/01/2020]:[31/12/2020]],NO$3) -> 1
A11: AA 688 RF | E11: =VLOOKUP(Tableau1[[#This Row],[centre]],Feuil3!$A$2:$C$46,2,FALSE) -> #N/A | F11: =VLOOKUP(Tableau1[[#This Row],[centre]],Feuil3!$A$2:$C$46,3,FALSE) -> #N/A | MR11: m | NI11: =COUNTIF(Tableau1[[#This Row],[01/01/2020]:[31/12/2020]],NI$3) -> 0 | NJ11: =COUNTIF(Tableau1[[#This Row],[01/01/2020]:[31/12/2020]],NJ$3) -> 0 | NK11: =COUNTIF(Tableau1[[#This Row],[01/01/2020]:[31/12/2020]],NK$3) -> 1 | NL11: =COUNTIF(Tableau1[[#This Row],[01/01/2020]:[31/12/2020]],NL$3) -> 0 | NM11: =COUNTIF(Tableau1[[#This Row],[01/01/2020]:[31/12/2020]],NM$3) -> 0 | NN11: =COUNTIF(Tableau1[[#This Row],[01/01/2020]:[31/12/2020]],NN$3) -> 0 | NO11: =COUNTIF(Tableau1[[#This Row],[01/01/2020]:[31/12/2020]],NO$3) -> 0
A12: AA 129 RJ | E12: =VLOOKUP(Tableau1[[#This Row],[centre]],Feuil3!$A$2:$C$46,2,FALSE) -> #N/A | F12: =VLOOKUP(Tableau1[[#This Row],[centre]],Feuil3!$A$2:$C$46,3,FALSE) -> #N/A | MQ12: p | MR12: m | MS12: p | NI12: =COUNTIF(Tableau1[[#This Row],[01/01/2020]:[31/12/2020]],NI$3) -> 0 | NJ12: =COUNTIF(Tableau1[[#This Row],[01/01/2020]:[31/12/2020]],NJ$3) -> 2 | NK12: =COUNTIF(Tableau1[[#This Row],[01/01/2020]:[31/12/2020]],NK$3) -> 1 | NL12: =COUNTIF(Tableau1[[#This Row],[01/01/2020]:[31/12/2020]],NL$3) -> 0 | NM12: =COUNTIF(Tableau1[[#This Row],[01/01/2020]:[31/12/2020]],NM$3) -> 0 | NN12: =COUNTIF(Tableau1[[#This Row],[01/01/2020]:[31/12/2020]],NN$3) -> 0 | NO12: =COUNTIF(Tableau1[[#This Row],[01/01/2020]:[31/12/2020]],NO$3) -> 0
A13: AA 324 CZ | E13: =VLOOKUP(Tableau1[[#This Row],[centre]],Feuil3!$A$2:$C$46,2,FALSE) -> #N/A | F13: =VLOOKUP(Tableau1[[#This Row],[centre]],Feuil3!$A$2:$C$46,3,FALSE) -> #N/A | MQ13: r | MR13: m | NI13: =COUNTIF(Tableau1[[#This Row],[01/01/2020]:[31/12/2020]],NI$3) -> 1 | NJ13: =COUNTIF(Tableau1[[#This Row],[01/01/2020]:[31/12/2020]],NJ$3) -> 0 | NK13: =COUNTIF(Tableau1[[#This Row],[01/01/2020]:[31/12/2020]],NK$3) -> 1 | NL13: =COUNTIF(Tableau1[[#This Row],[01/01/2020]:[31/12/2020]],NL$3) -> 0 | NM13: =COUNTIF(Tableau1[[#This Row],[01/01/2020]:[31/12/2020]],NM$3) -> 0 | NN13: =COUNTIF(Tableau1[[#This Row],[01/01/2020]:[31/12/2020]],NN$3) -> 0 | NO13: =COUNTIF(Tableau1[[#This Row],[01/01/2020]:[31/12/2020]],NO$3) -> 0
A14: AA 556 XZ | E14: =VLOOKUP(Tableau1[[#This Row],[centre]],Feuil3!$A$2:$C$46,2,FALSE) -> #N/A | F14: =VLOOKUP(Tableau1[[#This Row],[centre]],Feuil3!$A$2:$C$46,3,FALSE) -> #N/A | MQ14: r | MS14: p | NI14: =COUNTIF(Tableau1[[#This Row],[01/01/2020]:[31/12/2020]],NI$3) -> 1 | NJ14: =COUNTIF(Tableau1[[#This Row],[01/01/2020]:[31/12/2020]],NJ$3) -> 1 | NK14: =COUNTIF(Tableau1[[#This Row],[01/01/2020]:[31/12/2020]],NK$3) -> 0 | NL14: =COUNTIF(Tableau1[[#This Row],[01/01/2020]:[31/12/2020]],NL$3) -> 0 | NM14: =COUNTIF(Tableau1[[#This Row],[01/01/2020]:[31/12/2020]],NM$3) -> 0 | NN14: =COUNTIF(Tableau1[[#This Row],[01/01/2020]:[31/12/2020]],NN$3) -> 0 | NO14: =COUNTIF(Tableau1[[#This Row],[01/01/2020]:[31/12/2020]],NO$3) -> 0
A15: AA 688 RF | E15: =VLOOKUP(Tableau1[[#This Row],[centre]],Feuil3!$A$2:$C$46,2,FALSE) -> #N/A | F15: =VLOOKUP(Tableau1[[#This Row],[centre]],Feuil3!$A$2:$C$46,3,FALSE) -> #N/A | MQ15: r | MS15: p | NI15: =COUNTIF(Tableau1[[#This Row],[01/01/2020]:[31/12/2020]],NI$3) -> 1 | NJ15: =COUNTIF(Tableau1[[#This Row],[01/01/2020]:[31/12/2020]],NJ$3) -> 1 | NK15: =COUNTIF(Tableau1[[#This Row],[01/01/2020]:[31/12/2020]],NK$3) -> 0 | NL15: =COUNTIF(Tableau1[[#This Row],[01/01/2020]:[31/12/2020]],NL$3) -> 0 | NM15: =COUNTIF(Tableau1[[#This Row],[01/01/2020]:[31/12/2020]],NM$3) -> 0 | NN15: =COUNTIF(Tableau1[[#This Row],[01/01/2020]:[31/12/2020]],NN$3) -> 0 | NO15: =COUNTIF(Tableau1[[#This Row],[01/01/2020]:[31/12/2020]],NO$3) -> 0
A16: AA 129 RJ | E16: =VLOOKUP(Tableau1[[#This Row],[centre]],Feuil3!$A$2:$C$46,2,FALSE) -> #N/A | F16: =VLOOKUP(Tableau1[[#This Row],[centre]],Feuil3!$A$2:$C$46,3,FALSE) -> #N/A | MQ16: r | NI16: =COUNTIF(Tableau1[[#This Row],[01/01/2020]:[31/12/2020]],NI$3) -> 1 | NJ16: =COUNTIF(Tableau1[[#This Row],[01/01/2020]:[31/12/2020]],NJ$3) -> 0 | NK16: =COUNTIF(Tableau1[[#This Row],[01/01/2020]:[31/12/2020]],NK$3) -> 0 | NL16: =COUNTIF(Tableau1[[#This Row],[01/01/2020]:[31/12/2020]],NL$3) -> 0 | NM16: =COUNTIF(Tableau1[[#This Row],[01/01/2020]:[31/12/2020]],NM$3) -> 0 | NN16: =COUNTIF(Tableau1[[#This Row],[01/01/2020]:[31/12/2020]],NN$3) -> 0 | NO16: =COUNTIF(Tableau1[[#This Row],[01/01/2020]:[31/12/2020]],NO$3) -> 0
A17: AA 324 CZ | E17: =VLOOKUP(Tableau1[[#This Row],[centre]],Feuil3!$A$2:$C$46,2,FALSE) -> #N/A | F17: =VLOOKUP(Tableau1[[#This Row],[centre]],Feuil3!$A$2:$C$46,3,FALSE) -> #N/A | NI17: =COUNTIF(Tableau1[[#This Row],[01/01/2020]:[31/12/2020]],NI$3) -> 0 | NJ17: =COUNTIF(Tableau1[[#This Row],[01/01/2020]:[31/12/2020]],NJ$3) -> 0 | NK17: =COUNTIF(Tableau1[[#This Row],[01/01/2020]:[31/12/2020]],NK$3) -> 0 | NL17: =COUNTIF(Tableau1[[#This Row],[01/01/2020]:[31/12/2020]],NL$3) -> 0 | NM17: =COUNTIF(Tableau1[[#This Row],[01/01/2020]:[31/12/2020]],NM$3) -> 0 | NN17: =COUNTIF(Tableau1[[#This Row],[01/01/2020]:[31/12/2020]],NN$3) -> 0 | NO17: =COUNTIF(Tableau1[[#This Row],[01/01/2020]:[31/12/2020]],NO$3) -> 0
A18: AA 556 XZ | E18: =VLOOKUP(Tableau1[[#This Row],[centre]],Feuil3!$A$2:$C$46,2,FALSE) -> #N/A | F18: =VLOOKUP(Tableau1[[#This Row],[centre]],Feuil3!$A$2:$C$46,3,FALSE) -> #N/A | NI18: =COUNTIF(Tableau1[[#This Row],[01/01/2020]:[31/12/2020]],NI$3) -> 0 | NJ18: =COUNTIF(Tableau1[[#This Row],[01/01/2020]:[31/12/2020]],NJ$3) -> 0 | NK18: =COUNTIF(Tableau1[[#This Row],[01/01/2020]:[31/12/2020]],NK$3) -> 0 | NL18: =COUNTIF(Tableau1[[#This Row],[01/01/2020]:[31/12/2020]],NL$3) -> 0 | NM18: =COUNTIF(Tableau1[[#This Row],[01/01/2020]:[31/12/2020]],NM$3) -> 0 | NN18: =COUNTIF(Tableau1[[#This Row],[01/01/2020]:[31/12/2020]],NN$3) -> 0 | NO18: =COUNTIF(Tableau1[[#This Row],[01/01/2020]:[31/12/2020]],NO$3) -> 0
A19: AA 688 RF | E19: =VLOOKUP(Tableau1[[#This Row],[centre]],Feuil3!$A$2:$C$46,2,FALSE) -> #N/A | F19: =VLOOKUP(Tableau1[[#This Row],[centre]],Feuil3!$A$2:$C$46,3,FALSE) -> #N/A | NI19: =COUNTIF(Tableau1[[#This Row],[01/01/2020]:[31/12/2020]],NI$3) -> 0 | NJ19: =COUNTIF(Tableau1[[#This Row],[01/01/2020]:[31/12/2020]],NJ$3) -> 0 | NK19: =COUNTIF(Tableau1[[#This Row],[01/01/2020]:[31/12/2020]],NK$3) -> 0 | NL19: =COUNTIF(Tableau1[[#This Row],[01/01/2020]:[31/12/2020]],NL$3) -> 0 | NM19: =COUNTIF(Tableau1[[#This Row],[01/01/2020]:[31/12/2020]],NM$3) -> 0 | NN19: =COUNTIF(Tableau1[[#This Row],[01/01/2020]:[31/12/2020]],NN$3) -> 0 | NO19: =COUNTIF(Tableau1[[#This Row],[01/01/2020]:[31/12/2020]],NO$3) -> 0
A20: AA 129 RJ | E20: =VLOOKUP(Tableau1[[#This Row],[centre]],Feuil3!$A$2:$C$46,2,FALSE) -> #N/A | F20: =VLOOKUP(Tableau1[[#This Row],[centre]],Feuil3!$A$2:$C$46,3,FALSE) -> #N/A | AS20: S | NI20: =COUNTIF(Tableau1[[#This Row],[01/01/2020]:[31/12/2020]],NI$3) -> 0 | NJ20: =COUNTIF(Tableau1[[#This Row],[01/01/2020]:[31/12/2020]],NJ$3) -> 0 | NK20: =COUNTIF(Tableau1[[#This Row],[01/01/2020]:[31/12/2020]],NK$3) -> 0 | NL20: =COUNTIF(Tableau1[[#This Row],[01/01/2020]:[31/12/2020]],NL$3) -> 0 | NM20: =COUNTIF(Tableau1[[#This Row],[01/01/2020]:[31/12/2020]],NM$3) -> 1 | NN20: =COUNTIF(Tableau1[[#This Row],[01/01/2020]:[31/12/2020]],NN$3) -> 0 | NO20: =COUNTIF(Tableau1[[#This Row],[01/01/2020]:[31/12/2020]],NO$3) -> 0
A21: AA 324 CZ | E21: =VLOOKUP(Tableau1[[#This Row],[centre]],Feuil3!$A$2:$C$46,2,FALSE) -> #N/A | F21: =VLOOKUP(Tableau1[[#This Row],[centre]],Feuil3!$A$2:$C$46,3,FALSE) -> #N/A | NI21: =COUNTIF(Tableau1[[#This Row],[01/01/2020]:[31/12/2020]],NI$3) -> 0 | NJ21: =COUNTIF(Tableau1[[#This Row],[01/01/2020]:[31/12/2020]],NJ$3) -> 0 | NK21: =COUNTIF(Tableau1[[#This Row],[01/01/2020]:[31/12/2020]],NK$3) -> 0 | NL21: =COUNTIF(Tableau1[[#This Row],[01/01/2020]:[31/12/2020]],NL$3) -> 0 | NM21: =COUNTIF(Tableau1[[#This Row],[01/01/2020]:[31/12/2020]],NM$3) -> 0 | NN21: =COUNTIF(Tableau1[[#This Row],[01/01/2020]:[31/12/2020]],NN$3) -> 0 | NO21: =COUNTIF(Tableau1[[#This Row],[01/01/2020]:[31/12/2020]],NO$3) -> 0
A22: AA 556 XZ | E22: =VLOOKUP(Tableau1[[#This Row],[centre]],Feuil3!$A$2:$C$46,2,FALSE) -> #N/A | F22: =VLOOKUP(Tableau1[[#This Row],[centre]],Feuil3!$A$2:$C$46,3,FALSE) -> #N/A | NI22: =COUNTIF(Tableau1[[#This Row],[01/01/2020]:[31/12/2020]],NI$3) -> 0 | NJ22: =COUNTIF(Tableau1[[#This Row],[01/01/2020]:[31/12/2020]],NJ$3) -> 0 | NK22: =COUNTIF(Tableau1[[#This Row],[01/01/2020]:[31/12/2020]],NK$3) -> 0 | NL22: =COUNTIF(Tableau1[[#This Row],[01/01/2020]:[31/12/2020]],NL$3) -> 0 | NM22: =COUNTIF(Tableau1[[#This Row],[01/01/2020]:[31/12/2020]],NM$3) -> 0 | NN22: =COUNTIF(Tableau1[[#This Row],[01/01/2020]:[31/12/2020]],NN$3) -> 0 | NO22: =COUNTIF(Tableau1[[#This Row],[01/01/2020]:[31/12/2020]],NO$3) -> 0
A23: AA 688 RF | E23: =VLOOKUP(Tableau1[[#This Row],[centre]],Feuil3!$A$2:$C$46,2,FALSE) -> #N/A | F23: =VLOOKUP(Tableau1[[#This Row],[centre]],Feuil3!$A$2:$C$46,3,FALSE) -> #N/A | NI23: =COUNTIF(Tableau1[[#This Row],[01/01/2020]:[31/12/2020]],NI$3) -> 0 | NJ23: =COUNTIF(Tableau1[[#This Row],[01/01/2020]:[31/12/2020]],NJ$3) -> 0 | NK23: =COUNTIF(Tableau1[[#This Row],[01/01/2020]:[31/12/2020]],NK$3) -> 0 | NL23: =COUNTIF(Tableau1[[#This Row],[01/01/2020]:[31/12/2020]],NL$3) -> 0 | NM23: =COUNTIF(Tableau1[[#This Row],[01/01/2020]:[31/12/2020]],NM$3) -> 0 | NN23: =COUNTIF(Tableau1[[#This Row],[01/01/2020]:[31/12/2020]],NN$3) -> 0 | NO23: =COUNTIF(Tableau1[[#This Row],[01/01/2020]:[31/12/2020]],NO$3) -> 0
A24: AA 129 RJ | E24: =VLOOKUP(Tableau1[[#This Row],[centre]],Feuil3!$A$2:$C$46,2,FALSE) -> #N/A | F24: =VLOOKUP(Tableau1[[#This Row],[centre]],Feuil3!$A$2:$C$46,3,FALSE) -> #N/A | Z24: CT | NI24: =COUNTIF(Tableau1[[#This Row],[01/01/2020]:[31/12/2020]],NI$3) -> 0 | NJ24: =COUNTIF(Tableau1[[#This Row],[01/01/2020]:[31/12/2020]],NJ$3) -> 0 | NK24: =COUNTIF(Tableau1[[#This Row],[01/01/2020]:[31/12/2020]],NK$3) -> 0 | NL24: =COUNTIF(Tableau1[[#This Row],[01/01/2020]:[31/12/2020]],NL$3) -> 1 | NM24: =COUNTIF(Tableau1[[#This Row],[01/01/2020]:[31/12/2020]],NM$3) -> 0 | NN24: =COUNTIF(Tableau1[[#This Row],[01/01/2020]:[31/12/2020]],NN$3) -> 0 | NO24: =COUNTIF(Tableau1[[#This Row],[01/01/2020]:[31/12/2020]],NO$3) -> 0
A25: AA 324 CZ | E25: =VLOOKUP(Tableau1[[#This Row],[centre]],Feuil3!$A$2:$C$46,2,FALSE) -> #N/A | F25: =VLOOKUP(Tableau1[[#This Row],[centre]],Feuil3!$A$2:$C$46,3,FALSE) -> #N/A | NI25: =COUNTIF(Tableau1[[#This Row],[01/01/2020]:[31/12/2020]],NI$3) -> 0 | NJ25: =COUNTIF(Tableau1[[#This Row],[01/01/2020]:[31/12/2020]],NJ$3) -> 0 | NK25: =COUNTIF(Tableau1[[#This Row],[01/01/2020]:[31/12/2020]],NK$3) -> 0 | NL25: =COUNTIF(Tableau1[[#This Row],[01/01/2020]:[31/12/2020]],NL$3) -> 0 | NM25: =COUNTIF(Tableau1[[#This Row],[01/01/2020]:[31/12/2020]],NM$3) -> 0 | NN25: =COUNTIF(Tableau1[[#This Row],[01/01/2020]:[31/12/2020]],NN$3) -> 0 | NO25: =COUNTIF(Tableau1[[#This Row],[01/01/2020]:[31/12/2020]],NO$3) -> 0
A26: AA 556 XZ | E26: =VLOOKUP(Tableau1[[#This Row],[centre]],Feuil3!$A$2:$C$46,2,FALSE) -> #N/A | F26: =VLOOKUP(Tableau1[[#This Row],[centre]],Feuil3!$A$2:$C$46,3,FALSE) -> #N/A | NI26: =COUNTIF(Tableau1[[#This Row],[01/01/2020]:[31/12/2020]],NI$3) -> 0 | NJ26: =COUNTIF(Tableau1[[#This Row],[01/01/2020]:[31/12/2020]],NJ$3) -> 0 | NK26: =COUNTIF(Tableau1[[#This Row],[01/01/2020]:[31/12/2020]],NK$3) -> 0 | NL26: =COUNTIF(Tableau1[[#This Row],[01/01/2020]:[31/12/2020]],NL$3) -> 0 | NM26: =COUNTIF(Tableau1[[#This Row],[01/01/2020]:[31/12/2020]],NM$3) -> 0 | NN26: =COUNTIF(Tableau1[[#This Row],[01/01/2020]:[31/12/2020]],NN$3) -> 0 | NO26: =COUNTIF(Tableau1[[#This Row],[01/01/2020]:[31/12/2020]],NO$3) -> 0
A27: AA 688 RF | E27: =VLOOKUP(Tableau1[[#This Row],[centre]],Feuil3!$A$2:$C$46,2,FALSE) -> #N/A | F27: =VLOOKUP(Tableau1[[#This Row],[centre]],Feuil3!$A$2:$C$46,3,FALSE) -> #N/A | NI27: =COUNTIF(Tableau1[[#This Row],[01/01/2020]:[31/12/2020]],NI$3) -> 0 | NJ27: =COUNTIF(Tableau1[[#This Row],[01/01/2020]:[31/12/2020]],NJ$3) -> 0 | NK27: =COUNTIF(Tableau1[[#This Row],[01/01/2020]:[31/12/2020]],NK$3) -> 0 | NL27: =COUNTIF(Tableau1[[#This Row],[01/01/2020]:[31/12/2020]],NL$3) -> 0 | NM27: =COUNTIF(Tableau1[[#This Row],[01/01/2020]:[31/12/2020]],NM$3) -> 0 | NN27: =COUNTIF(Tableau1[[#This Row],[01/01/2020]:[31/12/2020]],NN$3) -> 0 | NO27: =COUNTIF(Tableau1[[#This Row],[01/01/2020]:[31/12/2020]],NO$3) -> 0
A28: AA 129 RJ | E28: =VLOOKUP(Tableau1[[#This Row],[centre]],Feuil3!$A$2:$C$46,2,FALSE) -> #N/A | F28: =VLOOKUP(Tableau1[[#This Row],[centre]],Feuil3!$A$2:$C$46,3,FALSE) -> #N/A | NI28: =COUNTIF(Tableau1[[#This Row],[01/01/2020]:[31/12/2020]],NI$3) -> 0 | NJ28: =COUNTIF(Tableau1[[#This Row],[01/01/2020]:[31/12/2020]],NJ$3) -> 0 | NK28: =COUNTIF(Tableau1[[#This Row],[01/01/2020]:[31/12/2020]],NK$3) -> 0 | NL28: =COUNTIF(Tableau1[[#This Row],[01/01/2020]:[31/12/2020]],NL$3) -> 0 | NM28: =COUNTIF(Tableau1[[#This Row],[01/01/2020]:[31/12/2020]],NM$3) -> 0 | NN28: =COUNTIF(Tableau1[[#This Row],[01/01/2020]:[31/12/2020]],NN$3) -> 0 | NO28: =COUNTIF(Tableau1[[#This Row],[01/01/2020]:[31/12/2020]],NO$3) -> 0
A29: AA 324 CZ | E29: =VLOOKUP(Tableau1[[#This Row],[centre]],Feuil3!$A$2:$C$46,2,FALSE) -> #N/A | F29: =VLOOKUP(Tableau1[[#This Row],[centre]],Feuil3!$A$2:$C$46,3,FALSE) -> #N/A | X29: CT | NI29: =COUNTIF(Tableau1[[#This Row],[01/01/2020]:[31/12/2020]],NI$3) -> 0 | NJ29: =COUNTIF(Tableau1[[#This Row],[01/01/2020]:[31/12/2020]],NJ$3) -> 0 | NK29: =COUNTIF(Tableau1[[#This Row],[01/01/2020]:[31/12/2020]],NK$3) -> 0 | NL29: =COUNTIF(Tableau1[[#This Row],[01/01/2020]:[31/12/2020]],NL$3) -> 1 | NM29: =COUNTIF(Tableau1[[#This Row],[01/01/2020]:[31/12/2020]],NM$3) -> 0 | NN29: =COUNTIF(Tableau1[[#This Row],[01/01/2020]:[31/12/2020]],NN$3) -> 0 | NO29: =COUNTIF(Tableau1[[#This Row],[01/01/2020]:[31/12/2020]],NO$3) -> 0
A30: AA 556 XZ | E30: =VLOOKUP(Tableau1[[#This Row],[centre]],Feuil3!$A$2:$C$46,2,FALSE) -> #N/A | F30: =VLOOKUP(Tableau1[[#This Row],[centre]],Feuil3!$A$2:$C$46,3,FALSE) -> #N/A | NI30: =COUNTIF(Tableau1[[#This Row],[01/01/2020]:[31/12/2020]],NI$3) -> 0 | NJ30: =COUNTIF(Tableau1[[#This Row],[01/01/2020]:[31/12/2020]],NJ$3) -> 0 | NK30: =COUNTIF(Tableau1[[#This Row],[01/01/2020]:[31/12/2020]],NK$3) -> 0 | NL30: =COUNTIF(Tableau1[[#This Row],[01/01/2020]:[31/12/2020]],NL$3) -> 0 | NM30: =COUNTIF(Tableau1[[#This Row],[01/01/2020]:[31/12/2020]],NM$3) -> 0 | NN30: =COUNTIF(Tableau1[[#This Row],[01/01/2020]:[31/12/2020]],NN$3) -> 0 | NO30: =COUNTIF(Tableau1[[#This Row],[01/01/2020]:[31/12/2020]],NO$3) -> 0
A31: AA 688 RF | E31: =VLOOKUP(Tableau1[[#This Row],[centre]],Feuil3!$A$2:$C$46,2,FALSE) -> #N/A | F31: =VLOOKUP(Tableau1[[#This Row],[centre]],Feuil3!$A$2:$C$46,3,FALSE) -> #N/A | NI31: =COUNTIF(Tableau1[[#This Row],[01/01/2020]:[31/12/2020]],NI$3) -> 0 | NJ31: =COUNTIF(Tableau1[[#This Row],[01/01/2020]:[31/12/2020]],NJ$3) -> 0 | NK31: =COUNTIF(Tableau1[[#This Row],[01/01/2020]:[31/12/2020]],NK$3) -> 0 | NL31: =COUNTIF(Tableau1[[#This Row],[01/01/2020]:[31/12/2020]],NL$3) -> 0 | NM31: =COUNTIF(Tableau1[[#This Row],[01/01/2020]:[31/12/2020]],NM$3) -> 0 | NN31: =COUNTIF(Tableau1[[#This Row],[01/01/2020]:[31/12/2020]],NN$3) -> 0 | NO31: =COUNTIF(Tableau1[[#This Row],[01/01/2020]:[31/12/2020]],NO$3) -> 0
A32: AA 129 RJ | E32: =VLOOKUP(Tableau1[[#This Row],[centre]],Feuil3!$A$2:$C$46,2,FALSE) -> #N/A | F32: =VLOOKUP(Tableau1[[#This Row],[centre]],Feuil3!$A$2:$C$46,3,FALSE) -> #N/A | AA32: CT | NI32: =COUNTIF(Tableau1[[#This Row],[01/01/2020]:[31/12/2020]],NI$3) -> 0 | NJ32: =COUNTIF(Tableau1[[#This Row],[01/01/2020]:[31/12/2020]],NJ$3) -> 0 | NK32: =COUNTIF(Tableau1[[#This Row],[01/01/2020]:[31/12/2020]],NK$3) -> 0 | NL32: =COUNTIF(Tableau1[[#This Row],[01/01/2020]:[31/12/2020]],NL$3) -> 1 | NM32: =COUNTIF(Tableau1[[#This Row],[01/01/2020]:[31/12/2020]],NM$3) -> 0 | NN32: =COUNTIF(Tableau1[[#This Row],[01/01/2020]:[31/12/2020]],NN$3) -> 0 | NO32: =COUNTIF(Tableau1[[#This Row],[01/01/2020]:[31/12/2020]],NO$3) -> 0
A33: AA 324 CZ | E33: =VLOOKUP(Tableau1[[#This Row],[centre]],Feuil3!$A$2:$C$46,2,FALSE) -> #N/A | F33: =VLOOKUP(Tableau1[[#This Row],[centre]],Feuil3!$A$2:$C$46,3,FALSE) -> #N/A | NI33: =COUNTIF(Tableau1[[#This Row],[01/01/2020]:[31/12/2020]],NI$3) -> 0 | NJ33: =COUNTIF(Tableau1[[#This Row],[01/01/2020]:[31/12/2020]],NJ$3) -> 0 | NK33: =COUNTIF(Tableau1[[#This Row],[01/01/2020]:[31/12/2020]],NK$3) -> 0 | NL33: =COUNTIF(Tableau1[[#This Row],[01/01/2020]:[31/12/2020]],NL$3) -> 0 | NM33: =COUNTIF(Tableau1[[#This Row],[01/01/2020]:[31/12/2020]],NM$3) -> 0 | NN33: =COUNTIF(Tableau1[[#This Row],[01/01/2020]:[31/12/2020]],NN$3) -> 0 | NO33: =COUNTIF(Tableau1[[#This Row],[01/01/2020]:[31/12/2020]],NO$3) -> 0
A34: AA 556 XZ | E34: =VLOOKUP(Tableau1[[#This Row],[centre]],Feuil3!$A$2:$C$46,2,FALSE) -> #N/A | F34: =VLOOKUP(Tableau1[[#This Row],[centre]],Feuil3!$A$2:$C$46,3,FALSE) -> #N/A | NI34: =COUNTIF(Tableau1[[#This Row],[01/01/2020]:[31/12/2020]],NI$3) -> 0 | NJ34: =COUNTIF(Tableau1[[#This Row],[01/01/2020]:[31/12/2020]],NJ$3) -> 0 | NK34: =COUNTIF(Tableau1[[#This Row],[01/01/2020]:[31/12/2020]],NK$3) -> 0 | NL34: =COUNTIF(Tableau1[[#This Row],[01/01/2020]:[31/12/2020]],NL$3) -> 0 | NM34: =COUNTIF(Tableau1[[#This Row],[01/01/2020]:[31/12/2020]],NM$3) -> 0 | NN34: =COUNTIF(Tableau1[[#This Row],[01/01/2020]:[31/12/2020]],NN$3) -> 0 | NO34: =COUNTIF(Tableau1[[#This Row],[01/01/2020]:[31/12/2020]],NO$3) -> 0
A35: AA 688 RF | E35: =VLOOKUP(Tableau1[[#This Row],[centre]],Feuil3!$A$2:$C$46,2,FALSE) -> #N/A | F35: =VLOOKUP(Tableau1[[#This Row],[centre]],Feuil3!$A$2:$C$46,3,FALSE) -> #N/A | NI35: =COUNTIF(Tableau1[[#This Row],[01/01/2020]:[31/12/2020]],NI$3) -> 0 | NJ35: =COUNTIF(Tableau1[[#This Row],[01/01/2020]:[31/12/2020]],NJ$3) -> 0 | NK35: =COUNTIF(Tableau1[[#This Row],[01/01/2020]:[31/12/2020]],NK$3) -> 0 | NL35: =COUNTIF(Tableau1[[#This Row],[01/01/2020]:[31/12/2020]],NL$3) -> 0 | NM35: =COUNTIF(Tableau1[[#This Row],[01/01/2020]:[31/12/2020]],NM$3) -> 0 | NN35: =COUNTIF(Tableau1[[#This Row],[01/01/2020]:[31/12/2020]],NN$3) -> 0 | NO35: =COUNTIF(Tableau1[[#This Row],[01/01/2020]:[31/12/2020]],NO$3) -> 0
A36: AA 129 RJ | E36: =VLOOKUP(Tableau1[[#This Row],[centre]],Feuil3!$A$2:$C$46,2,FALSE) -> #N/A | F36: =VLOOKUP(Tableau1[[#This Row],[centre]],Feuil3!$A$2:$C$46,3,FALSE) -> #N/A | NI36: =COUNTIF(Tableau1[[#This Row],[01/01/2020]:[31/12/2020]],NI$3) -> 0 | NJ36: =COUNTIF(Tableau1[[#This Row],[01/01/2020]:[31/12/2020]],NJ$3) -> 0 | NK36: =COUNTIF(Tableau1[[#This Row],[01/01/2020]:[31/12/2020]],NK$3) -> 0 | NL36: =COUNTIF(Tableau1[[#This Row],[01/01/2020]:[31/12/2020]],NL$3) -> 0 | NM36: =COUNTIF(Tableau1[[#This Row],[01/01/2020]:[31/12/2020]],NM$3) -> 0 | NN36: =COUNTIF(Tableau1[[#This Row],[01/01/2020]:[31/12/2020]],NN$3) -> 0 | NO36: =COUNTIF(Tableau1[[#This Row],[01/01/2020]:[31/12/2020]],NO$3) -> 0
A37: AA 324 CZ | E37: =VLOOKUP(Tableau1[[#This Row],[centre]],Feuil3!$A$2:$C$46,2,FALSE) -> #N/A | F37: =VLOOKUP(Tableau1[[#This Row],[centre]],Feuil3!$A$2:$C$46,3,FALSE) -> #N/A | NI37: =COUNTIF(Tableau1[[#This Row],[01/01/2020]:[31/12/2020]],NI$3) -> 0 | NJ37: =COUNTIF(Tableau1[[#This Row],[01/01/2020]:[31/12/2020]],NJ$3) -> 0 | NK37: =COUNTIF(Tableau1[[#This Row],[01/01/2020]:[31/12/2020]],NK$3) -> 0 | NL37: =COUNTIF(Tableau1[[#This Row],[01/01/2020]:[31/12/2020]],NL$3) -> 0 | NM37: =COUNTIF(Tableau1[[#This Row],[01/01/2020]:[31/12/2020]],NM$3) -> 0 | NN37: =COUNTIF(Tableau1[[#This Row],[01/01/2020]:[31/12/2020]],NN$3) -> 0 | NO37: =COUNTIF(Tableau1[[#This Row],[01/01/2020]:[31/12/2020]],NO$3) -> 0
