Workbook
Name ListeChauffeurs: Tchauffeurs[Chauffeurs]
Name ListeCircuits: Tcircuits[Circuits]
Name listejours: Tjours[Jours]

Sheet Source
A1: Date | B1: Circuits | C1: Chauffeurs | D1: Depart 1 | E1: Arrivé 1 | F1: Depart 2 | G1: Arrivé 2 | H1: Heures | J1: Jours | L1: Circuits | M1: Chauffeurs
A2: Lundi | B2: Circuit 1 | C2: Samir | D2: 0.29513889 | E2: 0.35416667 | F2: 0.69791667 | G2: 0.75 | H2: =(Thoraires[[#This Row],[Arrivé 1]]-Thoraires[[#This Row],[Depart 1]])+(Thoraires[[#This Row],[Arrivé 2]]-Thoraires[[#This Row],[Depart 2]]) -> 0.11111111 | J2: Lundi | L2: Circuit 1 | M2: Samir
A3: Lundi | B3: Circuit 2 | C3: Dominique | D3: 0.32986111 | E3: 0.375 | F3: 0.6875 | G3: 0.73263889 | H3: =(Thoraires[[#This Row],[Arrivé 1]]-Thoraires[[#This Row],[Depart 1]])+(Thoraires[[#This Row],[Arrivé 2]]-Thoraires[[#This Row],[Depart 2]]) -> 0.090277778 | J3: Mardi | L3: Circuit 2 | M3: Dominique
A4: Lundi | B4: Circuit 3 | C4: Albert | D4: 0.32638889 | E4: 0.375 | F4: 0.6875 | G4: 0.72916667 | H4: =(Thoraires[[#This Row],[Arrivé 1]]-Thoraires[[#This Row],[Depart 1]])+(Thoraires[[#This Row],[Arrivé 2]]-Thoraires[[#This Row],[Depart 2]]) -> 0.090277778 | J4: Mercredi | L4: Circuit 3 | M4: Albert
A5: Lundi | B5: Circuit 4 | C5: Michaël | D5: 0.32291667 | E5: 0.375 | F5: 0.55208333 | G5: 0.62152778 | H5: =(Thoraires[[#This Row],[Arrivé 1]]-Thoraires[[#This Row],[Depart 1]])+(Thoraires[[#This Row],[Arrivé 2]]-Thoraires[[#This Row],[Depart 2]]) -> 0.12152778 | J5: Jeudi | L5: Circuit 4 | M5: Michaël
A6: Lundi | B6: Circuit 5 | C6: Yolaine | D6: 0.31597222 | E6: 0.39236111 | F6: 0.6875 | G6: 0.74652778 | H6: =(Thoraires[[#This Row],[Arrivé 1]]-Thoraires[[#This Row],[Depart 1]])+(Thoraires[[#This Row],[Arrivé 2]]-Thoraires[[#This Row],[Depart 2]]) -> 0.13541667 | J6: Vendredi | L6: Circuit 5 | M6: Yolaine
A7: Lundi | B7: Circuit 6 | C7: Maryse | D7: 0.29513889 | E7: 0.375 | F7: 0.6875 | G7: 0.76736111 | H7: =(Thoraires[[#This Row],[Arrivé 1]]-Thoraires[[#This Row],[Depart 1]])+(Thoraires[[#This Row],[Arrivé 2]]-Thoraires[[#This Row],[Depart 2]]) -> 0.15972222 | J7: vendredi institutionnel | L7: Circuit 6 | M7: Maryse
A8: Lundi | B8: Circuit 7 | C8: Robert | D8: 0.32291667 | E8: 0.375 | F8: 0.6875 | G8: 0.75 | H8: =(Thoraires[[#This Row],[Arrivé 1]]-Thoraires[[#This Row],[Depart 1]])+(Thoraires[[#This Row],[Arrivé 2]]-Thoraires[[#This Row],[Depart 2]]) -> 0.11458333 | J8: vendredi vacances | L8: Circuit 7 | M8: Robert
A9: Mardi | B9: Circuit 1 | C9: Samir | D9: 0.29513889 | E9: 0.35416667 | F9: 0.69791667 | G9: 0.75 | H9: =(Thoraires[[#This Row],[Arrivé 1]]-Thoraires[[#This Row],[Depart 1]])+(Thoraires[[#This Row],[Arrivé 2]]-Thoraires[[#This Row],[Depart 2]]) -> 0.11111111
A10: Mardi | B10: Circuit 2 | C10: Dominique | D10: 0.32986111 | E10: 0.375 | F10: 0.6875 | G10: 0.73263889 | H10: =(Thoraires[[#This Row],[Arrivé 1]]-Thoraires[[#This Row],[Depart 1]])+(Thoraires[[#This Row],[Arrivé 2]]-Thoraires[[#This Row],[Depart 2]]) -> 0.090277778
A11: Mardi | B11: Circuit 3 | C11: Albert | D11: 0.33333333 | E11: 0.375 | F11: 0.6875 | G11: 0.73611111 | H11: =(Thoraires[[#This Row],[Arrivé 1]]-Thoraires[[#This Row],[Depart 1]])+(Thoraires[[#This Row],[Arrivé 2]]-Thoraires[[#This Row],[Depart 2]]) -> 0.090277778
A12: Mardi | B12: Circuit 4 | C12: Michaël | D12: 0.32638889 | E12: 0.375 | F12: 0.6875 | G12: 0.73611111 | H12: =(Thoraires[[#This Row],[Arrivé 1]]-Thoraires[[#This Row],[Depart 1]])+(Thoraires[[#This Row],[Arrivé 2]]-Thoraires[[#This Row],[Depart 2]]) -> 0.097222222
A13: Mardi | B13: Circuit 5 | C13: Yolaine | D13: 0.31597222 | E13: 0.375 | F13: 0.6875 | G13: 0.74652778 | H13: =(Thoraires[[#This Row],[Arrivé 1]]-Thoraires[[#This Row],[Depart 1]])+(Thoraires[[#This Row],[Arrivé 2]]-Thoraires[[#This Row],[Depart 2]]) -> 0.11805556
A14: Mardi | B14: Circuit 6 | C14: Maryse | D14: 0.30555556 | E14: 0.375 | F14: 0.6875 | G14: 0.77777778 | H14: =(Thoraires[[#This Row],[Arrivé 1]]-Thoraires[[#This Row],[Depart 1]])+(Thoraires[[#This Row],[Arrivé 2]]-Thoraires[[#This Row],[Depart 2]]) -> 0.15972222
A15: Mardi | B15: Circuit 7 | C15: Robert | D15: 0.32291667 | E15: 0.375 | F15: 0.6875 | G15: 0.75 | H15: =(Thoraires[[#This Row],[Arrivé 1]]-Thoraires[[#This Row],[Depart 1]])+(Thoraires[[#This Row],[Arrivé 2]]-Thoraires[[#This Row],[Depart 2]]) -> 0.11458333
A16: Mercredi | B16: Circuit 1 | C16: Samir | D16: 0.29513889 | E16: 0.35416667 | F16: 0.5625 | G16: 0.61458333 | H16: =(Thoraires[[#This Row],[Arrivé 1]]-Thoraires[[#This Row],[Depart 1]])+(Thoraires[[#This Row],[Arrivé 2]]-Thoraires[[#This Row],[Depart 2]]) -> 0.11111111
A17: Mercredi | B17: Circuit 2 | C17: Dominique | D17: 0.32638889 | E17: 0.375 | F17: 0.54166667 | G17: 0.59027778 | H17: =(Thoraires[[#This Row],[Arrivé 1]]-Thoraires[[#This Row],[Depart 1]])+(Thoraires[[#This Row],[Arrivé 2]]-Thoraires[[#This Row],[Depart 2]]) -> 0.097222222
A18: Mercredi | B18: Circuit 3 | C18: Albert | D18: 0.32638889 | E18: 0.375 | F18: 0.54166667 | G18: 0.59027778 | H18: =(Thoraires[[#This Row],[Arrivé 1]]-Thoraires[[#This Row],[Depart 1]])+(Thoraires[[#This Row],[Arrivé 2]]-Thoraires[[#This Row],[Depart 2]]) -> 0.097222222
A19: Mercredi | B19: Circuit 4 | C19: Michaël | D19: 0.32638889 | E19: 0.375 | F19: 0.54166667 | G19: 0.57986111 | H19: =(Thoraires[[#This Row],[Arrivé 1]]-Thoraires[[#This Row],[Depart 1]])+(Thoraires[[#This Row],[Arrivé 2]]-Thoraires[[#This Row],[Depart 2]]) -> 0.086805556
A20: Mercredi | B20: Circuit 5 | C20: Yolaine | D20: 0.31597222 | E20: 0.375 | F20: 0.54166667 | G20: 0.59375 | H20: =(Thoraires[[#This Row],[Arrivé 1]]-Thoraires[[#This Row],[Depart 1]])+(Thoraires[[#This Row],[Arrivé 2]]-Thoraires[[#This Row],[Depart 2]]) -> 0.11111111
... A50: Vendredi Vacances | B50: Circuit 7 | C50: Robert | D50: 0.32291667 | E50: 0.375 | F50: 0.54166667 | G50: 0.60416667 | H50: =(Thoraires[[#This Row],[Arrivé 1]]-Thoraires[[#This Row],[Depart 1]])+(Thoraires[[#This Row],[Arrivé 2]]-Thoraires[[#This Row],[Depart 2]]) -> 0.11458333

Sheet Liste
A1: Date | B1: Jours | C1: Circuits | D1: Chauffeurs | E1: Départ 1 | F1: Arrivé 1 | G1: Depart 2 | H1: Arrivé 2 | I1: Heures | J1: Heures supplementaires
A2: 43836 | C2: Circuit 1 | D2: =IFERROR(VLOOKUP(Tableau6[[#This Row],[Circuits]],Source!L$1:M8,2,0),"") -> Samir
A3: 43836 | C3: Circuit 2 | D3: =IFERROR(VLOOKUP(Tableau6[[#This Row],[Circuits]],Source!L$1:M9,2,0),"") -> Dominique
A4: 43836 | C4: Circuit 3 | D4: =IFERROR(VLOOKUP(Tableau6[[#This Row],[Circuits]],Source!L$1:M10,2,0),"") -> Albert
A5: 43836 | C5: Circuit 4 | D5: =IFERROR(VLOOKUP(Tableau6[[#This Row],[Circuits]],Source!L$1:M11,2,0),"") -> Michaël
A6: 43836 | C6: Circuit 5 | D6: =IFERROR(VLOOKUP(Tableau6[[#This Row],[Circuits]],Source!L$1:M12,2,0),"") -> Yolaine
A7: 43836 | C7: Circuit 6 | D7: =IFERROR(VLOOKUP(Tableau6[[#This Row],[Circuits]],Source!L$1:M13,2,0),"") -> Maryse
A8: 43836 | C8: Circuit 7 | D8: =IFERROR(VLOOKUP(Tableau6[[#This Row],[Circuits]],Source!L$1:M14,2,0),"") -> Robert
A9: 43837 | C9: Circuit 1 | D9: =IFERROR(VLOOKUP(Tableau6[[#This Row],[Circuits]],Source!L$1:M15,2,0),"") -> Samir
A10: 43837 | C10: Circuit 2 | D10: =IFERROR(VLOOKUP(Tableau6[[#This Row],[Circuits]],Source!L$1:M16,2,0),"") -> Dominique
A11: 43837 | C11: Circuit 3 | D11: =IFERROR(VLOOKUP(Tableau6[[#This Row],[Circuits]],Source!L$1:M17,2,0),"") -> Albert
A12: 43837 | C12: Circuit 4 | D12: =IFERROR(VLOOKUP(Tableau6[[#This Row],[Circuits]],Source!L$1:M18,2,0),"") -> Michaël
A13: 43837 | C13: Circuit 5 | D13: =IFERROR(VLOOKUP(Tableau6[[#This Row],[Circuits]],Source!L$1:M19,2,0),"") -> Yolaine
... A106: 43854 | C106: Circuit 7 | D106: =IFERROR(VLOOKUP(Tableau6[[#This Row],[Circuits]],Source!L$1:M112,2,0),"") -> Robert
