Workbook
Name add: additifs!$B$2:$C$14
Name additifs: additifs!$B$3:$B$14
Name Aromes: arômes!$B$4:$C$153
Name recettes: 'Liste recettes'!$B$3:$B$77

Sheet additifs
B1: Listes
B2: N/A | C2: 0
B3: Acetyl pyrazine | C3: 2.9
B4: Acide malique (sour) | C4: 2.9
B5: Autres
B6: bitter wizard | C6: 4.9
B7: creme oncteuse | C7: 4.9
B8: Ethyl Maltol | C8: 2.9
B9: Ethyl Vanilline | C9: 2.9
B10: Flash | C10: 4.9
B11: Fresh Ice | C11: 4.9
B12: Koolada | C12: 2.9
B13: MTS vape wizard | C13: 4.9
B14: Sweetner | C14: 2.9

Sheet arômes
B3: Liste
B4: NA | C4: 0
B5: Abricot fruits | C5: 2.9
B6: Absinthe | C6: 2.9
B7: Alimoncello | C7: 3.9
B8: Amande | C8: 2.9
B9: Ananas | C9: 4.9
B10: Anis | C10: 3.9
B11: Banane flambée | C11: 4.9
B12: Banana | C12: 5.9
B13: Barbe à papa | C13: 0
B14: Biere | C14: 2.9
B15: Biscuit | C15: 2.9
... B24: Caramel au beurre salé | C24: 4.9
B25: Caramel gourmand | C25: 2.90
B26: Caramel cremeux vanillé | C26: 4.9
B27: Cassis | C27: 2.9
B28: Cédrat Corse Naturel | C28: 3.9
B29: Cerise Noire | C29: 5.9
B30: Chantilly | C30: 2.90
B31: Chamallow | C31: 3.9
B32: Chataigne Corse | C32: 3.9
B33: Cheesecake | C33: 5.9
B34: Chocolat au lait | C34: 2.9
B35: Chocolat blanc | C35: 2.9
B36: Chocolat noir | C36: 2.9
B37: Citron jaune | C37: 2.9
B38: Citron vert | C38: 2.9
B39: Citron meringué | C39: 2.9
B40: Clémentine | C40: 2.9
B41: Clémentine Corse | C41: 3.9
B42: Coca | C42: 3.9
... B122: Prune (Quetsche) | C122: 2.9
B123: Pruneau | C123: 2.90
B124: Raisin vert | C124: 2.9
B125: Raisin noir | C125: 3.9
B126: Réglisse bonbon | C126: 4.9
B127: Réglisse baton | C127: 2.9
B128: Rhubarbe | C128: 2.9
B129: Rhum ancien | C129: 3.9
...

Sheet Dosage arômes
B2: AROMES | C2: Flacons en stock | D2: Dosages max | E2: AROMES | F2: Flacons en stock | G2: Dosages max | H2: AROMES | I2: Flacons en stock | J2: Dosages max
B3: Abricot fruits | C3: 1 | D3: max 8% | E3: FR4 | F3: 0 | H3: Poire amande | I3: 0
B4: Absinthe | C4: 1 | D4: max 6% | E4: Fraises nouvelle | F4: 1 | G4: max 4% | H4: Poire vanillée | I4: 0
B5: Alimoncello | C5: 0 | E5: Framboise nouvelle | F5: 1 | G5: max 4% | H5: Pomme verte | I5: 1 | J5: max 10%
B6: Amande | C6: 0 | E6: Fruits du dragon | F6: 2 | G6: max 12% | H6: Pomme rouge | I6: 0
B7: Ananas | C7: 1 | D7: max 4% | E7: Fruits rouges | F7: 0 | H7: Pomme jaune | I7: 0
B8: Anis | C8: 1 | E8: Gaufre | F8: 0 | H8: Pomme rose | I8: 1 | J8: max 4%
B9: Banane flambée | C9: 0 | E9: Graham Crackers | F9: 0 | H9: Popy | I9: 0
B10: Banana | C10: 0 | E10: Goyave | F10: 1 | H10: Prune (Quetsche) | I10: 0
B11: Barbe à papa | C11: 1 | E11: Grenade | F11: 0 | H11: Pruneau | I11: 0
B12: Biere | C12: 0 | E12: Grenadine | F12: 1 | G12: max 12% | H12: Raisin vert | I12: 0
B13: Biscuit | C13: 0 | E13: Groseille | F13: 1 | G13: max 4% | H13: Raisin noir | I13: 1 | J13: max 6%
B14: Brioche | C14: 0 | E14: Guimauve | F14: 0 | H14: Réglisse bonbon | I14: 1 | J14: max 12%
B15: Cacahuete | C15: 0 | E15: Havane Cigar | F15: 0 | H15: Réglisse baton | I15: 1 | J15: a la goutte
B16: Cactus | C16: 2 | D16: max 12% | E16: Immortelle | F16: 0 | H16: Rhubarbe | I16: 0
B17: Café Dark | C17: 0 | E17: Irish Coffe | F17: 0 | H17: Rhum ancien | I17: 0
B18: Cannelle | C18: 0 | E18: Irish cream | F18: 0 | H18: Rhum blanc | I18: 0
B19: Cappuccino | C19: 0 | E19: Jacinthe | F19: 0 | H19: Rose | I19: 0
B20: Caramel | C20: 0 | E20: Jus de Goyave | F20: 0 | H20: Royale custard | I20: 0
B21: Caramel bonbon | C21: 1 | D21: max 8% | E21: Tabac Kentucky | F21: 0 | H21: Royal (tabac) | I21: 0
B22: Caramel au beurre salé | C22: 0 | E22: Kiwi | F22: 0 | H22: RY4 Supérieur | I22: 0
B23: Caramel cremeux vanillé | C23: 0 | E23: Lavande | F23: 0 | H23: Sirop d'érable | I23: 0
B24: Cassis | C24: 2 | D24: max 6% | E24: Lait nouvelle version | F24: 0 | H24: Spéculoos | I24: 0
B25: Cédrat Corse Naturel | C25: 0 | E25: Lychee | F25: 0 | H25: USA MIX Tabac | I25: 0
B26: Cerise Noire | C26: 1 | D26: max 6% | E26: Mangoustan | F26: 0 | H26: Taro | I26: 0
B27: Chamallow | C27: 1 | D27: max 10% | E27: Mangue nouvelle | F27: 1 | G27: max 6% | H27: Tarte aux fraises | I27: 0
B28: Chataigne Corse | C28: 0 | E28: Mandarine (Arôme naturel) | F28: 1 | H28: Tarte Tatin | I28: 0
B29: Cheesecake | C29: 1 | E29: Melon | F29: 0 | H29: Thé vert | I29: 0
B30: Chocolat au lait | C30: 0 | E30: Menthe eucalyptus | F30: 0 | H30: Thé noir | I30: 0
B31: Chocolat blanc | C31: 0 | E31: Menthe fraiche | F31: 0 | H31: Vanille bourbon | I31: 0
B32: Chocolat noir | C32: 0 | E32: Menthe verte | F32: 0 | H32: Vanille bourbon 2 | I32: 0
B33: Citron meringué | C33: 0 | E33: Menthe légère | F33: 0 | H33: Vanille de Tahiti | I33: 0
B34: Citron jaune | C34: 0 | E34: Menthe poivrée | F34: 0 | H34: Verveine | I34: 0
B35: Citron vert | C35: 0 | E35: Meringue nouvelle version | F35: 1 | G35: max 6% | H35: Verveine citron | I35: 0
B36: Clémentine | C36: 0 | E36: Miel | F36: 0 | H36: Verveine menthe | I36: 0
B37: Clémentine Corse | C37: 0 | E37: Mûre | F37: 1 | G37: max 10% | H37: Violette | I37: 0
B38: Coca | C38: 0 | E38: Myrte de Corse | F38: 0 | H38: Virginia Tabac | I38: 0
B39: coco de noix | C39: 0 | E39: Myrtille | F39: 1 | G39: max 8% | H39: Whisky | I39: 0
B40: Cœur de caramel | C40: 0 | E40: Noisette fraiche | F40: 0 | H40: Yaourt | I40: 0
B41: Coing | C41: 0 | E41: Noisette grillée | F41: 0 | H41: Yuzu (Arôme naturel) | I41: 0
...

Sheet Stock
F3: Corsicavap
B5: AROMES | C5: Flacons en stock | D5: Flacons a commandé | E5: AROMES | F5: Flacons en stock | G5: Flacons a commandé | H5: AROMES | I5: Flacons en stock | J5: Flacons a commandé | K5: ADDITIFS | L5: Flacons en stock | M5: Flacons a commandé
B6: Abricot fruits | C6: 0 | D6: 1 | E6: FR4 | F6: 0 | H6: Poire amande | I6: 0 | K6: Acetyl pyrazine | L6: 0
B7: Absinthe | C7: 1 | E7: Fraises nouvelle | F7: 1 | G7: 1 | H7: Poire vanillée | I7: 0 | J7: 1 | K7: bitter wizard | L7: 0
B8: Alimoncello | C8: 0 | E8: Framboise nouvelle | F8: 1 | H8: Pomme verte | I8: 1 | K8: creme oncteuse | L8: 0
B9: Amande | C9: 0 | E9: Fruits du dragon | F9: 2 | H9: Pomme rouge | I9: 0 | K9: Ethyl Maltol | L9: 1
B10: Ananas | C10: 1 | E10: Fruits rouges | F10: 0 | H10: Pomme jaune | I10: 0 | K10: Ethyl Vanilline | L10: 0 | M10: 1
B11: Anis | C11: 1 | E11: Gaufre | F11: 0 | H11: Pomme rose | I11: 1 | K11: Flash | L11: 0
B12: Banane flambée | C12: 0 | D12: 1 | E12: Graham Crackers | F12: 0 | G12: 1 | H12: Popy | I12: 0 | J12: 1 | K12: Fresh Ice | L12: 0
B13: Banana | C13: 0 | D13: 1 | E13: Goyave | F13: 1 | G13: 1 | H13: Prune (Quetsche) | I13: 0 | K13: Koolada | L13: 0 | M13: 1
B14: Barbe à papa | C14: 1 | E14: Grenade | F14: 0 | G14: 1 | H14: Pruneau | I14: 0 | K14: MTS vape wizard | L14: 0
B15: Biere | C15: 0 | E15: Grenadine | F15: 1 | H15: Raisin vert | I15: 0 | K15: Acide malique (sour) | L15: 1
B16: Biscuit | C16: 0 | E16: Groseille | F16: 1 | H16: Raisin noir | I16: 1 | K16: Sweetner | L16: 1
B17: Brioche | C17: 0 | E17: Guimauve | F17: 0 | G17: 1 | H17: Réglisse bonbon | I17: 1
B18: Cacahuete | C18: 0 | E18: Havane Cigar | F18: 0 | H18: Réglisse baton | I18: 1
B19: Cactus | C19: 2 | E19: Immortelle | F19: 0 | H19: Rhubarbe | I19: 0
B20: Café Dark | C20: 0 | E20: Irish Coffe | F20: 0 | H20: Rhum ancien | I20: 0 | J20: 1
B21: Cannelle | C21: 0 | E21: Irish cream | F21: 0 | H21: Rhum blanc | I21: 0 | J21: 1
B22: Cappuccino | C22: 0 | E22: Jacinthe | F22: 0 | H22: Rose | I22: 0
B23: Caramel | C23: 0 | E23: Jus de Goyave | F23: 0 | H23: Royale custard | I23: 0 | J23: 1 | K23: BASE / BOOSTERS
B24: Caramel bonbon | C24: 1 | E24: Tabac Kentucky | F24: 0 | H24: Royal (tabac) | I24: 0 | K24: Base 30/70 | L24: 6,90/100 ml
B25: Caramel au beurre salé | C25: 0 | D25: 1 | E25: Kiwi | F25: 0 | H25: RY4 Supérieur | I25: 0 | K25: Base 30/70 | L25: 15,90/1000 ml
B26: Caramel cremeux vanillé | C26: 0 | D26: 1 | E26: Lavande | F26: 0 | H26: Sirop d'érable | I26: 0
B27: Cassis | C27: 2 | E27: Lait nouvelle version | F27: 0 | H27: Spéculoos | I27: 0 | K27: Boosters | L27: 1,20/10 ml
B28: Cédrat Corse Naturel | C28: 0 | E28: Lychee | F28: 0 | G28: 1 | H28: USA MIX Tabac | I28: 0 | K28: Boosters | L28: 10/ les 10
B29: Cerise Noire | C29: 1 | E29: Mangoustan | F29: 0 | H29: Taro | I29: 0
B30: Chamallow | C30: 1 | E30: Mangue nouvelle | F30: 1 | H30: Tarte aux fraises | I30: 0 | K30: Base 50/50 | L30: 6.90/100 ml
B31: Chataigne Corse | C31: 0 | E31: Mandarine (Arôme naturel) | F31: 1 | H31: Tarte Tatin | I31: 0 | K31: Base 50/50 | L31: 15.90/1000 ml
B32: Cheesecake | C32: 0 | E32: Melon | F32: 0 | G32: 1 | H32: Thé vert | I32: 0
B33: Chocolat au lait | C33: 0 | E33: Menthe eucalyptus | F33: 0 | H33: Thé noir | I33: 0
B34: Chocolat blanc | C34: 0 | E34: Menthe fraiche | F34: 0 | G34: 1 | H34: Vanille bourbon | I34: 0
B35: Chocolat noir | C35: 0 | E35: Menthe verte | F35: 0 | H35: Vanille bourbon 2 | I35: 0 | J35: 1
B36: Citron meringué | C36: 0 | E36: Menthe légère | F36: 0 | H36: Vanille de Tahiti | I36: 0
B37: Citron jaune | C37: 0 | E37: Menthe poivrée | F37: 0 | H37: Verveine | I37: 0
B38: Citron vert | C38: 0 | E38: Meringue nouvelle version | F38: 1 | H38: Verveine citron | I38: 0
B39: Clémentine | C39: 0 | E39: Miel | F39: 0 | G39: 1 | H39: Verveine menthe | I39: 0
B40: Clémentine Corse | C40: 0 | E40: Mûre | F40: 1 | H40: Violette | I40: 0
B41: Coca | C41: 0 | E41: Myrte de Corse | F41: 0 | H41: Virginia Tabac | I41: 0
B42: coco de noix | C42: 0 | D42: 1 | E42: Myrtille | F42: 1 | H42: Whisky | I42: 0
B43: Cœur de caramel | C43: 0 | E43: Noisette fraiche | F43: 0 | H43: Yaourt | I43: 0
...

Sheet Recettes
B3: RECETTES
B6: Nom de la recette | F6: GOLDEN GATE | G6: PURPLE KISS | H6: L'AIGLE NOIR | I6: EN ROUGE ET NOIR
B7: Base PG/VG | D7: 50/50 | E7: 30/70 | F7: 50/50 | G7: 50/50 | H7: 50/50 | I7: 50/50
B8: Taux de nicotine (mg/ml) | D8: 6 | E8: 6 | F8: 6 | G8: 3 | H8: 6 | I8: 6
B9: Prix du flacon | D9: 9.9 | E9: 10.5 | F9: 10.5 | G9: 10.5 | H9: 9.9 | I9: 9.9
B10: Volume du flacon (ml) | D10: 500 | E10: 100 | F10: 500 | G10: 500 | H10: 500 | I10: 500
B11: Prix du ml | D11: =D9/D10 -> 0.0198 | E11: =E9/E10 -> 0.105 | F11: =F9/F10 -> 0.021 | G11: =G9/G10 -> 0.021 | H11: =H9/H10 -> 0.0198 | I11: =I9/I10 -> 0.0198
B13: Boosters
B14: Prix du flacon | D14: 1.95 | E14: 1.95 | F14: 1.95 | G14: 1.95 | H14: 1.95 | I14: 1.95
B15: Taux Nicotine (mg) | D15: 20 | E15: 20 | F15: 20 | G15: 20 | H15: 20 | I15: 20
B16: Volume du flacon (ml) | D16: 10 | E16: 10 | F16: 10 | G16: 10 | H16: 10 | I16: 10
B17: Prix du ml | D17: =D14/D16 -> 0.195 | E17: =E14/E16 -> 0.195 | F17: =F14/F16 -> 0.195 | G17: =G14/G16 -> 0.195 | H17: =H14/H16 -> 0.195 | I17: =I14/I16 -> 0.195
B19: Quantité finale désiré (ml) | D19: 50 | E19: 10 | F19: 50 | G19: 50 | H19: 50 | I19: 50
B20: Taux de nicotine désiré (mg/ml) | D20: 6 | E20: 6 | F20: 6 | G20: 3 | H20: 6 | I20: 6
B21: Quantité Arômes (ml) | D21: =D19*D153 -> 0 | E21: =E19*E153 -> 0 | F21: =F19*F153 -> 7.35 | G21: =G19*G153 -> 6.5 | H21: =H19*H153 -> 6.75 | I21: =I19*I153 -> 5.5
B22: Quantité base (ml) | D22: =D19-D23-D21 -> 35 | E22: =E19-E23-E21 -> 7 | F22: =F19-F23-F21 -> 27.65 | G22: =G19-G23-G21 -> 36 | H22: =H19-H23-H21 -> 28.25 | I22: =I19-I23-I21 -> 29.5
B23: Quantité booster (ml) | D23: =D19*D20/D15 -> 15 | E23: =E19*E20/E15 -> 3 | F23: =F19*F20/F15 -> 15 | G23: =G19*G20/G15 -> 7.5 | H23: =H19*H20/H15 -> 15 | I23: =I19*I20/I15 -> 15
B24: Prix de la base au ml | D24: =(D23*D17)+(D22*D11) -> 3.618 | E24: =(E23*E17)+(E22*E11) -> 1.32 | F24: =(F23*F17)+(F22*F11) -> 3.50565 | G24: =(G23*G17)+(G22*G11) -> 2.2185 | H24: =(H23*H17)+(H22*H11) -> 3.48435 | I24: =(I23*I17)+(I22*I11) -> 3.5091
B26: Arômes
B27: Arôme 1 | D27: NA | E27: NA | F27: Fraises nouvelle | G27: Cerise Noire | H27: Myrtille | I27: Fraises nouvelle
B28: Marques | D28: Corsicavap | E28: Corsicavap | F28: corsicavap | G28: corsicavap | H28: corsicavap | I28: Corsicavap
B29: Dosage recommandé | D29: 0.04 | E29: 0.12 | F29: 0 | G29: 0 | H29: 0 | I29: 0
B30: Prix | D30: =VLOOKUP(D27,[0]!Aromes,2,FALSE) -> 0 | E30: =VLOOKUP(E27,[0]!Aromes,2,FALSE) -> 0 | F30: =VLOOKUP(F27,[0]!Aromes,2,FALSE) -> 3.9 | G30: =VLOOKUP(G27,[0]!Aromes,2,FALSE) -> 5.9 | H30: =VLOOKUP(H27,[0]!Aromes,2,FALSE) -> 2.9 | I30: =VLOOKUP(I27,[0]!Aromes,2,FALSE) -> 3.9
B31: Volume du flacon (ml) | D31: 12 | E31: 12 | F31: 12 | G31: 12 | H31: 12 | I31: 12
B32: Temps de Steep (Jrs) | D32: 0.5 | E32: 0.5 | F32: 0.5 | G32: 1 | H32: 0.5 | I32: 0.5
B33: Arôme 2 | D33: NA | E33: NA | F33: Framboise nouvelle | G33: Fraises nouvelle | H33: Mûre | I33: Framboise nouvelle
B34: Marques | D34: Corsicavap | E34: Corsicavap | F34: corsicavap | G34: corsicavap | H34: corsicavap | I34: Corsicavap
B35: Dosage recommandé | D35: 0.04 | E35: 0.08 | F35: 0 | G35: 0 | H35: 0 | I35: 0
B36: Prix | D36: =VLOOKUP(D33,[0]!Aromes,2,FALSE) -> 0 | E36: =VLOOKUP(E33,[0]!Aromes,2,FALSE) -> 0 | F36: =VLOOKUP(F33,[0]!Aromes,2,FALSE) -> 3.9 | G36: =VLOOKUP(G33,[0]!Aromes,2,FALSE) -> 3.9 | H36: =VLOOKUP(H33,[0]!Aromes,2,FALSE) -> 2.9 | I36: =VLOOKUP(I33,[0]!Aromes,2,FALSE) -> 3.9
B37: Volume du flacon (ml) | D37: 12 | E37: 12 | F37: 12 | G37: 12 | H37: 12 | I37: 12
B38: Temps de Steep (Jrs) | D38: 0.5 | E38: 0.5 | F38: 0.5 | G38: 1 | H38: 0.5 | I38: 0.5
B39: Arôme 3 | D39: NA | E39: NA | F39: Mangue nouvelle | G39: Groseille | H39: Fraises nouvelle | I39: Mûre
B40: Marques | D40: Corsicavap | E40: Corsicavap | F40: corsicavap | G40: corsicavap | H40: corsicavap | I40: Corsicavap
B41: Dosage recommandé | D41: 0.04 | E41: 0.1 | F41: 0 | G41: 0 | H41: 0 | I41: 0
B42: Prix | D42: =VLOOKUP(D39,[0]!Aromes,2,FALSE) -> 0 | E42: =VLOOKUP(E39,[0]!Aromes,2,FALSE) -> 0 | F42: =VLOOKUP(F39,[0]!Aromes,2,FALSE) -> 3.9 | G42: =VLOOKUP(G39,[0]!Aromes,2,FALSE) -> 2.9 | H42: =VLOOKUP(H39,[0]!Aromes,2,FALSE) -> 3.9 | I42: =VLOOKUP(I39,[0]!Aromes,2,FALSE) -> 2.9
B43: Volume du flacon (ml) | D43: 12 | E43: 12 | F43: 12 | G43: 12 | H43: 12 | I43: 12
B44: Temps de Steep (Jrs) | D44: 0.5 | E44: 0.5 | F44: 0.5 | G44: 1 | H44: 0.5 | I44: 0.5
B45: Arôme 4 | D45: NA | E45: NA | F45: Ananas | G45: Framboise nouvelle | H45: Framboise nouvelle | I45: Cassis
B46: Marques | D46: Corsicavap | E46: Corsicavap | F46: corsicavap | G46: corsicavap | H46: corsicavap | I46: Corsicavap
B47: Dosage recommandé | D47: 0.06 | E47: 0.06 | F47: 0 | G47: 0 | H47: 0 | I47: 0
...

Sheet Liste recettes
B3: A COSA
B4: A L'AUBE DU NIL
B5: ALOHA
B6: AMANDINE
B7: AMYLEE
B8: AND THEN THERE WERE DONE
B9: APPLE BUTTER SNICKER
B10: ASTONISHING
B11: ATOMIC
B12: AUTUMN APPLE BREAD
B13: BAD BLOOD
B14: BANANA NOG
... B77: WINTER IS COMING

Sheet recettes et ingredient
A1: AUTUMN APPLE BREAD | B1: =IF(AND(AND(AND(AND(AND(AND(AND(Stock!I31>=1),AND(Stock!C47>=1),AND(Stock!F12>=1),AND(Stock!I23>=1),AND(Stock!C53>=1),AND(Stock!F52>=1),AND(Stock!L16>=1))))))),"O","") | C1: WINTER IS COMING | D1: =IF(AND(AND(AND(AND(AND(AND(AND(AND(Stock!I23>=1),AND(Stock!C51>=1),AND(Stock!F12>=1),AND(Stock!C47>=1),AND(Stock!C53>=1),AND(Stock!F52>=1),AND(Stock!C46>=1),AND(Stock!L16>=1)))))))),"O","") | E1: SCARFACE | F1: =IF(AND(AND(AND(AND(AND(AND(AND(Stock!I23>=1),AND(Stock!F8>=1),AND(Stock!F42>=1),AND(Stock!I31>=1),AND(Stock!C16>=1),AND(Stock!C53>=1),AND(Stock!F38>=1))))))),"O","") | G1: RED FACTION | H1: =IF(AND(AND(AND(AND(Stock!F15>=1),AND(Stock!F7>=1),AND(Stock!C29>=1),AND(Stock!F58>=1)))),"O","") -> O | I1: DYNAMITE MONKEY | J1: =IF(AND(AND(AND(AND(AND(AND(Stock!I45>=1),AND(Stock!C13>=1),AND(Stock!C32>=1),AND(Stock!C53>=1),AND(Stock!C16>=1),AND(Stock!C25>=1)))))),"O","") | K1: DARK MANGO | L1: =IF(AND(AND(AND(AND(AND(AND(Stock!F30>=1),AND(Stock!F8>=1),AND(Stock!I18>=1),AND(Stock!C53>=1),AND(Stock!L16>=1),AND(Stock!L15>=1)))))),"O","") -> O | M1: BLACK KISS | N1: =IF(AND(AND(AND(AND(AND(Stock!I46>=1),AND(Stock!I23>=1),AND(Stock!C29>=1),AND(Stock!F42>=1),AND(Stock!C32>=1))))),"O","") | O1: APPLE BUTTER SNICKER | P1: =IF(AND(AND(AND(AND(AND(AND(AND(Stock!C47>=1),AND(Stock!I11>=1),AND(Stock!I31>=1),AND(Stock!I23>=1),AND(Stock!C16>=1),AND(Stock!C9>=1),AND(Stock!F50>=1))))))),"O","")
A3: 6.0% Tarte tatin | C3: 5.0% Royale Custard | E3: 5.0% Royale Custard | G3: 6.5% Grenadine | I3: 5.0% TNT Custard | K3: 5.9% Mangue nouvelle | M3: 6.0% Royale Custard | O3: 4.0% Cookie
A4: 3.0% Cookie | C4: 4.5% Crème brulée | E4: 2.0% Framboise | G4: 4.5% Fraises nouvelle | I4: 4.0% Banana | K4: 4.6% Framboise nouvelle | M4: 4.0% Perfect Banana | O4: 2.5% Pomme rose
A5: 2.0% Graham Crackers | C5: 2.0% Graham Crackers | E5: 1.0% Myrtille | G5: 2.5% Cerise noire | I5: 3.0% Cheesecake | K5: 1.0% Réglisse | M5: 1.0% Cerise Noire | O5: 2.0% Tarte tatin
A6: 2.0% Royale Custard | C6: 1.5% Cookie | E6: 1.0% Tarte Tatin | G6: 0.5% Poire (Comice) | I6: 1.7% Crème fraîche | K6: 1.0% Crème fraîche | M6: 1.0% Myrtille | O6: 1.5% Royale Custard
A7: 1.0% Crème Fraîche | C7: 1.5% Crème Fraîche | E7: 1.0% Biscuit | I7: 0.8% Biscuit | M7: 1.0% Cheesecake | O7: 1.0% Biscuit
A8: 1.0% Pain d'Epice | C8: 0.8% Pain d'Epice | E8: 1.0% Crème fraiche | I8: 0.5% Caramel beurre salé | K8: Additifs | O8: 0.5% Amande
C9: 0.5% Confiture de Lait | E9: 1.0% Meringue | K9: 0.5% Sweetener | O9: 0.4% Nougatine
A10: Additifs : | K10: 2gt/10ml Sour
A11: 2gt Sweetener | C11: Additifs :
C12: 2gt Sweetener
A15: A L'AUBE DU NIL | B15: =IF(AND(AND(AND(AND(AND(AND(Stock!F25>=1),AND(Stock!I11>=1),AND(Stock!F30>=1),AND(Stock!C44>=1),AND(Stock!L9>=1),AND(Stock!L15>=1)))))),"O","") | C15: SMOOTH OPERATOR | D15: =IF(AND(AND(AND(AND(AND(Stock!C6>=1),AND(Stock!F30>=1),AND(Stock!C42>=1),AND(Stock!I35>=1),AND(Stock!L16>=1))))),"O","") | E15: DRAGON IMPERATRICE | F15: =IF(AND(AND(AND(AND(AND(AND(Stock!F56>=1),AND(Stock!F9>=1),AND(Stock!C53>=1),AND(Stock!L9>=1),AND(Stock!C21>=1),AND(Stock!L15>=1)))))),"O","") | G15: GOLDEN GATE | H15: =IF(AND(AND(AND(AND(Stock!F7>=1),AND(Stock!F8>=1),AND(Stock!F30>=1),AND(Stock!C10>=1)))),"O","") -> O | I15: MELON MELEE | J15: =IF(AND(AND(AND(AND(AND(Stock!F54>=1),AND(Stock!F32>=1),AND(Stock!F7>=1),AND(Stock!F9>=1),AND(Stock!C29>=1))))),"O","") | K15: PINK LEMONADE | M15: A COSA | N15: =IF(AND(AND(AND(AND(AND(AND(AND(Stock!C25>=1),AND(Stock!C22>=1),AND(Stock!C24>=1),AND(Stock!I29>=1),AND(Stock!F48>=1),AND(Stock!I35>=1),AND(Stock!I12>=1))))))),"O","") | O15: BLACK CAT | P15: =IF(AND(AND(AND(AND(AND(Stock!I18>=1),AND(Stock!C46>=1),AND(Stock!C30>=1),AND(Stock!C24>=1),AND(Stock!C26>=1))))),"O","")
A16: 7.0% Kiwi | C16: 6.0% Abricot fruit | E16: 5.5% Pêche Blanche | G16: 5.7% Fraises | I16: 5.8% Pastèque | K16: 4.0% Citron jaune | M16: 7% Caramel beurre salé | O16: 4.5% Réglisse
A17: 4.0% Pomme Rose | C17: 4.0% Mangue nouvelle | E17: 5.5% Fruit du dragon | G17: 5.0% Framboise | I17: 3.0% Melon | K17: 2.5% Framboise | M17: 4.5% Cappuccino | O17: 3.0% Confiture de lait
A18: 1.0% Mangue nouvelle | C18: 3.0% Coco noix de | E18: 3.0% Crème fraîche | G18: 2.1% Mangue | I18: 3.0% Fraises nouvelles | K18: 1.0% Pomme Rose | M18: 1% Caramel bonbon | O18: 1.5% Chamallow
A19: 0.5% Coing | C19: 2.0% Vanille Bourbon 2 | G19: 2.1% Ananas | I19: 2.0% Fruit du Dragon | K19: 1.0% Champagne | M19: 1% Taro | O19: 1.5% Caramel bonbon
I20: 1.0% Cerise noire | K20: 1.0% Crème de citron | M20: 1% Noix de Pécan | O20: 1.5% Caramel crémeux vanillé
A21: Additifs | C21: Additifs | E21: Additifs | K21: 0.5% Citron vert | M21: 0.3% Vanille Bourbon
A22: 0.5% Ethyl Maltol | C22: 2gt/10ml Sweetener | E22: 1.0% Ethyl Maltol | K22: 0.3% Meringue | M22: 0.2% Popy
A23: 2gt/10ml Sour | E23: 3gt/10ml Cannelle | K23: Additifs
E24: 2gt/10ml Sour | K24: 2.0% Sour
K25: 1.0% Ethyl Maltol
A26: AND THEN THERE WERE DONE | B26: =IF(AND(AND(AND(AND(Stock!C27>=1),AND(Stock!I11>=1),AND(Stock!F30>=1),AND(Stock!L16)))),"O","") -> O | C26: WEDNESDAY | D26: =IF(AND(AND(AND(AND(AND(AND(AND(AND(Stock!I18>=1),AND(Stock!F7>=1),AND(Stock!C30>=1),AND(Stock!C27>=1),AND(Stock!I8>=1),AND(Stock!L16>=1),AND(Stock!L9>=1),AND(Stock!L15>=1)))))))),"O","") -> O | E26: L'AIGLE NOIR | F26: =IF(AND(AND(AND(AND(AND(AND(AND(Stock!F42>=1),AND(Stock!F40>=1),AND(Stock!F7>=1),AND(Stock!F8>=1),AND(Stock!I18>=1),AND(Stock!C11>=1),AND(Stock!L16>=1))))))),"O","") -> O | G26: CHEWBA-K | H26: =IF(AND(AND(AND(AND(AND(Stock!C24>=1),AND(Stock!C47>=1),AND(Stock!C26>=1),AND(Stock!C25>=1),AND(Stock!F12>=1))))),"O","") | I26: HONEY HEART | J26: =IF(AND(AND(AND(AND(AND(AND(Stock!C26>=1),AND(Stock!I35>=1),AND(Stock!F39>=1),AND(Stock!C30>=1),AND(Stock!F38>=1),AND(Stock!I12>=1)))))),"O","") | K26: ROYALE STRAWBERRY | L26: =IF(AND(AND(AND(AND(AND(AND(AND(Stock!F7>=1),AND(Stock!I23>=1),AND(Stock!C53>=1),AND(Stock!F9>=1),AND(Stock!F38>=1),AND(Stock!L9>=1),AND(Stock!L15>=1))))))),"O","") | M26: BOURBON ISLAND | N26: =IF(AND(AND(AND(AND(AND(AND(Stock!I23>=1),AND(Stock!C10>=1),AND(Stock!F13>=1),AND(Stock!I35>=1),AND(Stock!F30>=1),AND(Stock!I20>=1)))))),"O","") | O26: BANANA NOG | P26: =IF(AND(AND(AND(AND(AND(AND(Stock!I46>=1),AND(Stock!C24>=1),AND(Stock!C26>=1),AND(Stock!C50>=1),AND(Stock!C53>=1),AND(Stock!F21>=1)))))),"O","")
A27: 6.0% Cassis | C27: 5.1% Réglisse | E27: 3.0% Myrtille | G27: 5.4% Caramel Bonbon | I27: 3.0% Caramel crémeux | K27: 7.5% Fraises nouvelles | M27: 4.0% Royale Custard | O27: 3% Perfect Banana
A28: 4.0% Pomme Rose | C28: 4.3% Fraises | E28: 3.0% Mûre | G28: 3.6% Cookie | I28: 2.5% Vanille Bourbon 2 | K28: 5.0% Royale Custard | M28: 2.5% Ananas | O28: 3% Caramel bonbon
A29: 3.0% Mangue | C29: 0.9% Chamallow | E29: 3.0% Fraises | G29: 2.7% Caramel crémeux vanillé | I29: 2.0% Miel | K29: 1.4% Crème Fraîche | M29: 2.5% Goyave | O29: 2% Caramel crémeux vanillé
C30: 0.5% Cassis | E30: 2.0% Framboise | G30: 1.8% Caramel au beure salé | I30: 1.5% Chamallow | K30: 1.0% Fruit du Dragon | M30: 2.0% Vanille Bourbon | O30: - 1.5% Crème anglaise
A31: Additifs: | C31: 0.5% Pomme Granny (verte) | E31: 2.0% Réglisse | G31: 1.4% Graham Crackers | I31: 0.5% Meringue | K31: 0.6% Meringue | M31: 1.0% Mangue | O31: 1% Crème Fraîche
A32: 0.5% Sweetener | E32: 0.5% Anis | I32: 0.5% Poppy | M32: 1.0% Rhum ancien | O32: 1.% Irish Cream
C33: Additifs : | K33: Additifs
C34: 0.7% Sweetener | E34: Additifs: | K34: 0.5% Ethyl Maltol
C35: 2gt/10ml Ethyl Maltol | E35: 0.5% Sweetener | K35: 2gt/10ml Sour
C36: 1gt/10ml Sour
A39: UMBRELLA CORP | B39: =IF(AND(AND(AND(AND(AND(AND(Stock!I7>=1),AND(Stock!C42>=1),AND(Stock!F37>=1),AND(Stock!C11>=1),AND(Stock!C21>=1),AND(Stock!L9>=1)))))),"O","") | C39: COPACABANA | D39: =IF(AND(AND(AND(AND(AND(Stock!C49>=1),AND(Stock!C53>=1),AND(Stock!F30>=1),AND(Stock!I21>=1),AND(Stock!C42>=1))))),"O","") | E39: BLACK CACTUS | F39: =IF(AND(AND(AND(AND(AND(AND(Stock!I16>=1),AND(Stock!C19>=1),AND(Stock!F7>=1),AND(Stock!F9>=1),AND(Stock!F38>=1),AND(Stock!F8>=1)))))),"O","") -> O | G39: PURPLE KISS | H39: =IF(AND(AND(AND(AND(AND(AND(AND(Stock!C29>=1),AND(Stock!F7>=1),AND(Stock!F16>=1),AND(Stock!F8>=1),AND(Stock!C27>=1),AND(Stock!L9>=1),AND(Stock!L15>=1))))))),"O","") -> O | I39: FUZZ MANGO | J39: =IF(AND(AND(AND(AND(Stock!F30>=1),AND(Stock!F56>=1),AND(Stock!C10>=1),AND(Stock!F51>=1)))),"O","") | K39: CASCADE | L39: =IF(AND(AND(AND(AND(AND(AND(Stock!F7>=1),AND(Stock!I11>=1),AND(Stock!I47>=1),AND(Stock!C30>=1),AND(Stock!C53>=1),AND(Stock!F58>=1)))))),"O","") | M39: FRAISE BLANCHE | N39: =IF(AND(AND(AND(AND(AND(AND(AND(AND(Stock!F7>=1),AND(Stock!C30>=1),AND(Stock!C10>=1),AND(Stock!F30>=1),AND(Stock!C53>=1),AND(Stock!F38>=1),AND(Stock!L9>=1),AND(Stock!L15>=1)))))))),"O","") -> O | O39: GEKKO | P39: =IF(AND(AND(AND(AND(AND(AND(Stock!C10>=1),AND(Stock!F56>=1),AND(Stock!F30>=1),AND(Stock!F7>=1),AND(Stock!I8>=1),AND(Stock!L9>=1)))))),"O","") -> O
A40: 8.0% Poire Vanillée | C40: 4.8% Corossol Guanabana | E40: 4.0% Raisin noir | G40: 3.9% Cerise noire | I40: 6.5% Mangue Nouvelle | K40: 4.9% Fraises nouvelles | M40: 4.5% Fraises | O40: 4.0% Ananas
A41: 3.6% Noix de Coco | C41: 3.7% Crème Fraîche | E41: 2.5% Cactus | G41: 3.9% Fraises nouvelles | I41: 3.0% Pêche Blanche | K41: 3.2% Pomme Rose | M41: 3.0% Chamallow | O41: 4.0% Pêche Blanche
A42: 1.5% Menthe poivrée | C42: 2.8% Mangue Nouvelle | E42: 2.0% Fraises nouvelle | G42: 2.0% Groseille | I42: 2.5% Ananas | K42: 2.8% Crème de Bano | M42: 2.0% Ananas | O42: 2.5% Mangue nouvelle
A43: 1.2% Anis | C43: 2.6% Rhum Blanc | E43: 1.0% Fruit du Dragon | G43: 2.0% Framboise nouvelle | I43: 1.0% Orange sanguine | K43: 1.6% Chamallow | M43: 1.5% Mangue nouvelle | O43: 1.0% Fraises
A44: 0.7% Cannelle | C44: 1.3% Coco Noix de | E44: 1.0% Meringue | G44: 1.1% Cassis | K44: 1.6% Crème Fraîche | M44: 1.0% Crème fraîche | O44: 0.5% Pomme Granny (verte)
E45: 0.5% Framboise nouvelle | K45: 0.8% Poire Comice | M45: 0.5% Meringue
...

Sheet Commandes
B3: QUI | C3: QUOI | D3: COMBIEN | E3: NICOTINE | G3: BESOIN | H3: QUANTITE | I3: PRIX
B4: Jean Pierre | C4: L'aigle noir | D4: 5 x 50 ml | E4: 6mg | G4: Fraises nouvelles | H4: 3 Flacons | I4: 11.7
B5: Laure | C5: Rouge et noir | D5: 5 x 50 ml | E5: 6mg | G5: Framboises nouvelles | H5: 2 Flacons | I5: 7.8
B6: Cyril | C6: Rouge et noir | D6: 1 x 50 ml | E6: 6mg | G6: Myrtille | H6: 1 Flacons | I6: 2.9
B7: Cyril | C7: Golden gate | D7: 1 x 50 ml | E7: 6mg | G7: Mûre | H7: 1 Flacons | I7: 2.9
B8: Fabrice | C8: Purple Kiss | D8: 1 x 50 ml | E8: 3mg | G8: Nicotine | H8: 20 Flacons | I8: 20
B9: Fabrice | C9: Rouge et noir | D9: 1 x 50 ml | E9: 3mg | G9: Base | H9: 500 ML | I9: 7.95
B10: Fabrice | C10: Golden gate | D10: 1 x 50 ml | E10: 3mg | I10: 53.25
