Workbook
Name An: Conf!$C$3
Name feries: #REF!
Name trim: [2]Ressources!$A$1:$A$4

Sheet Conf
B3: Année | C3: 2020
B6: Jours Fériés
B7: Premier de l'an | C7: =DATE(An,1,1) -> 43831
B8: Pâques | C8: =ROUND(DATE(An,4,MOD(234-11*MOD(An,19),30))/7,)*7-6 -> 43933
B9: Lundi de Pâques | C9: =$C$8+1 -> 43934
B10: Fête du travail | C10: =DATE(An,5,1) -> 43952
B11: Victoire 1945 | C11: =DATE(An,5,8) -> 43959
B12: Ascension | C12: =$C$9+38 -> 43972 | E12: Lundi de Pâques + 38 jours
B13: Pentecôte | C13: =$C$9+48 -> 43982 | E13: Lundi de Pâques + 48 jours
B14: Lundi de Pentecôte | C14: =$C$9+49 -> 43983 | E14: Lundi de Pâques + 49 jours
B15: Fête nat. | C15: =DATE(An,7,14) -> 44026
B16: Assomption | C16: =DATE(An,8,15) -> 44058
B17: Toussaint | C17: =DATE(An,11,1) -> 44136
B18: Armistice | C18: =DATE(An,11,11) -> 44146
B19: Noël | C19: =DATE(An,12,25) -> 44190

Sheet Planning1
C2: Année | D2: =An -> 2020 | H2: =D4 -> 43962 | I2: =H$2+1 -> 43963 | J2: =I$2+1 -> 43964 | K2: =J$2+1 -> 43965 | L2: =K$2+1 -> 43966 | M2: =L$2+1 -> 43967 | N2: =M$2+1 -> 43968 | O2: =N$2+1 -> 43969 | P2: =O$2+1 -> 43970 | ... AM2: =AL$2+1 -> 43993
C3: Date début de chantier | D3: =$E$7 -> 43962 | E3: ▼
C4: Aujourd'hui | D4: =$D$3+$F$4 -> 43962 | F4: 0
B6: N°: | C6: OPERATIONS | D6: EFFECTIF | E6: DEBUT | F6: DUREE (J) | G6: DATE DE FIN | H6: =TEXT(H2,"jjj") -> lun | I6: =TEXT(I2,"jjj") -> mar | J6: =TEXT(J2,"jjj") -> mer | K6: =TEXT(K2,"jjj") -> jeu | L6: =TEXT(L2,"jjj") -> ven | M6: =TEXT(M2,"jjj") -> sam | N6: =TEXT(N2,"jjj") -> dim | O6: =TEXT(O2,"jjj") -> lun | ... AM6: =TEXT(AM2,"jjj") -> jeu
B7: 1 | C7: Implantation de la maison | D7: 1 | E7: 43962 | F7: 2 | G7: =WORKDAY.INTL($E7,$F7-1,1,Conf!$C$7:$C$19) -> 43963 | H7: =IF(AND(H$2>=$E7,H$2<=$G7,WEEKDAY(H$2,2)<6,ISNA(VLOOKUP(H$2,Conf!$C$7:$C$19,1,FALSE))),$D7,"") -> 1 | I7: =IF(AND(I$2>=$E7,I$2<=$G7,WEEKDAY(I$2,2)<6,ISNA(VLOOKUP(I$2,Conf!$C$7:$C$19,1,FALSE))),$D7,"") -> 1 | J7: =IF(AND(J$2>=$E7,J$2<=$G7,WEEKDAY(J$2,2)<6,ISNA(VLOOKUP(J$2,Conf!$C$7:$C$19,1,FALSE))),$D7,"") | K7: =IF(AND(K$2>=$E7,K$2<=$G7,WEEKDAY(K$2,2)<6,ISNA(VLOOKUP(K$2,Conf!$C$7:$C$19,1,FALSE))),$D7,"") | L7: =IF(AND(L$2>=$E7,L$2<=$G7,WEEKDAY(L$2,2)<6,ISNA(VLOOKUP(L$2,Conf!$C$7:$C$19,1,FALSE))),$D7,"") | M7: =IF(AND(M$2>=$E7,M$2<=$G7,WEEKDAY(M$2,2)<6,ISNA(VLOOKUP(M$2,Conf!$C$7:$C$19,1,FALSE))),$D7,"") | N7: =IF(AND(N$2>=$E7,N$2<=$G7,WEEKDAY(N$2,2)<6,ISNA(VLOOKUP(N$2,Conf!$C$7:$C$19,1,FALSE))),$D7,"") | O7: =IF(AND(O$2>=$E7,O$2<=$G7,WEEKDAY(O$2,2)<6,ISNA(VLOOKUP(O$2,Conf!$C$7:$C$19,1,FALSE))),$D7,"") | ... AM7: =IF(AND(AM$2>=$E7,AM$2<=$G7,WEEKDAY(AM$2,2)<6,ISNA(VLOOKUP(AM$2,Conf!$C$7:$C$19,1,FALSE))),$D7,"")
B8: 2 | C8: Assainissement | D8: 2 | E8: 43964 | F8: 4 | G8: =WORKDAY.INTL($E8,$F8-1,1,Conf!$C$7:$C$19) -> 43969 | H8: =IF(AND(H$2>=$E8,H$2<=$G8,WEEKDAY(H$2,2)<6,ISNA(VLOOKUP(H$2,Conf!$C$7:$C$19,1,FALSE))),$D8,"") | I8: =IF(AND(I$2>=$E8,I$2<=$G8,WEEKDAY(I$2,2)<6,ISNA(VLOOKUP(I$2,Conf!$C$7:$C$19,1,FALSE))),$D8,"") | J8: =IF(AND(J$2>=$E8,J$2<=$G8,WEEKDAY(J$2,2)<6,ISNA(VLOOKUP(J$2,Conf!$C$7:$C$19,1,FALSE))),$D8,"") -> 2 | K8: =IF(AND(K$2>=$E8,K$2<=$G8,WEEKDAY(K$2,2)<6,ISNA(VLOOKUP(K$2,Conf!$C$7:$C$19,1,FALSE))),$D8,"") -> 2 | L8: =IF(AND(L$2>=$E8,L$2<=$G8,WEEKDAY(L$2,2)<6,ISNA(VLOOKUP(L$2,Conf!$C$7:$C$19,1,FALSE))),$D8,"") -> 2 | M8: =IF(AND(M$2>=$E8,M$2<=$G8,WEEKDAY(M$2,2)<6,ISNA(VLOOKUP(M$2,Conf!$C$7:$C$19,1,FALSE))),$D8,"") | N8: =IF(AND(N$2>=$E8,N$2<=$G8,WEEKDAY(N$2,2)<6,ISNA(VLOOKUP(N$2,Conf!$C$7:$C$19,1,FALSE))),$D8,"") | O8: =IF(AND(O$2>=$E8,O$2<=$G8,WEEKDAY(O$2,2)<6,ISNA(VLOOKUP(O$2,Conf!$C$7:$C$19,1,FALSE))),$D8,"") -> 2 | ... AM8: =IF(AND(AM$2>=$E8,AM$2<=$G8,WEEKDAY(AM$2,2)<6,ISNA(VLOOKUP(AM$2,Conf!$C$7:$C$19,1,FALSE))),$D8,"")
B9: 3 | C9: Raccordement Eau, Elec, Gaz | D9: 3 | E9: 43965 | F9: 2 | G9: =WORKDAY.INTL($E9,$F9-1,1,Conf!$C$7:$C$19) -> 43966 | H9: =IF(AND(H$2>=$E9,H$2<=$G9,WEEKDAY(H$2,2)<6,ISNA(VLOOKUP(H$2,Conf!$C$7:$C$19,1,FALSE))),$D9,"") | I9: =IF(AND(I$2>=$E9,I$2<=$G9,WEEKDAY(I$2,2)<6,ISNA(VLOOKUP(I$2,Conf!$C$7:$C$19,1,FALSE))),$D9,"") | J9: =IF(AND(J$2>=$E9,J$2<=$G9,WEEKDAY(J$2,2)<6,ISNA(VLOOKUP(J$2,Conf!$C$7:$C$19,1,FALSE))),$D9,"") | K9: =IF(AND(K$2>=$E9,K$2<=$G9,WEEKDAY(K$2,2)<6,ISNA(VLOOKUP(K$2,Conf!$C$7:$C$19,1,FALSE))),$D9,"") -> 3 | L9: =IF(AND(L$2>=$E9,L$2<=$G9,WEEKDAY(L$2,2)<6,ISNA(VLOOKUP(L$2,Conf!$C$7:$C$19,1,FALSE))),$D9,"") -> 3 | M9: =IF(AND(M$2>=$E9,M$2<=$G9,WEEKDAY(M$2,2)<6,ISNA(VLOOKUP(M$2,Conf!$C$7:$C$19,1,FALSE))),$D9,"") | N9: =IF(AND(N$2>=$E9,N$2<=$G9,WEEKDAY(N$2,2)<6,ISNA(VLOOKUP(N$2,Conf!$C$7:$C$19,1,FALSE))),$D9,"") | O9: =IF(AND(O$2>=$E9,O$2<=$G9,WEEKDAY(O$2,2)<6,ISNA(VLOOKUP(O$2,Conf!$C$7:$C$19,1,FALSE))),$D9,"") | ... AM9: =IF(AND(AM$2>=$E9,AM$2<=$G9,WEEKDAY(AM$2,2)<6,ISNA(VLOOKUP(AM$2,Conf!$C$7:$C$19,1,FALSE))),$D9,"")
B10: 4 | C10: Fondations | D10: 3 | E10: 43969 | F10: 1 | G10: =WORKDAY.INTL($E10,$F10-1,1,Conf!$C$7:$C$19) -> 43969 | H10: =IF(AND(H$2>=$E10,H$2<=$G10,WEEKDAY(H$2,2)<6,ISNA(VLOOKUP(H$2,Conf!$C$7:$C$19,1,FALSE))),$D10,"") | I10: =IF(AND(I$2>=$E10,I$2<=$G10,WEEKDAY(I$2,2)<6,ISNA(VLOOKUP(I$2,Conf!$C$7:$C$19,1,FALSE))),$D10,"") | J10: =IF(AND(J$2>=$E10,J$2<=$G10,WEEKDAY(J$2,2)<6,ISNA(VLOOKUP(J$2,Conf!$C$7:$C$19,1,FALSE))),$D10,"") | K10: =IF(AND(K$2>=$E10,K$2<=$G10,WEEKDAY(K$2,2)<6,ISNA(VLOOKUP(K$2,Conf!$C$7:$C$19,1,FALSE))),$D10,"") | L10: =IF(AND(L$2>=$E10,L$2<=$G10,WEEKDAY(L$2,2)<6,ISNA(VLOOKUP(L$2,Conf!$C$7:$C$19,1,FALSE))),$D10,"") | M10: =IF(AND(M$2>=$E10,M$2<=$G10,WEEKDAY(M$2,2)<6,ISNA(VLOOKUP(M$2,Conf!$C$7:$C$19,1,FALSE))),$D10,"") | N10: =IF(AND(N$2>=$E10,N$2<=$G10,WEEKDAY(N$2,2)<6,ISNA(VLOOKUP(N$2,Conf!$C$7:$C$19,1,FALSE))),$D10,"") | O10: =IF(AND(O$2>=$E10,O$2<=$G10,WEEKDAY(O$2,2)<6,ISNA(VLOOKUP(O$2,Conf!$C$7:$C$19,1,FALSE))),$D10,"") -> 3 | ... AM10: =IF(AND(AM$2>=$E10,AM$2<=$G10,WEEKDAY(AM$2,2)<6,ISNA(VLOOKUP(AM$2,Conf!$C$7:$C$19,1,FALSE))),$D10,"")
B11: 5 | C11: Murs | D11: 8 | E11: 43970 | F11: 3 | G11: =WORKDAY.INTL($E11,$F11-1,1,Conf!$C$7:$C$19) -> 43973 | H11: =IF(AND(H$2>=$E11,H$2<=$G11,WEEKDAY(H$2,2)<6,ISNA(VLOOKUP(H$2,Conf!$C$7:$C$19,1,FALSE))),$D11,"") | I11: =IF(AND(I$2>=$E11,I$2<=$G11,WEEKDAY(I$2,2)<6,ISNA(VLOOKUP(I$2,Conf!$C$7:$C$19,1,FALSE))),$D11,"") | J11: =IF(AND(J$2>=$E11,J$2<=$G11,WEEKDAY(J$2,2)<6,ISNA(VLOOKUP(J$2,Conf!$C$7:$C$19,1,FALSE))),$D11,"") | K11: =IF(AND(K$2>=$E11,K$2<=$G11,WEEKDAY(K$2,2)<6,ISNA(VLOOKUP(K$2,Conf!$C$7:$C$19,1,FALSE))),$D11,"") | L11: =IF(AND(L$2>=$E11,L$2<=$G11,WEEKDAY(L$2,2)<6,ISNA(VLOOKUP(L$2,Conf!$C$7:$C$19,1,FALSE))),$D11,"") | M11: =IF(AND(M$2>=$E11,M$2<=$G11,WEEKDAY(M$2,2)<6,ISNA(VLOOKUP(M$2,Conf!$C$7:$C$19,1,FALSE))),$D11,"") | N11: =IF(AND(N$2>=$E11,N$2<=$G11,WEEKDAY(N$2,2)<6,ISNA(VLOOKUP(N$2,Conf!$C$7:$C$19,1,FALSE))),$D11,"") | O11: =IF(AND(O$2>=$E11,O$2<=$G11,WEEKDAY(O$2,2)<6,ISNA(VLOOKUP(O$2,Conf!$C$7:$C$19,1,FALSE))),$D11,"") | ... AM11: =IF(AND(AM$2>=$E11,AM$2<=$G11,WEEKDAY(AM$2,2)<6,ISNA(VLOOKUP(AM$2,Conf!$C$7:$C$19,1,FALSE))),$D11,"")
B12: 6 | C12: Charpente | D12: 4 | E12: 43977 | F12: 2 | G12: =WORKDAY.INTL($E12,$F12-1,1,Conf!$C$7:$C$19) -> 43978 | H12: =IF(AND(H$2>=$E12,H$2<=$G12,WEEKDAY(H$2,2)<6,ISNA(VLOOKUP(H$2,Conf!$C$7:$C$19,1,FALSE))),$D12,"") | I12: =IF(AND(I$2>=$E12,I$2<=$G12,WEEKDAY(I$2,2)<6,ISNA(VLOOKUP(I$2,Conf!$C$7:$C$19,1,FALSE))),$D12,"") | J12: =IF(AND(J$2>=$E12,J$2<=$G12,WEEKDAY(J$2,2)<6,ISNA(VLOOKUP(J$2,Conf!$C$7:$C$19,1,FALSE))),$D12,"") | K12: =IF(AND(K$2>=$E12,K$2<=$G12,WEEKDAY(K$2,2)<6,ISNA(VLOOKUP(K$2,Conf!$C$7:$C$19,1,FALSE))),$D12,"") | L12: =IF(AND(L$2>=$E12,L$2<=$G12,WEEKDAY(L$2,2)<6,ISNA(VLOOKUP(L$2,Conf!$C$7:$C$19,1,FALSE))),$D12,"") | M12: =IF(AND(M$2>=$E12,M$2<=$G12,WEEKDAY(M$2,2)<6,ISNA(VLOOKUP(M$2,Conf!$C$7:$C$19,1,FALSE))),$D12,"") | N12: =IF(AND(N$2>=$E12,N$2<=$G12,WEEKDAY(N$2,2)<6,ISNA(VLOOKUP(N$2,Conf!$C$7:$C$19,1,FALSE))),$D12,"") | O12: =IF(AND(O$2>=$E12,O$2<=$G12,WEEKDAY(O$2,2)<6,ISNA(VLOOKUP(O$2,Conf!$C$7:$C$19,1,FALSE))),$D12,"") | ... AM12: =IF(AND(AM$2>=$E12,AM$2<=$G12,WEEKDAY(AM$2,2)<6,ISNA(VLOOKUP(AM$2,Conf!$C$7:$C$19,1,FALSE))),$D12,"")
B13: 7 | C13: Couverture | D13: 3 | E13: 43979 | F13: 2 | G13: =WORKDAY.INTL($E13,$F13-1,1,Conf!$C$7:$C$19) -> 43980 | H13: =IF(AND(H$2>=$E13,H$2<=$G13,WEEKDAY(H$2,2)<6,ISNA(VLOOKUP(H$2,Conf!$C$7:$C$19,1,FALSE))),$D13,"") | I13: =IF(AND(I$2>=$E13,I$2<=$G13,WEEKDAY(I$2,2)<6,ISNA(VLOOKUP(I$2,Conf!$C$7:$C$19,1,FALSE))),$D13,"") | J13: =IF(AND(J$2>=$E13,J$2<=$G13,WEEKDAY(J$2,2)<6,ISNA(VLOOKUP(J$2,Conf!$C$7:$C$19,1,FALSE))),$D13,"") | K13: =IF(AND(K$2>=$E13,K$2<=$G13,WEEKDAY(K$2,2)<6,ISNA(VLOOKUP(K$2,Conf!$C$7:$C$19,1,FALSE))),$D13,"") | L13: =IF(AND(L$2>=$E13,L$2<=$G13,WEEKDAY(L$2,2)<6,ISNA(VLOOKUP(L$2,Conf!$C$7:$C$19,1,FALSE))),$D13,"") | M13: =IF(AND(M$2>=$E13,M$2<=$G13,WEEKDAY(M$2,2)<6,ISNA(VLOOKUP(M$2,Conf!$C$7:$C$19,1,FALSE))),$D13,"") | N13: =IF(AND(N$2>=$E13,N$2<=$G13,WEEKDAY(N$2,2)<6,ISNA(VLOOKUP(N$2,Conf!$C$7:$C$19,1,FALSE))),$D13,"") | O13: =IF(AND(O$2>=$E13,O$2<=$G13,WEEKDAY(O$2,2)<6,ISNA(VLOOKUP(O$2,Conf!$C$7:$C$19,1,FALSE))),$D13,"") | ... AM13: =IF(AND(AM$2>=$E13,AM$2<=$G13,WEEKDAY(AM$2,2)<6,ISNA(VLOOKUP(AM$2,Conf!$C$7:$C$19,1,FALSE))),$D13,"")
B14: 8 | C14: Menuiseries | D14: 4 | E14: 43980 | F14: 2 | G14: =WORKDAY.INTL($E14,$F14-1,1,Conf!$C$7:$C$19) -> 43984 | H14: =IF(AND(H$2>=$E14,H$2<=$G14,WEEKDAY(H$2,2)<6,ISNA(VLOOKUP(H$2,Conf!$C$7:$C$19,1,FALSE))),$D14,"") | I14: =IF(AND(I$2>=$E14,I$2<=$G14,WEEKDAY(I$2,2)<6,ISNA(VLOOKUP(I$2,Conf!$C$7:$C$19,1,FALSE))),$D14,"") | J14: =IF(AND(J$2>=$E14,J$2<=$G14,WEEKDAY(J$2,2)<6,ISNA(VLOOKUP(J$2,Conf!$C$7:$C$19,1,FALSE))),$D14,"") | K14: =IF(AND(K$2>=$E14,K$2<=$G14,WEEKDAY(K$2,2)<6,ISNA(VLOOKUP(K$2,Conf!$C$7:$C$19,1,FALSE))),$D14,"") | L14: =IF(AND(L$2>=$E14,L$2<=$G14,WEEKDAY(L$2,2)<6,ISNA(VLOOKUP(L$2,Conf!$C$7:$C$19,1,FALSE))),$D14,"") | M14: =IF(AND(M$2>=$E14,M$2<=$G14,WEEKDAY(M$2,2)<6,ISNA(VLOOKUP(M$2,Conf!$C$7:$C$19,1,FALSE))),$D14,"") | N14: =IF(AND(N$2>=$E14,N$2<=$G14,WEEKDAY(N$2,2)<6,ISNA(VLOOKUP(N$2,Conf!$C$7:$C$19,1,FALSE))),$D14,"") | O14: =IF(AND(O$2>=$E14,O$2<=$G14,WEEKDAY(O$2,2)<6,ISNA(VLOOKUP(O$2,Conf!$C$7:$C$19,1,FALSE))),$D14,"") | ... AM14: =IF(AND(AM$2>=$E14,AM$2<=$G14,WEEKDAY(AM$2,2)<6,ISNA(VLOOKUP(AM$2,Conf!$C$7:$C$19,1,FALSE))),$D14,"")
B15: 9 | C15: Isolation | D15: 8 | E15: 43985 | F15: 1 | G15: =WORKDAY.INTL($E15,$F15-1,1,Conf!$C$7:$C$19) -> 43985 | H15: =IF(AND(H$2>=$E15,H$2<=$G15,WEEKDAY(H$2,2)<6,ISNA(VLOOKUP(H$2,Conf!$C$7:$C$19,1,FALSE))),$D15,"") | I15: =IF(AND(I$2>=$E15,I$2<=$G15,WEEKDAY(I$2,2)<6,ISNA(VLOOKUP(I$2,Conf!$C$7:$C$19,1,FALSE))),$D15,"") | J15: =IF(AND(J$2>=$E15,J$2<=$G15,WEEKDAY(J$2,2)<6,ISNA(VLOOKUP(J$2,Conf!$C$7:$C$19,1,FALSE))),$D15,"") | K15: =IF(AND(K$2>=$E15,K$2<=$G15,WEEKDAY(K$2,2)<6,ISNA(VLOOKUP(K$2,Conf!$C$7:$C$19,1,FALSE))),$D15,"") | L15: =IF(AND(L$2>=$E15,L$2<=$G15,WEEKDAY(L$2,2)<6,ISNA(VLOOKUP(L$2,Conf!$C$7:$C$19,1,FALSE))),$D15,"") | M15: =IF(AND(M$2>=$E15,M$2<=$G15,WEEKDAY(M$2,2)<6,ISNA(VLOOKUP(M$2,Conf!$C$7:$C$19,1,FALSE))),$D15,"") | N15: =IF(AND(N$2>=$E15,N$2<=$G15,WEEKDAY(N$2,2)<6,ISNA(VLOOKUP(N$2,Conf!$C$7:$C$19,1,FALSE))),$D15,"") | O15: =IF(AND(O$2>=$E15,O$2<=$G15,WEEKDAY(O$2,2)<6,ISNA(VLOOKUP(O$2,Conf!$C$7:$C$19,1,FALSE))),$D15,"") | ... AM15: =IF(AND(AM$2>=$E15,AM$2<=$G15,WEEKDAY(AM$2,2)<6,ISNA(VLOOKUP(AM$2,Conf!$C$7:$C$19,1,FALSE))),$D15,"")
B16: 10 | C16: Cloisons / Plafonds | D16: 6 | E16: 43986 | F16: 3 | G16: =WORKDAY.INTL($E16,$F16-1,1,Conf!$C$7:$C$19) -> 43990 | H16: =IF(AND(H$2>=$E16,H$2<=$G16,WEEKDAY(H$2,2)<6,ISNA(VLOOKUP(H$2,Conf!$C$7:$C$19,1,FALSE))),$D16,"") | I16: =IF(AND(I$2>=$E16,I$2<=$G16,WEEKDAY(I$2,2)<6,ISNA(VLOOKUP(I$2,Conf!$C$7:$C$19,1,FALSE))),$D16,"") | J16: =IF(AND(J$2>=$E16,J$2<=$G16,WEEKDAY(J$2,2)<6,ISNA(VLOOKUP(J$2,Conf!$C$7:$C$19,1,FALSE))),$D16,"") | K16: =IF(AND(K$2>=$E16,K$2<=$G16,WEEKDAY(K$2,2)<6,ISNA(VLOOKUP(K$2,Conf!$C$7:$C$19,1,FALSE))),$D16,"") | L16: =IF(AND(L$2>=$E16,L$2<=$G16,WEEKDAY(L$2,2)<6,ISNA(VLOOKUP(L$2,Conf!$C$7:$C$19,1,FALSE))),$D16,"") | M16: =IF(AND(M$2>=$E16,M$2<=$G16,WEEKDAY(M$2,2)<6,ISNA(VLOOKUP(M$2,Conf!$C$7:$C$19,1,FALSE))),$D16,"") | N16: =IF(AND(N$2>=$E16,N$2<=$G16,WEEKDAY(N$2,2)<6,ISNA(VLOOKUP(N$2,Conf!$C$7:$C$19,1,FALSE))),$D16,"") | O16: =IF(AND(O$2>=$E16,O$2<=$G16,WEEKDAY(O$2,2)<6,ISNA(VLOOKUP(O$2,Conf!$C$7:$C$19,1,FALSE))),$D16,"") | ... AM16: =IF(AND(AM$2>=$E16,AM$2<=$G16,WEEKDAY(AM$2,2)<6,ISNA(VLOOKUP(AM$2,Conf!$C$7:$C$19,1,FALSE))),$D16,"")
B17: 11 | C17: Plomberie / Chauffage | D17: 1 | E17: 43987 | F17: 2 | G17: =WORKDAY.INTL($E17,$F17-1,1,Conf!$C$7:$C$19) -> 43990 | H17: =IF(AND(H$2>=$E17,H$2<=$G17,WEEKDAY(H$2,2)<6,ISNA(VLOOKUP(H$2,Conf!$C$7:$C$19,1,FALSE))),$D17,"") | I17: =IF(AND(I$2>=$E17,I$2<=$G17,WEEKDAY(I$2,2)<6,ISNA(VLOOKUP(I$2,Conf!$C$7:$C$19,1,FALSE))),$D17,"") | J17: =IF(AND(J$2>=$E17,J$2<=$G17,WEEKDAY(J$2,2)<6,ISNA(VLOOKUP(J$2,Conf!$C$7:$C$19,1,FALSE))),$D17,"") | K17: =IF(AND(K$2>=$E17,K$2<=$G17,WEEKDAY(K$2,2)<6,ISNA(VLOOKUP(K$2,Conf!$C$7:$C$19,1,FALSE))),$D17,"") | L17: =IF(AND(L$2>=$E17,L$2<=$G17,WEEKDAY(L$2,2)<6,ISNA(VLOOKUP(L$2,Conf!$C$7:$C$19,1,FALSE))),$D17,"") | M17: =IF(AND(M$2>=$E17,M$2<=$G17,WEEKDAY(M$2,2)<6,ISNA(VLOOKUP(M$2,Conf!$C$7:$C$19,1,FALSE))),$D17,"") | N17: =IF(AND(N$2>=$E17,N$2<=$G17,WEEKDAY(N$2,2)<6,ISNA(VLOOKUP(N$2,Conf!$C$7:$C$19,1,FALSE))),$D17,"") | O17: =IF(AND(O$2>=$E17,O$2<=$G17,WEEKDAY(O$2,2)<6,ISNA(VLOOKUP(O$2,Conf!$C$7:$C$19,1,FALSE))),$D17,"") | ... AM17: =IF(AND(AM$2>=$E17,AM$2<=$G17,WEEKDAY(AM$2,2)<6,ISNA(VLOOKUP(AM$2,Conf!$C$7:$C$19,1,FALSE))),$D17,"")
B18: 12 | C18: Electricité | D18: 2 | E18: 43987 | F18: 4 | G18: =WORKDAY.INTL($E18,$F18-1,1,Conf!$C$7:$C$19) -> 43992 | H18: =IF(AND(H$2>=$E18,H$2<=$G18,WEEKDAY(H$2,2)<6,ISNA(VLOOKUP(H$2,Conf!$C$7:$C$19,1,FALSE))),$D18,"") | I18: =IF(AND(I$2>=$E18,I$2<=$G18,WEEKDAY(I$2,2)<6,ISNA(VLOOKUP(I$2,Conf!$C$7:$C$19,1,FALSE))),$D18,"") | J18: =IF(AND(J$2>=$E18,J$2<=$G18,WEEKDAY(J$2,2)<6,ISNA(VLOOKUP(J$2,Conf!$C$7:$C$19,1,FALSE))),$D18,"") | K18: =IF(AND(K$2>=$E18,K$2<=$G18,WEEKDAY(K$2,2)<6,ISNA(VLOOKUP(K$2,Conf!$C$7:$C$19,1,FALSE))),$D18,"") | L18: =IF(AND(L$2>=$E18,L$2<=$G18,WEEKDAY(L$2,2)<6,ISNA(VLOOKUP(L$2,Conf!$C$7:$C$19,1,FALSE))),$D18,"") | M18: =IF(AND(M$2>=$E18,M$2<=$G18,WEEKDAY(M$2,2)<6,ISNA(VLOOKUP(M$2,Conf!$C$7:$C$19,1,FALSE))),$D18,"") | N18: =IF(AND(N$2>=$E18,N$2<=$G18,WEEKDAY(N$2,2)<6,ISNA(VLOOKUP(N$2,Conf!$C$7:$C$19,1,FALSE))),$D18,"") | O18: =IF(AND(O$2>=$E18,O$2<=$G18,WEEKDAY(O$2,2)<6,ISNA(VLOOKUP(O$2,Conf!$C$7:$C$19,1,FALSE))),$D18,"") | ... AM18: =IF(AND(AM$2>=$E18,AM$2<=$G18,WEEKDAY(AM$2,2)<6,ISNA(VLOOKUP(AM$2,Conf!$C$7:$C$19,1,FALSE))),$D18,"")
... B24: 18 | C24: Cloture | D24: 2 | E24: 43970 | F24: 10 | G24: =WORKDAY.INTL($E24,$F24-1,1,Conf!$C$7:$C$19) -> 43985 | H24: =IF(AND(H$2>=$E24,H$2<=$G24,WEEKDAY(H$2,2)<6,ISNA(VLOOKUP(H$2,Conf!$C$7:$C$19,1,FALSE))),$D24,"") | I24: =IF(AND(I$2>=$E24,I$2<=$G24,WEEKDAY(I$2,2)<6,ISNA(VLOOKUP(I$2,Conf!$C$7:$C$19,1,FALSE))),$D24,"") | J24: =IF(AND(J$2>=$E24,J$2<=$G24,WEEKDAY(J$2,2)<6,ISNA(VLOOKUP(J$2,Conf!$C$7:$C$19,1,FALSE))),$D24,"") | K24: =IF(AND(K$2>=$E24,K$2<=$G24,WEEKDAY(K$2,2)<6,ISNA(VLOOKUP(K$2,Conf!$C$7:$C$19,1,FALSE))),$D24,"") | L24: =IF(AND(L$2>=$E24,L$2<=$G24,WEEKDAY(L$2,2)<6,ISNA(VLOOKUP(L$2,Conf!$C$7:$C$19,1,FALSE))),$D24,"") | M24: =IF(AND(M$2>=$E24,M$2<=$G24,WEEKDAY(M$2,2)<6,ISNA(VLOOKUP(M$2,Conf!$C$7:$C$19,1,FALSE))),$D24,"") | N24: =IF(AND(N$2>=$E24,N$2<=$G24,WEEKDAY(N$2,2)<6,ISNA(VLOOKUP(N$2,Conf!$C$7:$C$19,1,FALSE))),$D24,"") | O24: =IF(AND(O$2>=$E24,O$2<=$G24,WEEKDAY(O$2,2)<6,ISNA(VLOOKUP(O$2,Conf!$C$7:$C$19,1,FALSE))),$D24,"") | ... AM24: =IF(AND(AM$2>=$E24,AM$2<=$G24,WEEKDAY(AM$2,2)<6,ISNA(VLOOKUP(AM$2,Conf!$C$7:$C$19,1,FALSE))),$D24,"")
F25: Effectif quotidien | H25: =SUM(H7:H24) -> 1 | I25: =SUM(I7:I24) -> 1 | J25: =SUM(J7:J24) -> 2 | K25: =SUM(K7:K24) -> 5 | L25: =SUM(L7:L24) -> 5 | M25: =SUM(M7:M24) -> 0 | N25: =SUM(N7:N24) -> 0 | O25: =SUM(O7:O24) -> 5 | ... AM25: =SUM(AM7:AM24) -> 6
AM39: =IF(AND(AM$2>=$E7,AM$2<=$G7,WEEKDAY(AM$2,2)<6,ISNA(VLOOKUP(AM2,Conf!$C$7:$C$19,1,FALSE))),$D7,"")
AM40: =IF(AND(AM$2>=$E8,AM$2<=$G8,WEEKDAY(AM$2,2)<6,ISNA(VLOOKUP(AM3,Conf!$C$7:$C$19,1,FALSE))),$D8,"")
AM41: =IF(AND(AM$2>=$E9,AM$2<=$G9,WEEKDAY(AM$2,2)<6,ISNA(VLOOKUP(AM4,Conf!$C$7:$C$19,1,FALSE))),$D9,"")
AM42: =IF(AND(AM$2>=$E10,AM$2<=$G10,WEEKDAY(AM$2,2)<6,ISNA(VLOOKUP(AM5,Conf!$C$7:$C$19,1,FALSE))),$D10,"")
AM43: =IF(AND(AM$2>=$E11,AM$2<=$G11,WEEKDAY(AM$2,2)<6,ISNA(VLOOKUP(AM6,Conf!$C$7:$C$19,1,FALSE))),$D11,"")
AM44: =IF(AND(AM$2>=$E12,AM$2<=$G12,WEEKDAY(AM$2,2)<6,ISNA(VLOOKUP(AM7,Conf!$C$7:$C$19,1,FALSE))),$D12,"")
AM45: =IF(AND(AM$2>=$E13,AM$2<=$G13,WEEKDAY(AM$2,2)<6,ISNA(VLOOKUP(AM8,Conf!$C$7:$C$19,1,FALSE))),$D13,"")
AM46: =IF(AND(AM$2>=$E14,AM$2<=$G14,WEEKDAY(AM$2,2)<6,ISNA(VLOOKUP(AM9,Conf!$C$7:$C$19,1,FALSE))),$D14,"")
AM47: =IF(AND(AM$2>=$E15,AM$2<=$G15,WEEKDAY(AM$2,2)<6,ISNA(VLOOKUP(AM10,Conf!$C$7:$C$19,1,FALSE))),$D15,"")
AM48: =IF(AND(AM$2>=$E16,AM$2<=$G16,WEEKDAY(AM$2,2)<6,ISNA(VLOOKUP(AM11,Conf!$C$7:$C$19,1,FALSE))),$D16,"")
AM49: =IF(AND(AM$2>=$E17,AM$2<=$G17,WEEKDAY(AM$2,2)<6,ISNA(VLOOKUP(AM12,Conf!$C$7:$C$19,1,FALSE))),$D17,"")
AM50: =IF(AND(AM$2>=$E18,AM$2<=$G18,WEEKDAY(AM$2,2)<6,ISNA(VLOOKUP(AM13,Conf!$C$7:$C$19,1,FALSE))),$D18,"")
... AM56: =IF(AND(AM$2>=$E24,AM$2<=$G24,WEEKDAY(AM$2,2)<6,ISNA(VLOOKUP(AM19,Conf!$C$7:$C$19,1,FALSE))),$D24,"")
H57: =IF(AND(H$2>=$E25,H$2<=$G25,WEEKDAY(H$2,2)<6,ISNA(VLOOKUP(H20,Conf!$C$7:$C$19,1,FALSE))),$D25,"") | I57: =IF(AND(I$2>=$E25,I$2<=$G25,WEEKDAY(I$2,2)<6,ISNA(VLOOKUP(I20,Conf!$C$7:$C$19,1,FALSE))),$D25,"") | J57: =IF(AND(J$2>=$E25,J$2<=$G25,WEEKDAY(J$2,2)<6,ISNA(VLOOKUP(J20,Conf!$C$7:$C$19,1,FALSE))),$D25,"") | K57: =IF(AND(K$2>=$E25,K$2<=$G25,WEEKDAY(K$2,2)<6,ISNA(VLOOKUP(K20,Conf!$C$7:$C$19,1,FALSE))),$D25,"") | L57: =IF(AND(L$2>=$E25,L$2<=$G25,WEEKDAY(L$2,2)<6,ISNA(VLOOKUP(L20,Conf!$C$7:$C$19,1,FALSE))),$D25,"") | M57: =IF(AND(M$2>=$E25,M$2<=$G25,WEEKDAY(M$2,2)<6,ISNA(VLOOKUP(M20,Conf!$C$7:$C$19,1,FALSE))),$D25,"") | N57: =IF(AND(N$2>=$E25,N$2<=$G25,WEEKDAY(N$2,2)<6,ISNA(VLOOKUP(N20,Conf!$C$7:$C$19,1,FALSE))),$D25,"") | O57: =IF(AND(O$2>=$E25,O$2<=$G25,WEEKDAY(O$2,2)<6,ISNA(VLOOKUP(O20,Conf!$C$7:$C$19,1,FALSE))),$D25,"") | ... AM57: =IF(AND(AM$2>=$E25,AM$2<=$G25,WEEKDAY(AM$2,2)<6,ISNA(VLOOKUP(AM20,Conf!$C$7:$C$19,1,FALSE))),$D25,"")
H58: =IF(AND(H$2>=$E26,H$2<=$G26,WEEKDAY(H$2,2)<6,ISNA(VLOOKUP(H21,Conf!$C$7:$C$19,1,FALSE))),$D26,"") | I58: =IF(AND(I$2>=$E26,I$2<=$G26,WEEKDAY(I$2,2)<6,ISNA(VLOOKUP(I21,Conf!$C$7:$C$19,1,FALSE))),$D26,"") | J58: =IF(AND(J$2>=$E26,J$2<=$G26,WEEKDAY(J$2,2)<6,ISNA(VLOOKUP(J21,Conf!$C$7:$C$19,1,FALSE))),$D26,"") | K58: =IF(AND(K$2>=$E26,K$2<=$G26,WEEKDAY(K$2,2)<6,ISNA(VLOOKUP(K21,Conf!$C$7:$C$19,1,FALSE))),$D26,"") | L58: =IF(AND(L$2>=$E26,L$2<=$G26,WEEKDAY(L$2,2)<6,ISNA(VLOOKUP(L21,Conf!$C$7:$C$19,1,FALSE))),$D26,"") | M58: =IF(AND(M$2>=$E26,M$2<=$G26,WEEKDAY(M$2,2)<6,ISNA(VLOOKUP(M21,Conf!$C$7:$C$19,1,FALSE))),$D26,"") | N58: =IF(AND(N$2>=$E26,N$2<=$G26,WEEKDAY(N$2,2)<6,ISNA(VLOOKUP(N21,Conf!$C$7:$C$19,1,FALSE))),$D26,"") | O58: =IF(AND(O$2>=$E26,O$2<=$G26,WEEKDAY(O$2,2)<6,ISNA(VLOOKUP(O21,Conf!$C$7:$C$19,1,FALSE))),$D26,"") | ... AM58: =IF(AND(AM$2>=$E26,AM$2<=$G26,WEEKDAY(AM$2,2)<6,ISNA(VLOOKUP(AM21,Conf!$C$7:$C$19,1,FALSE))),$D26,"")

Sheet Planning2
J2: Zone de saise
J3: En retard …
J4: Réalisé
J5: A venir
C7: Année | D7: =An -> 2020
C8: Date début de chantier | D8: =+$E$15 -> 43962
C9: Aujourd'hui | D9: 43186
I11: GANTT | Y11: AUJOURD'HUI
J12: =TEXT(J$13,"jjj") -> lun | K12: =TEXT(K$13,"jjj") -> mar | L12: =TEXT(L$13,"jjj") -> mer | M12: =TEXT(M$13,"jjj") -> jeu | N12: =TEXT(N$13,"jjj") -> ven | O12: =TEXT(O$13,"jjj") -> sam | P12: =TEXT(P$13,"jjj") -> dim | Q12: =TEXT(Q$13,"jjj") -> lun | ... AO12: =TEXT(AO$13,"jjj") -> jeu
J13: =$E$15 -> 43962 | K13: =J$13+1 -> 43963 | L13: =K$13+1 -> 43964 | M13: =L$13+1 -> 43965 | N13: =M$13+1 -> 43966 | O13: =N$13+1 -> 43967 | P13: =O$13+1 -> 43968 | Q13: =P$13+1 -> 43969 | R13: =Q$13+1 -> 43970 | ... AO13: =AN$13+1 -> 43993
B14: N°: | C14: OPERATIONS | D14: EFFECTIF | E14: DEBUT | F14: DUREE (J) | G14: DATE DE FIN
B15: 1 | C15: Implantation de la maison | D15: 1 | E15: 43962 | F15: 2 | G15: =WORKDAY.INTL($E15,$F15-1,1,Conf!$C$7:$C$19) -> 43963 | J15: =IF(AND(J$13>=$E15,J$13<=$G15,WEEKDAY(J$13,2)<6,ISNA(VLOOKUP(J$13,Conf!$C$7:$C$19,1,FALSE))),$D15,"") -> 1 | K15: =IF(AND(K$13>=$E15,K$13<=$G15,WEEKDAY(K$13,2)<6,ISNA(VLOOKUP(K$13,Conf!$C$7:$C$19,1,FALSE))),$D15,"") -> 1 | L15: =IF(AND(L$13>=$E15,L$13<=$G15,WEEKDAY(L$13,2)<6,ISNA(VLOOKUP(L$13,Conf!$C$7:$C$19,1,FALSE))),$D15,"") | M15: =IF(AND(M$13>=$E15,M$13<=$G15,WEEKDAY(M$13,2)<6,ISNA(VLOOKUP(M$13,Conf!$C$7:$C$19,1,FALSE))),$D15,"") | N15: =IF(AND(N$13>=$E15,N$13<=$G15,WEEKDAY(N$13,2)<6,ISNA(VLOOKUP(N$13,Conf!$C$7:$C$19,1,FALSE))),$D15,"") | O15: =IF(AND(O$13>=$E15,O$13<=$G15,WEEKDAY(O$13,2)<6,ISNA(VLOOKUP(O$13,Conf!$C$7:$C$19,1,FALSE))),$D15,"") | P15: =IF(AND(P$13>=$E15,P$13<=$G15,WEEKDAY(P$13,2)<6,ISNA(VLOOKUP(P$13,Conf!$C$7:$C$19,1,FALSE))),$D15,"") | Q15: =IF(AND(Q$13>=$E15,Q$13<=$G15,WEEKDAY(Q$13,2)<6,ISNA(VLOOKUP(Q$13,Conf!$C$7:$C$19,1,FALSE))),$D15,"") | ... AO15: =IF(AND(AO$13>=$E15,AO$13<=$G15,WEEKDAY(AO$13,2)<6,ISNA(VLOOKUP(AO$13,Conf!$C$7:$C$19,1,FALSE))),$D15,"")
B16: 2 | C16: Assainissement | D16: 2 | E16: =DATE($D$7,5,13) -> 43964 | F16: 4 | G16: =WORKDAY.INTL($E16,$F16-1,1,Conf!$C$7:$C$19) -> 43969 | J16: =IF(AND(J$13>=$E16,J$13<=$G16,WEEKDAY(J$13,2)<6,ISNA(VLOOKUP(J$13,Conf!$C$7:$C$19,1,FALSE))),$D16,"") | K16: =IF(AND(K$13>=$E16,K$13<=$G16,WEEKDAY(K$13,2)<6,ISNA(VLOOKUP(K$13,Conf!$C$7:$C$19,1,FALSE))),$D16,"") | L16: =IF(AND(L$13>=$E16,L$13<=$G16,WEEKDAY(L$13,2)<6,ISNA(VLOOKUP(L$13,Conf!$C$7:$C$19,1,FALSE))),$D16,"") -> 2 | M16: =IF(AND(M$13>=$E16,M$13<=$G16,WEEKDAY(M$13,2)<6,ISNA(VLOOKUP(M$13,Conf!$C$7:$C$19,1,FALSE))),$D16,"") -> 2 | N16: =IF(AND(N$13>=$E16,N$13<=$G16,WEEKDAY(N$13,2)<6,ISNA(VLOOKUP(N$13,Conf!$C$7:$C$19,1,FALSE))),$D16,"") -> 2 | O16: =IF(AND(O$13>=$E16,O$13<=$G16,WEEKDAY(O$13,2)<6,ISNA(VLOOKUP(O$13,Conf!$C$7:$C$19,1,FALSE))),$D16,"") | P16: =IF(AND(P$13>=$E16,P$13<=$G16,WEEKDAY(P$13,2)<6,ISNA(VLOOKUP(P$13,Conf!$C$7:$C$19,1,FALSE))),$D16,"") | Q16: =IF(AND(Q$13>=$E16,Q$13<=$G16,WEEKDAY(Q$13,2)<6,ISNA(VLOOKUP(Q$13,Conf!$C$7:$C$19,1,FALSE))),$D16,"") -> 2 | ... AO16: =IF(AND(AO$13>=$E16,AO$13<=$G16,WEEKDAY(AO$13,2)<6,ISNA(VLOOKUP(AO$13,Conf!$C$7:$C$19,1,FALSE))),$D16,"")
B17: 3 | C17: Raccordement Eau, Elec, Gaz | D17: 3 | E17: =DATE($D$7,5,14) -> 43965 | F17: 2 | G17: =WORKDAY.INTL($E17,$F17-1,1,Conf!$C$7:$C$19) -> 43966 | J17: =IF(AND(J$13>=$E17,J$13<=$G17,WEEKDAY(J$13,2)<6,ISNA(VLOOKUP(J$13,Conf!$C$7:$C$19,1,FALSE))),$D17,"") | K17: =IF(AND(K$13>=$E17,K$13<=$G17,WEEKDAY(K$13,2)<6,ISNA(VLOOKUP(K$13,Conf!$C$7:$C$19,1,FALSE))),$D17,"") | L17: =IF(AND(L$13>=$E17,L$13<=$G17,WEEKDAY(L$13,2)<6,ISNA(VLOOKUP(L$13,Conf!$C$7:$C$19,1,FALSE))),$D17,"") | M17: =IF(AND(M$13>=$E17,M$13<=$G17,WEEKDAY(M$13,2)<6,ISNA(VLOOKUP(M$13,Conf!$C$7:$C$19,1,FALSE))),$D17,"") -> 3 | N17: =IF(AND(N$13>=$E17,N$13<=$G17,WEEKDAY(N$13,2)<6,ISNA(VLOOKUP(N$13,Conf!$C$7:$C$19,1,FALSE))),$D17,"") -> 3 | O17: =IF(AND(O$13>=$E17,O$13<=$G17,WEEKDAY(O$13,2)<6,ISNA(VLOOKUP(O$13,Conf!$C$7:$C$19,1,FALSE))),$D17,"") | P17: =IF(AND(P$13>=$E17,P$13<=$G17,WEEKDAY(P$13,2)<6,ISNA(VLOOKUP(P$13,Conf!$C$7:$C$19,1,FALSE))),$D17,"") | Q17: =IF(AND(Q$13>=$E17,Q$13<=$G17,WEEKDAY(Q$13,2)<6,ISNA(VLOOKUP(Q$13,Conf!$C$7:$C$19,1,FALSE))),$D17,"") | ... AO17: =IF(AND(AO$13>=$E17,AO$13<=$G17,WEEKDAY(AO$13,2)<6,ISNA(VLOOKUP(AO$13,Conf!$C$7:$C$19,1,FALSE))),$D17,"")
B18: 4 | C18: Fondations | D18: 3 | E18: =DATE($D$7,5,18) -> 43969 | F18: 1 | G18: =WORKDAY.INTL($E18,$F18-1,1,Conf!$C$7:$C$19) -> 43969 | J18: =IF(AND(J$13>=$E18,J$13<=$G18,WEEKDAY(J$13,2)<6,ISNA(VLOOKUP(J$13,Conf!$C$7:$C$19,1,FALSE))),$D18,"") | K18: =IF(AND(K$13>=$E18,K$13<=$G18,WEEKDAY(K$13,2)<6,ISNA(VLOOKUP(K$13,Conf!$C$7:$C$19,1,FALSE))),$D18,"") | L18: =IF(AND(L$13>=$E18,L$13<=$G18,WEEKDAY(L$13,2)<6,ISNA(VLOOKUP(L$13,Conf!$C$7:$C$19,1,FALSE))),$D18,"") | M18: =IF(AND(M$13>=$E18,M$13<=$G18,WEEKDAY(M$13,2)<6,ISNA(VLOOKUP(M$13,Conf!$C$7:$C$19,1,FALSE))),$D18,"") | N18: =IF(AND(N$13>=$E18,N$13<=$G18,WEEKDAY(N$13,2)<6,ISNA(VLOOKUP(N$13,Conf!$C$7:$C$19,1,FALSE))),$D18,"") | O18: =IF(AND(O$13>=$E18,O$13<=$G18,WEEKDAY(O$13,2)<6,ISNA(VLOOKUP(O$13,Conf!$C$7:$C$19,1,FALSE))),$D18,"") | P18: =IF(AND(P$13>=$E18,P$13<=$G18,WEEKDAY(P$13,2)<6,ISNA(VLOOKUP(P$13,Conf!$C$7:$C$19,1,FALSE))),$D18,"") | Q18: =IF(AND(Q$13>=$E18,Q$13<=$G18,WEEKDAY(Q$13,2)<6,ISNA(VLOOKUP(Q$13,Conf!$C$7:$C$19,1,FALSE))),$D18,"") -> 3 | ... AO18: =IF(AND(AO$13>=$E18,AO$13<=$G18,WEEKDAY(AO$13,2)<6,ISNA(VLOOKUP(AO$13,Conf!$C$7:$C$19,1,FALSE))),$D18,"")
B19: 5 | C19: Murs | D19: 8 | E19: =DATE($D$7,5,19) -> 43970 | F19: 3 | G19: =WORKDAY.INTL($E19,$F19-1,1,Conf!$C$7:$C$19) -> 43973 | J19: =IF(AND(J$13>=$E19,J$13<=$G19,WEEKDAY(J$13,2)<6,ISNA(VLOOKUP(J$13,Conf!$C$7:$C$19,1,FALSE))),$D19,"") | K19: =IF(AND(K$13>=$E19,K$13<=$G19,WEEKDAY(K$13,2)<6,ISNA(VLOOKUP(K$13,Conf!$C$7:$C$19,1,FALSE))),$D19,"") | L19: =IF(AND(L$13>=$E19,L$13<=$G19,WEEKDAY(L$13,2)<6,ISNA(VLOOKUP(L$13,Conf!$C$7:$C$19,1,FALSE))),$D19,"") | M19: =IF(AND(M$13>=$E19,M$13<=$G19,WEEKDAY(M$13,2)<6,ISNA(VLOOKUP(M$13,Conf!$C$7:$C$19,1,FALSE))),$D19,"") | N19: =IF(AND(N$13>=$E19,N$13<=$G19,WEEKDAY(N$13,2)<6,ISNA(VLOOKUP(N$13,Conf!$C$7:$C$19,1,FALSE))),$D19,"") | O19: =IF(AND(O$13>=$E19,O$13<=$G19,WEEKDAY(O$13,2)<6,ISNA(VLOOKUP(O$13,Conf!$C$7:$C$19,1,FALSE))),$D19,"") | P19: =IF(AND(P$13>=$E19,P$13<=$G19,WEEKDAY(P$13,2)<6,ISNA(VLOOKUP(P$13,Conf!$C$7:$C$19,1,FALSE))),$D19,"") | Q19: =IF(AND(Q$13>=$E19,Q$13<=$G19,WEEKDAY(Q$13,2)<6,ISNA(VLOOKUP(Q$13,Conf!$C$7:$C$19,1,FALSE))),$D19,"") | ... AO19: =IF(AND(AO$13>=$E19,AO$13<=$G19,WEEKDAY(AO$13,2)<6,ISNA(VLOOKUP(AO$13,Conf!$C$7:$C$19,1,FALSE))),$D19,"")
B20: 6 | C20: Charpente | D20: 4 | E20: =DATE($D$7,5,26) -> 43977 | F20: 2 | G20: =WORKDAY.INTL($E20,$F20-1,1,Conf!$C$7:$C$19) -> 43978 | J20: =IF(AND(J$13>=$E20,J$13<=$G20,WEEKDAY(J$13,2)<6,ISNA(VLOOKUP(J$13,Conf!$C$7:$C$19,1,FALSE))),$D20,"") | K20: =IF(AND(K$13>=$E20,K$13<=$G20,WEEKDAY(K$13,2)<6,ISNA(VLOOKUP(K$13,Conf!$C$7:$C$19,1,FALSE))),$D20,"") | L20: =IF(AND(L$13>=$E20,L$13<=$G20,WEEKDAY(L$13,2)<6,ISNA(VLOOKUP(L$13,Conf!$C$7:$C$19,1,FALSE))),$D20,"") | M20: =IF(AND(M$13>=$E20,M$13<=$G20,WEEKDAY(M$13,2)<6,ISNA(VLOOKUP(M$13,Conf!$C$7:$C$19,1,FALSE))),$D20,"") | N20: =IF(AND(N$13>=$E20,N$13<=$G20,WEEKDAY(N$13,2)<6,ISNA(VLOOKUP(N$13,Conf!$C$7:$C$19,1,FALSE))),$D20,"") | O20: =IF(AND(O$13>=$E20,O$13<=$G20,WEEKDAY(O$13,2)<6,ISNA(VLOOKUP(O$13,Conf!$C$7:$C$19,1,FALSE))),$D20,"") | P20: =IF(AND(P$13>=$E20,P$13<=$G20,WEEKDAY(P$13,2)<6,ISNA(VLOOKUP(P$13,Conf!$C$7:$C$19,1,FALSE))),$D20,"") | Q20: =IF(AND(Q$13>=$E20,Q$13<=$G20,WEEKDAY(Q$13,2)<6,ISNA(VLOOKUP(Q$13,Conf!$C$7:$C$19,1,FALSE))),$D20,"") | ... AO20: =IF(AND(AO$13>=$E20,AO$13<=$G20,WEEKDAY(AO$13,2)<6,ISNA(VLOOKUP(AO$13,Conf!$C$7:$C$19,1,FALSE))),$D20,"")
B21: 7 | C21: Couverture | D21: 3 | E21: =DATE($D$7,5,28) -> 43979 | F21: 2 | G21: =WORKDAY.INTL($E21,$F21-1,1,Conf!$C$7:$C$19) -> 43980 | J21: =IF(AND(J$13>=$E21,J$13<=$G21,WEEKDAY(J$13,2)<6,ISNA(VLOOKUP(J$13,Conf!$C$7:$C$19,1,FALSE))),$D21,"") | K21: =IF(AND(K$13>=$E21,K$13<=$G21,WEEKDAY(K$13,2)<6,ISNA(VLOOKUP(K$13,Conf!$C$7:$C$19,1,FALSE))),$D21,"") | L21: =IF(AND(L$13>=$E21,L$13<=$G21,WEEKDAY(L$13,2)<6,ISNA(VLOOKUP(L$13,Conf!$C$7:$C$19,1,FALSE))),$D21,"") | M21: =IF(AND(M$13>=$E21,M$13<=$G21,WEEKDAY(M$13,2)<6,ISNA(VLOOKUP(M$13,Conf!$C$7:$C$19,1,FALSE))),$D21,"") | N21: =IF(AND(N$13>=$E21,N$13<=$G21,WEEKDAY(N$13,2)<6,ISNA(VLOOKUP(N$13,Conf!$C$7:$C$19,1,FALSE))),$D21,"") | O21: =IF(AND(O$13>=$E21,O$13<=$G21,WEEKDAY(O$13,2)<6,ISNA(VLOOKUP(O$13,Conf!$C$7:$C$19,1,FALSE))),$D21,"") | P21: =IF(AND(P$13>=$E21,P$13<=$G21,WEEKDAY(P$13,2)<6,ISNA(VLOOKUP(P$13,Conf!$C$7:$C$19,1,FALSE))),$D21,"") | Q21: =IF(AND(Q$13>=$E21,Q$13<=$G21,WEEKDAY(Q$13,2)<6,ISNA(VLOOKUP(Q$13,Conf!$C$7:$C$19,1,FALSE))),$D21,"") | ... AO21: =IF(AND(AO$13>=$E21,AO$13<=$G21,WEEKDAY(AO$13,2)<6,ISNA(VLOOKUP(AO$13,Conf!$C$7:$C$19,1,FALSE))),$D21,"")
B22: 8 | C22: Menuiseries | D22: 4 | E22: =DATE($D$7,5,29) -> 43980 | F22: 2 | G22: =WORKDAY.INTL($E22,$F22-1,1,Conf!$C$7:$C$19) -> 43984 | J22: =IF(AND(J$13>=$E22,J$13<=$G22,WEEKDAY(J$13,2)<6,ISNA(VLOOKUP(J$13,Conf!$C$7:$C$19,1,FALSE))),$D22,"") | K22: =IF(AND(K$13>=$E22,K$13<=$G22,WEEKDAY(K$13,2)<6,ISNA(VLOOKUP(K$13,Conf!$C$7:$C$19,1,FALSE))),$D22,"") | L22: =IF(AND(L$13>=$E22,L$13<=$G22,WEEKDAY(L$13,2)<6,ISNA(VLOOKUP(L$13,Conf!$C$7:$C$19,1,FALSE))),$D22,"") | M22: =IF(AND(M$13>=$E22,M$13<=$G22,WEEKDAY(M$13,2)<6,ISNA(VLOOKUP(M$13,Conf!$C$7:$C$19,1,FALSE))),$D22,"") | N22: =IF(AND(N$13>=$E22,N$13<=$G22,WEEKDAY(N$13,2)<6,ISNA(VLOOKUP(N$13,Conf!$C$7:$C$19,1,FALSE))),$D22,"") | O22: =IF(AND(O$13>=$E22,O$13<=$G22,WEEKDAY(O$13,2)<6,ISNA(VLOOKUP(O$13,Conf!$C$7:$C$19,1,FALSE))),$D22,"") | P22: =IF(AND(P$13>=$E22,P$13<=$G22,WEEKDAY(P$13,2)<6,ISNA(VLOOKUP(P$13,Conf!$C$7:$C$19,1,FALSE))),$D22,"") | Q22: =IF(AND(Q$13>=$E22,Q$13<=$G22,WEEKDAY(Q$13,2)<6,ISNA(VLOOKUP(Q$13,Conf!$C$7:$C$19,1,FALSE))),$D22,"") | ... AO22: =IF(AND(AO$13>=$E22,AO$13<=$G22,WEEKDAY(AO$13,2)<6,ISNA(VLOOKUP(AO$13,Conf!$C$7:$C$19,1,FALSE))),$D22,"")
B23: 9 | C23: Isolation | D23: 8 | E23: =DATE($D$7,6,3) -> 43985 | F23: 1 | G23: =WORKDAY.INTL($E23,$F23-1,1,Conf!$C$7:$C$19) -> 43985 | J23: =IF(AND(J$13>=$E23,J$13<=$G23,WEEKDAY(J$13,2)<6,ISNA(VLOOKUP(J$13,Conf!$C$7:$C$19,1,FALSE))),$D23,"") | K23: =IF(AND(K$13>=$E23,K$13<=$G23,WEEKDAY(K$13,2)<6,ISNA(VLOOKUP(K$13,Conf!$C$7:$C$19,1,FALSE))),$D23,"") | L23: =IF(AND(L$13>=$E23,L$13<=$G23,WEEKDAY(L$13,2)<6,ISNA(VLOOKUP(L$13,Conf!$C$7:$C$19,1,FALSE))),$D23,"") | M23: =IF(AND(M$13>=$E23,M$13<=$G23,WEEKDAY(M$13,2)<6,ISNA(VLOOKUP(M$13,Conf!$C$7:$C$19,1,FALSE))),$D23,"") | N23: =IF(AND(N$13>=$E23,N$13<=$G23,WEEKDAY(N$13,2)<6,ISNA(VLOOKUP(N$13,Conf!$C$7:$C$19,1,FALSE))),$D23,"") | O23: =IF(AND(O$13>=$E23,O$13<=$G23,WEEKDAY(O$13,2)<6,ISNA(VLOOKUP(O$13,Conf!$C$7:$C$19,1,FALSE))),$D23,"") | P23: =IF(AND(P$13>=$E23,P$13<=$G23,WEEKDAY(P$13,2)<6,ISNA(VLOOKUP(P$13,Conf!$C$7:$C$19,1,FALSE))),$D23,"") | Q23: =IF(AND(Q$13>=$E23,Q$13<=$G23,WEEKDAY(Q$13,2)<6,ISNA(VLOOKUP(Q$13,Conf!$C$7:$C$19,1,FALSE))),$D23,"") | ... AO23: =IF(AND(AO$13>=$E23,AO$13<=$G23,WEEKDAY(AO$13,2)<6,ISNA(VLOOKUP(AO$13,Conf!$C$7:$C$19,1,FALSE))),$D23,"")
B24: 10 | C24: Cloisons / Plafonds | D24: 6 | E24: =DATE($D$7,6,4) -> 43986 | F24: 3 | G24: =WORKDAY.INTL($E24,$F24-1,1,Conf!$C$7:$C$19) -> 43990 | J24: =IF(AND(J$13>=$E24,J$13<=$G24,WEEKDAY(J$13,2)<6,ISNA(VLOOKUP(J$13,Conf!$C$7:$C$19,1,FALSE))),$D24,"") | K24: =IF(AND(K$13>=$E24,K$13<=$G24,WEEKDAY(K$13,2)<6,ISNA(VLOOKUP(K$13,Conf!$C$7:$C$19,1,FALSE))),$D24,"") | L24: =IF(AND(L$13>=$E24,L$13<=$G24,WEEKDAY(L$13,2)<6,ISNA(VLOOKUP(L$13,Conf!$C$7:$C$19,1,FALSE))),$D24,"") | M24: =IF(AND(M$13>=$E24,M$13<=$G24,WEEKDAY(M$13,2)<6,ISNA(VLOOKUP(M$13,Conf!$C$7:$C$19,1,FALSE))),$D24,"") | N24: =IF(AND(N$13>=$E24,N$13<=$G24,WEEKDAY(N$13,2)<6,ISNA(VLOOKUP(N$13,Conf!$C$7:$C$19,1,FALSE))),$D24,"") | O24: =IF(AND(O$13>=$E24,O$13<=$G24,WEEKDAY(O$13,2)<6,ISNA(VLOOKUP(O$13,Conf!$C$7:$C$19,1,FALSE))),$D24,"") | P24: =IF(AND(P$13>=$E24,P$13<=$G24,WEEKDAY(P$13,2)<6,ISNA(VLOOKUP(P$13,Conf!$C$7:$C$19,1,FALSE))),$D24,"") | Q24: =IF(AND(Q$13>=$E24,Q$13<=$G24,WEEKDAY(Q$13,2)<6,ISNA(VLOOKUP(Q$13,Conf!$C$7:$C$19,1,FALSE))),$D24,"") | ... AO24: =IF(AND(AO$13>=$E24,AO$13<=$G24,WEEKDAY(AO$13,2)<6,ISNA(VLOOKUP(AO$13,Conf!$C$7:$C$19,1,FALSE))),$D24,"")
B25: 11 | C25: Plomberie / Chauffage | D25: 1 | E25: =DATE($D$7,6,5) -> 43987 | F25: 2 | G25: =WORKDAY.INTL($E25,$F25-1,1,Conf!$C$7:$C$19) -> 43990 | J25: =IF(AND(J$13>=$E25,J$13<=$G25,WEEKDAY(J$13,2)<6,ISNA(VLOOKUP(J$13,Conf!$C$7:$C$19,1,FALSE))),$D25,"") | K25: =IF(AND(K$13>=$E25,K$13<=$G25,WEEKDAY(K$13,2)<6,ISNA(VLOOKUP(K$13,Conf!$C$7:$C$19,1,FALSE))),$D25,"") | L25: =IF(AND(L$13>=$E25,L$13<=$G25,WEEKDAY(L$13,2)<6,ISNA(VLOOKUP(L$13,Conf!$C$7:$C$19,1,FALSE))),$D25,"") | M25: =IF(AND(M$13>=$E25,M$13<=$G25,WEEKDAY(M$13,2)<6,ISNA(VLOOKUP(M$13,Conf!$C$7:$C$19,1,FALSE))),$D25,"") | N25: =IF(AND(N$13>=$E25,N$13<=$G25,WEEKDAY(N$13,2)<6,ISNA(VLOOKUP(N$13,Conf!$C$7:$C$19,1,FALSE))),$D25,"") | O25: =IF(AND(O$13>=$E25,O$13<=$G25,WEEKDAY(O$13,2)<6,ISNA(VLOOKUP(O$13,Conf!$C$7:$C$19,1,FALSE))),$D25,"") | P25: =IF(AND(P$13>=$E25,P$13<=$G25,WEEKDAY(P$13,2)<6,ISNA(VLOOKUP(P$13,Conf!$C$7:$C$19,1,FALSE))),$D25,"") | Q25: =IF(AND(Q$13>=$E25,Q$13<=$G25,WEEKDAY(Q$13,2)<6,ISNA(VLOOKUP(Q$13,Conf!$C$7:$C$19,1,FALSE))),$D25,"") | ... AO25: =IF(AND(AO$13>=$E25,AO$13<=$G25,WEEKDAY(AO$13,2)<6,ISNA(VLOOKUP(AO$13,Conf!$C$7:$C$19,1,FALSE))),$D25,"")
B26: 12 | C26: Electricité | D26: 2 | E26: =DATE($D$7,6,5) -> 43987 | F26: 4 | G26: =WORKDAY.INTL($E26,$F26-1,1,Conf!$C$7:$C$19) -> 43992 | J26: =IF(AND(J$13>=$E26,J$13<=$G26,WEEKDAY(J$13,2)<6,ISNA(VLOOKUP(J$13,Conf!$C$7:$C$19,1,FALSE))),$D26,"") | K26: =IF(AND(K$13>=$E26,K$13<=$G26,WEEKDAY(K$13,2)<6,ISNA(VLOOKUP(K$13,Conf!$C$7:$C$19,1,FALSE))),$D26,"") | L26: =IF(AND(L$13>=$E26,L$13<=$G26,WEEKDAY(L$13,2)<6,ISNA(VLOOKUP(L$13,Conf!$C$7:$C$19,1,FALSE))),$D26,"") | M26: =IF(AND(M$13>=$E26,M$13<=$G26,WEEKDAY(M$13,2)<6,ISNA(VLOOKUP(M$13,Conf!$C$7:$C$19,1,FALSE))),$D26,"") | N26: =IF(AND(N$13>=$E26,N$13<=$G26,WEEKDAY(N$13,2)<6,ISNA(VLOOKUP(N$13,Conf!$C$7:$C$19,1,FALSE))),$D26,"") | O26: =IF(AND(O$13>=$E26,O$13<=$G26,WEEKDAY(O$13,2)<6,ISNA(VLOOKUP(O$13,Conf!$C$7:$C$19,1,FALSE))),$D26,"") | P26: =IF(AND(P$13>=$E26,P$13<=$G26,WEEKDAY(P$13,2)<6,ISNA(VLOOKUP(P$13,Conf!$C$7:$C$19,1,FALSE))),$D26,"") | Q26: =IF(AND(Q$13>=$E26,Q$13<=$G26,WEEKDAY(Q$13,2)<6,ISNA(VLOOKUP(Q$13,Conf!$C$7:$C$19,1,FALSE))),$D26,"") | ... AO26: =IF(AND(AO$13>=$E26,AO$13<=$G26,WEEKDAY(AO$13,2)<6,ISNA(VLOOKUP(AO$13,Conf!$C$7:$C$19,1,FALSE))),$D26,"")
B27: 13 | C27: Domotique | D27: 1 | E27: =DATE($D$7,6,5) -> 43987 | F27: 3 | G27: =WORKDAY.INTL($E27,$F27-1,1,Conf!$C$7:$C$19) -> 43991 | J27: =IF(AND(J$13>=$E27,J$13<=$G27,WEEKDAY(J$13,2)<6,ISNA(VLOOKUP(J$13,Conf!$C$7:$C$19,1,FALSE))),$D27,"") | K27: =IF(AND(K$13>=$E27,K$13<=$G27,WEEKDAY(K$13,2)<6,ISNA(VLOOKUP(K$13,Conf!$C$7:$C$19,1,FALSE))),$D27,"") | L27: =IF(AND(L$13>=$E27,L$13<=$G27,WEEKDAY(L$13,2)<6,ISNA(VLOOKUP(L$13,Conf!$C$7:$C$19,1,FALSE))),$D27,"") | M27: =IF(AND(M$13>=$E27,M$13<=$G27,WEEKDAY(M$13,2)<6,ISNA(VLOOKUP(M$13,Conf!$C$7:$C$19,1,FALSE))),$D27,"") | N27: =IF(AND(N$13>=$E27,N$13<=$G27,WEEKDAY(N$13,2)<6,ISNA(VLOOKUP(N$13,Conf!$C$7:$C$19,1,FALSE))),$D27,"") | O27: =IF(AND(O$13>=$E27,O$13<=$G27,WEEKDAY(O$13,2)<6,ISNA(VLOOKUP(O$13,Conf!$C$7:$C$19,1,FALSE))),$D27,"") | P27: =IF(AND(P$13>=$E27,P$13<=$G27,WEEKDAY(P$13,2)<6,ISNA(VLOOKUP(P$13,Conf!$C$7:$C$19,1,FALSE))),$D27,"") | Q27: =IF(AND(Q$13>=$E27,Q$13<=$G27,WEEKDAY(Q$13,2)<6,ISNA(VLOOKUP(Q$13,Conf!$C$7:$C$19,1,FALSE))),$D27,"") | ... AO27: =IF(AND(AO$13>=$E27,AO$13<=$G27,WEEKDAY(AO$13,2)<6,ISNA(VLOOKUP(AO$13,Conf!$C$7:$C$19,1,FALSE))),$D27,"")
B28: 14 | C28: Peintures | D28: 3 | E28: =DATE($D$7,6,3) -> 43985 | F28: 2 | G28: =WORKDAY.INTL($E28,$F28-1,1,Conf!$C$7:$C$19) -> 43986 | J28: =IF(AND(J$13>=$E28,J$13<=$G28,WEEKDAY(J$13,2)<6,ISNA(VLOOKUP(J$13,Conf!$C$7:$C$19,1,FALSE))),$D28,"") | K28: =IF(AND(K$13>=$E28,K$13<=$G28,WEEKDAY(K$13,2)<6,ISNA(VLOOKUP(K$13,Conf!$C$7:$C$19,1,FALSE))),$D28,"") | L28: =IF(AND(L$13>=$E28,L$13<=$G28,WEEKDAY(L$13,2)<6,ISNA(VLOOKUP(L$13,Conf!$C$7:$C$19,1,FALSE))),$D28,"") | M28: =IF(AND(M$13>=$E28,M$13<=$G28,WEEKDAY(M$13,2)<6,ISNA(VLOOKUP(M$13,Conf!$C$7:$C$19,1,FALSE))),$D28,"") | N28: =IF(AND(N$13>=$E28,N$13<=$G28,WEEKDAY(N$13,2)<6,ISNA(VLOOKUP(N$13,Conf!$C$7:$C$19,1,FALSE))),$D28,"") | O28: =IF(AND(O$13>=$E28,O$13<=$G28,WEEKDAY(O$13,2)<6,ISNA(VLOOKUP(O$13,Conf!$C$7:$C$19,1,FALSE))),$D28,"") | P28: =IF(AND(P$13>=$E28,P$13<=$G28,WEEKDAY(P$13,2)<6,ISNA(VLOOKUP(P$13,Conf!$C$7:$C$19,1,FALSE))),$D28,"") | Q28: =IF(AND(Q$13>=$E28,Q$13<=$G28,WEEKDAY(Q$13,2)<6,ISNA(VLOOKUP(Q$13,Conf!$C$7:$C$19,1,FALSE))),$D28,"") | ... AO28: =IF(AND(AO$13>=$E28,AO$13<=$G28,WEEKDAY(AO$13,2)<6,ISNA(VLOOKUP(AO$13,Conf!$C$7:$C$19,1,FALSE))),$D28,"")
B29: 15 | C29: Revetement sol | D29: 4 | E29: =DATE($D$7,6,5) -> 43987 | F29: 4 | G29: =WORKDAY.INTL($E29,$F29-1,1,Conf!$C$7:$C$19) -> 43992 | J29: =IF(AND(J$13>=$E29,J$13<=$G29,WEEKDAY(J$13,2)<6,ISNA(VLOOKUP(J$13,Conf!$C$7:$C$19,1,FALSE))),$D29,"") | K29: =IF(AND(K$13>=$E29,K$13<=$G29,WEEKDAY(K$13,2)<6,ISNA(VLOOKUP(K$13,Conf!$C$7:$C$19,1,FALSE))),$D29,"") | L29: =IF(AND(L$13>=$E29,L$13<=$G29,WEEKDAY(L$13,2)<6,ISNA(VLOOKUP(L$13,Conf!$C$7:$C$19,1,FALSE))),$D29,"") | M29: =IF(AND(M$13>=$E29,M$13<=$G29,WEEKDAY(M$13,2)<6,ISNA(VLOOKUP(M$13,Conf!$C$7:$C$19,1,FALSE))),$D29,"") | N29: =IF(AND(N$13>=$E29,N$13<=$G29,WEEKDAY(N$13,2)<6,ISNA(VLOOKUP(N$13,Conf!$C$7:$C$19,1,FALSE))),$D29,"") | O29: =IF(AND(O$13>=$E29,O$13<=$G29,WEEKDAY(O$13,2)<6,ISNA(VLOOKUP(O$13,Conf!$C$7:$C$19,1,FALSE))),$D29,"") | P29: =IF(AND(P$13>=$E29,P$13<=$G29,WEEKDAY(P$13,2)<6,ISNA(VLOOKUP(P$13,Conf!$C$7:$C$19,1,FALSE))),$D29,"") | Q29: =IF(AND(Q$13>=$E29,Q$13<=$G29,WEEKDAY(Q$13,2)<6,ISNA(VLOOKUP(Q$13,Conf!$C$7:$C$19,1,FALSE))),$D29,"") | ... AO29: =IF(AND(AO$13>=$E29,AO$13<=$G29,WEEKDAY(AO$13,2)<6,ISNA(VLOOKUP(AO$13,Conf!$C$7:$C$19,1,FALSE))),$D29,"")
B30: 16 | C30: revetement extérieur | D30: 5 | E30: =DATE($D$7,6,3) -> 43985 | F30: 3 | G30: =WORKDAY.INTL($E30,$F30-1,1,Conf!$C$7:$C$19) -> 43987 | J30: =IF(AND(J$13>=$E30,J$13<=$G30,WEEKDAY(J$13,2)<6,ISNA(VLOOKUP(J$13,Conf!$C$7:$C$19,1,FALSE))),$D30,"") | K30: =IF(AND(K$13>=$E30,K$13<=$G30,WEEKDAY(K$13,2)<6,ISNA(VLOOKUP(K$13,Conf!$C$7:$C$19,1,FALSE))),$D30,"") | L30: =IF(AND(L$13>=$E30,L$13<=$G30,WEEKDAY(L$13,2)<6,ISNA(VLOOKUP(L$13,Conf!$C$7:$C$19,1,FALSE))),$D30,"") | M30: =IF(AND(M$13>=$E30,M$13<=$G30,WEEKDAY(M$13,2)<6,ISNA(VLOOKUP(M$13,Conf!$C$7:$C$19,1,FALSE))),$D30,"") | N30: =IF(AND(N$13>=$E30,N$13<=$G30,WEEKDAY(N$13,2)<6,ISNA(VLOOKUP(N$13,Conf!$C$7:$C$19,1,FALSE))),$D30,"") | O30: =IF(AND(O$13>=$E30,O$13<=$G30,WEEKDAY(O$13,2)<6,ISNA(VLOOKUP(O$13,Conf!$C$7:$C$19,1,FALSE))),$D30,"") | P30: =IF(AND(P$13>=$E30,P$13<=$G30,WEEKDAY(P$13,2)<6,ISNA(VLOOKUP(P$13,Conf!$C$7:$C$19,1,FALSE))),$D30,"") | Q30: =IF(AND(Q$13>=$E30,Q$13<=$G30,WEEKDAY(Q$13,2)<6,ISNA(VLOOKUP(Q$13,Conf!$C$7:$C$19,1,FALSE))),$D30,"") | ... AO30: =IF(AND(AO$13>=$E30,AO$13<=$G30,WEEKDAY(AO$13,2)<6,ISNA(VLOOKUP(AO$13,Conf!$C$7:$C$19,1,FALSE))),$D30,"")
B31: 17 | C31: Aménagement extérieur | D31: 6 | E31: =DATE($D$7,6,9) -> 43991 | F31: 3 | G31: =WORKDAY.INTL($E31,$F31-1,1,Conf!$C$7:$C$19) -> 43993 | J31: =IF(AND(J$13>=$E31,J$13<=$G31,WEEKDAY(J$13,2)<6,ISNA(VLOOKUP(J$13,Conf!$C$7:$C$19,1,FALSE))),$D31,"") | K31: =IF(AND(K$13>=$E31,K$13<=$G31,WEEKDAY(K$13,2)<6,ISNA(VLOOKUP(K$13,Conf!$C$7:$C$19,1,FALSE))),$D31,"") | L31: =IF(AND(L$13>=$E31,L$13<=$G31,WEEKDAY(L$13,2)<6,ISNA(VLOOKUP(L$13,Conf!$C$7:$C$19,1,FALSE))),$D31,"") | M31: =IF(AND(M$13>=$E31,M$13<=$G31,WEEKDAY(M$13,2)<6,ISNA(VLOOKUP(M$13,Conf!$C$7:$C$19,1,FALSE))),$D31,"") | N31: =IF(AND(N$13>=$E31,N$13<=$G31,WEEKDAY(N$13,2)<6,ISNA(VLOOKUP(N$13,Conf!$C$7:$C$19,1,FALSE))),$D31,"") | O31: =IF(AND(O$13>=$E31,O$13<=$G31,WEEKDAY(O$13,2)<6,ISNA(VLOOKUP(O$13,Conf!$C$7:$C$19,1,FALSE))),$D31,"") | P31: =IF(AND(P$13>=$E31,P$13<=$G31,WEEKDAY(P$13,2)<6,ISNA(VLOOKUP(P$13,Conf!$C$7:$C$19,1,FALSE))),$D31,"") | Q31: =IF(AND(Q$13>=$E31,Q$13<=$G31,WEEKDAY(Q$13,2)<6,ISNA(VLOOKUP(Q$13,Conf!$C$7:$C$19,1,FALSE))),$D31,"") | ... AO31: =IF(AND(AO$13>=$E31,AO$13<=$G31,WEEKDAY(AO$13,2)<6,ISNA(VLOOKUP(AO$13,Conf!$C$7:$C$19,1,FALSE))),$D31,"") -> 6
B32: 18 | C32: Cloture | D32: 2 | E32: =DATE($D$7,5,19) -> 43970 | F32: 10 | G32: =WORKDAY.INTL($E32,$F32-1,1,Conf!$C$7:$C$19) -> 43985 | J32: =IF(AND(J$13>=$E32,J$13<=$G32,WEEKDAY(J$13,2)<6,ISNA(VLOOKUP(J$13,Conf!$C$7:$C$19,1,FALSE))),$D32,"") | K32: =IF(AND(K$13>=$E32,K$13<=$G32,WEEKDAY(K$13,2)<6,ISNA(VLOOKUP(K$13,Conf!$C$7:$C$19,1,FALSE))),$D32,"") | L32: =IF(AND(L$13>=$E32,L$13<=$G32,WEEKDAY(L$13,2)<6,ISNA(VLOOKUP(L$13,Conf!$C$7:$C$19,1,FALSE))),$D32,"") | M32: =IF(AND(M$13>=$E32,M$13<=$G32,WEEKDAY(M$13,2)<6,ISNA(VLOOKUP(M$13,Conf!$C$7:$C$19,1,FALSE))),$D32,"") | N32: =IF(AND(N$13>=$E32,N$13<=$G32,WEEKDAY(N$13,2)<6,ISNA(VLOOKUP(N$13,Conf!$C$7:$C$19,1,FALSE))),$D32,"") | O32: =IF(AND(O$13>=$E32,O$13<=$G32,WEEKDAY(O$13,2)<6,ISNA(VLOOKUP(O$13,Conf!$C$7:$C$19,1,FALSE))),$D32,"") | P32: =IF(AND(P$13>=$E32,P$13<=$G32,WEEKDAY(P$13,2)<6,ISNA(VLOOKUP(P$13,Conf!$C$7:$C$19,1,FALSE))),$D32,"") | Q32: =IF(AND(Q$13>=$E32,Q$13<=$G32,WEEKDAY(Q$13,2)<6,ISNA(VLOOKUP(Q$13,Conf!$C$7:$C$19,1,FALSE))),$D32,"") | ... AO32: =IF(AND(AO$13>=$E32,AO$13<=$G32,WEEKDAY(AO$13,2)<6,ISNA(VLOOKUP(AO$13,Conf!$C$7:$C$19,1,FALSE))),$D32,"")
F33: Effectif quotidien | I33: Total | J33: =SUM(J15:J32) -> 1 | K33: =SUM(K15:K32) -> 1 | L33: =SUM(L15:L32) -> 2 | M33: =SUM(M15:M32) -> 5 | N33: =SUM(N15:N32) -> 5 | O33: =SUM(O15:O32) -> 0 | P33: =SUM(P15:P32) -> 0 | Q33: =SUM(Q15:Q32) -> 5 | ... AO33: =SUM(AO15:AO32) -> 6
