Workbook
Name An: [1]Feuil1!$C$2
Name Années_disponibles: [2]Liste.F!$A$2:$A$15
Name AouDim1: #N/A
Name AvrDim1: #N/A
Name DécDim1: #N/A
Name FévDim1: #N/A
Name JanDim1: #N/A
Name JulDim1: #N/A
Name JunDim1: #N/A
Name MaiDim1: #N/A
Name MarDim1: #N/A
Name NovDim1: #N/A
Name OctDim1: #N/A
Name SepDim1: #N/A
Name Vacances: [3]!Tableau17[#Data]

Sheet Feuil4
A1: =IF(Feuil1!C2<>"",UPPER(TEXT(DATE(Feuil1!C2,1,1),"mmmm")),"") -> JANVIER | G1: =IF(Feuil1!C2<>"",UPPER(TEXT(DATE(Feuil1!C2,2,1),"mmmm")),"") -> FÉVRIER | M1: =IF(Feuil1!C2<>"",UPPER(TEXT(DATE(Feuil1!C2,3,1),"mmmm")),"") -> MARS | S1: =IF(Feuil1!C2<>"",UPPER(TEXT(DATE(Feuil1!C2,4,1),"mmmm")),"") -> AVRIL | Y1: =IF(Feuil1!C2<>"",UPPER(TEXT(DATE(Feuil1!C2,5,1),"mmmm")),"") -> MAI | AE1: =IF(Feuil1!C2<>"",UPPER(TEXT(DATE(Feuil1!C2,6,1),"mmmm")),"") -> JUIN | AK1: =IF(Feuil1!C2<>"",UPPER(TEXT(DATE(Feuil1!C2,7,1),"mmmm")),"") -> JUILLET | AQ1: =IF(Feuil1!C2<>"",UPPER(TEXT(DATE(Feuil1!C2,8,1),"mmmm")),"") -> AOÛT | AW1: =IF(Feuil1!C2<>"",UPPER(TEXT(DATE(Feuil1!C2,9,1),"mmmm")),"") -> SEPTEMBRE | BC1: =IF(Feuil1!C2<>"",UPPER(TEXT(DATE(Feuil1!C2,10,1),"mmmm")),"") -> OCTOBRE | BI1: =IF(Feuil1!C2<>"",UPPER(TEXT(DATE(Feuil1!C2,11,1),"mmmm")),"") -> NOVEMBRE | BO1: =IF(Feuil1!C2<>"",UPPER(TEXT(DATE(Feuil1!C2,12,1),"mmmm")),"") -> DÉCEMBRE
A2: =DATE(Feuil1!C2,1,1) -> 43831 | B2: =UPPER(TEXT($A2,"jjjj")) -> MERCREDI | C2: Ste Marie | D2: =IF(WEEKDAY($A2,2)<>1,"",_xlfn.ISOWEEKNUM($A2)) | E2: lune | F2: Animations | G2: =DATE(Feuil1!C2,2,1) -> 43862 | H2: =UPPER(TEXT($G2,"jjjj")) -> SAMEDI | I2: Ste Ella | J2: =IF(WEEKDAY($G2,2)<>1,"",_xlfn.ISOWEEKNUM($G2)) | M2: =DATE(Feuil1!C2,3,1) -> 43891 | N2: =UPPER(TEXT($M2,"jjjj")) -> DIMANCHE | O2: St Aubin | P2: =IF(WEEKDAY($M2,2)<>1,"",_xlfn.ISOWEEKNUM($M2)) | S2: =DATE(Feuil1!C2,4,1) -> 43922 | T2: =UPPER(TEXT($S2,"jjjj")) -> MERCREDI | U2: St Hugues | V2: =IF(WEEKDAY($S2,2)<>1,"",_xlfn.ISOWEEKNUM($S2)) | Y2: =DATE(Feuil1!C2,5,1) -> 43952 | Z2: =UPPER(TEXT($Y2,"jjjj")) -> VENDREDI | AA2: St Jérémy | AB2: =IF(WEEKDAY($Y2,2)<>1,"",_xlfn.ISOWEEKNUM($Y2)) | AE2: =DATE(Feuil1!C2,6,1) -> 43983 | AF2: =UPPER(TEXT($AE2,"jjjj")) -> LUNDI | AG2: St Justin | AH2: =IF(WEEKDAY($AE2,2)<>1,"",_xlfn.ISOWEEKNUM($AE2)) -> 23 | AK2: =DATE(Feuil1!C2,7,1) -> 44013 | AL2: =UPPER(TEXT(AK2,"jjjj")) -> MERCREDI | AM2: St Thierry | AN2: =IF(WEEKDAY($AK2,2)<>1,"",_xlfn.ISOWEEKNUM($AK2)) | AQ2: =DATE(Feuil1!C2,8,1) -> 44044 | AR2: =UPPER(TEXT($AQ2,"jjjj")) -> SAMEDI | AS2: St Alphonse | AT2: =IF(WEEKDAY($AQ2,2)<>1,"",_xlfn.ISOWEEKNUM($AQ2)) | AW2: =DATE(Feuil1!C2,9,1) -> 44075 | AX2: =UPPER(TEXT($AW2,"jjjj")) -> MARDI | AY2: St Gilles | AZ2: =IF(WEEKDAY($AW2,2)<>1,"",_xlfn.ISOWEEKNUM($AW2)) | BC2: =DATE(Feuil1!C2,10,1) -> 44105 | BD2: =UPPER(TEXT($BC2,"jjjj")) -> JEUDI | BE2: Ste Thérèse de l' E.J. | BF2: =IF(WEEKDAY($BC2,2)<>1,"",_xlfn.ISOWEEKNUM($BC2)) | BI2: =DATE(Feuil1!C2,11,1) -> 44136 | BJ2: =UPPER(TEXT($BI2,"jjjj")) -> DIMANCHE | BK2: Toussaint | BL2: =IF(WEEKDAY($BI2,2)<>1,"",_xlfn.ISOWEEKNUM($BI2)) | BO2: =DATE(Feuil1!C2,12,1) -> 44166 | BP2: =UPPER(TEXT($BO2,"jjjj")) -> MARDI | BQ2: Ste Florence | BR2: =IF(WEEKDAY($BO2,2)<>1,"",_xlfn.ISOWEEKNUM($BO2))
A3: =IF(EOMONTH($A2,0)>$A2,$A2+1,"") -> 43832 | B3: =UPPER(TEXT($A3,"jjjj")) -> JEUDI | C3: St Basile | D3: =IF(WEEKDAY($A3,2)<>1,"",_xlfn.ISOWEEKNUM($A3)) | G3: =IF(EOMONTH($G2,0)>$G2,$G2+1,"") -> 43863 | H3: =UPPER(TEXT($G3,"jjjj")) -> DIMANCHE | I3: Ste Theophanie | J3: =IF(WEEKDAY($G3,2)<>1,"",_xlfn.ISOWEEKNUM($G3)) | M3: =IF(EOMONTH($M2,0)>$M2,$M2+1,"") -> 43892 | N3: =UPPER(TEXT($M3,"jjjj")) -> LUNDI | O3: St Charles le Bon | P3: =IF(WEEKDAY($M3,2)<>1,"",_xlfn.ISOWEEKNUM($M3)) -> 10 | S3: =IF(EOMONTH($S2,0)>$S2,$S2+1,"") -> 43923 | T3: =UPPER(TEXT($S3,"jjjj")) -> JEUDI | U3: Ste Sandrine | V3: =IF(WEEKDAY($S3,2)<>1,"",_xlfn.ISOWEEKNUM($S3)) | Y3: =IF(EOMONTH($Y2,0)>$Y2,$Y2+1,"") -> 43953 | Z3: =UPPER(TEXT($Y3,"jjjj")) -> SAMEDI | AA3: St Boris | AB3: =IF(WEEKDAY($Y3,2)<>1,"",_xlfn.ISOWEEKNUM($Y3)) | AE3: =IF(EOMONTH($AE2,0)>$AE2,$AE2+1,"") -> 43984 | AF3: =UPPER(TEXT($AE3,"jjjj")) -> MARDI | AG3: St Blandine | AH3: =IF(WEEKDAY($AE3,2)<>1,"",_xlfn.ISOWEEKNUM($AE3)) | AK3: =IF(EOMONTH($AK2,0)>$AK2,$AK2+1,"") -> 44014 | AL3: =UPPER(TEXT(AK3,"jjjj")) -> JEUDI | AM3: St Martinien | AN3: =IF(WEEKDAY($AK3,2)<>1,"",_xlfn.ISOWEEKNUM($AK3)) | AQ3: =IF(EOMONTH($AQ2,0)>$AQ2,$AQ2+1,"") -> 44045 | AR3: =UPPER(TEXT($AQ3,"jjjj")) -> DIMANCHE | AS3: St Julien | AT3: =IF(WEEKDAY($AQ3,2)<>1,"",_xlfn.ISOWEEKNUM($AQ3)) | AW3: =IF(EOMONTH($AW2,0)>$AW2,$AW2+1,"") -> 44076 | AX3: =UPPER(TEXT($AW3,"jjjj")) -> MERCREDI | AY3: Ste Ingrid | AZ3: =IF(WEEKDAY($AW3,2)<>1,"",_xlfn.ISOWEEKNUM($AW3)) | BC3: =IF(EOMONTH($BC2,0)>$BC2,$BC2+1,"") -> 44106 | BD3: =UPPER(TEXT($BC3,"jjjj")) -> VENDREDI | BE3: St Léger | BF3: =IF(WEEKDAY($BC3,2)<>1,"",_xlfn.ISOWEEKNUM($BC3)) | BI3: =IF(EOMONTH($BI2,0)>$BI2,$BI2+1,"") -> 44137 | BJ3: =UPPER(TEXT($BI3,"jjjj")) -> LUNDI | BK3: St Défunt | BL3: =IF(WEEKDAY($BI3,2)<>1,"",_xlfn.ISOWEEKNUM($BI3)) -> 45 | BO3: =IF(EOMONTH($BO2,0)>$BO2,$BO2+1,"") -> 44167 | BP3: =UPPER(TEXT($BO3,"jjjj")) -> MERCREDI | BQ3: Ste Viviane | BR3: =IF(WEEKDAY($BO3,2)<>1,"",_xlfn.ISOWEEKNUM($BO3))
A4: =IF(EOMONTH($A3,0)>$A3,$A3+1,"") -> 43833 | B4: =UPPER(TEXT($A4,"jjjj")) -> VENDREDI | C4: Ste Geneviève | D4: =IF(WEEKDAY($A4,2)<>1,"",_xlfn.ISOWEEKNUM($A4)) | G4: =IF(EOMONTH($G3,0)>$G3,$G3+1,"") -> 43864 | H4: =UPPER(TEXT($G4,"jjjj")) -> LUNDI | I4: St Blaise | J4: =IF(WEEKDAY($G4,2)<>1,"",_xlfn.ISOWEEKNUM($G4)) -> 6 | M4: =IF(EOMONTH($M3,0)>$M3,$M3+1,"") -> 43893 | N4: =UPPER(TEXT($M4,"jjjj")) -> MARDI | O4: St Guénolé | P4: =IF(WEEKDAY($M4,2)<>1,"",_xlfn.ISOWEEKNUM($M4)) | S4: =IF(EOMONTH($S3,0)>$S3,$S3+1,"") -> 43924 | T4: =UPPER(TEXT($S4,"jjjj")) -> VENDREDI | U4: St Richard | V4: =IF(WEEKDAY($S4,2)<>1,"",_xlfn.ISOWEEKNUM($S4)) | Y4: =IF(EOMONTH($Y3,0)>$Y3,$Y3+1,"") -> 43954 | Z4: =UPPER(TEXT($Y4,"jjjj")) -> DIMANCHE | AA4: St Philippe/Jacques | AB4: =IF(WEEKDAY($Y4,2)<>1,"",_xlfn.ISOWEEKNUM($Y4)) | AE4: =IF(EOMONTH($AE3,0)>$AE3,$AE3+1,"") -> 43985 | AF4: =UPPER(TEXT($AE4,"jjjj")) -> MERCREDI | AG4: St Kévin | AH4: =IF(WEEKDAY($AE4,2)<>1,"",_xlfn.ISOWEEKNUM($AE4)) | AK4: =IF(EOMONTH($AK3,0)>$AK3,$AK3+1,"") -> 44015 | AL4: =UPPER(TEXT(AK4,"jjjj")) -> VENDREDI | AM4: St Thomas | AN4: =IF(WEEKDAY($AK4,2)<>1,"",_xlfn.ISOWEEKNUM($AK4)) | AQ4: =IF(EOMONTH($AQ3,0)>$AQ3,$AQ3+1,"") -> 44046 | AR4: =UPPER(TEXT($AQ4,"jjjj")) -> LUNDI | AS4: Ste Lydie | AT4: =IF(WEEKDAY($AQ4,2)<>1,"",_xlfn.ISOWEEKNUM($AQ4)) -> 32 | AW4: =IF(EOMONTH($AW3,0)>$AW3,$AW3+1,"") -> 44077 | AX4: =UPPER(TEXT($AW4,"jjjj")) -> JEUDI | AY4: St Grégoire | AZ4: =IF(WEEKDAY($AW4,2)<>1,"",_xlfn.ISOWEEKNUM($AW4)) | BC4: =IF(EOMONTH($BC3,0)>$BC3,$BC3+1,"") -> 44107 | BD4: =UPPER(TEXT($BC4,"jjjj")) -> SAMEDI | BE4: St Gérard | BF4: =IF(WEEKDAY($BC4,2)<>1,"",_xlfn.ISOWEEKNUM($BC4)) | BI4: =IF(EOMONTH($BI3,0)>$BI3,$BI3+1,"") -> 44138 | BJ4: =UPPER(TEXT($BI4,"jjjj")) -> MARDI | BK4: St Hubert | BL4: =IF(WEEKDAY($BI4,2)<>1,"",_xlfn.ISOWEEKNUM($BI4)) | BO4: =IF(EOMONTH($BO3,0)>$BO3,$BO3+1,"") -> 44168 | BP4: =UPPER(TEXT($BO4,"jjjj")) -> JEUDI | BQ4: St Xavier | BR4: =IF(WEEKDAY($BO4,2)<>1,"",_xlfn.ISOWEEKNUM($BO4))
A5: =IF(EOMONTH($A4,0)>$A4,$A4+1,"") -> 43834 | B5: =UPPER(TEXT($A5,"jjjj")) -> SAMEDI | C5: St Odilon | D5: =IF(WEEKDAY($A5,2)<>1,"",_xlfn.ISOWEEKNUM($A5)) | G5: =IF(EOMONTH($G4,0)>$G4,$G4+1,"") -> 43865 | H5: =UPPER(TEXT($G5,"jjjj")) -> MARDI | I5: Ste Véronique | J5: =IF(WEEKDAY($G5,2)<>1,"",_xlfn.ISOWEEKNUM($G5)) | M5: =IF(EOMONTH($M4,0)>$M4,$M4+1,"") -> 43894 | N5: =UPPER(TEXT($M5,"jjjj")) -> MERCREDI | O5: St Casimir | P5: =IF(WEEKDAY($M5,2)<>1,"",_xlfn.ISOWEEKNUM($M5)) | S5: =IF(EOMONTH($S4,0)>$S4,$S4+1,"") -> 43925 | T5: =UPPER(TEXT($S5,"jjjj")) -> SAMEDI | U5: St Isidore | V5: =IF(WEEKDAY($S5,2)<>1,"",_xlfn.ISOWEEKNUM($S5)) | Y5: =IF(EOMONTH($Y4,0)>$Y4,$Y4+1,"") -> 43955 | Z5: =UPPER(TEXT($Y5,"jjjj")) -> LUNDI | AA5: St Sylvain | AB5: =IF(WEEKDAY($Y5,2)<>1,"",_xlfn.ISOWEEKNUM($Y5)) -> 19 | AE5: =IF(EOMONTH($AE4,0)>$AE4,$AE4+1,"") -> 43986 | AF5: =UPPER(TEXT($AE5,"jjjj")) -> JEUDI | AG5: Ste Clotilde | AH5: =IF(WEEKDAY($AE5,2)<>1,"",_xlfn.ISOWEEKNUM($AE5)) | AK5: =IF(EOMONTH($AK4,0)>$AK4,$AK4+1,"") -> 44016 | AL5: =UPPER(TEXT(AK5,"jjjj")) -> SAMEDI | AM5: St Florent | AN5: =IF(WEEKDAY($AK5,2)<>1,"",_xlfn.ISOWEEKNUM($AK5)) | AQ5: =IF(EOMONTH($AQ4,0)>$AQ4,$AQ4+1,"") -> 44047 | AR5: =UPPER(TEXT($AQ5,"jjjj")) -> MARDI | AS5: St J. M. Vianney | AT5: =IF(WEEKDAY($AQ5,2)<>1,"",_xlfn.ISOWEEKNUM($AQ5)) | AW5: =IF(EOMONTH($AW4,0)>$AW4,$AW4+1,"") -> 44078 | AX5: =UPPER(TEXT($AW5,"jjjj")) -> VENDREDI | AY5: Ste Rosalie | AZ5: =IF(WEEKDAY($AW5,2)<>1,"",_xlfn.ISOWEEKNUM($AW5)) | BC5: =IF(EOMONTH($BC4,0)>$BC4,$BC4+1,"") -> 44108 | BD5: =UPPER(TEXT($BC5,"jjjj")) -> DIMANCHE | BE5: St François d'Assise | BF5: =IF(WEEKDAY($BC5,2)<>1,"",_xlfn.ISOWEEKNUM($BC5)) | BI5: =IF(EOMONTH($BI4,0)>$BI4,$BI4+1,"") -> 44139 | BJ5: =UPPER(TEXT($BI5,"jjjj")) -> MERCREDI | BK5: St Charles | BL5: =IF(WEEKDAY($BI5,2)<>1,"",_xlfn.ISOWEEKNUM($BI5)) | BO5: =IF(EOMONTH($BO4,0)>$BO4,$BO4+1,"") -> 44169 | BP5: =UPPER(TEXT($BO5,"jjjj")) -> VENDREDI | BQ5: Ste Barbara | BR5: =IF(WEEKDAY($BO5,2)<>1,"",_xlfn.ISOWEEKNUM($BO5))
A6: =IF(EOMONTH($A5,0)>$A5,$A5+1,"") -> 43835 | B6: =UPPER(TEXT($A6,"jjjj")) -> DIMANCHE | C6: St Edouard | D6: =IF(WEEKDAY($A6,2)<>1,"",_xlfn.ISOWEEKNUM($A6)) | G6: =IF(EOMONTH($G5,0)>$G5,$G5+1,"") -> 43866 | H6: =UPPER(TEXT($G6,"jjjj")) -> MERCREDI | I6: Ste Agathe | J6: =IF(WEEKDAY($G6,2)<>1,"",_xlfn.ISOWEEKNUM($G6)) | M6: =IF(EOMONTH($M5,0)>$M5,$M5+1,"") -> 43895 | N6: =UPPER(TEXT($M6,"jjjj")) -> JEUDI | O6: Ste Olive | P6: =IF(WEEKDAY($M6,2)<>1,"",_xlfn.ISOWEEKNUM($M6)) | S6: =IF(EOMONTH($S5,0)>$S5,$S5+1,"") -> 43926 | T6: =UPPER(TEXT($S6,"jjjj")) -> DIMANCHE | U6: Ste Irene | V6: =IF(WEEKDAY($S6,2)<>1,"",_xlfn.ISOWEEKNUM($S6)) | Y6: =IF(EOMONTH($Y5,0)>$Y5,$Y5+1,"") -> 43956 | Z6: =UPPER(TEXT($Y6,"jjjj")) -> MARDI | AA6: Ste Judith | AB6: =IF(WEEKDAY($Y6,2)<>1,"",_xlfn.ISOWEEKNUM($Y6)) | AE6: =IF(EOMONTH($AE5,0)>$AE5,$AE5+1,"") -> 43987 | AF6: =UPPER(TEXT($AE6,"jjjj")) -> VENDREDI | AG6: St Igor | AH6: =IF(WEEKDAY($AE6,2)<>1,"",_xlfn.ISOWEEKNUM($AE6)) | AK6: =IF(EOMONTH($AK5,0)>$AK5,$AK5+1,"") -> 44017 | AL6: =UPPER(TEXT(AK6,"jjjj")) -> DIMANCHE | AM6: St Antoine-Marie | AN6: =IF(WEEKDAY($AK6,2)<>1,"",_xlfn.ISOWEEKNUM($AK6)) | AQ6: =IF(EOMONTH($AQ5,0)>$AQ5,$AQ5+1,"") -> 44048 | AR6: =UPPER(TEXT($AQ6,"jjjj")) -> MERCREDI | AS6: St Abel | AT6: =IF(WEEKDAY($AQ6,2)<>1,"",_xlfn.ISOWEEKNUM($AQ6)) | AW6: =IF(EOMONTH($AW5,0)>$AW5,$AW5+1,"") -> 44079 | AX6: =UPPER(TEXT($AW6,"jjjj")) -> SAMEDI | AY6: Ste Raïssa | AZ6: =IF(WEEKDAY($AW6,2)<>1,"",_xlfn.ISOWEEKNUM($AW6)) | BC6: =IF(EOMONTH($BC5,0)>$BC5,$BC5+1,"") -> 44109 | BD6: =UPPER(TEXT($BC6,"jjjj")) -> LUNDI | BE6: Ste Fleur | BF6: =IF(WEEKDAY($BC6,2)<>1,"",_xlfn.ISOWEEKNUM($BC6)) -> 41 | BI6: =IF(EOMONTH($BI5,0)>$BI5,$BI5+1,"") -> 44140 | BJ6: =UPPER(TEXT($BI6,"jjjj")) -> JEUDI | BK6: Ste Sylvie | BL6: =IF(WEEKDAY($BI6,2)<>1,"",_xlfn.ISOWEEKNUM($BI6)) | BO6: =IF(EOMONTH($BO5,0)>$BO5,$BO5+1,"") -> 44170 | BP6: =UPPER(TEXT($BO6,"jjjj")) -> SAMEDI | BQ6: St Gérald | BR6: =IF(WEEKDAY($BO6,2)<>1,"",_xlfn.ISOWEEKNUM($BO6))
A7: =IF(EOMONTH($A6,0)>$A6,$A6+1,"") -> 43836 | B7: =UPPER(TEXT($A7,"jjjj")) -> LUNDI | C7: Ste Tiphaine | D7: =IF(WEEKDAY($A7,2)<>1,"",_xlfn.ISOWEEKNUM($A7)) -> 2 | G7: =IF(EOMONTH($G6,0)>$G6,$G6+1,"") -> 43867 | H7: =UPPER(TEXT($G7,"jjjj")) -> JEUDI | I7: St Gaston | J7: =IF(WEEKDAY($G7,2)<>1,"",_xlfn.ISOWEEKNUM($G7)) | M7: =IF(EOMONTH($M6,0)>$M6,$M6+1,"") -> 43896 | N7: =UPPER(TEXT($M7,"jjjj")) -> VENDREDI | O7: Ste Colette | P7: =IF(WEEKDAY($M7,2)<>1,"",_xlfn.ISOWEEKNUM($M7)) | S7: =IF(EOMONTH($S6,0)>$S6,$S6+1,"") -> 43927 | T7: =UPPER(TEXT($S7,"jjjj")) -> LUNDI | U7: St Marcellin | V7: =IF(WEEKDAY($S7,2)<>1,"",_xlfn.ISOWEEKNUM($S7)) -> 15 | Y7: =IF(EOMONTH($Y6,0)>$Y6,$Y6+1,"") -> 43957 | Z7: =UPPER(TEXT($Y7,"jjjj")) -> MERCREDI | AA7: Ste Prudence | AB7: =IF(WEEKDAY($Y7,2)<>1,"",_xlfn.ISOWEEKNUM($Y7)) | AE7: =IF(EOMONTH($AE6,0)>$AE6,$AE6+1,"") -> 43988 | AF7: =UPPER(TEXT($AE7,"jjjj")) -> SAMEDI | AG7: St Norbert | AH7: =IF(WEEKDAY($AE7,2)<>1,"",_xlfn.ISOWEEKNUM($AE7)) | AK7: =IF(EOMONTH($AK6,0)>$AK6,$AK6+1,"") -> 44018 | AL7: =UPPER(TEXT(AK7,"jjjj")) -> LUNDI | AM7: Ste Mariette | AN7: =IF(WEEKDAY($AK7,2)<>1,"",_xlfn.ISOWEEKNUM($AK7)) -> 28 | AQ7: =IF(EOMONTH($AQ6,0)>$AQ6,$AQ6+1,"") -> 44049 | AR7: =UPPER(TEXT($AQ7,"jjjj")) -> JEUDI | AS7: Transfiguration | AT7: =IF(WEEKDAY($AQ7,2)<>1,"",_xlfn.ISOWEEKNUM($AQ7)) | AW7: =IF(EOMONTH($AW6,0)>$AW6,$AW6+1,"") -> 44080 | AX7: =UPPER(TEXT($AW7,"jjjj")) -> DIMANCHE | AY7: St Bertrand | AZ7: =IF(WEEKDAY($AW7,2)<>1,"",_xlfn.ISOWEEKNUM($AW7)) | BC7: =IF(EOMONTH($BC6,0)>$BC6,$BC6+1,"") -> 44110 | BD7: =UPPER(TEXT($BC7,"jjjj")) -> MARDI | BE7: St Bruno | BF7: =IF(WEEKDAY($BC7,2)<>1,"",_xlfn.ISOWEEKNUM($BC7)) | BI7: =IF(EOMONTH($BI6,0)>$BI6,$BI6+1,"") -> 44141 | BJ7: =UPPER(TEXT($BI7,"jjjj")) -> VENDREDI | BK7: Ste Bertille | BL7: =IF(WEEKDAY($BI7,2)<>1,"",_xlfn.ISOWEEKNUM($BI7)) | BO7: =IF(EOMONTH($BO6,0)>$BO6,$BO6+1,"") -> 44171 | BP7: =UPPER(TEXT($BO7,"jjjj")) -> DIMANCHE | BQ7: St Nicolas | BR7: =IF(WEEKDAY($BO7,2)<>1,"",_xlfn.ISOWEEKNUM($BO7))
A8: =IF(EOMONTH($A7,0)>$A7,$A7+1,"") -> 43837 | B8: =UPPER(TEXT($A8,"jjjj")) -> MARDI | C8: St Raymond | D8: =IF(WEEKDAY($A8,2)<>1,"",_xlfn.ISOWEEKNUM($A8)) | G8: =IF(EOMONTH($G7,0)>$G7,$G7+1,"") -> 43868 | H8: =UPPER(TEXT($G8,"jjjj")) -> VENDREDI | I8: Ste Eugénie | J8: =IF(WEEKDAY($G8,2)<>1,"",_xlfn.ISOWEEKNUM($G8)) | M8: =IF(EOMONTH($M7,0)>$M7,$M7+1,"") -> 43897 | N8: =UPPER(TEXT($M8,"jjjj")) -> SAMEDI | O8: Ste Félicité | P8: =IF(WEEKDAY($M8,2)<>1,"",_xlfn.ISOWEEKNUM($M8)) | S8: =IF(EOMONTH($S7,0)>$S7,$S7+1,"") -> 43928 | T8: =UPPER(TEXT($S8,"jjjj")) -> MARDI | U8: St J. B de la Salle | V8: =IF(WEEKDAY($S8,2)<>1,"",_xlfn.ISOWEEKNUM($S8)) | Y8: =IF(EOMONTH($Y7,0)>$Y7,$Y7+1,"") -> 43958 | Z8: =UPPER(TEXT($Y8,"jjjj")) -> JEUDI | AA8: Ste Gisèle | AB8: =IF(WEEKDAY($Y8,2)<>1,"",_xlfn.ISOWEEKNUM($Y8)) | AE8: =IF(EOMONTH($AE7,0)>$AE7,$AE7+1,"") -> 43989 | AF8: =UPPER(TEXT($AE8,"jjjj")) -> DIMANCHE | AG8: St Gilbert | AH8: =IF(WEEKDAY($AE8,2)<>1,"",_xlfn.ISOWEEKNUM($AE8)) | AK8: =IF(EOMONTH($AK7,0)>$AK7,$AK7+1,"") -> 44019 | AL8: =UPPER(TEXT(AK8,"jjjj")) -> MARDI | AM8: St Raoul | AN8: =IF(WEEKDAY($AK8,2)<>1,"",_xlfn.ISOWEEKNUM($AK8)) | AQ8: =IF(EOMONTH($AQ7,0)>$AQ7,$AQ7+1,"") -> 44050 | AR8: =UPPER(TEXT($AQ8,"jjjj")) -> VENDREDI | AS8: St Gaétan | AT8: =IF(WEEKDAY($AQ8,2)<>1,"",_xlfn.ISOWEEKNUM($AQ8)) | AW8: =IF(EOMONTH($AW7,0)>$AW7,$AW7+1,"") -> 44081 | AX8: =UPPER(TEXT($AW8,"jjjj")) -> LUNDI | AY8: Ste Reine | AZ8: =IF(WEEKDAY($AW8,2)<>1,"",_xlfn.ISOWEEKNUM($AW8)) -> 37 | BC8: =IF(EOMONTH($BC7,0)>$BC7,$BC7+1,"") -> 44111 | BD8: =UPPER(TEXT($BC8,"jjjj")) -> MERCREDI | BE8: St Serge | BF8: =IF(WEEKDAY($BC8,2)<>1,"",_xlfn.ISOWEEKNUM($BC8)) | BI8: =IF(EOMONTH($BI7,0)>$BI7,$BI7+1,"") -> 44142 | BJ8: =UPPER(TEXT($BI8,"jjjj")) -> SAMEDI | BK8: Ste Carine | BL8: =IF(WEEKDAY($BI8,2)<>1,"",_xlfn.ISOWEEKNUM($BI8)) | BO8: =IF(EOMONTH($BO7,0)>$BO7,$BO7+1,"") -> 44172 | BP8: =UPPER(TEXT($BO8,"jjjj")) -> LUNDI | BQ8: Ste Ambroise | BR8: =IF(WEEKDAY($BO8,2)<>1,"",_xlfn.ISOWEEKNUM($BO8)) -> 50
A9: =IF(EOMONTH($A8,0)>$A8,$A8+1,"") -> 43838 | B9: =UPPER(TEXT($A9,"jjjj")) -> MERCREDI | C9: St Lucien | D9: =IF(WEEKDAY($A9,2)<>1,"",_xlfn.ISOWEEKNUM($A9)) | G9: =IF(EOMONTH($G8,0)>$G8,$G8+1,"") -> 43869 | H9: =UPPER(TEXT($G9,"jjjj")) -> SAMEDI | I9: Ste Jacqueline | J9: =IF(WEEKDAY($G9,2)<>1,"",_xlfn.ISOWEEKNUM($G9)) | M9: =IF(EOMONTH($M8,0)>$M8,$M8+1,"") -> 43898 | N9: =UPPER(TEXT($M9,"jjjj")) -> DIMANCHE | O9: St Jean de Dieu | P9: =IF(WEEKDAY($M9,2)<>1,"",_xlfn.ISOWEEKNUM($M9)) | S9: =IF(EOMONTH($S8,0)>$S8,$S8+1,"") -> 43929 | T9: =UPPER(TEXT($S9,"jjjj")) -> MERCREDI | U9: Ste Julie | V9: =IF(WEEKDAY($S9,2)<>1,"",_xlfn.ISOWEEKNUM($S9)) | Y9: =IF(EOMONTH($Y8,0)>$Y8,$Y8+1,"") -> 43959 | Z9: =UPPER(TEXT($Y9,"jjjj")) -> VENDREDI | AA9: St Désiré(e) | AB9: =IF(WEEKDAY($Y9,2)<>1,"",_xlfn.ISOWEEKNUM($Y9)) | AE9: =IF(EOMONTH($AE8,0)>$AE8,$AE8+1,"") -> 43990 | AF9: =UPPER(TEXT($AE9,"jjjj")) -> LUNDI | AG9: St Médard | AH9: =IF(WEEKDAY($AE9,2)<>1,"",_xlfn.ISOWEEKNUM($AE9)) -> 24 | AK9: =IF(EOMONTH($AK8,0)>$AK8,$AK8+1,"") -> 44020 | AL9: =UPPER(TEXT(AK9,"jjjj")) -> MERCREDI | AM9: St Thibault | AN9: =IF(WEEKDAY($AK9,2)<>1,"",_xlfn.ISOWEEKNUM($AK9)) | AQ9: =IF(EOMONTH($AQ8,0)>$AQ8,$AQ8+1,"") -> 44051 | AR9: =UPPER(TEXT($AQ9,"jjjj")) -> SAMEDI | AS9: St Dominique | AT9: =IF(WEEKDAY($AQ9,2)<>1,"",_xlfn.ISOWEEKNUM($AQ9)) | AW9: =IF(EOMONTH($AW8,0)>$AW8,$AW8+1,"") -> 44082 | AX9: =UPPER(TEXT($AW9,"jjjj")) -> MARDI | AY9: St Nativite N. D. | AZ9: =IF(WEEKDAY($AW9,2)<>1,"",_xlfn.ISOWEEKNUM($AW9)) | BC9: =IF(EOMONTH($BC8,0)>$BC8,$BC8+1,"") -> 44112 | BD9: =UPPER(TEXT($BC9,"jjjj")) -> JEUDI | BE9: Ste Pélagie | BF9: =IF(WEEKDAY($BC9,2)<>1,"",_xlfn.ISOWEEKNUM($BC9)) | BI9: =IF(EOMONTH($BI8,0)>$BI8,$BI8+1,"") -> 44143 | BJ9: =UPPER(TEXT($BI9,"jjjj")) -> DIMANCHE | BK9: Ste Geoffroy | BL9: =IF(WEEKDAY($BI9,2)<>1,"",_xlfn.ISOWEEKNUM($BI9)) | BO9: =IF(EOMONTH($BO8,0)>$BO8,$BO8+1,"") -> 44173 | BP9: =UPPER(TEXT($BO9,"jjjj")) -> MARDI | BQ9: Ste Im. Conception | BR9: =IF(WEEKDAY($BO9,2)<>1,"",_xlfn.ISOWEEKNUM($BO9))
A10: =IF(EOMONTH($A9,0)>$A9,$A9+1,"") -> 43839 | B10: =UPPER(TEXT($A10,"jjjj")) -> JEUDI | C10: Ste Alix | D10: =IF(WEEKDAY($A10,2)<>1,"",_xlfn.ISOWEEKNUM($A10)) | G10: =IF(EOMONTH($G9,0)>$G9,$G9+1,"") -> 43870 | H10: =UPPER(TEXT($G10,"jjjj")) -> DIMANCHE | I10: Ste Appoline | J10: =IF(WEEKDAY($G10,2)<>1,"",_xlfn.ISOWEEKNUM($G10)) | M10: =IF(EOMONTH($M9,0)>$M9,$M9+1,"") -> 43899 | N10: =UPPER(TEXT($M10,"jjjj")) -> LUNDI | O10: St Françoise | P10: =IF(WEEKDAY($M10,2)<>1,"",_xlfn.ISOWEEKNUM($M10)) -> 11 | S10: =IF(EOMONTH($S9,0)>$S9,$S9+1,"") -> 43930 | T10: =UPPER(TEXT($S10,"jjjj")) -> JEUDI | U10: St Gauthier | V10: =IF(WEEKDAY($S10,2)<>1,"",_xlfn.ISOWEEKNUM($S10)) | Y10: =IF(EOMONTH($Y9,0)>$Y9,$Y9+1,"") -> 43960 | Z10: =UPPER(TEXT($Y10,"jjjj")) -> SAMEDI | AA10: St Pacôme | AB10: =IF(WEEKDAY($Y10,2)<>1,"",_xlfn.ISOWEEKNUM($Y10)) | AE10: =IF(EOMONTH($AE9,0)>$AE9,$AE9+1,"") -> 43991 | AF10: =UPPER(TEXT($AE10,"jjjj")) -> MARDI | AG10: Ste Diane | AH10: =IF(WEEKDAY($AE10,2)<>1,"",_xlfn.ISOWEEKNUM($AE10)) | AK10: =IF(EOMONTH($AK9,0)>$AK9,$AK9+1,"") -> 44021 | AL10: =UPPER(TEXT(AK10,"jjjj")) -> JEUDI | AM10: Ste Amandine | AN10: =IF(WEEKDAY($AK10,2)<>1,"",_xlfn.ISOWEEKNUM($AK10)) | AQ10: =IF(EOMONTH($AQ9,0)>$AQ9,$AQ9+1,"") -> 44052 | AR10: =UPPER(TEXT($AQ10,"jjjj")) -> DIMANCHE | AS10: St Amour | AT10: =IF(WEEKDAY($AQ10,2)<>1,"",_xlfn.ISOWEEKNUM($AQ10)) | AW10: =IF(EOMONTH($AW9,0)>$AW9,$AW9+1,"") -> 44083 | AX10: =UPPER(TEXT($AW10,"jjjj")) -> MERCREDI | AY10: St Alain | AZ10: =IF(WEEKDAY($AW10,2)<>1,"",_xlfn.ISOWEEKNUM($AW10)) | BC10: =IF(EOMONTH($BC9,0)>$BC9,$BC9+1,"") -> 44113 | BD10: =UPPER(TEXT($BC10,"jjjj")) -> VENDREDI | BE10: St Denis | BF10: =IF(WEEKDAY($BC10,2)<>1,"",_xlfn.ISOWEEKNUM($BC10)) | BI10: =IF(EOMONTH($BI9,0)>$BI9,$BI9+1,"") -> 44144 | BJ10: =UPPER(TEXT($BI10,"jjjj")) -> LUNDI | BK10: St Théodore | BL10: =IF(WEEKDAY($BI10,2)<>1,"",_xlfn.ISOWEEKNUM($BI10)) -> 46 | BO10: =IF(EOMONTH($BO9,0)>$BO9,$BO9+1,"") -> 44174 | BP10: =UPPER(TEXT($BO10,"jjjj")) -> MERCREDI | BQ10: St Pierre Fourier | BR10: =IF(WEEKDAY($BO10,2)<>1,"",_xlfn.ISOWEEKNUM($BO10))
A11: =IF(EOMONTH($A10,0)>$A10,$A10+1,"") -> 43840 | B11: =UPPER(TEXT($A11,"jjjj")) -> VENDREDI | C11: St Guillaume | D11: =IF(WEEKDAY($A11,2)<>1,"",_xlfn.ISOWEEKNUM($A11)) | G11: =IF(EOMONTH($G10,0)>$G10,$G10+1,"") -> 43871 | H11: =UPPER(TEXT($G11,"jjjj")) -> LUNDI | I11: St Arnaud | J11: =IF(WEEKDAY($G11,2)<>1,"",_xlfn.ISOWEEKNUM($G11)) -> 7 | M11: =IF(EOMONTH($M10,0)>$M10,$M10+1,"") -> 43900 | N11: =UPPER(TEXT($M11,"jjjj")) -> MARDI | O11: St Vivien | P11: =IF(WEEKDAY($M11,2)<>1,"",_xlfn.ISOWEEKNUM($M11)) | S11: =IF(EOMONTH($S10,0)>$S10,$S10+1,"") -> 43931 | T11: =UPPER(TEXT($S11,"jjjj")) -> VENDREDI | U11: St Fulbert | V11: =IF(WEEKDAY($S11,2)<>1,"",_xlfn.ISOWEEKNUM($S11)) | Y11: =IF(EOMONTH($Y10,0)>$Y10,$Y10+1,"") -> 43961 | Z11: =UPPER(TEXT($Y11,"jjjj")) -> DIMANCHE | AA11: Ste Solange | AB11: =IF(WEEKDAY($Y11,2)<>1,"",_xlfn.ISOWEEKNUM($Y11)) | AE11: =IF(EOMONTH($AE10,0)>$AE10,$AE10+1,"") -> 43992 | AF11: =UPPER(TEXT($AE11,"jjjj")) -> MERCREDI | AG11: St Landry | AH11: =IF(WEEKDAY($AE11,2)<>1,"",_xlfn.ISOWEEKNUM($AE11)) | AK11: =IF(EOMONTH($AK10,0)>$AK10,$AK10+1,"") -> 44022 | AL11: =UPPER(TEXT(AK11,"jjjj")) -> VENDREDI | AM11: St Ulrich | AN11: =IF(WEEKDAY($AK11,2)<>1,"",_xlfn.ISOWEEKNUM($AK11)) | AQ11: =IF(EOMONTH($AQ10,0)>$AQ10,$AQ10+1,"") -> 44053 | AR11: =UPPER(TEXT($AQ11,"jjjj")) -> LUNDI | AS11: St Laurent | AT11: =IF(WEEKDAY($AQ11,2)<>1,"",_xlfn.ISOWEEKNUM($AQ11)) -> 33 | AW11: =IF(EOMONTH($AW10,0)>$AW10,$AW10+1,"") -> 44084 | AX11: =UPPER(TEXT($AW11,"jjjj")) -> JEUDI | AY11: Ste Inès | AZ11: =IF(WEEKDAY($AW11,2)<>1,"",_xlfn.ISOWEEKNUM($AW11)) | BC11: =IF(EOMONTH($BC10,0)>$BC10,$BC10+1,"") -> 44114 | BD11: =UPPER(TEXT($BC11,"jjjj")) -> SAMEDI | BE11: St Ghislain | BF11: =IF(WEEKDAY($BC11,2)<>1,"",_xlfn.ISOWEEKNUM($BC11)) | BI11: =IF(EOMONTH($BI10,0)>$BI10,$BI10+1,"") -> 44145 | BJ11: =UPPER(TEXT($BI11,"jjjj")) -> MARDI | BK11: St Léon | BL11: =IF(WEEKDAY($BI11,2)<>1,"",_xlfn.ISOWEEKNUM($BI11)) | BO11: =IF(EOMONTH($BO10,0)>$BO10,$BO10+1,"") -> 44175 | BP11: =UPPER(TEXT($BO11,"jjjj")) -> JEUDI | BQ11: St Romaric | BR11: =IF(WEEKDAY($BO11,2)<>1,"",_xlfn.ISOWEEKNUM($BO11))
A12: =IF(EOMONTH($A11,0)>$A11,$A11+1,"") -> 43841 | B12: =UPPER(TEXT($A12,"jjjj")) -> SAMEDI | C12: St Paulin | D12: =IF(WEEKDAY($A12,2)<>1,"",_xlfn.ISOWEEKNUM($A12)) | G12: =IF(EOMONTH($G11,0)>$G11,$G11+1,"") -> 43872 | H12: =UPPER(TEXT($G12,"jjjj")) -> MARDI | I12: N-D Lourdes | J12: =IF(WEEKDAY($G12,2)<>1,"",_xlfn.ISOWEEKNUM($G12)) | M12: =IF(EOMONTH($M11,0)>$M11,$M11+1,"") -> 43901 | N12: =UPPER(TEXT($M12,"jjjj")) -> MERCREDI | O12: Ste Rosine | P12: =IF(WEEKDAY($M12,2)<>1,"",_xlfn.ISOWEEKNUM($M12)) | S12: =IF(EOMONTH($S11,0)>$S11,$S11+1,"") -> 43932 | T12: =UPPER(TEXT($S12,"jjjj")) -> SAMEDI | U12: St Stanislas | V12: =IF(WEEKDAY($S12,2)<>1,"",_xlfn.ISOWEEKNUM($S12)) | Y12: =IF(EOMONTH($Y11,0)>$Y11,$Y11+1,"") -> 43962 | Z12: =UPPER(TEXT($Y12,"jjjj")) -> LUNDI | AA12: Ste Estelle | AB12: =IF(WEEKDAY($Y12,2)<>1,"",_xlfn.ISOWEEKNUM($Y12)) -> 20 | AE12: =IF(EOMONTH($AE11,0)>$AE11,$AE11+1,"") -> 43993 | AF12: =UPPER(TEXT($AE12,"jjjj")) -> JEUDI | AG12: St Barnabé | AH12: =IF(WEEKDAY($AE12,2)<>1,"",_xlfn.ISOWEEKNUM($AE12)) | AK12: =IF(EOMONTH($AK11,0)>$AK11,$AK11+1,"") -> 44023 | AL12: =UPPER(TEXT(AK12,"jjjj")) -> SAMEDI | AM12: St Benoît | AN12: =IF(WEEKDAY($AK12,2)<>1,"",_xlfn.ISOWEEKNUM($AK12)) | AQ12: =IF(EOMONTH($AQ11,0)>$AQ11,$AQ11+1,"") -> 44054 | AR12: =UPPER(TEXT($AQ12,"jjjj")) -> MARDI | AS12: Ste Claire | AT12: =IF(WEEKDAY($AQ12,2)<>1,"",_xlfn.ISOWEEKNUM($AQ12)) | AW12: =IF(EOMONTH($AW11,0)>$AW11,$AW11+1,"") -> 44085 | AX12: =UPPER(TEXT($AW12,"jjjj")) -> VENDREDI | AY12: St Adelphe | AZ12: =IF(WEEKDAY($AW12,2)<>1,"",_xlfn.ISOWEEKNUM($AW12)) | BC12: =IF(EOMONTH($BC11,0)>$BC11,$BC11+1,"") -> 44115 | BD12: =UPPER(TEXT($BC12,"jjjj")) -> DIMANCHE | BE12: St Firmin | BF12: =IF(WEEKDAY($BC12,2)<>1,"",_xlfn.ISOWEEKNUM($BC12)) | BI12: =IF(EOMONTH($BI11,0)>$BI11,$BI11+1,"") -> 44146 | BJ12: =UPPER(TEXT($BI12,"jjjj")) -> MERCREDI | BK12: Armistice 1918 | BL12: =IF(WEEKDAY($BI12,2)<>1,"",_xlfn.ISOWEEKNUM($BI12)) | BO12: =IF(EOMONTH($BO11,0)>$BO11,$BO11+1,"") -> 44176 | BP12: =UPPER(TEXT($BO12,"jjjj")) -> VENDREDI | BQ12: St Daniel | BR12: =IF(WEEKDAY($BO12,2)<>1,"",_xlfn.ISOWEEKNUM($BO12))
A13: =IF(EOMONTH($A12,0)>$A12,$A12+1,"") -> 43842 | B13: =UPPER(TEXT($A13,"jjjj")) -> DIMANCHE | C13: Ste Tatiana | D13: =IF(WEEKDAY($A13,2)<>1,"",_xlfn.ISOWEEKNUM($A13)) | G13: =IF(EOMONTH($G12,0)>$G12,$G12+1,"") -> 43873 | H13: =UPPER(TEXT($G13,"jjjj")) -> MERCREDI | I13: St Felix | J13: =IF(WEEKDAY($G13,2)<>1,"",_xlfn.ISOWEEKNUM($G13)) | M13: =IF(EOMONTH($M12,0)>$M12,$M12+1,"") -> 43902 | N13: =UPPER(TEXT($M13,"jjjj")) -> JEUDI | O13: Ste Justine | P13: =IF(WEEKDAY($M13,2)<>1,"",_xlfn.ISOWEEKNUM($M13)) | S13: =IF(EOMONTH($S12,0)>$S12,$S12+1,"") -> 43933 | T13: =UPPER(TEXT($S13,"jjjj")) -> DIMANCHE | U13: St Jules | V13: =IF(WEEKDAY($S13,2)<>1,"",_xlfn.ISOWEEKNUM($S13)) | Y13: =IF(EOMONTH($Y12,0)>$Y12,$Y12+1,"") -> 43963 | Z13: =UPPER(TEXT($Y13,"jjjj")) -> MARDI | AA13: St Achille | AB13: =IF(WEEKDAY($Y13,2)<>1,"",_xlfn.ISOWEEKNUM($Y13)) | AE13: =IF(EOMONTH($AE12,0)>$AE12,$AE12+1,"") -> 43994 | AF13: =UPPER(TEXT($AE13,"jjjj")) -> VENDREDI | AG13: St Guy | AH13: =IF(WEEKDAY($AE13,2)<>1,"",_xlfn.ISOWEEKNUM($AE13)) | AK13: =IF(EOMONTH($AK12,0)>$AK12,$AK12+1,"") -> 44024 | AL13: =UPPER(TEXT(AK13,"jjjj")) -> DIMANCHE | AM13: St Olivier | AN13: =IF(WEEKDAY($AK13,2)<>1,"",_xlfn.ISOWEEKNUM($AK13)) | AQ13: =IF(EOMONTH($AQ12,0)>$AQ12,$AQ12+1,"") -> 44055 | AR13: =UPPER(TEXT($AQ13,"jjjj")) -> MERCREDI | AS13: Ste Clarisse | AT13: =IF(WEEKDAY($AQ13,2)<>1,"",_xlfn.ISOWEEKNUM($AQ13)) | AW13: =IF(EOMONTH($AW12,0)>$AW12,$AW12+1,"") -> 44086 | AX13: =UPPER(TEXT($AW13,"jjjj")) -> SAMEDI | AY13: St Apollinaire | AZ13: =IF(WEEKDAY($AW13,2)<>1,"",_xlfn.ISOWEEKNUM($AW13)) | BC13: =IF(EOMONTH($BC12,0)>$BC12,$BC12+1,"") -> 44116 | BD13: =UPPER(TEXT($BC13,"jjjj")) -> LUNDI | BE13: St Wilfried | BF13: =IF(WEEKDAY($BC13,2)<>1,"",_xlfn.ISOWEEKNUM($BC13)) -> 42 | BI13: =IF(EOMONTH($BI12,0)>$BI12,$BI12+1,"") -> 44147 | BJ13: =UPPER(TEXT($BI13,"jjjj")) -> JEUDI | BK13: Ste Christian | BL13: =IF(WEEKDAY($BI13,2)<>1,"",_xlfn.ISOWEEKNUM($BI13)) | BO13: =IF(EOMONTH($BO12,0)>$BO12,$BO12+1,"") -> 44177 | BP13: =UPPER(TEXT($BO13,"jjjj")) -> SAMEDI | BQ13: St Jean. Fr-Ch | BR13: =IF(WEEKDAY($BO13,2)<>1,"",_xlfn.ISOWEEKNUM($BO13))
A14: =IF(EOMONTH($A13,0)>$A13,$A13+1,"") -> 43843 | B14: =UPPER(TEXT($A14,"jjjj")) -> LUNDI | C14: Ste Yvette | D14: =IF(WEEKDAY($A14,2)<>1,"",_xlfn.ISOWEEKNUM($A14)) -> 3 | G14: =IF(EOMONTH($G13,0)>$G13,$G13+1,"") -> 43874 | H14: =UPPER(TEXT($G14,"jjjj")) -> JEUDI | I14: Ste Béatrice | J14: =IF(WEEKDAY($G14,2)<>1,"",_xlfn.ISOWEEKNUM($G14)) | M14: =IF(EOMONTH($M13,0)>$M13,$M13+1,"") -> 43903 | N14: =UPPER(TEXT($M14,"jjjj")) -> VENDREDI | O14: St Rodrigue | P14: =IF(WEEKDAY($M14,2)<>1,"",_xlfn.ISOWEEKNUM($M14)) | S14: =IF(EOMONTH($S13,0)>$S13,$S13+1,"") -> 43934 | T14: =UPPER(TEXT($S14,"jjjj")) -> LUNDI | U14: St Ida | V14: =IF(WEEKDAY($S14,2)<>1,"",_xlfn.ISOWEEKNUM($S14)) -> 16 | Y14: =IF(EOMONTH($Y13,0)>$Y13,$Y13+1,"") -> 43964 | Z14: =UPPER(TEXT($Y14,"jjjj")) -> MERCREDI | AA14: Ste Rolande | AB14: =IF(WEEKDAY($Y14,2)<>1,"",_xlfn.ISOWEEKNUM($Y14)) | AE14: =IF(EOMONTH($AE13,0)>$AE13,$AE13+1,"") -> 43995 | AF14: =UPPER(TEXT($AE14,"jjjj")) -> SAMEDI | AG14: St Antoine | AH14: =IF(WEEKDAY($AE14,2)<>1,"",_xlfn.ISOWEEKNUM($AE14)) | AK14: =IF(EOMONTH($AK13,0)>$AK13,$AK13+1,"") -> 44025 | AL14: =UPPER(TEXT(AK14,"jjjj")) -> LUNDI | AM14: St Henri-Joël | AN14: =IF(WEEKDAY($AK14,2)<>1,"",_xlfn.ISOWEEKNUM($AK14)) -> 29 | AQ14: =IF(EOMONTH($AQ13,0)>$AQ13,$AQ13+1,"") -> 44056 | AR14: =UPPER(TEXT($AQ14,"jjjj")) -> JEUDI | AS14: St Hippolyte | AT14: =IF(WEEKDAY($AQ14,2)<>1,"",_xlfn.ISOWEEKNUM($AQ14)) | AW14: =IF(EOMONTH($AW13,0)>$AW13,$AW13+1,"") -> 44087 | AX14: =UPPER(TEXT($AW14,"jjjj")) -> DIMANCHE | AY14: St Aimé | AZ14: =IF(WEEKDAY($AW14,2)<>1,"",_xlfn.ISOWEEKNUM($AW14)) | BC14: =IF(EOMONTH($BC13,0)>$BC13,$BC13+1,"") -> 44117 | BD14: =UPPER(TEXT($BC14,"jjjj")) -> MARDI | BE14: St Géraud | BF14: =IF(WEEKDAY($BC14,2)<>1,"",_xlfn.ISOWEEKNUM($BC14)) | BI14: =IF(EOMONTH($BI13,0)>$BI13,$BI13+1,"") -> 44148 | BJ14: =UPPER(TEXT($BI14,"jjjj")) -> VENDREDI | BK14: St Brice | BL14: =IF(WEEKDAY($BI14,2)<>1,"",_xlfn.ISOWEEKNUM($BI14)) | BO14: =IF(EOMONTH($BO13,0)>$BO13,$BO13+1,"") -> 44178 | BP14: =UPPER(TEXT($BO14,"jjjj")) -> DIMANCHE | BQ14: Ste Lucie | BR14: =IF(WEEKDAY($BO14,2)<>1,"",_xlfn.ISOWEEKNUM($BO14))
... A29: =IF(EOMONTH($A28,0)>$A28,$A28+1,"") -> 43858 | B29: =UPPER(TEXT($A29,"jjjj")) -> MARDI | C29: St Thomas d'Aquin | D29: =IF(WEEKDAY($A29,2)<>1,"",_xlfn.ISOWEEKNUM($A29)) | G29: =IF(EOMONTH($G28,0)>$G28,$G28+1,"") -> 43889 | H29: =UPPER(TEXT($G29,"jjjj")) -> VENDREDI | I29: St Romain | J29: =IF(WEEKDAY($G29,2)<>1,"",_xlfn.ISOWEEKNUM($G29)) | M29: =IF(EOMONTH($M28,0)>$M28,$M28+1,"") -> 43918 | N29: =UPPER(TEXT($M29,"jjjj")) -> SAMEDI | O29: Rameaux | P29: =IF(WEEKDAY($M29,2)<>1,"",_xlfn.ISOWEEKNUM($M29)) | S29: =IF(EOMONTH($S28,0)>$S28,$S28+1,"") -> 43949 | T29: =UPPER(TEXT($S29,"jjjj")) -> MARDI | U29: St Valérie | V29: =IF(WEEKDAY($S29,2)<>1,"",_xlfn.ISOWEEKNUM($S29)) | Y29: =IF(EOMONTH($Y28,0)>$Y28,$Y28+1,"") -> 43979 | Z29: =UPPER(TEXT($Y29,"jjjj")) -> JEUDI | AA29: St Germain | AB29: =IF(WEEKDAY($Y29,2)<>1,"",_xlfn.ISOWEEKNUM($Y29)) | AE29: =IF(EOMONTH($AE28,0)>$AE28,$AE28+1,"") -> 44010 | AF29: =UPPER(TEXT($AE29,"jjjj")) -> DIMANCHE | AG29: Ste Irénée | AH29: =IF(WEEKDAY($AE29,2)<>1,"",_xlfn.ISOWEEKNUM($AE29)) | AK29: =IF(EOMONTH($AK28,0)>$AK28,$AK28+1,"") -> 44040 | AL29: =UPPER(TEXT(AK29,"jjjj")) -> MARDI | AM29: St Samson | AN29: =IF(WEEKDAY($AK29,2)<>1,"",_xlfn.ISOWEEKNUM($AK29)) | AQ29: =IF(EOMONTH($AQ28,0)>$AQ28,$AQ28+1,"") -> 44071 | AR29: =UPPER(TEXT($AQ29,"jjjj")) -> VENDREDI | AS29: St Augustin | AT29: =IF(WEEKDAY($AQ29,2)<>1,"",_xlfn.ISOWEEKNUM($AQ29)) | AW29: =IF(EOMONTH($AW28,0)>$AW28,$AW28+1,"") -> 44102 | AX29: =UPPER(TEXT($AW29,"jjjj")) -> LUNDI | AY29: St Venceslas | AZ29: =IF(WEEKDAY($AW29,2)<>1,"",_xlfn.ISOWEEKNUM($AW29)) -> 40 | BC29: =IF(EOMONTH($BC28,0)>$BC28,$BC28+1,"") -> 44132 | BD29: =UPPER(TEXT($BC29,"jjjj")) -> MERCREDI | BE29: St Simon- Jude | BF29: =IF(WEEKDAY($BC29,2)<>1,"",_xlfn.ISOWEEKNUM($BC29)) | BI29: =IF(EOMONTH($BI28,0)>$BI28,$BI28+1,"") -> 44163 | BJ29: =UPPER(TEXT($BI29,"jjjj")) -> SAMEDI | BK29: St Jacques de la M. | BL29: =IF(WEEKDAY($BI29,2)<>1,"",_xlfn.ISOWEEKNUM($BI29)) | BO29: =IF(EOMONTH($BO28,0)>$BO28,$BO28+1,"") -> 44193 | BP29: =UPPER(TEXT($BO29,"jjjj")) -> LUNDI | BQ29: St Innoncents | BR29: =IF(WEEKDAY($BO29,2)<>1,"",_xlfn.ISOWEEKNUM($BO29)) -> 53
A30: =IF(EOMONTH($A29,0)>$A29,$A29+1,"") -> 43859 | B30: =UPPER(TEXT($A30,"jjjj")) -> MERCREDI | C30: St Gildas | D30: =IF(WEEKDAY($A30,2)<>1,"",_xlfn.ISOWEEKNUM($A30)) | G30: =IF(EOMONTH($G29,0)>$G29,$G29+1,"") -> 43890 | H30: =UPPER(TEXT($G30,"jjjj")) -> SAMEDI | I30: St Auguste | M30: =IF(EOMONTH($M29,0)>$M29,$M29+1,"") -> 43919 | N30: =UPPER(TEXT($M30,"jjjj")) -> DIMANCHE | O30: Ste Gwladys | P30: =IF(WEEKDAY($M30,2)<>1,"",_xlfn.ISOWEEKNUM($M30)) | S30: =IF(EOMONTH($S29,0)>$S29,$S29+1,"") -> 43950 | T30: =UPPER(TEXT($S30,"jjjj")) -> MERCREDI | U30: Ste Cath. De Sienne | V30: =IF(WEEKDAY($S30,2)<>1,"",_xlfn.ISOWEEKNUM($S30)) | Y30: =IF(EOMONTH($Y29,0)>$Y29,$Y29+1,"") -> 43980 | Z30: =UPPER(TEXT($Y30,"jjjj")) -> VENDREDI | AA30: St Aymard | AB30: =IF(WEEKDAY($Y30,2)<>1,"",_xlfn.ISOWEEKNUM($Y30)) | AE30: =IF(EOMONTH($AE29,0)>$AE29,$AE29+1,"") -> 44011 | AF30: =UPPER(TEXT($AE30,"jjjj")) -> LUNDI | AG30: St Pierre/ Paul | AH30: =IF(WEEKDAY($AE30,2)<>1,"",_xlfn.ISOWEEKNUM($AE30)) -> 27 | AK30: =IF(EOMONTH($AK29,0)>$AK29,$AK29+1,"") -> 44041 | AL30: =UPPER(TEXT(AK30,"jjjj")) -> MERCREDI | AM30: Ste Marthe | AN30: =IF(WEEKDAY($AK30,2)<>1,"",_xlfn.ISOWEEKNUM($AK30)) | AQ30: =IF(EOMONTH($AQ29,0)>$AQ29,$AQ29+1,"") -> 44072 | AR30: =UPPER(TEXT($AQ30,"jjjj")) -> SAMEDI | AS30: Ste Sabine | AT30: =IF(WEEKDAY($AQ30,2)<>1,"",_xlfn.ISOWEEKNUM($AQ30)) | AW30: =IF(EOMONTH($AW29,0)>$AW29,$AW29+1,"") -> 44103 | AX30: =UPPER(TEXT($AW30,"jjjj")) -> MARDI | AY30: St Michel | AZ30: =IF(WEEKDAY($AW30,2)<>1,"",_xlfn.ISOWEEKNUM($AW30)) | BC30: =IF(EOMONTH($BC29,0)>$BC29,$BC29+1,"") -> 44133 | BD30: =UPPER(TEXT($BC30,"jjjj")) -> JEUDI | BE30: St Narcisse | BF30: =IF(WEEKDAY($BC30,2)<>1,"",_xlfn.ISOWEEKNUM($BC30)) | BI30: =IF(EOMONTH($BI29,0)>$BI29,$BI29+1,"") -> 44164 | BJ30: =UPPER(TEXT($BI30,"jjjj")) -> DIMANCHE | BK30: St Avent | BL30: =IF(WEEKDAY($BI30,2)<>1,"",_xlfn.ISOWEEKNUM($BI30)) | BO30: =IF(EOMONTH($BO29,0)>$BO29,$BO29+1,"") -> 44194 | BP30: =UPPER(TEXT($BO30,"jjjj")) -> MARDI | BQ30: St David | BR30: =IF(WEEKDAY($BO30,2)<>1,"",_xlfn.ISOWEEKNUM($BO30))
A31: =IF(EOMONTH($A30,0)>$A30,$A30+1,"") -> 43860 | B31: =UPPER(TEXT($A31,"jjjj")) -> JEUDI | C31: Ste Martine | D31: =IF(WEEKDAY($A31,2)<>1,"",_xlfn.ISOWEEKNUM($A31)) | M31: =IF(EOMONTH($M30,0)>$M30,$M30+1,"") -> 43920 | N31: =UPPER(TEXT($M31,"jjjj")) -> LUNDI | O31: Ste Amédée | P31: =IF(WEEKDAY($M31,2)<>1,"",_xlfn.ISOWEEKNUM($M31)) -> 14 | S31: =IF(EOMONTH($S30,0)>$S30,$S30+1,"") -> 43951 | T31: =UPPER(TEXT($S31,"jjjj")) -> JEUDI | U31: St Robert | V31: =IF(WEEKDAY($S31,2)<>1,"",_xlfn.ISOWEEKNUM($S31)) | Y31: =IF(EOMONTH($Y30,0)>$Y30,$Y30+1,"") -> 43981 | Z31: =UPPER(TEXT($Y31,"jjjj")) -> SAMEDI | AA31: St Ferdinand | AB31: =IF(WEEKDAY($Y31,2)<>1,"",_xlfn.ISOWEEKNUM($Y31)) | AE31: =IF(EOMONTH($AE30,0)>$AE30,$AE30+1,"") -> 44012 | AF31: =UPPER(TEXT($AE31,"jjjj")) -> MARDI | AG31: St Martial | AH31: =IF(WEEKDAY($AE31,2)<>1,"",_xlfn.ISOWEEKNUM($AE31)) | AK31: =IF(EOMONTH($AK30,0)>$AK30,$AK30+1,"") -> 44042 | AL31: =UPPER(TEXT(AK31,"jjjj")) -> JEUDI | AM31: Ste Juliette | AN31: =IF(WEEKDAY($AK31,2)<>1,"",_xlfn.ISOWEEKNUM($AK31)) | AQ31: =IF(EOMONTH($AQ30,0)>$AQ30,$AQ30+1,"") -> 44073 | AR31: =UPPER(TEXT($AQ31,"jjjj")) -> DIMANCHE | AS31: St Fiacre | AT31: =IF(WEEKDAY($AQ31,2)<>1,"",_xlfn.ISOWEEKNUM($AQ31)) | AW31: =IF(EOMONTH($AW30,0)>$AW30,$AW30+1,"") -> 44104 | AX31: =UPPER(TEXT($AW31,"jjjj")) -> MERCREDI | AY31: St Jérôme | AZ31: =IF(WEEKDAY($AW31,2)<>1,"",_xlfn.ISOWEEKNUM($AW31)) | BC31: =IF(EOMONTH($BC30,0)>$BC30,$BC30+1,"") -> 44134 | BD31: =UPPER(TEXT($BC31,"jjjj")) -> VENDREDI | BE31: Ste Bienvenue | BF31: =IF(WEEKDAY($BC31,2)<>1,"",_xlfn.ISOWEEKNUM($BC31)) | BI31: =IF(EOMONTH($BI30,0)>$BI30,$BI30+1,"") -> 44165 | BJ31: =UPPER(TEXT($BI31,"jjjj")) -> LUNDI | BK31: St André | BL31: =IF(WEEKDAY($BI31,2)<>1,"",_xlfn.ISOWEEKNUM($BI31)) -> 49 | BO31: =IF(EOMONTH($BO30,0)>$BO30,$BO30+1,"") -> 44195 | BP31: =UPPER(TEXT($BO31,"jjjj")) -> MERCREDI | BQ31: St Roger | BR31: =IF(WEEKDAY($BO31,2)<>1,"",_xlfn.ISOWEEKNUM($BO31))
A32: =IF(EOMONTH($A31,0)>$A31,$A31+1,"") -> 43861 | B32: =UPPER(TEXT($A32,"jjjj")) -> VENDREDI | C32: Ste Marcelle | D32: =IF(WEEKDAY($A32,2)<>1,"",_xlfn.ISOWEEKNUM($A32)) | M32: =IF(EOMONTH($M31,0)>$M31,$M31+1,"") -> 43921 | N32: =UPPER(TEXT($M32,"jjjj")) -> MARDI | O32: St Benjamin | P32: =IF(WEEKDAY($M32,2)<>1,"",_xlfn.ISOWEEKNUM($M32)) | S32: =IF(EOMONTH($S31,0)>$S31,$S31+1,"") | T32: =UPPER(TEXT($S32,"jjjj")) | Y32: =IF(EOMONTH($Y31,0)>$Y31,$Y31+1,"") -> 43982 | Z32: =UPPER(TEXT($Y32,"jjjj")) -> DIMANCHE | AA32: Ste Marie-Lise | AB32: =IF(WEEKDAY($Y32,2)<>1,"",_xlfn.ISOWEEKNUM($Y32)) | AE32: =IF(EOMONTH($AE31,0)>$AE31,$AE31+1,"") | AF32: =UPPER(TEXT($AE32,"jjjj")) | AK32: =IF(EOMONTH($AK31,0)>$AK31,$AK31+1,"") -> 44043 | AL32: =UPPER(TEXT(AK32,"jjjj")) -> VENDREDI | AM32: St Ignace de L. | AN32: =IF(WEEKDAY($AK32,2)<>1,"",_xlfn.ISOWEEKNUM($AK32)) | AQ32: =IF(EOMONTH($AQ31,0)>$AQ31,$AQ31+1,"") -> 44074 | AR32: =UPPER(TEXT($AQ32,"jjjj")) -> LUNDI | AS32: St Aristide | AT32: =IF(WEEKDAY($AQ32,2)<>1,"",_xlfn.ISOWEEKNUM($AQ32)) -> 36 | AW32: =IF(EOMONTH($AW31,0)>$AW31,$AW31+1,"") | BC32: =IF(EOMONTH($BC31,0)>$BC31,$BC31+1,"") -> 44135 | BD32: =UPPER(TEXT($BC32,"jjjj")) -> SAMEDI | BE32: St Quentin | BF32: =IF(WEEKDAY($BC32,2)<>1,"",_xlfn.ISOWEEKNUM($BC32)) | BI32: =IF(EOMONTH($BI31,0)>$BI31,$BI31+1,"") | BO32: =IF(EOMONTH($BO31,0)>$BO31,$BO31+1,"") -> 44196 | BP32: =UPPER(TEXT($BO32,"jjjj")) -> JEUDI | BQ32: St Sylvestre | BR32: =IF(WEEKDAY($BO32,2)<>1,"",_xlfn.ISOWEEKNUM($BO32))

Sheet Feuil1
B2: Année | C2: 2020
C3: ,
B4: Jours Fériés | C4: Dates | E4: Périodes | F4: Date de début | G4: Date de fin
B5: Jours de l'An | C5: =DATE($C$2,1,1) -> 43831 | E5: Vacances de Noël | G5: lundi 6 janvier 2020
B6: Lundi de Pâques | C6: =$C$19+1 -> 43934 | E6: Vacances d'Hiver | F6: samedi 22 février 2020 | G6: lundi 9 mars 2020
B7: Fêt du travail | C7: =DATE($C$2,5,1) -> 43952 | E7: Vacances de Printemps | F7: samedi 18 avril 2020 | G7: lundi 4 mai 2020
B8: Victoire 1945 | C8: =DATE($C$2,5,8) -> 43959 | E8: Pont de l'Ascension | F8: mercredi 20 mai 2020 | G8: lundi 25 mai 2020
B9: Ascension | C9: =$C$19+39 -> 43972 | E9: Vacances d'Été | F9: samedi 4 juillet 2020 | G9: mardi 1 septembre 2020
B10: Lundi de Pentecôte | C10: =$C$19+50 -> 43983 | E10: Vacances de la Toussaint | F10: samedi 17 octobre 2020 | G10: lundi 2 novembre 2020
B11: Fête nationale | C11: =DATE($C$2,7,14) -> 44026 | E11: Vacances de Noël | F11: samedi 19 décembre 2020 | G11: 44200
B12: Assomption | C12: =DATE($C$2,8,15) -> 44058 | E12: Vacances d'Hiver | F12: 44233 | G12: 44249
B13: Toussaint | C13: =DATE($C$2,11,1) -> 44136 | E13: Vacances de Printemps | F13: 44296 | G13: 44312
B14: Armistice 1918 | C14: =DATE($C$2,11,11) -> 44146 | E14: Pont de l'Ascension | F14: 44329 | G14: 44333
B15: Noël | C15: =DATE($C$2,12,25) -> 44190 | E15: Vacances d'Été | F15: 44382 | G15: 44440
E16: Vacances de la Toussaint | F16: 44485 | G16: 44500
E17: Vacances de Noël | F17: 44548 | G17: 44563
B18: Autres Fêtes | C18: Dates | E18: Vacances d'Hiver | F18: 44604 | G18: 44619
B19: Pâques | C19: =ROUND(DATE($C$2,4,MOD(234-11*MOD($C$2,19),30))/7,)*7-6 -> 43933 | E19: Vacances de Printemps | F19: 44660 | G19: 44675
B20: Pentecôte | C20: =$C$19+49 -> 43982 | E20: Pont de l'Ascension | F20: 44707 | G20: 44710
B21: Épiphanie | C21: =DATE($C$2,1,6) -> 43836 | E21: Vacances d'Été | F21: 44744
B22: Chandeleur | C22: =DATE($C$2,2,2) -> 43863
B23: Saint Valentin | C23: =DATE($C$2,2,14) -> 43875
B24: Mardi-Gras | C24: =C19-47 -> 43886
B25: Fête des Grands-mères | C25: =DATE($C$2,3,0)-WEEKDAY(DATE($C$2,3,0),1)+1+(7*1) -> 43891
B26: Rameaux | C26: =C19-7 -> 43926
B27: Vendredi Saint | C27: =C19-2 -> 43931
B28: Fête des mères | C28: =IF(DATE(($C$2),5+1,1)-WEEKDAY(DATE(($C$2),5+1,7))=$C$20,DATE(($C$2),5+1,1)-WEEKDAY(DATE(($C$2),5+1,7))+7,DATE(($C$2),5+1,1)-WEEKDAY(DATE(($C$2),5+1,7))) -> 43989
B29: Fête des père | C29: =("22/6/"&$C$2)-WEEKDAY("1/6/"&$C$2,2) -> 44003
B30: Fête de la musique | C30: =DATE($C$2,6,21) -> 44003
B31: Fête des grands-pères | C31: =DATE($C$2,10,0)-WEEKDAY(DATE($C$2,10,0),1)+1+(7*1) -> 44108
B32: Halloween | C32: =DATE($C$2,10,31) -> 44135

Sheet Données de phases de la lune
C2: Dernier Quartier
C3: Nouvelle Lune
C4: Premier Quartier
C5: Pleine Lune
B7: DONNÉES DE PHASES DE LA LUNE
B8: 1 Horaire ajusté calculé pour MST (-7:00 UTC)
B9: 2 Données techniques provenant de https://aa.usno.navy.mil/data/docs/MoonPhase.php
B11: Jour et heure (UTC)* | C11: Heure ajustée1 | D11: Date | E11: Phase de la lune2
B12: 43833.198 | C12: =Tableau_Données_Lune[[#This Row],[Jour et heure (UTC)*]]-7/24 -> 43832.906 | D12: =INT(Tableau_Données_Lune[[#This Row],[Heure ajustée1]]) -> 43832 | E12: Premier quartier
B13: 43840.806 | C13: =Tableau_Données_Lune[[#This Row],[Jour et heure (UTC)*]]-7/24 -> 43840.515 | D13: =INT(Tableau_Données_Lune[[#This Row],[Heure ajustée1]]) -> 43840 | E13: Pleine lune
B14: 43847.54 | C14: =Tableau_Données_Lune[[#This Row],[Jour et heure (UTC)*]]-7/24 -> 43847.249 | D14: =INT(Tableau_Données_Lune[[#This Row],[Heure ajustée1]]) -> 43847 | E14: Dernier quartier
B15: 43854.904 | C15: =Tableau_Données_Lune[[#This Row],[Jour et heure (UTC)*]]-7/24 -> 43854.613 | D15: =INT(Tableau_Données_Lune[[#This Row],[Heure ajustée1]]) -> 43854 | E15: Nouvelle lune
B16: 43863.071 | C16: =Tableau_Données_Lune[[#This Row],[Jour et heure (UTC)*]]-7/24 -> 43862.779 | D16: =INT(Tableau_Données_Lune[[#This Row],[Heure ajustée1]]) -> 43862 | E16: Premier quartier
B17: 43870.315 | C17: =Tableau_Données_Lune[[#This Row],[Jour et heure (UTC)*]]-7/24 -> 43870.023 | D17: =INT(Tableau_Données_Lune[[#This Row],[Heure ajustée1]]) -> 43870 | E17: Pleine lune
B18: 43876.928 | C18: =Tableau_Données_Lune[[#This Row],[Jour et heure (UTC)*]]-7/24 -> 43876.637 | D18: =INT(Tableau_Données_Lune[[#This Row],[Heure ajustée1]]) -> 43876 | E18: Dernier quartier
B19: 43884.647 | C19: =Tableau_Données_Lune[[#This Row],[Jour et heure (UTC)*]]-7/24 -> 43884.356 | D19: =INT(Tableau_Données_Lune[[#This Row],[Heure ajustée1]]) -> 43884 | E19: Nouvelle lune
B20: 43892.831 | C20: =Tableau_Données_Lune[[#This Row],[Jour et heure (UTC)*]]-7/24 -> 43892.54 | D20: =INT(Tableau_Données_Lune[[#This Row],[Heure ajustée1]]) -> 43892 | E20: Premier quartier
B21: 43899.742 | C21: =Tableau_Données_Lune[[#This Row],[Jour et heure (UTC)*]]-7/24 -> 43899.45 | D21: =INT(Tableau_Données_Lune[[#This Row],[Heure ajustée1]]) -> 43899 | E21: Pleine lune
B22: 43906.399 | C22: =Tableau_Données_Lune[[#This Row],[Jour et heure (UTC)*]]-7/24 -> 43906.107 | D22: =INT(Tableau_Données_Lune[[#This Row],[Heure ajustée1]]) -> 43906 | E22: Dernier quartier
B23: 43914.394 | C23: =Tableau_Données_Lune[[#This Row],[Jour et heure (UTC)*]]-7/24 -> 43914.103 | D23: =INT(Tableau_Données_Lune[[#This Row],[Heure ajustée1]]) -> 43914 | E23: Nouvelle lune
... B556: 47848.567 | C556: =Tableau_Données_Lune[[#This Row],[Jour et heure (UTC)*]]-7/24 -> 47848.275 | D556: =INT(Tableau_Données_Lune[[#This Row],[Heure ajustée1]]) -> 47848 | E556: Premier quartier
