Workbook
Name mag: base!$D$4:$H$4

Sheet base
A4: lien hyp | B4: G | C4: Article | D4: A | E4: B | F4: C | G4: D | H4: E | I4: F | J4: G | K4: H | L4: I | M4: J | N4: K | O4: L | P4: M | Q4: N | R4: O | S4: P | T4: Q | U4: R | V4: S | W4: T | X4: U | Y4: W | Z4: X | AA4: Y | AB4: Z
A5: Conserve | B5: ? | C5: 1 | D5: 0.7 | E5: 0.8 | F5: 0.65 | G5: 0.68 | H5: 0.64
A6: Laitage | C6: 2
A7: Liquide | B7: 40318 | C7: 3 | D7: 0.2 | E7: 0.4 | F7: 0.25 | G7: 0.32 | H7: 0.42
A8: Liquide | B8: 40168 | C8: 4 | F8: 21.13 | G8: 21.12 | I8: 21.52 | K8: 23.83 | M8: 19.81 | N8: 20.47 | O8: 22.75 | P8: 32.83 | Q8: 24.79 | R8: 19.81 | S8: 24.76
A9: Beauté | B9: 40169 | C9: 5 | D9: 1.8 | E9: 1.9 | F9: 1.82 | G9: 1.83 | H9: 1.83
A10: Beauté | B10: 40170 | C10: 6 | D10: 1.6 | E10: 1.8 | H10: 1.56
A11: Surgelé | B11: 40171 | C11: 7 | D11: 0.79 | E11: 1.6 | H11: 0.99
A12: Animaux | B12: 40172 | C12: 8 | D12: 4 | E12: 4.9 | H12: 3.9
A13: textile | B13: 40173 | C13: 9 | H13: 4
A14: Liquide | B14: 40174 | C14: 10 | D14: 0.38 | E14: 0.45 | F14: 0.35 | G14: 0.35 | H14: 0.4
A15: Conserve | B15: 40175 | C15: 11 | D15: 3 | E15: 3.8 | F15: 2.89 | G15: 2.89 | H15: 2.99
A16: Conserve | B16: 40176 | C16: 12 | D16: 2.59 | E16: 2.79 | H16: 2.19
A17: Laitage | B17: 40177 | C17: 13 | D17: 0.99 | E17: 1.59 | F17: 0.89 | G17: 0.87 | H17: 1.49
A18: Laitage | B18: 40178 | C18: 14 | D18: 1.89 | E18: 1.95 | H18: 1.69
A19: Surgelé | B19: 40179 | C19: 15 | D19: 3.19 | E19: 3.45 | H19: 3.29
A20: Laitage | B20: 40180 | C20: 16 | D20: 2.25 | E20: 2.29 | F20: 1.99 | G20: 1.89 | H20: 2.39
A21: Liquide | B21: 40181 | C21: 17 | D21: 1.39 | E21: 1.29 | H21: 1
A22: Viande | B22: 40182 | C22: 18 | D22: 17.35 | G22: 18.2
A23: Viande | B23: 40183 | C23: 19 | D23: 1.15 | H23: 2.7
A24: Viande | B24: 40183 | C24: 20 | H24: 2.7
A25: Viande | B25: 40183 | C25: 21 | H25: 2.7
A26: Viande | B26: 40183 | C26: 22 | H26: 2.7
A27: Viande | B27: 40183 | C27: 23 | H27: 2.7
A28: Viande | B28: 40183 | C28: 24 | H28: 2.7
A29: Viande | B29: 40183 | C29: 25 | H29: 2.7
A30: Viande | B30: 40183 | C30: 26 | H30: 2.7
A31: Viande | B31: 40183 | C31: 27 | H31: 2.7
A32: Viande | B32: 40183 | C32: 28 | H32: 2.7
A33: Viande | B33: 40183 | C33: 29 | H33: 2.7
A34: Viande | B34: 40183 | C34: 30 | H34: 2.7
A35: Viande | B35: 40183 | C35: 31 | H35: 2.7
... A500: Viande | B500: 40183 | C500: 496 | H500: 2.7

Sheet achat_par_magasin
F1: mondial relay | S1: post NL
B2: total courses
B3: =SUM(E3:BA3)+SUM(C5:AY5) -> 1642.86 | C3: =SUM(D3:AZ3) -> 553.12 | D3: =SUM(D13:D710) -> 24.48 | E3: =SUM(E13:E710) -> 0 | F3: =SUM(F13:F710) -> 3.24 | G3: =SUM(G13:G710) -> 27.12 | H3: =SUM(H13:H710) -> 498.28 | I3: =SUM(I13:I710) -> 0 | J3: =SUM(J13:J710) -> 0 | K3: =SUM(K13:K710) -> 0 | ... AZ3: =SUM(AZ13:AZ710) -> 0
B4: frais livraison | F4: =IF(F2>39,0,3.99) -> 3.99
B5: total général | C5: =SUM(D5:AZ5) -> 557.11 | D5: =D3+D4 -> 24.48 | E5: =E3+E4 -> 0 | F5: =F3+F4 -> 7.23 | G5: =G3+G4 -> 27.12 | H5: =H3+H4 -> 498.28 | I5: =I3+I4 -> 0 | J5: =J3+J4 -> 0 | K5: =K3+K4 -> 0 | ... AZ5: =AZ3+AZ4 -> 0
F7: 3.99 | S7: 4.95
C8: < | D8: < | E8: < | F8: < | G8: < | H8: < | I8: < | J8: < | K8: < | L8: < | M8: < | N8: < | O8: < | P8: < | Q8: < | R8: < | S8: < | T8: < | U8: < | V8: < | W8: < | X8: < | Y8: < | Z8: < | AA8: < | AB8: < | AC8: < | AD8: < | AE8: < | AF8: < | AG8: < | AH8: < | AI8: < | AJ8: < | AK8: < | AL8: < | AM8: < | AN8: < | AO8: < | AP8: < | AQ8: < | AR8: < | AS8: < | AT8: < | AU8: < | AV8: < | AW8: < | AX8: < | AY8: < | AZ8: <
F9: 39 | S9: 40
B15: lien | C15: ARTICLE | D15: =base!D4 -> A | E15: =base!E4 -> B | F15: =base!F4 -> C | G15: =base!G4 -> D | H15: =base!H4 -> E | I15: =base!I4 -> F | J15: =base!J4 -> G | K15: =base!K4 -> H | ... AY15: =base!AY4 -> 0 | AZ15: 0
B16: =base!A5 -> Conserve | C16: =base!C5 -> 1 | D16: =IF($C16=0,"",IF(COUNTA(base!C5:H5)=0,"pas de prix",IF(base!D5=MIN(base!$D5:$H5),base!D5,""))) | E16: =IF($C16=0,"",IF(COUNTA(base!E5:I5)=0,"pas de prix",IF(base!E5=MIN(base!$D5:$H5),base!E5,""))) | F16: =IF($C16=0,"",IF(COUNTA(base!F5:I5)=0,"pas de prix",IF(base!F5=MIN(base!$D5:$H5),base!F5,""))) | G16: =IF($C16=0,"",IF(COUNTA(base!G5:K5)=0,"pas de prix",IF(base!G5=MIN(base!$D5:$H5),base!G5,""))) | H16: =IF($C16=0,"",IF(COUNTA(base!H5:L5)=0,"pas de prix",IF(base!H5=MIN(base!$D5:$H5),base!H5,""))) -> 0.64
B17: =base!A6 -> Laitage | C17: =base!C6 -> 2 | D17: =IF($C17=0,"",IF(COUNTA(base!D6:H6)=0,"pas de prix",IF(base!D6=MIN(base!$D6:$H6),base!D6,""))) -> pas de prix | E17: =IF($C17=0,"",IF(COUNTA(base!E6:I6)=0,"pas de prix",IF(base!E6=MIN(base!$D6:$H6),base!E6,""))) -> pas de prix | F17: =IF($C17=0,"",IF(COUNTA(base!F6:I6)=0,"pas de prix",IF(base!F6=MIN(base!$D6:$H6),base!F6,""))) -> pas de prix | G17: =IF($C17=0,"",IF(COUNTA(base!G6:K6)=0,"pas de prix",IF(base!G6=MIN(base!$D6:$H6),base!G6,""))) -> pas de prix | H17: =IF($C17=0,"",IF(COUNTA(base!H6:L6)=0,"pas de prix",IF(base!H6=MIN(base!$D6:$H6),base!H6,""))) -> pas de prix
B18: =base!A7 -> Liquide | C18: =base!C7 -> 3 | D18: =IF($C18=0,"",IF(COUNTA(base!D7:H7)=0,"pas de prix",IF(base!D7=MIN(base!$D7:$H7),base!D7,""))) -> 0.2 | E18: =IF($C18=0,"",IF(COUNTA(base!E7:I7)=0,"pas de prix",IF(base!E7=MIN(base!$D7:$H7),base!E7,""))) | F18: =IF($C18=0,"",IF(COUNTA(base!F7:I7)=0,"pas de prix",IF(base!F7=MIN(base!$D7:$H7),base!F7,""))) | G18: =IF($C18=0,"",IF(COUNTA(base!G7:K7)=0,"pas de prix",IF(base!G7=MIN(base!$D7:$H7),base!G7,""))) | H18: =IF($C18=0,"",IF(COUNTA(base!H7:L7)=0,"pas de prix",IF(base!H7=MIN(base!$D7:$H7),base!H7,"")))
B19: =base!A8 -> Liquide | C19: =base!C8 -> 4 | D19: =IF($C19=0,"",IF(COUNTA(base!D8:H8)=0,"pas de prix",IF(base!D8=MIN(base!$D8:$H8),base!D8,""))) | E19: =IF($C19=0,"",IF(COUNTA(base!E8:I8)=0,"pas de prix",IF(base!E8=MIN(base!$D8:$H8),base!E8,""))) | F19: =IF($C19=0,"",IF(COUNTA(base!F8:I8)=0,"pas de prix",IF(base!F8=MIN(base!$D8:$H8),base!F8,""))) | G19: =IF($C19=0,"",IF(COUNTA(base!G8:K8)=0,"pas de prix",IF(base!G8=MIN(base!$D8:$H8),base!G8,""))) -> 21.12 | H19: =IF($C19=0,"",IF(COUNTA(base!H8:L8)=0,"pas de prix",IF(base!H8=MIN(base!$D8:$H8),base!H8,""))) | I19: =IF($C19=0,"",IF(COUNTA(base!I8:S8)=0,"pas de prix",IF(base!I8=MIN(base!$D8:$H8),base!I8,""))) | J19: =IF($C19=0,"",IF(COUNTA(base!I8:S8)=0,"pas de prix",IF(base!J8=MIN(base!$D8:$H8),base!J8,""))) | K19: =IF($C19=0,"",IF(COUNTA(base!K8:S8)=0,"pas de prix",IF(base!K8=MIN(base!$D8:$H8),base!K8,""))) | L19: =IF($C19=0,"",IF(COUNTA(base!K8:S8)=0,"pas de prix",IF(base!L8=MIN(base!$D8:$H8),base!L8,""))) | M19: =IF($C19=0,"",IF(COUNTA(base!M8:S8)=0,"pas de prix",IF(base!M8=MIN(base!$D8:$H8),base!M8,""))) | N19: =IF($C19=0,"",IF(COUNTA(base!N8:R8)=0,"pas de prix",IF(base!N8=MIN(base!$D8:$H8),base!N8,""))) | O19: =IF($C19=0,"",IF(COUNTA(base!O8:S8)=0,"pas de prix",IF(base!O8=MIN(base!$D8:$H8),base!O8,""))) | P19: =IF($C19=0,"",IF(COUNTA(base!P8:T8)=0,"pas de prix",IF(base!P8=MIN(base!$D8:$H8),base!P8,""))) | Q19: =IF($C19=0,"",IF(COUNTA(base!Q8:U8)=0,"pas de prix",IF(base!Q8=MIN(base!$D8:$H8),base!Q8,""))) | R19: =IF($C19=0,"",IF(COUNTA(base!R8:V8)=0,"pas de prix",IF(base!R8=MIN(base!$D8:$H8),base!R8,""))) | S19: =IF($C19=0,"",IF(COUNTA(base!S8:W8)=0,"pas de prix",IF(base!S8=MIN(base!$D8:$H8),base!S8,""))) | T19: =IF($C19=0,"",IF(COUNTA(base!T8:X8)=0,"pas de prix",IF(base!T8=MIN(base!$D8:$H8),base!T8,""))) -> pas de prix | U19: =IF($C19=0,"",IF(COUNTA(base!U8:Y8)=0,"pas de prix",IF(base!U8=MIN(base!$D8:$H8),base!U8,""))) -> pas de prix | ... AZ19: =IF($C19=0,"",IF(COUNTA(base!AZ8:BD8)=0,"pas de prix",IF(base!AZ8=MIN(base!$D8:$H8),base!AZ8,""))) -> pas de prix
B20: =base!A9 -> Beauté | C20: =base!C9 -> 5 | D20: =IF($C20=0,"",IF(COUNTA(base!D9:H9)=0,"pas de prix",IF(base!D9=MIN(base!$D9:$H9),base!D9,""))) -> 1.8 | E20: =IF($C20=0,"",IF(COUNTA(base!E9:I9)=0,"pas de prix",IF(base!E9=MIN(base!$D9:$H9),base!E9,""))) | F20: =IF($C20=0,"",IF(COUNTA(base!F9:I9)=0,"pas de prix",IF(base!F9=MIN(base!$D9:$H9),base!F9,""))) | G20: =IF($C20=0,"",IF(COUNTA(base!G9:K9)=0,"pas de prix",IF(base!G9=MIN(base!$D9:$H9),base!G9,""))) | H20: =IF($C20=0,"",IF(COUNTA(base!H9:L9)=0,"pas de prix",IF(base!H9=MIN(base!$D9:$H9),base!H9,"")))
B21: =base!A10 -> Beauté | C21: =base!C10 -> 6 | D21: =IF($C21=0,"",IF(COUNTA(base!D10:H10)=0,"pas de prix",IF(base!D10=MIN(base!$D10:$H10),base!D10,""))) | E21: =IF($C21=0,"",IF(COUNTA(base!E10:I10)=0,"pas de prix",IF(base!E10=MIN(base!$D10:$H10),base!E10,""))) | F21: =IF($C21=0,"",IF(COUNTA(base!F10:I10)=0,"pas de prix",IF(base!F10=MIN(base!$D10:$H10),base!F10,""))) | G21: =IF($C21=0,"",IF(COUNTA(base!G10:K10)=0,"pas de prix",IF(base!G10=MIN(base!$D10:$H10),base!G10,""))) | H21: =IF($C21=0,"",IF(COUNTA(base!H10:L10)=0,"pas de prix",IF(base!H10=MIN(base!$D10:$H10),base!H10,""))) -> 1.56
B22: =base!A11 -> Surgelé | C22: =base!C11 -> 7 | D22: =IF($C22=0,"",IF(COUNTA(base!D11:H11)=0,"pas de prix",IF(base!D11=MIN(base!$D11:$H11),base!D11,""))) -> 0.79 | E22: =IF($C22=0,"",IF(COUNTA(base!E11:I11)=0,"pas de prix",IF(base!E11=MIN(base!$D11:$H11),base!E11,""))) | F22: =IF($C22=0,"",IF(COUNTA(base!F11:I11)=0,"pas de prix",IF(base!F11=MIN(base!$D11:$H11),base!F11,""))) | G22: =IF($C22=0,"",IF(COUNTA(base!G11:K11)=0,"pas de prix",IF(base!G11=MIN(base!$D11:$H11),base!G11,""))) | H22: =IF($C22=0,"",IF(COUNTA(base!H11:L11)=0,"pas de prix",IF(base!H11=MIN(base!$D11:$H11),base!H11,"")))
B23: =base!A12 -> Animaux | C23: =base!C12 -> 8 | D23: =IF($C23=0,"",IF(COUNTA(base!D12:H12)=0,"pas de prix",IF(base!D12=MIN(base!$D12:$H12),base!D12,""))) | E23: =IF($C23=0,"",IF(COUNTA(base!E12:I12)=0,"pas de prix",IF(base!E12=MIN(base!$D12:$H12),base!E12,""))) | F23: =IF($C23=0,"",IF(COUNTA(base!F12:I12)=0,"pas de prix",IF(base!F12=MIN(base!$D12:$H12),base!F12,""))) | G23: =IF($C23=0,"",IF(COUNTA(base!G12:K12)=0,"pas de prix",IF(base!G12=MIN(base!$D12:$H12),base!G12,""))) | H23: =IF($C23=0,"",IF(COUNTA(base!H12:L12)=0,"pas de prix",IF(base!H12=MIN(base!$D12:$H12),base!H12,""))) -> 3.9
B24: =base!A13 -> textile | C24: =base!C13 -> 9 | D24: =IF($C24=0,"",IF(COUNTA(base!D13:H13)=0,"pas de prix",IF(base!D13=MIN(base!$D13:$H13),base!D13,""))) | E24: =IF($C24=0,"",IF(COUNTA(base!E13:I13)=0,"pas de prix",IF(base!E13=MIN(base!$D13:$H13),base!E13,""))) | F24: =IF($C24=0,"",IF(COUNTA(base!F13:I13)=0,"pas de prix",IF(base!F13=MIN(base!$D13:$H13),base!F13,""))) | G24: =IF($C24=0,"",IF(COUNTA(base!G13:K13)=0,"pas de prix",IF(base!G13=MIN(base!$D13:$H13),base!G13,""))) | H24: =IF($C24=0,"",IF(COUNTA(base!H13:L13)=0,"pas de prix",IF(base!H13=MIN(base!$D13:$H13),base!H13,""))) -> 4
B25: =base!A14 -> Liquide | C25: =base!C14 -> 10 | D25: =IF($C25=0,"",IF(COUNTA(base!D14:H14)=0,"pas de prix",IF(base!D14=MIN(base!$D14:$H14),base!D14,""))) | E25: =IF($C25=0,"",IF(COUNTA(base!E14:I14)=0,"pas de prix",IF(base!E14=MIN(base!$D14:$H14),base!E14,""))) | F25: =IF($C25=0,"",IF(COUNTA(base!F14:I14)=0,"pas de prix",IF(base!F14=MIN(base!$D14:$H14),base!F14,""))) -> 0.35 | G25: =IF($C25=0,"",IF(COUNTA(base!G14:K14)=0,"pas de prix",IF(base!G14=MIN(base!$D14:$H14),base!G14,""))) -> 0.35 | H25: =IF($C25=0,"",IF(COUNTA(base!H14:L14)=0,"pas de prix",IF(base!H14=MIN(base!$D14:$H14),base!H14,"")))
B26: =base!A15 -> Conserve | C26: =base!C15 -> 11 | D26: =IF($C26=0,"",IF(COUNTA(base!D15:H15)=0,"pas de prix",IF(base!D15=MIN(base!$D15:$H15),base!D15,""))) | E26: =IF($C26=0,"",IF(COUNTA(base!E15:I15)=0,"pas de prix",IF(base!E15=MIN(base!$D15:$H15),base!E15,""))) | F26: =IF($C26=0,"",IF(COUNTA(base!F15:I15)=0,"pas de prix",IF(base!F15=MIN(base!$D15:$H15),base!F15,""))) -> 2.89 | G26: =IF($C26=0,"",IF(COUNTA(base!G15:K15)=0,"pas de prix",IF(base!G15=MIN(base!$D15:$H15),base!G15,""))) -> 2.89 | H26: =IF($C26=0,"",IF(COUNTA(base!H15:L15)=0,"pas de prix",IF(base!H15=MIN(base!$D15:$H15),base!H15,"")))
B27: =base!A16 -> Conserve | C27: =base!C16 -> 12 | D27: =IF($C27=0,"",IF(COUNTA(base!D16:H16)=0,"pas de prix",IF(base!D16=MIN(base!$D16:$H16),base!D16,""))) | E27: =IF($C27=0,"",IF(COUNTA(base!E16:I16)=0,"pas de prix",IF(base!E16=MIN(base!$D16:$H16),base!E16,""))) | F27: =IF($C27=0,"",IF(COUNTA(base!F16:I16)=0,"pas de prix",IF(base!F16=MIN(base!$D16:$H16),base!F16,""))) | G27: =IF($C27=0,"",IF(COUNTA(base!G16:K16)=0,"pas de prix",IF(base!G16=MIN(base!$D16:$H16),base!G16,""))) | H27: =IF($C27=0,"",IF(COUNTA(base!H16:L16)=0,"pas de prix",IF(base!H16=MIN(base!$D16:$H16),base!H16,""))) -> 2.19
B28: =base!A17 -> Laitage | C28: =base!C17 -> 13 | D28: =IF($C28=0,"",IF(COUNTA(base!D17:H17)=0,"pas de prix",IF(base!D17=MIN(base!$D17:$H17),base!D17,""))) | E28: =IF($C28=0,"",IF(COUNTA(base!E17:I17)=0,"pas de prix",IF(base!E17=MIN(base!$D17:$H17),base!E17,""))) | F28: =IF($C28=0,"",IF(COUNTA(base!F17:I17)=0,"pas de prix",IF(base!F17=MIN(base!$D17:$H17),base!F17,""))) | G28: =IF($C28=0,"",IF(COUNTA(base!G17:K17)=0,"pas de prix",IF(base!G17=MIN(base!$D17:$H17),base!G17,""))) -> 0.87 | H28: =IF($C28=0,"",IF(COUNTA(base!H17:L17)=0,"pas de prix",IF(base!H17=MIN(base!$D17:$H17),base!H17,"")))
B29: =base!A18 -> Laitage | C29: =base!C18 -> 14 | D29: =IF($C29=0,"",IF(COUNTA(base!D18:H18)=0,"pas de prix",IF(base!D18=MIN(base!$D18:$H18),base!D18,""))) | E29: =IF($C29=0,"",IF(COUNTA(base!E18:I18)=0,"pas de prix",IF(base!E18=MIN(base!$D18:$H18),base!E18,""))) | F29: =IF($C29=0,"",IF(COUNTA(base!F18:I18)=0,"pas de prix",IF(base!F18=MIN(base!$D18:$H18),base!F18,""))) | G29: =IF($C29=0,"",IF(COUNTA(base!G18:K18)=0,"pas de prix",IF(base!G18=MIN(base!$D18:$H18),base!G18,""))) | H29: =IF($C29=0,"",IF(COUNTA(base!H18:L18)=0,"pas de prix",IF(base!H18=MIN(base!$D18:$H18),base!H18,""))) -> 1.69
B30: =base!A19 -> Surgelé | C30: =base!C19 -> 15 | D30: =IF($C30=0,"",IF(COUNTA(base!D19:H19)=0,"pas de prix",IF(base!D19=MIN(base!$D19:$H19),base!D19,""))) -> 3.19 | E30: =IF($C30=0,"",IF(COUNTA(base!E19:I19)=0,"pas de prix",IF(base!E19=MIN(base!$D19:$H19),base!E19,""))) | F30: =IF($C30=0,"",IF(COUNTA(base!F19:I19)=0,"pas de prix",IF(base!F19=MIN(base!$D19:$H19),base!F19,""))) | G30: =IF($C30=0,"",IF(COUNTA(base!G19:K19)=0,"pas de prix",IF(base!G19=MIN(base!$D19:$H19),base!G19,""))) | H30: =IF($C30=0,"",IF(COUNTA(base!H19:L19)=0,"pas de prix",IF(base!H19=MIN(base!$D19:$H19),base!H19,"")))
B31: =base!A20 -> Laitage | C31: =base!C20 -> 16 | D31: =IF($C31=0,"",IF(COUNTA(base!D20:H20)=0,"pas de prix",IF(base!D20=MIN(base!$D20:$H20),base!D20,""))) | E31: =IF($C31=0,"",IF(COUNTA(base!E20:I20)=0,"pas de prix",IF(base!E20=MIN(base!$D20:$H20),base!E20,""))) | F31: =IF($C31=0,"",IF(COUNTA(base!F20:I20)=0,"pas de prix",IF(base!F20=MIN(base!$D20:$H20),base!F20,""))) | G31: =IF($C31=0,"",IF(COUNTA(base!G20:K20)=0,"pas de prix",IF(base!G20=MIN(base!$D20:$H20),base!G20,""))) -> 1.89 | H31: =IF($C31=0,"",IF(COUNTA(base!H20:L20)=0,"pas de prix",IF(base!H20=MIN(base!$D20:$H20),base!H20,"")))
... B213: =base!A202 -> Viande | C213: =base!C202 -> 198 | D213: =IF($C213=0,"",IF(COUNTA(base!D202:H202)=0,"pas de prix",IF(base!D202=MIN(base!$D202:$H202),base!D202,""))) | E213: =IF($C213=0,"",IF(COUNTA(base!E202:I202)=0,"pas de prix",IF(base!E202=MIN(base!$D202:$H202),base!E202,""))) | F213: =IF($C213=0,"",IF(COUNTA(base!F202:I202)=0,"pas de prix",IF(base!F202=MIN(base!$D202:$H202),base!F202,""))) | G213: =IF($C213=0,"",IF(COUNTA(base!G202:K202)=0,"pas de prix",IF(base!G202=MIN(base!$D202:$H202),base!G202,""))) | H213: =IF($C213=0,"",IF(COUNTA(base!H202:L202)=0,"pas de prix",IF(base!H202=MIN(base!$D202:$H202),base!H202,""))) -> 2.7
B214: =base!A203 -> Viande | C214: =base!C203 -> 199
B215: =base!A204 -> Viande | C215: =base!C204 -> 200
B216: =base!A205 -> Viande | C216: =base!C205 -> 201
B217: =base!A206 -> Viande | C217: =base!C206 -> 202
B218: =base!A207 -> Viande | C218: =base!C207 -> 203
B219: =base!A208 -> Viande | C219: =base!C208 -> 204
B220: =base!A209 -> Viande | C220: =base!C209 -> 205
B221: =base!A210 -> Viande | C221: =base!C210 -> 206
B222: =base!A211 -> Viande | C222: =base!C211 -> 207
B223: =base!A212 -> Viande | C223: =base!C212 -> 208
B224: =base!A213 -> Viande | C224: =base!C213 -> 209
B225: =base!A214 -> Viande | C225: =base!C214 -> 210
... B500: =base!A489 -> Viande | C500: =base!C489 -> 485

Sheet produit
K1: valeur à saisir manuellement
A3: Produit | B3: nbre de produits par boîte | C3: nbre effectif produit | D3: prix/1 | E3: nombre de boîtes à commander | F3: nbre arrondi de col D | G3: commande de X btes | H3: prix par boite | I3: total cde | J3: Date du stock | K3: Stock d'unité restant à date | L3: Nbre produit /jour | M3: Nbre qté /sem | N3: produit pour autant de jours | O3: Stock à zéro fin le | P3: Nbre de semaines complètes avec comprimés | Q3: Délai approvisionnement (à partir de la commande) | R3: A re-commander au plus tard le | S3: nbre btes recues | T3: nv stock | U3: date reception | V3: stock jusqu'au | W3: date consultation ficher | X3: stock à ce jour
A4: produit de référence | B4: 200 | C4: =E4*B4 -> 400 | D4: =H4/B4 -> 0.07 | E4: 2 | F4: =ROUND(E4,1) -> 2 | G4: 1 | H4: 14 | I4: =H4*G4 -> 14 | J4: 44778 | K4: 394 | L4: 1 | M4: =L4*7 -> 7 | N4: =B4/(M4/7) -> 200 | O4: =J4+K4/L4 -> 45172 | P4: =INT(K4/L4/7) -> 56 | Q4: 3 | R4: =O4-Q4 -> 45169 | S4: 1 | T4: =K4+(S4*B4) -> 594 | U4: 44788 | V4: =U4+T4/L4 -> 45382 | W4: 44896 | X4: =T4-(W4-U4) -> 486
A5: =base!C5 -> 1 | B5: 30 | C5: =E5*B5 -> 200 | D5: =H5/B5 -> 1.2763333 | E5: =$B$4/N5*L5 -> 6.6666667 | F5: =ROUND(E5,1) -> 6.7 | G5: 1 | H5: 38.29 | I5: =H5*G5 -> 38.29 | J5: 44778 | K5: 128 | L5: 1 | M5: =L5*7 -> 7 | N5: =B5/(M5/7) -> 30 | O5: =J5+K5/L5 -> 44906 | P5: =INT(K5/L5/7) -> 18 | Q5: 5 | R5: =O5-Q5 -> 44901 | S5: 0 | T5: =K5+(S5*B5) -> 128 | U5: 44782 | V5: =U5+T5/L5 -> 44910 | W5: 44896 | X5: =T5-(W5-U5) -> 14
A6: =base!C6 -> 2 | C6: =E6*B6 -> #DIV/0! | D6: =H6/B6 -> #DIV/0! | E6: =$B$4/N6*L6 -> #DIV/0! | F6: =ROUND(E6,1) -> #DIV/0! | G6: 2 | H6: 14 | I6: =H6*G6 -> 28 | J6: 44778 | K6: 150 | L6: 0.5 | M6: =L6*7 -> 3.5 | N6: =B6/(M6/7) -> 0 | O6: =J6+K6/L6 -> 45078 | P6: =INT(K6/L6/7) -> 42 | Q6: 2 | R6: =O6-Q6 -> 45076 | S6: 0 | T6: =K6+(S6*B6) -> 150 | U6: 44788 | V6: =U6+T6/L6 -> 45088 | W6: 44896 | X6: =T6-(W6-U6) -> 42
A7: =base!C7 -> 3 | B7: 90 | C7: =E7*B7 -> 800 | D7: =H7/B7 -> 0.11111111 | E7: =$B$4/N7*L7 -> 8.8888889 | F7: =ROUND(E7,1) -> 8.9 | G7: 1 | H7: 10 | I7: =H7*G7 -> 10 | J7: 44778 | K7: 21 | L7: 2 | M7: =L7*7 -> 14 | N7: =B7/(M7/7) -> 45 | O7: =J7+K7/L7 -> 44788.5 | P7: =INT(K7/L7/7) -> 1 | Q7: 7 | R7: =O7-Q7 -> 44781.5 | S7: 0 | T7: =K7+(S7*B7) -> 21 | V7: =U7+T7/L7 -> 10.5 | W7: 44896 | X7: =T7-(W7-U7) -> -44875
A8: =base!C8 -> 4 | B8: 90 | C8: =E8*B8 -> 800 | D8: =H8/B8 -> 0.151 | E8: =$B$4/N8*L8 -> 8.8888889 | F8: =ROUND(E8,1) -> 8.9 | H8: 13.59 | I8: =H8*G8 -> 0 | J8: 44778 | K8: 2 | L8: 2 | M8: =L8*7 -> 14 | N8: =B8/(M8/7) -> 45 | O8: =J8+K8/L8 -> 44779 | P8: =INT(K8/L8/7) -> 0 | Q8: 3 | R8: =O8-Q8 -> 44776 | S8: 0 | T8: =K8+(S8*B8) -> 2 | V8: =U8+T8/L8 -> 1 | W8: 44896 | X8: =T8-(W8-U8) -> -44894
A9: =base!C9 -> 5 | B9: 120 | C9: =E9*B9 -> 200 | D9: =H9/B9 -> 0.433 | E9: =$B$4/N9*L9 -> 1.6666667 | F9: =ROUND(E9,1) -> 1.7 | H9: 51.96 | I9: =H9*G9 -> 0 | J9: 44778 | K9: 26 | L9: 1 | M9: =L9*7 -> 7 | N9: =B9/(M9/7) -> 120 | O9: =J9+K9/L9 -> 44804 | P9: =INT(K9/L9/7) -> 3
A10: =base!C10 -> 6 | B10: 90 | C10: =E10*B10 -> 800 | D10: =H10/B10 -> 0.53955556 | E10: =$B$4/N10*L10 -> 8.8888889 | F10: =ROUND(E10,1) -> 8.9 | H10: 48.56 | I10: =H10*G10 -> 0 | J10: 44778 | K10: 18 | L10: 2 | M10: =L10*7 -> 14 | N10: =B10/(M10/7) -> 45 | O10: =J10+K10/L10 -> 44787 | P10: =INT(K10/L10/7) -> 1 | Q10: 5 | R10: =O10-Q10 -> 44782 | S10: 0 | T10: =K10+(S10*B10) -> 18 | V10: =U10+T10/L10 -> 9 | W10: 44896 | X10: =T10-(W10-U10) -> -44878
A11: =base!C11 -> 7 | B11: 30 | C11: =E11*B11 -> 800 | D11: =H11/B11 -> 0.58233333 | E11: =$B$4/N11*L11 -> 26.666667 | F11: =ROUND(E11,1) -> 26.7 | H11: 17.47 | I11: =H11*G11 -> 0 | J11: 44778 | K11: 125 | L11: 2 | M11: =L11*7 -> 14 | N11: =B11/(M11/7) -> 15 | O11: =J11+K11/L11 -> 44840.5 | P11: =INT(K11/L11/7) -> 8 | Q11: 2 | R11: =O11-Q11 -> 44838.5 | S11: 0 | T11: =K11+(S11*B11) -> 125 | V11: =U11+T11/L11 -> 62.5 | W11: 44896 | X11: =T11-(W11-U11) -> -44771
A12: =base!C12 -> 8 | B12: 60 | C12: =E12*B12 -> 800 | D12: =H12/B12 -> 0.49266667 | E12: =$B$4/N12*L12 -> 13.333333 | F12: =ROUND(E12,1) -> 13.3 | H12: 29.56 | I12: =H12*G12 -> 0 | J12: 44778 | K12: 125 | L12: 2 | M12: =L12*7 -> 14 | N12: =B12/(M12/7) -> 30 | O12: =J12+K12/L12 -> 44840.5 | P12: =INT(K12/L12/7) -> 8 | Q12: 2 | R12: =O12-Q12 -> 44838.5 | S12: 0 | T12: =K12+(S12*B12) -> 125 | V12: =U12+T12/L12 -> 62.5 | W12: 44896 | X12: =T12-(W12-U12) -> -44771
A13: =base!C13 -> 9 | B13: 120 | C13: =E13*B13 -> 800 | D13: =H13/B13 -> 0.46916667 | E13: =$B$4/N13*L13 -> 6.6666667 | F13: =ROUND(E13,1) -> 6.7 | H13: 56.3 | I13: =H13*G13 -> 0 | J13: 44778 | K13: 125 | L13: 2 | M13: =L13*7 -> 14 | N13: =B13/(M13/7) -> 60 | O13: =J13+K13/L13 -> 44840.5 | P13: =INT(K13/L13/7) -> 8 | Q13: 2 | R13: =O13-Q13 -> 44838.5 | S13: 0 | T13: =K13+(S13*B13) -> 125 | V13: =U13+T13/L13 -> 62.5 | W13: 44896 | X13: =T13-(W13-U13) -> -44771
A14: =base!C14 -> 10 | B14: 60 | C14: =E14*B14 -> 800 | D14: =H14/B14 -> 0.26583333 | E14: =$B$4/N14*L14 -> 13.333333 | F14: =ROUND(E14,1) -> 13.3 | H14: 15.95 | I14: =H14*G14 -> 0 | J14: 44778 | K14: 394 | L14: 2 | M14: =L14*7 -> 14 | N14: =B14/(M14/7) -> 30 | O14: =J14+K14/L14 -> 44975 | P14: =INT(K14/L14/7) -> 28 | Q14: 7 | R14: =O14-Q14 -> 44968 | S14: 0 | T14: =K14+(S14*B14) -> 394 | V14: =U14+T14/L14 -> 197 | W14: 44896 | X14: =T14-(W14-U14) -> -44502
A15: =base!C15 -> 11 | B15: 90 | C15: =E15*B15 -> 800 | D15: =H15/B15 -> 0.44444444 | E15: =$B$4/N15*L15 -> 8.8888889 | F15: =ROUND(E15,1) -> 8.9 | H15: 40 | I15: =H15*G15 -> 0 | J15: 44778 | K15: 247 | L15: 2 | M15: =L15*7 -> 14 | N15: =B15/(M15/7) -> 45 | O15: =J15+K15/L15 -> 44901.5 | P15: =INT(K15/L15/7) -> 17 | Q15: 3 | R15: =O15-Q15 -> 44898.5 | S15: 0 | T15: =K15+(S15*B15) -> 247 | V15: =U15+T15/L15 -> 123.5 | W15: 44896 | X15: =T15-(W15-U15) -> -44649
A16: =base!C16 -> 12 | B16: 100 | C16: =E16*B16 -> 800 | D16: =H16/B16 -> 0.09 | E16: =$B$4/N16*L16 -> 8 | F16: =ROUND(E16,1) -> 8 | H16: 9 | I16: =H16*G16 -> 0 | J16: 44778 | K16: 256 | L16: 2 | M16: =L16*7 -> 14 | N16: =B16/(M16/7) -> 50 | O16: =J16+K16/L16 -> 44906 | P16: =INT(K16/L16/7) -> 18 | Q16: 5 | R16: =O16-Q16 -> 44901 | S16: 0 | T16: =K16+(S16*B16) -> 256 | V16: =U16+T16/L16 -> 128 | W16: 44896 | X16: =T16-(W16-U16) -> -44640
A17: =base!C17 -> 13 | B17: 60 | C17: =E17*B17 -> 800 | D17: =H17/B17 -> 0.12766667 | E17: =$B$4/N17*L17 -> 13.333333 | F17: =ROUND(E17,1) -> 13.3 | H17: 7.66 | I17: =H17*G17 -> 0 | J17: 44778 | K17: 44 | L17: 2 | M17: =L17*7 -> 14 | N17: =B17/(M17/7) -> 30 | O17: =J17+K17/L17 -> 44800 | P17: =INT(K17/L17/7) -> 3 | Q17: 2 | R17: =O17-Q17 -> 44798 | S17: 0 | T17: =K17+(S17*B17) -> 44 | V17: =U17+T17/L17 -> 22 | W17: 44896 | X17: =T17-(W17-U17) -> -44852
A18: =base!C18 -> 14 | B18: 120 | C18: =E18*B18 -> 800 | D18: =H18/B18 -> 0.13758333 | E18: =$B$4/N18*L18 -> 6.6666667 | F18: =ROUND(E18,1) -> 6.7 | H18: 16.51 | I18: =H18*G18 -> 0 | J18: 44778 | K18: 44 | L18: 2 | M18: =L18*7 -> 14 | N18: =B18/(M18/7) -> 60 | O18: =J18+K18/L18 -> 44800 | P18: =INT(K18/L18/7) -> 3 | Q18: 2 | R18: =O18-Q18 -> 44798 | S18: 0 | T18: =K18+(S18*B18) -> 44 | V18: =U18+T18/L18 -> 22 | W18: 44896 | X18: =T18-(W18-U18) -> -44852
A19: =base!C19 -> 15 | B19: 180 | C19: =E19*B19 -> 800 | D19: =H19/B19 -> 0.13255556 | E19: =$B$4/N19*L19 -> 4.4444444 | F19: =ROUND(E19,1) -> 4.4 | H19: 23.86 | I19: =H19*G19 -> 0 | J19: 44778 | K19: 26 | L19: 2 | M19: =L19*7 -> 14 | N19: =B19/(M19/7) -> 90 | O19: =J19+K19/L19 -> 44791 | P19: =INT(K19/L19/7) -> 1 | Q19: 7 | R19: =O19-Q19 -> 44784 | S19: 0 | T19: =K19+(S19*B19) -> 26 | V19: =U19+T19/L19 -> 13 | W19: 44896 | X19: =T19-(W19-U19) -> -44870
A20: =base!C20 -> 16 | B20: 56 | C20: =E20*B20 -> 800 | D20: =H20/B20 -> 0 | E20: =$B$4/N20*L20 -> 14.285714 | F20: =ROUND(E20,1) -> 14.3 | I20: =H20*G20 -> 0 | J20: 44778 | K20: 72 | L20: 2 | M20: =L20*7 -> 14 | N20: =B20/(M20/7) -> 28 | O20: =J20+K20/L20 -> 44814 | P20: =INT(K20/L20/7) -> 5 | Q20: 3 | R20: =O20-Q20 -> 44811 | S20: 0 | T20: =K20+(S20*B20) -> 72 | V20: =U20+T20/L20 -> 36 | W20: 44896 | X20: =T20-(W20-U20) -> -44824
A21: =base!C21 -> 17 | B21: 60 | C21: =E21*B21 -> 800 | D21: =H21/B21 -> 0 | E21: =$B$4/N21*L21 -> 13.333333 | F21: =ROUND(E21,1) -> 13.3 | I21: =H21*G21 -> 0 | J21: 44778 | K21: 80 | L21: 2 | M21: =L21*7 -> 14 | N21: =B21/(M21/7) -> 30 | O21: =J21+K21/L21 -> 44818 | P21: =INT(K21/L21/7) -> 5 | Q21: 5 | R21: =O21-Q21 -> 44813 | S21: 0 | T21: =K21+(S21*B21) -> 80 | V21: =U21+T21/L21 -> 40 | W21: 44896 | X21: =T21-(W21-U21) -> -44816
A22: =base!C22 -> 18 | B22: 56 | C22: =E22*B22 -> 800 | D22: =H22/B22 -> 0 | E22: =$B$4/N22*L22 -> 14.285714 | F22: =ROUND(E22,1) -> 14.3 | I22: =H22*G22 -> 0 | J22: 44778 | K22: 75 | L22: 2 | M22: =L22*7 -> 14 | N22: =B22/(M22/7) -> 28 | O22: =J22+K22/L22 -> 44815.5 | P22: =INT(K22/L22/7) -> 5 | Q22: 2 | R22: =O22-Q22 -> 44813.5 | S22: 0 | T22: =K22+(S22*B22) -> 75 | V22: =U22+T22/L22 -> 37.5 | W22: 44896 | X22: =T22-(W22-U22) -> -44821
A23: =base!C23 -> 19 | B23: 168 | C23: =E23*B23 -> 800 | D23: =H23/B23 -> 0 | E23: =$B$4/N23*L23 -> 4.7619048 | F23: =ROUND(E23,1) -> 4.8 | I23: =H23*G23 -> 0 | J23: 44778 | K23: 25 | L23: 2 | M23: =L23*7 -> 14 | N23: =B23/(M23/7) -> 84 | O23: =J23+K23/L23 -> 44790.5 | P23: =INT(K23/L23/7) -> 1 | Q23: 7 | R23: =O23-Q23 -> 44783.5 | S23: 0 | T23: =K23+(S23*B23) -> 25 | V23: =U23+T23/L23 -> 12.5 | W23: 44896 | X23: =T23-(W23-U23) -> -44871
A24: =base!C24 -> 20 | B24: 12 | C24: =E24*B24 -> 800 | D24: =H24/B24 -> 0 | E24: =$B$4/N24*L24 -> 66.666667 | F24: =ROUND(E24,1) -> 66.7 | J24: 44778 | K24: 39 | L24: 2 | M24: =L24*7 -> 14 | N24: =B24/(M24/7) -> 6 | O24: =J24+K24/L24 -> 44797.5 | P24: =INT(K24/L24/7) -> 2 | Q24: 3 | R24: =O24-Q24 -> 44794.5 | S24: 0 | T24: =K24+(S24*B24) -> 39 | V24: =U24+T24/L24 -> 19.5 | W24: 44896 | X24: =T24-(W24-U24) -> -44857
A25: =base!C25 -> 21 | B25: 1 | C25: =E25*B25 -> 800 | D25: =H25/B25 -> 0 | E25: =$B$4/N25*L25 -> 800 | F25: =ROUND(E25,1) -> 800 | J25: 44778 | K25: 48 | L25: 2 | M25: =L25*7 -> 14 | N25: =B25/(M25/7) -> 0.5 | O25: =J25+K25/L25 -> 44802 | P25: =INT(K25/L25/7) -> 3 | Q25: 20 | R25: =O25-Q25 -> 44782 | S25: 0 | T25: =K25+(S25*B25) -> 48 | V25: =U25+T25/L25 -> 24 | W25: 44896 | X25: =T25-(W25-U25) -> -44848
