Workbook
Name _300_T: 'PLAN CHARGE'!$BK$2:$BK$28
Name _600_T: 'PLAN CHARGE'!#REF!
Name _A10: 'PLAN CHARGE'!#REF!
Name Priority_machine_Galion: 'PLAN CHARGE'!#REF!
Name Priority_machine_Reality: 'PLAN CHARGE'!#REF!

Sheet PLAN CHARGE
Q1: Theoritical | R1: Tonnage | S1: Nr. of machines | T1: TRS | U1: 44440 | V1: 44470 | W1: 44501 | X1: 44531 | Y1: 44562 | Z1: 44593 | AA1: 44621 | AB1: 44652 | AC1: 44682 | AD1: 44713 | AE1: 44743 | AF1: 44774 | AG1: 44805 | AH1: 44835 | AI1: 44866 | AJ1: 44896 | AK1: Q1 2023 | AL1: Q2 2023 | AM1: Q3 2023 | AN1: Q4 2023 | AO1: Q1 2024 | AP1: Q2 2024 | AQ1: Q3 2024 | AR1: Q4 2024 | AS1: Q1 2025 | AT1: Q2 2025 | AU1: Q3 2025 | AV1: Q4 2025 | AW1: Q1 2026 | AX1: Q2 2026 | AY1: Q3 2026 | AZ1: Q4 2026 | BA1: Q1 2027 | BB1: Q2 2027 | BC1: Q3 2027 | BD1: Q4 2027 | BK1: List of inj machines
P2: =R2 & " (Nb of machines: " & S2 & ")" -> 60 T (Nb of machines: 1) | R2: 60 T | S2: 1 | T2: 0.95 | U2: 37.786778 | V2: 5.3924319 | W2: 5.0991009 | X2: 5.0369317 | Y2: 33.511046 | Z2: 35.10681 | AA2: 30.718459 | AB2: 35.10681 | AC2: 32.054044 | AD2: 32.054044 | AE2: 33.511046 | AF2: 29.986574 | AG2: 32.712627 | AH2: 32.712627 | AI2: 31.290338 | AJ2: 32.712627 | AK2: 32.878658 | AL2: 32.878658 | AM2: 27.398882 | AN2: 29.682122 | AO2: 33.035465 | AP2: 38.219291 | AQ2: 32.358021 | AR2: 35.003438 | AS2: 38.80728 | AT2: 38.219291 | AU2: 32.358021 | AV2: 35.003438 | AW2: 38.80728 | AX2: 38.219291 | AY2: 32.358021 | AZ2: 35.003438 | BA2: 0 | BB2: 0 | BC2: 0 | BD2: 0 | BK2: A0,1
P3: =R3 & " (Nb of machines: " & S3 & ")" -> Bi90 T (Nb of machines: 1) | R3: Bi90 T | S3: 1 | T3: 0.94 | U3: 1.0033591 | V3: 0.0052448315 | W3: 0.0050167953 | X3: 0.0050167953 | Y3: 1.0489663 | Z3: 1.0989171 | AA3: 0.96155244 | AB3: 1.0989171 | AC3: 1.0033591 | AD3: 1.0033591 | AE3: 1.0489663 | AF3: 0.96155244 | AG3: 1.0489663 | AH3: 1.0489663 | AI3: 1.0033591 | AJ3: 1.0489663 | AK3: 0.0017751737 | AL3: 0.0017751737 | AM3: 0.0017751737 | AN3: 0.0017482772 | AO3: 0.0017482772 | AP3: 0.0017482772 | AQ3: 0.0017221835 | AR3: 0.0017221835 | AS3: 0.0017751737 | AT3: 0.0017482772 | AU3: 0.0017221835 | AV3: 0.0017221835 | AW3: 0.0017751737 | AX3: 0.0017482772 | AY3: 0.0017221835 | AZ3: 0 | BA3: 0 | BB3: 0 | BC3: 0 | BD3: 0 | BK3: A0,2
P4: =R4 & " (Nb of machines: " & S4 & ")" -> 100 T (Nb of machines: 4) | R4: 100 T | S4: 4 | T4: 0.94 | U4: 71.768737 | V4: 42.719751 | W4: 40.416762 | X4: 38.629709 | Y4: 57.439821 | Z4: 60.175051 | AA4: 52.769136 | AB4: 60.271329 | AC4: 54.781276 | AD4: 55.093344 | AE4: 57.660102 | AF4: 52.227607 | AG4: 57.660102 | AH4: 57.582051 | AI4: 55.144459 | AJ4: 60.415009 | AK4: 50.524075 | AL4: 47.252287 | AM4: 39.593499 | AN4: 42.74848 | AO4: 44.829197 | AP4: 59.698685 | AQ4: 52.039828 | AR4: 55.417886 | AS4: 60.625096 | AT4: 59.712242 | AU4: 52.055291 | AV4: 55.427805 | AW4: 60.622923 | AX4: 59.704869 | AY4: 52.058415 | AZ4: 54.144797 | BA4: 0.48583833 | BB4: 0.47847715 | BC4: 0.4713357 | BD4: 0.47847715 | BK4: A0,3
P5: =R5 & " (Nb of machines: " & S5 & ")" -> 150 T (Nb of machines: 4) | R5: 150 T | S5: 4 | T5: 0.94 | U5: 115.2182 | V5: 85.894843 | W5: 83.008385 | X5: 77.896365 | Y5: 146.08337 | Z5: 152.67813 | AA5: 138.52321 | AB5: 153.80564 | AC5: 140.47732 | AD5: 143.78272 | AE5: 150.10092 | AF5: 116.65592 | AG5: 151.95832 | AH5: 151.85191 | AI5: 146.78728 | AJ5: 142.65844 | AK5: 141.20817 | AL5: 138.19183 | AM5: 117.60567 | AN5: 125.51635 | AO5: 112.74873 | AP5: 118.89602 | AQ5: 101.71838 | AR5: 109.65596 | AS5: 119.46747 | AT5: 116.414 | AU5: 99.534053 | AV5: 107.971 | AW5: 119.07874 | AX5: 116.39995 | AY5: 99.056207 | AZ5: 81.346568 | BA5: 0 | BB5: 0 | BC5: 0 | BD5: 0 | BK5: A1
P6: =R6 & " (Nb of machines: " & S6 & ")" -> Bi150 T (Nb of machines: 1) | R6: Bi150 T | S6: 1 | T6: 0.93 | U6: 19.443164 | V6: 10.478242 | W6: 9.9934987 | X6: 9.935164 | Y6: 20.326944 | Z6: 21.294894 | AA6: 18.633032 | AB6: 21.294894 | AC6: 19.443164 | AD6: 19.443164 | AE6: 20.326944 | AF6: 18.633032 | AG6: 20.326944 | AH6: 20.326944 | AI6: 19.443164 | AJ6: 20.326944 | AK6: 20.639666 | AL6: 20.639666 | AM6: 17.199722 | AN6: 18.633032 | AO6: 20.326944 | AP6: 20.326944 | AQ6: 16.686297 | AR6: 18.354927 | AS6: 20.639666 | AT6: 20.326944 | AU6: 16.686297 | AV6: 18.354927 | AW6: 20.639666 | AX6: 20.326944 | AY6: 16.686297 | AZ6: 18.354927 | BA6: 0 | BB6: 0 | BC6: 0 | BD6: 0 | BK6: A2
P7: =R7 & " (Nb of machines: " & S7 & ")" -> 200 T (Nb of machines: 7) | R7: 200 T | S7: 7 | T7: 0.89 | U7: 113.05631 | V7: 114.30953 | W7: 107.60948 | X7: 102.15651 | Y7: 136.27809 | Z7: 141.38341 | AA7: 128.48186 | AB7: 142.47818 | AC7: 127.98551 | AD7: 133.30813 | AE7: 137.98437 | AF7: 101.05097 | AG7: 136.70618 | AH7: 135.6233 | AI7: 129.14474 | AJ7: 127.79102 | AK7: 116.72976 | AL7: 111.55313 | AM7: 88.237424 | AN7: 79.175046 | AO7: 78.136621 | AP7: 77.703789 | AQ7: 64.355993 | AR7: 65.10366 | AS7: 71.67408 | AT7: 66.168176 | AU7: 54.571588 | AV7: 56.31965 | AW7: 63.330068 | AX7: 62.370521 | AY7: 51.199682 | AZ7: 56.31965 | BA7: 0 | BB7: 0 | BC7: 0 | BD7: 0 | BK7: A3
P8: =R8 & " (Nb of machines: " & S8 & ")" -> 300 T (Nb of machines: 6) | R8: 300 T | S8: 6 | T8: 0.91 | U8: 93.096612 | V8: 72.170941 | W8: 68.532182 | X8: 66.287822 | Y8: 106.53106 | Z8: 111.20805 | AA8: 100.58089 | AB8: 113.07594 | AC8: 98.464929 | AD8: 105.16424 | AE8: 110.38516 | AF8: 81.204616 | AG8: 107.31749 | AH8: 105.42759 | AI8: 101.77052 | AJ8: 107.34094 | AK8: 103.69459 | AL8: 103.75757 | AM8: 87.212233 | AN8: 87.092588 | AO8: 90.323436 | AP8: 96.362195 | AQ8: 81.595996 | AR8: 82.398681 | AS8: 90.326401 | AT8: 83.264128 | AU8: 70.395096 | AV8: 76.143567 | AW8: 84.495308 | AX8: 83.218049 | AY8: 70.414619 | AZ8: 68.15946 | BA8: 0 | BB8: 0 | BC8: 0 | BD8: 0 | BK8: A4
P9: =R9 & " (Nb of machines: " & S9 & ")" -> 350 T (Nb of machines: 6) | R9: 350 T | S9: 6 | T9: 0.93 | U9: 168.89757 | V9: 207.76831 | W9: 201.64205 | X9: 178.21576 | Y9: 296.58733 | Z9: 307.60009 | AA9: 289.13359 | AB9: 311.75165 | AC9: 284.28983 | AD9: 298.18335 | AE9: 309.41647 | AF9: 198.60646 | AG9: 317.7924 | AH9: 315.92875 | AI9: 307.5625 | AJ9: 283.26164 | AK9: 259.75748 | AL9: 240.58314 | AM9: 209.20338 | AN9: 210.14218 | AO9: 219.05791 | AP9: 215.13348 | AQ9: 186.2464 | AR9: 198.74184 | AS9: 212.23194 | AT9: 203.77411 | AU9: 176.35864 | AV9: 190.0197 | AW9: 208.27431 | AX9: 201.98014 | AY9: 173.09572 | AZ9: 94.473483 | BA9: 0 | BB9: 0 | BC9: 0 | BD9: 0 | BK9: A5
P10: =R10 & " (Nb of machines: " & S10 & ")" -> 400 T (Nb of machines: 2) | R10: 400 T | S10: 2 | T10: 0.89 | U10: 50.1175 | V10: 26.882082 | W10: 25.624663 | X10: 25.447399 | Y10: 35.500135 | Z10: 37.190618 | AA10: 32.54179 | AB10: 37.190618 | AC10: 33.956651 | AD10: 33.956651 | AE10: 35.500135 | AF10: 32.54179 | AG10: 35.500135 | AH10: 35.500135 | AI10: 33.956651 | AJ10: 35.500135 | AK10: 36.046291 | AL10: 36.046291 | AM10: 30.038576 | AN10: 32.54179 | AO10: 37.782116 | AP10: 52.395568 | AQ10: 45.785164 | AR10: 48.699355 | AS10: 53.201654 | AT10: 52.395568 | AU10: 45.785164 | AV10: 48.699355 | AW10: 53.201654 | AX10: 52.395568 | AY10: 45.785164 | AZ10: 48.699355 | BA10: 0 | BB10: 0 | BC10: 0 | BD10: 0 | BK10: A5,1
P11: =R11 & " (Nb of machines: " & S11 & ")" -> Bi420 T (Nb of machines: 3) | R11: Bi420 T | S11: 3 | T11: 0.85 | U11: 43.019053 | V11: 49.680113 | W11: 44.519405 | X11: 43.019053 | Y11: 47.994132 | Z11: 47.453541 | AA11: 42.758235 | AB11: 47.453541 | AC11: 44.617289 | AD11: 44.617289 | AE11: 46.645347 | AF11: 35.33838 | AG11: 45.296562 | AH11: 49.342917 | AI11: 44.617289 | AJ11: 46.83156 | AK11: 47.552046 | AL11: 47.552046 | AM11: 39.626705 | AN11: 42.92893 | AO11: 40.680385 | AP11: 18.312477 | AQ11: 15.032631 | AR11: 16.535894 | AS11: 18.594208 | AT11: 18.312477 | AU11: 15.032631 | AV11: 16.535894 | AW11: 18.594208 | AX11: 18.312477 | AY11: 15.032631 | AZ11: 16.535894 | BA11: 0 | BB11: 0 | BC11: 0 | BD11: 0 | BK11: A6
P12: =R12 & " (Nb of machines: " & S12 & ")" -> 500 T (Nb of machines: 2) | R12: 500 T | S12: 2 | T12: 0.85 | U12: 27.455551 | V12: 9.9699535 | W12: 9.4878954 | X12: 9.4564494 | Y12: 28.309188 | Z12: 29.657245 | AA12: 25.950089 | AB12: 29.657245 | AC12: 27.078354 | AD12: 27.078354 | AE12: 20.902301 | AF12: 19.160443 | AG12: 20.902301 | AH12: 20.902301 | AI12: 19.993505 | AJ12: 20.902301 | AK12: 9.5668782 | AL12: 9.5668782 | AM12: 8.1173342 | AN12: 8.7081349 | AO12: 7.926076 | AP12: 9.816203 | AQ12: 8.6641653 | AR12: 9.1669289 | AS12: 9.9672215 | AT12: 9.816203 | AU12: 8.6641653 | AV12: 9.1669289 | AW12: 9.9672215 | AX12: 9.816203 | AY12: 8.6641653 | AZ12: 9.1669289 | BA12: 0.86961397 | BB12: 0.856438 | BC12: 0.84365534 | BD12: 0.856438 | BK12: A7
P13: =R13 & " (Nb of machines: " & S13 & ")" -> Bi500 T (Nb of machines: 1) | R13: Bi500 T | S13: 1 | T13: 0.89 | U13: 19.453461 | V13: 23.927168 | W13: 20.597926 | X13: 19.453461 | Y13: 22.641105 | Z13: 21.563567 | AA13: 19.811234 | AB13: 21.563567 | AC13: 20.672592 | AD13: 20.672592 | AE13: 21.612255 | AF13: 14.151384 | AG13: 20.583405 | AH13: 23.669956 | AI13: 20.672592 | AJ13: 21.754298 | AK13: 22.088979 | AL13: 22.088979 | AM13: 18.407483 | AN13: 19.94144 | AO13: 17.062194 | AP13: 0 | AQ13: 0 | AR13: 0 | AS13: 0 | AT13: 0 | AU13: 0 | AV13: 0 | AW13: 0 | AX13: 0 | AY13: 0 | AZ13: 0 | BA13: 0 | BB13: 0 | BC13: 0 | BD13: 0 | BK13: A8
... P15: =R15 & " (Nb of machines: " & S15 & ")" -> Bi1100 T (Nb of machines: 3) | R15: Bi1100 T | S15: 3 | T15: 0.85 | U15: 140.32895 | V15: 15.424723 | W15: 13.626267 | X15: 12.588251 | Y15: 55.838292 | Z15: 57.732768 | AA15: 50.850637 | AB15: 57.732768 | AC15: 53.061534 | AD15: 53.061534 | AE15: 55.473422 | AF15: 48.843433 | AG15: 55.108551 | AH15: 56.203163 | AI15: 53.061534 | AJ15: 55.523796 | AK15: 56.378008 | AL15: 56.378008 | AM15: 46.981673 | AN15: 50.896813 | AO15: 67.701058 | AP15: 139.49499 | AQ15: 129.56376 | AR15: 133.48836 | AS15: 141.64106 | AT15: 139.49499 | AU15: 129.56376 | AV15: 133.48836 | AW15: 141.64106 | AX15: 139.49499 | AY15: 129.56376 | AZ15: 133.48836 | BA15: 0 | BB15: 0 | BC15: 0 | BD15: 0 | BK15: A10,1
P16: =R16 & " (Nb of machines: " & S16 & ")" -> C-350 T (Nb of machines: 1) | Q16: Hall C | R16: C-350 T | S16: 1 | T16: 0.85 | U16: 22.134572 | V16: 18.832272 | W16: 18.013478 | X16: 18.013478 | Y16: 18.832272 | Z16: 19.729047 | AA16: 17.262916 | AB16: 19.729047 | AC16: 18.013478 | AD16: 18.013478 | AE16: 18.832272 | AF16: 17.262916 | AG16: 18.832272 | AH16: 18.832272 | AI16: 18.013478 | AJ16: 23.140689 | AK16: 23.496699 | AL16: 23.496699 | AM16: 19.580583 | AN16: 21.212298 | AO16: 23.140689 | AP16: 23.140689 | AQ16: 18.996088 | AR16: 20.895696 | AS16: 23.496699 | AT16: 23.140689 | AU16: 18.996088 | AV16: 20.895696 | AW16: 23.496699 | AX16: 23.140689 | AY16: 18.996088 | AZ16: 20.895696 | BA16: 0 | BB16: 0 | BC16: 0 | BD16: 0 | BK16: A10,2
P17: =R17 & " (Nb of machines: " & S17 & ")" -> C-650 T (Nb of machines: 2) | R17: C-650 T | S17: 2 | T17: 0.85 | U17: 35.753878 | V17: 35.602582 | W17: 31.499886 | X17: 30.222508 | Y17: 34.167161 | Z17: 33.38813 | AA17: 30.267256 | AB17: 33.38813 | AC17: 31.583223 | AD17: 31.583223 | AE17: 33.018824 | AF17: 23.950094 | AG17: 26.484306 | AH17: 29.929316 | AI17: 26.431223 | AJ17: 30.072959 | AK17: 30.53562 | AL17: 30.53562 | AM17: 25.44635 | AN17: 27.566879 | AO17: 24.835934 | AP17: 5.792205 | AQ17: 4.7547951 | AR17: 5.2302747 | AS17: 5.8813158 | AT17: 5.792205 | AU17: 4.7547951 | AV17: 5.2302747 | AW17: 5.8813158 | AX17: 5.792205 | AY17: 4.7547951 | AZ17: 5.2302747 | BA17: 0 | BB17: 0 | BC17: 0 | BD17: 0 | BK17: A10,3
P18: =R18 & " (Nb of machines: " & S18 & ")" -> C-800 T (Nb of machines: 1) | R18: C-800 T | S18: 1 | T18: 0.85 | U18: 23.755233 | V18: 15.051525 | W18: 14.397111 | X18: 14.397111 | Y18: 15.051525 | Z18: 15.768265 | AA18: 13.797231 | AB18: 15.768265 | AC18: 14.397111 | AD18: 14.397111 | AE18: 15.051525 | AF18: 13.797231 | AG18: 15.051525 | AH18: 15.051525 | AI18: 14.397111 | AJ18: 24.835017 | AK18: 25.217094 | AL18: 25.217094 | AM18: 21.014245 | AN18: 22.765432 | AO18: 24.835017 | AP18: 24.835017 | AQ18: 20.386954 | AR18: 22.425649 | AS18: 25.217094 | AT18: 24.835017 | AU18: 20.386954 | AV18: 22.425649 | AW18: 25.217094 | AX18: 24.835017 | AY18: 20.386954 | AZ18: 22.425649 | BA18: 0 | BB18: 0 | BC18: 0 | BD18: 0 | BK18: A11
P19: =R19 & " (Nb of machines: " & S19 & ")" -> C-1100 T (Nb of machines: 1) | R19: C-1100 T | S19: 1 | T19: 0.85 | U19: 63.863028 | V19: 17.531198 | W19: 16.768972 | X19: 16.768972 | Y19: 17.531198 | Z19: 18.366017 | AA19: 16.070265 | AB19: 18.366017 | AC19: 16.768972 | AD19: 16.768972 | AE19: 17.531198 | AF19: 16.070265 | AG19: 17.531198 | AH19: 17.531198 | AI19: 16.768972 | AJ19: 17.531198 | AK19: 17.800909 | AL19: 17.800909 | AM19: 14.834091 | AN19: 16.070265 | AO19: 24.181079 | AP19: 66.765893 | AQ19: 62.89113 | AR19: 64.330259 | AS19: 67.79306 | AT19: 66.765893 | AU19: 62.89113 | AV19: 64.330259 | AW19: 67.79306 | AX19: 66.765893 | AY19: 62.89113 | AZ19: 64.330259 | BA19: 0 | BB19: 0 | BC19: 0 | BD19: 0
P20: =R20 & " (Nb of machines: " & S20 & ")" -> C-Combi 1100 T (Nb of machines: 1) | R20: C-Combi 1100 T | S20: 1 | T20: 0.85 | U20: 18.54 | V20: 19.382727 | W20: 18.54 | X20: 18.54 | Y20: 19.382727 | Z20: 20.305714 | AA20: 17.7675 | AB20: 20.305714 | AC20: 18.54 | AD20: 18.54 | AE20: 19.382727 | AF20: 17.7675 | AG20: 19.382727 | AH20: 19.382727 | AI20: 18.54 | AJ20: 19.382727 | AK20: 19.680923 | AL20: 19.680923 | AM20: 16.400769 | AN20: 17.7675 | AO20: 19.382727 | AP20: 19.382727 | AQ20: 15.911194 | AR20: 17.502313 | AS20: 19.680923 | AT20: 19.382727 | AU20: 15.911194 | AV20: 17.502313 | AW20: 19.680923 | AX20: 19.382727 | AY20: 15.911194 | AZ20: 17.502313 | BA20: 0 | BB20: 0 | BC20: 0 | BD20: 0 | BK20: A12
P21: =R21 & " (Nb of machines: " & S21 & ")" -> C-1500 T (Nb of machines: 2) | R21: C-1500 T | S21: 2 | T21: 0.85 | U21: 69.573402 | V21: 39.423522 | W21: 37.709456 | X21: 37.709456 | Y21: 39.423522 | Z21: 41.300832 | AA21: 36.138228 | AB21: 41.300832 | AC21: 37.709456 | AD21: 37.709456 | AE21: 39.423522 | AF21: 36.138228 | AG21: 34.560996 | AH21: 34.560996 | AI21: 33.058344 | AJ21: 57.025644 | AK21: 57.902962 | AL21: 57.902962 | AM21: 48.252468 | AN21: 52.273507 | AO21: 59.587984 | AP21: 64.712662 | AQ21: 54.384383 | AR21: 59.065592 | AS21: 65.708242 | AT21: 64.712662 | AU21: 54.384383 | AV21: 59.065592 | AW21: 65.708242 | AX21: 64.712662 | AY21: 54.384383 | AZ21: 59.065592 | BA21: 0 | BB21: 0 | BC21: 0 | BD21: 0 | BK21: A13
P22: =R22 & " (Nb of machines: " & S22 & ")" -> C-Combi 1700 T (Nb of machines: 2) | R22: C-Combi 1700 T | S22: 2 | T22: 0.85 | U22: 32.044444 | V22: 33.50101 | W22: 32.044444 | X22: 32.044444 | Y22: 33.50101 | Z22: 35.096296 | AA22: 30.709259 | AB22: 35.096296 | AC22: 32.044444 | AD22: 32.044444 | AE22: 33.50101 | AF22: 30.709259 | AG22: 33.50101 | AH22: 33.50101 | AI22: 32.044444 | AJ22: 33.50101 | AK22: 34.01641 | AL22: 34.01641 | AM22: 28.347009 | AN22: 30.709259 | AO22: 33.50101 | AP22: 33.50101 | AQ22: 27.500829 | AR22: 30.250912 | AS22: 34.01641 | AT22: 33.50101 | AU22: 27.500829 | AV22: 30.250912 | AW22: 34.01641 | AX22: 33.50101 | AY22: 27.500829 | AZ22: 30.250912 | BA22: 0 | BB22: 0 | BC22: 0 | BD22: 0 | BK22: A14
P23: =R23 & " (Nb of machines: " & S23 & ")" -> C-2000 T (Nb of machines: 1) | R23: C-2000 T | S23: 1 | T23: 0.85 | U23: 72.286107 | V23: 18.456484 | W23: 15.888437 | X23: 15.005641 | Y23: 17.464465 | Z23: 16.633294 | AA23: 15.281613 | AB23: 16.633294 | AC23: 15.946031 | AD23: 15.946031 | AE23: 16.67085 | AF23: 10.915826 | AG23: 15.877235 | AH23: 18.25808 | AI23: 15.946031 | AJ23: 16.780417 | AK23: 17.038577 | AL23: 17.038577 | AM23: 14.198814 | AN23: 15.382049 | AO23: 19.688976 | AP23: 59.884124 | AQ23: 58.990331 | AR23: 58.990331 | AS23: 60.805418 | AT23: 59.884124 | AU23: 58.990331 | AV23: 58.990331 | AW23: 60.805418 | AX23: 59.884124 | AY23: 58.990331 | AZ23: 58.990331 | BA23: 0 | BB23: 0 | BC23: 0 | BD23: 0 | BK23: A14,1
P24: =R24 & " (Nb of machines: " & S24 & ")" -> C-2300 T (Nb of machines: 3) | R24: C-2300 T | S24: 3 | T24: 0.85 | U24: 75.032527 | V24: 65.446667 | W24: 60.407546 | X24: 59.310739 | Y24: 64.214159 | Z24: 65.206057 | AA24: 57.959139 | AB24: 65.206057 | AC24: 60.479102 | AD24: 60.479102 | AE24: 63.228152 | AF24: 52.534979 | AG24: 57.024282 | AH24: 59.982301 | AI24: 55.488102 | AJ24: 71.19122 | AK24: 72.286469 | AL24: 72.286469 | AM24: 60.238725 | AN24: 65.258618 | AO24: 66.694507 | AP24: 50.342823 | AQ24: 41.326198 | AR24: 45.458818 | AS24: 51.117328 | AT24: 50.342823 | AU24: 41.326198 | AV24: 45.458818 | AW24: 51.117328 | AX24: 50.342823 | AY24: 41.326198 | AZ24: 45.458818 | BA24: 0 | BB24: 0 | BC24: 0 | BD24: 0 | BK24: A15
P25: =R25 & " (Nb of machines: " & S25 & ")" -> C-Combi 2300 T (Nb of machines: 1) | R25: C-Combi 2300 T | S25: 1 | T25: 0.85 | U25: 24.72 | V25: 25.843636 | W25: 24.72 | X25: 24.72 | Y25: 25.843636 | Z25: 27.074286 | AA25: 23.69 | AB25: 27.074286 | AC25: 24.72 | AD25: 24.72 | AE25: 25.843636 | AF25: 23.69 | AG25: 25.843636 | AH25: 25.843636 | AI25: 24.72 | AJ25: 25.843636 | AK25: 26.241231 | AL25: 26.241231 | AM25: 21.867692 | AN25: 23.69 | AO25: 25.843636 | AP25: 25.843636 | AQ25: 21.214925 | AR25: 23.336418 | AS25: 26.241231 | AT25: 25.843636 | AU25: 21.214925 | AV25: 23.336418 | AW25: 26.241231 | AX25: 25.843636 | AY25: 21.214925 | AZ25: 23.336418 | BA25: 0 | BB25: 0 | BC25: 0 | BD25: 0 | BK25: A16
R26: Total of machines: | S26: 58 | T26: Total hours: | U26: 1376.4378 | V26: 986.81011 | W26: 935.47301 | X26: 888.37026 | Y26: 1310.791 | Z26: 1355.6365 | AA26: 1224.86 | AB26: 1364.5478 | AC26: 1244.4745 | AD26: 1274.0471 | AE26: 1321.3298 | AF26: 1026.1343 | AG26: 1305.1002 | AH26: 1317.9718 | AI26: 1256.6935 | AJ26: 1313.2294 | AK26: 1259.7229 | AL26: 1229.1468 | AM26: 1031.8381 | AN26: 1075.4069 | AO26: 1130.089 | AP26: 1265.2929 | AQ26: 1098.2529 | AR26: 1161.0104 | AS26: 1262.5545 | AT26: 1226.8314 | AU26: 1065.211 | AV26: 1135.5741 | AW26: 1244.0308 | AX26: 1221.1723 | AY26: 1058.121 | AZ26: 1004.1346 | BA26: 1.3554523 | BB26: 1.3349151 | BC26: 1.314991 | BD26: 1.3349151 | BK26: A17
U27: 1277.3611 | V27: 986.81011 | W27: 935.47301 | X27: 888.37026 | Y27: 1310.791 | Z27: 1355.6365 | AA27: 1224.86 | AB27: 1364.5478 | AC27: 1244.4745 | AD27: 1274.0471 | AE27: 1321.3298 | AF27: 1026.1343 | AG27: 1305.1002 | AH27: 1317.9718 | AI27: 1256.6935 | AJ27: 1313.2294 | AK27: 1259.7229 | AL27: 1229.1468 | AM27: 1031.8381 | AN27: 1075.4069 | AO27: 1119.3516 | AP27: 1161.7127 | AQ27: 996.2187 | AR27: 1058.9761 | AS27: 1157.3807 | AT27: 1123.2512 | AU27: 963.17677 | AV27: 1033.5398 | AW27: 1138.8571 | AX27: 1117.5921 | AY27: 956.08675 | AZ27: 902.10033 | BA27: 1.3554523 | BB27: 1.3349151 | BC27: 1.314991 | BD27: 1.3349151 | BK27: A18
S28: Hours/shift | T28: Absence | BK28: A19

Sheet Summary
A1: Theoretical | C1: 4 | D1: 5 | E1: 6 | F1: 7 | G1: 8 | H1: 9 | I1: 10 | J1: 11 | K1: 12 | L1: 13 | M1: 14 | N1: 15 | O1: 16 | P1: 17 | Q1: 18 | R1: 19 | S1: 20 | T1: 21 | U1: 22 | V1: 23 | W1: 24 | X1: 25 | Y1: 26 | Z1: 27 | AA1: 28 | AB1: 29 | AC1: 30 | AD1: 31 | AE1: 32 | AF1: 33 | AG1: 34 | AH1: 35 | AI1: 36 | AJ1: 37 | AK1: 38 | AL1: 39 | AM1: 40 | AN1: 41 | AO1: 42 | AP1: 43 | AQ1: 44
A2: Tonnage | B2: Nr. of machines | C2: ='PLAN CHARGE'!U1 -> 44440 | D2: ='PLAN CHARGE'!V1 -> 44470 | E2: ='PLAN CHARGE'!W1 -> 44501 | F2: ='PLAN CHARGE'!X1 -> 44531 | G2: ='PLAN CHARGE'!Y1 -> 44562 | H2: ='PLAN CHARGE'!Z1 -> 44593 | I2: ='PLAN CHARGE'!AA1 -> 44621 | J2: ='PLAN CHARGE'!AB1 -> 44652 | ... AL2: ='PLAN CHARGE'!BD1 -> Q4 2027 | AS2: Tonnage | AT2: Nr. of machines | AV2: číslo | AW2: názov | AX2: Group | AY2: Cycalde number
A3: ='PLAN CHARGE'!R2 -> 60 T | B3: =VLOOKUP($A3,'PLAN CHARGE'!$R$2:$S$25,2,FALSE) -> 1 | C3: =VLOOKUP($A3,'PLAN CHARGE'!$R$2:$BI$25,C$1,FALSE) -> 37.786778 | D3: =VLOOKUP($A3,'PLAN CHARGE'!$R$2:$BI$25,D$1,FALSE) -> 5.3924319 | E3: =VLOOKUP($A3,'PLAN CHARGE'!$R$2:$BI$25,E$1,FALSE) -> 5.0991009 | F3: =VLOOKUP($A3,'PLAN CHARGE'!$R$2:$BI$25,F$1,FALSE) -> 5.0369317 | G3: =VLOOKUP($A3,'PLAN CHARGE'!$R$2:$BI$25,G$1,FALSE) -> 33.511046 | H3: =VLOOKUP($A3,'PLAN CHARGE'!$R$2:$BI$25,H$1,FALSE) -> 35.10681 | I3: =VLOOKUP($A3,'PLAN CHARGE'!$R$2:$BI$25,I$1,FALSE) -> 30.718459 | J3: =VLOOKUP($A3,'PLAN CHARGE'!$R$2:$BI$25,J$1,FALSE) -> 35.10681 | ... AL3: =VLOOKUP($A3,'PLAN CHARGE'!$R$2:$BI$25,AL$1,FALSE) -> 0 | AS3: ='PLAN CHARGE'!R2 -> 60 T | AT3: ='PLAN CHARGE'!S2 -> 1 | AV3: B9 | AW3: 60 T | AX3: 60 T | AY3: D0601
A4: Green | C4: =IF(C3<C7,C3,C7) -> 24 | D4: =IF(D3<D7,D3,D7) -> 5.3924319 | E4: =IF(E3<E7,E3,E7) -> 5.0991009 | F4: =IF(F3<F7,F3,F7) -> 5.0369317 | G4: =IF(G3<G7,G3,G7) -> 24 | H4: =IF(H3<H7,H3,H7) -> 24 | I4: =IF(I3<I7,I3,I7) -> 24 | J4: =IF(J3<J7,J3,J7) -> 24 | ... AL4: =IF(AL3<AL7,AL3,AL7) -> 0 | AS4: ='PLAN CHARGE'!R3 -> Bi90 T | AT4: ='PLAN CHARGE'!S3 -> 1 | AV4: B10 | AW4: 100 T | AX4: 100 T | AY4: D1001
A5: Orange | C5: =IF(AND(C4<C3,C3>C8),C8-C4,C3-C4) -> 9.6 | D5: =IF(AND(D4<D3,D3>D8),D8-D4,D3-D4) -> 0 | E5: =IF(AND(E4<E3,E3>E8),E8-E4,E3-E4) -> 0 | F5: =IF(AND(F4<F3,F3>F8),F8-F4,F3-F4) -> 0 | G5: =IF(AND(G4<G3,G3>G8),G8-G4,G3-G4) -> 9.5110458 | H5: =IF(AND(H4<H3,H3>H8),H8-H4,H3-H4) -> 9.6 | I5: =IF(AND(I4<I3,I3>I8),I8-I4,I3-I4) -> 6.7184586 | J5: =IF(AND(J4<J3,J3>J8),J8-J4,J3-J4) -> 9.6 | ... AL5: =IF(AND(AL4<AL3,AL3>AL8),AL8-AL4,AL3-AL4) -> 0 | AS5: ='PLAN CHARGE'!R4 -> 100 T | AT5: ='PLAN CHARGE'!S4 -> 4 | AV5: B8 | AW5: 100 T | AX5: 100 T | AY5: D1002
A6: Red | C6: =IF(C4+C5<C3,C3-C8,0) -> 4.1867775 | D6: =IF(D4+D5<D3,D3-D8,0) -> 0 | E6: =IF(E4+E5<E3,E3-E8,0) -> 0 | F6: =IF(F4+F5<F3,F3-F8,0) -> 0 | G6: =IF(G4+G5<G3,G3-G8,0) -> 0 | H6: =IF(H4+H5<H3,H3-H8,0) -> 1.5068099 | I6: =IF(I4+I5<I3,I3-I8,0) -> 0 | J6: =IF(J4+J5<J3,J3-J8,0) -> 1.5068099 | ... AL6: =IF(AL4+AL5<AL3,AL3-AL8,0) -> 0 | AS6: ='PLAN CHARGE'!R5 -> 150 T | AT6: ='PLAN CHARGE'!S5 -> 4 | AV6: B17 | AW6: 100 T | AX6: 100 T | AY6: D1003
A7: Max daily capacity (5 wd/week) | C7: =$B3*24 -> 24 | D7: =$B3*24 -> 24 | E7: =$B3*24 -> 24 | F7: =$B3*24 -> 24 | G7: =$B3*24 -> 24 | H7: =$B3*24 -> 24 | I7: =$B3*24 -> 24 | J7: =$B3*24 -> 24 | ... AL7: =$B3*24 -> 24 | AS7: ='PLAN CHARGE'!R6 -> Bi150 T | AT7: ='PLAN CHARGE'!S6 -> 1 | AV7: A0,3 | AW7: 120 T | AX7: 100 T | AY7: E1201
A8: Max daily capacity (7 wd/week) | C8: =C7*(7/5) -> 33.6 | D8: =D7*(7/5) -> 33.6 | E8: =E7*(7/5) -> 33.6 | F8: =F7*(7/5) -> 33.6 | G8: =G7*(7/5) -> 33.6 | H8: =H7*(7/5) -> 33.6 | I8: =I7*(7/5) -> 33.6 | J8: =J7*(7/5) -> 33.6 | ... AL8: =AL7*(7/5) -> 33.6 | AS8: ='PLAN CHARGE'!R7 -> 200 T | AT8: ='PLAN CHARGE'!S7 -> 7 | AV8: B18 | AW8: Bi90 T | AX8: Bi90 T | AY8: E0901
A9: ='PLAN CHARGE'!R3 -> Bi90 T | B9: =VLOOKUP($A9,'PLAN CHARGE'!$R$2:$S$25,2,FALSE) -> 1 | C9: =VLOOKUP($A9,'PLAN CHARGE'!$R$2:$BI$25,C$1,FALSE) -> 1.0033591 | D9: =VLOOKUP($A9,'PLAN CHARGE'!$R$2:$BI$25,D$1,FALSE) -> 0.0052448315 | E9: =VLOOKUP($A9,'PLAN CHARGE'!$R$2:$BI$25,E$1,FALSE) -> 0.0050167953 | F9: =VLOOKUP($A9,'PLAN CHARGE'!$R$2:$BI$25,F$1,FALSE) -> 0.0050167953 | G9: =VLOOKUP($A9,'PLAN CHARGE'!$R$2:$BI$25,G$1,FALSE) -> 1.0489663 | H9: =VLOOKUP($A9,'PLAN CHARGE'!$R$2:$BI$25,H$1,FALSE) -> 1.0989171 | I9: =VLOOKUP($A9,'PLAN CHARGE'!$R$2:$BI$25,I$1,FALSE) -> 0.96155244 | J9: =VLOOKUP($A9,'PLAN CHARGE'!$R$2:$BI$25,J$1,FALSE) -> 1.0989171 | ... AL9: =VLOOKUP($A9,'PLAN CHARGE'!$R$2:$BI$25,AL$1,FALSE) -> 0 | AS9: ='PLAN CHARGE'!R8 -> 300 T | AT9: ='PLAN CHARGE'!S8 -> 6 | AV9: A1 | AW9: 150 T | AX9: 150 T | AY9: D1501
A10: Green | C10: =IF(C9<C13,C9,C13) -> 1.0033591 | D10: =IF(D9<D13,D9,D13) -> 0.0052448315 | E10: =IF(E9<E13,E9,E13) -> 0.0050167953 | F10: =IF(F9<F13,F9,F13) -> 0.0050167953 | G10: =IF(G9<G13,G9,G13) -> 1.0489663 | H10: =IF(H9<H13,H9,H13) -> 1.0989171 | I10: =IF(I9<I13,I9,I13) -> 0.96155244 | J10: =IF(J9<J13,J9,J13) -> 1.0989171 | ... AL10: =IF(AL9<AL13,AL9,AL13) -> 0 | AS10: ='PLAN CHARGE'!R9 -> 350 T | AT10: ='PLAN CHARGE'!S9 -> 6 | AV10: A5 | AW10: Bi150 T | AX10: Bi150 T | AY10: D1502
A11: Orange | C11: =IF(AND(C10<C9,C9>C14),C14-C10,C9-C10) -> 0 | D11: =IF(AND(D10<D9,D9>D14),D14-D10,D9-D10) -> 0 | E11: =IF(AND(E10<E9,E9>E14),E14-E10,E9-E10) -> 0 | F11: =IF(AND(F10<F9,F9>F14),F14-F10,F9-F10) -> 0 | G11: =IF(AND(G10<G9,G9>G14),G14-G10,G9-G10) -> 0 | H11: =IF(AND(H10<H9,H9>H14),H14-H10,H9-H10) -> 0 | I11: =IF(AND(I10<I9,I9>I14),I14-I10,I9-I10) -> 0 | J11: =IF(AND(J10<J9,J9>J14),J14-J10,J9-J10) -> 0 | ... AL11: =IF(AND(AL10<AL9,AL9>AL14),AL14-AL10,AL9-AL10) -> 0 | AS11: ='PLAN CHARGE'!R10 -> 400 T | AT11: ='PLAN CHARGE'!S10 -> 2 | AV11: A10,1 | AW11: 150 T | AX11: 150 T | AY11: D1503
A12: Red | C12: =IF(C10+C11<C9,C9-C14,0) -> 0 | D12: =IF(D10+D11<D9,D9-D14,0) -> 0 | E12: =IF(E10+E11<E9,E9-E14,0) -> 0 | F12: =IF(F10+F11<F9,F9-F14,0) -> 0 | G12: =IF(G10+G11<G9,G9-G14,0) -> 0 | H12: =IF(H10+H11<H9,H9-H14,0) -> 0 | I12: =IF(I10+I11<I9,I9-I14,0) -> 0 | J12: =IF(J10+J11<J9,J9-J14,0) -> 0 | ... AL12: =IF(AL10+AL11<AL9,AL9-AL14,0) -> 0 | AS12: ='PLAN CHARGE'!R11 -> Bi420 T | AT12: ='PLAN CHARGE'!S11 -> 3 | AV12: B7 | AW12: 160 T | AX12: 150 T | AY12: D1601
A13: Max daily capacity (5 wd/week) | C13: =$B9*24 -> 24 | D13: =$B9*24 -> 24 | E13: =$B9*24 -> 24 | F13: =$B9*24 -> 24 | G13: =$B9*24 -> 24 | H13: =$B9*24 -> 24 | I13: =$B9*24 -> 24 | J13: =$B9*24 -> 24 | ... AL13: =$B9*24 -> 24 | AS13: ='PLAN CHARGE'!R12 -> 500 T | AT13: ='PLAN CHARGE'!S12 -> 2 | AV13: A0,1 | AW13: 160 T | AX13: 150 T | AY13: D1602
A14: Max daily capacity (7 wd/week) | C14: =C13*(7/5) -> 33.6 | D14: =D13*(7/5) -> 33.6 | E14: =E13*(7/5) -> 33.6 | F14: =F13*(7/5) -> 33.6 | G14: =G13*(7/5) -> 33.6 | H14: =H13*(7/5) -> 33.6 | I14: =I13*(7/5) -> 33.6 | J14: =J13*(7/5) -> 33.6 | ... AL14: =AL13*(7/5) -> 33.6 | AS14: ='PLAN CHARGE'!R13 -> Bi500 T | AT14: ='PLAN CHARGE'!S13 -> 1 | AV14: A2 | AW14: 200 T | AX14: 200 T | AY14: D2001
A15: ='PLAN CHARGE'!R4 -> 100 T | B15: =VLOOKUP($A15,'PLAN CHARGE'!$R$2:$S$25,2,FALSE) -> 4 | C15: =VLOOKUP($A15,'PLAN CHARGE'!$R$2:$BI$25,C$1,FALSE) -> 71.768737 | D15: =VLOOKUP($A15,'PLAN CHARGE'!$R$2:$BI$25,D$1,FALSE) -> 42.719751 | E15: =VLOOKUP($A15,'PLAN CHARGE'!$R$2:$BI$25,E$1,FALSE) -> 40.416762 | F15: =VLOOKUP($A15,'PLAN CHARGE'!$R$2:$BI$25,F$1,FALSE) -> 38.629709 | G15: =VLOOKUP($A15,'PLAN CHARGE'!$R$2:$BI$25,G$1,FALSE) -> 57.439821 | H15: =VLOOKUP($A15,'PLAN CHARGE'!$R$2:$BI$25,H$1,FALSE) -> 60.175051 | I15: =VLOOKUP($A15,'PLAN CHARGE'!$R$2:$BI$25,I$1,FALSE) -> 52.769136 | J15: =VLOOKUP($A15,'PLAN CHARGE'!$R$2:$BI$25,J$1,FALSE) -> 60.271329 | ... AL15: =VLOOKUP($A15,'PLAN CHARGE'!$R$2:$BI$25,AL$1,FALSE) -> 0.47847715 | AS15: ='PLAN CHARGE'!R14 -> 650 T | AT15: ='PLAN CHARGE'!S14 -> 2 | AV15: A3 | AW15: 200 T | AX15: 200 T | AY15: D2002
A16: Green | C16: =IF(C15<C19,C15,C19) -> 71.768737 | D16: =IF(D15<D19,D15,D19) -> 42.719751 | E16: =IF(E15<E19,E15,E19) -> 40.416762 | F16: =IF(F15<F19,F15,F19) -> 38.629709 | G16: =IF(G15<G19,G15,G19) -> 57.439821 | H16: =IF(H15<H19,H15,H19) -> 60.175051 | I16: =IF(I15<I19,I15,I19) -> 52.769136 | J16: =IF(J15<J19,J15,J19) -> 60.271329 | ... AL16: =IF(AL15<AL19,AL15,AL19) -> 0.47847715 | AS16: ='PLAN CHARGE'!R15 -> Bi1100 T | AT16: ='PLAN CHARGE'!S15 -> 3 | AV16: A4 | AW16: 200 T | AX16: 200 T | AY16: D2003
A17: Orange | C17: =IF(AND(C16<C15,C15>C20),C20-C16,C15-C16) -> 0 | D17: =IF(AND(D16<D15,D15>D20),D20-D16,D15-D16) -> 0 | E17: =IF(AND(E16<E15,E15>E20),E20-E16,E15-E16) -> 0 | F17: =IF(AND(F16<F15,F15>F20),F20-F16,F15-F16) -> 0 | G17: =IF(AND(G16<G15,G15>G20),G20-G16,G15-G16) -> 0 | H17: =IF(AND(H16<H15,H15>H20),H20-H16,H15-H16) -> 0 | I17: =IF(AND(I16<I15,I15>I20),I20-I16,I15-I16) -> 0 | J17: =IF(AND(J16<J15,J15>J20),J20-J16,J15-J16) -> 0 | ... AL17: =IF(AND(AL16<AL15,AL15>AL20),AL20-AL16,AL15-AL16) -> 0 | AS17: ='PLAN CHARGE'!R16 -> C-350 T | AT17: ='PLAN CHARGE'!S16 -> 1 | AV17: A10,2 | AW17: 210 T | AX17: 200 T | AY17: D2101
A18: Red | C18: =IF(C16+C17<C15,C15-C20,0) -> 0 | D18: =IF(D16+D17<D15,D15-D20,0) -> 0 | E18: =IF(E16+E17<E15,E15-E20,0) -> 0 | F18: =IF(F16+F17<F15,F15-F20,0) -> 0 | G18: =IF(G16+G17<G15,G15-G20,0) -> 0 | H18: =IF(H16+H17<H15,H15-H20,0) -> 0 | I18: =IF(I16+I17<I15,I15-I20,0) -> 0 | J18: =IF(J16+J17<J15,J15-J20,0) -> 0 | ... AL18: =IF(AL16+AL17<AL15,AL15-AL20,0) -> 0 | AS18: ='PLAN CHARGE'!R17 -> C-650 T | AT18: ='PLAN CHARGE'!S17 -> 2 | AV18: A10,3 | AW18: 210 T | AX18: 200 T | AY18: D2102
A19: Max daily capacity (5 wd/week) | C19: =$B15*24 -> 96 | D19: =$B15*24 -> 96 | E19: =$B15*24 -> 96 | F19: =$B15*24 -> 96 | G19: =$B15*24 -> 96 | H19: =$B15*24 -> 96 | I19: =$B15*24 -> 96 | J19: =$B15*24 -> 96 | ... AL19: =$B15*24 -> 96 | AS19: ='PLAN CHARGE'!R18 -> C-800 T | AT19: ='PLAN CHARGE'!S18 -> 1 | AV19: B5 | AW19: 220 T | AX19: 200 T | AY19: D2201
A20: Max daily capacity (7 wd/week) | C20: =C19*(7/5) -> 134.4 | D20: =D19*(7/5) -> 134.4 | E20: =E19*(7/5) -> 134.4 | F20: =F19*(7/5) -> 134.4 | G20: =G19*(7/5) -> 134.4 | H20: =H19*(7/5) -> 134.4 | I20: =I19*(7/5) -> 134.4 | J20: =J19*(7/5) -> 134.4 | ... AL20: =AL19*(7/5) -> 134.4 | AS20: ='PLAN CHARGE'!R19 -> C-1100 T | AT20: ='PLAN CHARGE'!S19 -> 1 | AV20: B6 | AW20: 220 T | AX20: 200 T | AY20: D2202
A21: ='PLAN CHARGE'!R5 -> 150 T | B21: =VLOOKUP($A21,'PLAN CHARGE'!$R$2:$S$25,2,FALSE) -> 4 | C21: =VLOOKUP($A21,'PLAN CHARGE'!$R$2:$BI$25,C$1,FALSE) -> 115.2182 | D21: =VLOOKUP($A21,'PLAN CHARGE'!$R$2:$BI$25,D$1,FALSE) -> 85.894843 | E21: =VLOOKUP($A21,'PLAN CHARGE'!$R$2:$BI$25,E$1,FALSE) -> 83.008385 | F21: =VLOOKUP($A21,'PLAN CHARGE'!$R$2:$BI$25,F$1,FALSE) -> 77.896365 | G21: =VLOOKUP($A21,'PLAN CHARGE'!$R$2:$BI$25,G$1,FALSE) -> 146.08337 | H21: =VLOOKUP($A21,'PLAN CHARGE'!$R$2:$BI$25,H$1,FALSE) -> 152.67813 | I21: =VLOOKUP($A21,'PLAN CHARGE'!$R$2:$BI$25,I$1,FALSE) -> 138.52321 | J21: =VLOOKUP($A21,'PLAN CHARGE'!$R$2:$BI$25,J$1,FALSE) -> 153.80564 | ... AL21: =VLOOKUP($A21,'PLAN CHARGE'!$R$2:$BI$25,AL$1,FALSE) -> 0 | AS21: ='PLAN CHARGE'!R20 -> C-Combi 1100 T | AT21: ='PLAN CHARGE'!S20 -> 1 | AV21: A18 | AW21: 280 T | AX21: 300 T | AY21: ??
A22: Green | C22: =IF(C21<C25,C21,C25) -> 96 | D22: =IF(D21<D25,D21,D25) -> 85.894843 | E22: =IF(E21<E25,E21,E25) -> 83.008385 | F22: =IF(F21<F25,F21,F25) -> 77.896365 | G22: =IF(G21<G25,G21,G25) -> 96 | H22: =IF(H21<H25,H21,H25) -> 96 | I22: =IF(I21<I25,I21,I25) -> 96 | J22: =IF(J21<J25,J21,J25) -> 96 | ... AL22: =IF(AL21<AL25,AL21,AL25) -> 0 | AS22: ='PLAN CHARGE'!R21 -> C-1500 T | AT22: ='PLAN CHARGE'!S21 -> 2 | AV22: B2 | AW22: 280 T | AX22: 300 T | AY22: D2801
A23: Orange | C23: =IF(AND(C22<C21,C21>C26),C26-C22,C21-C22) -> 19.2182 | D23: =IF(AND(D22<D21,D21>D26),D26-D22,D21-D22) -> 0 | E23: =IF(AND(E22<E21,E21>E26),E26-E22,E21-E22) -> 0 | F23: =IF(AND(F22<F21,F21>F26),F26-F22,F21-F22) -> 0 | G23: =IF(AND(G22<G21,G21>G26),G26-G22,G21-G22) -> 38.4 | H23: =IF(AND(H22<H21,H21>H26),H26-H22,H21-H22) -> 38.4 | I23: =IF(AND(I22<I21,I21>I26),I26-I22,I21-I22) -> 38.4 | J23: =IF(AND(J22<J21,J21>J26),J26-J22,J21-J22) -> 38.4 | ... AL23: =IF(AND(AL22<AL21,AL21>AL26),AL26-AL22,AL21-AL22) -> 0 | AS23: ='PLAN CHARGE'!R22 -> C-Combi 1700 T | AT23: ='PLAN CHARGE'!S22 -> 2 | AV23: B4 | AW23: 280 T | AX23: 300 T | AY23: D2802
A24: Red | C24: =IF(C22+C23<C21,C21-C26,0) -> 0 | D24: =IF(D22+D23<D21,D21-D26,0) -> 0 | E24: =IF(E22+E23<E21,E21-E26,0) -> 0 | F24: =IF(F22+F23<F21,F21-F26,0) -> 0 | G24: =IF(G22+G23<G21,G21-G26,0) -> 11.683369 | H24: =IF(H22+H23<H21,H21-H26,0) -> 18.278133 | I24: =IF(I22+I23<I21,I21-I26,0) -> 4.1232122 | J24: =IF(J22+J23<J21,J21-J26,0) -> 19.405637 | ... AL24: =IF(AL22+AL23<AL21,AL21-AL26,0) -> 0 | AS24: ='PLAN CHARGE'!R23 -> C-2000 T | AT24: ='PLAN CHARGE'!S23 -> 1 | AV24: B11 | AW24: Bi280 T | AX24: 300 T | AY24: D2803
A25: Max daily capacity (5 wd/week) | C25: =$B21*24 -> 96 | D25: =$B21*24 -> 96 | E25: =$B21*24 -> 96 | F25: =$B21*24 -> 96 | G25: =$B21*24 -> 96 | H25: =$B21*24 -> 96 | I25: =$B21*24 -> 96 | J25: =$B21*24 -> 96 | ... AL25: =$B21*24 -> 96 | AS25: ='PLAN CHARGE'!R24 -> C-2300 T | AT25: ='PLAN CHARGE'!S24 -> 3 | AV25: B15 | AW25: 280 T | AX25: 300 T | AY25: D2804
A26: Max daily capacity (7 wd/week) | C26: =C25*(7/5) -> 134.4 | D26: =D25*(7/5) -> 134.4 | E26: =E25*(7/5) -> 134.4 | F26: =F25*(7/5) -> 134.4 | G26: =G25*(7/5) -> 134.4 | H26: =H25*(7/5) -> 134.4 | I26: =I25*(7/5) -> 134.4 | J26: =J25*(7/5) -> 134.4 | ... AL26: =AL25*(7/5) -> 134.4 | AS26: ='PLAN CHARGE'!R25 -> C-Combi 2300 T | AT26: ='PLAN CHARGE'!S25 -> 1 | AV26: B16 | AW26: 280 T | AX26: 300 T | AY26: D2805
A27: ='PLAN CHARGE'!R6 -> Bi150 T | B27: =VLOOKUP($A27,'PLAN CHARGE'!$R$2:$S$25,2,FALSE) -> 1 | C27: =VLOOKUP($A27,'PLAN CHARGE'!$R$2:$BI$25,C$1,FALSE) -> 19.443164 | D27: =VLOOKUP($A27,'PLAN CHARGE'!$R$2:$BI$25,D$1,FALSE) -> 10.478242 | E27: =VLOOKUP($A27,'PLAN CHARGE'!$R$2:$BI$25,E$1,FALSE) -> 9.9934987 | F27: =VLOOKUP($A27,'PLAN CHARGE'!$R$2:$BI$25,F$1,FALSE) -> 9.935164 | G27: =VLOOKUP($A27,'PLAN CHARGE'!$R$2:$BI$25,G$1,FALSE) -> 20.326944 | H27: =VLOOKUP($A27,'PLAN CHARGE'!$R$2:$BI$25,H$1,FALSE) -> 21.294894 | I27: =VLOOKUP($A27,'PLAN CHARGE'!$R$2:$BI$25,I$1,FALSE) -> 18.633032 | J27: =VLOOKUP($A27,'PLAN CHARGE'!$R$2:$BI$25,J$1,FALSE) -> 21.294894 | ... AL27: =VLOOKUP($A27,'PLAN CHARGE'!$R$2:$BI$25,AL$1,FALSE) -> 0 | AV27: B3 | AW27: 300 T | AX27: 300 T | AY27: D3001
A28: Green | C28: =IF(C27<C31,C27,C31) -> 19.443164 | D28: =IF(D27<D31,D27,D31) -> 10.478242 | E28: =IF(E27<E31,E27,E31) -> 9.9934987 | F28: =IF(F27<F31,F27,F31) -> 9.935164 | G28: =IF(G27<G31,G27,G31) -> 20.326944 | H28: =IF(H27<H31,H27,H31) -> 21.294894 | I28: =IF(I27<I31,I27,I31) -> 18.633032 | J28: =IF(J27<J31,J27,J31) -> 21.294894 | ... AL28: =IF(AL27<AL31,AL27,AL31) -> 0 | AV28: A8 | AW28: 350 T | AX28: 350 T | AY28: D3501
A29: Orange | C29: =IF(AND(C28<C27,C27>C32),C32-C28,C27-C28) -> 0 | D29: =IF(AND(D28<D27,D27>D32),D32-D28,D27-D28) -> 0 | E29: =IF(AND(E28<E27,E27>E32),E32-E28,E27-E28) -> 0 | F29: =IF(AND(F28<F27,F27>F32),F32-F28,F27-F28) -> 0 | G29: =IF(AND(G28<G27,G27>G32),G32-G28,G27-G28) -> 0 | H29: =IF(AND(H28<H27,H27>H32),H32-H28,H27-H28) -> 0 | I29: =IF(AND(I28<I27,I27>I32),I32-I28,I27-I28) -> 0 | J29: =IF(AND(J28<J27,J27>J32),J32-J28,J27-J28) -> 0 | ... AL29: =IF(AND(AL28<AL27,AL27>AL32),AL32-AL28,AL27-AL28) -> 0 | AV29: B12 | AW29: 350 T | AX29: 350 T | AY29: D3502
A30: Red | C30: =IF(C28+C29<C27,C27-C32,0) -> 0 | D30: =IF(D28+D29<D27,D27-D32,0) -> 0 | E30: =IF(E28+E29<E27,E27-E32,0) -> 0 | F30: =IF(F28+F29<F27,F27-F32,0) -> 0 | G30: =IF(G28+G29<G27,G27-G32,0) -> 0 | H30: =IF(H28+H29<H27,H27-H32,0) -> 0 | I30: =IF(I28+I29<I27,I27-I32,0) -> 0 | J30: =IF(J28+J29<J27,J27-J32,0) -> 0 | ... AL30: =IF(AL28+AL29<AL27,AL27-AL32,0) -> 0 | AV30: B1 | AW30: 350 T | AX30: 350 T | AY30: D3503
A31: Max daily capacity (5 wd/week) | C31: =$B27*24 -> 24 | D31: =$B27*24 -> 24 | E31: =$B27*24 -> 24 | F31: =$B27*24 -> 24 | G31: =$B27*24 -> 24 | H31: =$B27*24 -> 24 | I31: =$B27*24 -> 24 | J31: =$B27*24 -> 24 | ... AL31: =$B27*24 -> 24 | AV31: B13 | AW31: 350 T | AX31: 350 T | AY31: D3504
A32: Max daily capacity (7 wd/week) | C32: =C31*(7/5) -> 33.6 | D32: =D31*(7/5) -> 33.6 | E32: =E31*(7/5) -> 33.6 | F32: =F31*(7/5) -> 33.6 | G32: =G31*(7/5) -> 33.6 | H32: =H31*(7/5) -> 33.6 | I32: =I31*(7/5) -> 33.6 | J32: =J31*(7/5) -> 33.6 | ... AL32: =AL31*(7/5) -> 33.6 | AV32: A6 | AW32: 350 T | AX32: 350 T | AY32: D3505
A33: ='PLAN CHARGE'!R7 -> 200 T | B33: =VLOOKUP($A33,'PLAN CHARGE'!$R$2:$S$25,2,FALSE) -> 7 | C33: =VLOOKUP($A33,'PLAN CHARGE'!$R$2:$BI$25,C$1,FALSE) -> 113.05631 | D33: =VLOOKUP($A33,'PLAN CHARGE'!$R$2:$BI$25,D$1,FALSE) -> 114.30953 | E33: =VLOOKUP($A33,'PLAN CHARGE'!$R$2:$BI$25,E$1,FALSE) -> 107.60948 | F33: =VLOOKUP($A33,'PLAN CHARGE'!$R$2:$BI$25,F$1,FALSE) -> 102.15651 | G33: =VLOOKUP($A33,'PLAN CHARGE'!$R$2:$BI$25,G$1,FALSE) -> 136.27809 | H33: =VLOOKUP($A33,'PLAN CHARGE'!$R$2:$BI$25,H$1,FALSE) -> 141.38341 | I33: =VLOOKUP($A33,'PLAN CHARGE'!$R$2:$BI$25,I$1,FALSE) -> 128.48186 | J33: =VLOOKUP($A33,'PLAN CHARGE'!$R$2:$BI$25,J$1,FALSE) -> 142.47818 | ... AL33: =VLOOKUP($A33,'PLAN CHARGE'!$R$2:$BI$25,AL$1,FALSE) -> 0 | AV33: A14 | AW33: 350 T | AX33: 350 T | AY33: D3507
A34: Green | C34: =IF(C33<C37,C33,C37) -> 113.05631 | D34: =IF(D33<D37,D33,D37) -> 114.30953 | E34: =IF(E33<E37,E33,E37) -> 107.60948 | F34: =IF(F33<F37,F33,F37) -> 102.15651 | G34: =IF(G33<G37,G33,G37) -> 136.27809 | H34: =IF(H33<H37,H33,H37) -> 141.38341 | I34: =IF(I33<I37,I33,I37) -> 128.48186 | J34: =IF(J33<J37,J33,J37) -> 142.47818 | ... AL34: =IF(AL33<AL37,AL33,AL37) -> 0 | AV34: A15 | AW34: Bi420 T | AX34: Bi420 T | AY34: D4201
A35: Orange | C35: =IF(AND(C34<C33,C33>C38),C38-C34,C33-C34) -> 0 | D35: =IF(AND(D34<D33,D33>D38),D38-D34,D33-D34) -> 0 | E35: =IF(AND(E34<E33,E33>E38),E38-E34,E33-E34) -> 0 | F35: =IF(AND(F34<F33,F33>F38),F38-F34,F33-F34) -> 0 | G35: =IF(AND(G34<G33,G33>G38),G38-G34,G33-G34) -> 0 | H35: =IF(AND(H34<H33,H33>H38),H38-H34,H33-H34) -> 0 | I35: =IF(AND(I34<I33,I33>I38),I38-I34,I33-I34) -> 0 | J35: =IF(AND(J34<J33,J33>J38),J38-J34,J33-J34) -> 0 | ... AL35: =IF(AND(AL34<AL33,AL33>AL38),AL38-AL34,AL33-AL34) -> 0 | AV35: A16 | AW35: Bi420 T | AX35: Bi420 T | AY35: D4202
A36: Red | C36: =IF(C34+C35<C33,C33-C38,0) -> 0 | D36: =IF(D34+D35<D33,D33-D38,0) -> 0 | E36: =IF(E34+E35<E33,E33-E38,0) -> 0 | F36: =IF(F34+F35<F33,F33-F38,0) -> 0 | G36: =IF(G34+G35<G33,G33-G38,0) -> 0 | H36: =IF(H34+H35<H33,H33-H38,0) -> 0 | I36: =IF(I34+I35<I33,I33-I38,0) -> 0 | J36: =IF(J34+J35<J33,J33-J38,0) -> 0 | ... AL36: =IF(AL34+AL35<AL33,AL33-AL38,0) -> 0 | AV36: A17 | AW36: 420 T | AX36: 400 T | AY36: D4203
A37: Max daily capacity (5 wd/week) | C37: =$B33*24 -> 168 | D37: =$B33*24 -> 168 | E37: =$B33*24 -> 168 | F37: =$B33*24 -> 168 | G37: =$B33*24 -> 168 | H37: =$B33*24 -> 168 | I37: =$B33*24 -> 168 | J37: =$B33*24 -> 168 | ... AL37: =$B33*24 -> 168 | AV37: A13 | AW37: 650 T | AX37: 650 T | AY37: D6502
A38: Max daily capacity (7 wd/week) | C38: =C37*(7/5) -> 235.2 | D38: =D37*(7/5) -> 235.2 | E38: =E37*(7/5) -> 235.2 | F38: =F37*(7/5) -> 235.2 | G38: =G37*(7/5) -> 235.2 | H38: =H37*(7/5) -> 235.2 | I38: =I37*(7/5) -> 235.2 | J38: =J37*(7/5) -> 235.2 | ... AL38: =AL37*(7/5) -> 235.2 | AV38: A12 | AW38: 650 T | AX38: 650 T | AY38: D6503
A39: ='PLAN CHARGE'!R8 -> 300 T | B39: =VLOOKUP($A39,'PLAN CHARGE'!$R$2:$S$25,2,FALSE) -> 6 | C39: =VLOOKUP($A39,'PLAN CHARGE'!$R$2:$BI$25,C$1,FALSE) -> 93.096612 | D39: =VLOOKUP($A39,'PLAN CHARGE'!$R$2:$BI$25,D$1,FALSE) -> 72.170941 | E39: =VLOOKUP($A39,'PLAN CHARGE'!$R$2:$BI$25,E$1,FALSE) -> 68.532182 | F39: =VLOOKUP($A39,'PLAN CHARGE'!$R$2:$BI$25,F$1,FALSE) -> 66.287822 | G39: =VLOOKUP($A39,'PLAN CHARGE'!$R$2:$BI$25,G$1,FALSE) -> 106.53106 | H39: =VLOOKUP($A39,'PLAN CHARGE'!$R$2:$BI$25,H$1,FALSE) -> 111.20805 | I39: =VLOOKUP($A39,'PLAN CHARGE'!$R$2:$BI$25,I$1,FALSE) -> 100.58089 | J39: =VLOOKUP($A39,'PLAN CHARGE'!$R$2:$BI$25,J$1,FALSE) -> 113.07594 | ... AL39: =VLOOKUP($A39,'PLAN CHARGE'!$R$2:$BI$25,AL$1,FALSE) -> 0 | AV39: A19 | AW39: Tri1100 T | AX39: Bi1100 T | AY39: D11001
A40: Green | C40: =IF(C39<C43,C39,C43) -> 93.096612 | D40: =IF(D39<D43,D39,D43) -> 72.170941 | E40: =IF(E39<E43,E39,E43) -> 68.532182 | F40: =IF(F39<F43,F39,F43) -> 66.287822 | G40: =IF(G39<G43,G39,G43) -> 106.53106 | H40: =IF(H39<H43,H39,H43) -> 111.20805 | I40: =IF(I39<I43,I39,I43) -> 100.58089 | J40: =IF(J39<J43,J39,J43) -> 113.07594 | ... AL40: =IF(AL39<AL43,AL39,AL43) -> 0 | AV40: A9 | AW40: Tri1100 T | AX40: Bi1100 T | AY40: E11001
...

Sheet Graphs tonnage
A1: THEORITICAL
A323: Hall C
