Workbook
Name _300_T: 'PLAN CHARGE'!$BK$2:$BK$28
Name _600_T: 'PLAN CHARGE'!#REF!
Name _A10: 'PLAN CHARGE'!#REF!
Name Priority_machine_Galion: 'PLAN CHARGE'!#REF!
Name Priority_machine_Reality: 'PLAN CHARGE'!#REF!

Sheet PLAN CHARGE
Q1: Theoritical | R1: Tonnage | S1: Nr. of machines | T1: TRS | U1: 44440 | V1: 44470 | W1: 44501 | X1: 44531 | Y1: 44562 | Z1: 44593 | AA1: 44621 | AB1: 44652 | AC1: 44682 | AD1: 44713 | AE1: 44743 | AF1: 44774 | AG1: 44805 | AH1: 44835 | AI1: 44866 | AJ1: 44896 | AK1: Q1 2023 | AL1: Q2 2023 | AM1: Q3 2023 | AN1: Q4 2023 | AO1: Q1 2024 | AP1: Q2 2024 | AQ1: Q3 2024 | AR1: Q4 2024 | AS1: Q1 2025 | AT1: Q2 2025 | AU1: Q3 2025 | AV1: Q4 2025 | AW1: Q1 2026 | AX1: Q2 2026 | AY1: Q3 2026 | AZ1: Q4 2026 | BA1: Q1 2027 | BB1: Q2 2027 | BC1: Q3 2027 | BD1: Q4 2027 | BK1: List of inj machines
P2: =R2 & " (Nb of machines: " & S2 & ")" -> 60 T (Nb of machines: 1) | R2: 60 T | S2: 1 | T2: 0.95 | U2: 37.786778 | V2: 5.3924319 | W2: 5.0991009 | X2: 5.0369317 | Y2: 33.511046 | Z2: 35.10681 | AA2: 30.718459 | AB2: 35.10681 | AC2: 32.054044 | AD2: 32.054044 | AE2: 33.511046 | AF2: 29.986574 | AG2: 32.712627 | AH2: 32.712627 | AI2: 31.290338 | AJ2: 32.712627 | AK2: 32.878658 | AL2: 32.878658 | AM2: 27.398882 | AN2: 29.682122 | AO2: 33.035465 | AP2: 38.219291 | AQ2: 32.358021 | AR2: 35.003438 | AS2: 38.80728 | AT2: 38.219291 | AU2: 32.358021 | AV2: 35.003438 | AW2: 38.80728 | AX2: 38.219291 | AY2: 32.358021 | AZ2: 35.003438 | BA2: 0 | BB2: 0 | BC2: 0 | BD2: 0 | BK2: A0,1
P3: =R3 & " (Nb of machines: " & S3 & ")" -> Bi90 T (Nb of machines: 1) | R3: Bi90 T | S3: 1 | T3: 0.94 | U3: 1.0033591 | V3: 0.0052448315 | W3: 0.0050167953 | X3: 0.0050167953 | Y3: 1.0489663 | Z3: 1.0989171 | AA3: 0.96155244 | AB3: 1.0989171 | AC3: 1.0033591 | AD3: 1.0033591 | AE3: 1.0489663 | AF3: 0.96155244 | AG3: 1.0489663 | AH3: 1.0489663 | AI3: 1.0033591 | AJ3: 1.0489663 | AK3: 0.0017751737 | AL3: 0.0017751737 | AM3: 0.0017751737 | AN3: 0.0017482772 | AO3: 0.0017482772 | AP3: 0.0017482772 | AQ3: 0.0017221835 | AR3: 0.0017221835 | AS3: 0.0017751737 | AT3: 0.0017482772 | AU3: 0.0017221835 | AV3: 0.0017221835 | AW3: 0.0017751737 | AX3: 0.0017482772 | AY3: 0.0017221835 | AZ3: 0 | BA3: 0 | BB3: 0 | BC3: 0 | BD3: 0 | BK3: A0,2
P4: =R4 & " (Nb of machines: " & S4 & ")" -> 100 T (Nb of machines: 4) | R4: 100 T | S4: 4 | T4: 0.94 | U4: 71.768737 | V4: 42.719751 | W4: 40.416762 | X4: 38.629709 | Y4: 57.439821 | Z4: 60.175051 | AA4: 52.769136 | AB4: 60.271329 | AC4: 54.781276 | AD4: 55.093344 | AE4: 57.660102 | AF4: 52.227607 | AG4: 57.660102 | AH4: 57.582051 | AI4: 55.144459 | AJ4: 60.415009 | AK4: 50.524075 | AL4: 47.252287 | AM4: 39.593499 | AN4: 42.74848 | AO4: 44.829197 | AP4: 59.698685 | AQ4: 52.039828 | AR4: 55.417886 | AS4: 60.625096 | AT4: 59.712242 | AU4: 52.055291 | AV4: 55.427805 | AW4: 60.622923 | AX4: 59.704869 | AY4: 52.058415 | AZ4: 54.144797 | BA4: 0.48583833 | BB4: 0.47847715 | BC4: 0.4713357 | BD4: 0.47847715 | BK4: A0,3
P5: =R5 & " (Nb of machines: " & S5 & ")" -> 150 T (Nb of machines: 4) | R5: 150 T | S5: 4 | T5: 0.94 | U5: 115.2182 | V5: 85.894843 | W5: 83.008385 | X5: 77.896365 | Y5: 146.08337 | Z5: 152.67813 | AA5: 138.52321 | AB5: 153.80564 | AC5: 140.47732 | AD5: 143.78272 | AE5: 150.10092 | AF5: 116.65592 | AG5: 151.95832 | AH5: 151.85191 | AI5: 146.78728 | AJ5: 142.65844 | AK5: 141.20817 | AL5: 138.19183 | AM5: 117.60567 | AN5: 125.51635 | AO5: 112.74873 | AP5: 118.89602 | AQ5: 101.71838 | AR5: 109.65596 | AS5: 119.46747 | AT5: 116.414 | AU5: 99.534053 | AV5: 107.971 | AW5: 119.07874 | AX5: 116.39995 | AY5: 99.056207 | AZ5: 81.346568 | BA5: 0 | BB5: 0 | BC5: 0 | BD5: 0 | BK5: A1
P6: =R6 & " (Nb of machines: " & S6 & ")" -> Bi150 T (Nb of machines: 1) | R6: Bi150 T | S6: 1 | T6: 0.93 | U6: 19.443164 | V6: 10.478242 | W6: 9.9934987 | X6: 9.935164 | Y6: 20.326944 | Z6: 21.294894 | AA6: 18.633032 | AB6: 21.294894 | AC6: 19.443164 | AD6: 19.443164 | AE6: 20.326944 | AF6: 18.633032 | AG6: 20.326944 | AH6: 20.326944 | AI6: 19.443164 | AJ6: 20.326944 | AK6: 20.639666 | AL6: 20.639666 | AM6: 17.199722 | AN6: 18.633032 | AO6: 20.326944 | AP6: 20.326944 | AQ6: 16.686297 | AR6: 18.354927 | AS6: 20.639666 | AT6: 20.326944 | AU6: 16.686297 | AV6: 18.354927 | AW6: 20.639666 | AX6: 20.326944 | AY6: 16.686297 | AZ6: 18.354927 | BA6: 0 | BB6: 0 | BC6: 0 | BD6: 0 | BK6: A2
P7: =R7 & " (Nb of machines: " & S7 & ")" -> 200 T (Nb of machines: 7) | R7: 200 T | S7: 7 | T7: 0.89 | U7: 113.05631 | V7: 114.30953 | W7: 107.60948 | X7: 102.15651 | Y7: 136.27809 | Z7: 141.38341 | AA7: 128.48186 | AB7: 142.47818 | AC7: 127.98551 | AD7: 133.30813 | AE7: 137.98437 | AF7: 101.05097 | AG7: 136.70618 | AH7: 135.6233 | AI7: 129.14474 | AJ7: 127.79102 | AK7: 116.72976 | AL7: 111.55313 | AM7: 88.237424 | AN7: 79.175046 | AO7: 78.136621 | AP7: 77.703789 | AQ7: 64.355993 | AR7: 65.10366 | AS7: 71.67408 | AT7: 66.168176 | AU7: 54.571588 | AV7: 56.31965 | AW7: 63.330068 | AX7: 62.370521 | AY7: 51.199682 | AZ7: 56.31965 | BA7: 0 | BB7: 0 | BC7: 0 | BD7: 0 | BK7: A3
P8: =R8 & " (Nb of machines: " & S8 & ")" -> 300 T (Nb of machines: 6) | R8: 300 T | S8: 6 | T8: 0.91 | U8: 93.096612 | V8: 72.170941 | W8: 68.532182 | X8: 66.287822 | Y8: 106.53106 | Z8: 111.20805 | AA8: 100.58089 | AB8: 113.07594 | AC8: 98.464929 | AD8: 105.16424 | AE8: 110.38516 | AF8: 81.204616 | AG8: 107.31749 | AH8: 105.42759 | AI8: 101.77052 | AJ8: 107.34094 | AK8: 103.69459 | AL8: 103.75757 | AM8: 87.212233 | AN8: 87.092588 | AO8: 90.323436 | AP8: 96.362195 | AQ8: 81.595996 | AR8: 82.398681 | AS8: 90.326401 | AT8: 83.264128 | AU8: 70.395096 | AV8: 76.143567 | AW8: 84.495308 | AX8: 83.218049 | AY8: 70.414619 | AZ8: 68.15946 | BA8: 0 | BB8: 0 | BC8: 0 | BD8: 0 | BK8: A4
P9: =R9 & " (Nb of machines: " & S9 & ")" -> 350 T (Nb of machines: 6) | R9: 350 T | S9: 6 | T9: 0.93 | U9: 168.89757 | V9: 207.76831 | W9: 201.64205 | X9: 178.21576 | Y9: 296.58733 | Z9: 307.60009 | AA9: 289.13359 | AB9: 311.75165 | AC9: 284.28983 | AD9: 298.18335 | AE9: 309.41647 | AF9: 198.60646 | AG9: 317.7924 | AH9: 315.92875 | AI9: 307.5625 | AJ9: 283.26164 | AK9: 259.75748 | AL9: 240.58314 | AM9: 209.20338 | AN9: 210.14218 | AO9: 219.05791 | AP9: 215.13348 | AQ9: 186.2464 | AR9: 198.74184 | AS9: 212.23194 | AT9: 203.77411 | AU9: 176.35864 | AV9: 190.0197 | AW9: 208.27431 | AX9: 201.98014 | AY9: 173.09572 | AZ9: 94.473483 | BA9: 0 | BB9: 0 | BC9: 0 | BD9: 0 | BK9: A5
P10: =R10 & " (Nb of machines: " & S10 & ")" -> 400 T (Nb of machines: 2) | R10: 400 T | S10: 2 | T10: 0.89 | U10: 50.1175 | V10: 26.882082 | W10: 25.624663 | X10: 25.447399 | Y10: 35.500135 | Z10: 37.190618 | AA10: 32.54179 | AB10: 37.190618 | AC10: 33.956651 | AD10: 33.956651 | AE10: 35.500135 | AF10: 32.54179 | AG10: 35.500135 | AH10: 35.500135 | AI10: 33.956651 | AJ10: 35.500135 | AK10: 36.046291 | AL10: 36.046291 | AM10: 30.038576 | AN10: 32.54179 | AO10: 37.782116 | AP10: 52.395568 | AQ10: 45.785164 | AR10: 48.699355 | AS10: 53.201654 | AT10: 52.395568 | AU10: 45.785164 | AV10: 48.699355 | AW10: 53.201654 | AX10: 52.395568 | AY10: 45.785164 | AZ10: 48.699355 | BA10: 0 | BB10: 0 | BC10: 0 | BD10: 0 | BK10: A5,1
P11: =R11 & " (Nb of machines: " & S11 & ")" -> Bi420 T (Nb of machines: 3) | R11: Bi420 T | S11: 3 | T11: 0.85 | U11: 43.019053 | V11: 49.680113 | W11: 44.519405 | X11: 43.019053 | Y11: 47.994132 | Z11: 47.453541 | AA11: 42.758235 | AB11: 47.453541 | AC11: 44.617289 | AD11: 44.617289 | AE11: 46.645347 | AF11: 35.33838 | AG11: 45.296562 | AH11: 49.342917 | AI11: 44.617289 | AJ11: 46.83156 | AK11: 47.552046 | AL11: 47.552046 | AM11: 39.626705 | AN11: 42.92893 | AO11: 40.680385 | AP11: 18.312477 | AQ11: 15.032631 | AR11: 16.535894 | AS11: 18.594208 | AT11: 18.312477 | AU11: 15.032631 | AV11: 16.535894 | AW11: 18.594208 | AX11: 18.312477 | AY11: 15.032631 | AZ11: 16.535894 | BA11: 0 | BB11: 0 | BC11: 0 | BD11: 0 | BK11: A6
P12: =R12 & " (Nb of machines: " & S12 & ")" -> 500 T (Nb of machines: 2) | R12: 500 T | S12: 2 | T12: 0.85 | U12: 27.455551 | V12: 9.9699535 | W12: 9.4878954 | X12: 9.4564494 | Y12: 28.309188 | Z12: 29.657245 | AA12: 25.950089 | AB12: 29.657245 | AC12: 27.078354 | AD12: 27.078354 | AE12: 20.902301 | AF12: 19.160443 | AG12: 20.902301 | AH12: 20.902301 | AI12: 19.993505 | AJ12: 20.902301 | AK12: 9.5668782 | AL12: 9.5668782 | AM12: 8.1173342 | AN12: 8.7081349 | AO12: 7.926076 | AP12: 9.816203 | AQ12: 8.6641653 | AR12: 9.1669289 | AS12: 9.9672215 | AT12: 9.816203 | AU12: 8.6641653 | AV12: 9.1669289 | AW12: 9.9672215 | AX12: 9.816203 | AY12: 8.6641653 | AZ12: 9.1669289 | BA12: 0.86961397 | BB12: 0.856438 | BC12: 0.84365534 | BD12: 0.856438 | BK12: A7
P13: =R13 & " (Nb of machines: " & S13 & ")" -> Bi500 T (Nb of machines: 1) | R13: Bi500 T | S13: 1 | T13: 0.89 | U13: 19.453461 | V13: 23.927168 | W13: 20.597926 | X13: 19.453461 | Y13: 22.641105 | Z13: 21.563567 | AA13: 19.811234 | AB13: 21.563567 | AC13: 20.672592 | AD13: 20.672592 | AE13: 21.612255 | AF13: 14.151384 | AG13: 20.583405 | AH13: 23.669956 | AI13: 20.672592 | AJ13: 21.754298 | AK13: 22.088979 | AL13: 22.088979 | AM13: 18.407483 | AN13: 19.94144 | AO13: 17.062194 | AP13: 0 | AQ13: 0 | AR13: 0 | AS13: 0 | AT13: 0 | AU13: 0 | AV13: 0 | AW13: 0 | AX13: 0 | AY13: 0 | AZ13: 0 | BA13: 0 | BB13: 0 | BC13: 0 | BD13: 0 | BK13: A8
... P15: =R15 & " (Nb of machines: " & S15 & ")" -> Bi1100 T (Nb of machines: 3) | R15: Bi1100 T | S15: 3 | T15: 0.85 | U15: 140.32895 | V15: 15.424723 | W15: 13.626267 | X15: 12.588251 | Y15: 55.838292 | Z15: 57.732768 | AA15: 50.850637 | AB15: 57.732768 | AC15: 53.061534 | AD15: 53.061534 | AE15: 55.473422 | AF15: 48.843433 | AG15: 55.108551 | AH15: 56.203163 | AI15: 53.061534 | AJ15: 55.523796 | AK15: 56.378008 | AL15: 56.378008 | AM15: 46.981673 | AN15: 50.896813 | AO15: 67.701058 | AP15: 139.49499 | AQ15: 129.56376 | AR15: 133.48836 | AS15: 141.64106 | AT15: 139.49499 | AU15: 129.56376 | AV15: 133.48836 | AW15: 141.64106 | AX15: 139.49499 | AY15: 129.56376 | AZ15: 133.48836 | BA15: 0 | BB15: 0 | BC15: 0 | BD15: 0 | BK15: A10,1
P16: =R16 & " (Nb of machines: " & S16 & ")" -> C-350 T (Nb of machines: 1) | Q16: Hall C | R16: C-350 T | S16: 1 | T16: 0.85 | U16: 22.134572 | V16: 18.832272 | W16: 18.013478 | X16: 18.013478 | Y16: 18.832272 | Z16: 19.729047 | AA16: 17.262916 | AB16: 19.729047 | AC16: 18.013478 | AD16: 18.013478 | AE16: 18.832272 | AF16: 17.262916 | AG16: 18.832272 | AH16: 18.832272 | AI16: 18.013478 | AJ16: 23.140689 | AK16: 23.496699 | AL16: 23.496699 | AM16: 19.580583 | AN16: 21.212298 | AO16: 23.140689 | AP16: 23.140689 | AQ16: 18.996088 | AR16: 20.895696 | AS16: 23.496699 | AT16: 23.140689 | AU16: 18.996088 | AV16: 20.895696 | AW16: 23.496699 | AX16: 23.140689 | AY16: 18.996088 | AZ16: 20.895696 | BA16: 0 | BB16: 0 | BC16: 0 | BD16: 0 | BK16: A10,2
P17: =R17 & " (Nb of machines: " & S17 & ")" -> C-650 T (Nb of machines: 2) | R17: C-650 T | S17: 2 | T17: 0.85 | U17: 35.753878 | V17: 35.602582 | W17: 31.499886 | X17: 30.222508 | Y17: 34.167161 | Z17: 33.38813 | AA17: 30.267256 | AB17: 33.38813 | AC17: 31.583223 | AD17: 31.583223 | AE17: 33.018824 | AF17: 23.950094 | AG17: 26.484306 | AH17: 29.929316 | AI17: 26.431223 | AJ17: 30.072959 | AK17: 30.53562 | AL17: 30.53562 | AM17: 25.44635 | AN17: 27.566879 | AO17: 24.835934 | AP17: 5.792205 | AQ17: 4.7547951 | AR17: 5.2302747 | AS17: 5.8813158 | AT17: 5.792205 | AU17: 4.7547951 | AV17: 5.2302747 | AW17: 5.8813158 | AX17: 5.792205 | AY17: 4.7547951 | AZ17: 5.2302747 | BA17: 0 | BB17: 0 | BC17: 0 | BD17: 0 | BK17: A10,3
P18: =R18 & " (Nb of machines: " & S18 & ")" -> C-800 T (Nb of machines: 1) | R18: C-800 T | S18: 1 | T18: 0.85 | U18: 23.755233 | V18: 15.051525 | W18: 14.397111 | X18: 14.397111 | Y18: 15.051525 | Z18: 15.768265 | AA18: 13.797231 | AB18: 15.768265 | AC18: 14.397111 | AD18: 14.397111 | AE18: 15.051525 | AF18: 13.797231 | AG18: 15.051525 | AH18: 15.051525 | AI18: 14.397111 | AJ18: 24.835017 | AK18: 25.217094 | AL18: 25.217094 | AM18: 21.014245 | AN18: 22.765432 | AO18: 24.835017 | AP18: 24.835017 | AQ18: 20.386954 | AR18: 22.425649 | AS18: 25.217094 | AT18: 24.835017 | AU18: 20.386954 | AV18: 22.425649 | AW18: 25.217094 | AX18: 24.835017 | AY18: 20.386954 | AZ18: 22.425649 | BA18: 0 | BB18: 0 | BC18: 0 | BD18: 0 | BK18: A11
P19: =R19 & " (Nb of machines: " & S19 & ")" -> C-1100 T (Nb of machines: 1) | R19: C-1100 T | S19: 1 | T19: 0.85 | U19: 63.863028 | V19: 17.531198 | W19: 16.768972 | X19: 16.768972 | Y19: 17.531198 | Z19: 18.366017 | AA19: 16.070265 | AB19: 18.366017 | AC19: 16.768972 | AD19: 16.768972 | AE19: 17.531198 | AF19: 16.070265 | AG19: 17.531198 | AH19: 17.531198 | AI19: 16.768972 | AJ19: 17.531198 | AK19: 17.800909 | AL19: 17.800909 | AM19: 14.834091 | AN19: 16.070265 | AO19: 24.181079 | AP19: 66.765893 | AQ19: 62.89113 | AR19: 64.330259 | AS19: 67.79306 | AT19: 66.765893 | AU19: 62.89113 | AV19: 64.330259 | AW19: 67.79306 | AX19: 66.765893 | AY19: 62.89113 | AZ19: 64.330259 | BA19: 0 | BB19: 0 | BC19: 0 | BD19: 0
P20: =R20 & " (Nb of machines: " & S20 & ")" -> C-Combi 1100 T (Nb of machines: 1) | R20: C-Combi 1100 T | S20: 1 | T20: 0.85 | U20: 18.54 | V20: 19.382727 | W20: 18.54 | X20: 18.54 | Y20: 19.382727 | Z20: 20.305714 | AA20: 17.7675 | AB20: 20.305714 | AC20: 18.54 | AD20: 18.54 | AE20: 19.382727 | AF20: 17.7675 | AG20: 19.382727 | AH20: 19.382727 | AI20: 18.54 | AJ20: 19.382727 | AK20: 19.680923 | AL20: 19.680923 | AM20: 16.400769 | AN20: 17.7675 | AO20: 19.382727 | AP20: 19.382727 | AQ20: 15.911194 | AR20: 17.502313 | AS20: 19.680923 | AT20: 19.382727 | AU20: 15.911194 | AV20: 17.502313 | AW20: 19.680923 | AX20: 19.382727 | AY20: 15.911194 | AZ20: 17.502313 | BA20: 0 | BB20: 0 | BC20: 0 | BD20: 0 | BK20: A12
P21: =R21 & " (Nb of machines: " & S21 & ")" -> C-1500 T (Nb of machines: 2) | R21: C-1500 T | S21: 2 | T21: 0.85 | U21: 69.573402 | V21: 39.423522 | W21: 37.709456 | X21: 37.709456 | Y21: 39.423522 | Z21: 41.300832 | AA21: 36.138228 | AB21: 41.300832 | AC21: 37.709456 | AD21: 37.709456 | AE21: 39.423522 | AF21: 36.138228 | AG21: 34.560996 | AH21: 34.560996 | AI21: 33.058344 | AJ21: 57.025644 | AK21: 57.902962 | AL21: 57.902962 | AM21: 48.252468 | AN21: 52.273507 | AO21: 59.587984 | AP21: 64.712662 | AQ21: 54.384383 | AR21: 59.065592 | AS21: 65.708242 | AT21: 64.712662 | AU21: 54.384383 | AV21: 59.065592 | AW21: 65.708242 | AX21: 64.712662 | AY21: 54.384383 | AZ21: 59.065592 | BA21: 0 | BB21: 0 | BC21: 0 | BD21: 0 | BK21: A13
P22: =R22 & " (Nb of machines: " & S22 & ")" -> C-Combi 1700 T (Nb of machines: 2) | R22: C-Combi 1700 T | S22: 2 | T22: 0.85 | U22: 32.044444 | V22: 33.50101 | W22: 32.044444 | X22: 32.044444 | Y22: 33.50101 | Z22: 35.096296 | AA22: 30.709259 | AB22: 35.096296 | AC22: 32.044444 | AD22: 32.044444 | AE22: 33.50101 | AF22: 30.709259 | AG22: 33.50101 | AH22: 33.50101 | AI22: 32.044444 | AJ22: 33.50101 | AK22: 34.01641 | AL22: 34.01641 | AM22: 28.347009 | AN22: 30.709259 | AO22: 33.50101 | AP22: 33.50101 | AQ22: 27.500829 | AR22: 30.250912 | AS22: 34.01641 | AT22: 33.50101 | AU22: 27.500829 | AV22: 30.250912 | AW22: 34.01641 | AX22: 33.50101 | AY22: 27.500829 | AZ22: 30.250912 | BA22: 0 | BB22: 0 | BC22: 0 | BD22: 0 | BK22: A14
P23: =R23 & " (Nb of machines: " & S23 & ")" -> C-2000 T (Nb of machines: 1) | R23: C-2000 T | S23: 1 | T23: 0.85 | U23: 72.286107 | V23: 18.456484 | W23: 15.888437 | X23: 15.005641 | Y23: 17.464465 | Z23: 16.633294 | AA23: 15.281613 | AB23: 16.633294 | AC23: 15.946031 | AD23: 15.946031 | AE23: 16.67085 | AF23: 10.915826 | AG23: 15.877235 | AH23: 18.25808 | AI23: 15.946031 | AJ23: 16.780417 | AK23: 17.038577 | AL23: 17.038577 | AM23: 14.198814 | AN23: 15.382049 | AO23: 19.688976 | AP23: 59.884124 | AQ23: 58.990331 | AR23: 58.990331 | AS23: 60.805418 | AT23: 59.884124 | AU23: 58.990331 | AV23: 58.990331 | AW23: 60.805418 | AX23: 59.884124 | AY23: 58.990331 | AZ23: 58.990331 | BA23: 0 | BB23: 0 | BC23: 0 | BD23: 0 | BK23: A14,1
P24: =R24 & " (Nb of machines: " & S24 & ")" -> C-2300 T (Nb of machines: 3) | R24: C-2300 T | S24: 3 | T24: 0.85 | U24: 75.032527 | V24: 65.446667 | W24: 60.407546 | X24: 59.310739 | Y24: 64.214159 | Z24: 65.206057 | AA24: 57.959139 | AB24: 65.206057 | AC24: 60.479102 | AD24: 60.479102 | AE24: 63.228152 | AF24: 52.534979 | AG24: 57.024282 | AH24: 59.982301 | AI24: 55.488102 | AJ24: 71.19122 | AK24: 72.286469 | AL24: 72.286469 | AM24: 60.238725 | AN24: 65.258618 | AO24: 66.694507 | AP24: 50.342823 | AQ24: 41.326198 | AR24: 45.458818 | AS24: 51.117328 | AT24: 50.342823 | AU24: 41.326198 | AV24: 45.458818 | AW24: 51.117328 | AX24: 50.342823 | AY24: 41.326198 | AZ24: 45.458818 | BA24: 0 | BB24: 0 | BC24: 0 | BD24: 0 | BK24: A15
P25: =R25 & " (Nb of machines: " & S25 & ")" -> C-Combi 2300 T (Nb of machines: 1) | R25: C-Combi 2300 T | S25: 1 | T25: 0.85 | U25: 24.72 | V25: 25.843636 | W25: 24.72 | X25: 24.72 | Y25: 25.843636 | Z25: 27.074286 | AA25: 23.69 | AB25: 27.074286 | AC25: 24.72 | AD25: 24.72 | AE25: 25.843636 | AF25: 23.69 | AG25: 25.843636 | AH25: 25.843636 | AI25: 24.72 | AJ25: 25.843636 | AK25: 26.241231 | AL25: 26.241231 | AM25: 21.867692 | AN25: 23.69 | AO25: 25.843636 | AP25: 25.843636 | AQ25: 21.214925 | AR25: 23.336418 | AS25: 26.241231 | AT25: 25.843636 | AU25: 21.214925 | AV25: 23.336418 | AW25: 26.241231 | AX25: 25.843636 | AY25: 21.214925 | AZ25: 23.336418 | BA25: 0 | BB25: 0 | BC25: 0 | BD25: 0 | BK25: A16
R26: Total of machines: | S26: 58 | T26: Total hours: | U26: 1376.4378 | V26: 986.81011 | W26: 935.47301 | X26: 888.37026 | Y26: 1310.791 | Z26: 1355.6365 | AA26: 1224.86 | AB26: 1364.5478 | AC26: 1244.4745 | AD26: 1274.0471 | AE26: 1321.3298 | AF26: 1026.1343 | AG26: 1305.1002 | AH26: 1317.9718 | AI26: 1256.6935 | AJ26: 1313.2294 | AK26: 1259.7229 | AL26: 1229.1468 | AM26: 1031.8381 | AN26: 1075.4069 | AO26: 1130.089 | AP26: 1265.2929 | AQ26: 1098.2529 | AR26: 1161.0104 | AS26: 1262.5545 | AT26: 1226.8314 | AU26: 1065.211 | AV26: 1135.5741 | AW26: 1244.0308 | AX26: 1221.1723 | AY26: 1058.121 | AZ26: 1004.1346 | BA26: 1.3554523 | BB26: 1.3349151 | BC26: 1.314991 | BD26: 1.3349151 | BK26: A17
U27: 1277.3611 | V27: 986.81011 | W27: 935.47301 | X27: 888.37026 | Y27: 1310.791 | Z27: 1355.6365 | AA27: 1224.86 | AB27: 1364.5478 | AC27: 1244.4745 | AD27: 1274.0471 | AE27: 1321.3298 | AF27: 1026.1343 | AG27: 1305.1002 | AH27: 1317.9718 | AI27: 1256.6935 | AJ27: 1313.2294 | AK27: 1259.7229 | AL27: 1229.1468 | AM27: 1031.8381 | AN27: 1075.4069 | AO27: 1119.3516 | AP27: 1161.7127 | AQ27: 996.2187 | AR27: 1058.9761 | AS27: 1157.3807 | AT27: 1123.2512 | AU27: 963.17677 | AV27: 1033.5398 | AW27: 1138.8571 | AX27: 1117.5921 | AY27: 956.08675 | AZ27: 902.10033 | BA27: 1.3554523 | BB27: 1.3349151 | BC27: 1.314991 | BD27: 1.3349151 | BK27: A18
S28: Hours/shift | T28: Absence | BK28: A19

Sheet Summary
A1: Theoretical | C1: 4 | D1: 5 | E1: 6 | F1: 7 | G1: 8 | H1: 9 | I1: 10 | J1: 11 | K1: 12 | L1: 13 | M1: 14 | N1: 15 | O1: 16 | P1: 17 | Q1: 18 | R1: 19 | S1: 20 | T1: 21 | U1: 22 | V1: 23 | W1: 24 | X1: 25 | Y1: 26 | Z1: 27 | AA1: 28 | AB1: 29 | AC1: 30 | AD1: 31 | AE1: 32 | AF1: 33 | AG1: 34 | AH1: 35 | AI1: 36 | AJ1: 37 | AK1: 38 | AL1: 39 | AM1: 40 | AN1: 41 | AO1: 42 | AP1: 43 | AQ1: 44
A2: Tonnage | B2: Nr. of machines | C2: ='PLAN CHARGE'!U1 -> 44440 | D2: ='PLAN CHARGE'!V1 -> 44470 | E2: ='PLAN CHARGE'!W1 -> 44501 | F2: ='PLAN CHARGE'!X1 -> 44531 | G2: ='PLAN CHARGE'!Y1 -> 44562 | H2: ='PLAN CHARGE'!Z1 -> 44593 | I2: ='PLAN CHARGE'!AA1 -> 44621 | J2: ='PLAN CHARGE'!AB1 -> 44652 | ... AL2: ='PLAN CHARGE'!BD1 -> Q4 2027 | AS2: Tonnage | AT2: Nr. of machines | AV2: číslo | AW2: názov | AX2: Group | AY2: Cycalde number
A3: ='PLAN CHARGE'!R2 -> 60 T | B3: =VLOOKUP($A3,'PLAN CHARGE'!$R$2:$S$25,2,FALSE) -> 1 | C3: =VLOOKUP($A3,'PLAN CHARGE'!$R$2:$BI$25,C$1,FALSE) -> 37.786778 | D3: =VLOOKUP($A3,'PLAN CHARGE'!$R$2:$BI$25,D$1,FALSE) -> 5.3924319 | E3: =VLOOKUP($A3,'PLAN CHARGE'!$R$2:$BI$25,E$1,FALSE) -> 5.0991009 | F3: =VLOOKUP($A3,'PLAN CHARGE'!$R$2:$BI$25,F$1,FALSE) -> 5.0369317 | G3: =VLOOKUP($A3,'PLAN CHARGE'!$R$2:$BI$25,G$1,FALSE) -> 33.511046 | H3: =VLOOKUP($A3,'PLAN CHARGE'!$R$2:$BI$25,H$1,FALSE) -> 35.10681 | I3: =VLOOKUP($A3,'PLAN CHARGE'!$R$2:$BI$25,I$1,FALSE) -> 30.718459 | J3: =VLOOKUP($A3,'PLAN CHARGE'!$R$2:$BI$25,J$1,FALSE) -> 35.10681 | ... AL3: =VLOOKUP($A3,'PLAN CHARGE'!$R$2:$BI$25,AL$1,FALSE) -> 0 | AS3: ='PLAN CHARGE'!R2 -> 60 T | AT3: ='PLAN CHARGE'!S2 -> 1 | AV3: B9 | AW3: 60 T | AX3: 60 T | AY3: D0601
A4: Green | C4: =IF(C3<C7,C3,C7) -> 24 | D4: =IF(D3<D7,D3,D7) -> 5.3924319 | E4: =IF(E3<E7,E3,E7) -> 5.0991009 | F4: =IF(F3<F7,F3,F7) -> 5.0369317 | G4: =IF(G3<G7,G3,G7) -> 24 | H4: =IF(H3<H7,H3,H7) -> 24 | I4: =IF(I3<I7,I3,I7) -> 24 | J4: =IF(J3<J7,J3,J7) -> 24 | ... AL4: =IF(AL3<AL7,AL3,AL7) -> 0 | AS4: ='PLAN CHARGE'!R3 -> Bi90 T | AT4: ='PLAN CHARGE'!S3 -> 1 | AV4: B10 | AW4: 100 T | AX4: 100 T | AY4: D1001
A5: Orange | C5: =IF(AND(C4<C3,C3>C8),C8-C4,C3-C4) -> 9.6 | D5: =IF(AND(D4<D3,D3>D8),D8-D4,D3-D4) -> 0 | E5: =IF(AND(E4<E3,E3>E8),E8-E4,E3-E4) -> 0 | F5: =IF(AND(F4<F3,F3>F8),F8-F4,F3-F4) -> 0 | G5: =IF(AND(G4<G3,G3>G8),G8-G4,G3-G4) -> 9.5110458 | H5: =IF(AND(H4<H3,H3>H8),H8-H4,H3-H4) -> 9.6 | I5: =IF(AND(I4<I3,I3>I8),I8-I4,I3-I4) -> 6.7184586 | J5: =IF(AND(J4<J3,J3>J8),J8-J4,J3-J4) -> 9.6 | ... AL5: =IF(AND(AL4<AL3,AL3>AL8),AL8-AL4,AL3-AL4) -> 0 | AS5: ='PLAN CHARGE'!R4 -> 100 T | AT5: ='PLAN CHARGE'!S4 -> 4 | AV5: B8 | AW5: 100 T | AX5: 100 T | AY5: D1002
A6: Red | C6: =IF(C4+C5<C3,C3-C8,0) -> 4.1867775 | D6: =IF(D4+D5<D3,D3-D8,0) -> 0 | E6: =IF(E4+E5<E3,E3-E8,0) -> 0 | F6: =IF(F4+F5<F3,F3-F8,0) -> 0 | G6: =IF(G4+G5<G3,G3-G8,0) -> 0 | H6: =IF(H4+H5<H3,H3-H8,0) -> 1.5068099 | I6: =IF(I4+I5<I3,I3-I8,0) -> 0 | J6: =IF(J4+J5<J3,J3-J8,0) -> 1.5068099 | ... AL6: =IF(AL4+AL5<AL3,AL3-AL8,0) -> 0 | AS6: ='PLAN CHARGE'!R5 -> 150 T | AT6: ='PLAN CHARGE'!S5 -> 4 | AV6: B17 | AW6: 100 T | AX6: 100 T | AY6: D1003
A7: Max daily capacity (5 wd/week) | C7: =$B3*24 -> 24 | D7: =$B3*24 -> 24 | E7: =$B3*24 -> 24 | F7: =$B3*24 -> 24 | G7: =$B3*24 -> 24 | H7: =$B3*24 -> 24 | I7: =$B3*24 -> 24 | J7: =$B3*24 -> 24 | ... AL7: =$B3*24 -> 24 | AS7: ='PLAN CHARGE'!R6 -> Bi150 T | AT7: ='PLAN CHARGE'!S6 -> 1 | AV7: A0,3 | AW7: 120 T | AX7: 100 T | AY7: E1201
A8: Max daily capacity (7 wd/week) | C8: =C7*(7/5) -> 33.6 | D8: =D7*(7/5) -> 33.6 | E8: =E7*(7/5) -> 33.6 | F8: =F7*(7/5) -> 33.6 | G8: =G7*(7/5) -> 33.6 | H8: =H7*(7/5) -> 33.6 | I8: =I7*(7/5) -> 33.6 | J8: =J7*(7/5) -> 33.6 | ... AL8: =AL7*(7/5) -> 33.6 | AS8: ='PLAN CHARGE'!R7 -> 200 T | AT8: ='PLAN CHARGE'!S7 -> 7 | AV8: B18 | AW8: Bi90 T | AX8: Bi90 T | AY8: E0901
A9: ='PLAN CHARGE'!R3 -> Bi90 T | B9: =VLOOKUP($A9,'PLAN CHARGE'!$R$2:$S$25,2,FALSE) -> 1 | C9: =VLOOKUP($A9,'PLAN CHARGE'!$R$2:$BI$25,C$1,FALSE) -> 1.0033591 | D9: =VLOOKUP($A9,'PLAN CHARGE'!$R$2:$BI$25,D$1,FALSE) -> 0.0052448315 | E9: =VLOOKUP($A9,'PLAN CHARGE'!$R$2:$BI$25,E$1,FALSE) -> 0.0050167953 | F9: =VLOOKUP($A9,'PLAN CHARGE'!$R$2:$BI$25,F$1,FALSE) -> 0.0050167953 | G9: =VLOOKUP($A9,'PLAN CHARGE'!$R$2:$BI$25,G$1,FALSE) -> 1.0489663 | H9: =VLOOKUP($A9,'PLAN CHARGE'!$R$2:$BI$25,H$1,FALSE) -> 1.0989171 | I9: =VLOOKUP($A9,'PLAN CHARGE'!$R$2:$BI$25,I$1,FALSE) -> 0.96155244 | J9: =VLOOKUP($A9,'PLAN CHARGE'!$R$2:$BI$25,J$1,FALSE) -> 1.0989171 | ... AL9: =VLOOKUP($A9,'PLAN CHARGE'!$R$2:$BI$25,AL$1,FALSE) -> 0 | AS9: ='PLAN CHARGE'!R8 -> 300 T | AT9: ='PLAN CHARGE'!S8 -> 6 | AV9: A1 | AW9: 150 T | AX9: 150 T | AY9: D1501
A10: Green | C10: =IF(C9<C13,C9,C13) -> 1.0033591 | D10: =IF(D9<D13,D9,D13) -> 0.0052448315 | E10: =IF(E9<E13,E9,E13) -> 0.0050167953 | F10: =IF(F9<F13,F9,F13) -> 0.0050167953 | G10: =IF(G9<G13,G9,G13) -> 1.0489663 | H10: =IF(H9<H13,H9,H13) -> 1.0989171 | I10: =IF(I9<I13,I9,I13) -> 0.96155244 | J10: =IF(J9<J13,J9,J13) -> 1.0989171 | ... AL10: =IF(AL9<AL13,AL9,AL13) -> 0 | AS10: ='PLAN CHARGE'!R9 -> 350 T | AT10: ='PLAN CHARGE'!S9 -> 6 | AV10: A5 | AW10: Bi150 T | AX10: Bi150 T | AY10: D1502
A11: Orange | C11: =IF(AND(C10<C9,C9>C14),C14-C10,C9-C10) -> 0 | D11: =IF(AND(D10<D9,D9>D14),D14-D10,D9-D10) -> 0 | E11: =IF(AND(E10<E9,E9>E14),E14-E10,E9-E10) -> 0 | F11: =IF(AND(F10<F9,F9>F14),F14-F10,F9-F10) -> 0 | G11: =IF(AND(G10<G9,G9>G14),G14-G10,G9-G10) -> 0 | H11: =IF(AND(H10<H9,H9>H14),H14-H10,H9-H10) -> 0 | I11: =IF(AND(I10<I9,I9>I14),I14-I10,I9-I10) -> 0 | J11: =IF(AND(J10<J9,J9>J14),J14-J10,J9-J10) -> 0 | ... AL11: =IF(AND(AL10<AL9,AL9>AL14),AL14-AL10,AL9-AL10) -> 0 | AS11: ='PLAN CHARGE'!R10 -> 400 T | AT11: ='PLAN CHARGE'!S10 -> 2 | AV11: A10,1 | AW11: 150 T | AX11: 150 T | AY11: D1503
A12: Red | C12: =IF(C10+C11<C9,C9-C14,0) -> 0 | D12: =IF(D10+D11<D9,D9-D14,0) -> 0 | E12: =IF(E10+E11<E9,E9-E14,0) -> 0 | F12: =IF(F10+F11<F9,F9-F14,0) -> 0 | G12: =IF(G10+G11<G9,G9-G14,0) -> 0 | H12: =IF(H10+H11<H9,H9-H14,0) -> 0 | I12: =IF(I10+I11<I9,I9-I14,0) -> 0 | J12: =IF(J10+J11<J9,J9-J14,0) -> 0 | ... AL12: =IF(AL10+AL11<AL9,AL9-AL14,0) -> 0 | AS12: ='PLAN CHARGE'!R11 -> Bi420 T | AT12: ='PLAN CHARGE'!S11 -> 3 | AV12: B7 | AW12: 160 T | AX12: 150 T | AY12: D1601
A13: Max daily capacity (5 wd/week) | C13: =$B9*24 -> 24 | D13: =$B9*24 -> 24 | E13: =$B9*24 -> 24 | F13: =$B9*24 -> 24 | G13: =$B9*24 -> 24 | H13: =$B9*24 -> 24 | I13: =$B9*24 -> 24 | J13: =$B9*24 -> 24 | ... AL13: =$B9*24 -> 24 | AS13: ='PLAN CHARGE'!R12 -> 500 T | AT13: ='PLAN CHARGE'!S12 -> 2 | AV13: A0,1 | AW13: 160 T | AX13: 150 T | AY13: D1602
A14: Max daily capacity (7 wd/week) | C14: =C13*(7/5) -> 33.6 | D14: =D13*(7/5) -> 33.6 | E14: =E13*(7/5) -> 33.6 | F14: =F13*(7/5) -> 33.6 | G14: =G13*(7/5) -> 33.6 | H14: =H13*(7/5) -> 33.6 | I14: =I13*(7/5) -> 33.6 | J14: =J13*(7/5) -> 33.6 | ... AL14: =AL13*(7/5) -> 33.6 | AS14: ='PLAN CHARGE'!R13 -> Bi500 T | AT14: ='PLAN CHARGE'!S13 -> 1 | AV14: A2 | AW14: 200 T | AX14: 200 T | AY14: D2001
A15: ='PLAN CHARGE'!R4 -> 100 T | B15: =VLOOKUP($A15,'PLAN CHARGE'!$R$2:$S$25,2,FALSE) -> 4 | C15: =VLOOKUP($A15,'PLAN CHARGE'!$R$2:$BI$25,C$1,FALSE) -> 71.768737 | D15: =VLOOKUP($A15,'PLAN CHARGE'!$R$2:$BI$25,D$1,FALSE) -> 42.719751 | E15: =VLOOKUP($A15,'PLAN CHARGE'!$R$2:$BI$25,E$1,FALSE) -> 40.416762 | F15: =VLOOKUP($A15,'PLAN CHARGE'!$R$2:$BI$25,F$1,FALSE) -> 38.629709 | G15: =VLOOKUP($A15,'PLAN CHARGE'!$R$2:$BI$25,G$1,FALSE) -> 57.439821 | H15: =VLOOKUP($A15,'PLAN CHARGE'!$R$2:$BI$25,H$1,FALSE) -> 60.175051 | I15: =VLOOKUP($A15,'PLAN CHARGE'!$R$2:$BI$25,I$1,FALSE) -> 52.769136 | J15: =VLOOKUP($A15,'PLAN CHARGE'!$R$2:$BI$25,J$1,FALSE) -> 60.271329 | ... AL15: =VLOOKUP($A15,'PLAN CHARGE'!$R$2:$BI$25,AL$1,FALSE) -> 0.47847715 | AS15: ='PLAN CHARGE'!R14 -> 650 T | AT15: ='PLAN CHARGE'!S14 -> 2 | AV15: A3 | AW15: 200 T | AX15: 200 T | AY15: D2002
A16: Green | C16: =IF(C15<C19,C15,C19) -> 71.768737 | D16: =IF(D15<D19,D15,D19) -> 42.719751 | E16: =IF(E15<E19,E15,E19) -> 40.416762 | F16: =IF(F15<F19,F15,F19) -> 38.629709 | G16: =IF(G15<G19,G15,G19) -> 57.439821 | H16: =IF(H15<H19,H15,H19) -> 60.175051 | I16: =IF(I15<I19,I15,I19) -> 52.769136 | J16: =IF(J15<J19,J15,J19) -> 60.271329 | ... AL16: =IF(AL15<AL19,AL15,AL19) -> 0.47847715 | AS16: ='PLAN CHARGE'!R15 -> Bi1100 T | AT16: ='PLAN CHARGE'!S15 -> 3 | AV16: A4 | AW16: 200 T | AX16: 200 T | AY16: D2003
A17: Orange | C17: =IF(AND(C16<C15,C15>C20),C20-C16,C15-C16) -> 0 | D17: =IF(AND(D16<D15,D15>D20),D20-D16,D15-D16) -> 0 | E17: =IF(AND(E16<E15,E15>E20),E20-E16,E15-E16) -> 0 | F17: =IF(AND(F16<F15,F15>F20),F20-F16,F15-F16) -> 0 | G17: =IF(AND(G16<G15,G15>G20),G20-G16,G15-G16) -> 0 | H17: =IF(AND(H16<H15,H15>H20),H20-H16,H15-H16) -> 0 | I17: =IF(AND(I16<I15,I15>I20),I20-I16,I15-I16) -> 0 | J17: =IF(AND(J16<J15,J15>J20),J20-J16,J15-J16) -> 0 | ... AL17: =IF(AND(AL16<AL15,AL15>AL20),AL20-AL16,AL15-AL16) -> 0 | AS17: ='PLAN CHARGE'!R16 -> C-350 T | AT17: ='PLAN CHARGE'!S16 -> 1 | AV17: A10,2 | AW17: 210 T | AX17: 200 T | AY17: D2101
A18: Red | C18: =IF(C16+C17<C15,C15-C20,0) -> 0 | D18: =IF(D16+D17<D15,D15-D20,0) -> 0 | E18: =IF(E16+E17<E15,E15-E20,0) -> 0 | F18: =IF(F16+F17<F15,F15-F20,0) -> 0 | G18: =IF(G16+G17<G15,G15-G20,0) -> 0 | H18: =IF(H16+H17<H15,H15-H20,0) -> 0 | I18: =IF(I16+I17<I15,I15-I20,0) -> 0 | J18: =IF(J16+J17<J15,J15-J20,0) -> 0 | ... AL18: =IF(AL16+AL17<AL15,AL15-AL20,0) -> 0 | AS18: ='PLAN CHARGE'!R17 -> C-650 T | AT18: ='PLAN CHARGE'!S17 -> 2 | AV18: A10,3 | AW18: 210 T | AX18: 200 T | AY18: D2102
A19: Max daily capacity (5 wd/week) | C19: =$B15*24 -> 96 | D19: =$B15*24 -> 96 | E19: =$B15*24 -> 96 | F19: =$B15*24 -> 96 | G19: =$B15*24 -> 96 | H19: =$B15*24 -> 96 | I19: =$B15*24 -> 96 | J19: =$B15*24 -> 96 | ... AL19: =$B15*24 -> 96 | AS19: ='PLAN CHARGE'!R18 -> C-800 T | AT19: ='PLAN CHARGE'!S18 -> 1 | AV19: B5 | AW19: 220 T | AX19: 200 T | AY19: D2201
A20: Max daily capacity (7 wd/week) | C20: =C19*(7/5) -> 134.4 | D20: =D19*(7/5) -> 134.4 | E20: =E19*(7/5) -> 134.4 | F20: =F19*(7/5) -> 134.4 | G20: =G19*(7/5) -> 134.4 | H20: =H19*(7/5) -> 134.4 | I20: =I19*(7/5) -> 134.4 | J20: =J19*(7/5) -> 134.4 | ... AL20: =AL19*(7/5) -> 134.4 | AS20: ='PLAN CHARGE'!R19 -> C-1100 T | AT20: ='PLAN CHARGE'!S19 -> 1 | AV20: B6 | AW20: 220 T | AX20: 200 T | AY20: D2202
A21: ='PLAN CHARGE'!R5 -> 150 T | B21: =VLOOKUP($A21,'PLAN CHARGE'!$R$2:$S$25,2,FALSE) -> 4 | C21: =VLOOKUP($A21,'PLAN CHARGE'!$R$2:$BI$25,C$1,FALSE) -> 115.2182 | D21: =VLOOKUP($A21,'PLAN CHARGE'!$R$2:$BI$25,D$1,FALSE) -> 85.894843 | E21: =VLOOKUP($A21,'PLAN CHARGE'!$R$2:$BI$25,E$1,FALSE) -> 83.008385 | F21: =VLOOKUP($A21,'PLAN CHARGE'!$R$2:$BI$25,F$1,FALSE) -> 77.896365 | G21: =VLOOKUP($A21,'PLAN CHARGE'!$R$2:$BI$25,G$1,FALSE) -> 146.08337 | H21: =VLOOKUP($A21,'PLAN CHARGE'!$R$2:$BI$25,H$1,FALSE) -> 152.67813 | I21: =VLOOKUP($A21,'PLAN CHARGE'!$R$2:$BI$25,I$1,FALSE) -> 138.52321 | J21: =VLOOKUP($A21,'PLAN CHARGE'!$R$2:$BI$25,J$1,FALSE) -> 153.80564 | ... AL21: =VLOOKUP($A21,'PLAN CHARGE'!$R$2:$BI$25,AL$1,FALSE) -> 0 | AS21: ='PLAN CHARGE'!R20 -> C-Combi 1100 T | AT21: ='PLAN CHARGE'!S20 -> 1 | AV21: A18 | AW21: 280 T | AX21: 300 T | AY21: ??
A22: Green | C22: =IF(C21<C25,C21,C25) -> 96 | D22: =IF(D21<D25,D21,D25) -> 85.894843 | E22: =IF(E21<E25,E21,E25) -> 83.008385 | F22: =IF(F21<F25,F21,F25) -> 77.896365 | G22: =IF(G21<G25,G21,G25) -> 96 | H22: =IF(H21<H25,H21,H25) -> 96 | I22: =IF(I21<I25,I21,I25) -> 96 | J22: =IF(J21<J25,J21,J25) -> 96 | ... AL22: =IF(AL21<AL25,AL21,AL25) -> 0 | AS22: ='PLAN CHARGE'!R21 -> C-1500 T | AT22: ='PLAN CHARGE'!S21 -> 2 | AV22: B2 | AW22: 280 T | AX22: 300 T | AY22: D2801
A23: Orange | C23: =IF(AND(C22<C21,C21>C26),C26-C22,C21-C22) -> 19.2182 | D23: =IF(AND(D22<D21,D21>D26),D26-D22,D21-D22) -> 0 | E23: =IF(AND(E22<E21,E21>E26),E26-E22,E21-E22) -> 0 | F23: =IF(AND(F22<F21,F21>F26),F26-F22,F21-F22) -> 0 | G23: =IF(AND(G22<G21,G21>G26),G26-G22,G21-G22) -> 38.4 | H23: =IF(AND(H22<H21,H21>H26),H26-H22,H21-H22) -> 38.4 | I23: =IF(AND(I22<I21,I21>I26),I26-I22,I21-I22) -> 38.4 | J23: =IF(AND(J22<J21,J21>J26),J26-J22,J21-J22) -> 38.4 | ... AL23: =IF(AND(AL22<AL21,AL21>AL26),AL26-AL22,AL21-AL22) -> 0 | AS23: ='PLAN CHARGE'!R22 -> C-Combi 1700 T | AT23: ='PLAN CHARGE'!S22 -> 2 | AV23: B4 | AW23: 280 T | AX23: 300 T | AY23: D2802
A24: Red | C24: =IF(C22+C23<C21,C21-C26,0) -> 0 | D24: =IF(D22+D23<D21,D21-D26,0) -> 0 | E24: =IF(E22+E23<E21,E21-E26,0) -> 0 | F24: =IF(F22+F23<F21,F21-F26,0) -> 0 | G24: =IF(G22+G23<G21,G21-G26,0) -> 11.683369 | H24: =IF(H22+H23<H21,H21-H26,0) -> 18.278133 | I24: =IF(I22+I23<I21,I21-I26,0) -> 4.1232122 | J24: =IF(J22+J23<J21,J21-J26,0) -> 19.405637 | ... AL24: =IF(AL22+AL23<AL21,AL21-AL26,0) -> 0 | AS24: ='PLAN CHARGE'!R23 -> C-2000 T | AT24: ='PLAN CHARGE'!S23 -> 1 | AV24: B11 | AW24: Bi280 T | AX24: 300 T | AY24: D2803
A25: Max daily capacity (5 wd/week) | C25: =$B21*24 -> 96 | D25: =$B21*24 -> 96 | E25: =$B21*24 -> 96 | F25: =$B21*24 -> 96 | G25: =$B21*24 -> 96 | H25: =$B21*24 -> 96 | I25: =$B21*24 -> 96 | J25: =$B21*24 -> 96 | ... AL25: =$B21*24 -> 96 | AS25: ='PLAN CHARGE'!R24 -> C-2300 T | AT25: ='PLAN CHARGE'!S24 -> 3 | AV25: B15 | AW25: 280 T | AX25: 300 T | AY25: D2804
A26: Max daily capacity (7 wd/week) | C26: =C25*(7/5) -> 134.4 | D26: =D25*(7/5) -> 134.4 | E26: =E25*(7/5) -> 134.4 | F26: =F25*(7/5) -> 134.4 | G26: =G25*(7/5) -> 134.4 | H26: =H25*(7/5) -> 134.4 | I26: =I25*(7/5) -> 134.4 | J26: =J25*(7/5) -> 134.4 | ... AL26: =AL25*(7/5) -> 134.4 | AS26: ='PLAN CHARGE'!R25 -> C-Combi 2300 T | AT26: ='PLAN CHARGE'!S25 -> 1 | AV26: B16 | AW26: 280 T | AX26: 300 T | AY26: D2805
A27: ='PLAN CHARGE'!R6 -> Bi150 T | B27: =VLOOKUP($A27,'PLAN CHARGE'!$R$2:$S$25,2,FALSE) -> 1 | C27: =VLOOKUP($A27,'PLAN CHARGE'!$R$2:$BI$25,C$1,FALSE) -> 19.443164 | D27: =VLOOKUP($A27,'PLAN CHARGE'!$R$2:$BI$25,D$1,FALSE) -> 10.478242 | E27: =VLOOKUP($A27,'PLAN CHARGE'!$R$2:$BI$25,E$1,FALSE) -> 9.9934987 | F27: =VLOOKUP($A27,'PLAN CHARGE'!$R$2:$BI$25,F$1,FALSE) -> 9.935164 | G27: =VLOOKUP($A27,'PLAN CHARGE'!$R$2:$BI$25,G$1,FALSE) -> 20.326944 | H27: =VLOOKUP($A27,'PLAN CHARGE'!$R$2:$BI$25,H$1,FALSE) -> 21.294894 | I27: =VLOOKUP($A27,'PLAN CHARGE'!$R$2:$BI$25,I$1,FALSE) -> 18.633032 | J27: =VLOOKUP($A27,'PLAN CHARGE'!$R$2:$BI$25,J$1,FALSE) -> 21.294894 | ... AL27: =VLOOKUP($A27,'PLAN CHARGE'!$R$2:$BI$25,AL$1,FALSE) -> 0 | AV27: B3 | AW27: 300 T | AX27: 300 T | AY27: D3001
A28: Green | C28: =IF(C27<C31,C27,C31) -> 19.443164 | D28: =IF(D27<D31,D27,D31) -> 10.478242 | E28: =IF(E27<E31,E27,E31) -> 9.9934987 | F28: =IF(F27<F31,F27,F31) -> 9.935164 | G28: =IF(G27<G31,G27,G31) -> 20.326944 | H28: =IF(H27<H31,H27,H31) -> 21.294894 | I28: =IF(I27<I31,I27,I31) -> 18.633032 | J28: =IF(J27<J31,J27,J31) -> 21.294894 | ... AL28: =IF(AL27<AL31,AL27,AL31) -> 0 | AV28: A8 | AW28: 350 T | AX28: 350 T | AY28: D3501
A29: Orange | C29: =IF(AND(C28<C27,C27>C32),C32-C28,C27-C28) -> 0 | D29: =IF(AND(D28<D27,D27>D32),D32-D28,D27-D28) -> 0 | E29: =IF(AND(E28<E27,E27>E32),E32-E28,E27-E28) -> 0 | F29: =IF(AND(F28<F27,F27>F32),F32-F28,F27-F28) -> 0 | G29: =IF(AND(G28<G27,G27>G32),G32-G28,G27-G28) -> 0 | H29: =IF(AND(H28<H27,H27>H32),H32-H28,H27-H28) -> 0 | I29: =IF(AND(I28<I27,I27>I32),I32-I28,I27-I28) -> 0 | J29: =IF(AND(J28<J27,J27>J32),J32-J28,J27-J28) -> 0 | ... AL29: =IF(AND(AL28<AL27,AL27>AL32),AL32-AL28,AL27-AL28) -> 0 | AV29: B12 | AW29: 350 T | AX29: 350 T | AY29: D3502
A30: Red | C30: =IF(C28+C29<C27,C27-C32,0) -> 0 | D30: =IF(D28+D29<D27,D27-D32,0) -> 0 | E30: =IF(E28+E29<E27,E27-E32,0) -> 0 | F30: =IF(F28+F29<F27,F27-F32,0) -> 0 | G30: =IF(G28+G29<G27,G27-G32,0) -> 0 | H30: =IF(H28+H29<H27,H27-H32,0) -> 0 | I30: =IF(I28+I29<I27,I27-I32,0) -> 0 | J30: =IF(J28+J29<J27,J27-J32,0) -> 0 | ... AL30: =IF(AL28+AL29<AL27,AL27-AL32,0) -> 0 | AV30: B1 | AW30: 350 T | AX30: 350 T | AY30: D3503
A31: Max daily capacity (5 wd/week) | C31: =$B27*24 -> 24 | D31: =$B27*24 -> 24 | E31: =$B27*24 -> 24 | F31: =$B27*24 -> 24 | G31: =$B27*24 -> 24 | H31: =$B27*24 -> 24 | I31: =$B27*24 -> 24 | J31: =$B27*24 -> 24 | ... AL31: =$B27*24 -> 24 | AV31: B13 | AW31: 350 T | AX31: 350 T | AY31: D3504
A32: Max daily capacity (7 wd/week) | C32: =C31*(7/5) -> 33.6 | D32: =D31*(7/5) -> 33.6 | E32: =E31*(7/5) -> 33.6 | F32: =F31*(7/5) -> 33.6 | G32: =G31*(7/5) -> 33.6 | H32: =H31*(7/5) -> 33.6 | I32: =I31*(7/5) -> 33.6 | J32: =J31*(7/5) -> 33.6 | ... AL32: =AL31*(7/5) -> 33.6 | AV32: A6 | AW32: 350 T | AX32: 350 T | AY32: D3505
A33: ='PLAN CHARGE'!R7 -> 200 T | B33: =VLOOKUP($A33,'PLAN CHARGE'!$R$2:$S$25,2,FALSE) -> 7 | C33: =VLOOKUP($A33,'PLAN CHARGE'!$R$2:$BI$25,C$1,FALSE) -> 113.05631 | D33: =VLOOKUP($A33,'PLAN CHARGE'!$R$2:$BI$25,D$1,FALSE) -> 114.30953 | E33: =VLOOKUP($A33,'PLAN CHARGE'!$R$2:$BI$25,E$1,FALSE) -> 107.60948 | F33: =VLOOKUP($A33,'PLAN CHARGE'!$R$2:$BI$25,F$1,FALSE) -> 102.15651 | G33: =VLOOKUP($A33,'PLAN CHARGE'!$R$2:$BI$25,G$1,FALSE) -> 136.27809 | H33: =VLOOKUP($A33,'PLAN CHARGE'!$R$2:$BI$25,H$1,FALSE) -> 141.38341 | I33: =VLOOKUP($A33,'PLAN CHARGE'!$R$2:$BI$25,I$1,FALSE) -> 128.48186 | J33: =VLOOKUP($A33,'PLAN CHARGE'!$R$2:$BI$25,J$1,FALSE) -> 142.47818 | ... AL33: =VLOOKUP($A33,'PLAN CHARGE'!$R$2:$BI$25,AL$1,FALSE) -> 0 | AV33: A14 | AW33: 350 T | AX33: 350 T | AY33: D3507
A34: Green | C34: =IF(C33<C37,C33,C37) -> 113.05631 | D34: =IF(D33<D37,D33,D37) -> 114.30953 | E34: =IF(E33<E37,E33,E37) -> 107.60948 | F34: =IF(F33<F37,F33,F37) -> 102.15651 | G34: =IF(G33<G37,G33,G37) -> 136.27809 | H34: =IF(H33<H37,H33,H37) -> 141.38341 | I34: =IF(I33<I37,I33,I37) -> 128.48186 | J34: =IF(J33<J37,J33,J37) -> 142.47818 | ... AL34: =IF(AL33<AL37,AL33,AL37) -> 0 | AV34: A15 | AW34: Bi420 T | AX34: Bi420 T | AY34: D4201
A35: Orange | C35: =IF(AND(C34<C33,C33>C38),C38-C34,C33-C34) -> 0 | D35: =IF(AND(D34<D33,D33>D38),D38-D34,D33-D34) -> 0 | E35: =IF(AND(E34<E33,E33>E38),E38-E34,E33-E34) -> 0 | F35: =IF(AND(F34<F33,F33>F38),F38-F34,F33-F34) -> 0 | G35: =IF(AND(G34<G33,G33>G38),G38-G34,G33-G34) -> 0 | H35: =IF(AND(H34<H33,H33>H38),H38-H34,H33-H34) -> 0 | I35: =IF(AND(I34<I33,I33>I38),I38-I34,I33-I34) -> 0 | J35: =IF(AND(J34<J33,J33>J38),J38-J34,J33-J34) -> 0 | ... AL35: =IF(AND(AL34<AL33,AL33>AL38),AL38-AL34,AL33-AL34) -> 0 | AV35: A16 | AW35: Bi420 T | AX35: Bi420 T | AY35: D4202
A36: Red | C36: =IF(C34+C35<C33,C33-C38,0) -> 0 | D36: =IF(D34+D35<D33,D33-D38,0) -> 0 | E36: =IF(E34+E35<E33,E33-E38,0) -> 0 | F36: =IF(F34+F35<F33,F33-F38,0) -> 0 | G36: =IF(G34+G35<G33,G33-G38,0) -> 0 | H36: =IF(H34+H35<H33,H33-H38,0) -> 0 | I36: =IF(I34+I35<I33,I33-I38,0) -> 0 | J36: =IF(J34+J35<J33,J33-J38,0) -> 0 | ... AL36: =IF(AL34+AL35<AL33,AL33-AL38,0) -> 0 | AV36: A17 | AW36: 420 T | AX36: 400 T | AY36: D4203
A37: Max daily capacity (5 wd/week) | C37: =$B33*24 -> 168 | D37: =$B33*24 -> 168 | E37: =$B33*24 -> 168 | F37: =$B33*24 -> 168 | G37: =$B33*24 -> 168 | H37: =$B33*24 -> 168 | I37: =$B33*24 -> 168 | J37: =$B33*24 -> 168 | ... AL37: =$B33*24 -> 168 | AV37: A13 | AW37: 650 T | AX37: 650 T | AY37: D6502
A38: Max daily capacity (7 wd/week) | C38: =C37*(7/5) -> 235.2 | D38: =D37*(7/5) -> 235.2 | E38: =E37*(7/5) -> 235.2 | F38: =F37*(7/5) -> 235.2 | G38: =G37*(7/5) -> 235.2 | H38: =H37*(7/5) -> 235.2 | I38: =I37*(7/5) -> 235.2 | J38: =J37*(7/5) -> 235.2 | ... AL38: =AL37*(7/5) -> 235.2 | AV38: A12 | AW38: 650 T | AX38: 650 T | AY38: D6503
A39: ='PLAN CHARGE'!R8 -> 300 T | B39: =VLOOKUP($A39,'PLAN CHARGE'!$R$2:$S$25,2,FALSE) -> 6 | C39: =VLOOKUP($A39,'PLAN CHARGE'!$R$2:$BI$25,C$1,FALSE) -> 93.096612 | D39: =VLOOKUP($A39,'PLAN CHARGE'!$R$2:$BI$25,D$1,FALSE) -> 72.170941 | E39: =VLOOKUP($A39,'PLAN CHARGE'!$R$2:$BI$25,E$1,FALSE) -> 68.532182 | F39: =VLOOKUP($A39,'PLAN CHARGE'!$R$2:$BI$25,F$1,FALSE) -> 66.287822 | G39: =VLOOKUP($A39,'PLAN CHARGE'!$R$2:$BI$25,G$1,FALSE) -> 106.53106 | H39: =VLOOKUP($A39,'PLAN CHARGE'!$R$2:$BI$25,H$1,FALSE) -> 111.20805 | I39: =VLOOKUP($A39,'PLAN CHARGE'!$R$2:$BI$25,I$1,FALSE) -> 100.58089 | J39: =VLOOKUP($A39,'PLAN CHARGE'!$R$2:$BI$25,J$1,FALSE) -> 113.07594 | ... AL39: =VLOOKUP($A39,'PLAN CHARGE'!$R$2:$BI$25,AL$1,FALSE) -> 0 | AV39: A19 | AW39: Tri1100 T | AX39: Bi1100 T | AY39: D11001
A40: Green | C40: =IF(C39<C43,C39,C43) -> 93.096612 | D40: =IF(D39<D43,D39,D43) -> 72.170941 | E40: =IF(E39<E43,E39,E43) -> 68.532182 | F40: =IF(F39<F43,F39,F43) -> 66.287822 | G40: =IF(G39<G43,G39,G43) -> 106.53106 | H40: =IF(H39<H43,H39,H43) -> 111.20805 | I40: =IF(I39<I43,I39,I43) -> 100.58089 | J40: =IF(J39<J43,J39,J43) -> 113.07594 | ... AL40: =IF(AL39<AL43,AL39,AL43) -> 0 | AV40: A9 | AW40: Tri1100 T | AX40: Bi1100 T | AY40: E11001
A41: Orange | C41: =IF(AND(C40<C39,C39>C44),C44-C40,C39-C40) -> 0 | D41: =IF(AND(D40<D39,D39>D44),D44-D40,D39-D40) -> 0 | E41: =IF(AND(E40<E39,E39>E44),E44-E40,E39-E40) -> 0 | F41: =IF(AND(F40<F39,F39>F44),F44-F40,F39-F40) -> 0 | G41: =IF(AND(G40<G39,G39>G44),G44-G40,G39-G40) -> 0 | H41: =IF(AND(H40<H39,H39>H44),H44-H40,H39-H40) -> 0 | I41: =IF(AND(I40<I39,I39>I44),I44-I40,I39-I40) -> 0 | J41: =IF(AND(J40<J39,J39>J44),J44-J40,J39-J40) -> 0 | ... AL41: =IF(AND(AL40<AL39,AL39>AL44),AL44-AL40,AL39-AL40) -> 0 | AV41: A0,2 | AW41: Bi1100 T | AX41: Bi1100 T | AY41: E1104
A42: Red | C42: =IF(C40+C41<C39,C39-C44,0) -> 0 | D42: =IF(D40+D41<D39,D39-D44,0) -> 0 | E42: =IF(E40+E41<E39,E39-E44,0) -> 0 | F42: =IF(F40+F41<F39,F39-F44,0) -> 0 | G42: =IF(G40+G41<G39,G39-G44,0) -> 0 | H42: =IF(H40+H41<H39,H39-H44,0) -> 0 | I42: =IF(I40+I41<I39,I39-I44,0) -> 0 | J42: =IF(J40+J41<J39,J39-J44,0) -> 0 | ... AL42: =IF(AL40+AL41<AL39,AL39-AL44,0) -> 0 | AV42: A7 | AW42: Bi420 T | AX42: Bi420 T | AY42: D4204
A43: Max daily capacity (5 wd/week) | C43: =$B39*24 -> 144 | D43: =$B39*24 -> 144 | E43: =$B39*24 -> 144 | F43: =$B39*24 -> 144 | G43: =$B39*24 -> 144 | H43: =$B39*24 -> 144 | I43: =$B39*24 -> 144 | J43: =$B39*24 -> 144 | ... AL43: =$B39*24 -> 144 | AV43: B14 | AW43: 420 T | AX43: 400 T | AY43: D4205
A44: Max daily capacity (7 wd/week) | C44: =C43*(7/5) -> 201.6 | D44: =D43*(7/5) -> 201.6 | E44: =E43*(7/5) -> 201.6 | F44: =F43*(7/5) -> 201.6 | G44: =G43*(7/5) -> 201.6 | H44: =H43*(7/5) -> 201.6 | I44: =I43*(7/5) -> 201.6 | J44: =J43*(7/5) -> 201.6 | ... AL44: =AL43*(7/5) -> 201.6 | AV44: A11 | AW44: Bi500 T | AX44: Bi500 T | AY44: D5001
A45: ='PLAN CHARGE'!R9 -> 350 T | B45: =VLOOKUP($A45,'PLAN CHARGE'!$R$2:$S$25,2,FALSE) -> 6 | C45: =VLOOKUP($A45,'PLAN CHARGE'!$R$2:$BI$25,C$1,FALSE) -> 168.89757 | D45: =VLOOKUP($A45,'PLAN CHARGE'!$R$2:$BI$25,D$1,FALSE) -> 207.76831 | E45: =VLOOKUP($A45,'PLAN CHARGE'!$R$2:$BI$25,E$1,FALSE) -> 201.64205 | F45: =VLOOKUP($A45,'PLAN CHARGE'!$R$2:$BI$25,F$1,FALSE) -> 178.21576 | G45: =VLOOKUP($A45,'PLAN CHARGE'!$R$2:$BI$25,G$1,FALSE) -> 296.58733 | H45: =VLOOKUP($A45,'PLAN CHARGE'!$R$2:$BI$25,H$1,FALSE) -> 307.60009 | I45: =VLOOKUP($A45,'PLAN CHARGE'!$R$2:$BI$25,I$1,FALSE) -> 289.13359 | J45: =VLOOKUP($A45,'PLAN CHARGE'!$R$2:$BI$25,J$1,FALSE) -> 311.75165 | ... AL45: =VLOOKUP($A45,'PLAN CHARGE'!$R$2:$BI$25,AL$1,FALSE) -> 0 | AV45: A5,1 | AW45: 500 T | AX45: 500 T | AY45: D5002
A46: Green | C46: =IF(C45<C49,C45,C49) -> 144 | D46: =IF(D45<D49,D45,D49) -> 144 | E46: =IF(E45<E49,E45,E49) -> 144 | F46: =IF(F45<F49,F45,F49) -> 144 | G46: =IF(G45<G49,G45,G49) -> 144 | H46: =IF(H45<H49,H45,H49) -> 144 | I46: =IF(I45<I49,I45,I49) -> 144 | J46: =IF(J45<J49,J45,J49) -> 144 | ... AL46: =IF(AL45<AL49,AL45,AL49) -> 0 | AV46: A14,1 | AW46: 500 T | AX46: 500 T | AY46: D5003
A47: Orange | C47: =IF(AND(C46<C45,C45>C50),C50-C46,C45-C46) -> 24.897567 | D47: =IF(AND(D46<D45,D45>D50),D50-D46,D45-D46) -> 57.6 | E47: =IF(AND(E46<E45,E45>E50),E50-E46,E45-E46) -> 57.6 | F47: =IF(AND(F46<F45,F45>F50),F50-F46,F45-F46) -> 34.215759 | G47: =IF(AND(G46<G45,G45>G50),G50-G46,G45-G46) -> 57.6 | H47: =IF(AND(H46<H45,H45>H50),H50-H46,H45-H46) -> 57.6 | I47: =IF(AND(I46<I45,I45>I50),I50-I46,I45-I46) -> 57.6 | J47: =IF(AND(J46<J45,J45>J50),J50-J46,J45-J46) -> 57.6 | ... AL47: =IF(AND(AL46<AL45,AL45>AL50),AL50-AL46,AL45-AL46) -> 0 | AV47: C1 | AX47: C-2000 T
A48: Red | C48: =IF(C46+C47<C45,C45-C50,0) -> 0 | D48: =IF(D46+D47<D45,D45-D50,0) -> 6.1683106 | E48: =IF(E46+E47<E45,E45-E50,0) -> 0.042053601 | F48: =IF(F46+F47<F45,F45-F50,0) -> 0 | G48: =IF(G46+G47<G45,G45-G50,0) -> 94.987334 | H48: =IF(H46+H47<H45,H45-H50,0) -> 106.00009 | I48: =IF(I46+I47<I45,I45-I50,0) -> 87.533585 | J48: =IF(J46+J47<J45,J45-J50,0) -> 110.15165 | ... AL48: =IF(AL46+AL47<AL45,AL45-AL50,0) -> 0 | AV48: C2 | AX48: C-2300 T
A49: Max daily capacity (5 wd/week) | C49: =$B45*24 -> 144 | D49: =$B45*24 -> 144 | E49: =$B45*24 -> 144 | F49: =$B45*24 -> 144 | G49: =$B45*24 -> 144 | H49: =$B45*24 -> 144 | I49: =$B45*24 -> 144 | J49: =$B45*24 -> 144 | ... AL49: =$B45*24 -> 144 | AV49: C3 | AX49: C-650 T
A50: Max daily capacity (7 wd/week) | C50: =C49*(7/5) -> 201.6 | D50: =D49*(7/5) -> 201.6 | E50: =E49*(7/5) -> 201.6 | F50: =F49*(7/5) -> 201.6 | G50: =G49*(7/5) -> 201.6 | H50: =H49*(7/5) -> 201.6 | I50: =I49*(7/5) -> 201.6 | J50: =J49*(7/5) -> 201.6 | ... AL50: =AL49*(7/5) -> 201.6 | AV50: C4 | AX50: C-1100 T
A51: ='PLAN CHARGE'!R10 -> 400 T | B51: =VLOOKUP($A51,'PLAN CHARGE'!$R$2:$S$25,2,FALSE) -> 2 | C51: =VLOOKUP($A51,'PLAN CHARGE'!$R$2:$BI$25,C$1,FALSE) -> 50.1175 | D51: =VLOOKUP($A51,'PLAN CHARGE'!$R$2:$BI$25,D$1,FALSE) -> 26.882082 | E51: =VLOOKUP($A51,'PLAN CHARGE'!$R$2:$BI$25,E$1,FALSE) -> 25.624663 | F51: =VLOOKUP($A51,'PLAN CHARGE'!$R$2:$BI$25,F$1,FALSE) -> 25.447399 | G51: =VLOOKUP($A51,'PLAN CHARGE'!$R$2:$BI$25,G$1,FALSE) -> 35.500135 | H51: =VLOOKUP($A51,'PLAN CHARGE'!$R$2:$BI$25,H$1,FALSE) -> 37.190618 | I51: =VLOOKUP($A51,'PLAN CHARGE'!$R$2:$BI$25,I$1,FALSE) -> 32.54179 | J51: =VLOOKUP($A51,'PLAN CHARGE'!$R$2:$BI$25,J$1,FALSE) -> 37.190618 | ... AL51: =VLOOKUP($A51,'PLAN CHARGE'!$R$2:$BI$25,AL$1,FALSE) -> 0 | AV51: C5 | AX51: C-2300 T
A52: Green | C52: =IF(C51<C55,C51,C55) -> 48 | D52: =IF(D51<D55,D51,D55) -> 26.882082 | E52: =IF(E51<E55,E51,E55) -> 25.624663 | F52: =IF(F51<F55,F51,F55) -> 25.447399 | G52: =IF(G51<G55,G51,G55) -> 35.500135 | H52: =IF(H51<H55,H51,H55) -> 37.190618 | I52: =IF(I51<I55,I51,I55) -> 32.54179 | J52: =IF(J51<J55,J51,J55) -> 37.190618 | ... AL52: =IF(AL51<AL55,AL51,AL55) -> 0 | AV52: D1 | AX52: C-800 T
A53: Orange | C53: =IF(AND(C52<C51,C51>C56),C56-C52,C51-C52) -> 2.1175001 | D53: =IF(AND(D52<D51,D51>D56),D56-D52,D51-D52) -> 0 | E53: =IF(AND(E52<E51,E51>E56),E56-E52,E51-E52) -> 0 | F53: =IF(AND(F52<F51,F51>F56),F56-F52,F51-F52) -> 0 | G53: =IF(AND(G52<G51,G51>G56),G56-G52,G51-G52) -> 0 | H53: =IF(AND(H52<H51,H51>H56),H56-H52,H51-H52) -> 0 | I53: =IF(AND(I52<I51,I51>I56),I56-I52,I51-I52) -> 0 | J53: =IF(AND(J52<J51,J51>J56),J56-J52,J51-J52) -> 0 | ... AL53: =IF(AND(AL52<AL51,AL51>AL56),AL56-AL52,AL51-AL52) -> 0 | AV53: D2 | AX53: C-350 T
A54: Red | C54: =IF(C52+C53<C51,C51-C56,0) -> 0 | D54: =IF(D52+D53<D51,D51-D56,0) -> 0 | E54: =IF(E52+E53<E51,E51-E56,0) -> 0 | F54: =IF(F52+F53<F51,F51-F56,0) -> 0 | G54: =IF(G52+G53<G51,G51-G56,0) -> 0 | H54: =IF(H52+H53<H51,H51-H56,0) -> 0 | I54: =IF(I52+I53<I51,I51-I56,0) -> 0 | J54: =IF(J52+J53<J51,J51-J56,0) -> 0 | ... AL54: =IF(AL52+AL53<AL51,AL51-AL56,0) -> 0 | AV54: D3 | AX54: C-1500 T
A55: Max daily capacity (5 wd/week) | C55: =$B51*24 -> 48 | D55: =$B51*24 -> 48 | E55: =$B51*24 -> 48 | F55: =$B51*24 -> 48 | G55: =$B51*24 -> 48 | H55: =$B51*24 -> 48 | I55: =$B51*24 -> 48 | J55: =$B51*24 -> 48 | ... AL55: =$B51*24 -> 48 | AV55: D4 | AX55: C-2300 T
A56: Max daily capacity (7 wd/week) | C56: =C55*(7/5) -> 67.2 | D56: =D55*(7/5) -> 67.2 | E56: =E55*(7/5) -> 67.2 | F56: =F55*(7/5) -> 67.2 | G56: =G55*(7/5) -> 67.2 | H56: =H55*(7/5) -> 67.2 | I56: =I55*(7/5) -> 67.2 | J56: =J55*(7/5) -> 67.2 | ... AL56: =AL55*(7/5) -> 67.2 | AV56: D5 | AW56: 1700 T | AX56: C-1500 T
A57: ='PLAN CHARGE'!R11 -> Bi420 T | B57: =VLOOKUP($A57,'PLAN CHARGE'!$R$2:$S$25,2,FALSE) -> 3 | C57: =VLOOKUP($A57,'PLAN CHARGE'!$R$2:$BI$25,C$1,FALSE) -> 43.019053 | D57: =VLOOKUP($A57,'PLAN CHARGE'!$R$2:$BI$25,D$1,FALSE) -> 49.680113 | E57: =VLOOKUP($A57,'PLAN CHARGE'!$R$2:$BI$25,E$1,FALSE) -> 44.519405 | F57: =VLOOKUP($A57,'PLAN CHARGE'!$R$2:$BI$25,F$1,FALSE) -> 43.019053 | G57: =VLOOKUP($A57,'PLAN CHARGE'!$R$2:$BI$25,G$1,FALSE) -> 47.994132 | H57: =VLOOKUP($A57,'PLAN CHARGE'!$R$2:$BI$25,H$1,FALSE) -> 47.453541 | I57: =VLOOKUP($A57,'PLAN CHARGE'!$R$2:$BI$25,I$1,FALSE) -> 42.758235 | J57: =VLOOKUP($A57,'PLAN CHARGE'!$R$2:$BI$25,J$1,FALSE) -> 47.453541 | ... AL57: =VLOOKUP($A57,'PLAN CHARGE'!$R$2:$BI$25,AL$1,FALSE) -> 0 | AV57: D6 | AX57: C-650 T
A58: Green | C58: =IF(C57<C61,C57,C61) -> 43.019053 | D58: =IF(D57<D61,D57,D61) -> 49.680113 | E58: =IF(E57<E61,E57,E61) -> 44.519405 | F58: =IF(F57<F61,F57,F61) -> 43.019053 | G58: =IF(G57<G61,G57,G61) -> 47.994132 | H58: =IF(H57<H61,H57,H61) -> 47.453541 | I58: =IF(I57<I61,I57,I61) -> 42.758235 | J58: =IF(J57<J61,J57,J61) -> 47.453541 | ... AL58: =IF(AL57<AL61,AL57,AL61) -> 0 | AV58: E1 | AX58: C-Combi 1700 T
A59: Orange | C59: =IF(AND(C58<C57,C57>C62),C62-C58,C57-C58) -> 0 | D59: =IF(AND(D58<D57,D57>D62),D62-D58,D57-D58) -> 0 | E59: =IF(AND(E58<E57,E57>E62),E62-E58,E57-E58) -> 0 | F59: =IF(AND(F58<F57,F57>F62),F62-F58,F57-F58) -> 0 | G59: =IF(AND(G58<G57,G57>G62),G62-G58,G57-G58) -> 0 | H59: =IF(AND(H58<H57,H57>H62),H62-H58,H57-H58) -> 0 | I59: =IF(AND(I58<I57,I57>I62),I62-I58,I57-I58) -> 0 | J59: =IF(AND(J58<J57,J57>J62),J62-J58,J57-J58) -> 0 | ... AL59: =IF(AND(AL58<AL57,AL57>AL62),AL62-AL58,AL57-AL58) -> 0 | AV59: E2 | AX59: C-Combi 1100 T
A60: Red | C60: =IF(C58+C59<C57,C57-C62,0) -> 0 | D60: =IF(D58+D59<D57,D57-D62,0) -> 0 | E60: =IF(E58+E59<E57,E57-E62,0) -> 0 | F60: =IF(F58+F59<F57,F57-F62,0) -> 0 | G60: =IF(G58+G59<G57,G57-G62,0) -> 0 | H60: =IF(H58+H59<H57,H57-H62,0) -> 0 | I60: =IF(I58+I59<I57,I57-I62,0) -> 0 | J60: =IF(J58+J59<J57,J57-J62,0) -> 0 | ... AL60: =IF(AL58+AL59<AL57,AL57-AL62,0) -> 0 | AV60: E3 | AX60: C-Combi 2300 T
A61: Max daily capacity (5 wd/week) | C61: =$B57*24 -> 72 | D61: =$B57*24 -> 72 | E61: =$B57*24 -> 72 | F61: =$B57*24 -> 72 | G61: =$B57*24 -> 72 | H61: =$B57*24 -> 72 | I61: =$B57*24 -> 72 | J61: =$B57*24 -> 72 | ... AL61: =$B57*24 -> 72 | AV61: E4 | AX61: C-Combi 1700 T
A62: Max daily capacity (7 wd/week) | C62: =C61*(7/5) -> 100.8 | D62: =D61*(7/5) -> 100.8 | E62: =E61*(7/5) -> 100.8 | F62: =F61*(7/5) -> 100.8 | G62: =G61*(7/5) -> 100.8 | H62: =H61*(7/5) -> 100.8 | I62: =I61*(7/5) -> 100.8 | J62: =J61*(7/5) -> 100.8 | ... AL62: =AL61*(7/5) -> 100.8
A63: ='PLAN CHARGE'!R12 -> 500 T | B63: =VLOOKUP($A63,'PLAN CHARGE'!$R$2:$S$15,2,FALSE) -> 2 | C63: =VLOOKUP($A63,'PLAN CHARGE'!$R$2:$BI$25,C$1,FALSE) -> 27.455551 | D63: =VLOOKUP($A63,'PLAN CHARGE'!$R$2:$BI$25,D$1,FALSE) -> 9.9699535 | E63: =VLOOKUP($A63,'PLAN CHARGE'!$R$2:$BI$25,E$1,FALSE) -> 9.4878954 | F63: =VLOOKUP($A63,'PLAN CHARGE'!$R$2:$BI$25,F$1,FALSE) -> 9.4564494 | G63: =VLOOKUP($A63,'PLAN CHARGE'!$R$2:$BI$25,G$1,FALSE) -> 28.309188 | H63: =VLOOKUP($A63,'PLAN CHARGE'!$R$2:$BI$25,H$1,FALSE) -> 29.657245 | I63: =VLOOKUP($A63,'PLAN CHARGE'!$R$2:$BI$25,I$1,FALSE) -> 25.950089 | J63: =VLOOKUP($A63,'PLAN CHARGE'!$R$2:$BI$25,J$1,FALSE) -> 29.657245 | ... AL63: =VLOOKUP($A63,'PLAN CHARGE'!$R$2:$BI$25,AL$1,FALSE) -> 0.856438
A64: Green | C64: =IF(C63<C67,C63,C67) -> 27.455551 | D64: =IF(D63<D67,D63,D67) -> 9.9699535 | E64: =IF(E63<E67,E63,E67) -> 9.4878954 | F64: =IF(F63<F67,F63,F67) -> 9.4564494 | G64: =IF(G63<G67,G63,G67) -> 28.309188 | H64: =IF(H63<H67,H63,H67) -> 29.657245 | I64: =IF(I63<I67,I63,I67) -> 25.950089 | J64: =IF(J63<J67,J63,J67) -> 29.657245 | ... AL64: =IF(AL63<AL67,AL63,AL67) -> 0.856438
A65: Orange | C65: =IF(AND(C64<C63,C63>C68),C68-C64,C63-C64) -> 0 | D65: =IF(AND(D64<D63,D63>D68),D68-D64,D63-D64) -> 0 | E65: =IF(AND(E64<E63,E63>E68),E68-E64,E63-E64) -> 0 | F65: =IF(AND(F64<F63,F63>F68),F68-F64,F63-F64) -> 0 | G65: =IF(AND(G64<G63,G63>G68),G68-G64,G63-G64) -> 0 | H65: =IF(AND(H64<H63,H63>H68),H68-H64,H63-H64) -> 0 | I65: =IF(AND(I64<I63,I63>I68),I68-I64,I63-I64) -> 0 | J65: =IF(AND(J64<J63,J63>J68),J68-J64,J63-J64) -> 0 | ... AL65: =IF(AND(AL64<AL63,AL63>AL68),AL68-AL64,AL63-AL64) -> 0
A66: Red | C66: =IF(C64+C65<C63,C63-C68,0) -> 0 | D66: =IF(D64+D65<D63,D63-D68,0) -> 0 | E66: =IF(E64+E65<E63,E63-E68,0) -> 0 | F66: =IF(F64+F65<F63,F63-F68,0) -> 0 | G66: =IF(G64+G65<G63,G63-G68,0) -> 0 | H66: =IF(H64+H65<H63,H63-H68,0) -> 0 | I66: =IF(I64+I65<I63,I63-I68,0) -> 0 | J66: =IF(J64+J65<J63,J63-J68,0) -> 0 | ... AL66: =IF(AL64+AL65<AL63,AL63-AL68,0) -> 0
A67: Max daily capacity (5 wd/week) | C67: =$B63*24 -> 48 | D67: =$B63*24 -> 48 | E67: =$B63*24 -> 48 | F67: =$B63*24 -> 48 | G67: =$B63*24 -> 48 | H67: =$B63*24 -> 48 | I67: =$B63*24 -> 48 | J67: =$B63*24 -> 48 | ... AL67: =$B63*24 -> 48
A68: Max daily capacity (7 wd/week) | C68: =C67*(7/5) -> 67.2 | D68: =D67*(7/5) -> 67.2 | E68: =E67*(7/5) -> 67.2 | F68: =F67*(7/5) -> 67.2 | G68: =G67*(7/5) -> 67.2 | H68: =H67*(7/5) -> 67.2 | I68: =I67*(7/5) -> 67.2 | J68: =J67*(7/5) -> 67.2 | ... AL68: =AL67*(7/5) -> 67.2
A69: ='PLAN CHARGE'!R13 -> Bi500 T | B69: =VLOOKUP($A69,'PLAN CHARGE'!$R$2:$S$25,2,FALSE) -> 1 | C69: =VLOOKUP($A69,'PLAN CHARGE'!$R$2:$BI$25,C$1,FALSE) -> 19.453461 | D69: =VLOOKUP($A69,'PLAN CHARGE'!$R$2:$BI$25,D$1,FALSE) -> 23.927168 | E69: =VLOOKUP($A69,'PLAN CHARGE'!$R$2:$BI$25,E$1,FALSE) -> 20.597926 | F69: =VLOOKUP($A69,'PLAN CHARGE'!$R$2:$BI$25,F$1,FALSE) -> 19.453461 | G69: =VLOOKUP($A69,'PLAN CHARGE'!$R$2:$BI$25,G$1,FALSE) -> 22.641105 | H69: =VLOOKUP($A69,'PLAN CHARGE'!$R$2:$BI$25,H$1,FALSE) -> 21.563567 | I69: =VLOOKUP($A69,'PLAN CHARGE'!$R$2:$BI$25,I$1,FALSE) -> 19.811234 | J69: =VLOOKUP($A69,'PLAN CHARGE'!$R$2:$BI$25,J$1,FALSE) -> 21.563567 | ... AL69: =VLOOKUP($A69,'PLAN CHARGE'!$R$2:$BI$25,AL$1,FALSE) -> 0
A70: Green | C70: =IF(C69<C73,C69,C73) -> 19.453461 | D70: =IF(D69<D73,D69,D73) -> 23.927168 | E70: =IF(E69<E73,E69,E73) -> 20.597926 | F70: =IF(F69<F73,F69,F73) -> 19.453461 | G70: =IF(G69<G73,G69,G73) -> 22.641105 | H70: =IF(H69<H73,H69,H73) -> 21.563567 | I70: =IF(I69<I73,I69,I73) -> 19.811234 | J70: =IF(J69<J73,J69,J73) -> 21.563567 | ... AL70: =IF(AL69<AL73,AL69,AL73) -> 0
A71: Orange | C71: =IF(AND(C70<C69,C69>C74),C74-C70,C69-C70) -> 0 | D71: =IF(AND(D70<D69,D69>D74),D74-D70,D69-D70) -> 0 | E71: =IF(AND(E70<E69,E69>E74),E74-E70,E69-E70) -> 0 | F71: =IF(AND(F70<F69,F69>F74),F74-F70,F69-F70) -> 0 | G71: =IF(AND(G70<G69,G69>G74),G74-G70,G69-G70) -> 0 | H71: =IF(AND(H70<H69,H69>H74),H74-H70,H69-H70) -> 0 | I71: =IF(AND(I70<I69,I69>I74),I74-I70,I69-I70) -> 0 | J71: =IF(AND(J70<J69,J69>J74),J74-J70,J69-J70) -> 0 | ... AL71: =IF(AND(AL70<AL69,AL69>AL74),AL74-AL70,AL69-AL70) -> 0
A72: Red | C72: =IF(C70+C71<C69,C69-C74,0) -> 0 | D72: =IF(D70+D71<D69,D69-D74,0) -> 0 | E72: =IF(E70+E71<E69,E69-E74,0) -> 0 | F72: =IF(F70+F71<F69,F69-F74,0) -> 0 | G72: =IF(G70+G71<G69,G69-G74,0) -> 0 | H72: =IF(H70+H71<H69,H69-H74,0) -> 0 | I72: =IF(I70+I71<I69,I69-I74,0) -> 0 | J72: =IF(J70+J71<J69,J69-J74,0) -> 0 | ... AL72: =IF(AL70+AL71<AL69,AL69-AL74,0) -> 0
A73: Max daily capacity (5 wd/week) | C73: =$B69*24 -> 24 | D73: =$B69*24 -> 24 | E73: =$B69*24 -> 24 | F73: =$B69*24 -> 24 | G73: =$B69*24 -> 24 | H73: =$B69*24 -> 24 | I73: =$B69*24 -> 24 | J73: =$B69*24 -> 24 | ... AL73: =$B69*24 -> 24
A74: Max daily capacity (7 wd/week) | C74: =C73*(7/5) -> 33.6 | D74: =D73*(7/5) -> 33.6 | E74: =E73*(7/5) -> 33.6 | F74: =F73*(7/5) -> 33.6 | G74: =G73*(7/5) -> 33.6 | H74: =H73*(7/5) -> 33.6 | I74: =I73*(7/5) -> 33.6 | J74: =J73*(7/5) -> 33.6 | ... AL74: =AL73*(7/5) -> 33.6
A75: ='PLAN CHARGE'!R14 -> 650 T | B75: =VLOOKUP($A75,'PLAN CHARGE'!$R$2:$S$25,2,FALSE) -> 2 | C75: =VLOOKUP($A75,'PLAN CHARGE'!$R$2:$BI$25,C$1,FALSE) -> 38.089365 | D75: =VLOOKUP($A75,'PLAN CHARGE'!$R$2:$BI$25,D$1,FALSE) -> 33.115152 | E75: =VLOOKUP($A75,'PLAN CHARGE'!$R$2:$BI$25,E$1,FALSE) -> 35.321053 | F75: =VLOOKUP($A75,'PLAN CHARGE'!$R$2:$BI$25,F$1,FALSE) -> 33.510026 | G75: =VLOOKUP($A75,'PLAN CHARGE'!$R$2:$BI$25,G$1,FALSE) -> 37.289855 | H75: =VLOOKUP($A75,'PLAN CHARGE'!$R$2:$BI$25,H$1,FALSE) -> 38.625486 | I75: =VLOOKUP($A75,'PLAN CHARGE'!$R$2:$BI$25,I$1,FALSE) -> 34.202834 | J75: =VLOOKUP($A75,'PLAN CHARGE'!$R$2:$BI$25,J$1,FALSE) -> 39.19876 | ... AL75: =VLOOKUP($A75,'PLAN CHARGE'!$R$2:$BI$25,AL$1,FALSE) -> 0
A76: Green | C76: =IF(C75<C79,C75,C79) -> 38.089365 | D76: =IF(D75<D79,D75,D79) -> 33.115152 | E76: =IF(E75<E79,E75,E79) -> 35.321053 | F76: =IF(F75<F79,F75,F79) -> 33.510026 | G76: =IF(G75<G79,G75,G79) -> 37.289855 | H76: =IF(H75<H79,H75,H79) -> 38.625486 | I76: =IF(I75<I79,I75,I79) -> 34.202834 | J76: =IF(J75<J79,J75,J79) -> 39.19876 | ... AL76: =IF(AL75<AL79,AL75,AL79) -> 0
A77: Orange | C77: =IF(AND(C76<C75,C75>C80),C80-C76,C75-C76) -> 0 | D77: =IF(AND(D76<D75,D75>D80),D80-D76,D75-D76) -> 0 | E77: =IF(AND(E76<E75,E75>E80),E80-E76,E75-E76) -> 0 | F77: =IF(AND(F76<F75,F75>F80),F80-F76,F75-F76) -> 0 | G77: =IF(AND(G76<G75,G75>G80),G80-G76,G75-G76) -> 0 | H77: =IF(AND(H76<H75,H75>H80),H80-H76,H75-H76) -> 0 | I77: =IF(AND(I76<I75,I75>I80),I80-I76,I75-I76) -> 0 | J77: =IF(AND(J76<J75,J75>J80),J80-J76,J75-J76) -> 0 | ... AL77: =IF(AND(AL76<AL75,AL75>AL80),AL80-AL76,AL75-AL76) -> 0
A78: Red | C78: =IF(C76+C77<C75,C75-C80,0) -> 0 | D78: =IF(D76+D77<D75,D75-D80,0) -> 0 | E78: =IF(E76+E77<E75,E75-E80,0) -> 0 | F78: =IF(F76+F77<F75,F75-F80,0) -> 0 | G78: =IF(G76+G77<G75,G75-G80,0) -> 0 | H78: =IF(H76+H77<H75,H75-H80,0) -> 0 | I78: =IF(I76+I77<I75,I75-I80,0) -> 0 | J78: =IF(J76+J77<J75,J75-J80,0) -> 0 | ... AL78: =IF(AL76+AL77<AL75,AL75-AL80,0) -> 0
A79: Max daily capacity (5 wd/week) | C79: =$B75*24 -> 48 | D79: =$B75*24 -> 48 | E79: =$B75*24 -> 48 | F79: =$B75*24 -> 48 | G79: =$B75*24 -> 48 | H79: =$B75*24 -> 48 | I79: =$B75*24 -> 48 | J79: =$B75*24 -> 48 | ... AL79: =$B75*24 -> 48
A80: Max daily capacity (7 wd/week) | C80: =C79*(7/5) -> 67.2 | D80: =D79*(7/5) -> 67.2 | E80: =E79*(7/5) -> 67.2 | F80: =F79*(7/5) -> 67.2 | G80: =G79*(7/5) -> 67.2 | H80: =H79*(7/5) -> 67.2 | I80: =I79*(7/5) -> 67.2 | J80: =J79*(7/5) -> 67.2 | ... AL80: =AL79*(7/5) -> 67.2
A81: ='PLAN CHARGE'!R15 -> Bi1100 T | B81: =VLOOKUP($A81,'PLAN CHARGE'!$R$2:$S$25,2,FALSE) -> 3 | C81: =VLOOKUP($A81,'PLAN CHARGE'!$R$2:$BI$25,C$1,FALSE) -> 140.32895 | D81: =VLOOKUP($A81,'PLAN CHARGE'!$R$2:$BI$25,D$1,FALSE) -> 15.424723 | E81: =VLOOKUP($A81,'PLAN CHARGE'!$R$2:$BI$25,E$1,FALSE) -> 13.626267 | F81: =VLOOKUP($A81,'PLAN CHARGE'!$R$2:$BI$25,F$1,FALSE) -> 12.588251 | G81: =VLOOKUP($A81,'PLAN CHARGE'!$R$2:$BI$25,G$1,FALSE) -> 55.838292 | H81: =VLOOKUP($A81,'PLAN CHARGE'!$R$2:$BI$25,H$1,FALSE) -> 57.732768 | I81: =VLOOKUP($A81,'PLAN CHARGE'!$R$2:$BI$25,I$1,FALSE) -> 50.850637 | J81: =VLOOKUP($A81,'PLAN CHARGE'!$R$2:$BI$25,J$1,FALSE) -> 57.732768 | ... AL81: =VLOOKUP($A81,'PLAN CHARGE'!$R$2:$BI$25,AL$1,FALSE) -> 0
A82: Green | C82: =IF(C81<C85,C81,C85) -> 72 | D82: =IF(D81<D85,D81,D85) -> 15.424723 | E82: =IF(E81<E85,E81,E85) -> 13.626267 | F82: =IF(F81<F85,F81,F85) -> 12.588251 | G82: =IF(G81<G85,G81,G85) -> 55.838292 | H82: =IF(H81<H85,H81,H85) -> 57.732768 | I82: =IF(I81<I85,I81,I85) -> 50.850637 | J82: =IF(J81<J85,J81,J85) -> 57.732768 | ... AL82: =IF(AL81<AL85,AL81,AL85) -> 0
A83: Orange | C83: =IF(AND(C82<C81,C81>C86),C86-C82,C81-C82) -> 28.8 | D83: =IF(AND(D82<D81,D81>D86),D86-D82,D81-D82) -> 0 | E83: =IF(AND(E82<E81,E81>E86),E86-E82,E81-E82) -> 0 | F83: =IF(AND(F82<F81,F81>F86),F86-F82,F81-F82) -> 0 | G83: =IF(AND(G82<G81,G81>G86),G86-G82,G81-G82) -> 0 | H83: =IF(AND(H82<H81,H81>H86),H86-H82,H81-H82) -> 0 | I83: =IF(AND(I82<I81,I81>I86),I86-I82,I81-I82) -> 0 | J83: =IF(AND(J82<J81,J81>J86),J86-J82,J81-J82) -> 0 | ... AL83: =IF(AND(AL82<AL81,AL81>AL86),AL86-AL82,AL81-AL82) -> 0
A84: Red | C84: =IF(C82+C83<C81,C81-C86,0) -> 39.528945 | D84: =IF(D82+D83<D81,D81-D86,0) -> 0 | E84: =IF(E82+E83<E81,E81-E86,0) -> 0 | F84: =IF(F82+F83<F81,F81-F86,0) -> 0 | G84: =IF(G82+G83<G81,G81-G86,0) -> 0 | H84: =IF(H82+H83<H81,H81-H86,0) -> 0 | I84: =IF(I82+I83<I81,I81-I86,0) -> 0 | J84: =IF(J82+J83<J81,J81-J86,0) -> 0 | ... AL84: =IF(AL82+AL83<AL81,AL81-AL86,0) -> 0
A85: Max daily capacity (5 wd/week) | C85: =$B81*24 -> 72 | D85: =$B81*24 -> 72 | E85: =$B81*24 -> 72 | F85: =$B81*24 -> 72 | G85: =$B81*24 -> 72 | H85: =$B81*24 -> 72 | I85: =$B81*24 -> 72 | J85: =$B81*24 -> 72 | ... AL85: =$B81*24 -> 72
A86: Max daily capacity (7 wd/week) | C86: =C85*(7/5) -> 100.8 | D86: =D85*(7/5) -> 100.8 | E86: =E85*(7/5) -> 100.8 | F86: =F85*(7/5) -> 100.8 | G86: =G85*(7/5) -> 100.8 | H86: =H85*(7/5) -> 100.8 | I86: =I85*(7/5) -> 100.8 | J86: =J85*(7/5) -> 100.8 | ... AL86: =AL85*(7/5) -> 100.8
A87: ='PLAN CHARGE'!R16 -> C-350 T | B87: =VLOOKUP($A87,'PLAN CHARGE'!$R$2:$S$25,2,FALSE) -> 1 | C87: =VLOOKUP($A87,'PLAN CHARGE'!$R$2:$BI$25,C$1,FALSE) -> 22.134572 | D87: =VLOOKUP($A87,'PLAN CHARGE'!$R$2:$BI$25,D$1,FALSE) -> 18.832272 | E87: =VLOOKUP($A87,'PLAN CHARGE'!$R$2:$BI$25,E$1,FALSE) -> 18.013478 | F87: =VLOOKUP($A87,'PLAN CHARGE'!$R$2:$BI$25,F$1,FALSE) -> 18.013478 | G87: =VLOOKUP($A87,'PLAN CHARGE'!$R$2:$BI$25,G$1,FALSE) -> 18.832272 | H87: =VLOOKUP($A87,'PLAN CHARGE'!$R$2:$BI$25,H$1,FALSE) -> 19.729047 | I87: =VLOOKUP($A87,'PLAN CHARGE'!$R$2:$BI$25,I$1,FALSE) -> 17.262916 | J87: =VLOOKUP($A87,'PLAN CHARGE'!$R$2:$BI$25,J$1,FALSE) -> 19.729047 | ... AL87: =VLOOKUP($A87,'PLAN CHARGE'!$R$2:$BI$25,AL$1,FALSE) -> 0
A88: Green | C88: =IF(C87<C91,C87,C91) -> 22.134572 | D88: =IF(D87<D91,D87,D91) -> 18.832272 | E88: =IF(E87<E91,E87,E91) -> 18.013478 | F88: =IF(F87<F91,F87,F91) -> 18.013478 | G88: =IF(G87<G91,G87,G91) -> 18.832272 | H88: =IF(H87<H91,H87,H91) -> 19.729047 | I88: =IF(I87<I91,I87,I91) -> 17.262916 | J88: =IF(J87<J91,J87,J91) -> 19.729047 | ... AL88: =IF(AL87<AL91,AL87,AL91) -> 0
A89: Orange | C89: =IF(AND(C88<C87,C87>C92),C92-C88,C87-C88) -> 0 | D89: =IF(AND(D88<D87,D87>D92),D92-D88,D87-D88) -> 0 | E89: =IF(AND(E88<E87,E87>E92),E92-E88,E87-E88) -> 0 | F89: =IF(AND(F88<F87,F87>F92),F92-F88,F87-F88) -> 0 | G89: =IF(AND(G88<G87,G87>G92),G92-G88,G87-G88) -> 0 | H89: =IF(AND(H88<H87,H87>H92),H92-H88,H87-H88) -> 0 | I89: =IF(AND(I88<I87,I87>I92),I92-I88,I87-I88) -> 0 | J89: =IF(AND(J88<J87,J87>J92),J92-J88,J87-J88) -> 0 | ... AL89: =IF(AND(AL88<AL87,AL87>AL92),AL92-AL88,AL87-AL88) -> 0
A90: Red | C90: =IF(C88+C89<C87,C87-C92,0) -> 0 | D90: =IF(D88+D89<D87,D87-D92,0) -> 0 | E90: =IF(E88+E89<E87,E87-E92,0) -> 0 | F90: =IF(F88+F89<F87,F87-F92,0) -> 0 | G90: =IF(G88+G89<G87,G87-G92,0) -> 0 | H90: =IF(H88+H89<H87,H87-H92,0) -> 0 | I90: =IF(I88+I89<I87,I87-I92,0) -> 0 | J90: =IF(J88+J89<J87,J87-J92,0) -> 0 | ... AL90: =IF(AL88+AL89<AL87,AL87-AL92,0) -> 0
A91: Max daily capacity (5 wd/week) | C91: =$B87*24 -> 24 | D91: =$B87*24 -> 24 | E91: =$B87*24 -> 24 | F91: =$B87*24 -> 24 | G91: =$B87*24 -> 24 | H91: =$B87*24 -> 24 | I91: =$B87*24 -> 24 | J91: =$B87*24 -> 24 | ... AL91: =$B87*24 -> 24
A92: Max daily capacity (7 wd/week) | C92: =C91*(7/5) -> 33.6 | D92: =D91*(7/5) -> 33.6 | E92: =E91*(7/5) -> 33.6 | F92: =F91*(7/5) -> 33.6 | G92: =G91*(7/5) -> 33.6 | H92: =H91*(7/5) -> 33.6 | I92: =I91*(7/5) -> 33.6 | J92: =J91*(7/5) -> 33.6 | ... AL92: =AL91*(7/5) -> 33.6
A93: ='PLAN CHARGE'!R17 -> C-650 T | B93: =VLOOKUP($A93,'PLAN CHARGE'!$R$2:$S$25,2,FALSE) -> 2 | C93: =VLOOKUP($A93,'PLAN CHARGE'!$R$2:$BI$25,C$1,FALSE) -> 35.753878 | D93: =VLOOKUP($A93,'PLAN CHARGE'!$R$2:$BI$25,D$1,FALSE) -> 35.602582 | E93: =VLOOKUP($A93,'PLAN CHARGE'!$R$2:$BI$25,E$1,FALSE) -> 31.499886 | F93: =VLOOKUP($A93,'PLAN CHARGE'!$R$2:$BI$25,F$1,FALSE) -> 30.222508 | G93: =VLOOKUP($A93,'PLAN CHARGE'!$R$2:$BI$25,G$1,FALSE) -> 34.167161 | H93: =VLOOKUP($A93,'PLAN CHARGE'!$R$2:$BI$25,H$1,FALSE) -> 33.38813 | I93: =VLOOKUP($A93,'PLAN CHARGE'!$R$2:$BI$25,I$1,FALSE) -> 30.267256 | J93: =VLOOKUP($A93,'PLAN CHARGE'!$R$2:$BI$25,J$1,FALSE) -> 33.38813 | ... AL93: =VLOOKUP($A93,'PLAN CHARGE'!$R$2:$BI$25,AL$1,FALSE) -> 0
A94: Green | C94: =IF(C93<C97,C93,C97) -> 35.753878 | D94: =IF(D93<D97,D93,D97) -> 35.602582 | E94: =IF(E93<E97,E93,E97) -> 31.499886 | F94: =IF(F93<F97,F93,F97) -> 30.222508 | G94: =IF(G93<G97,G93,G97) -> 34.167161 | H94: =IF(H93<H97,H93,H97) -> 33.38813 | I94: =IF(I93<I97,I93,I97) -> 30.267256 | J94: =IF(J93<J97,J93,J97) -> 33.38813 | ... AL94: =IF(AL93<AL97,AL93,AL97) -> 0
A95: Orange | C95: =IF(AND(C94<C93,C93>C98),C98-C94,C93-C94) -> 0 | D95: =IF(AND(D94<D93,D93>D98),D98-D94,D93-D94) -> 0 | E95: =IF(AND(E94<E93,E93>E98),E98-E94,E93-E94) -> 0 | F95: =IF(AND(F94<F93,F93>F98),F98-F94,F93-F94) -> 0 | G95: =IF(AND(G94<G93,G93>G98),G98-G94,G93-G94) -> 0 | H95: =IF(AND(H94<H93,H93>H98),H98-H94,H93-H94) -> 0 | I95: =IF(AND(I94<I93,I93>I98),I98-I94,I93-I94) -> 0 | J95: =IF(AND(J94<J93,J93>J98),J98-J94,J93-J94) -> 0 | ... AL95: =IF(AND(AL94<AL93,AL93>AL98),AL98-AL94,AL93-AL94) -> 0
A96: Red | C96: =IF(C94+C95<C93,C93-C98,0) -> 0 | D96: =IF(D94+D95<D93,D93-D98,0) -> 0 | E96: =IF(E94+E95<E93,E93-E98,0) -> 0 | F96: =IF(F94+F95<F93,F93-F98,0) -> 0 | G96: =IF(G94+G95<G93,G93-G98,0) -> 0 | H96: =IF(H94+H95<H93,H93-H98,0) -> 0 | I96: =IF(I94+I95<I93,I93-I98,0) -> 0 | J96: =IF(J94+J95<J93,J93-J98,0) -> 0 | ... AL96: =IF(AL94+AL95<AL93,AL93-AL98,0) -> 0
A97: Max daily capacity (5 wd/week) | C97: =$B93*24 -> 48 | D97: =$B93*24 -> 48 | E97: =$B93*24 -> 48 | F97: =$B93*24 -> 48 | G97: =$B93*24 -> 48 | H97: =$B93*24 -> 48 | I97: =$B93*24 -> 48 | J97: =$B93*24 -> 48 | ... AL97: =$B93*24 -> 48
A98: Max daily capacity (7 wd/week) | C98: =C97*(7/5) -> 67.2 | D98: =D97*(7/5) -> 67.2 | E98: =E97*(7/5) -> 67.2 | F98: =F97*(7/5) -> 67.2 | G98: =G97*(7/5) -> 67.2 | H98: =H97*(7/5) -> 67.2 | I98: =I97*(7/5) -> 67.2 | J98: =J97*(7/5) -> 67.2 | ... AL98: =AL97*(7/5) -> 67.2
A99: ='PLAN CHARGE'!R18 -> C-800 T | B99: =VLOOKUP($A99,'PLAN CHARGE'!$R$2:$S$25,2,FALSE) -> 1 | C99: =VLOOKUP($A99,'PLAN CHARGE'!$R$2:$BI$25,C$1,FALSE) -> 23.755233 | D99: =VLOOKUP($A99,'PLAN CHARGE'!$R$2:$BI$25,D$1,FALSE) -> 15.051525 | E99: =VLOOKUP($A99,'PLAN CHARGE'!$R$2:$BI$25,E$1,FALSE) -> 14.397111 | F99: =VLOOKUP($A99,'PLAN CHARGE'!$R$2:$BI$25,F$1,FALSE) -> 14.397111 | G99: =VLOOKUP($A99,'PLAN CHARGE'!$R$2:$BI$25,G$1,FALSE) -> 15.051525 | H99: =VLOOKUP($A99,'PLAN CHARGE'!$R$2:$BI$25,H$1,FALSE) -> 15.768265 | I99: =VLOOKUP($A99,'PLAN CHARGE'!$R$2:$BI$25,I$1,FALSE) -> 13.797231 | J99: =VLOOKUP($A99,'PLAN CHARGE'!$R$2:$BI$25,J$1,FALSE) -> 15.768265 | ... AL99: =VLOOKUP($A99,'PLAN CHARGE'!$R$2:$BI$25,AL$1,FALSE) -> 0
A100: Green | C100: =IF(C99<C103,C99,C103) -> 23.755233 | D100: =IF(D99<D103,D99,D103) -> 15.051525 | E100: =IF(E99<E103,E99,E103) -> 14.397111 | F100: =IF(F99<F103,F99,F103) -> 14.397111 | G100: =IF(G99<G103,G99,G103) -> 15.051525 | H100: =IF(H99<H103,H99,H103) -> 15.768265 | I100: =IF(I99<I103,I99,I103) -> 13.797231 | J100: =IF(J99<J103,J99,J103) -> 15.768265 | ... AL100: =IF(AL99<AL103,AL99,AL103) -> 0
...

Sheet Graphs tonnage
A1: THEORITICAL
A323: Hall C
