Workbook

Sheet Feuil1
A1: art | B1: col 1 | C1: col 2 | D1: col 3 | E1: info report1 | F1: img report1 | G1: imgv2 report1
A2: 123621 | B2: a1 | C2: b1 | D2: c1 | E2: =IFERROR(IF(VLOOKUP(Feuil1!$A2,Feuil2!$A:$E,2,FALSE)<>"",VLOOKUP(Feuil1!$A2,Feuil2!$A:$E,3,FALSE),""),"") | F2: =IFERROR(IF(VLOOKUP(Feuil1!$A2,Feuil2!$A:$E,2,FALSE)<>"",VLOOKUP(Feuil1!$A2,Feuil2!$A:$E,4,FALSE),""),"") | G2: =IFERROR(IF(VLOOKUP(Feuil1!$A2,Feuil2!$A:$E,2,FALSE)<>"",VLOOKUP(Feuil1!$A2,Feuil2!$A:$E,5,FALSE),""),"")
A3: 123622 | B3: a2 | C3: b2 | D3: c2 | E3: =IFERROR(IF(VLOOKUP(Feuil1!$A3,Feuil2!$A:$E,2,FALSE)<>"",VLOOKUP(Feuil1!$A3,Feuil2!$A:$E,3,FALSE),""),"") | F3: =IFERROR(IF(VLOOKUP(Feuil1!$A3,Feuil2!$A:$E,2,FALSE)<>"",VLOOKUP(Feuil1!$A3,Feuil2!$A:$E,4,FALSE),""),"") | G3: =IFERROR(IF(VLOOKUP(Feuil1!$A3,Feuil2!$A:$E,2,FALSE)<>"",VLOOKUP(Feuil1!$A3,Feuil2!$A:$E,5,FALSE),""),"")
A4: 123623 | B4: a3 | C4: b3 | D4: c3 | E4: =IFERROR(IF(VLOOKUP(Feuil1!$A4,Feuil2!$A:$E,2,FALSE)<>"",VLOOKUP(Feuil1!$A4,Feuil2!$A:$E,3,FALSE),""),"") | F4: =IFERROR(IF(VLOOKUP(Feuil1!$A4,Feuil2!$A:$E,2,FALSE)<>"",VLOOKUP(Feuil1!$A4,Feuil2!$A:$E,4,FALSE),""),"") | G4: =IFERROR(IF(VLOOKUP(Feuil1!$A4,Feuil2!$A:$E,2,FALSE)<>"",VLOOKUP(Feuil1!$A4,Feuil2!$A:$E,5,FALSE),""),"")
A5: 123624 | B5: a4 | C5: b4 | D5: c4 | E5: =IFERROR(IF(VLOOKUP(Feuil1!$A5,Feuil2!$A:$E,2,FALSE)<>"",VLOOKUP(Feuil1!$A5,Feuil2!$A:$E,3,FALSE),""),"") -> info report4 | F5: =IFERROR(IF(VLOOKUP(Feuil1!$A5,Feuil2!$A:$E,2,FALSE)<>"",VLOOKUP(Feuil1!$A5,Feuil2!$A:$E,4,FALSE),""),"") -> img report4 | G5: =IFERROR(IF(VLOOKUP(Feuil1!$A5,Feuil2!$A:$E,2,FALSE)<>"",VLOOKUP(Feuil1!$A5,Feuil2!$A:$E,5,FALSE),""),"") -> imgv2 report4
A6: 123625 | B6: a5 | C6: b5 | D6: c5 | E6: =IFERROR(IF(VLOOKUP(Feuil1!$A6,Feuil2!$A:$E,2,FALSE)<>"",VLOOKUP(Feuil1!$A6,Feuil2!$A:$E,3,FALSE),""),"") | F6: =IFERROR(IF(VLOOKUP(Feuil1!$A6,Feuil2!$A:$E,2,FALSE)<>"",VLOOKUP(Feuil1!$A6,Feuil2!$A:$E,4,FALSE),""),"") | G6: =IFERROR(IF(VLOOKUP(Feuil1!$A6,Feuil2!$A:$E,2,FALSE)<>"",VLOOKUP(Feuil1!$A6,Feuil2!$A:$E,5,FALSE),""),"")
A7: 123626 | B7: a6 | C7: b6 | D7: c6 | E7: =IFERROR(IF(VLOOKUP(Feuil1!$A7,Feuil2!$A:$E,2,FALSE)<>"",VLOOKUP(Feuil1!$A7,Feuil2!$A:$E,3,FALSE),""),"") | F7: =IFERROR(IF(VLOOKUP(Feuil1!$A7,Feuil2!$A:$E,2,FALSE)<>"",VLOOKUP(Feuil1!$A7,Feuil2!$A:$E,4,FALSE),""),"") | G7: =IFERROR(IF(VLOOKUP(Feuil1!$A7,Feuil2!$A:$E,2,FALSE)<>"",VLOOKUP(Feuil1!$A7,Feuil2!$A:$E,5,FALSE),""),"")
A8: 123627 | B8: a7 | C8: b7 | D8: c7 | E8: =IFERROR(IF(VLOOKUP(Feuil1!$A8,Feuil2!$A:$E,2,FALSE)<>"",VLOOKUP(Feuil1!$A8,Feuil2!$A:$E,3,FALSE),""),"") | F8: =IFERROR(IF(VLOOKUP(Feuil1!$A8,Feuil2!$A:$E,2,FALSE)<>"",VLOOKUP(Feuil1!$A8,Feuil2!$A:$E,4,FALSE),""),"") | G8: =IFERROR(IF(VLOOKUP(Feuil1!$A8,Feuil2!$A:$E,2,FALSE)<>"",VLOOKUP(Feuil1!$A8,Feuil2!$A:$E,5,FALSE),""),"")
A9: 123628 | B9: a8 | C9: b8 | D9: c8 | E9: =IFERROR(IF(VLOOKUP(Feuil1!$A9,Feuil2!$A:$E,2,FALSE)<>"",VLOOKUP(Feuil1!$A9,Feuil2!$A:$E,3,FALSE),""),"") | F9: =IFERROR(IF(VLOOKUP(Feuil1!$A9,Feuil2!$A:$E,2,FALSE)<>"",VLOOKUP(Feuil1!$A9,Feuil2!$A:$E,4,FALSE),""),"") | G9: =IFERROR(IF(VLOOKUP(Feuil1!$A9,Feuil2!$A:$E,2,FALSE)<>"",VLOOKUP(Feuil1!$A9,Feuil2!$A:$E,5,FALSE),""),"")
A10: 123629 | B10: a9 | C10: b9 | D10: c9 | E10: =IFERROR(IF(VLOOKUP(Feuil1!$A10,Feuil2!$A:$E,2,FALSE)<>"",VLOOKUP(Feuil1!$A10,Feuil2!$A:$E,3,FALSE),""),"") -> info report9 | F10: =IFERROR(IF(VLOOKUP(Feuil1!$A10,Feuil2!$A:$E,2,FALSE)<>"",VLOOKUP(Feuil1!$A10,Feuil2!$A:$E,4,FALSE),""),"") -> img report9 | G10: =IFERROR(IF(VLOOKUP(Feuil1!$A10,Feuil2!$A:$E,2,FALSE)<>"",VLOOKUP(Feuil1!$A10,Feuil2!$A:$E,5,FALSE),""),"") -> imgv2 report9
A11: 123630 | B11: a10 | C11: b10 | D11: c10 | E11: =IFERROR(IF(VLOOKUP(Feuil1!$A11,Feuil2!$A:$E,2,FALSE)<>"",VLOOKUP(Feuil1!$A11,Feuil2!$A:$E,3,FALSE),""),"") | F11: =IFERROR(IF(VLOOKUP(Feuil1!$A11,Feuil2!$A:$E,2,FALSE)<>"",VLOOKUP(Feuil1!$A11,Feuil2!$A:$E,4,FALSE),""),"") | G11: =IFERROR(IF(VLOOKUP(Feuil1!$A11,Feuil2!$A:$E,2,FALSE)<>"",VLOOKUP(Feuil1!$A11,Feuil2!$A:$E,5,FALSE),""),"")
A12: 123631 | B12: a11 | C12: b11 | D12: c11 | E12: =IFERROR(IF(VLOOKUP(Feuil1!$A12,Feuil2!$A:$E,2,FALSE)<>"",VLOOKUP(Feuil1!$A12,Feuil2!$A:$E,3,FALSE),""),"") | F12: =IFERROR(IF(VLOOKUP(Feuil1!$A12,Feuil2!$A:$E,2,FALSE)<>"",VLOOKUP(Feuil1!$A12,Feuil2!$A:$E,4,FALSE),""),"") | G12: =IFERROR(IF(VLOOKUP(Feuil1!$A12,Feuil2!$A:$E,2,FALSE)<>"",VLOOKUP(Feuil1!$A12,Feuil2!$A:$E,5,FALSE),""),"")
A13: 123632 | B13: a12 | C13: b12 | D13: c12 | E13: =IFERROR(IF(VLOOKUP(Feuil1!$A13,Feuil2!$A:$E,2,FALSE)<>"",VLOOKUP(Feuil1!$A13,Feuil2!$A:$E,3,FALSE),""),"") | F13: =IFERROR(IF(VLOOKUP(Feuil1!$A13,Feuil2!$A:$E,2,FALSE)<>"",VLOOKUP(Feuil1!$A13,Feuil2!$A:$E,4,FALSE),""),"") | G13: =IFERROR(IF(VLOOKUP(Feuil1!$A13,Feuil2!$A:$E,2,FALSE)<>"",VLOOKUP(Feuil1!$A13,Feuil2!$A:$E,5,FALSE),""),"")
... A20: 123639 | B20: a19 | C20: b19 | D20: c19 | E20: =IFERROR(IF(VLOOKUP(Feuil1!$A20,Feuil2!$A:$E,2,FALSE)<>"",VLOOKUP(Feuil1!$A20,Feuil2!$A:$E,3,FALSE),""),"") | F20: =IFERROR(IF(VLOOKUP(Feuil1!$A20,Feuil2!$A:$E,2,FALSE)<>"",VLOOKUP(Feuil1!$A20,Feuil2!$A:$E,4,FALSE),""),"") | G20: =IFERROR(IF(VLOOKUP(Feuil1!$A20,Feuil2!$A:$E,2,FALSE)<>"",VLOOKUP(Feuil1!$A20,Feuil2!$A:$E,5,FALSE),""),"")

Sheet Feuil2
A1: 123621 | C1: info report1 | D1: img report1 | E1: imgv2 report1
A2: 123621 | B2: oui | C2: info report2 | D2: img report2 | E2: imgv2 report2
A3: 123623 | C3: info report3 | D3: img report3 | E3: imgv2 report3
A4: 123624 | B4: oui | C4: info report4 | D4: img report4 | E4: imgv2 report4
A5: 123624 | C5: info report5 | D5: img report5 | E5: imgv2 report5
A6: 123626 | C6: info report6 | D6: img report6 | E6: imgv2 report6
A7: 123627 | C7: info report7 | D7: img report7 | E7: imgv2 report7
A8: 123628 | C8: info report8 | D8: img report8 | E8: imgv2 report8
A9: 123629 | B9: oui | C9: info report9 | D9: img report9 | E9: imgv2 report9
A10: 123629 | C10: info report10 | D10: img report10 | E10: imgv2 report10
A11: 123629 | C11: info report11 | D11: img report11 | E11: imgv2 report11
A12: 123629 | C12: info report12 | D12: img report12 | E12: imgv2 report12
A13: 123629 | C13: info report13 | D13: img report13 | E13: imgv2 report13
A14: 123629 | C14: info report14 | D14: img report14 | E14: imgv2 report14
A15: 123629 | C15: info report15 | D15: img report15 | E15: imgv2 report15
A16: 123629 | C16: info report16 | D16: img report16 | E16: imgv2 report16
A17: 123637 | C17: info report17 | D17: img report17 | E17: imgv2 report17
A18: 123638 | C18: info report18 | D18: img report18 | E18: imgv2 report18
A19: 123639 | C19: info report19 | D19: img report19 | E19: imgv2 report19
