Workbook

Sheet Recherche
C3: A | E3: B
B4: Donnée d'entrée: | C4: 5 | E4: 20
C7: Meilleur résultat: | D7: =MIN(D:F!D11) -> -15
C8: Feuille avec le meilleur résultat: | D8: {=IF(D:F!D11=$D$7,"D:F!E11","")} -> #REF!

Sheet D

Sheet Feuil2
D6: A | F6: B
C7: Donnée d'entrée: | D7: =Recherche!C4 -> 5 | F7: =Recherche!E4 -> 20
C11: Donnée de sortie: | D11: =D7+F7 -> 25 | E11: =RIGHT(CELL("nomfichier",A1),LEN(CELL("nomfichier",A1))-FIND("]",CELL("nomfichier",A1))) -> Feuil2

Sheet Feuil3
D6: A | F6: B
C7: Donnée d'entrée: | D7: =Recherche!C4 -> 5 | F7: =Recherche!E4 -> 20
C11: Donnée de sortie: | D11: =D7*F7 -> 100 | E11: =RIGHT(CELL("nomfichier",A1),LEN(CELL("nomfichier",A1))-FIND("]",CELL("nomfichier",A1))) -> Feuil3

Sheet Feuil4
D6: A | F6: B
C7: Donnée d'entrée: | D7: =Recherche!C4 -> 5 | F7: =Recherche!E4 -> 20
C11: Donnée de sortie: | D11: =D7-F7 -> -15 | E11: =RIGHT(CELL("nomfichier",A1),LEN(CELL("nomfichier",A1))-FIND("]",CELL("nomfichier",A1))) -> Feuil4

Sheet Feuil5
D6: A | F6: B
C7: Donnée d'entrée: | D7: =Recherche!C4 -> 5 | F7: =Recherche!E4 -> 20
C11: Donnée de sortie: | D11: =F7-D7^2 -> -5 | E11: =RIGHT(CELL("nomfichier",A1),LEN(CELL("nomfichier",A1))-FIND("]",CELL("nomfichier",A1))) -> Feuil5

Sheet Feuil6
D6: A | F6: B
C7: Donnée d'entrée: | D7: =Recherche!C4 -> 5 | F7: =Recherche!E4 -> 20
C11: Donnée de sortie: | D11: =SIN(D7*F7) -> -0.50636564 | E11: =RIGHT(CELL("nomfichier",A1),LEN(CELL("nomfichier",A1))-FIND("]",CELL("nomfichier",A1))) -> Feuil6

Sheet Feuil7
D6: A | F6: B
C7: Donnée d'entrée: | D7: =Recherche!C4 -> 5 | F7: =Recherche!E4 -> 20
C11: Donnée de sortie: | D11: =D7*2+F7 -> 30 | E11: =RIGHT(CELL("nomfichier",A1),LEN(CELL("nomfichier",A1))-FIND("]",CELL("nomfichier",A1))) -> Feuil7

Sheet Feuil8
D6: A | F6: B
C7: Donnée d'entrée: | D7: =Recherche!C4 -> 5 | F7: =Recherche!E4 -> 20
C11: Donnée de sortie: | D11: =(F7-D7)*D7/2 -> 37.5 | E11: =RIGHT(CELL("nomfichier",A1),LEN(CELL("nomfichier",A1))-FIND("]",CELL("nomfichier",A1))) -> Feuil8

Sheet F
